Workbook

Sheet 000000

Sheet 000001

Sheet 113
A1: 保險對象人數－按性別及年齡別分 | K1: Beneficiaries by Gender and Age
A3: 中華民國113年底 | K3: End of 2024
A4: 單位：人 | T4: Unit：Persons
A5: 年齡別 | B5: 總計 Grand Total | H5: 被保險人 | K5: Insureds | N5: 眷屬 Dependents | T5: Age
B6: 合計 Total | D6: 男 Male | F6: 女 Female | H6: 合計 Total | J6: 男 Male | L6: 女 Female | N6: 合計 Total | P6: 男 Male | R6: 女 Female
C7: 百分比 % | E7: 百分比 % | G7: 百分比 % | I7: 百分比 % | K7: 百分比 % | M7: 百分比 % | O7: 百分比 % | Q7: 百分比 % | S7: 百分比 %
A8: 總 計 | B8: 23959972 | C8: 100 | D8: 11800428 | E8: 100 | F8: 12159544 | G8: 100 | H8: 16408438 | I8: 100 | J8: 8387317 | K8: 100 | L8: 8021121 | M8: 100 | N8: 7551534 | O8: 100 | P8: 3413111 | Q8: 100 | R8: 4138423 | S8: 100 | T8: Grand Total
A9: 0－4 | B9: 719626 | C9: 3.0034509 | D9: 372647 | E9: 3.1579109 | F9: 346979 | G9: 2.8535527 | H9: 9723 | I9: 0.059256097 | J9: 4989 | K9: 0.059482669 | L9: 4734 | M9: 0.059019182 | N9: 709903 | O9: 9.4007787 | P9: 367658 | Q9: 10.771932 | R9: 342245 | S9: 8.2699376 | T9: 0－4
A10: 5－9 | B10: 966836 | C10: 4.0352134 | D10: 500910 | E10: 4.244846 | F10: 465926 | G10: 3.831772 | H10: 22392 | I10: 0.13646637 | J10: 11508 | K10: 0.13720717 | L10: 10884 | M10: 0.13569176 | N10: 944444 | O10: 12.506651 | P10: 489402 | Q10: 14.338883 | R10: 455042 | S10: 10.995541 | T10: 5－9
A11: 10－14 | B11: 1000360 | C11: 4.1751301 | D11: 518452 | E11: 4.3935017 | F11: 481908 | G11: 3.9632078 | H11: 30958 | I11: 0.18867122 | J11: 16227 | K11: 0.19347069 | L11: 14731 | M11: 0.18365263 | N11: 969402 | O11: 12.837153 | P11: 502225 | Q11: 14.714582 | R11: 467177 | S11: 11.288769 | T11: 10－14
A12: 15－19 | B12: 1015964 | C12: 4.2402554 | D12: 531212 | E12: 4.5016333 | F12: 484752 | G12: 3.9865969 | H12: 148489 | I12: 0.90495512 | J12: 84651 | K12: 1.0092739 | L12: 63838 | M12: 0.79587379 | N12: 867475 | O12: 11.487401 | P12: 446561 | Q12: 13.083694 | R12: 420914 | S12: 10.170879 | T12: 15－19
A13: 20－24 | B13: 1351362 | C13: 5.6400817 | D13: 705582 | E13: 5.9792916 | F13: 645780 | G13: 5.3108899 | H13: 841710 | I13: 5.1297387 | J13: 444856 | K13: 5.303913 | L13: 396854 | M13: 4.9476127 | N13: 509652 | O13: 6.7489864 | P13: 260726 | Q13: 7.6389546 | R13: 248926 | S13: 6.0149965 | T13: 20－24
A14: 25－29 | B14: 1655133 | C14: 6.9079087 | D14: 858805 | E14: 7.2777445 | F14: 796328 | G14: 6.5489956 | H14: 1575832 | I14: 9.6037904 | J14: 823155 | K14: 9.8142827 | L14: 752677 | M14: 9.3836884 | N14: 79301 | O14: 1.050131 | P14: 35650 | Q14: 1.0445016 | R14: 43651 | S14: 1.0547738 | T14: 25－29
A15: 30－34 | B15: 1780725 | C15: 7.432083 | D15: 922437 | E15: 7.8169792 | F15: 858288 | G15: 7.0585542 | H15: 1719977 | I15: 10.482271 | J15: 906196 | K15: 10.804361 | L15: 813781 | M15: 10.145477 | N15: 60748 | O15: 0.80444583 | P15: 16241 | Q15: 0.47584154 | R15: 44507 | S15: 1.075458 | T15: 30－34
A16: 35－39 | B16: 1730388 | C16: 7.2219951 | D16: 872939 | E16: 7.3975198 | F16: 857449 | G16: 7.0516542 | H16: 1651974 | I16: 10.067832 | J16: 854554 | K16: 10.188646 | L16: 797420 | M16: 9.9415032 | N16: 78414 | O16: 1.038385 | P16: 18385 | Q16: 0.53865813 | R16: 60029 | S16: 1.4505284 | T16: 35－39
A17: 40－44 | B17: 2051388 | C17: 8.5617295 | D17: 999779 | E17: 8.4723961 | F17: 1051609 | G17: 8.6484246 | H17: 1946508 | I17: 11.862848 | J17: 974337 | K17: 11.61679 | L17: 972171 | M17: 12.120139 | N17: 104880 | O17: 1.3888569 | P17: 25442 | Q17: 0.74541965 | R17: 79438 | S17: 1.9195235 | T17: 40－44
A18: 45－49 | B18: 1999985 | C18: 8.3471926 | D18: 969518 | E18: 8.2159562 | F18: 1030467 | G18: 8.474553 | H18: 1887005 | I18: 11.500211 | J18: 938777 | K18: 11.192816 | L18: 948228 | M18: 11.821639 | N18: 112980 | O18: 1.4961199 | P18: 30741 | Q18: 0.9006739 | R18: 82239 | S18: 1.9872062 | T18: 45－49
A19: 50－54 | B19: 1759453 | C19: 7.3433016 | D19: 852106 | E19: 7.2209754 | F19: 907347 | G19: 7.462015 | H19: 1610196 | I19: 9.8132193 | J19: 805054 | K19: 9.5984687 | L19: 805142 | M19: 10.037774 | N19: 149257 | O19: 1.9765123 | P19: 47052 | Q19: 1.3785664 | R19: 102205 | S19: 2.4696605 | T19: 50－54
... A29: 100+ | B29: 4694 | C29: 0.019591008 | D29: 1857 | E29: 0.015736717 | F29: 2837 | G29: 0.023331467 | H29: 3239 | I29: 0.019739844 | J29: 1478 | K29: 0.017621845 | L29: 1761 | M29: 0.021954537 | N29: 1455 | O29: 0.019267608 | P29: 379 | Q29: 0.011104239 | R29: 1076 | S29: 0.026000242 | T29: 100+
A30: 平均年齡 | B30: 43.381006 | D30: 42.320821 | F30: 44.409881 | H30: 46.427893 | J30: 46.098829 | L30: 46.77198 | N30: 36.760544 | P30: 33.036814 | R30: 39.831643 | T30: Mean

Sheet 112
A1: 保險對象人數－按性別及年齡別分 | K1: Beneficiaries by Gender and Age
A3: 中華民國112年底 | K3: End of 2023
A4: 單位：人 | T4: Unit：Persons
A5: 年齡別 | B5: 總計 Grand Total | H5: 被保險人 | K5: Insureds | N5: 眷屬 Dependents | T5: Age
B6: 合計 Total | D6: 男 Male | F6: 女 Female | H6: 合計 Total | J6: 男 Male | L6: 女 Female | N6: 合計 Total | P6: 男 Male | R6: 女 Female
C7: 百分比 % | E7: 百分比 % | G7: 百分比 % | I7: 百分比 % | K7: 百分比 % | M7: 百分比 % | O7: 百分比 % | Q7: 百分比 % | S7: 百分比 %
A8: 總 計 | B8: 23882516 | C8: 100 | D8: 11771053 | E8: 100 | F8: 12111463 | G8: 100 | H8: 16283451 | I8: 100 | J8: 8336212 | K8: 100 | L8: 7947239 | M8: 100 | N8: 7599065 | O8: 100 | P8: 3434841 | Q8: 100 | R8: 4164224 | S8: 100 | T8: Grand Total
A9: 0－4 | B9: 757685 | C9: 3.172551 | D9: 392437 | E9: 3.3339158 | F9: 365248 | G9: 3.0157216 | H9: 11060 | I9: 0.06792172 | J9: 5648 | K9: 0.067752596 | L9: 5412 | M9: 0.068099122 | N9: 746625 | O9: 9.8252219 | P9: 386789 | Q9: 11.260754 | R9: 359836 | S9: 8.6411298 | T9: 0－4
A10: 5－9 | B10: 1000189 | C10: 4.1879549 | D10: 518063 | E10: 4.4011611 | F10: 482126 | G10: 3.9807412 | H10: 24026 | I10: 0.14754858 | J10: 12331 | K10: 0.1479209 | L10: 11695 | M10: 0.14715803 | N10: 976163 | O10: 12.84583 | P10: 505732 | Q10: 14.723593 | R10: 470431 | S10: 11.296967 | T10: 5－9
A11: 10－14 | B11: 981087 | C11: 4.1079717 | D11: 509425 | E11: 4.3277776 | F11: 471662 | G11: 3.8943437 | H11: 32335 | I11: 0.19857584 | J11: 16799 | K11: 0.20151839 | L11: 15536 | M11: 0.19548928 | N11: 948752 | O11: 12.485115 | P11: 492626 | Q11: 14.342032 | R11: 456126 | S11: 10.953445 | T11: 10－14
A12: 15－19 | B12: 1034561 | C12: 4.3318761 | D12: 541406 | E12: 4.5994696 | F12: 493155 | G12: 4.0718037 | H12: 150175 | I12: 0.92225536 | J12: 85520 | K12: 1.0258856 | L12: 64655 | M12: 0.81355298 | N12: 884386 | O12: 11.63809 | P12: 455886 | Q12: 13.272405 | R12: 428500 | S12: 10.290032 | T12: 15－19
A13: 20－24 | B13: 1396109 | C13: 5.8457367 | D13: 727968 | E13: 6.1843915 | F13: 668141 | G13: 5.5166003 | H13: 858183 | I13: 5.2702772 | J13: 453551 | K13: 5.4407326 | L13: 404632 | M13: 5.0914789 | N13: 537926 | O13: 7.0788446 | P13: 274417 | Q13: 7.9892199 | R13: 263509 | S13: 6.3279257 | T13: 20－24
A14: 25－29 | B14: 1672334 | C14: 7.0023359 | D14: 867439 | E14: 7.3692557 | F14: 804895 | G14: 6.6457289 | H14: 1588969 | I14: 9.7581833 | J14: 830614 | K14: 9.9639261 | L14: 758355 | M14: 9.5423706 | N14: 83365 | O14: 1.0970429 | P14: 36825 | Q14: 1.072102 | R14: 46540 | S14: 1.1176152 | T14: 25－29
A15: 30－34 | B15: 1745546 | C15: 7.3088866 | D15: 902611 | E15: 7.6680565 | F15: 842935 | G15: 6.9598115 | H15: 1682574 | I15: 10.333031 | J15: 886771 | K15: 10.637577 | L15: 795803 | M15: 10.013578 | N15: 62972 | O15: 0.8286809 | P15: 15840 | Q15: 0.46115672 | R15: 47132 | S15: 1.1318315 | T15: 30－34
A16: 35－39 | B16: 1775051 | C16: 7.4324288 | D16: 887694 | E16: 7.5413304 | F16: 887357 | G16: 7.326588 | H16: 1690250 | I16: 10.380171 | J16: 868995 | K16: 10.424339 | L16: 821255 | M16: 10.33384 | N16: 84801 | O16: 1.1159399 | P16: 18699 | Q16: 0.54439201 | R16: 66102 | S16: 1.5873786 | T16: 35－39
A17: 40－44 | B17: 2085299 | C17: 8.7314879 | D17: 1014052 | E17: 8.6147943 | F17: 1071247 | G17: 8.8449017 | H17: 1975877 | I17: 12.134264 | J17: 988005 | K17: 11.851966 | L17: 987872 | M17: 12.43038 | N17: 109422 | O17: 1.4399403 | P17: 26047 | Q17: 0.75831749 | R17: 83375 | S17: 2.0021738 | T17: 40－44
A18: 45－49 | B18: 1931182 | C18: 8.0861748 | D18: 935480 | E18: 7.9472924 | F18: 995702 | G18: 8.2211538 | H18: 1817902 | I18: 11.164108 | J18: 904728 | K18: 10.852987 | L18: 913174 | M18: 11.490456 | N18: 113280 | O18: 1.4907097 | P18: 30752 | Q18: 0.89529617 | R18: 82528 | S18: 1.9818338 | T18: 45－49
A19: 50－54 | B19: 1771862 | C19: 7.4190759 | D19: 860935 | E19: 7.3140016 | F19: 910927 | G19: 7.5211971 | H19: 1613311 | I19: 9.9076725 | J19: 811437 | K19: 9.7338815 | L19: 801874 | M19: 10.08997 | N19: 158551 | O19: 2.0864541 | P19: 49498 | Q19: 1.4410565 | R19: 109053 | S19: 2.6188072 | T19: 50－54
... A29: 100+ | B29: 4511 | C29: 0.018888295 | D29: 1818 | E29: 0.015444668 | F29: 2693 | G29: 0.022235134 | H29: 3099 | I29: 0.019031592 | J29: 1446 | K29: 0.017346008 | L29: 1653 | M29: 0.020799676 | N29: 1412 | O29: 0.018581233 | P29: 372 | Q29: 0.010830196 | R29: 1040 | S29: 0.024974641 | T29: 100+
A30: 平均年齡 | B30: 42.960344 | D30: 41.93563 | F30: 43.956258 | H30: 46.197078 | J30: 45.910078 | L30: 46.498125 | N30: 36.024597 | P30: 32.289814 | R30: 39.105216 | T30: Mean

Sheet 111
A1: 保險對象人數－按性別及年齡別分 | K1: Beneficiaries by Gender and Age
A3: 中華民國111年底 | K3: End of 2022
A4: 單位：人 | T4: Unit：Persons
A5: 年齡別 | B5: 總計 Grand Total | H5: 被保險人 | K5: Insureds | N5: 眷屬 Dependents | T5: Age
B6: 合計 Total | D6: 男 Male | F6: 女 Female | H6: 合計 Total | J6: 男 Male | L6: 女 Female | N6: 合計 Total | P6: 男 Male | R6: 女 Female
C7: 百分比 % | E7: 百分比 % | G7: 百分比 % | I7: 百分比 % | K7: 百分比 % | M7: 百分比 % | O7: 百分比 % | Q7: 百分比 % | S7: 百分比 %
A8: 總 計 | B8: 23787442 | C8: 100 | D8: 11745647 | E8: 100 | F8: 12041795 | G8: 100 | H8: 16164862 | I8: 100 | J8: 8296424 | K8: 100 | L8: 7868438 | M8: 100 | N8: 7622580 | O8: 100 | P8: 3449223 | Q8: 100 | R8: 4173357 | S8: 100 | T8: Grand Total
A9: 0－4 | B9: 796173 | C9: 3.3470308 | D9: 412286 | E9: 3.5101174 | F9: 383887 | G9: 3.187955 | H9: 11931 | I9: 0.073808239 | J9: 6140 | K9: 0.074007789 | L9: 5791 | M9: 0.073597835 | N9: 784242 | O9: 10.288406 | P9: 406146 | Q9: 11.775 | R9: 378096 | S9: 9.0597569 | T9: 0－4
A10: 5－9 | B10: 1008478 | C10: 4.2395395 | D10: 522551 | E10: 4.4488907 | F10: 485927 | G10: 4.0353369 | H10: 24717 | I10: 0.15290573 | J10: 12784 | K10: 0.15409049 | L10: 11933 | M10: 0.15165653 | N10: 983761 | O10: 12.90588 | P10: 509767 | Q10: 14.779184 | R10: 473994 | S10: 11.357619 | T10: 5－9
A11: 10－14 | B11: 977615 | C11: 4.1097946 | D11: 508395 | E11: 4.3283695 | F11: 469220 | G11: 3.8965952 | H11: 34190 | I11: 0.21150815 | J11: 17734 | K11: 0.21375475 | L11: 16456 | M11: 0.20913935 | N11: 943425 | O11: 12.376715 | P11: 490661 | Q11: 14.225262 | R11: 452764 | S11: 10.848916 | T11: 10－14
A12: 15－19 | B12: 1060430 | C12: 4.4579405 | D12: 556165 | E12: 4.7350733 | F12: 504265 | G12: 4.1876232 | H12: 148588 | I12: 0.91920364 | J12: 85486 | K12: 1.0303957 | L12: 63102 | M12: 0.80196349 | N12: 911842 | O12: 11.96238 | P12: 470679 | Q12: 13.645943 | R12: 441163 | S12: 10.570938 | T12: 15－19
A13: 20－24 | B13: 1426905 | C13: 5.9985643 | D13: 749169 | E13: 6.3782693 | F13: 677736 | G13: 5.6281975 | H13: 863675 | I13: 5.342916 | J13: 461634 | K13: 5.5642527 | L13: 402041 | M13: 5.1095402 | N13: 563230 | O13: 7.388968 | P13: 287535 | Q13: 8.3362253 | R13: 275695 | S13: 6.6060728 | T13: 20－24
A14: 25－29 | B14: 1718358 | C14: 7.2238032 | D14: 892015 | E14: 7.5944305 | F14: 826343 | G14: 6.8622909 | H14: 1627475 | I14: 10.06798 | J14: 851778 | K14: 10.266809 | L14: 775697 | M14: 9.8583353 | N14: 90883 | O14: 1.1922866 | P14: 40237 | Q14: 1.1665526 | R14: 50646 | S14: 1.2135554 | T14: 25－29
A15: 30－34 | B15: 1738435 | C15: 7.3082049 | D15: 899550 | E15: 7.6585819 | F15: 838885 | G15: 6.9664448 | H15: 1672769 | I15: 10.34818 | J15: 884260 | K15: 10.658327 | L15: 788509 | M15: 10.021163 | N15: 65666 | O15: 0.86146685 | P15: 15290 | Q15: 0.44328824 | R15: 50376 | S15: 1.2070858 | T15: 30－34
A16: 35－39 | B16: 1802984 | C16: 7.5795624 | D16: 894298 | E16: 7.6138675 | F16: 908686 | G16: 7.5461009 | H16: 1713851 | I16: 10.602324 | J16: 876026 | K16: 10.559079 | L16: 837825 | M16: 10.64792 | N16: 89133 | O16: 1.1693285 | P16: 18272 | Q16: 0.5297425 | R16: 70861 | S16: 1.6979377 | T16: 35－39
A17: 40－44 | B17: 2093055 | C17: 8.7989915 | D17: 1017804 | E17: 8.6653719 | F17: 1075251 | G17: 8.9293249 | H17: 1982436 | I17: 12.26386 | J17: 991915 | K17: 11.955934 | L17: 990521 | M17: 12.588534 | N17: 110619 | O17: 1.4512016 | P17: 25889 | Q17: 0.75057484 | R17: 84730 | S17: 2.0302601 | T17: 40－44
A18: 45－49 | B18: 1870928 | C18: 7.8651921 | D18: 906167 | E18: 7.7149177 | F18: 964761 | G18: 8.0117707 | H18: 1759176 | I18: 10.882716 | J18: 876587 | K18: 10.565841 | L18: 882589 | M18: 11.216826 | N18: 111752 | O18: 1.4660653 | P18: 29580 | Q18: 0.85758445 | R18: 82172 | S18: 1.9689665 | T18: 45－49
A19: 50－54 | B19: 1781163 | C19: 7.4878291 | D19: 868027 | E19: 7.3902017 | F19: 913136 | G19: 7.5830555 | H19: 1615624 | I19: 9.9946662 | J19: 816477 | K19: 9.8413124 | L19: 799147 | M19: 10.156361 | N19: 165539 | O19: 2.1716925 | P19: 51550 | Q19: 1.4945395 | R19: 113989 | S19: 2.7313503 | T19: 50－54
... A29: 100+ | B29: 4416 | C29: 0.018564417 | D29: 1852 | E29: 0.015767543 | F29: 2564 | G29: 0.021292507 | H29: 3005 | I29: 0.018589704 | J29: 1440 | K29: 0.017356876 | L29: 1565 | M29: 0.019889589 | N29: 1411 | O29: 0.018510793 | P29: 412 | Q29: 0.011944719 | R29: 999 | S29: 0.023937564 | T29: 100+
A30: 平均年齡 | B30: 42.515787 | D30: 41.509937 | F30: 43.496899 | H30: 45.949832 | J30: 45.676327 | L30: 46.238213 | N30: 35.233362 | P30: 31.488511 | R30: 38.328431 | T30: Mean

Sheet 110
A1: 保險對象人數－按性別及年齡別分 | K1: Beneficiaries by Gender and Age
A3: 中華民國110年底 | K3: End of 2021
A4: 單位：人 | T4: Unit：Persons
A5: 年齡別 | B5: 總計 Grand Total | H5: 被保險人 | K5: Insureds | N5: 眷屬 Dependents | T5: Age
B6: 合計 Total | D6: 男 Male | F6: 女 Female | H6: 合計 Total | J6: 男 Male | L6: 女 Female | N6: 合計 Total | P6: 男 Male | R6: 女 Female
C7: 百分比 % | E7: 百分比 % | G7: 百分比 % | I7: 百分比 % | K7: 百分比 % | M7: 百分比 % | O7: 百分比 % | Q7: 百分比 % | S7: 百分比 %
A8: 總 計 | B8: 23861265 | C8: 100 | D8: 11782279 | E8: 100 | F8: 12078986 | G8: 100 | H8: 16102302 | I8: 100 | J8: 8271976 | K8: 100 | L8: 7830326 | M8: 100 | N8: 7758963 | O8: 100 | P8: 3510303 | Q8: 100 | R8: 4248660 | S8: 100 | T8: Grand Total
A9: 0－4 | B9: 852766 | C9: 3.5738508 | D9: 441709 | E9: 3.7489267 | F9: 411057 | G9: 3.4030754 | H9: 12782 | I9: 0.079379954 | J9: 6630 | K9: 0.080150136 | L9: 6152 | M9: 0.078566333 | N9: 839984 | O9: 10.825983 | P9: 435079 | Q9: 12.394343 | R9: 404905 | S9: 9.5301813 | T9: 0－4
A10: 5－9 | B10: 1050455 | C10: 4.4023441 | D10: 544321 | E10: 4.6198278 | F10: 506134 | G10: 4.1902027 | H10: 25874 | I10: 0.1606851 | J10: 13341 | K10: 0.16127948 | L10: 12533 | M10: 0.16005719 | N10: 1024581 | O10: 13.205128 | P10: 530980 | Q10: 15.12633 | R10: 493601 | S10: 11.617804 | T10: 5－9
A11: 10－14 | B11: 950269 | C11: 3.9824754 | D11: 495518 | E11: 4.205621 | F11: 454751 | G11: 3.7648111 | H11: 35758 | I11: 0.22206763 | J11: 18581 | K11: 0.22462589 | L11: 17177 | M11: 0.21936507 | N11: 914511 | O11: 11.786511 | P11: 476937 | Q11: 13.586776 | R11: 437574 | S11: 10.299106 | T11: 10－14
A12: 15－19 | B12: 1100882 | C12: 4.6136783 | D12: 576390 | E12: 4.8920077 | F12: 524492 | G12: 4.3421857 | H12: 152683 | I12: 0.94820604 | J12: 87606 | K12: 1.0590698 | L12: 65077 | M12: 0.83108928 | N12: 948199 | O12: 12.220692 | P12: 488784 | Q12: 13.924268 | R12: 459415 | S12: 10.813174 | T12: 15－19
A13: 20－24 | B13: 1502160 | C13: 6.2953913 | D13: 783521 | E13: 6.6499953 | F13: 718639 | G13: 5.9494977 | H13: 902551 | I13: 5.6051054 | J13: 479655 | K13: 5.7985541 | L13: 422896 | M13: 5.4007458 | N13: 599609 | O13: 7.7279528 | P13: 303866 | Q13: 8.6564037 | R13: 295743 | S13: 6.9608535 | T13: 20－24
A14: 25－29 | B14: 1714257 | C14: 7.1842671 | D14: 886971 | E14: 7.5280088 | F14: 827286 | G14: 6.8489689 | H14: 1616051 | I14: 10.036149 | J14: 845194 | K14: 10.217559 | L14: 770857 | M14: 9.8445071 | N14: 98206 | O14: 1.2657104 | P14: 41777 | Q14: 1.1901252 | R14: 56429 | S14: 1.3281599 | T14: 25－29
A15: 30－34 | B15: 1726550 | C15: 7.2357857 | D15: 886251 | E15: 7.5218979 | F15: 840299 | G15: 6.9567015 | H15: 1654285 | I15: 10.273593 | J15: 870588 | K15: 10.524547 | L15: 783697 | M15: 10.008485 | N15: 72265 | O15: 0.93137446 | P15: 15663 | Q15: 0.4462008 | R15: 56602 | S15: 1.3322318 | T15: 30－34
A16: 35－39 | B16: 1898529 | C16: 7.9565312 | D16: 931829 | E16: 7.9087331 | F16: 966700 | G16: 8.0031552 | H16: 1798234 | I16: 11.167559 | J16: 911887 | K16: 11.023811 | L16: 886347 | M16: 11.319414 | N16: 100295 | O16: 1.2926341 | P16: 19942 | Q16: 0.56809911 | R16: 80353 | S16: 1.8912551 | T16: 35－39
A17: 40－44 | B17: 2073361 | C17: 8.6892334 | D17: 1006516 | E17: 8.5426258 | F17: 1066845 | G17: 8.8322397 | H17: 1958492 | I17: 12.162808 | J17: 979584 | K17: 11.842201 | L17: 978908 | M17: 12.501497 | N17: 114869 | O17: 1.4804685 | P17: 26932 | Q17: 0.76722722 | R17: 87937 | S17: 2.0697585 | T17: 40－44
A18: 45－49 | B18: 1841035 | C18: 7.71558 | D18: 892005 | E18: 7.570734 | F18: 949030 | G18: 7.8568681 | H18: 1723480 | I18: 10.703314 | J18: 860470 | K18: 10.40223 | L18: 863010 | M18: 11.02138 | N18: 117555 | O18: 1.5150865 | P18: 31535 | Q18: 0.8983555 | R18: 86020 | S18: 2.0246384 | T18: 45－49
A19: 50－54 | B19: 1785321 | C19: 7.4820886 | D19: 875078 | E19: 7.4270691 | F19: 910243 | G19: 7.5357567 | H19: 1609292 | I19: 9.9941735 | J19: 819928 | K19: 9.9121177 | L19: 789364 | M19: 10.080857 | N19: 176029 | O19: 2.2687181 | P19: 55150 | Q19: 1.5710894 | R19: 120879 | S19: 2.8451088 | T19: 50－54
... A29: 100+ | B29: 4251 | C29: 0.017815485 | D29: 1748 | E29: 0.014835839 | F29: 2503 | G29: 0.020721938 | H29: 2871 | I29: 0.017829749 | J29: 1367 | K29: 0.016525677 | L29: 1504 | M29: 0.019207374 | N29: 1380 | O29: 0.017785882 | P29: 381 | Q29: 0.010853764 | R29: 999 | S29: 0.023513296 | T29: 100+
A30: 平均年齡 | B30: 42.072972 | D30: 41.127079 | F30: 42.995631 | H30: 45.718165 | J30: 45.510953 | L30: 45.937065 | N30: 34.508044 | P30: 30.796546 | R30: 37.574537 | T30: Mean

Sheet 109
A1: 保險對象人數－按性別及年齡別分 | K1: Beneficiaries by Gender and Age
A3: 中華民國109年底 | K3: End of 2020
A4: 單位：人 | T4: Unit：Persons
A5: 年齡別 | B5: 總計 Grand Total | H5: 被保險人 | K5: Insureds | N5: 眷屬 Dependents | T5: Age
B6: 合計 Total | D6: 男 Male | F6: 女 Female | H6: 合計 Total | J6: 男 Male | L6: 女 Female | N6: 合計 Total | P6: 男 Male | R6: 女 Female
C7: 百分比 % | E7: 百分比 % | G7: 百分比 % | I7: 百分比 % | K7: 百分比 % | M7: 百分比 % | O7: 百分比 % | Q7: 百分比 % | S7: 百分比 %
A8: 總 計 | B8: 23986997 | C8: 100 | D8: 11842902 | E8: 100 | F8: 12144095 | G8: 100 | H8: 16105070 | I8: 100 | J8: 8283331 | K8: 100 | L8: 7821739 | M8: 100 | N8: 7881927 | O8: 100 | P8: 3559571 | Q8: 100 | R8: 4322356 | S8: 100 | T8: Grand Total
A9: 0－4 | B9: 907054 | C9: 3.7814404 | D9: 469914 | E9: 3.9678957 | F9: 437140 | G9: 3.5996095 | H9: 13472 | I9: 0.083650676 | J9: 6992 | K9: 0.084410487 | L9: 6480 | M9: 0.082846027 | N9: 893582 | O9: 11.337101 | P9: 462922 | Q9: 13.004994 | R9: 430660 | S9: 9.9635477 | T9: 0－4
A10: 5－9 | B10: 1046442 | C10: 4.3625386 | D10: 542428 | E10: 4.580195 | F10: 504014 | G10: 4.1502804 | H10: 25872 | I10: 0.16064506 | J10: 13278 | K10: 0.16029783 | L10: 12594 | M10: 0.16101279 | N10: 1020570 | O10: 12.94823 | P10: 529150 | Q10: 14.865555 | R10: 491420 | S10: 11.369263 | T10: 5－9
A11: 10－14 | B11: 960562 | C11: 4.0045113 | D11: 501543 | E11: 4.2349671 | F11: 459019 | G11: 3.7797712 | H11: 38595 | I11: 0.23964503 | J11: 20060 | K11: 0.24217311 | L11: 18535 | M11: 0.23696776 | N11: 921967 | O11: 11.697228 | P11: 481483 | Q11: 13.526433 | R11: 440484 | S11: 10.190831 | T11: 10－14
A12: 15－19 | B12: 1153994 | C12: 4.8109148 | D12: 603416 | E12: 5.0951701 | F12: 550578 | G12: 4.5337096 | H12: 165064 | I12: 1.0249195 | J12: 94883 | K12: 1.1454691 | L12: 70181 | M12: 0.89725571 | N12: 988930 | O12: 12.546805 | P12: 508533 | Q12: 14.286356 | R12: 480397 | S12: 11.11424 | T12: 15－19
A13: 20－24 | B13: 1580312 | C13: 6.5882028 | D13: 821426 | E13: 6.9360196 | F13: 758886 | G13: 6.2490124 | H13: 960053 | I13: 5.9611849 | J13: 508242 | K13: 6.13572 | L13: 451811 | M13: 5.7763497 | N13: 620259 | O13: 7.8693827 | P13: 313184 | Q13: 8.7983636 | R13: 307075 | S13: 7.1043431 | T13: 20－24
A14: 25－29 | B14: 1732029 | C14: 7.2206996 | D14: 894396 | E14: 7.5521692 | F14: 837633 | G14: 6.897451 | H14: 1629245 | I14: 10.116348 | J14: 852044 | K14: 10.286248 | L14: 777201 | M14: 9.9364221 | N14: 102784 | O14: 1.3040466 | P14: 42352 | Q14: 1.1898063 | R14: 60432 | S14: 1.3981264 | T14: 25－29
A15: 30－34 | B15: 1727374 | C15: 7.2012933 | D15: 877793 | E15: 7.4119755 | F15: 849581 | G15: 6.9958362 | H15: 1645694 | I15: 10.218484 | J15: 860429 | K15: 10.387476 | L15: 785265 | M15: 10.039519 | N15: 81680 | O15: 1.0362948 | P15: 17364 | Q15: 0.48781159 | R15: 64316 | S15: 1.4879848 | T15: 30－34
A16: 35－39 | B16: 2014977 | C16: 8.4002887 | D16: 983174 | E16: 8.3017997 | F16: 1031803 | G16: 8.4963351 | H16: 1900146 | I16: 11.798434 | J16: 960609 | K16: 11.596893 | L16: 939537 | M16: 12.011868 | N16: 114831 | O16: 1.4568899 | P16: 22565 | Q16: 0.63392471 | R16: 92266 | S16: 2.1346229 | T16: 35－39
A17: 40－44 | B17: 2082969 | C17: 8.6837423 | D17: 1009981 | E17: 8.5281547 | F17: 1072988 | G17: 8.8354711 | H17: 1959715 | I17: 12.168311 | J17: 980871 | K17: 11.841504 | L17: 978844 | M17: 12.514404 | N17: 123254 | O17: 1.5637547 | P17: 29110 | Q17: 0.81779518 | R17: 94144 | S17: 2.1780714 | T17: 40－44
A18: 45－49 | B18: 1789332 | C18: 7.4595915 | D18: 867480 | E18: 7.3248938 | F18: 921852 | G18: 7.5909485 | H18: 1665917 | I18: 10.344053 | J18: 834216 | K18: 10.071021 | L18: 831701 | M18: 10.633198 | N18: 123415 | O18: 1.5657973 | P18: 33264 | Q18: 0.93449463 | R18: 90151 | S18: 2.0856912 | T18: 45－49
A19: 50－54 | B19: 1803660 | C19: 7.5193239 | D19: 886372 | E19: 7.4844156 | F19: 917288 | G19: 7.5533665 | H19: 1613085 | I19: 10.016007 | J19: 826109 | K19: 9.9731497 | L19: 786976 | M19: 10.061394 | N19: 190575 | O19: 2.4178732 | P19: 60263 | Q19: 1.6929849 | R19: 130312 | S19: 3.0148373 | T19: 50－54
... A29: 100+ | B29: 3719 | C29: 0.015504233 | D29: 1499 | E29: 0.012657371 | F29: 2220 | G29: 0.018280489 | H29: 2448 | I29: 0.015200182 | J29: 1158 | K29: 0.013979883 | L29: 1290 | M29: 0.016492496 | N29: 1271 | O29: 0.016125498 | P29: 341 | Q29: 0.0095798061 | R29: 930 | S29: 0.021516044 | T29: 100+
A30: 平均年齡 | B30: 41.598641 | D30: 40.697408 | F30: 42.477523 | H30: 45.383955 | J30: 45.229539 | L30: 45.547483 | N30: 33.864145 | P30: 30.150871 | R30: 36.922121 | T30: Mean

Sheet 108
A1: 保險對象人數－按性別及年齡別分 | K1: Beneficiaries by Gender and Age
A3: 中華民國108年底 | K3: End of 2019
A4: 單位：人 | T4: Unit：Persons
A5: 年齡別 | B5: 總計 Grand Total | H5: 被保險人 | K5: Insureds | N5: 眷屬 Dependents | T5: Age
B6: 合計 Total | D6: 男 Male | F6: 女 Female | H6: 合計 Total | J6: 男 Male | L6: 女 Female | N6: 合計 Total | P6: 男 Male | R6: 女 Female
C7: 百分比 % | E7: 百分比 % | G7: 百分比 % | I7: 百分比 % | K7: 百分比 % | M7: 百分比 % | O7: 百分比 % | Q7: 百分比 % | S7: 百分比 %
A8: 總 計 | B8: 24020428 | C8: 100 | D8: 11864558 | E8: 100 | F8: 12155870 | G8: 100 | H8: 16072302 | I8: 100 | J8: 8274694 | K8: 100 | L8: 7797608 | M8: 100 | N8: 7948126 | O8: 100 | P8: 3589864 | Q8: 100 | R8: 4358262 | S8: 100 | T8: Grand Total
A9: 0－4 | B9: 956367 | C9: 3.9814736 | D9: 495769 | E9: 4.1785712 | F9: 460598 | G9: 3.7890994 | H9: 13984 | I9: 0.087006827 | J9: 7145 | K9: 0.086347604 | L9: 6839 | M9: 0.087706384 | N9: 942383 | O9: 11.856669 | P9: 488624 | Q9: 13.611212 | R9: 453759 | S9: 10.411467 | T9: 0－4
A10: 5－9 | B10: 1001048 | C10: 4.1674861 | D10: 518985 | E10: 4.3742464 | F10: 482063 | G10: 3.9656808 | H10: 25315 | I10: 0.157507 | J10: 13061 | K10: 0.15784269 | L10: 12254 | M10: 0.15715076 | N10: 975733 | O10: 12.276265 | P10: 505924 | Q10: 14.093124 | R10: 469809 | S10: 10.779733 | T10: 5－9
A11: 10－14 | B11: 999860 | C11: 4.1625403 | D11: 522058 | E11: 4.4001471 | F11: 477802 | G11: 3.9306278 | H11: 41659 | I11: 0.25919747 | J11: 21574 | K11: 0.26072263 | L11: 20085 | M11: 0.25757899 | N11: 958201 | O11: 12.055685 | P11: 500484 | Q11: 13.941587 | R11: 457717 | S11: 10.502283 | T11: 10－14
A12: 15－19 | B12: 1254460 | C12: 5.2224715 | D12: 656727 | E12: 5.5351999 | F12: 597733 | G12: 4.9172375 | H12: 190091 | I12: 1.1827242 | J12: 108745 | K12: 1.3141876 | L12: 81346 | M12: 1.0432174 | N12: 1064369 | O12: 13.391446 | P12: 547982 | Q12: 15.264701 | R12: 516387 | S12: 11.848462 | T12: 15－19
A13: 20－24 | B13: 1606103 | C13: 6.6864046 | D13: 834005 | E13: 7.0293811 | F13: 772098 | G13: 6.3516474 | H13: 992052 | I13: 6.1724325 | J13: 524829 | K13: 6.342579 | L13: 467223 | M13: 5.991876 | N13: 614051 | O13: 7.7257331 | P13: 309176 | Q13: 8.6124711 | R13: 304875 | S13: 6.9953344 | T13: 20－24
A14: 25－29 | B14: 1751368 | C14: 7.2911607 | D14: 905145 | E14: 7.628982 | F14: 846223 | G14: 6.9614351 | H14: 1645309 | I14: 10.236922 | J14: 862598 | K14: 10.424531 | L14: 782711 | M14: 10.037835 | N14: 106059 | O14: 1.33439 | P14: 42547 | Q14: 1.1851981 | R14: 63512 | S14: 1.4572782 | T14: 25－29
A15: 30－34 | B15: 1738806 | C15: 7.2388635 | D15: 873985 | E15: 7.3663511 | F15: 864821 | G15: 7.1144311 | H15: 1651718 | I15: 10.276798 | J15: 856633 | K15: 10.352443 | L15: 795085 | M15: 10.196524 | N15: 87088 | O15: 1.0957048 | P15: 17352 | Q15: 0.48336093 | R15: 69736 | S15: 1.6000874 | T15: 30－34
A16: 35－39 | B16: 2080800 | C16: 8.6626267 | D16: 1010838 | E16: 8.5198117 | F16: 1069962 | G16: 8.8020191 | H16: 1957264 | I16: 12.17787 | J16: 986715 | K16: 11.924489 | L16: 970549 | M16: 12.446753 | N16: 123536 | O16: 1.5542783 | P16: 24123 | Q16: 0.67197532 | R16: 99413 | S16: 2.2810239 | T16: 35－39
A17: 40－44 | B17: 2035968 | C17: 8.4759855 | D17: 986666 | E17: 8.3160789 | F17: 1049302 | G17: 8.6320601 | H17: 1911109 | I17: 11.890699 | J17: 957180 | K17: 11.567558 | L17: 953929 | M17: 12.233611 | N17: 124859 | O17: 1.5709238 | P17: 29486 | Q17: 0.82136816 | R17: 95373 | S17: 2.1883264 | T17: 40－44
A18: 45－49 | B18: 1797816 | C18: 7.4845294 | D18: 874419 | E18: 7.3700091 | F18: 923397 | G18: 7.5963053 | H18: 1668022 | I18: 10.37824 | J18: 839095 | K18: 10.140496 | L18: 828927 | M18: 10.630529 | N18: 129794 | O18: 1.6330139 | P18: 35324 | Q18: 0.98399271 | R18: 94470 | S18: 2.1676072 | T18: 45－49
A19: 50－54 | B19: 1806960 | C19: 7.522597 | D19: 889367 | E19: 7.4959977 | F19: 917593 | G19: 7.5485588 | H19: 1608098 | I19: 10.005399 | J19: 825965 | K19: 9.9818193 | L19: 782133 | M19: 10.030422 | N19: 198862 | O19: 2.5019986 | P19: 63402 | Q19: 1.7661393 | R19: 135460 | S19: 3.1081197 | T19: 50－54
... A29: 100+ | B29: 3275 | C29: 0.013634228 | D29: 1317 | E29: 0.011100287 | F29: 1958 | G29: 0.016107444 | H29: 2144 | I29: 0.013339719 | J29: 1003 | K29: 0.012121294 | L29: 1141 | M29: 0.014632692 | N29: 1131 | O29: 0.014229769 | P29: 314 | Q29: 0.0087468495 | R29: 817 | S29: 0.018746005 | T29: 100+
A30: 平均年齡 | B30: 41.139738 | D30: 40.26969 | F30: 41.988935 | H30: 45.081846 | J30: 44.965017 | L30: 45.205823 | N30: 33.168204 | P30: 29.446886 | R30: 36.233424 | T30: Mean

Sheet 107
A1: 保險對象人數－按性別及年齡別分 | K1: Beneficiaries by Gender and Age
A3: 中華民國107年底 | K3: End of 2018
A4: 單位：人 | T4: Unit：Persons
A5: 年齡別 | B5: 總計 Grand Total | H5: 被保險人 | K5: Insureds | N5: 眷屬 Dependents | T5: Age
B6: 合計 Total | D6: 男 Male | F6: 女 Female | H6: 合計 Total | J6: 男 Male | L6: 女 Female | N6: 合計 Total | P6: 男 Male | R6: 女 Female
C7: 百分比 % | E7: 百分比 % | G7: 百分比 % | I7: 百分比 % | K7: 百分比 % | M7: 百分比 % | O7: 百分比 % | Q7: 百分比 % | S7: 百分比 %
A8: 總 計 | B8: 23948108 | C8: 100 | D8: 11843883 | E8: 100 | F8: 12104225 | G8: 100 | H8: 15964302 | I8: 100 | J8: 8238080 | K8: 100 | L8: 7726222 | M8: 100 | N8: 7983806 | O8: 100 | P8: 3605803 | Q8: 100 | R8: 4378003 | S8: 100 | T8: Grand Total
A9: 0－4 | B9: 989225 | C9: 4.1307021 | D9: 512511 | E9: 4.3272211 | F9: 476714 | G9: 3.9384099 | H9: 13901 | I9: 0.087075526 | J9: 7116 | K9: 0.086379351 | L9: 6785 | M9: 0.087817824 | N9: 975324 | O9: 12.216279 | P9: 505395 | Q9: 14.016157 | R9: 469929 | S9: 10.733867 | T9: 0－4
A10: 5－9 | B10: 981350 | C10: 4.0978185 | D10: 509543 | E10: 4.3021617 | F10: 471807 | G10: 3.8978704 | H10: 25190 | I10: 0.15778955 | J10: 12977 | K10: 0.15752457 | L10: 12213 | M10: 0.15807208 | N10: 956160 | O10: 11.976243 | P10: 496566 | Q10: 13.771301 | R10: 459594 | S10: 10.4978 | T10: 5－9
A11: 10－14 | B11: 1021386 | C11: 4.2649966 | D11: 534156 | E11: 4.5099736 | F11: 487230 | G11: 4.0252887 | H11: 44479 | I11: 0.27861538 | J11: 22891 | K11: 0.27786814 | L11: 21588 | M11: 0.27941211 | N11: 976907 | O11: 12.236106 | P11: 511265 | Q11: 14.17895 | R11: 465642 | S11: 10.635945 | T11: 10－14
A12: 15－19 | B12: 1315090 | C12: 5.491415 | D12: 688370 | E12: 5.8120297 | F12: 626720 | G12: 5.1776962 | H12: 194820 | I12: 1.2203477 | J12: 112176 | K12: 1.3616765 | L12: 82644 | M12: 1.069656 | N12: 1120270 | O12: 14.031779 | P12: 576194 | Q12: 15.979631 | R12: 544076 | S12: 12.427493 | T12: 15－19
A13: 20－24 | B13: 1643410 | C13: 6.8623793 | D13: 856225 | E13: 7.2292592 | F13: 787185 | G13: 6.5033903 | H13: 1016855 | I13: 6.369555 | J13: 542521 | K13: 6.5855272 | L13: 474334 | M13: 6.1392748 | N13: 626555 | O13: 7.8478235 | P13: 313704 | Q13: 8.6999761 | R13: 312851 | S13: 7.145975 | T13: 20－24
A14: 25－29 | B14: 1730333 | C14: 7.2253432 | D14: 893612 | E14: 7.5449242 | F14: 836721 | G14: 6.9126359 | H14: 1623792 | I14: 10.171394 | J14: 852130 | K14: 10.343794 | L14: 771662 | M14: 9.9875722 | N14: 106541 | O14: 1.3344638 | P14: 41482 | Q14: 1.1504234 | R14: 65059 | S14: 1.4860428 | T14: 25－29
A15: 30－34 | B15: 1792460 | C15: 7.4847666 | D15: 893343 | E15: 7.542653 | F15: 899117 | G15: 7.4281253 | H15: 1699242 | I15: 10.644011 | J15: 875675 | K15: 10.629601 | L15: 823567 | M15: 10.659375 | N15: 93218 | O15: 1.1675885 | P15: 17668 | Q15: 0.48998794 | R15: 75550 | S15: 1.7256726 | T15: 30－34
A16: 35－39 | B16: 2118691 | C16: 8.8470079 | D16: 1028182 | E16: 8.6811226 | F16: 1090509 | G16: 9.0093253 | H16: 1991100 | I16: 12.472202 | J16: 1003520 | K16: 12.181479 | L16: 987580 | M16: 12.782185 | N16: 127591 | O16: 1.5981225 | P16: 24662 | Q16: 0.68395306 | R16: 102929 | S16: 2.3510491 | T16: 35－39
A17: 40－44 | B17: 1968644 | C17: 8.2204573 | D17: 953900 | E17: 8.0539465 | F17: 1014744 | G17: 8.3833868 | H17: 1845247 | I17: 11.558582 | J17: 924981 | K17: 11.228114 | L17: 920266 | M17: 11.910944 | N17: 123397 | O17: 1.5455912 | P17: 28919 | Q17: 0.80201276 | R17: 94478 | S17: 2.1580159 | T17: 40－44
A18: 45－49 | B18: 1811739 | C18: 7.5652699 | D18: 884688 | E18: 7.4695773 | F18: 927051 | G18: 7.6589042 | H18: 1677266 | I18: 10.506353 | J18: 847991 | K18: 10.293551 | L18: 829275 | M18: 10.733254 | N18: 134473 | O18: 1.684322 | P18: 36697 | Q18: 1.0177206 | R18: 97776 | S18: 2.233347 | T18: 45－49
A19: 50－54 | B19: 1813120 | C19: 7.5710365 | D19: 894237 | E19: 7.5502012 | F19: 918883 | G19: 7.5914237 | H19: 1606992 | I19: 10.066159 | J19: 828357 | K19: 10.055219 | L19: 778635 | M19: 10.077823 | N19: 206128 | O19: 2.5818263 | P19: 65880 | Q19: 1.8270549 | R19: 140248 | S19: 3.2034697 | T19: 50－54
... A29: 100+ | B29: 2955 | C29: 0.012339179 | D29: 1167 | E29: 0.0098531875 | F29: 1788 | G29: 0.014771702 | H29: 1906 | I29: 0.011939138 | J29: 884 | K29: 0.010730656 | L29: 1022 | M29: 0.013227681 | N29: 1049 | O29: 0.013139097 | P29: 283 | Q29: 0.0078484598 | R29: 766 | S29: 0.017496562 | T29: 100+
A30: 平均年齡 | B30: 40.713695 | D30: 39.873307 | F30: 41.536008 | H30: 44.828652 | J30: 44.741015 | L30: 44.922094 | N30: 32.485488 | P30: 28.752187 | R30: 35.560303 | T30: Mean

Sheet 106
A1: 保險對象人數－按性別及年齡別分 | K1: Beneficiaries by Gender and Age
A3: 中華民國106年底 | K3: End of 2017
A4: 單位：人 | T4: Unit：Persons
A5: 年齡別 | B5: 總計 Grand Total | H5: 被保險人 | K5: Insureds | N5: 眷屬 Dependents | T5: Age
B6: 合計 Total | D6: 男 Male | F6: 女 Female | H6: 合計 Total | J6: 男 Male | L6: 女 Female | N6: 合計 Total | P6: 男 Male | R6: 女 Female
C7: 百分比 % | E7: 百分比 % | G7: 百分比 % | I7: 百分比 % | K7: 百分比 % | M7: 百分比 % | O7: 百分比 % | Q7: 百分比 % | S7: 百分比 %
A8: 總 計 | B8: 23880332 | C8: 100 | D8: 11820988 | E8: 100 | F8: 12059344 | G8: 100 | H8: 15850671 | I8: 100 | J8: 8193486 | K8: 100 | L8: 7657185 | M8: 100 | N8: 8029661 | O8: 100 | P8: 3627502 | Q8: 100 | R8: 4402159 | S8: 100 | T8: Grand Total
A9: 0－4 | B9: 1000726 | C9: 4.1905866 | D9: 518696 | E9: 4.3879243 | F9: 482030 | G9: 3.9971494 | H9: 13439 | I9: 0.084785054 | J9: 6937 | K9: 0.084664818 | L9: 6502 | M9: 0.084913712 | N9: 987287 | O9: 12.2955 | P9: 511759 | Q9: 14.107752 | R9: 475528 | S9: 10.802154 | T9: 0－4
A10: 5－9 | B10: 982092 | C10: 4.1125559 | D10: 510604 | E10: 4.3194697 | F10: 471488 | G10: 3.9097317 | H10: 25730 | I10: 0.16232751 | J10: 13151 | K10: 0.16050555 | L10: 12579 | M10: 0.16427708 | N10: 956362 | O10: 11.910366 | P10: 497453 | Q10: 13.713376 | R10: 458909 | S10: 10.424635 | T10: 5－9
A11: 10－14 | B11: 1048062 | C11: 4.3888083 | D11: 548572 | E11: 4.6406612 | F11: 499490 | G11: 4.1419334 | H11: 46617 | I11: 0.29410111 | J11: 23802 | K11: 0.29049906 | L11: 22815 | M11: 0.29795545 | N11: 1001445 | O11: 12.471822 | P11: 524770 | Q11: 14.466429 | R11: 476675 | S11: 10.82821 | T11: 10－14
A12: 15－19 | B12: 1352702 | C12: 5.6645025 | D12: 707852 | E12: 5.9880951 | F12: 644850 | G12: 5.3473058 | H12: 195830 | I12: 1.2354682 | J12: 113366 | K12: 1.3836113 | L12: 82464 | M12: 1.0769493 | N12: 1156872 | O12: 14.407482 | P12: 594486 | Q12: 16.388302 | R12: 562386 | S12: 12.775231 | T12: 15－19
A13: 20－24 | B13: 1704215 | C13: 7.1364795 | D13: 887971 | E13: 7.5118171 | F13: 816244 | G13: 6.7685605 | H13: 1044113 | I13: 6.5871849 | J13: 559437 | K13: 6.8278264 | L13: 484676 | M13: 6.329689 | N13: 660102 | O13: 8.2207954 | P13: 328534 | Q13: 9.0567559 | R13: 331568 | S13: 7.5319406 | T13: 20－24
A14: 25－29 | B14: 1732422 | C14: 7.2545976 | D14: 892140 | E14: 7.5470849 | F14: 840282 | G14: 6.9678915 | H14: 1625128 | I14: 10.252739 | J14: 851780 | K14: 10.395819 | L14: 773348 | M14: 10.099638 | N14: 107294 | O14: 1.3362208 | P14: 40360 | Q14: 1.1126114 | R14: 66934 | S14: 1.5204812 | T14: 25－29
A15: 30－34 | B15: 1827633 | C15: 7.6532981 | D15: 901725 | E15: 7.6281695 | F15: 925908 | G15: 7.6779301 | H15: 1727921 | I15: 10.901248 | J15: 883740 | K15: 10.785885 | L15: 844181 | M15: 11.024691 | N15: 99712 | O15: 1.2417959 | P15: 17985 | Q15: 0.49579573 | R15: 81727 | S15: 1.8565209 | T15: 30－34
A16: 35－39 | B16: 2130690 | C16: 8.9223634 | D16: 1034409 | E16: 8.7506137 | F16: 1096281 | G16: 9.0907184 | H16: 1999522 | I16: 12.614747 | J16: 1009070 | K16: 12.315515 | L16: 990452 | M16: 12.934936 | N16: 131168 | O16: 1.6335434 | P16: 25339 | Q16: 0.69852477 | R16: 105829 | S16: 2.4040249 | T16: 35－39
A17: 40－44 | B17: 1912016 | C17: 8.0066559 | D17: 927265 | E17: 7.8442259 | F17: 984751 | G17: 8.1658754 | H17: 1788173 | I17: 11.281371 | J17: 898356 | K17: 10.964271 | L17: 889817 | M17: 11.62068 | N17: 123843 | O17: 1.5423192 | P17: 28909 | Q17: 0.7969396 | R17: 94934 | S17: 2.1565327 | T17: 40－44
A18: 45－49 | B18: 1826463 | C18: 7.6483987 | D18: 895217 | E18: 7.5731149 | F18: 931246 | G18: 7.7221945 | H18: 1686829 | I18: 10.642004 | J18: 856945 | K18: 10.458857 | L18: 829884 | M18: 10.837978 | N18: 139634 | O18: 1.7389775 | P18: 38272 | Q18: 1.0550511 | R18: 101362 | S18: 2.302552 | T18: 45－49
A19: 50－54 | B19: 1825835 | C19: 7.6457689 | D19: 900777 | E19: 7.6201499 | F19: 925058 | G19: 7.6708816 | H19: 1610619 | I19: 10.161204 | J19: 831343 | K19: 10.146389 | L19: 779276 | M19: 10.177056 | N19: 215216 | O19: 2.6802626 | P19: 69434 | Q19: 1.9140996 | R19: 145782 | S19: 3.3116023 | T19: 50－54
... A29: 100+ | B29: 2821 | C29: 0.011813069 | D29: 1142 | E29: 0.009660783 | F29: 1679 | G29: 0.013922814 | H29: 1823 | I29: 0.01150109 | J29: 859 | K29: 0.010483938 | L29: 964 | M29: 0.012589483 | N29: 998 | O29: 0.012428918 | P29: 283 | Q29: 0.0078015119 | R29: 715 | S29: 0.01624203 | T29: 100+
A30: 平均年齡 | B30: 40.303809 | D30: 39.500361 | F30: 41.091378 | H30: 44.596867 | J30: 44.549844 | L30: 44.647183 | N30: 31.829249 | P30: 28.095025 | R30: 34.906353 | T30: Mean

Sheet 105
A1: 保險對象人數－按性別及年齡別分 | K1: Beneficiaries by Gender and Age
A3: 中華民國105年底 | K3: End of 2016
A4: 單位：人 | T4: Unit：Persons
A5: 年齡別 | B5: 總計 Grand Total | H5: 被保險人 | K5: Insureds | N5: 眷屬 Dependents | T5: Age
B6: 合計 Total | D6: 男 Male | F6: 女 Female | H6: 合計 Total | J6: 男 Male | L6: 女 Female | N6: 合計 Total | P6: 男 Male | R6: 女 Female
C7: 百分比 % | E7: 百分比 % | G7: 百分比 % | I7: 百分比 % | K7: 百分比 % | M7: 百分比 % | O7: 百分比 % | Q7: 百分比 % | S7: 百分比 %
A8: 總 計 | B8: 23814584 | C8: 100 | D8: 11799845 | E8: 100 | F8: 12014739 | G8: 100 | H8: 15751630 | I8: 100 | J8: 8154133 | K8: 100 | L8: 7597497 | M8: 100 | N8: 8062954 | O8: 100 | P8: 3645712 | Q8: 100 | R8: 4417242 | S8: 100 | T8: Grand Total
A9: 0－4 | B9: 1040898 | C9: 4.3708427 | D9: 539372 | E9: 4.5710092 | F9: 501526 | G9: 4.1742563 | H9: 14143 | I9: 0.089787533 | J9: 7358 | K9: 0.090236448 | L9: 6785 | M9: 0.089305728 | N9: 1026755 | O9: 12.734229 | P9: 532014 | Q9: 14.59287 | R9: 494741 | S9: 11.200224 | T9: 0－4
A10: 5－9 | B10: 951302 | C10: 3.9946194 | D10: 495936 | E10: 4.2029027 | F10: 455366 | G10: 3.7900615 | H10: 26968 | I10: 0.17120768 | J10: 13842 | K10: 0.16975441 | L10: 13126 | M10: 0.17276743 | N10: 924334 | O10: 11.463962 | P10: 482094 | Q10: 13.22359 | R10: 442240 | S10: 10.011677 | T10: 5－9
A11: 10－14 | B11: 1088646 | C11: 4.5713417 | D11: 569721 | E11: 4.8282075 | F11: 518925 | G11: 4.3190701 | H11: 51010 | I11: 0.3238395 | J11: 26067 | K11: 0.31967838 | L11: 24943 | M11: 0.32830549 | N11: 1037636 | O11: 12.869179 | P11: 543654 | Q11: 14.912149 | R11: 493982 | S11: 11.183041 | T11: 10－14
A12: 15－19 | B12: 1429761 | C12: 6.0037202 | D12: 747009 | E12: 6.3306679 | F12: 682752 | G12: 5.6826203 | H12: 209752 | I12: 1.3316209 | J12: 121154 | K12: 1.4857987 | L12: 88598 | M12: 1.1661472 | N12: 1220009 | O12: 15.131043 | P12: 625855 | Q12: 17.16688 | R12: 594154 | S12: 13.450791 | T12: 15－19
A13: 20－24 | B13: 1703045 | C13: 7.1512692 | D13: 886585 | E13: 7.5135309 | F13: 816460 | G13: 6.7954868 | H13: 1039412 | I13: 6.5987584 | J13: 557231 | K13: 6.8337247 | L13: 482181 | M13: 6.346577 | N13: 663633 | O13: 8.2306435 | P13: 329354 | Q13: 9.0340104 | R13: 334279 | S13: 7.5675953 | T13: 20－24
A14: 25－29 | B14: 1716092 | C14: 7.2060549 | D14: 879740 | E14: 7.4555217 | F14: 836352 | G14: 6.9610501 | H14: 1604973 | I14: 10.18925 | J14: 838768 | K14: 10.286415 | L14: 766205 | M14: 10.084966 | N14: 111119 | O14: 1.3781426 | P14: 40972 | Q14: 1.1238408 | R14: 70147 | S14: 1.5880271 | T14: 25－29
A15: 30－34 | B15: 1914986 | C15: 8.0412322 | D15: 937700 | E15: 7.9467146 | F15: 977286 | G15: 8.1340593 | H15: 1804857 | I15: 11.458224 | J15: 918329 | K15: 11.262129 | L15: 886528 | M15: 11.668685 | N15: 110129 | O15: 1.3658642 | P15: 19371 | Q15: 0.53133654 | R15: 90758 | S15: 2.0546305 | T15: 30－34
A16: 35－39 | B16: 2102702 | C16: 8.8294719 | D16: 1021572 | E16: 8.6575036 | F16: 1081130 | G16: 8.9983644 | H16: 1969671 | I16: 12.504553 | J16: 995512 | K16: 12.20868 | L16: 974159 | M16: 12.822104 | N16: 133031 | O16: 1.649904 | P16: 26060 | Q16: 0.71481236 | R16: 106971 | S16: 2.4216694 | T16: 35－39
A17: 40－44 | B17: 1876408 | C17: 7.879239 | D17: 911347 | E17: 7.7233811 | F17: 965061 | G17: 8.0323093 | H17: 1748693 | I17: 11.101664 | J17: 881156 | K17: 10.80625 | L17: 867537 | M17: 11.418721 | N17: 127715 | O17: 1.5839728 | P17: 30191 | Q17: 0.82812356 | R17: 97524 | S17: 2.207803 | T17: 40－44
A18: 45－49 | B18: 1824923 | C18: 7.663048 | D18: 899946 | E18: 7.6267612 | F18: 924977 | G18: 7.6986858 | H18: 1681404 | I18: 10.674476 | J18: 860298 | K18: 10.550453 | L18: 821106 | M18: 10.807586 | N18: 143519 | O18: 1.7799804 | P18: 39648 | Q18: 1.0875242 | R18: 103871 | S18: 2.3514899 | T18: 45－49
A19: 50－54 | B19: 1853826 | C19: 7.7844148 | D19: 915029 | E19: 7.7545849 | F19: 938797 | G19: 7.8137111 | H19: 1630704 | I19: 10.352605 | J19: 842730 | K19: 10.335004 | L19: 787974 | M19: 10.371495 | N19: 223122 | O19: 2.7672488 | P19: 72299 | Q19: 1.9831243 | R19: 150823 | S19: 3.4144156 | T19: 50－54
... A29: 100+ | B29: 2589 | C29: 0.01087149 | D29: 1033 | E29: 0.0087543523 | F29: 1556 | G29: 0.01295076 | H29: 1637 | I29: 0.010392575 | J29: 765 | K29: 0.0093817454 | L29: 872 | M29: 0.011477464 | N29: 952 | O29: 0.011807087 | P29: 268 | Q29: 0.0073511018 | R29: 684 | S29: 0.015484775 | T29: 100+
A30: 平均年齡 | B30: 39.89144 | D30: 39.130375 | F30: 40.638892 | H30: 44.39063 | J30: 44.384554 | L30: 44.397151 | N30: 31.101909 | P30: 27.378686 | R30: 34.174822 | T30: Mean

Sheet 104
A1: 保險對象人數－按性別及年齡別分 | K1: Beneficiaries by Gender and Age
A3: 中華民國104年底 | K3: End of 2015
A4: 單位：人 | T4: Unit：Persons
A5: 年齡別 | B5: 總計 Grand Total | H5: 被保險人 | K5: Insureds | N5: 眷屬 Dependents | T5: Age
B6: 合計 Total | D6: 男 Male | F6: 女 Female | H6: 合計 Total | J6: 男 Male | L6: 女 Female | N6: 合計 Total | P6: 男 Male | R6: 女 Female
C7: 百分比 % | E7: 百分比 % | G7: 百分比 % | I7: 百分比 % | K7: 百分比 % | M7: 百分比 % | O7: 百分比 % | Q7: 百分比 % | S7: 百分比 %
A8: 總 計 | B8: 23737221 | C8: 100 | D8: 11773677 | E8: 100 | F8: 11963544 | G8: 100 | H8: 15641440 | I8: 100 | J8: 8109819 | K8: 100 | L8: 7531621 | M8: 100 | N8: 8095781 | O8: 100 | P8: 3663858 | Q8: 100 | R8: 4431923 | S8: 100 | T8: Grand Total
A9: 0－4 | B9: 1031184 | C9: 4.3441648 | D9: 534373 | E9: 4.5387095 | F9: 496811 | G9: 4.1527076 | H9: 13992 | I9: 0.089454679 | J9: 7287 | K9: 0.08985404 | L9: 6705 | M9: 0.08902466 | N9: 1017192 | O9: 12.56447 | P9: 527086 | Q9: 14.386092 | R9: 490106 | S9: 11.058541 | T9: 0－4
A10: 5－9 | B10: 957246 | C10: 4.0326793 | D10: 499875 | E10: 4.2457 | F10: 457371 | G10: 3.8230394 | H10: 28653 | I10: 0.18318646 | J10: 14808 | K10: 0.18259347 | L10: 13845 | M10: 0.18382497 | N10: 928593 | O10: 11.470085 | P10: 485067 | Q10: 13.239241 | R10: 443526 | S10: 10.007529 | T10: 5－9
A11: 10－14 | B11: 1137462 | C11: 4.791892 | D11: 594758 | E11: 5.0515909 | F11: 542704 | G11: 4.5363147 | H11: 54310 | I11: 0.34721867 | J11: 27614 | K11: 0.34050082 | L11: 26696 | M11: 0.35445225 | N11: 1083152 | O11: 13.379216 | P11: 567144 | Q11: 15.479421 | R11: 516008 | S11: 11.642982 | T11: 10－14
A12: 15－19 | B12: 1492047 | C12: 6.2856853 | D12: 779209 | E12: 6.6182298 | F12: 712838 | G12: 5.9584183 | H12: 216755 | I12: 1.3857739 | J12: 125127 | K12: 1.5429074 | L12: 91628 | M12: 1.2165774 | N12: 1275292 | O12: 15.752551 | P12: 654082 | Q12: 17.852275 | R12: 621210 | S12: 14.016715 | T12: 15－19
A13: 20－24 | B13: 1695276 | C13: 7.141847 | D13: 882235 | E13: 7.4932835 | F13: 813041 | G13: 6.7959879 | H13: 1026479 | I13: 6.5625607 | J13: 550971 | K13: 6.7938754 | L13: 475508 | M13: 6.3134882 | N13: 668797 | O13: 8.261056 | P13: 331264 | Q13: 9.0413984 | R13: 337533 | S13: 7.6159491 | T13: 20－24
A14: 25－29 | B14: 1697216 | C14: 7.1500198 | D14: 863005 | E14: 7.3299531 | F14: 834211 | G14: 6.9729421 | H14: 1581456 | I14: 10.11068 | J14: 820680 | K14: 10.119585 | L14: 760776 | M14: 10.101092 | N14: 115760 | O14: 1.4298806 | P14: 42325 | Q14: 1.1552031 | R14: 73435 | S14: 1.6569557 | T14: 25－29
A15: 30－34 | B15: 2018369 | C15: 8.5029709 | D15: 986213 | E15: 8.3764231 | F15: 1032156 | G15: 8.6275104 | H15: 1897538 | I15: 12.131479 | J15: 965006 | K15: 11.89923 | L15: 932532 | M15: 12.381558 | N15: 120831 | O15: 1.4925181 | P15: 21207 | Q15: 0.5788161 | R15: 99624 | S15: 2.247873 | T15: 30－34
A16: 35－39 | B16: 2102607 | C16: 8.8578482 | D16: 1022870 | E16: 8.6877702 | F16: 1079737 | G16: 9.025227 | H16: 1965649 | I16: 12.566931 | J16: 995838 | K16: 12.279411 | L16: 969811 | M16: 12.876524 | N16: 136958 | O16: 1.6917207 | P16: 27032 | Q16: 0.73780152 | R16: 109926 | S16: 2.4803229 | T16: 35－39
A17: 40－44 | B17: 1817446 | C17: 7.6565239 | D17: 884722 | E17: 7.5144069 | F17: 932724 | G17: 7.7963854 | H17: 1687329 | I17: 10.787555 | J17: 853748 | K17: 10.527337 | L17: 833581 | M17: 11.06775 | N17: 130117 | O17: 1.6072199 | P17: 30974 | Q17: 0.84539303 | R17: 99143 | S17: 2.2370199 | T17: 40－44
A18: 45－49 | B18: 1838825 | C18: 7.7465892 | D18: 909821 | E18: 7.7275859 | F18: 929004 | G18: 7.765291 | H18: 1689020 | I18: 10.798366 | J18: 867702 | K18: 10.6994 | L18: 821318 | M18: 10.90493 | N18: 149805 | O18: 1.8504083 | P18: 42119 | Q18: 1.1495806 | R18: 107686 | S18: 2.4297805 | T18: 45－49
A19: 50－54 | B19: 1850912 | C19: 7.7975092 | D19: 914880 | E19: 7.7705546 | F19: 936032 | G19: 7.8240361 | H19: 1622953 | I19: 10.375982 | J19: 841324 | K19: 10.37414 | L19: 781629 | M19: 10.377965 | N19: 227959 | O19: 2.8157753 | P19: 73556 | Q19: 2.0076106 | R19: 154403 | S19: 3.4838827 | T19: 50－54
... A29: 100+ | B29: 2509 | C29: 0.010569898 | D29: 1008 | E29: 0.0085614715 | F29: 1501 | G29: 0.012546449 | H29: 1562 | I29: 0.0099862928 | J29: 749 | K29: 0.0092357178 | L29: 813 | M29: 0.010794489 | N29: 947 | O29: 0.011697451 | P29: 259 | Q29: 0.0070690513 | R29: 688 | S29: 0.015523735 | T29: 100+
A30: 平均年齡 | B30: 39.517417 | D30: 38.801058 | F30: 40.222407 | H30: 44.204733 | J30: 44.244607 | L30: 44.161798 | N30: 30.461296 | P30: 26.751958 | R30: 33.527795 | T30: Mean

Sheet 103
A1: 保險對象人數－按年齡性別分 | K1: Beneficiaries by Age and Gender
A3: 中華民國103年底 | K3: End of 2014
A4: 單位：人 | S4: Unit：Person
A5: 年齡別 Age | B5: 保險對象 Beneficiaries | J5: 被保險人 Insureds | N5: 眷屬 Dependents
B6: 合 計 Total | D6: 男 Male | F6: 女 Female | H6: 合 計 Total | J6: 男 | L6: 女 Female | N6: 合 計 Total | P6: 男 Male | R6: 女 Female
C7: 百分比 % | E7: 百分比 % | G7: 百分比 % | I7: 百分比 % | J7: Male | K7: 百分比 % | M7: 百分比 % | O7: 百分比 % | Q7: 百分比 % | S7: 百分比 %
A8: 總 計 Grand Total | B8: 23621599 | C8: 100 | D8: 11728872 | E8: 100 | F8: 11892727 | G8: 100 | H8: 15501531 | I8: 100 | J8: 8052525 | K8: 100 | L8: 7449006 | M8: 100 | N8: 8120068 | O8: 100 | P8: 3676347 | Q8: 100 | R8: 4443721 | S8: 100
A9: 0 － 4 | B9: 984060 | C9: 4.1659331 | D9: 510169 | E9: 4.3496851 | F9: 473891 | G9: 3.9847127 | H9: 14034 | I9: 0.090532993 | J9: 7341 | K9: 0.091163952 | L9: 6693 | M9: 0.089850914 | N9: 970026 | O9: 11.946033 | P9: 502828 | Q9: 13.677381 | R9: 467198 | S9: 10.513666
A10: 5 － 9 | B10: 996123 | C10: 4.2170007 | D10: 520206 | E10: 4.4352603 | F10: 475917 | G10: 4.0017483 | H10: 31454 | I10: 0.20290899 | J10: 16214 | K10: 0.20135299 | L10: 15240 | M10: 0.20459106 | N10: 964669 | O10: 11.880061 | P10: 503992 | Q10: 13.709043 | R10: 460677 | S10: 10.36692
A11: 10 － 14 | B11: 1234252 | C11: 5.2250993 | D11: 645500 | E11: 5.503513 | F11: 588752 | G11: 4.9505214 | H11: 60231 | I11: 0.38854872 | J11: 30539 | K11: 0.3792475 | L11: 29692 | M11: 0.39860352 | N11: 1174021 | O11: 14.458266 | P11: 614961 | Q11: 16.727502 | R11: 559060 | S11: 12.580898
A12: 15 － 19 | B12: 1511472 | C12: 6.3986862 | D12: 787871 | E12: 6.7173638 | F12: 723601 | G12: 6.0843993 | H12: 221249 | I12: 1.4272719 | J12: 128041 | K12: 1.5900727 | L12: 93208 | M12: 1.251281 | N12: 1290223 | O12: 15.889313 | P12: 659830 | Q12: 17.947979 | R12: 630393 | S12: 14.186152
A13: 20 － 24 | B13: 1694736 | C13: 7.1745185 | D13: 882606 | E13: 7.5250715 | F13: 812130 | G13: 6.8287954 | H13: 1019261 | I13: 6.575228 | J13: 547324 | K13: 6.7969239 | L13: 471937 | M13: 6.3355701 | N13: 675475 | O13: 8.318588 | P13: 335282 | Q13: 9.119977 | R13: 340193 | S13: 7.6555886
A14: 25 － 29 | B14: 1693041 | C14: 7.1673429 | D14: 851940 | E14: 7.2636141 | F14: 841101 | G14: 7.0723981 | H14: 1571293 | I14: 10.136373 | J14: 809268 | K14: 10.049866 | L14: 762025 | M14: 10.229888 | N14: 121748 | O14: 1.499347 | P14: 42672 | Q14: 1.1607174 | R14: 79076 | S14: 1.7794997
A15: 30 － 34 | B15: 2071423 | C15: 8.7691904 | D15: 1010004 | E15: 8.6112629 | F15: 1061419 | G15: 8.9249421 | H15: 1942029 | I15: 12.527982 | J15: 987113 | K15: 12.258428 | L15: 954916 | M15: 12.819375 | N15: 129394 | O15: 1.5935088 | P15: 22891 | Q15: 0.62265613 | R15: 106503 | S15: 2.3967076
A16: 35 － 39 | B16: 2049727 | C16: 8.6773423 | D16: 998394 | E16: 8.5122764 | F16: 1051333 | G16: 8.840134 | H16: 1911525 | I16: 12.331201 | J16: 970771 | K16: 12.055486 | L16: 940754 | M16: 12.629256 | N16: 138202 | O16: 1.7019808 | P16: 27623 | Q16: 0.75137086 | R16: 110579 | S16: 2.4884326
A17: 40 － 44 | B17: 1823615 | C17: 7.7201167 | D17: 891765 | E17: 7.6031608 | F17: 931850 | G17: 7.8354611 | H17: 1687254 | I17: 10.884435 | J17: 859043 | K17: 10.667995 | L17: 828211 | M17: 11.11841 | N17: 136361 | O17: 1.6793086 | P17: 32722 | Q17: 0.89006832 | R17: 103639 | S17: 2.3322571
A18: 45 － 49 | B18: 1840501 | C18: 7.7916021 | D18: 912915 | E18: 7.7834851 | F18: 927586 | G18: 7.7996073 | H18: 1687329 | I18: 10.884918 | J18: 869415 | K18: 10.7968 | L18: 817914 | M18: 10.980176 | N18: 153172 | O18: 1.8863389 | P18: 43500 | Q18: 1.1832398 | R18: 109672 | S18: 2.4680217
A19: 50 － 54 | B19: 1849882 | C19: 7.8313157 | D19: 915717 | E19: 7.8073748 | F19: 934165 | G19: 7.8549268 | H19: 1619505 | I19: 10.447387 | J19: 842014 | K19: 10.456521 | L19: 777491 | M19: 10.437513 | N19: 230377 | O19: 2.8371314 | P19: 73703 | Q19: 2.004789 | R19: 156674 | S19: 3.5257389
... A29: 100+ | B29: 2304 | C29: 0.0097537851 | D29: 910 | E29: 0.0077586319 | F29: 1394 | G29: 0.01172145 | H29: 1442 | I29: 0.009302307 | J29: 671 | K29: 0.00833279 | L29: 771 | M29: 0.010350374 | N29: 862 | O29: 0.010615675 | P29: 239 | Q29: 0.0065010185 | R29: 623 | S29: 0.014019782
A30: 平均年齡 Mean | B30: 39.137448 | D30: 38.465783 | F30: 39.799858 | H30: 44.033745 | J30: 44.118502 | L30: 43.942121 | N30: 29.790222 | P30: 26.084291 | R30: 32.856186

Sheet 102
A1: 保險對象人數－按年齡性別分 | K1: Beneficiaries by Age and Gender
A3: 中華民國102年底 | K3: End of 2013
A4: 單位：人 | S4: Unit：Person
A5: 年齡別 Age | B5: 保險對象 Beneficiaries | J5: 被保險人 Insureds | N5: 眷屬 Dependents
B6: 合 計 Total | D6: 男 Male | F6: 女 Female | H6: 合 計 Total | J6: 男 | L6: 女 Female | N6: 合 計 Total | P6: 男 Male | R6: 女 Female
C7: 百分比 % | E7: 百分比 % | G7: 百分比 % | I7: 百分比 % | J7: Male | K7: 百分比 % | M7: 百分比 % | O7: 百分比 % | Q7: 百分比 % | S7: 百分比 %
A8: 總 計 Grand Total | B8: 23462863 | C8: 100 | D8: 11656518 | E8: 100 | F8: 11806345 | G8: 100 | H8: 15306878 | I8: 100 | J8: 7962412 | K8: 100 | L8: 7344466 | M8: 100 | N8: 8155985 | O8: 100 | P8: 3694106 | Q8: 100 | R8: 4461879 | S8: 100
A9: 0 － 4 | B9: 965445 | C9: 4.1147792 | D9: 501441 | E9: 4.3018078 | F9: 464004 | G9: 3.930124 | H9: 14161 | I9: 0.092513967 | J9: 7336 | K9: 0.092132886 | L9: 6825 | M9: 0.09292711 | N9: 951284 | O9: 11.663631 | P9: 494105 | Q9: 13.375496 | R9: 457179 | S9: 10.246333
A10: 5 － 9 | B10: 1018520 | C10: 4.3409877 | D10: 532846 | E10: 4.5712279 | F10: 485674 | G10: 4.1136694 | H10: 33609 | I10: 0.21956796 | J10: 17405 | K10: 0.21858954 | L10: 16204 | M10: 0.2206287 | N10: 984911 | O10: 12.07593 | P10: 515441 | Q10: 13.953065 | R10: 469470 | S10: 10.5218
A11: 10 － 14 | B11: 1297529 | C11: 5.5301393 | D11: 678049 | E11: 5.8169086 | F11: 619480 | G11: 5.2470091 | H11: 63013 | I11: 0.41166461 | J11: 32075 | K11: 0.4028302 | L11: 30938 | M11: 0.42124233 | N11: 1234516 | O11: 15.13632 | P11: 645974 | Q11: 17.486612 | R11: 588542 | S11: 13.190452
A12: 15 － 19 | B12: 1544644 | C12: 6.5833569 | D12: 802678 | E12: 6.8860873 | F12: 741966 | G12: 6.2844682 | H12: 214493 | I12: 1.4012851 | J12: 122146 | K12: 1.5340327 | L12: 92347 | M12: 1.2573685 | N12: 1330151 | O12: 16.308895 | P12: 680532 | Q12: 18.422103 | R12: 649619 | S12: 14.559315
A13: 20 － 24 | B13: 1654715 | C13: 7.0524855 | D13: 857881 | E13: 7.3596678 | F13: 796834 | G13: 6.7492014 | H13: 977336 | I13: 6.3849467 | J13: 525285 | K13: 6.5970588 | L13: 452051 | M13: 6.154988 | N13: 677379 | O13: 8.3052997 | P13: 332596 | Q13: 9.0034233 | R13: 344783 | S13: 7.727305
A14: 25 － 29 | B14: 1732677 | C14: 7.3847637 | D14: 864235 | E14: 7.4141781 | F14: 868442 | G14: 7.3557227 | H14: 1600020 | I14: 10.452948 | J14: 818191 | K14: 10.275668 | L14: 781829 | M14: 10.645144 | N14: 132657 | O14: 1.6264988 | P14: 46044 | Q14: 1.2464179 | R14: 86613 | S14: 1.9411777
A15: 30 － 34 | B15: 2101002 | C15: 8.954585 | D15: 1023959 | E15: 8.7844329 | F15: 1077043 | G15: 9.1225777 | H15: 1964828 | I15: 12.836243 | J15: 999814 | K15: 12.556673 | L15: 965014 | M15: 13.139335 | N15: 136174 | O15: 1.6696205 | P15: 24145 | Q15: 0.65360875 | R15: 112029 | S15: 2.5108032
A16: 35 － 39 | B16: 1979370 | C16: 8.4361827 | D16: 963848 | E16: 8.2687472 | F16: 1015522 | G16: 8.6014935 | H16: 1839027 | I16: 12.014383 | J16: 935229 | K16: 11.745549 | L16: 903798 | M16: 12.305837 | N16: 140343 | O16: 1.7207364 | P16: 28619 | Q16: 0.7747206 | R16: 111724 | S16: 2.5039675
A17: 40 － 44 | B17: 1834948 | C17: 7.8206483 | D17: 901180 | E17: 7.7311252 | F17: 933768 | G17: 7.9090354 | H17: 1690772 | I17: 11.045832 | J17: 865813 | K17: 10.873753 | L17: 824959 | M17: 11.232389 | N17: 144176 | O17: 1.7677325 | P17: 35367 | Q17: 0.95738996 | R17: 108809 | S17: 2.4386363
A18: 45 － 49 | B18: 1845805 | C18: 7.8669214 | D18: 917325 | E18: 7.8696314 | F18: 928480 | G18: 7.8642459 | H18: 1687836 | I18: 11.026651 | J18: 872200 | K18: 10.953967 | L18: 815636 | M18: 11.10545 | N18: 157969 | O18: 1.9368476 | P18: 45125 | Q18: 1.2215405 | R18: 112844 | S18: 2.529069
A19: 50 － 54 | B19: 1837490 | C19: 7.8314825 | D19: 909836 | E19: 7.8053841 | F19: 927654 | G19: 7.8572496 | H19: 1603908 | I19: 10.478348 | J19: 835344 | K19: 10.491092 | L19: 768564 | M19: 10.464532 | N19: 233582 | O19: 2.8639337 | P19: 74492 | Q19: 2.0165095 | R19: 159090 | S19: 3.5655382
... A29: 100+ | B29: 2065 | C29: 0.0088011425 | D29: 818 | E29: 0.007017533 | F29: 1247 | G29: 0.010562117 | H29: 1271 | I29: 0.0083034568 | J29: 589 | K29: 0.007397256 | L29: 682 | M29: 0.0092859032 | N29: 794 | O29: 0.0097351822 | P29: 229 | Q29: 0.0061990641 | R29: 565 | S29: 0.012662827
A30: 平均年齡 Mean | B30: 38.775152 | D30: 38.150595 | F30: 39.391784 | H30: 43.917624 | J30: 44.056272 | L30: 43.767311 | N30: 29.123935 | P30: 25.421282 | R30: 32.189457

Sheet 101
A1: 保險對象人數－按年齡性別分 | J1: Beneficiaries by Age and Gender
A3: 中華民國101年底 | J3: End of 2012
A4: 單位：人 | S4: Unit：Person
A5: 年齡別 Age | B5: 保險對象 Beneficiaries | K5: 被保險人 Insureds | N5: 眷屬 Dependents
B6: 合 計 Total | D6: 男 Male | F6: 女 Female | H6: 合 計 Total | J6: 男 | L6: 女 Female | N6: 合 計 Total | P6: 男 Male | R6: 女 Female
C7: 百分比 % | E7: 百分比 % | G7: 百分比 % | I7: 百分比 % | J7: Male | K7: 百分比 % | M7: 百分比 % | O7: 百分比 % | Q7: 百分比 % | S7: 百分比 %
A8: 總 計 Grand Total | B8: =SUM(D8,F8) -> 23280949 | C8: =(B8/B8)*100 -> 100 | D8: =SUM(D9:D29) -> 11558126 | E8: =(D8/D8)*100 -> 100 | F8: =SUM(F9:F29) -> 11722823 | G8: =(F8/F8)*100 -> 100 | H8: =SUM(H9:H29) -> 15147476 | I8: =(H8/H8)*100 -> 100 | J8: =SUM(J9:J29) -> 7865956 | K8: =(J8/J8)*100 -> 100 | L8: =SUM(L9:L29) -> 7281520 | M8: =(L8/L8)*100 -> 100 | N8: =P8+R8 -> 8133473 | O8: =(N8/N8)*100 -> 100 | P8: =SUM(P9:P29) -> 3692170 | Q8: =(P8/P8)*100 -> 100 | R8: =SUM(R9:R29) -> 4441303 | S8: =(R8/R8)*100 -> 100
A9: 0 － 4 | B9: =SUM(D9,F9) -> 956478 | C9: =(B9/$B$8)*100 -> 4.108415 | D9: =SUM(J9,P9) -> 497719 | E9: =(D9/$D$8)*100 -> 4.3062258 | F9: =SUM(L9,R9) -> 458759 | G9: =(F9/$F$8)*100 -> 3.9133833 | H9: =J9+L9 -> 14390 | I9: =(H9/$H$8)*100 -> 0.094999325 | J9: 7460 | K9: =(J9/$J$8)*100 -> 0.094839076 | L9: 6930 | M9: =(L9/$L$8)*100 -> 0.095172437 | N9: =P9+R9 -> 942088 | O9: =(N9/$N$8)*100 -> 11.58285 | P9: 490259 | Q9: =(P9/$P$8)*100 -> 13.278343 | R9: 451829 | S9: =(R9/$R$8)*100 -> 10.173343
A10: 5 － 9 | B10: =SUM(D10,F10) -> 1046409 | C10: =(B10/$B$8)*100 -> 4.4947008 | D10: =SUM(J10,P10) -> 547861 | E10: =(D10/$D$8)*100 -> 4.7400504 | F10: =SUM(L10,R10) -> 498548 | G10: =(F10/$F$8)*100 -> 4.2527982 | H10: =J10+L10 -> 34935 | I10: =(H10/$H$8)*100 -> 0.23063248 | J10: 18055 | K10: =(J10/$J$8)*100 -> 0.22953345 | L10: 16880 | M10: =(L10/$L$8)*100 -> 0.23181973 | N10: =P10+R10 -> 1011474 | O10: =(N10/$N$8)*100 -> 12.435942 | P10: 529806 | Q10: =(P10/$P$8)*100 -> 14.349448 | R10: 481668 | S10: =(R10/$R$8)*100 -> 10.845196
A11: 10 － 14 | B11: =SUM(D11,F11) -> 1336059 | C11: =(B11/$B$8)*100 -> 5.7388511 | D11: =SUM(J11,P11) -> 697306 | E11: =(D11/$D$8)*100 -> 6.0330368 | F11: =SUM(L11,R11) -> 638753 | G11: =(F11/$F$8)*100 -> 5.4487985 | H11: =J11+L11 -> 64566 | I11: =(H11/$H$8)*100 -> 0.42624923 | J11: 32776 | K11: =(J11/$J$8)*100 -> 0.41668171 | L11: 31790 | M11: =(L11/$L$8)*100 -> 0.43658467 | N11: =P11+R11 -> 1271493 | O11: =(N11/$N$8)*100 -> 15.632842 | P11: 664530 | Q11: =(P11/$P$8)*100 -> 17.998359 | R11: 606963 | S11: =(R11/$R$8)*100 -> 13.666327
A12: 15 － 19 | B12: =SUM(D12,F12) -> 1601637 | C12: =(B12/$B$8)*100 -> 6.8796036 | D12: =SUM(J12,P12) -> 833684 | E12: =(D12/$D$8)*100 -> 7.2129686 | F12: =SUM(L12,R12) -> 767953 | G12: =(F12/$F$8)*100 -> 6.5509221 | H12: =J12+L12 -> 218419 | I12: =(H12/$H$8)*100 -> 1.4419498 | J12: 128251 | K12: =(J12/$J$8)*100 -> 1.6304566 | L12: 90168 | M12: =(L12/$L$8)*100 -> 1.2383129 | N12: =P12+R12 -> 1383218 | O12: =(N12/$N$8)*100 -> 17.006487 | P12: 705433 | Q12: =(P12/$P$8)*100 -> 19.10619 | R12: 677785 | S12: =(R12/$R$8)*100 -> 15.260949
A13: 20 － 24 | B13: =SUM(D13,F13) -> 1656301 | C13: =(B13/$B$8)*100 -> 7.114405 | D13: =SUM(J13,P13) -> 856767 | E13: =(D13/$D$8)*100 -> 7.4126809 | F13: =SUM(L13,R13) -> 799534 | G13: =(F13/$F$8)*100 -> 6.8203196 | H13: =J13+L13 -> 978969 | I13: =(H13/$H$8)*100 -> 6.4629183 | J13: 524342 | K13: =(J13/$J$8)*100 -> 6.6659666 | L13: 454627 | M13: =(L13/$L$8)*100 -> 6.2435728 | N13: =P13+R13 -> 677332 | O13: =(N13/$N$8)*100 -> 8.3277095 | P13: 332425 | Q13: =(P13/$P$8)*100 -> 9.0035128 | R13: 344907 | S13: =(R13/$R$8)*100 -> 7.7658966
A14: 25 － 29 | B14: =SUM(D14,F14) -> 1765859 | C14: =(B14/$B$8)*100 -> 7.5849958 | D14: =SUM(J14,P14) -> 870371 | E14: =(D14/$D$8)*100 -> 7.5303817 | F14: =SUM(L14,R14) -> 895488 | G14: =(F14/$F$8)*100 -> 7.6388426 | H14: =J14+L14 -> 1628945 | I14: =(H14/$H$8)*100 -> 10.753904 | J14: 824827 | K14: =(J14/$J$8)*100 -> 10.486036 | L14: 804118 | M14: =(L14/$L$8)*100 -> 11.043271 | N14: =P14+R14 -> 136914 | O14: =(N14/$N$8)*100 -> 1.6833399 | P14: 45544 | Q14: =(P14/$P$8)*100 -> 1.2335293 | R14: 91370 | S14: =(R14/$R$8)*100 -> 2.0572791
A15: 30 － 34 | B15: =SUM(D15,F15) -> 2103802 | C15: =(B15/$B$8)*100 -> 9.0365818 | D15: =SUM(J15,P15) -> 1021342 | E15: =(D15/$D$8)*100 -> 8.8365709 | F15: =SUM(L15,R15) -> 1082460 | G15: =(F15/$F$8)*100 -> 9.2337827 | H15: =J15+L15 -> 1964746 | I15: =(H15/$H$8)*100 -> 12.970781 | J15: 996583 | K15: =(J15/$J$8)*100 -> 12.669573 | L15: 968163 | M15: =(L15/$L$8)*100 -> 13.296166 | N15: =P15+R15 -> 139056 | O15: =(N15/$N$8)*100 -> 1.7096756 | P15: 24759 | Q15: =(P15/$P$8)*100 -> 0.67058126 | R15: 114297 | S15: =(R15/$R$8)*100 -> 2.5735015
A16: 35 － 39 | B16: =SUM(D16,F16) -> 1912339 | C16: =(B16/$B$8)*100 -> 8.2141798 | D16: =SUM(J16,P16) -> 926517 | E16: =(D16/$D$8)*100 -> 8.0161524 | F16: =SUM(L16,R16) -> 985822 | G16: =(F16/$F$8)*100 -> 8.4094249 | H16: =J16+L16 -> 1770863 | I16: =(H16/$H$8)*100 -> 11.690812 | J16: 897829 | K16: =(J16/$J$8)*100 -> 11.414112 | L16: 873034 | M16: =(L16/$L$8)*100 -> 11.989722 | N16: =P16+R16 -> 141476 | O16: =(N16/$N$8)*100 -> 1.7394291 | P16: 28688 | Q16: =(P16/$P$8)*100 -> 0.77699564 | R16: 112788 | S16: =(R16/$R$8)*100 -> 2.539525
A17: 40 － 44 | B17: =SUM(D17,F17) -> 1839784 | C17: =(B17/$B$8)*100 -> 7.9025301 | D17: =SUM(J17,P17) -> 903344 | E17: =(D17/$D$8)*100 -> 7.8156615 | F17: =SUM(L17,R17) -> 936440 | G17: =(F17/$F$8)*100 -> 7.9881783 | H17: =J17+L17 -> 1688753 | I17: =(H17/$H$8)*100 -> 11.148742 | J17: 866100 | K17: =(J17/$J$8)*100 -> 11.01074 | L17: 822653 | M17: =(L17/$L$8)*100 -> 11.29782 | N17: =P17+R17 -> 151031 | O17: =(N17/$N$8)*100 -> 1.8569066 | P17: 37244 | Q17: =(P17/$P$8)*100 -> 1.0087293 | R17: 113787 | S17: =(R17/$R$8)*100 -> 2.5620184
A18: 45 － 49 | B18: =SUM(D18,F18) -> 1851949 | C18: =(B18/$B$8)*100 -> 7.9547831 | D18: =SUM(J18,P18) -> 918091 | E18: =(D18/$D$8)*100 -> 7.9432514 | F18: =SUM(L18,R18) -> 933858 | G18: =(F18/$F$8)*100 -> 7.9661529 | H18: =J18+L18 -> 1689836 | I18: =(H18/$H$8)*100 -> 11.155892 | J18: 871586 | K18: =(J18/$J$8)*100 -> 11.080484 | L18: 818250 | M18: =(L18/$L$8)*100 -> 11.237352 | N18: =P18+R18 -> 162113 | O18: =(N18/$N$8)*100 -> 1.9931584 | P18: 46505 | Q18: =(P18/$P$8)*100 -> 1.2595574 | R18: 115608 | S18: =(R18/$R$8)*100 -> 2.6030199
A19: 50 － 54 | B19: =SUM(D19,F19) -> 1799479 | C19: =(B19/$B$8)*100 -> 7.7294057 | D19: =SUM(J19,P19) -> 889884 | E19: =(D19/$D$8)*100 -> 7.6992066 | F19: =SUM(L19,R19) -> 909595 | G19: =(F19/$F$8)*100 -> 7.7591805 | H19: =J19+L19 -> 1573361 | I19: =(H19/$H$8)*100 -> 10.386952 | J19: 818227 | K19: =(J19/$J$8)*100 -> 10.40213 | L19: 755134 | M19: =(L19/$L$8)*100 -> 10.370554 | N19: =P19+R19 -> 226118 | O19: =(N19/$N$8)*100 -> 2.7800916 | P19: 71657 | Q19: =(P19/$P$8)*100 -> 1.9407828 | R19: 154461 | S19: =(R19/$R$8)*100 -> 3.4778307
A20: 55 － 59 | B20: =SUM(D20,F20) -> 1595877 | C20: =(B20/$B$8)*100 -> 6.8548623 | D20: =SUM(J20,P20) -> 782150 | E20: =(D20/$D$8)*100 -> 6.7671005 | F20: =SUM(L20,R20) -> 813727 | G20: =(F20/$F$8)*100 -> 6.9413912 | H20: =J20+L20 -> 1254746 | I20: =(H20/$H$8)*100 -> 8.2835319 | J20: 661239 | K20: =(J20/$J$8)*100 -> 8.4063399 | L20: 593507 | M20: =(L20/$L$8)*100 -> 8.1508669 | N20: =P20+R20 -> 341131 | O20: =(N20/$N$8)*100 -> 4.1941616 | P20: 120911 | Q20: =(P20/$P$8)*100 -> 3.274795 | R20: 220220 | S20: =(R20/$R$8)*100 -> 4.9584548
... A29: 100+ | B29: =SUM(D29,F29) -> 1752 | C29: =(B29/$B$8)*100 -> 0.0075254664 | D29: =SUM(J29,P29) -> 676 | E29: =(D29/$D$8)*100 -> 0.005848699 | F29: =SUM(L29,R29) -> 1076 | G29: =(F29/$F$8)*100 -> 0.0091786765 | H29: =J29+L29 -> 1062 | I29: =(H29/$H$8)*100 -> 0.007011069 | J29: 488 | K29: =(J29/$J$8)*100 -> 0.0062039503 | L29: 574 | M29: =(L29/$L$8)*100 -> 0.0078829695 | N29: =P29+R29 -> 690 | O29: =(N29/$N$8)*100 -> 0.0084834609 | P29: 188 | Q29: =(P29/$P$8)*100 -> 0.0050918566 | R29: 502 | S29: =(R29/$R$8)*100 -> 0.011302989
A30: 平均年齡 | B30: 38.33688 | D30: 37.747106 | F30: 38.918369 | H30: 43.751826 | J30: 43.922493 | L30: 43.567461 | N30: 28.252447 | P30: 24.590799 | R30: 31.29647

Sheet 100
A1: 保險對象人數－按年齡性別分 | K1: Beneficiaries by Gender and Age
A3: 單位：人 | D3: 中華民國100年底 | O3: End of 2011 | T3: Unit：Person
C4: 保險對象 Beneficiaries | K4: 被保險人 Insureds | O4: 眷屬 Dependents
C5: 合 計 Total | E5: 男 Male | G5: 女 Female | I5: 合 計 Total | K5: 男 Male | M5: 女 Female | O5: 合 計 Total | Q5: 男 Male | S5: 女 Female
C6: 人數 Number | D6: 百分比 % | E6: 人數 Number | F6: 百分比 % | G6: 人數 Number | H6: 百分比 % | I6: 人數 Number | J6: 百分比 % | K6: 人數 Number | L6: 百分比 % | M6: 人數 Number | N6: 百分比 % | O6: 人數 Number | P6: 百分比 % | Q6: 人數 Number | R6: 百分比 % | S6: 人數 Number | T6: 百分比 %
A7: 總 計 | B7: Grand Total | C7: 23198664 | D7: 100 | E7: 11529426 | F7: 100 | G7: 11669238 | H7: 100 | I7: 15044729 | J7: 100 | K7: 7819576 | L7: 100 | M7: 7225153 | N7: 100 | O7: 8153935 | P7: 100 | Q7: 3709850 | R7: 100 | S7: 4444085 | T7: 100
A8: 0－ 4 | C8: 928361 | D8: 4.0017865 | E8: 484284 | F8: 4.2004173 | G8: 444077 | H8: 3.8055355 | I8: 12393 | J8: 0.082374365 | K8: 6378 | L8: 0.081564525 | M8: 6015 | N8: 0.083250832 | O8: 915968 | P8: 11.233447 | Q8: 477906 | R8: 12.882084 | S8: 438062 | T8: 9.8571922
A9: 5－ 9 | C9: 1086665 | D9: 4.6841706 | E9: 568878 | F9: 4.9341398 | G9: 517787 | H9: 4.4371963 | I9: 33054 | J9: 0.21970485 | K9: 17026 | L9: 0.21773559 | M9: 16028 | N9: 0.22183613 | O9: 1053611 | P9: 12.921504 | Q9: 551852 | R9: 14.875318 | S9: 501759 | T9: 11.290491
A10: 10－ 14 | C10: 1412560 | D10: 6.0889713 | E10: 736730 | F10: 6.3899972 | G10: 675830 | H10: 5.7915521 | I10: 62150 | J10: 0.41310149 | K10: 31733 | L10: 0.40581484 | M10: 30417 | N10: 0.42098762 | O10: 1350410 | P10: 16.561452 | Q10: 704997 | R10: 19.003383 | S10: 645413 | T10: 14.522967
A11: 15－ 19 | C11: 1600160 | D11: 6.8976386 | E11: 833490 | F11: 7.2292411 | G11: 766670 | H11: 6.5700091 | I11: 215576 | J11: 1.4329005 | K11: 128250 | L11: 1.6401145 | M11: 87326 | N11: 1.2086388 | O11: 1384584 | P11: 16.980562 | Q11: 705240 | R11: 19.009933 | S11: 679344 | T11: 15.286476
A12: 20－ 24 | C12: 1645217 | D12: 7.091861 | E12: 846501 | F12: 7.3420914 | G12: 798716 | H12: 6.8446286 | I12: 962477 | J12: 6.3974366 | K12: 514755 | L12: 6.5829017 | M12: 447722 | N12: 6.1967131 | O12: 682740 | P12: 8.3731352 | Q12: 331746 | R12: 8.9423022 | S12: 350994 | T12: 7.8980038
A13: 25－ 29 | C13: 1858723 | D13: 8.0121985 | E13: 909972 | F13: 7.8926045 | G13: 948751 | H13: 8.1303595 | I13: 1709228 | J13: 11.360976 | K13: 861488 | L13: 11.017068 | M13: 847740 | N13: 11.733177 | O13: 149495 | P13: 1.8334093 | Q13: 48484 | R13: 1.3068992 | S13: 101011 | T13: 2.2729313
A14: 30－ 34 | C14: 2081058 | D14: 8.9705942 | E14: 1011262 | F14: 8.7711392 | G14: 1069796 | H14: 9.1676594 | I14: 1939106 | J14: 12.888939 | K14: 985936 | L14: 12.608561 | M14: 953170 | N14: 13.192385 | O14: 141952 | P14: 1.7409018 | Q14: 25326 | R14: 0.68266911 | S14: 116626 | T14: 2.6242972
A15: 35－ 39 | C15: 1879552 | D15: 8.1019838 | E15: 912505 | F15: 7.9145744 | G15: 967047 | H15: 8.2871478 | I15: 1731194 | J15: 11.50698 | K15: 882591 | L15: 11.286942 | M15: 848603 | N15: 11.745122 | O15: 148358 | P15: 1.8194651 | Q15: 29914 | R15: 0.80633988 | S15: 118444 | T15: 2.6652055
A16: 40－ 44 | C16: 1839496 | D16: 7.9293187 | E16: 908404 | F16: 7.8790046 | G16: 931092 | H16: 7.97903 | I16: 1680675 | J16: 11.171188 | K16: 869307 | L16: 11.117061 | M16: 811368 | N16: 11.229769 | O16: 158821 | P16: 1.9477835 | Q16: 39097 | R16: 1.0538701 | S16: 119724 | T16: 2.6940079
A17: 45－ 49 | C17: 1881473 | D17: 8.1102645 | E17: 933101 | F17: 8.093213 | G17: 948372 | H17: 8.1271116 | I17: 1711096 | J17: 11.373392 | K17: 884162 | L17: 11.307033 | M17: 826934 | N17: 11.445211 | O17: 170377 | P17: 2.0895065 | Q17: 48939 | R17: 1.3191638 | S17: 121438 | T17: 2.732576
A18: 50－ 54 | C18: 1765665 | D18: 7.6110633 | E18: 872742 | F18: 7.5696917 | G18: 892923 | H18: 7.6519392 | I18: 1546788 | J18: 10.281262 | K18: 802869 | L18: 10.267424 | M18: 743919 | N18: 10.296239 | O18: 218877 | P18: 2.6843113 | Q18: 69873 | R18: 1.8834454 | S18: 149004 | T18: 3.3528612
A19: 55－ 59 | C19: 1573711 | D19: 6.7836277 | E19: 772016 | F19: 6.6960489 | G19: 801695 | H19: 6.8701572 | I19: 1249272 | J19: 8.3037189 | K19: 654753 | L19: 8.3732545 | M19: 594519 | N19: 8.2284624 | O19: 324439 | P19: 3.9789255 | Q19: 117263 | R19: 3.1608556 | S19: 207176 | T19: 4.661837
... A27: 95－ 99 | C27: 11792 | D27: 0.050830513 | E27: 4771 | F27: 0.041381071 | G27: 7021 | H27: 0.060166739 | I27: 7455 | J27: 0.049552239 | K27: 3555 | L27: 0.045462823 | M27: 3900 | N27: 0.053978096 | O27: 4337 | P27: 0.053189043 | Q27: 1216 | R27: 0.032777606 | S27: 3121 | T27: 0.07022818
C28: 1416 | D28: 0.0061037998 | E28: 466 | F28: 0.0040418317 | G28: 950 | H28: 0.0081410629 | I28: 806 | J28: 0.005357358 | K28: 325 | L28: 0.0041562356 | M28: 481 | N28: 0.0066572985 | O28: 610 | P28: 0.0074810506 | Q28: 141 | R28: 0.0038006928 | S28: 469 | T28: 0.010553354
A29: 平均年齡 | B29: mean | C29: 37.97 | E29: 37.42 | G29: 38.51 | I29: 43.6 | K29: 43.77 | M29: 43.41 | O29: 27.58 | Q29: 24.02 | S29: 30.55

Sheet 99
A1: 保險對象人數－按年齡性別分 | K1: Beneficiaries by Gender and Age
A3: 單位：人 | D3: 中華民國99年底 | O3: End of 2010 | T3: Unit：Person
C4: 保險對象 Beneficiaries | K4: 被保險人 Insureds | O4: 眷屬 Dependents
C5: 合 計 Total | E5: 男 Male | G5: 女 Female | I5: 合 計 Total | K5: 男 Male | M5: 女 Female | O5: 合 計 Total | Q5: 男 Male | S5: 女 Female
C6: 人數 Number | D6: 百分比 % | E6: 人數 Number | F6: 百分比 % | G6: 人數 Number | H6: 百分比 % | I6: 人數 Number | J6: 百分比 % | K6: 人數 Number | L6: 百分比 % | M6: 人數 Number | N6: 百分比 % | O6: 人數 Number | P6: 百分比 % | Q6: 人數 Number | R6: 百分比 % | S6: 人數 Number | T6: 百分比 %
A7: 總 計 | B7: Grand Total | C7: 23074487 | D7: 100 | E7: 11476860 | F7: 100 | G7: 11597627 | H7: 100 | I7: 14757430 | J7: 100 | K7: 7692802 | L7: 100 | M7: 7064628 | N7: 100 | O7: 8317057 | P7: 100 | Q7: 3784058 | R7: 100 | S7: 4532999 | T7: 100
A8: 0－ 4 | C8: 937999 | D8: 4.0650915 | E8: 490257 | F8: 4.2716998 | G8: 447742 | H8: 3.8606346 | I8: 10948 | J8: 0.074186359 | K8: 5720 | L8: 0.074355222 | M8: 5228 | N8: 0.074002481 | O8: 927051 | P8: 11.146383 | Q8: 484537 | R8: 12.804693 | S8: 442514 | T8: 9.7620582
A9: 5－ 9 | C9: 1134868 | D9: 4.9182805 | E9: 593667 | F9: 5.1727302 | G9: 541201 | H9: 4.6664805 | I9: 30892 | J9: 0.20933184 | K9: 15912 | L9: 0.20684271 | M9: 14980 | N9: 0.2120423 | O9: 1103976 | P9: 13.273638 | Q9: 577755 | R9: 15.268133 | S9: 526221 | T9: 11.608672
A10: 10－ 14 | C10: 1474898 | D10: 6.3918994 | E10: 769088 | F10: 6.7012057 | G10: 705810 | H10: 6.0858139 | I10: 58143 | J10: 0.39399137 | K10: 29555 | L10: 0.38419031 | M10: 28588 | N10: 0.40466391 | O10: 1416755 | P10: 17.034331 | Q10: 739533 | R10: 19.543384 | S10: 677222 | T10: 14.939822
A11: 15－ 19 | C11: 1592050 | D11: 6.8996117 | E11: 830246 | F11: 7.2340867 | G11: 761804 | H11: 6.5686196 | I11: 203504 | J11: 1.3789935 | K11: 122904 | L11: 1.5976493 | M11: 80600 | N11: 1.1408952 | O11: 1388546 | P11: 16.69516 | Q11: 707342 | R11: 18.692684 | S11: 681204 | T11: 15.027667
A12: 20－ 24 | C12: 1621449 | D12: 7.0270208 | E12: 826847 | F12: 7.2044706 | G12: 794602 | H12: 6.8514188 | I12: 921466 | J12: 6.2440818 | K12: 489147 | L12: 6.3585024 | M12: 432319 | N12: 6.1194871 | O12: 699983 | P12: 8.4162343 | Q12: 337700 | R12: 8.9242818 | S12: 362283 | T12: 7.9921262
A13: 25－ 29 | C13: 1955154 | D13: 8.4732285 | E13: 954129 | F13: 8.3135021 | G13: 1001025 | H13: 8.6312916 | I13: 1783818 | J13: 12.087592 | K13: 899499 | L13: 11.692736 | M13: 884319 | N13: 12.517559 | O13: 171336 | P13: 2.0600556 | Q13: 54630 | R13: 1.4436882 | S13: 116706 | T13: 2.5745869
A14: 30－ 34 | C14: 2077263 | D14: 9.0024233 | E14: 1009575 | F14: 8.7966134 | G14: 1067688 | H14: 9.2060902 | I14: 1922664 | J14: 13.028447 | K14: 981720 | L14: 12.76154 | M14: 940944 | N14: 13.319088 | O14: 154599 | P14: 1.8588186 | Q14: 27855 | R14: 0.73611451 | S14: 126744 | T14: 2.7960297
A15: 35－ 39 | C15: 1819069 | D15: 7.8834645 | E15: 883931 | F15: 7.701854 | G15: 935138 | H15: 8.063184 | I15: 1660626 | J15: 11.252813 | K15: 851680 | L15: 11.071129 | M15: 808946 | N15: 11.450652 | O15: 158443 | P15: 1.9050368 | Q15: 32251 | R15: 0.85228609 | S15: 126192 | T15: 2.7838524
A16: 40－ 44 | C16: 1852637 | D16: 8.0289412 | E16: 917040 | F16: 7.9903388 | G16: 935597 | H16: 8.0671417 | I16: 1681792 | J16: 11.396239 | K16: 873927 | L16: 11.360321 | M16: 807865 | N16: 11.435351 | O16: 170845 | P16: 2.0541521 | Q16: 43113 | R16: 1.1393324 | S16: 127732 | T16: 2.8178255
A17: 45－ 49 | C17: 1874584 | D17: 8.1240549 | E17: 930636 | F17: 8.1088033 | G17: 943948 | H17: 8.1391478 | I17: 1696341 | J17: 11.494827 | K17: 879412 | L17: 11.431621 | M17: 816929 | N17: 11.563652 | O17: 178243 | P17: 2.1431018 | Q17: 51224 | R17: 1.353679 | S17: 127019 | T17: 2.8020964
A18: 50－ 54 | C18: 1741129 | D18: 7.5456889 | E18: 860353 | F18: 7.4964145 | G18: 880776 | H18: 7.5944501 | I18: 1513005 | J18: 10.252497 | K18: 786586 | L18: 10.224961 | M18: 726419 | N18: 10.282481 | O18: 228124 | P18: 2.7428452 | Q18: 73767 | R18: 1.9494152 | S18: 154357 | T18: 3.405185
A19: 55－ 59 | C19: 1535484 | D19: 6.6544665 | E19: 753318 | F19: 6.5637988 | G19: 782166 | H19: 6.74419 | I19: 1202399 | J19: 8.1477534 | K19: 632673 | L19: 8.2242205 | M19: 569726 | N19: 8.0644869 | O19: 333085 | P19: 4.0048421 | Q19: 120645 | R19: 3.1882439 | S19: 212440 | T19: 4.6865221
... A27: 95－ 99 | C27: 11053 | D27: 0.04790139 | E27: 4385 | F27: 0.038207315 | G27: 6668 | H27: 0.05749452 | I27: 6945 | J27: 0.04706104 | K27: 3278 | L27: 0.042611262 | M27: 3667 | N27: 0.051906484 | O27: 4108 | P27: 0.049392471 | Q27: 1107 | R27: 0.029254308 | S27: 3001 | T27: 0.066203412
C28: 1330 | D28: 0.0057639418 | E28: 447 | F28: 0.0038947935 | G28: 883 | H28: 0.0076136265 | I28: 800 | J28: 0.0054209981 | K28: 339 | L28: 0.0044067168 | M28: 461 | N28: 0.0065254674 | O28: 530 | P28: 0.0063724464 | Q28: 108 | R28: 0.0028540789 | S28: 422 | T28: 0.0093095101
A29: 平均年齡 | B29: mean | C29: 37.52 | E29: 37.02 | G29: 38.02 | I29: 43.43 | K29: 43.64 | M29: 43.19 | O29: 27.05 | Q29: 23.55 | S29: 29.97

Sheet 98
A1: 保險對象人數－按年齡性別分 | K1: Beneficiaries by Gender and Age
A3: 單位：人 | D3: 中華民國98年底 | O3: End of 2009 | T3: Unit：Person
C4: 保險對象 Beneficiaries | K4: 被保險人 Insureds | O4: 眷屬 Dependents
C5: 合 計 Total | E5: 男 Male | G5: 女 Female | I5: 合 計 Total | K5: 男 Male | M5: 女 Female | O5: 合 計 Total | Q5: 男 Male | S5: 女 Female
C6: 人數 Number | D6: 百分比 % | E6: 人數 Number | F6: 百分比 % | G6: 人數 Number | H6: 百分比 % | I6: 人數 Number | J6: 百分比 % | K6: 人數 Number | L6: 百分比 % | M6: 人數 Number | N6: 百分比 % | O6: 人數 Number | P6: 百分比 % | Q6: 人數 Number | R6: 百分比 % | S6: 人數 Number | T6: 百分比 %
A7: 總 計 | B7: Grand Total | C7: 23025773 | D7: 100 | E7: 11469545 | F7: 100 | G7: 11556228 | H7: 100 | I7: 14487278 | J7: 100 | K7: 7584595 | L7: 100 | M7: 6902683 | N7: 100 | O7: 8538495 | P7: 100 | Q7: 3884950 | R7: 100 | S7: 4653545 | T7: 100
A8: 0－ 4 | C8: 977578 | D8: 4.2455817 | E8: 510761 | F8: 4.4531932 | G8: 466817 | H8: 4.0395274 | I8: 10956 | J8: 0.075624972 | K8: 5756 | L8: 0.07589067 | M8: 5200 | N8: 0.075333026 | O8: 966622 | P8: 11.320754 | Q8: 505005 | R8: 12.999009 | S8: 461617 | T8: 9.9196849
A9: 5－ 9 | C9: 1232949 | D9: 5.3546476 | E9: 645137 | F9: 5.6247828 | G9: 587812 | H9: 5.0865386 | I9: 32035 | J9: 0.22112505 | K9: 16419 | L9: 0.21647827 | M9: 15616 | N9: 0.22623087 | O9: 1200914 | P9: 14.064703 | Q9: 628718 | R9: 16.183426 | S9: 572196 | T9: 12.295916
A10: 10－ 14 | C10: 1493582 | D10: 6.4865662 | E10: 777717 | F10: 6.7807136 | G10: 715865 | H10: 6.1946251 | I10: 55961 | J10: 0.38627684 | K10: 28448 | L10: 0.37507606 | M10: 27513 | N10: 0.39858414 | O10: 1437621 | P10: 16.836937 | Q10: 749269 | R10: 19.286452 | S10: 688352 | T10: 14.791992
A11: 15－ 19 | C11: 1601832 | D11: 6.9566915 | E11: 836626 | F11: 7.294326 | G11: 765206 | H11: 6.6215897 | I11: 186346 | J11: 1.2862734 | K11: 112863 | L11: 1.4880557 | M11: 73483 | N11: 1.0645571 | O11: 1415486 | P11: 16.577699 | Q11: 723763 | R11: 18.629918 | S11: 691723 | T11: 14.864431
A12: 20－ 24 | C12: 1620951 | D12: 7.0397246 | E12: 818839 | F12: 7.1392457 | G12: 802112 | H12: 6.9409499 | I12: 914244 | J12: 6.3106679 | K12: 479425 | L12: 6.3210363 | M12: 434819 | N12: 6.2992752 | O12: 706707 | P12: 8.2767162 | Q12: 339414 | R12: 8.7366375 | S12: 367293 | T12: 7.892757
A13: 25－ 29 | C13: 2012107 | D13: 8.7384992 | E13: 979891 | F13: 8.5434165 | G13: 1032216 | H13: 8.9321187 | I13: 1821869 | J13: 12.575647 | K13: 921402 | L13: 12.148335 | M13: 900467 | N13: 13.045174 | O13: 190238 | P13: 2.2280039 | Q13: 58489 | R13: 1.5055277 | S13: 131749 | T13: 2.8311535
A14: 30－ 34 | C14: 2029573 | D14: 8.8143534 | E14: 986886 | F14: 8.6044041 | G14: 1042687 | H14: 9.0227278 | I14: 1859299 | J14: 12.834012 | K14: 955740 | L14: 12.601068 | M14: 903559 | N14: 13.089968 | O14: 170274 | P14: 1.9941922 | Q14: 31146 | R14: 0.80170916 | S14: 139128 | T14: 2.9897207
A15: 35－ 39 | C15: 1829126 | D15: 7.9438202 | E15: 893190 | F15: 7.7874929 | G15: 935936 | H15: 8.0989749 | I15: 1652401 | J15: 11.405876 | K15: 856427 | L15: 11.291664 | M15: 795974 | N15: 11.531371 | O15: 176725 | P15: 2.0697441 | Q15: 36763 | R15: 0.94629275 | S15: 139962 | T15: 3.0076426
A16: 40－ 44 | C16: 1856878 | D16: 8.064346 | E16: 921899 | F16: 8.0377992 | G16: 934979 | H16: 8.0906936 | I16: 1674177 | J16: 11.556187 | K16: 875070 | L16: 11.537465 | M16: 799107 | N16: 11.576759 | O16: 182701 | P16: 2.1397331 | Q16: 46829 | R16: 1.2053952 | S16: 135872 | T16: 2.9197526
A17: 45－ 49 | C17: 1873658 | D17: 8.1372208 | E17: 932157 | F17: 8.1272361 | G17: 941501 | H17: 8.1471307 | I17: 1685980 | J17: 11.637659 | K17: 877661 | L17: 11.571626 | M17: 808319 | N17: 11.710215 | O17: 187678 | P17: 2.198022 | Q17: 54496 | R17: 1.4027465 | S17: 133182 | T17: 2.8619472
A18: 50－ 54 | C18: 1716290 | D18: 7.453778 | E18: 848681 | F18: 7.3994304 | G18: 867609 | H18: 7.5077179 | I18: 1479038 | J18: 10.209219 | K18: 771215 | L18: 10.168176 | M18: 707823 | N18: 10.254317 | O18: 237252 | P18: 2.7786161 | Q18: 77466 | R18: 1.9940025 | S18: 159786 | T18: 3.4336404
A19: 55－ 59 | C19: 1462871 | D19: 6.3531895 | E19: 718538 | F19: 6.2647472 | G19: 744333 | H19: 6.4409685 | I19: 1128030 | J19: 7.7863488 | K19: 597053 | L19: 7.8719167 | M19: 530977 | N19: 7.6923278 | O19: 334841 | P19: 3.9215459 | Q19: 121485 | R19: 3.1270673 | S19: 213356 | T19: 4.5848058
... A27: 95－ 99 | C27: 10227 | D27: 0.044415447 | E27: 4018 | F27: 0.035031904 | G27: 6209 | H27: 0.053728604 | I27: 6366 | J27: 0.043942002 | K27: 2956 | L27: 0.038973736 | M27: 3410 | N27: 0.049401081 | O27: 3861 | P27: 0.045218742 | Q27: 1062 | R27: 0.027336259 | S27: 2799 | T27: 0.060147694
C28: 1189 | D28: 0.0051637789 | E28: 375 | F28: 0.0032695281 | G28: 814 | H28: 0.0070438209 | I28: 702 | J28: 0.0048456308 | K28: 285 | L28: 0.0037576166 | M28: 417 | N28: 0.0060411292 | O28: 487 | P28: 0.0057035813 | Q28: 90 | R28: 0.0023166321 | S28: 397 | T28: 0.0085311306
A29: 平均年齡 | B29: mean | C29: 37.03 | E29: 36.56 | G29: 37.49 | I29: 43.25 | K29: 43.5 | M29: 42.97 | O29: 26.47 | Q29: 23.01 | S29: 29.35

Sheet 97
A1: 保險對象人數－按年齡性別分 | K1: Beneficiaries by Gender and Age
A3: 單位：人 | D3: 中華民國97年底 | O3: End of 2008 | T3: Unit：Person
C4: 保險對象 Beneficiaries | K4: 被保險人 Insureds | O4: 眷屬 Dependents
C5: 合 計 Total | E5: 男 Male | G5: 女 Female | I5: 合 計 Total | K5: 男 Male | M5: 女 Female | O5: 合 計 Total | Q5: 男 Male | S5: 女 Female
C6: 人數 Number | D6: 百分比 % | E6: 人數 Number | F6: 百分比 % | G6: 人數 Number | H6: 百分比 % | I6: 人數 Number | J6: 百分比 % | K6: 人數 Number | L6: 百分比 % | M6: 人數 Number | N6: 百分比 % | O6: 人數 Number | P6: 百分比 % | Q6: 人數 Number | R6: 百分比 % | S6: 人數 Number | T6: 百分比 %
A7: 總 計 | B7: Grand Total | C7: 22918144 | D7: 100 | E7: 11431857 | F7: 100 | G7: 11486287 | H7: 100 | I7: 14238210 | J7: 100 | K7: 7500871 | L7: 100 | M7: 6737339 | N7: 100 | O7: 8679934 | P7: 100 | Q7: 3930986 | R7: 100 | S7: 4748948 | T7: 100
A8: 0－ 4 | C8: 994867 | D8: 4.340958 | E8: 520783 | F8: 4.5555416 | G8: 474084 | H8: 4.1273912 | I8: 9888 | J8: 0.069446932 | K8: 5175 | L8: 0.068991988 | M8: 4713 | N8: 0.069953434 | O8: 984979 | P8: 11.347771 | Q8: 515608 | R8: 13.116506 | S8: 469371 | T8: 9.8836837
A9: 5－ 9 | C9: 1292486 | D9: 5.6395754 | E9: 675646 | F9: 5.9102034 | G9: 616840 | H9: 5.3702297 | I9: 29364 | J9: 0.20623379 | K9: 15191 | L9: 0.20252315 | M9: 14173 | N9: 0.21036495 | O9: 1263122 | P9: 14.552207 | Q9: 660455 | R9: 16.801255 | S9: 602667 | T9: 12.690537
A10: 10－ 14 | C10: 1528135 | D10: 6.6677956 | E10: 795199 | F10: 6.9559915 | G10: 732936 | H10: 6.3809654 | I10: 51916 | J10: 0.36462449 | K10: 26113 | L10: 0.3481329 | M10: 25803 | N10: 0.38298503 | O10: 1476219 | P10: 17.007261 | Q10: 769086 | R10: 19.56471 | S10: 707133 | T10: 14.890308
A11: 15－ 19 | C11: 1586321 | D11: 6.9216818 | E11: 828436 | F11: 7.2467317 | G11: 757885 | H11: 6.5981722 | I11: 185502 | J11: 1.3028464 | K11: 111422 | L11: 1.4854542 | M11: 74080 | N11: 1.0995439 | O11: 1400819 | P11: 16.13859 | Q11: 717014 | R11: 18.240055 | S11: 683805 | T11: 14.399084
A12: 20－ 24 | C12: 1686291 | D12: 7.3578864 | E12: 847759 | F12: 7.4157593 | G12: 838532 | H12: 7.3002877 | I12: 949548 | J12: 6.6690125 | K12: 497770 | L12: 6.6361627 | M12: 451778 | N12: 6.7055851 | O12: 736743 | P12: 8.4878871 | Q12: 349989 | R12: 8.9033388 | S12: 386754 | T12: 8.1439932
A13: 25－ 29 | C13: 2051033 | D13: 8.9493853 | E13: 998169 | F13: 8.7314686 | G13: 1052864 | H13: 9.1662693 | I13: 1832113 | J13: 12.86758 | K13: 931523 | L13: 12.418864 | M13: 900590 | N13: 13.367147 | O13: 218920 | P13: 2.522139 | Q13: 66646 | R13: 1.6954016 | S13: 152274 | T13: 3.2064786
A14: 30－ 34 | C14: 1961673 | D14: 8.5594758 | E14: 953614 | F14: 8.3417244 | G14: 1008059 | H14: 8.7761955 | I14: 1775304 | J14: 12.46859 | K14: 920435 | L14: 12.271042 | M14: 854869 | N14: 12.688526 | O14: 186369 | P14: 2.1471246 | Q14: 33179 | R14: 0.8440376 | S14: 153190 | T14: 3.2257671
A15: 35－ 39 | C15: 1842117 | D15: 8.0378106 | E15: 903538 | F15: 7.9036853 | G15: 938579 | H15: 8.1713003 | I15: 1647195 | J15: 11.568835 | K15: 863988 | L15: 11.518502 | M15: 783207 | N15: 11.624871 | O15: 194922 | P15: 2.2456622 | Q15: 39550 | R15: 1.0061089 | S15: 155372 | T15: 3.2717141
A16: 40－ 44 | C16: 1863275 | D16: 8.1301304 | E16: 927363 | F16: 8.1120941 | G16: 935912 | H16: 8.1480813 | I16: 1668151 | J16: 11.716016 | K16: 878574 | L16: 11.71296 | M16: 789577 | N16: 11.719419 | O16: 195124 | P16: 2.2479894 | Q16: 48789 | R16: 1.241139 | S16: 146335 | T16: 3.0814193
A17: 45－ 49 | C17: 1861213 | D17: 8.1211332 | E17: 925744 | F17: 8.0979319 | G17: 935469 | H17: 8.1442245 | I17: 1666247 | J17: 11.702644 | K17: 871055 | L17: 11.612718 | M17: 795192 | N17: 11.802761 | O17: 194966 | P17: 2.2461692 | Q17: 54689 | R17: 1.3912286 | S17: 140277 | T17: 2.9538542
A18: 50－ 54 | C18: 1674608 | D18: 7.3069093 | E18: 827875 | F18: 7.2418243 | G18: 846733 | H18: 7.3716859 | I18: 1435429 | J18: 10.081527 | K18: 750883 | L18: 10.010611 | M18: 684546 | N18: 10.16048 | O18: 239179 | P18: 2.7555394 | Q18: 76992 | R18: 1.9585926 | S18: 162187 | T18: 3.4152195
A19: 55－ 59 | C19: 1386617 | D19: 6.0503023 | E19: 682386 | F19: 5.9691614 | G19: 704231 | H19: 6.1310587 | I19: 1058263 | J19: 7.4325565 | K19: 565412 | L19: 7.5379513 | M19: 492851 | N19: 7.3152175 | O19: 328354 | P19: 3.7829089 | Q19: 116974 | R19: 2.9756911 | S19: 211380 | T19: 4.4510911
... A27: 95－ 99 | C27: 9196 | D27: 0.040125413 | E27: 3560 | F27: 0.031141047 | G27: 5636 | H27: 0.049067205 | I27: 5721 | J27: 0.040180613 | K27: 2618 | L27: 0.034902613 | M27: 3103 | N27: 0.046056759 | O27: 3475 | P27: 0.040034867 | Q27: 942 | R27: 0.023963453 | S27: 2533 | T27: 0.053338129
C28: 1050 | D28: 0.0045815228 | E28: 342 | F28: 0.0029916399 | G28: 708 | H28: 0.0061638718 | I28: 631 | J28: 0.0044317369 | K28: 261 | L28: 0.0034795959 | M28: 370 | N28: 0.0054917824 | O28: 419 | P28: 0.0048272256 | Q28: 81 | R28: 0.0020605517 | S28: 338 | T28: 0.0071173658
A29: 平均年齡 | B29: mean | C29: 36.57 | E29: 36.14 | G29: 36.99 | I29: 43.08 | K29: 43.35 | M29: 42.78 | O29: 25.9 | Q29: 22.4 | S29: 28.79

Sheet 96
A1: 保險對象人數－按年齡性別分 | K1: Beneficiaries by Gender and Age
D3: 中華民國96年底 | I3: 單位：人 | O3: End of 2007 | T3: Unit：Person
C4: 保險對象 Beneficiaries | K4: 被保險人 Insureds | O4: 眷屬 Dependents
C5: 合 計 Total | E5: 男 Male | G5: 女 Female | I5: 合 計 Total | K5: 男 Male | M5: 女 Female | O5: 合 計 Total | Q5: 男 Male | S5: 女 Female
C6: 人數 Number | D6: 百分比 % | E6: 人數 Number | F6: 百分比 % | G6: 人數 Number | H6: 百分比 % | I6: 人數 Number | J6: 百分比 % | K6: 人數 Number | L6: 百分比 % | M6: 人數 Number | N6: 百分比 % | O6: 人數 Number | P6: 百分比 % | Q6: 人數 Number | R6: 百分比 % | S6: 人數 Number | T6: 百分比 %
A7: 總 計 | B7: Grand Total | C7: 22803048 | D7: 100 | E7: 11387207 | F7: 100 | G7: 11415841 | H7: 100 | I7: 14076979 | J7: 100 | K7: 7442924 | L7: 100 | M7: 6634055 | N7: 100 | O7: 8726069 | P7: 100 | Q7: 3944283 | R7: 100 | S7: 4781786 | T7: 100
A8: 0－ 4 | C8: 1021737 | D8: 4.4807036 | E8: 535154 | F8: 4.6996072 | G8: 486583 | H8: 4.2623491 | I8: 9889 | J8: 0.070249448 | K8: 5121 | L8: 0.068803605 | M8: 4768 | N8: 0.071871578 | O8: 1011848 | P8: 11.595691 | Q8: 530033 | R8: 13.438006 | S8: 481815 | T8: 10.076047
A9: 5－ 9 | C9: 1329296 | D9: 5.8294663 | E9: 694090 | F9: 6.0953489 | G9: 635206 | H9: 5.5642506 | I9: 29789 | J9: 0.21161501 | K9: 15285 | L9: 0.20536284 | M9: 14504 | N9: 0.21862948 | O9: 1299507 | P9: 14.892238 | Q9: 678805 | R9: 17.209845 | S9: 620702 | T9: 12.980547
A10: 10－ 14 | C10: 1582481 | D10: 6.9397784 | E10: 823019 | F10: 7.2275756 | G10: 759462 | H10: 6.652703 | I10: 51438 | J10: 0.36540511 | K10: 25929 | L10: 0.34837115 | M10: 25509 | N10: 0.38451596 | O10: 1531043 | P10: 17.545621 | Q10: 797090 | R10: 20.208743 | S10: 733953 | T10: 15.34893
A11: 15－ 19 | C11: 1593373 | D11: 6.9875439 | E11: 831886 | F11: 7.3054437 | G11: 761487 | H11: 6.6704415 | I11: 195362 | J11: 1.387812 | K11: 116465 | L11: 1.5647748 | M11: 78897 | N11: 1.1892726 | O11: 1398011 | P11: 16.021086 | Q11: 715421 | R11: 18.138176 | S11: 682590 | T11: 14.274792
A12: 20－ 24 | C12: 1715471 | D12: 7.5229899 | E12: 853081 | F12: 7.4915737 | G12: 862390 | H12: 7.5543274 | I12: 981598 | J12: 6.9730728 | K12: 507949 | L12: 6.8245894 | M12: 473649 | N12: 7.1396604 | O12: 733873 | P12: 8.4101214 | Q12: 345132 | R12: 8.7501835 | S12: 388741 | T12: 8.1296194
A13: 25－ 29 | C13: 2072669 | D13: 9.0894384 | E13: 1006761 | F13: 8.8411583 | G13: 1065908 | H13: 9.3370957 | I13: 1836672 | J13: 13.047345 | K13: 934960 | L13: 12.56173 | M13: 901712 | N13: 13.592169 | O13: 235997 | P13: 2.7045053 | Q13: 71801 | R13: 1.8203815 | S13: 164196 | T13: 3.4337798
A14: 30－ 34 | C14: 1911264 | D14: 8.3816164 | E14: 930124 | F14: 8.1681487 | G14: 981140 | H14: 8.5945486 | I14: 1714903 | J14: 12.182323 | K14: 895860 | L14: 12.036399 | M14: 819043 | N14: 12.346039 | O14: 196361 | P14: 2.2502802 | Q14: 34264 | R14: 0.86870034 | S14: 162097 | T14: 3.389884
A15: 35－ 39 | C15: 1857116 | D15: 8.1441569 | E15: 915125 | F15: 8.0364307 | G15: 941991 | H15: 8.2516128 | I15: 1645327 | J15: 11.688069 | K15: 872723 | L15: 11.72554 | M15: 772604 | N15: 11.646029 | O15: 211789 | P15: 2.4270837 | Q15: 42402 | R15: 1.0750243 | S15: 169387 | T15: 3.5423375
A16: 40－ 44 | C16: 1873865 | D16: 8.2176076 | E16: 934081 | F16: 8.2028982 | G16: 939784 | H16: 8.23228 | I16: 1664335 | J16: 11.823098 | K16: 882770 | L16: 11.860527 | M16: 781565 | N16: 11.781105 | O16: 209530 | P16: 2.4011958 | Q16: 51311 | R16: 1.3008955 | S16: 158219 | T16: 3.3087846
A17: 45－ 49 | C17: 1827310 | D17: 8.0134463 | E17: 910259 | F17: 7.9936985 | G17: 917051 | H17: 8.0331445 | I17: 1623689 | J17: 11.534357 | K17: 854705 | L17: 11.483457 | M17: 768984 | N17: 11.591463 | O17: 203621 | P17: 2.3334791 | Q17: 55554 | R17: 1.4084689 | S17: 148067 | T17: 3.096479
A18: 50－ 54 | C18: 1631089 | D18: 7.1529429 | E18: 806586 | F18: 7.0832646 | G18: 824503 | H18: 7.2224464 | I18: 1403525 | J18: 9.9703566 | K18: 734212 | L18: 9.864564 | M18: 669313 | N18: 10.089048 | O18: 227564 | P18: 2.6078639 | Q18: 72374 | R18: 1.8349089 | S18: 155190 | T18: 3.2454401
A19: 55－ 59 | C19: 1295638 | D19: 5.6818632 | E19: 638275 | F19: 5.6051936 | G19: 657363 | H19: 5.7583405 | I19: 1009985 | J19: 7.1747283 | K19: 536875 | L19: 7.213227 | M19: 473110 | N19: 7.1315357 | O19: 285653 | P19: 3.2735588 | Q19: 101400 | R19: 2.5708094 | S19: 184253 | T19: 3.8532256
... A27: 95－ 99 | C27: 8348 | D27: 0.036609141 | E27: 3190 | F27: 0.028013893 | G27: 5158 | H27: 0.04518283 | I27: 5186 | J27: 0.036840291 | K27: 2378 | L27: 0.031949809 | M27: 2808 | N27: 0.042327053 | O27: 3162 | P27: 0.036236248 | Q27: 812 | R27: 0.020586758 | S27: 2350 | T27: 0.049144817
C28: 1010 | D28: 0.0044292324 | E28: 349 | F28: 0.0030648429 | G28: 661 | H28: 0.0057901998 | I28: 605 | J28: 0.0042977971 | K28: 265 | L28: 0.0035604287 | M28: 340 | N28: 0.0051250706 | O28: 405 | P28: 0.0046412652 | Q28: 84 | R28: 0.0021296646 | S28: 321 | T28: 0.0067129729
A29: 平均年齡 | B29: mean | C29: 36.12 | E29: 35.75 | G29: 36.5 | I29: 42.92 | K29: 43.23 | M29: 42.59 | O29: 25.16 | Q29: 21.65 | S29: 28.05

Sheet 95
A1: 保險對象人數－按年齡性別分 | K1: Beneficiaries by Gender and Age
D3: 中華民國九十五年底 | I3: 單位：人 | O3: End of 2006 | T3: Unit：Person
C4: 保險對象 Beneficiaries | K4: 被保險人 Insureds | O4: 眷屬 Dependents
C5: 合 計 Total | E5: 男 Male | G5: 女 Female | I5: 合 計 Total | K5: 男 Male | M5: 女 Female | O5: 合 計 Total | Q5: 男 Male | S5: 女 Female
C6: 人數 Number | D6: 百分比 % | E6: 人數 Number | F6: 百分比 % | G6: 人數 Number | H6: 百分比 % | I6: 人數 Number | J6: 百分比 % | K6: 人數 Number | L6: 百分比 % | M6: 人數 Number | N6: 百分比 % | O6: 人數 Number | P6: 百分比 % | Q6: 人數 Number | R6: 百分比 % | S6: 人數 Number | T6: 百分比 %
A7: 總 計 | B7: Grand Total | C7: =SUM(E7,G7) -> 22484427 | D7: =(C7/C7)*100 -> 100 | E7: =SUM(E8:E28) -> 11146116 | F7: =(E7/E7)*100 -> 100 | G7: =SUM(G8:G28) -> 11338311 | H7: =(G7/G7)*100 -> 100 | I7: =SUM(I8:I28) -> 13668247 | J7: =(I7/I7)*100 -> 100 | K7: =SUM(K8:K28) -> 7168995 | L7: =(K7/K7)*100 -> 100 | M7: =SUM(M8:M28) -> 6499252 | N7: =(M7/M7)*100 -> 100 | O7: =Q7+S7 -> 8816180 | P7: =(O7/O7)*100 -> 100 | Q7: =SUM(Q8:Q28) -> 3977121 | R7: =(Q7/Q7)*100 -> 100 | S7: =SUM(S8:S28) -> 4839059 | T7: =(S7/S7)*100 -> 100
A8: 0－ 4 | C8: =SUM(E8,G8) -> 1059786 | D8: =(C8/$C$7)*100 -> 4.7134223 | E8: =K8+Q8 -> 555148 | F8: =(E8/$E$7)*100 -> 4.9806408 | G8: =M8+S8 -> 504638 | H8: =(G8/$G$7)*100 -> 4.4507334 | I8: =K8+M8 -> 10545 | J8: =(I8/$I$7)*100 -> 0.077149615 | K8: 5496 | L8: =(K8/$K$7)*100 -> 0.076663465 | M8: 5049 | N8: =(M8/$M$7)*100 -> 0.077685863 | O8: =Q8+S8 -> 1049241 | P8: =(O8/$O$7)*100 -> 11.901311 | Q8: 549652 | R8: =(Q8/$Q$7)*100 -> 13.820349 | S8: 499589 | T8: =(S8/$S$7)*100 -> 10.324094
A9: 5－ 9 | C9: =SUM(E9,G9) -> 1401953 | D9: =(C9/$C$7)*100 -> 6.2352178 | E9: =K9+Q9 -> 731378 | F9: =(E9/$E$7)*100 -> 6.5617297 | G9: =M9+S9 -> 670575 | H9: =(G9/$G$7)*100 -> 5.9142407 | I9: =K9+M9 -> 31323 | J9: =(I9/$I$7)*100 -> 0.22916618 | K9: 16004 | L9: =(K9/$K$7)*100 -> 0.2232391 | M9: 15319 | N9: =(M9/$M$7)*100 -> 0.23570405 | O9: =Q9+S9 -> 1370630 | P9: =(O9/$O$7)*100 -> 15.546756 | Q9: 715374 | R9: =(Q9/$Q$7)*100 -> 17.987232 | S9: 655256 | T9: =(S9/$S$7)*100 -> 13.54098
A10: 10－ 14 | C10: =SUM(E10,G10) -> 1575401 | D10: =(C10/$C$7)*100 -> 7.0066317 | E10: =K10+Q10 -> 820016 | F10: =(E10/$E$7)*100 -> 7.3569663 | G10: =M10+S10 -> 755385 | H10: =(G10/$G$7)*100 -> 6.6622357 | I10: =K10+M10 -> 51132 | J10: =(I10/$I$7)*100 -> 0.37409333 | K10: 25825 | L10: =(K10/$K$7)*100 -> 0.3602318 | M10: 25307 | N10: =(M10/$M$7)*100 -> 0.38938327 | O10: =Q10+S10 -> 1524269 | P10: =(O10/$O$7)*100 -> 17.28945 | Q10: 794191 | R10: =(Q10/$Q$7)*100 -> 19.968993 | S10: 730078 | T10: =(S10/$S$7)*100 -> 15.087189
A11: 15－ 19 | C11: =SUM(E11,G11) -> 1558776 | D11: =(C11/$C$7)*100 -> 6.9326917 | E11: =K11+Q11 -> 802656 | F11: =(E11/$E$7)*100 -> 7.201217 | G11: =M11+S11 -> 756120 | H11: =(G11/$G$7)*100 -> 6.6687181 | I11: =K11+M11 -> 167172 | J11: =(I11/$I$7)*100 -> 1.2230683 | K11: 91007 | L11: =(K11/$K$7)*100 -> 1.2694527 | M11: 76165 | N11: =(M11/$M$7)*100 -> 1.1719041 | O11: =Q11+S11 -> 1391604 | P11: =(O11/$O$7)*100 -> 15.78466 | Q11: 711649 | R11: =(Q11/$Q$7)*100 -> 17.893572 | S11: 679955 | T11: =(S11/$S$7)*100 -> 14.051389
A12: 20－ 24 | C12: =SUM(E12,G12) -> 1660182 | D12: =(C12/$C$7)*100 -> 7.3836972 | E12: =K12+Q12 -> 750307 | F12: =(E12/$E$7)*100 -> 6.7315556 | G12: =M12+S12 -> 909875 | H12: =(G12/$G$7)*100 -> 8.0247843 | I12: =K12+M12 -> 898509 | J12: =(I12/$I$7)*100 -> 6.573696 | K12: 398058 | L12: =(K12/$K$7)*100 -> 5.5524938 | M12: 500451 | N12: =(M12/$M$7)*100 -> 7.7001323 | O12: =Q12+S12 -> 761673 | P12: =(O12/$O$7)*100 -> 8.6394901 | Q12: 352249 | R12: =(Q12/$Q$7)*100 -> 8.8568842 | S12: 409424 | T12: =(S12/$S$7)*100 -> 8.4608185
A13: 25－ 29 | C13: =SUM(E13,G13) -> 2023391 | D13: =(C13/$C$7)*100 -> 8.9990775 | E13: =K13+Q13 -> 970003 | F13: =(E13/$E$7)*100 -> 8.7026099 | G13: =M13+S13 -> 1053388 | H13: =(G13/$G$7)*100 -> 9.2905195 | I13: =K13+M13 -> 1782920 | J13: =(I13/$I$7)*100 -> 13.044248 | K13: 898751 | L13: =(K13/$K$7)*100 -> 12.536639 | M13: 884169 | N13: =(M13/$M$7)*100 -> 13.604166 | O13: =Q13+S13 -> 240471 | P13: =(O13/$O$7)*100 -> 2.7276099 | Q13: 71252 | R13: =(Q13/$Q$7)*100 -> 1.7915472 | S13: 169219 | T13: =(S13/$S$7)*100 -> 3.4969402
A14: 30－ 34 | C14: =SUM(E14,G14) -> 1876101 | D14: =(C14/$C$7)*100 -> 8.3440018 | E14: =K14+Q14 -> 913018 | F14: =(E14/$E$7)*100 -> 8.1913556 | G14: =M14+S14 -> 963083 | H14: =(G14/$G$7)*100 -> 8.4940605 | I14: =K14+M14 -> 1673251 | J14: =(I14/$I$7)*100 -> 12.241884 | K14: 878765 | L14: =(K14/$K$7)*100 -> 12.257855 | M14: 794486 | N14: =(M14/$M$7)*100 -> 12.224268 | O14: =Q14+S14 -> 202850 | P14: =(O14/$O$7)*100 -> 2.3008831 | Q14: 34253 | R14: =(Q14/$Q$7)*100 -> 0.86125114 | S14: 168597 | T14: =(S14/$S$7)*100 -> 3.4840865
A15: 35－ 39 | C15: =SUM(E15,G15) -> 1854418 | D15: =(C15/$C$7)*100 -> 8.2475662 | E15: =K15+Q15 -> 917107 | F15: =(E15/$E$7)*100 -> 8.2280411 | G15: =M15+S15 -> 937311 | H15: =(G15/$G$7)*100 -> 8.2667604 | I15: =K15+M15 -> 1635926 | J15: =(I15/$I$7)*100 -> 11.968806 | K15: 873414 | L15: =(K15/$K$7)*100 -> 12.183214 | M15: 762512 | N15: =(M15/$M$7)*100 -> 11.732304 | O15: =Q15+S15 -> 218492 | P15: =(O15/$O$7)*100 -> 2.4783069 | Q15: 43693 | R15: =(Q15/$Q$7)*100 -> 1.0986088 | S15: 174799 | T15: =(S15/$S$7)*100 -> 3.6122519
A16: 40－ 44 | C16: =SUM(E16,G16) -> 1897889 | D16: =(C16/$C$7)*100 -> 8.4409045 | E16: =K16+Q16 -> 945244 | F16: =(E16/$E$7)*100 -> 8.4804788 | G16: =M16+S16 -> 952645 | H16: =(G16/$G$7)*100 -> 8.402001 | I16: =K16+M16 -> 1679696 | J16: =(I16/$I$7)*100 -> 12.289038 | K16: 892769 | L16: =(K16/$K$7)*100 -> 12.453196 | M16: 786927 | N16: =(M16/$M$7)*100 -> 12.107963 | O16: =Q16+S16 -> 218193 | P16: =(O16/$O$7)*100 -> 2.4749154 | Q16: 52475 | R16: =(Q16/$Q$7)*100 -> 1.3194218 | S16: 165718 | T16: =(S16/$S$7)*100 -> 3.4245914
A17: 45－ 49 | C17: =SUM(E17,G17) -> 1783616 | D17: =(C17/$C$7)*100 -> 7.9326727 | E17: =K17+Q17 -> 887907 | F17: =(E17/$E$7)*100 -> 7.9660664 | G17: =M17+S17 -> 895709 | H17: =(G17/$G$7)*100 -> 7.899845 | I17: =K17+M17 -> 1579573 | J17: =(I17/$I$7)*100 -> 11.556515 | K17: 832798 | L17: =(K17/$K$7)*100 -> 11.616663 | M17: 746775 | N17: =(M17/$M$7)*100 -> 11.490168 | O17: =Q17+S17 -> 204043 | P17: =(O17/$O$7)*100 -> 2.3144151 | Q17: 55109 | R17: =(Q17/$Q$7)*100 -> 1.3856506 | S17: 148934 | T17: =(S17/$S$7)*100 -> 3.0777471
A18: 50－ 54 | C18: =SUM(E18,G18) -> 1600149 | D18: =(C18/$C$7)*100 -> 7.116699 | E18: =K18+Q18 -> 791976 | F18: =(E18/$E$7)*100 -> 7.1053989 | G18: =M18+S18 -> 808173 | H18: =(G18/$G$7)*100 -> 7.1278077 | I18: =K18+M18 -> 1375585 | J18: =(I18/$I$7)*100 -> 10.064092 | K18: 720921 | L18: =(K18/$K$7)*100 -> 10.056096 | M18: 654664 | N18: =(M18/$M$7)*100 -> 10.072913 | O18: =Q18+S18 -> 224564 | P18: =(O18/$O$7)*100 -> 2.5471803 | Q18: 71055 | R18: =(Q18/$Q$7)*100 -> 1.7865939 | S18: 153509 | T18: =(S18/$S$7)*100 -> 3.1722903
A19: 55－ 59 | C19: =SUM(E19,G19) -> 1185442 | D19: =(C19/$C$7)*100 -> 5.2722802 | E19: =K19+Q19 -> 584375 | F19: =(E19/$E$7)*100 -> 5.2428577 | G19: =M19+S19 -> 601067 | H19: =(G19/$G$7)*100 -> 5.301204 | I19: =K19+M19 -> 917912 | J19: =(I19/$I$7)*100 -> 6.7156527 | K19: 490703 | L19: =(K19/$K$7)*100 -> 6.8447948 | M19: 427209 | N19: =(M19/$M$7)*100 -> 6.5732026 | O19: =Q19+S19 -> 267530 | P19: =(O19/$O$7)*100 -> 3.0345342 | Q19: 93672 | R19: =(Q19/$Q$7)*100 -> 2.3552716 | S19: 173858 | T19: =(S19/$S$7)*100 -> 3.592806
... A27: 95－ 99 | C27: =SUM(E27,G27) -> 6848 | D27: =(C27/$C$7)*100 -> 0.030456636 | E27: =K27+Q27 -> 2336 | F27: =(E27/$E$7)*100 -> 0.020957973 | G27: =M27+S27 -> 4512 | H27: =(G27/$G$7)*100 -> 0.039794287 | I27: =K27+M27 -> 4130 | J27: =(I27/$I$7)*100 -> 0.030216018 | K27: 1730 | L27: =(K27/$K$7)*100 -> 0.024131695 | M27: 2400 | N27: =(M27/$M$7)*100 -> 0.036927326 | O27: =Q27+S27 -> 2718 | P27: =(O27/$O$7)*100 -> 0.030829679 | Q27: 606 | R27: =(Q27/$Q$7)*100 -> 0.015237153 | S27: 2112 | T27: =(S27/$S$7)*100 -> 0.043644849
C28: =SUM(E28,G28) -> 863 | D28: =(C28/$C$7)*100 -> 0.0038382121 | E28: =K28+Q28 -> 292 | F28: =(E28/$E$7)*100 -> 0.0026197466 | G28: =M28+S28 -> 571 | H28: =(G28/$G$7)*100 -> 0.0050360234 | I28: =K28+M28 -> 502 | J28: =(I28/$I$7)*100 -> 0.003672746 | K28: 209 | L28: =(K28/$K$7)*100 -> 0.0029153319 | M28: 293 | N28: =(M28/$M$7)*100 -> 0.0045082111 | O28: =Q28+S28 -> 361 | P28: =(O28/$O$7)*100 -> 0.004094744 | Q28: 83 | R28: =(Q28/$Q$7)*100 -> 0.0020869368 | S28: 278 | T28: =(S28/$S$7)*100 -> 0.0057449186
A29: 平均年齡 | B29: mean | C29: 35.78 | E29: 35.55 | G29: 36 | I29: 42.95 | K29: 43.54 | M29: 42.3 | O29: 24.66 | Q29: 21.15 | S29: 27.54

Sheet 94
A1: 保險對象人數－按年齡性別分 | K1: Beneficiaries by Gender and Age
D3: 中華民國九十四年底 | I3: 單位：人 | O3: End of 2005 | T3: Unit：Person
C4: 保險對象 Beneficiaries | K4: 被保險人 Insureds | O4: 眷屬 Dependents
C5: 合 計 Total | E5: 男 Male | G5: 女 Female | I5: 合 計 Total | K5: 男 Male | M5: 女 Female | O5: 合 計 Total | Q5: 男 Male | S5: 女 Female
C6: 人數 Number | D6: 百分比 % | E6: 人數 Number | F6: 百分比 % | G6: 人數 Number | H6: 百分比 % | I6: 人數 Number | J6: 百分比 % | K6: 人數 Number | L6: 百分比 % | M6: 人數 Number | N6: 百分比 % | O6: 人數 Number | P6: 百分比 % | Q6: 人數 Number | R6: 百分比 % | S6: 人數 Number | T6: 百分比 %
A7: 總 計 | B7: Grand Total | C7: =SUM(E7,G7) -> 22314647 | D7: =(C7/C7)*100 -> 100 | E7: =SUM(E8:E28) -> 11074927 | F7: =(E7/E7)*100 -> 100 | G7: =SUM(G8:G28) -> 11239720 | H7: =(G7/G7)*100 -> 100 | I7: =SUM(I8:I28) -> 13410088 | J7: =(I7/I7)*100 -> 100 | K7: =SUM(K8:K28) -> 7062489 | L7: =(K7/K7)*100 -> 100 | M7: =SUM(M8:M28) -> 6347599 | N7: =(M7/M7)*100 -> 100 | O7: =Q7+S7 -> 8904559 | P7: =(O7/O7)*100 -> 100 | Q7: =SUM(Q8:Q28) -> 4012438 | R7: =(Q7/Q7)*100 -> 100 | S7: =SUM(S8:S28) -> 4892121 | T7: =(S7/S7)*100 -> 100
A8: 0－ 4 | C8: =SUM(E8,G8) -> 1104162 | D8: =(C8/$C$7)*100 -> 4.9481491 | E8: =K8+Q8 -> 578093 | F8: =(E8/$E$7)*100 -> 5.2198358 | G8: =M8+S8 -> 526069 | H8: =(G8/$G$7)*100 -> 4.6804458 | I8: =K8+M8 -> 11404 | J8: =(I8/$I$7)*100 -> 0.085040456 | K8: 5946 | L8: =(K8/$K$7)*100 -> 0.084191282 | M8: 5458 | N8: =(M8/$M$7)*100 -> 0.085985268 | O8: =Q8+S8 -> 1092758 | P8: =(O8/$O$7)*100 -> 12.271894 | Q8: 572147 | R8: =(Q8/$Q$7)*100 -> 14.259336 | S8: 520611 | T8: =(S8/$S$7)*100 -> 10.641826
A9: 5－ 9 | C9: =SUM(E9,G9) -> 1461895 | D9: =(C9/$C$7)*100 -> 6.55128 | E9: =K9+Q9 -> 762414 | F9: =(E9/$E$7)*100 -> 6.8841447 | G9: =M9+S9 -> 699481 | H9: =(G9/$G$7)*100 -> 6.2232956 | I9: =K9+M9 -> 32221 | J9: =(I9/$I$7)*100 -> 0.24027434 | K9: 16524 | L9: =(K9/$K$7)*100 -> 0.23396851 | M9: 15697 | N9: =(M9/$M$7)*100 -> 0.24729035 | O9: =Q9+S9 -> 1429674 | P9: =(O9/$O$7)*100 -> 16.055528 | Q9: 745890 | R9: =(Q9/$Q$7)*100 -> 18.589446 | S9: 683784 | T9: =(S9/$S$7)*100 -> 13.97725
A10: 10－ 14 | C10: =SUM(E10,G10) -> 1567836 | D10: =(C10/$C$7)*100 -> 7.0260399 | E10: =K10+Q10 -> 817099 | F10: =(E10/$E$7)*100 -> 7.3779177 | G10: =M10+S10 -> 750737 | H10: =(G10/$G$7)*100 -> 6.6793212 | I10: =K10+M10 -> 49720 | J10: =(I10/$I$7)*100 -> 0.37076565 | K10: 25215 | L10: =(K10/$K$7)*100 -> 0.3570271 | M10: 24505 | N10: =(M10/$M$7)*100 -> 0.38605148 | O10: =Q10+S10 -> 1518116 | P10: =(O10/$O$7)*100 -> 17.04875 | Q10: 791884 | R10: =(Q10/$Q$7)*100 -> 19.735732 | S10: 726232 | T10: =(S10/$S$7)*100 -> 14.844931
A11: 15－ 19 | C11: =SUM(E11,G11) -> 1552919 | D11: =(C11/$C$7)*100 -> 6.9591914 | E11: =K11+Q11 -> 802748 | F11: =(E11/$E$7)*100 -> 7.2483367 | G11: =M11+S11 -> 750171 | H11: =(G11/$G$7)*100 -> 6.6742855 | I11: =K11+M11 -> 170803 | J11: =(I11/$I$7)*100 -> 1.2736904 | K11: 95387 | L11: =(K11/$K$7)*100 -> 1.3506145 | M11: 75416 | N11: =(M11/$M$7)*100 -> 1.1881028 | O11: =Q11+S11 -> 1382116 | P11: =(O11/$O$7)*100 -> 15.521442 | Q11: 707361 | R11: =(Q11/$Q$7)*100 -> 17.629207 | S11: 674755 | T11: =(S11/$S$7)*100 -> 13.792688
A12: 20－ 24 | C12: =SUM(E12,G12) -> 1725471 | D12: =(C12/$C$7)*100 -> 7.7324593 | E12: =K12+Q12 -> 769681 | F12: =(E12/$E$7)*100 -> 6.9497614 | G12: =M12+S12 -> 955790 | H12: =(G12/$G$7)*100 -> 8.5036816 | I12: =K12+M12 -> 931750 | J12: =(I12/$I$7)*100 -> 6.9481274 | K12: 407360 | L12: =(K12/$K$7)*100 -> 5.7679382 | M12: 524390 | N12: =(M12/$M$7)*100 -> 8.2612339 | O12: =Q12+S12 -> 793721 | P12: =(O12/$O$7)*100 -> 8.9136475 | Q12: 362321 | R12: =(Q12/$Q$7)*100 -> 9.0299464 | S12: 431400 | T12: =(S12/$S$7)*100 -> 8.818261
A13: 25－ 29 | C13: =SUM(E13,G13) -> 2013737 | D13: =(C13/$C$7)*100 -> 9.0242835 | E13: =K13+Q13 -> 968618 | F13: =(E13/$E$7)*100 -> 8.7460441 | G13: =M13+S13 -> 1045119 | H13: =(G13/$G$7)*100 -> 9.2984434 | I13: =K13+M13 -> 1769476 | J13: =(I13/$I$7)*100 -> 13.195111 | K13: 898893 | L13: =(K13/$K$7)*100 -> 12.727708 | M13: 870583 | N13: =(M13/$M$7)*100 -> 13.715154 | O13: =Q13+S13 -> 244261 | P13: =(O13/$O$7)*100 -> 2.7431005 | Q13: 69725 | R13: =(Q13/$Q$7)*100 -> 1.7377216 | S13: 174536 | T13: =(S13/$S$7)*100 -> 3.5676959
A14: 30－ 34 | C14: =SUM(E14,G14) -> 1817636 | D14: =(C14/$C$7)*100 -> 8.145484 | E14: =K14+Q14 -> 886681 | F14: =(E14/$E$7)*100 -> 8.0062018 | G14: =M14+S14 -> 930955 | H14: =(G14/$G$7)*100 -> 8.2827241 | I14: =K14+M14 -> 1609663 | J14: =(I14/$I$7)*100 -> 12.003374 | K14: 852610 | L14: =(K14/$K$7)*100 -> 12.072373 | M14: 757053 | N14: =(M14/$M$7)*100 -> 11.926604 | O14: =Q14+S14 -> 207973 | P14: =(O14/$O$7)*100 -> 2.3355789 | Q14: 34071 | R14: =(Q14/$Q$7)*100 -> 0.84913462 | S14: 173902 | T14: =(S14/$S$7)*100 -> 3.5547363
A15: 35－ 39 | C15: =SUM(E15,G15) -> 1870289 | D15: =(C15/$C$7)*100 -> 8.3814411 | E15: =K15+Q15 -> 926557 | F15: =(E15/$E$7)*100 -> 8.3662583 | G15: =M15+S15 -> 943732 | H15: =(G15/$G$7)*100 -> 8.3964013 | I15: =K15+M15 -> 1642643 | J15: =(I15/$I$7)*100 -> 12.249308 | K15: 880752 | L15: =(K15/$K$7)*100 -> 12.470844 | M15: 761891 | N15: =(M15/$M$7)*100 -> 12.002822 | O15: =Q15+S15 -> 227646 | P15: =(O15/$O$7)*100 -> 2.5565107 | Q15: 45805 | R15: =(Q15/$Q$7)*100 -> 1.1415753 | S15: 181841 | T15: =(S15/$S$7)*100 -> 3.7170176
A16: 40－ 44 | C16: =SUM(E16,G16) -> 1891781 | D16: =(C16/$C$7)*100 -> 8.4777545 | E16: =K16+Q16 -> 942775 | F16: =(E16/$E$7)*100 -> 8.5126972 | G16: =M16+S16 -> 949006 | H16: =(G16/$G$7)*100 -> 8.4433242 | I16: =K16+M16 -> 1669124 | J16: =(I16/$I$7)*100 -> 12.446779 | K16: 889698 | L16: =(K16/$K$7)*100 -> 12.597513 | M16: 779426 | N16: =(M16/$M$7)*100 -> 12.279068 | O16: =Q16+S16 -> 222657 | P16: =(O16/$O$7)*100 -> 2.5004832 | Q16: 53077 | R16: =(Q16/$Q$7)*100 -> 1.3228117 | S16: 169580 | T16: =(S16/$S$7)*100 -> 3.4663901
A17: 45－ 49 | C17: =SUM(E17,G17) -> 1758039 | D17: =(C17/$C$7)*100 -> 7.8784083 | E17: =K17+Q17 -> 874760 | F17: =(E17/$E$7)*100 -> 7.8985622 | G17: =M17+S17 -> 883279 | H17: =(G17/$G$7)*100 -> 7.8585499 | I17: =K17+M17 -> 1551085 | J17: =(I17/$I$7)*100 -> 11.566553 | K17: 819651 | L17: =(K17/$K$7)*100 -> 11.605696 | M17: 731434 | N17: =(M17/$M$7)*100 -> 11.523003 | O17: =Q17+S17 -> 206954 | P17: =(O17/$O$7)*100 -> 2.3241353 | Q17: 55109 | R17: =(Q17/$Q$7)*100 -> 1.3734542 | S17: 151845 | T17: =(S17/$S$7)*100 -> 3.1038684
A18: 50－ 54 | C18: =SUM(E18,G18) -> 1562743 | D18: =(C18/$C$7)*100 -> 7.0032163 | E18: =K18+Q18 -> 774296 | F18: =(E18/$E$7)*100 -> 6.9914321 | G18: =M18+S18 -> 788447 | H18: =(G18/$G$7)*100 -> 7.0148278 | I18: =K18+M18 -> 1339705 | J18: =(I18/$I$7)*100 -> 9.9902775 | K18: 703728 | L18: =(K18/$K$7)*100 -> 9.9643058 | M18: 635977 | N18: =(M18/$M$7)*100 -> 10.019174 | O18: =Q18+S18 -> 223038 | P18: =(O18/$O$7)*100 -> 2.5047619 | Q18: 70568 | R18: =(Q18/$Q$7)*100 -> 1.7587312 | S18: 152470 | T18: =(S18/$S$7)*100 -> 3.1166441
A19: 55－ 59 | C19: =SUM(E19,G19) -> 1035794 | D19: =(C19/$C$7)*100 -> 4.6417674 | E19: =K19+Q19 -> 511537 | F19: =(E19/$E$7)*100 -> 4.6188747 | G19: =M19+S19 -> 524257 | H19: =(G19/$G$7)*100 -> 4.6643244 | I19: =K19+M19 -> 793258 | J19: =(I19/$I$7)*100 -> 5.9153825 | K19: 427863 | L19: =(K19/$K$7)*100 -> 6.0582466 | M19: 365395 | N19: =(M19/$M$7)*100 -> 5.7564285 | O19: =Q19+S19 -> 242536 | P19: =(O19/$O$7)*100 -> 2.7237284 | Q19: 83674 | R19: =(Q19/$Q$7)*100 -> 2.0853656 | S19: 158862 | T19: =(S19/$S$7)*100 -> 3.2473032
... A27: 95－ 99 | C27: =SUM(E27,G27) -> 6056 | D27: =(C27/$C$7)*100 -> 0.027139125 | E27: =K27+Q27 -> 2058 | F27: =(E27/$E$7)*100 -> 0.018582515 | G27: =M27+S27 -> 3998 | H27: =(G27/$G$7)*100 -> 0.035570281 | I27: =K27+M27 -> 3661 | J27: =(I27/$I$7)*100 -> 0.027300343 | K27: 1510 | L27: =(K27/$K$7)*100 -> 0.021380564 | M27: 2151 | N27: =(M27/$M$7)*100 -> 0.033886829 | O27: =Q27+S27 -> 2395 | P27: =(O27/$O$7)*100 -> 0.026896335 | Q27: 548 | R27: =(Q27/$Q$7)*100 -> 0.013657532 | S27: 1847 | T27: =(S27/$S$7)*100 -> 0.037754585
C28: =SUM(E28,G28) -> 801 | D28: =(C28/$C$7)*100 -> 0.0035895706 | E28: =K28+Q28 -> 273 | F28: =(E28/$E$7)*100 -> 0.0024650275 | G28: =M28+S28 -> 528 | H28: =(G28/$G$7)*100 -> 0.0046976259 | I28: =K28+M28 -> 477 | J28: =(I28/$I$7)*100 -> 0.0035570236 | K28: 206 | L28: =(K28/$K$7)*100 -> 0.0029168187 | M28: 271 | N28: =(M28/$M$7)*100 -> 0.0042693308 | O28: =Q28+S28 -> 324 | P28: =(O28/$O$7)*100 -> 0.0036385856 | Q28: 67 | R28: =(Q28/$Q$7)*100 -> 0.0016698077 | S28: 257 | T28: =(S28/$S$7)*100 -> 0.0052533451
A29: 平均年齡 | B29: mean | C29: 35.33 | E29: 35.14 | G29: 35.52 | I29: 42.73 | K29: 43.35 | M29: 42.04 | O29: 24.19 | Q29: 20.69 | S29: 27.05

Sheet 93
A1: 保險對象人數－按年齡性別分 | K1: Beneficiaries by Gender and Age
D3: 中華民國九十三年底 | I3: 單位：人 | O3: End of 2004 | T3: Unit：Person
C4: 保險對象 Beneficiaries | K4: 被保險人 Insureds | O4: 眷屬 Dependents
C5: 合 計 Total | E5: 男 Male | G5: 女 Female | I5: 合 計 Total | K5: 男 Male | M5: 女 Female | O5: 合 計 Total | Q5: 男 Male | S5: 女 Female
C6: 人數 Number | D6: 百分比 % | E6: 人數 Number | F6: 百分比 % | G6: 人數 Number | H6: 百分比 % | I6: 人數 Number | J6: 百分比 % | K6: 人數 Number | L6: 百分比 % | M6: 人數 Number | N6: 百分比 % | O6: 人數 Number | P6: 百分比 % | Q6: 人數 Number | R6: 百分比 % | S6: 人數 Number | T6: 百分比 %
A7: 總 計 | B7: Grand Total | C7: =SUM(E7,G7) -> 22134270 | D7: =(C7/C7)*100 -> 100 | E7: =SUM(E8:E28) -> 11007812 | F7: =(E7/E7)*100 -> 100 | G7: =SUM(G8:G28) -> 11126458 | H7: =(G7/G7)*100 -> 100 | I7: =SUM(I8:I28) -> 13163135 | J7: =(I7/I7)*100 -> 100 | K7: =SUM(K8:K28) -> 6967498 | L7: =(K7/K7)*100 -> 100 | M7: =SUM(M8:M28) -> 6195637 | N7: =(M7/M7)*100 -> 100 | O7: =Q7+S7 -> 8971135 | P7: =(O7/O7)*100 -> 100 | Q7: =SUM(Q8:Q28) -> 4040314 | R7: =(Q7/Q7)*100 -> 100 | S7: =SUM(S8:S28) -> 4930821 | T7: =(S7/S7)*100 -> 100
A8: 0－ 4 | C8: =SUM(E8,G8) -> 1191939 | D8: =(C8/$C$7)*100 -> 5.3850387 | E8: =K8+Q8 -> 624018 | F8: =(E8/$E$7)*100 -> 5.668865 | G8: =M8+S8 -> 567921 | H8: =(G8/$G$7)*100 -> 5.1042389 | I8: =K8+M8 -> 12938 | J8: =(I8/$I$7)*100 -> 0.098289655 | K8: 6654 | L8: =(K8/$K$7)*100 -> 0.095500566 | M8: 6284 | N8: =(M8/$M$7)*100 -> 0.10142621 | O8: =Q8+S8 -> 1179001 | P8: =(O8/$O$7)*100 -> 13.142161 | Q8: 617364 | R8: =(Q8/$Q$7)*100 -> 15.2801 | S8: 561637 | T8: =(S8/$S$7)*100 -> 11.390334
A9: 5－ 9 | C9: =SUM(E9,G9) -> 1468911 | D9: =(C9/$C$7)*100 -> 6.6363652 | E9: =K9+Q9 -> 765035 | F9: =(E9/$E$7)*100 -> 6.9499279 | G9: =M9+S9 -> 703876 | H9: =(G9/$G$7)*100 -> 6.3261462 | I9: =K9+M9 -> 32162 | J9: =(I9/$I$7)*100 -> 0.24433389 | K9: 16514 | L9: =(K9/$K$7)*100 -> 0.23701478 | M9: 15648 | N9: =(M9/$M$7)*100 -> 0.25256483 | O9: =Q9+S9 -> 1436749 | P9: =(O9/$O$7)*100 -> 16.015242 | Q9: 748521 | R9: =(Q9/$Q$7)*100 -> 18.526308 | S9: 688228 | T9: =(S9/$S$7)*100 -> 13.957676
A10: 10－ 14 | C10: =SUM(E10,G10) -> 1570657 | D10: =(C10/$C$7)*100 -> 7.0960416 | E10: =K10+Q10 -> 820325 | F10: =(E10/$E$7)*100 -> 7.4522076 | G10: =M10+S10 -> 750332 | H10: =(G10/$G$7)*100 -> 6.7436735 | I10: =K10+M10 -> 48698 | J10: =(I10/$I$7)*100 -> 0.36995746 | K10: 24744 | L10: =(K10/$K$7)*100 -> 0.35513466 | M10: 23954 | N10: =(M10/$M$7)*100 -> 0.38662691 | O10: =Q10+S10 -> 1521959 | P10: =(O10/$O$7)*100 -> 16.965066 | Q10: 795581 | R10: =(Q10/$Q$7)*100 -> 19.691069 | S10: 726378 | T10: =(S10/$S$7)*100 -> 14.73138
A11: 15－ 19 | C11: =SUM(E11,G11) -> 1553237 | D11: =(C11/$C$7)*100 -> 7.0173401 | E11: =K11+Q11 -> 800478 | F11: =(E11/$E$7)*100 -> 7.2719084 | G11: =M11+S11 -> 752759 | H11: =(G11/$G$7)*100 -> 6.7654864 | I11: =K11+M11 -> 168197 | J11: =(I11/$I$7)*100 -> 1.2777883 | K11: 93400 | L11: =(K11/$K$7)*100 -> 1.3405099 | M11: 74797 | N11: =(M11/$M$7)*100 -> 1.2072528 | O11: =Q11+S11 -> 1385040 | P11: =(O11/$O$7)*100 -> 15.438849 | Q11: 707078 | R11: =(Q11/$Q$7)*100 -> 17.500571 | S11: 677962 | T11: =(S11/$S$7)*100 -> 13.749475
A12: 20－ 24 | C12: =SUM(E12,G12) -> 1761339 | D12: =(C12/$C$7)*100 -> 7.9575202 | E12: =K12+Q12 -> 780089 | F12: =(E12/$E$7)*100 -> 7.0866853 | G12: =M12+S12 -> 981250 | H12: =(G12/$G$7)*100 -> 8.8190689 | I12: =K12+M12 -> 944698 | J12: =(I12/$I$7)*100 -> 7.1768465 | K12: 411055 | L12: =(K12/$K$7)*100 -> 5.899607 | M12: 533643 | N12: =(M12/$M$7)*100 -> 8.6132064 | O12: =Q12+S12 -> 816641 | P12: =(O12/$O$7)*100 -> 9.1029842 | Q12: 369034 | R12: =(Q12/$Q$7)*100 -> 9.133795 | S12: 447607 | T12: =(S12/$S$7)*100 -> 9.0777378
A13: 25－ 29 | C13: =SUM(E13,G13) -> 1965877 | D13: =(C13/$C$7)*100 -> 8.8815985 | E13: =K13+Q13 -> 949746 | F13: =(E13/$E$7)*100 -> 8.6279271 | G13: =M13+S13 -> 1016131 | H13: =(G13/$G$7)*100 -> 9.1325649 | I13: =K13+M13 -> 1720264 | J13: =(I13/$I$7)*100 -> 13.068802 | K13: 881482 | L13: =(K13/$K$7)*100 -> 12.651342 | M13: 838782 | N13: =(M13/$M$7)*100 -> 13.538269 | O13: =Q13+S13 -> 245613 | P13: =(O13/$O$7)*100 -> 2.7378141 | Q13: 68264 | R13: =(Q13/$Q$7)*100 -> 1.6895717 | S13: 177349 | T13: =(S13/$S$7)*100 -> 3.5967438
A14: 30－ 34 | C14: =SUM(E14,G14) -> 1824650 | D14: =(C14/$C$7)*100 -> 8.2435517 | E14: =K14+Q14 -> 895536 | F14: =(E14/$E$7)*100 -> 8.1354587 | G14: =M14+S14 -> 929114 | H14: =(G14/$G$7)*100 -> 8.3504921 | I14: =K14+M14 -> 1606635 | J14: =(I14/$I$7)*100 -> 12.205565 | K14: 860288 | L14: =(K14/$K$7)*100 -> 12.347158 | M14: 746347 | N14: =(M14/$M$7)*100 -> 12.046332 | O14: =Q14+S14 -> 218015 | P14: =(O14/$O$7)*100 -> 2.430183 | Q14: 35248 | R14: =(Q14/$Q$7)*100 -> 0.87240744 | S14: 182767 | T14: =(S14/$S$7)*100 -> 3.7066241
A15: 35－ 39 | C15: =SUM(E15,G15) -> 1868951 | D15: =(C15/$C$7)*100 -> 8.4436984 | E15: =K15+Q15 -> 928906 | F15: =(E15/$E$7)*100 -> 8.4386071 | G15: =M15+S15 -> 940045 | H15: =(G15/$G$7)*100 -> 8.4487354 | I15: =K15+M15 -> 1634969 | J15: =(I15/$I$7)*100 -> 12.420818 | K15: 881870 | L15: =(K15/$K$7)*100 -> 12.656911 | M15: 753099 | N15: =(M15/$M$7)*100 -> 12.155312 | O15: =Q15+S15 -> 233982 | P15: =(O15/$O$7)*100 -> 2.608165 | Q15: 47036 | R15: =(Q15/$Q$7)*100 -> 1.1641669 | S15: 186946 | T15: =(S15/$S$7)*100 -> 3.7913767
A16: 40－ 44 | C16: =SUM(E16,G16) -> 1884834 | D16: =(C16/$C$7)*100 -> 8.5154559 | E16: =K16+Q16 -> 941608 | F16: =(E16/$E$7)*100 -> 8.5539978 | G16: =M16+S16 -> 943226 | H16: =(G16/$G$7)*100 -> 8.4773249 | I16: =K16+M16 -> 1659162 | J16: =(I16/$I$7)*100 -> 12.604611 | K16: 888469 | L16: =(K16/$K$7)*100 -> 12.751622 | M16: 770693 | N16: =(M16/$M$7)*100 -> 12.439286 | O16: =Q16+S16 -> 225672 | P16: =(O16/$O$7)*100 -> 2.5155345 | Q16: 53139 | R16: =(Q16/$Q$7)*100 -> 1.3152196 | S16: 172533 | T16: =(S16/$S$7)*100 -> 3.4990725
A17: 45－ 49 | C17: =SUM(E17,G17) -> 1728375 | D17: =(C17/$C$7)*100 -> 7.8085927 | E17: =K17+Q17 -> 860791 | F17: =(E17/$E$7)*100 -> 7.8198192 | G17: =M17+S17 -> 867584 | H17: =(G17/$G$7)*100 -> 7.797486 | I17: =K17+M17 -> 1521010 | J17: =(I17/$I$7)*100 -> 11.555074 | K17: 806122 | L17: =(K17/$K$7)*100 -> 11.569749 | M17: 714888 | N17: =(M17/$M$7)*100 -> 11.538571 | O17: =Q17+S17 -> 207365 | P17: =(O17/$O$7)*100 -> 2.311469 | Q17: 54669 | R17: =(Q17/$Q$7)*100 -> 1.3530879 | S17: 152696 | T17: =(S17/$S$7)*100 -> 3.0967662
A18: 50－ 54 | C18: =SUM(E18,G18) -> 1486999 | D18: =(C18/$C$7)*100 -> 6.7180847 | E18: =K18+Q18 -> 737446 | F18: =(E18/$E$7)*100 -> 6.6992968 | G18: =M18+S18 -> 749553 | H18: =(G18/$G$7)*100 -> 6.7366722 | I18: =K18+M18 -> 1275852 | J18: =(I18/$I$7)*100 -> 9.692615 | K18: 670887 | L18: =(K18/$K$7)*100 -> 9.6288079 | M18: 604965 | N18: =(M18/$M$7)*100 -> 9.7643713 | O18: =Q18+S18 -> 211147 | P18: =(O18/$O$7)*100 -> 2.3536264 | Q18: 66559 | R18: =(Q18/$Q$7)*100 -> 1.647372 | S18: 144588 | T18: =(S18/$S$7)*100 -> 2.9323311
A19: 55－ 59 | C19: =SUM(E19,G19) -> 919282 | D19: =(C19/$C$7)*100 -> 4.1532068 | E19: =K19+Q19 -> 454146 | F19: =(E19/$E$7)*100 -> 4.12567 | G19: =M19+S19 -> 465136 | H19: =(G19/$G$7)*100 -> 4.1804499 | I19: =K19+M19 -> 704522 | J19: =(I19/$I$7)*100 -> 5.3522356 | K19: 381687 | L19: =(K19/$K$7)*100 -> 5.4781071 | M19: 322835 | N19: =(M19/$M$7)*100 -> 5.2106829 | O19: =Q19+S19 -> 214760 | P19: =(O19/$O$7)*100 -> 2.3939 | Q19: 72459 | R19: =(Q19/$Q$7)*100 -> 1.7934002 | S19: 142301 | T19: =(S19/$S$7)*100 -> 2.8859494
... A27: 95－ 99 | C27: =SUM(E27,G27) -> 5524 | D27: =(C27/$C$7)*100 -> 0.024956775 | E27: =K27+Q27 -> 1880 | F27: =(E27/$E$7)*100 -> 0.01707878 | G27: =M27+S27 -> 3644 | H27: =(G27/$G$7)*100 -> 0.032750764 | I27: =K27+M27 -> 3237 | J27: =(I27/$I$7)*100 -> 0.024591406 | K27: 1337 | L27: =(K27/$K$7)*100 -> 0.019189098 | M27: 1900 | N27: =(M27/$M$7)*100 -> 0.030666742 | O27: =Q27+S27 -> 2287 | P27: =(O27/$O$7)*100 -> 0.025492872 | Q27: 543 | R27: =(Q27/$Q$7)*100 -> 0.01343955 | S27: 1744 | T27: =(S27/$S$7)*100 -> 0.035369363
C28: =SUM(E28,G28) -> 722 | D28: =(C28/$C$7)*100 -> 0.0032619102 | E28: =K28+Q28 -> 248 | F28: =(E28/$E$7)*100 -> 0.0022529455 | G28: =M28+S28 -> 474 | H28: =(G28/$G$7)*100 -> 0.0042601158 | I28: =K28+M28 -> 431 | J28: =(I28/$I$7)*100 -> 0.003274296 | K28: 195 | L28: =(K28/$K$7)*100 -> 0.0027987091 | M28: 236 | N28: =(M28/$M$7)*100 -> 0.0038091321 | O28: =Q28+S28 -> 291 | P28: =(O28/$O$7)*100 -> 0.0032437367 | Q28: 53 | R28: =(Q28/$Q$7)*100 -> 0.0013117792 | S28: 238 | T28: =(S28/$S$7)*100 -> 0.0048267824
A29: 平均年齡 | B29: mean | C29: 34.9 | E29: 34.75 | G29: 35.04 | I29: 42.57 | K29: 43.2 | M29: 41.85 | O29: 23.64 | Q29: 20.17 | S29: 26.49

Sheet 92
A1: 保險對象人數－按年齡性別分 | K1: Beneficiaries by Gender and Age
D3: 中華民國九十二年底 | I3: 單位：人 | O3: End of 2003 | T3: Unit：Person
C4: 保險對象 Beneficiaries | K4: 被保險人 Insureds | O4: 眷屬 Dependents
C5: 合 計 Total | E5: 男 Male | G5: 女 Female | I5: 合 計 Total | K5: 男 Male | M5: 女 Female | O5: 合 計 Total | Q5: 男 Male | S5: 女 Female
C6: 人數 Number | D6: 百分比 % | E6: 人數 Number | F6: 百分比 % | G6: 人數 Number | H6: 百分比 % | I6: 人數 Number | J6: 百分比 % | K6: 人數 Number | L6: 百分比 % | M6: 人數 Number | N6: 百分比 % | O6: 人數 Number | P6: 百分比 % | Q6: 人數 Number | R6: 百分比 % | S6: 人數 Number | T6: 百分比 %
A7: 總 計 | B7: Grand Total | C7: =SUM(E7,G7) -> 21984415 | D7: =(C7/C7)*100 -> 100 | E7: =SUM(E8:E28) -> 10938030 | F7: =(E7/E7)*100 -> 100 | G7: =SUM(G8:G28) -> 11046385 | H7: =(G7/G7)*100 -> 100 | I7: =SUM(I8:I28) -> 12878979 | J7: =(I7/I7)*100 -> 100 | K7: =SUM(K8:K28) -> 5600703 | L7: =(K7/K7)*100 -> 100 | M7: =SUM(M8:M28) -> 7278276 | N7: =(M7/M7)*100 -> 100 | O7: =Q7+S7 -> 9105436 | P7: =(O7/O7)*100 -> 100 | Q7: =SUM(Q8:Q28) -> 5337327 | R7: =(Q7/Q7)*100 -> 100 | S7: =SUM(S8:S28) -> 3768109 | T7: =(S7/S7)*100 -> 100
A8: 0－ 4 | C8: =SUM(E8,G8) -> 1257847 | D8: =(C8/$C$7)*100 -> 5.7215396 | E8: =K8+Q8 -> 657862 | F8: =(E8/$E$7)*100 -> 6.0144468 | G8: =M8+S8 -> 599985 | H8: =(G8/$G$7)*100 -> 5.4315054 | I8: =K8+M8 -> 648769 | J8: =(I8/$I$7)*100 -> 5.0374257 | K8: 241547 | L8: =(K8/$K$7)*100 -> 4.3127979 | M8: 407222 | N8: =(M8/$M$7)*100 -> 5.5950338 | O8: =Q8+S8 -> 609078 | P8: =(O8/$O$7)*100 -> 6.689169 | Q8: 416315 | R8: =(Q8/$Q$7)*100 -> 7.8000655 | S8: 192763 | T8: =(S8/$S$7)*100 -> 5.1156429
A9: 5－ 9 | C9: =SUM(E9,G9) -> 1511739 | D9: =(C9/$C$7)*100 -> 6.8764122 | E9: =K9+Q9 -> 787130 | F9: =(E9/$E$7)*100 -> 7.1962684 | G9: =M9+S9 -> 724609 | H9: =(G9/$G$7)*100 -> 6.5596935 | I9: =K9+M9 -> 650280 | J9: =(I9/$I$7)*100 -> 5.049158 | K9: 205200 | L9: =(K9/$K$7)*100 -> 3.6638258 | M9: 445080 | N9: =(M9/$M$7)*100 -> 6.1151844 | O9: =Q9+S9 -> 861459 | P9: =(O9/$O$7)*100 -> 9.4609308 | Q9: 581930 | R9: =(Q9/$Q$7)*100 -> 10.903023 | S9: 279529 | T9: =(S9/$S$7)*100 -> 7.4182833
A10: 10－ 14 | C10: =SUM(E10,G10) -> 1555255 | D10: =(C10/$C$7)*100 -> 7.0743524 | E10: =K10+Q10 -> 811821 | F10: =(E10/$E$7)*100 -> 7.4220038 | G10: =M10+S10 -> 743434 | H10: =(G10/$G$7)*100 -> 6.7301113 | I10: =K10+M10 -> 625755 | J10: =(I10/$I$7)*100 -> 4.8587314 | K10: 191664 | L10: =(K10/$K$7)*100 -> 3.4221418 | M10: 434091 | N10: =(M10/$M$7)*100 -> 5.9642009 | O10: =Q10+S10 -> 929500 | P10: =(O10/$O$7)*100 -> 10.208188 | Q10: 620157 | R10: =(Q10/$Q$7)*100 -> 11.619243 | S10: 309343 | T10: =(S10/$S$7)*100 -> 8.2095024
A11: 15－ 19 | C11: =SUM(E11,G11) -> 1599171 | D11: =(C11/$C$7)*100 -> 7.2741121 | E11: =K11+Q11 -> 820833 | F11: =(E11/$E$7)*100 -> 7.5043952 | G11: =M11+S11 -> 778338 | H11: =(G11/$G$7)*100 -> 7.0460879 | I11: =K11+M11 -> 755470 | J11: =(I11/$I$7)*100 -> 5.8659153 | K11: 276136 | L11: =(K11/$K$7)*100 -> 4.9303811 | M11: 479334 | N11: =(M11/$M$7)*100 -> 6.5858179 | O11: =Q11+S11 -> 843701 | P11: =(O11/$O$7)*100 -> 9.2659045 | Q11: 544697 | R11: =(Q11/$Q$7)*100 -> 10.205427 | S11: 299004 | T11: =(S11/$S$7)*100 -> 7.9351208
A12: 20－ 24 | C12: =SUM(E12,G12) -> 1793013 | D12: =(C12/$C$7)*100 -> 8.1558368 | E12: =K12+Q12 -> 787479 | F12: =(E12/$E$7)*100 -> 7.1994591 | G12: =M12+S12 -> 1005534 | H12: =(G12/$G$7)*100 -> 9.1028332 | I12: =K12+M12 -> 1310351 | J12: =(I12/$I$7)*100 -> 10.174339 | K12: 530579 | L12: =(K12/$K$7)*100 -> 9.4734357 | M12: 779772 | N12: =(M12/$M$7)*100 -> 10.713691 | O12: =Q12+S12 -> 482662 | P12: =(O12/$O$7)*100 -> 5.3008115 | Q12: 256900 | R12: =(Q12/$Q$7)*100 -> 4.8132708 | S12: 225762 | T12: =(S12/$S$7)*100 -> 5.9913872
A13: 25－ 29 | C13: =SUM(E13,G13) -> 1911162 | D13: =(C13/$C$7)*100 -> 8.6932584 | E13: =K13+Q13 -> 922112 | F13: =(E13/$E$7)*100 -> 8.4303298 | G13: =M13+S13 -> 989050 | H13: =(G13/$G$7)*100 -> 8.9536079 | I13: =K13+M13 -> 1472971 | J13: =(I13/$I$7)*100 -> 11.437017 | K13: 731863 | L13: =(K13/$K$7)*100 -> 13.067342 | M13: 741108 | N13: =(M13/$M$7)*100 -> 10.182466 | O13: =Q13+S13 -> 438191 | P13: =(O13/$O$7)*100 -> 4.812411 | Q13: 190249 | R13: =(Q13/$Q$7)*100 -> 3.5644996 | S13: 247942 | T13: =(S13/$S$7)*100 -> 6.5800114
A14: 30－ 34 | C14: =SUM(E14,G14) -> 1834597 | D14: =(C14/$C$7)*100 -> 8.3449889 | E14: =K14+Q14 -> 903845 | F14: =(E14/$E$7)*100 -> 8.2633253 | G14: =M14+S14 -> 930752 | H14: =(G14/$G$7)*100 -> 8.4258515 | I14: =K14+M14 -> 1083480 | J14: =(I14/$I$7)*100 -> 8.4127787 | K14: 552596 | L14: =(K14/$K$7)*100 -> 9.8665471 | M14: 530884 | N14: =(M14/$M$7)*100 -> 7.29409 | O14: =Q14+S14 -> 751117 | P14: =(O14/$O$7)*100 -> 8.2491053 | Q14: 351249 | R14: =(Q14/$Q$7)*100 -> 6.5809908 | S14: 399868 | T14: =(S14/$S$7)*100 -> 10.611901
A15: 35－ 39 | C15: =SUM(E15,G15) -> 1862975 | D15: =(C15/$C$7)*100 -> 8.4740713 | E15: =K15+Q15 -> 929650 | F15: =(E15/$E$7)*100 -> 8.4992453 | G15: =M15+S15 -> 933325 | H15: =(G15/$G$7)*100 -> 8.4491442 | I15: =K15+M15 -> 906942 | J15: =(I15/$I$7)*100 -> 7.0420334 | K15: 455330 | L15: =(K15/$K$7)*100 -> 8.1298723 | M15: 451612 | N15: =(M15/$M$7)*100 -> 6.2049309 | O15: =Q15+S15 -> 956033 | P15: =(O15/$O$7)*100 -> 10.499585 | Q15: 474320 | R15: =(Q15/$Q$7)*100 -> 8.8868454 | S15: 481713 | T15: =(S15/$S$7)*100 -> 12.783945
A16: 40－ 44 | C16: =SUM(E16,G16) -> 1860376 | D16: =(C16/$C$7)*100 -> 8.4622493 | E16: =K16+Q16 -> 929202 | F16: =(E16/$E$7)*100 -> 8.4951495 | G16: =M16+S16 -> 931174 | H16: =(G16/$G$7)*100 -> 8.4296718 | I16: =K16+M16 -> 864509 | J16: =(I16/$I$7)*100 -> 6.7125585 | K16: 416830 | L16: =(K16/$K$7)*100 -> 7.4424586 | M16: 447679 | N16: =(M16/$M$7)*100 -> 6.1508934 | O16: =Q16+S16 -> 995867 | P16: =(O16/$O$7)*100 -> 10.93706 | Q16: 512372 | R16: =(Q16/$Q$7)*100 -> 9.5997866 | S16: 483495 | T16: =(S16/$S$7)*100 -> 12.831237
A17: 45－ 49 | C17: =SUM(E17,G17) -> 1682659 | D17: =(C17/$C$7)*100 -> 7.6538721 | E17: =K17+Q17 -> 836791 | F17: =(E17/$E$7)*100 -> 7.6502899 | G17: =M17+S17 -> 845868 | H17: =(G17/$G$7)*100 -> 7.6574191 | I17: =K17+M17 -> 886057 | J17: =(I17/$I$7)*100 -> 6.8798699 | K17: 397434 | L17: =(K17/$K$7)*100 -> 7.0961449 | M17: 488623 | N17: =(M17/$M$7)*100 -> 6.7134442 | O17: =Q17+S17 -> 796602 | P17: =(O17/$O$7)*100 -> 8.748642 | Q17: 439357 | R17: =(Q17/$Q$7)*100 -> 8.2317797 | S17: 357245 | T17: =(S17/$S$7)*100 -> 9.4807502
A18: 50－ 54 | C18: =SUM(E18,G18) -> 1411197 | D18: =(C18/$C$7)*100 -> 6.4190792 | E18: =K18+Q18 -> 700018 | F18: =(E18/$E$7)*100 -> 6.3998545 | G18: =M18+S18 -> 711179 | H18: =(G18/$G$7)*100 -> 6.4381153 | I18: =K18+M18 -> 929547 | J18: =(I18/$I$7)*100 -> 7.217552 | K18: 404115 | L18: =(K18/$K$7)*100 -> 7.2154335 | M18: 525432 | N18: =(M18/$M$7)*100 -> 7.2191821 | O18: =Q18+S18 -> 481650 | P18: =(O18/$O$7)*100 -> 5.2896973 | Q18: 295903 | R18: =(Q18/$Q$7)*100 -> 5.5440298 | S18: 185747 | T18: =(S18/$S$7)*100 -> 4.9294487
A19: 55－ 59 | C19: =SUM(E19,G19) -> 845625 | D19: =(C19/$C$7)*100 -> 3.8464749 | E19: =K19+Q19 -> 417540 | F19: =(E19/$E$7)*100 -> 3.8173236 | G19: =M19+S19 -> 428085 | H19: =(G19/$G$7)*100 -> 3.8753402 | I19: =K19+M19 -> 646849 | J19: =(I19/$I$7)*100 -> 5.0225177 | K19: 289547 | L19: =(K19/$K$7)*100 -> 5.1698331 | M19: 357302 | N19: =(M19/$M$7)*100 -> 4.9091571 | O19: =Q19+S19 -> 198776 | P19: =(O19/$O$7)*100 -> 2.1830476 | Q19: 127993 | R19: =(Q19/$Q$7)*100 -> 2.398073 | S19: 70783 | T19: =(S19/$S$7)*100 -> 1.8784754
... A27: 95－ 99 | C27: =SUM(E27,G27) -> 5015 | D27: =(C27/$C$7)*100 -> 0.022811615 | E27: =K27+Q27 -> 1720 | F27: =(E27/$E$7)*100 -> 0.015724952 | G27: =M27+S27 -> 3295 | H27: =(G27/$G$7)*100 -> 0.029828763 | I27: =K27+M27 -> 4168 | J27: =(I27/$I$7)*100 -> 0.032362814 | K27: 1357 | L27: =(K27/$K$7)*100 -> 0.024229101 | M27: 2811 | N27: =(M27/$M$7)*100 -> 0.038621784 | O27: =Q27+S27 -> 847 | P27: =(O27/$O$7)*100 -> 0.0093021356 | Q27: 363 | R27: =(Q27/$Q$7)*100 -> 0.0068011572 | S27: 484 | T27: =(S27/$S$7)*100 -> 0.012844639
C28: =SUM(E28,G28) -> 686 | D28: =(C28/$C$7)*100 -> 0.0031203923 | E28: =K28+Q28 -> 220 | F28: =(E28/$E$7)*100 -> 0.0020113311 | G28: =M28+S28 -> 466 | H28: =(G28/$G$7)*100 -> 0.0042185747 | I28: =K28+M28 -> 569 | J28: =(I28/$I$7)*100 -> 0.0044180521 | K28: 180 | L28: =(K28/$K$7)*100 -> 0.0032138823 | M28: 389 | N28: =(M28/$M$7)*100 -> 0.0053446723 | O28: =Q28+S28 -> 117 | P28: =(O28/$O$7)*100 -> 0.0012849467 | Q28: 40 | R28: =(Q28/$Q$7)*100 -> 0.00074943881 | S28: 77 | T28: =(S28/$S$7)*100 -> 0.0020434653
A29: 平均年齡 | B29: mean | C29: 34.46 | E29: 34.35 | G29: 34.56 | I29: 36.77 | K29: 37.91 | M29: 35.89 | O29: 31.18 | Q29: 30.61 | S29: 31.99

Sheet 91
A1: 保險對象人數－按年齡性別分 | K1: Beneficiaries by Gender and Age
D3: 中華民國九十一年底 | I3: 單位：人 | O3: End of 2002 | T3: Unit：Person
C4: 保險對象 Beneficiaries | K4: 被保險人 Insureds | O4: 眷屬 Dependents
C5: 合 計 Total | E5: 男 Male | G5: 女 Female | I5: 合 計 Total | K5: 男 Male | M5: 女 Female | O5: 合 計 Total | Q5: 男 Male | S5: 女 Female
C6: 人數 Number | D6: 百分比 % | E6: 人數 Number | F6: 百分比 % | G6: 人數 Number | H6: 百分比 % | I6: 人數 Number | J6: 百分比 % | K6: 人數 Number | L6: 百分比 % | M6: 人數 Number | N6: 百分比 % | O6: 人數 Number | P6: 百分比 % | Q6: 人數 Number | R6: 百分比 % | S6: 人數 Number | T6: 百分比 %
A7: 總 計 | B7: Grand Total | C7: =SUM(E7,G7) -> 21869478 | D7: =(C7/C7)*100 -> 100 | E7: =SUM('91'!K7,'91'!Q7) -> 10905211 | F7: =(E7/E7)*100 -> 100 | G7: =SUM('91'!M7,'91'!S7) -> 10964267 | H7: =(G7/G7)*100 -> 100 | I7: =SUM('91'!K7,'91'!M7) -> 12683752 | J7: =(I7/I7)*100 -> 100 | K7: =SUM(K8:K28) -> 6756929 | L7: =(K7/K7)*100 -> 100 | M7: =SUM(M8:M28) -> 5926823 | N7: =(M7/M7)*100 -> 100 | O7: =Q7+S7 -> 9185726 | P7: =(O7/O7)*100 -> 100 | Q7: =SUM(Q8:Q28) -> 4148282 | R7: =(Q7/Q7)*100 -> 100 | S7: =SUM(S8:S28) -> 5037444 | T7: =(S7/S7)*100 -> 100
A8: 0－ 4 | C8: =SUM(E8,G8) -> 1302226 | D8: =(C8/$C$7)*100 -> 5.9545363 | E8: =SUM('91'!K8,'91'!Q8) -> 680069 | F8: =(E8/$E$7)*100 -> 6.2361838 | G8: =SUM('91'!M8,'91'!S8) -> 622157 | H8: =(G8/$G$7)*100 -> 5.6744058 | I8: =SUM('91'!K8,'91'!M8) -> 11280 | J8: =(I8/$I$7)*100 -> 0.088932675 | K8: =5860-30 -> 5830 | L8: =(K8/$K$7)*100 -> 0.086281801 | M8: =5474-24 -> 5450 | N8: =(M8/$M$7)*100 -> 0.09195483 | O8: =Q8+S8 -> 1290946 | P8: =(O8/$O$7)*100 -> 14.053827 | Q8: 674239 | R8: =(Q8/$Q$7)*100 -> 16.253451 | S8: 616707 | T8: =(S8/$S$7)*100 -> 12.242459
A9: 5－ 9 | C9: =SUM(E9,G9) -> 1570761 | D9: =(C9/$C$7)*100 -> 7.1824348 | E9: =SUM('91'!K9,'91'!Q9) -> 817211 | F9: =(E9/$E$7)*100 -> 7.4937661 | G9: =SUM('91'!M9,'91'!S9) -> 753550 | H9: =(G9/$G$7)*100 -> 6.8727805 | I9: =SUM('91'!K9,'91'!M9) -> 26266 | J9: =(I9/$I$7)*100 -> 0.20708383 | K9: =13569-117 -> 13452 | L9: =(K9/$K$7)*100 -> 0.19908452 | M9: =12882-68 -> 12814 | N9: =(M9/$M$7)*100 -> 0.21620352 | O9: =Q9+S9 -> 1544495 | P9: =(O9/$O$7)*100 -> 16.814077 | Q9: 803759 | R9: =(Q9/$Q$7)*100 -> 19.375708 | S9: 740736 | T9: =(S9/$S$7)*100 -> 14.7046
A10: 10－ 14 | C10: =SUM(E10,G10) -> 1568303 | D10: =(C10/$C$7)*100 -> 7.1711954 | E10: =SUM('91'!K10,'91'!Q10) -> 819006 | F10: =(E10/$E$7)*100 -> 7.5102261 | G10: =SUM('91'!M10,'91'!S10) -> 749297 | H10: =(G10/$G$7)*100 -> 6.8339908 | I10: =SUM('91'!K10,'91'!M10) -> 38483 | J10: =(I10/$I$7)*100 -> 0.30340391 | K10: =19980-609 -> 19371 | L10: =(K10/$K$7)*100 -> 0.28668349 | M10: =19259-147 -> 19112 | N10: =(M10/$M$7)*100 -> 0.32246618 | O10: =Q10+S10 -> 1529820 | P10: =(O10/$O$7)*100 -> 16.654318 | Q10: 799635 | R10: =(Q10/$Q$7)*100 -> 19.276293 | S10: 730185 | T10: =(S10/$S$7)*100 -> 14.495149
A11: 15－ 19 | C11: =SUM(E11,G11) -> 1633607 | D11: =(C11/$C$7)*100 -> 7.4698033 | E11: =SUM('91'!K11,'91'!Q11) -> 836091 | F11: =(E11/$E$7)*100 -> 7.6668943 | G11: =SUM('91'!M11,'91'!S11) -> 797516 | H11: =(G11/$G$7)*100 -> 7.273774 | I11: =SUM('91'!K11,'91'!M11) -> 166566 | J11: =(I11/$I$7)*100 -> 1.3132234 | K11: =99855-11887 -> 87968 | L11: =(K11/$K$7)*100 -> 1.3018932 | M11: =79084-486 -> 78598 | N11: =(M11/$M$7)*100 -> 1.3261405 | O11: =Q11+S11 -> 1467041 | P11: =(O11/$O$7)*100 -> 15.970877 | Q11: 748123 | R11: =(Q11/$Q$7)*100 -> 18.034526 | S11: 718918 | T11: =(S11/$S$7)*100 -> 14.271484
A12: 20－ 24 | C12: =SUM(E12,G12) -> 1812634 | D12: =(C12/$C$7)*100 -> 8.2884191 | E12: =SUM('91'!K12,'91'!Q12) -> 795340 | F12: =(E12/$E$7)*100 -> 7.2932106 | G12: =SUM('91'!M12,'91'!S12) -> 1017294 | H12: =(G12/$G$7)*100 -> 9.2782673 | I12: =SUM('91'!K12,'91'!M12) -> 1030681 | J12: =(I12/$I$7)*100 -> 8.1259946 | K12: =653648-208402 -> 445246 | L12: =(K12/$K$7)*100 -> 6.5894728 | M12: =585892-457 -> 585435 | N12: =(M12/$M$7)*100 -> 9.8777203 | O12: =Q12+S12 -> 781953 | P12: =(O12/$O$7)*100 -> 8.5126968 | Q12: 350094 | R12: =(Q12/$Q$7)*100 -> 8.4394937 | S12: 431859 | T12: =(S12/$S$7)*100 -> 8.5729787
A13: 25－ 29 | C13: =SUM(E13,G13) -> 1884193 | D13: =(C13/$C$7)*100 -> 8.6156286 | E13: =SUM('91'!K13,'91'!Q13) -> 910348 | F13: =(E13/$E$7)*100 -> 8.3478256 | G13: =SUM('91'!M13,'91'!S13) -> 973845 | H13: =(G13/$G$7)*100 -> 8.8819891 | I13: =SUM('91'!K13,'91'!M13) -> 1641142 | J13: =(I13/$I$7)*100 -> 12.938932 | K13: =866659-20601 -> 846058 | L13: =(K13/$K$7)*100 -> 12.521339 | M13: =795143-59 -> 795084 | N13: =(M13/$M$7)*100 -> 13.415012 | O13: =Q13+S13 -> 243051 | P13: =(O13/$O$7)*100 -> 2.645964 | Q13: 64290 | R13: =(Q13/$Q$7)*100 -> 1.5497982 | S13: 178761 | T13: =(S13/$S$7)*100 -> 3.5486449
A14: 30－ 34 | C14: =SUM(E14,G14) -> 1853173 | D14: =(C14/$C$7)*100 -> 8.4737871 | E14: =SUM('91'!K14,'91'!Q14) -> 919782 | F14: =(E14/$E$7)*100 -> 8.4343347 | G14: =SUM('91'!M14,'91'!S14) -> 933391 | H14: =(G14/$G$7)*100 -> 8.5130269 | I14: =SUM('91'!K14,'91'!M14) -> 1611898 | J14: =(I14/$I$7)*100 -> 12.708369 | K14: =878062-366 -> 877696 | L14: =(K14/$K$7)*100 -> 12.98957 | M14: =734232-30 -> 734202 | N14: =(M14/$M$7)*100 -> 12.387783 | O14: =Q14+S14 -> 241275 | P14: =(O14/$O$7)*100 -> 2.6266296 | Q14: 42086 | R14: =(Q14/$Q$7)*100 -> 1.0145405 | S14: 199189 | T14: =(S14/$S$7)*100 -> 3.954168
A15: 35－ 39 | C15: =SUM(E15,G15) -> 1872215 | D15: =(C15/$C$7)*100 -> 8.5608582 | E15: =SUM('91'!K15,'91'!Q15) -> 939729 | F15: =(E15/$E$7)*100 -> 8.6172473 | G15: =SUM('91'!M15,'91'!S15) -> 932486 | H15: =(G15/$G$7)*100 -> 8.5047728 | I15: =SUM('91'!K15,'91'!M15) -> 1626052 | J15: =(I15/$I$7)*100 -> 12.819961 | K15: =887454-33 -> 887421 | L15: =(K15/$K$7)*100 -> 13.133496 | M15: =738693-62 -> 738631 | N15: =(M15/$M$7)*100 -> 12.462512 | O15: =Q15+S15 -> 246163 | P15: =(O15/$O$7)*100 -> 2.6798426 | Q15: 52308 | R15: =(Q15/$Q$7)*100 -> 1.2609557 | S15: 193855 | T15: =(S15/$S$7)*100 -> 3.848281
A16: 40－ 44 | C16: =SUM(E16,G16) -> 1827976 | D16: =(C16/$C$7)*100 -> 8.3585717 | E16: =SUM('91'!K16,'91'!Q16) -> 916142 | F16: =(E16/$E$7)*100 -> 8.4009562 | G16: =SUM('91'!M16,'91'!S16) -> 911834 | H16: =(G16/$G$7)*100 -> 8.3164155 | I16: =SUM('91'!K16,'91'!M16) -> 1598932 | J16: =(I16/$I$7)*100 -> 12.606144 | K16: =861315-8 -> 861307 | L16: =(K16/$K$7)*100 -> 12.747019 | M16: =737735-110 -> 737625 | N16: =(M16/$M$7)*100 -> 12.445538 | O16: =Q16+S16 -> 229044 | P16: =(O16/$O$7)*100 -> 2.4934774 | Q16: 54835 | R16: =(Q16/$Q$7)*100 -> 1.3218725 | S16: 174209 | T16: =(S16/$S$7)*100 -> 3.4582816
A17: 45－ 49 | C17: =SUM(E17,G17) -> 1638098 | D17: =(C17/$C$7)*100 -> 7.4903388 | E17: =SUM('91'!K17,'91'!Q17) -> 815474 | F17: =(E17/$E$7)*100 -> 7.4778379 | G17: =SUM('91'!M17,'91'!S17) -> 822624 | H17: =(G17/$G$7)*100 -> 7.5027724 | I17: =SUM('91'!K17,'91'!M17) -> 1431920 | J17: =(I17/$I$7)*100 -> 11.289404 | K17: =760908-24 -> 760884 | L17: =(K17/$K$7)*100 -> 11.260796 | M17: =671216-180 -> 671036 | N17: =(M17/$M$7)*100 -> 11.322019 | O17: =Q17+S17 -> 206178 | P17: =(O17/$O$7)*100 -> 2.2445477 | Q17: 54590 | R17: =(Q17/$Q$7)*100 -> 1.3159665 | S17: 151588 | T17: =(S17/$S$7)*100 -> 3.0092245
A18: 50－ 54 | C18: =SUM(E18,G18) -> 1316811 | D18: =(C18/$C$7)*100 -> 6.0212274 | E18: =SUM('91'!K18,'91'!Q18) -> 653948 | F18: =(E18/$E$7)*100 -> 5.9966561 | G18: =SUM('91'!M18,'91'!S18) -> 662863 | H18: =(G18/$G$7)*100 -> 6.0456663 | I18: =SUM('91'!K18,'91'!M18) -> 1125240 | J18: =(I18/$I$7)*100 -> 8.8715074 | K18: =593294-35 -> 593259 | L18: =(K18/$K$7)*100 -> 8.7800094 | M18: =532336-355 -> 531981 | N18: =(M18/$M$7)*100 -> 8.9758206 | O18: =Q18+S18 -> 191571 | P18: =(O18/$O$7)*100 -> 2.0855292 | Q18: 60689 | R18: =(Q18/$Q$7)*100 -> 1.4629912 | S18: 130882 | T18: =(S18/$S$7)*100 -> 2.5981827
A19: 55－ 59 | C19: =SUM(E19,G19) -> 800446 | D19: =(C19/$C$7)*100 -> 3.6601057 | E19: =SUM('91'!K19,'91'!Q19) -> 394728 | F19: =(E19/$E$7)*100 -> 3.6196274 | G19: =SUM('91'!M19,'91'!S19) -> 405718 | H19: =(G19/$G$7)*100 -> 3.7003659 | I19: =SUM('91'!K19,'91'!M19) -> 600663 | J19: =(I19/$I$7)*100 -> 4.7356886 | K19: =330814-109 -> 330705 | L19: =(K19/$K$7)*100 -> 4.8943092 | M19: =270394-436 -> 269958 | N19: =(M19/$M$7)*100 -> 4.5548517 | O19: =Q19+S19 -> 199783 | P19: =(O19/$O$7)*100 -> 2.1749288 | Q19: 64023 | R19: =(Q19/$Q$7)*100 -> 1.5433618 | S19: 135760 | T19: =(S19/$S$7)*100 -> 2.6950176
A20: 60－ 64 | C20: =SUM(E20,G20) -> 784155 | D20: =(C20/$C$7)*100 -> 3.5856137 | E20: =SUM('91'!K20,'91'!Q20) -> 378797 | F20: =(E20/$E$7)*100 -> 3.4735412 | G20: =SUM('91'!M20,'91'!S20) -> 405358 | H20: =(G20/$G$7)*100 -> 3.6970825 | I20: =SUM('91'!K20,'91'!M20) -> 499295 | J20: =(I20/$I$7)*100 -> 3.9364929 | K20: =273378-135 -> 273243 | L20: =(K20/$K$7)*100 -> 4.0438933 | M20: =226652-600 -> 226052 | N20: =(M20/$M$7)*100 -> 3.8140501 | O20: =Q20+S20 -> 284860 | P20: =(O20/$O$7)*100 -> 3.1011158 | Q20: 105554 | R20: =(Q20/$Q$7)*100 -> 2.5445233 | S20: 179306 | T20: =(S20/$S$7)*100 -> 3.5594639
A21: 65－ 69 | C21: =SUM(E21,G21) -> 657986 | D21: =(C21/$C$7)*100 -> 3.0086955 | E21: =SUM('91'!K21,'91'!Q21) -> 317858 | F21: =(E21/$E$7)*100 -> 2.914735 | G21: =SUM('91'!M21,'91'!S21) -> 340128 | H21: =(G21/$G$7)*100 -> 3.1021499 | I21: =SUM('91'!K21,'91'!M21) -> 389671 | J21: =(I21/$I$7)*100 -> 3.0722061 | K21: =213191-185 -> 213006 | L21: =(K21/$K$7)*100 -> 3.1524084 | M21: =177111-446 -> 176665 | N21: =(M21/$M$7)*100 -> 2.9807706 | O21: =Q21+S21 -> 268315 | P21: =(O21/$O$7)*100 -> 2.9209994 | Q21: 104852 | R21: =(Q21/$Q$7)*100 -> 2.5276006 | S21: 163463 | T21: =(S21/$S$7)*100 -> 3.2449591
A22: 70－ 74 | C22: =SUM(E22,G22) -> 589152 | D22: =(C22/$C$7)*100 -> 2.6939463 | E22: =SUM('91'!K22,'91'!Q22) -> 318009 | F22: =(E22/$E$7)*100 -> 2.9161196 | G22: =SUM('91'!M22,'91'!S22) -> 271143 | H22: =(G22/$G$7)*100 -> 2.4729697 | I22: =SUM('91'!K22,'91'!M22) -> 386578 | J22: =(I22/$I$7)*100 -> 3.0478206 | K22: =240885-105 -> 240780 | L22: =(K22/$K$7)*100 -> 3.5634532 | M22: =146193-395 -> 145798 | N22: =(M22/$M$7)*100 -> 2.4599689 | O22: =Q22+S22 -> 202574 | P22: =(O22/$O$7)*100 -> 2.2053129 | Q22: 77229 | R22: =(Q22/$Q$7)*100 -> 1.8617105 | S22: 125345 | T22: =(S22/$S$7)*100 -> 2.4882659
A23: 75－ 79 | C23: =SUM(E23,G23) -> 414496 | D23: =(C23/$C$7)*100 -> 1.8953173 | E23: =SUM('91'!K23,'91'!Q23) -> 227532 | F23: =(E23/$E$7)*100 -> 2.0864521 | G23: =SUM('91'!M23,'91'!S23) -> 186964 | H23: =(G23/$G$7)*100 -> 1.705212 | I23: =SUM('91'!K23,'91'!M23) -> 278057 | J23: =(I23/$I$7)*100 -> 2.1922299 | K23: =176855-73 -> 176782 | L23: =(K23/$K$7)*100 -> 2.6163069 | M23: =101636-361 -> 101275 | N23: =(M23/$M$7)*100 -> 1.708757 | O23: =Q23+S23 -> 136439 | P23: =(O23/$O$7)*100 -> 1.4853371 | Q23: 50750 | R23: =(Q23/$Q$7)*100 -> 1.223398 | S23: 85689 | T23: =(S23/$S$7)*100 -> 1.7010412
A24: 80－ 84 | C24: =SUM(E24,G24) -> 220849 | D24: =(C24/$C$7)*100 -> 1.0098503 | E24: =SUM('91'!K24,'91'!Q24) -> 111694 | F24: =(E24/$E$7)*100 -> 1.0242259 | G24: =SUM('91'!M24,'91'!S24) -> 109155 | H24: =(G24/$G$7)*100 -> 0.99555219 | I24: =SUM('91'!K24,'91'!M24) -> 144238 | J24: =(I24/$I$7)*100 -> 1.1371872 | K24: =84294-38 -> 84256 | L24: =(K24/$K$7)*100 -> 1.246957 | M24: =60172-190 -> 59982 | N24: =(M24/$M$7)*100 -> 1.012043 | O24: =Q24+S24 -> 76611 | P24: =(O24/$O$7)*100 -> 0.83402226 | Q24: 27438 | R24: =(Q24/$Q$7)*100 -> 0.66143044 | S24: 49173 | T24: =(S24/$S$7)*100 -> 0.97614981
A25: 85－ 89 | C25: =SUM(E25,G25) -> 89766 | D25: =(C25/$C$7)*100 -> 0.41046247 | E25: =SUM('91'!K25,'91'!Q25) -> 40833 | F25: =(E25/$E$7)*100 -> 0.37443567 | G25: =SUM('91'!M25,'91'!S25) -> 48933 | H25: =(G25/$G$7)*100 -> 0.44629522 | I25: =SUM('91'!K25,'91'!M25) -> 57053 | J25: =(I25/$I$7)*100 -> 0.4498117 | K25: =30541-11 -> 30530 | L25: =(K25/$K$7)*100 -> 0.45183248 | M25: =26631-108 -> 26523 | N25: =(M25/$M$7)*100 -> 0.44750788 | O25: =Q25+S25 -> 32713 | P25: =(O25/$O$7)*100 -> 0.35612863 | Q25: 10303 | R25: =(Q25/$Q$7)*100 -> 0.24836788 | S25: 22410 | T25: =(S25/$S$7)*100 -> 0.44486847
A26: 90－ 94 | C26: =SUM(E26,G26) -> 27424 | D26: =(C26/$C$7)*100 -> 0.12539851 | E26: =SUM('91'!K26,'91'!Q26) -> 10893 | F26: =(E26/$E$7)*100 -> 0.099888026 | G26: =SUM('91'!M26,'91'!S26) -> 16531 | H26: =(G26/$G$7)*100 -> 0.15077159 | I26: =SUM('91'!K26,'91'!M26) -> 16743 | J26: =(I26/$I$7)*100 -> 0.13200353 | K26: =7905-2 -> 7903 | L26: =(K26/$K$7)*100 -> 0.11696142 | M26: =8889-49 -> 8840 | N26: =(M26/$M$7)*100 -> 0.14915242 | O26: =Q26+S26 -> 10681 | P26: =(O26/$O$7)*100 -> 0.11627823 | Q26: 2990 | R26: =(Q26/$Q$7)*100 -> 0.072078031 | S26: 7691 | T26: =(S26/$S$7)*100 -> 0.15267664
A27: 95－ 99 | C27: =SUM(E27,G27) -> 4577 | D27: =(C27/$C$7)*100 -> 0.020928712 | E27: =SUM('91'!K27,'91'!Q27) -> 1527 | F27: =(E27/$E$7)*100 -> 0.01400248 | G27: =SUM('91'!M27,'91'!S27) -> 3050 | H27: =(G27/$G$7)*100 -> 0.027817637 | I27: =SUM('91'!K27,'91'!M27) -> 2641 | J27: =(I27/$I$7)*100 -> 0.020821915 | K27: =1088-1 -> 1087 | L27: =(K27/$K$7)*100 -> 0.01608719 | M27: =1560-6 -> 1554 | N27: =(M27/$M$7)*100 -> 0.026219781 | O27: =Q27+S27 -> 1936 | P27: =(O27/$O$7)*100 -> 0.021076178 | Q27: 440 | R27: =(Q27/$Q$7)*100 -> 0.010606801 | S27: 1496 | T27: =(S27/$S$7)*100 -> 0.029697601
C28: =SUM(E28,G28) -> 630 | D28: =(C28/$C$7)*100 -> 0.0028807272 | E28: =SUM('91'!K28,'91'!Q28) -> 200 | F28: =(E28/$E$7)*100 -> 0.0018339856 | G28: =SUM('91'!M28,'91'!S28) -> 430 | H28: =(G28/$G$7)*100 -> 0.0039218308 | I28: =SUM('91'!K28,'91'!M28) -> 353 | J28: =(I28/$I$7)*100 -> 0.0027830882 | K28: 145 | L28: =(K28/$K$7)*100 -> 0.0021459453 | M28: =213-5 -> 208 | N28: =(M28/$M$7)*100 -> 0.0035094687 | O28: =Q28+S28 -> 277 | P28: =(O28/$O$7)*100 -> 0.0030155483 | Q28: 55 | R28: =(Q28/$Q$7)*100 -> 0.0013258501 | S28: 222 | T28: =(S28/$S$7)*100 -> 0.0044069969
A29: 平均年齡 | B29: mean | C29: 33.98 | E29: 33.9 | G29: 34.06 | I29: 41.14 | K29: 42.87 | M29: 41.3 | O29: 22.71 | Q29: 19.29 | S29: 25.53

Sheet 90
A1: 保險對象人數－按年齡性別分 | K1: Beneficiaries by Gender and Age
D3: 中華民國九十年底 | I3: 單位：人 | O3: End of 2001 | T3: Unit：Person
C4: 保險對象 Beneficiaries | K4: 被保險人 Insureds | O4: 眷屬 Dependents
C5: 合 計 Total | E5: 男 Male | G5: 女 Female | I5: 合 計 Total | K5: 男 Male | M5: 女 Female | O5: 合 計 Total | Q5: 男 Male | S5: 女 Female
C6: 人數 Number | D6: 百分比 % | E6: 人數 Number | F6: 百分比 % | G6: 人數 Number | H6: 百分比 % | I6: 人數 Number | J6: 百分比 % | K6: 人數 Number | L6: 百分比 % | M6: 人數 Number | N6: 百分比 % | O6: 人數 Number | P6: 百分比 % | Q6: 人數 Number | R6: 百分比 % | S6: 人數 Number | T6: 百分比 %
A7: 總 計 | B7: Grand Total | C7: =SUM(E7,G7) -> 21653555 | D7: =(C7/C7)*100 -> 100 | E7: =SUM('90'!K7,'90'!Q7) -> 10805834 | F7: =(E7/E7)*100 -> 100 | G7: =SUM('90'!M7,'90'!S7) -> 10847721 | H7: =(G7/G7)*100 -> 100 | I7: =SUM('90'!K7,'90'!M7) -> 12465947 | J7: =(I7/I7)*100 -> 100 | K7: =SUM(K8:K28) -> 6656702 | L7: =(K7/K7)*100 -> 100 | M7: =SUM(M8:M28) -> 5809245 | N7: =(M7/M7)*100 -> 100 | O7: =Q7+S7 -> 9187608 | P7: =(O7/O7)*100 -> 100 | Q7: =SUM(Q8:Q28) -> 4149132 | R7: =(Q7/Q7)*100 -> 100 | S7: =SUM(S8:S28) -> 5038476 | T7: =(S7/S7)*100 -> 100
A8: 0－ 4 | C8: =SUM(E8,G8) -> 1376623 | D8: =(C8/$C$7)*100 -> 6.3574919 | E8: =SUM('90'!K8,'90'!Q8) -> 718617 | F8: =(E8/$E$7)*100 -> 6.6502687 | G8: =SUM('90'!M8,'90'!S8) -> 658006 | H8: =(G8/$G$7)*100 -> 6.0658455 | I8: =SUM('90'!K8,'90'!M8) -> 11718 | J8: =(I8/$I$7)*100 -> 0.094000079 | K8: =6132-37 -> 6095 | L8: =(K8/$K$7)*100 -> 0.091561858 | M8: =5646-23 -> 5623 | N8: =(M8/$M$7)*100 -> 0.09679399 | O8: =Q8+S8 -> 1364905 | P8: =(O8/$O$7)*100 -> 14.855934 | Q8: 712522 | R8: =(Q8/$Q$7)*100 -> 17.172797 | S8: 652383 | T8: =(S8/$S$7)*100 -> 12.948022
A9: 5－ 9 | C9: =SUM(E9,G9) -> 1567801 | D9: =(C9/$C$7)*100 -> 7.2403862 | E9: =SUM('90'!K9,'90'!Q9) -> 816716 | F9: =(E9/$E$7)*100 -> 7.5581024 | G9: =SUM('90'!M9,'90'!S9) -> 751085 | H9: =(G9/$G$7)*100 -> 6.9238967 | I9: =SUM('90'!K9,'90'!M9) -> 25511 | J9: =(I9/$I$7)*100 -> 0.2046455 | K9: =13255-113 -> 13142 | L9: =(K9/$K$7)*100 -> 0.19742509 | M9: =12450-81 -> 12369 | N9: =(M9/$M$7)*100 -> 0.21291923 | O9: =Q9+S9 -> 1542290 | P9: =(O9/$O$7)*100 -> 16.786633 | Q9: 803574 | R9: =(Q9/$Q$7)*100 -> 19.36728 | S9: 738716 | T9: =(S9/$S$7)*100 -> 14.661497
A10: 10－ 14 | C10: =SUM(E10,G10) -> 1554913 | D10: =(C10/$C$7)*100 -> 7.1808671 | E10: =SUM('90'!K10,'90'!Q10) -> 810743 | F10: =(E10/$E$7)*100 -> 7.5028267 | G10: =SUM('90'!M10,'90'!S10) -> 744170 | H10: =(G10/$G$7)*100 -> 6.8601506 | I10: =SUM('90'!K10,'90'!M10) -> 36073 | J10: =(I10/$I$7)*100 -> 0.28937232 | K10: =18848-670 -> 18178 | L10: =(K10/$K$7)*100 -> 0.27307817 | M10: =18045-150 -> 17895 | N10: =(M10/$M$7)*100 -> 0.30804347 | O10: =Q10+S10 -> 1518840 | P10: =(O10/$O$7)*100 -> 16.531398 | Q10: 792565 | R10: =(Q10/$Q$7)*100 -> 19.101947 | S10: 726275 | T10: =(S10/$S$7)*100 -> 14.414577
A11: 15－ 19 | C11: =SUM(E11,G11) -> 1712798 | D11: =(C11/$C$7)*100 -> 7.9100083 | E11: =SUM('90'!K11,'90'!Q11) -> 875104 | F11: =(E11/$E$7)*100 -> 8.0984402 | G11: =SUM('90'!M11,'90'!S11) -> 837694 | H11: =(G11/$G$7)*100 -> 7.7223041 | I11: =SUM('90'!K11,'90'!M11) -> 183024 | J11: =(I11/$I$7)*100 -> 1.4681917 | K11: =109184-13156 -> 96028 | L11: =(K11/$K$7)*100 -> 1.4425762 | M11: =87497-501 -> 86996 | N11: =(M11/$M$7)*100 -> 1.497544 | O11: =Q11+S11 -> 1529774 | P11: =(O11/$O$7)*100 -> 16.650406 | Q11: 779076 | R11: =(Q11/$Q$7)*100 -> 18.776843 | S11: 750698 | T11: =(S11/$S$7)*100 -> 14.899307
A12: 20－ 24 | C12: =SUM(E12,G12) -> 1756349 | D12: =(C12/$C$7)*100 -> 8.1111346 | E12: =SUM('90'!K12,'90'!Q12) -> 767208 | F12: =(E12/$E$7)*100 -> 7.0999425 | G12: =SUM('90'!M12,'90'!S12) -> 989141 | H12: =(G12/$G$7)*100 -> 9.1184222 | I12: =SUM('90'!K12,'90'!M12) -> 1018085 | J12: =(I12/$I$7)*100 -> 8.1669287 | K12: =670319-231215 -> 439104 | L12: =(K12/$K$7)*100 -> 6.5964197 | M12: =579472-491 -> 578981 | N12: =(M12/$M$7)*100 -> 9.9665447 | O12: =Q12+S12 -> 738264 | P12: =(O12/$O$7)*100 -> 8.0354321 | Q12: 328104 | R12: =(Q12/$Q$7)*100 -> 7.9077744 | S12: 410160 | T12: =(S12/$S$7)*100 -> 8.1405568
A13: 25－ 29 | C13: =SUM(E13,G13) -> 1843858 | D13: =(C13/$C$7)*100 -> 8.5152669 | E13: =SUM('90'!K13,'90'!Q13) -> 888491 | F13: =(E13/$E$7)*100 -> 8.2223269 | G13: =SUM('90'!M13,'90'!S13) -> 955367 | H13: =(G13/$G$7)*100 -> 8.8070757 | I13: =SUM('90'!K13,'90'!M13) -> 1604543 | J13: =(I13/$I$7)*100 -> 12.871409 | K13: =845752-19168 -> 826584 | L13: =(K13/$K$7)*100 -> 12.41732 | M13: =778024-65 -> 777959 | N13: =(M13/$M$7)*100 -> 13.39174 | O13: =Q13+S13 -> 239315 | P13: =(O13/$O$7)*100 -> 2.6047585 | Q13: 61907 | R13: =(Q13/$Q$7)*100 -> 1.492047 | S13: 177408 | T13: =(S13/$S$7)*100 -> 3.5210647
A14: 30－ 34 | C14: =SUM(E14,G14) -> 1842188 | D14: =(C14/$C$7)*100 -> 8.5075545 | E14: =SUM('90'!K14,'90'!Q14) -> 918157 | F14: =(E14/$E$7)*100 -> 8.4968638 | G14: =SUM('90'!M14,'90'!S14) -> 924031 | H14: =(G14/$G$7)*100 -> 8.518204 | I14: =SUM('90'!K14,'90'!M14) -> 1600092 | J14: =(I14/$I$7)*100 -> 12.835704 | K14: =875559-344 -> 875215 | L14: =(K14/$K$7)*100 -> 13.147877 | M14: =724907-30 -> 724877 | N14: =(M14/$M$7)*100 -> 12.47799 | O14: =Q14+S14 -> 242096 | P14: =(O14/$O$7)*100 -> 2.6350275 | Q14: 42942 | R14: =(Q14/$Q$7)*100 -> 1.0349635 | S14: 199154 | T14: =(S14/$S$7)*100 -> 3.9526635
A15: 35－ 39 | C15: =SUM(E15,G15) -> 1892518 | D15: =(C15/$C$7)*100 -> 8.7399875 | E15: =SUM('90'!K15,'90'!Q15) -> 949722 | F15: =(E15/$E$7)*100 -> 8.7889745 | G15: =SUM('90'!M15,'90'!S15) -> 942796 | H15: =(G15/$G$7)*100 -> 8.6911896 | I15: =SUM('90'!K15,'90'!M15) -> 1644471 | J15: =(I15/$I$7)*100 -> 13.191705 | K15: =897761-25 -> 897736 | L15: =(K15/$K$7)*100 -> 13.486198 | M15: =746799-64 -> 746735 | N15: =(M15/$M$7)*100 -> 12.854252 | O15: =Q15+S15 -> 248047 | P15: =(O15/$O$7)*100 -> 2.6997996 | Q15: 51986 | R15: =(Q15/$Q$7)*100 -> 1.2529368 | S15: 196061 | T15: =(S15/$S$7)*100 -> 3.8912759
A16: 40－ 44 | C16: =SUM(E16,G16) -> 1783897 | D16: =(C16/$C$7)*100 -> 8.2383562 | E16: =SUM('90'!K16,'90'!Q16) -> 891960 | F16: =(E16/$E$7)*100 -> 8.25443 | G16: =SUM('90'!M16,'90'!S16) -> 891937 | H16: =(G16/$G$7)*100 -> 8.2223446 | I16: =SUM('90'!K16,'90'!M16) -> 1561169 | J16: =(I16/$I$7)*100 -> 12.523469 | K16: =839804-12 -> 839792 | L16: =(K16/$K$7)*100 -> 12.615737 | M16: =721485-108 -> 721377 | N16: =(M16/$M$7)*100 -> 12.417741 | O16: =Q16+S16 -> 222728 | P16: =(O16/$O$7)*100 -> 2.4242218 | Q16: 52168 | R16: =(Q16/$Q$7)*100 -> 1.2573232 | S16: 170560 | T16: =(S16/$S$7)*100 -> 3.3851506
A17: 45－ 49 | C17: =SUM(E17,G17) -> 1607105 | D17: =(C17/$C$7)*100 -> 7.4218991 | E17: =SUM('90'!K17,'90'!Q17) -> 799893 | F17: =(E17/$E$7)*100 -> 7.402418 | G17: =SUM('90'!M17,'90'!S17) -> 807212 | H17: =(G17/$G$7)*100 -> 7.441305 | I17: =SUM('90'!K17,'90'!M17) -> 1405285 | J17: =(I17/$I$7)*100 -> 11.27299 | K17: =748108-19 -> 748089 | L17: =(K17/$K$7)*100 -> 11.238133 | M17: =657403-207 -> 657196 | N17: =(M17/$M$7)*100 -> 11.312933 | O17: =Q17+S17 -> 201820 | P17: =(O17/$O$7)*100 -> 2.1966545 | Q17: 51804 | R17: =(Q17/$Q$7)*100 -> 1.2485503 | S17: 150016 | T17: =(S17/$S$7)*100 -> 2.9774082
A18: 50－ 54 | C18: =SUM(E18,G18) -> 1207250 | D18: =(C18/$C$7)*100 -> 5.575297 | E18: =SUM('90'!K18,'90'!Q18) -> 598862 | F18: =(E18/$E$7)*100 -> 5.5420248 | G18: =SUM('90'!M18,'90'!S18) -> 608388 | H18: =(G18/$G$7)*100 -> 5.6084407 | I18: =SUM('90'!K18,'90'!M18) -> 1037632 | J18: =(I18/$I$7)*100 -> 8.3237318 | K18: =547361-42 -> 547319 | L18: =(K18/$K$7)*100 -> 8.2220745 | M18: =490654-341 -> 490313 | N18: =(M18/$M$7)*100 -> 8.440219 | O18: =Q18+S18 -> 169618 | P18: =(O18/$O$7)*100 -> 1.8461606 | Q18: 51543 | R18: =(Q18/$Q$7)*100 -> 1.2422598 | S18: 118075 | T18: =(S18/$S$7)*100 -> 2.3434666
A19: 55－ 59 | C19: =SUM(E19,G19) -> 781481 | D19: =(C19/$C$7)*100 -> 3.6090194 | E19: =SUM('90'!K19,'90'!Q19) -> 384472 | F19: =(E19/$E$7)*100 -> 3.5580039 | G19: =SUM('90'!M19,'90'!S19) -> 397009 | H19: =(G19/$G$7)*100 -> 3.6598379 | I19: =SUM('90'!K19,'90'!M19) -> 588997 | J19: =(I19/$I$7)*100 -> 4.7248476 | K19: =326793-84 -> 326709 | L19: =(K19/$K$7)*100 -> 4.9079709 | M19: =262725-437 -> 262288 | N19: =(M19/$M$7)*100 -> 4.5150101 | O19: =Q19+S19 -> 192484 | P19: =(O19/$O$7)*100 -> 2.0950393 | Q19: 57763 | R19: =(Q19/$Q$7)*100 -> 1.3921707 | S19: 134721 | T19: =(S19/$S$7)*100 -> 2.6738442
A20: 60－ 64 | C20: =SUM(E20,G20) -> 776040 | D20: =(C20/$C$7)*100 -> 3.5838919 | E20: =SUM('90'!K20,'90'!Q20) -> 374380 | F20: =(E20/$E$7)*100 -> 3.46461 | G20: =SUM('90'!M20,'90'!S20) -> 401660 | H20: =(G20/$G$7)*100 -> 3.7027132 | I20: =SUM('90'!K20,'90'!M20) -> 500439 | J20: =(I20/$I$7)*100 -> 4.0144483 | K20: =274648-136 -> 274512 | L20: =(K20/$K$7)*100 -> 4.1238439 | M20: =226495-568 -> 225927 | N20: =(M20/$M$7)*100 -> 3.889094 | O20: =Q20+S20 -> 275601 | P20: =(O20/$O$7)*100 -> 2.9997035 | Q20: 99868 | R20: =(Q20/$Q$7)*100 -> 2.4069613 | S20: 175733 | T20: =(S20/$S$7)*100 -> 3.4878205
A21: 65－ 69 | C21: =SUM(E21,G21) -> 650662 | D21: =(C21/$C$7)*100 -> 3.0048738 | E21: =SUM('90'!K21,'90'!Q21) -> 320216 | F21: =(E21/$E$7)*100 -> 2.9633622 | G21: =SUM('90'!M21,'90'!S21) -> 330446 | H21: =(G21/$G$7)*100 -> 3.0462251 | I21: =SUM('90'!K21,'90'!M21) -> 392495 | J21: =(I21/$I$7)*100 -> 3.1485374 | K21: =219430-179 -> 219251 | L21: =(K21/$K$7)*100 -> 3.2936881 | M21: =173645-401 -> 173244 | N21: =(M21/$M$7)*100 -> 2.982212 | O21: =Q21+S21 -> 258167 | P21: =(O21/$O$7)*100 -> 2.8099479 | Q21: 100965 | R21: =(Q21/$Q$7)*100 -> 2.4334005 | S21: 157202 | T21: =(S21/$S$7)*100 -> 3.1200307
A22: 70－ 74 | C22: =SUM(E22,G22) -> 587644 | D22: =(C22/$C$7)*100 -> 2.7138454 | E22: =SUM('90'!K22,'90'!Q22) -> 324165 | F22: =(E22/$E$7)*100 -> 2.9999073 | G22: =SUM('90'!M22,'90'!S22) -> 263479 | H22: =(G22/$G$7)*100 -> 2.4288881 | I22: =SUM('90'!K22,'90'!M22) -> 391199 | J22: =(I22/$I$7)*100 -> 3.138141 | K22: =249581-89 -> 249492 | L22: =(K22/$K$7)*100 -> 3.7479821 | M22: =142133-426 -> 141707 | N22: =(M22/$M$7)*100 -> 2.4393359 | O22: =Q22+S22 -> 196445 | P22: =(O22/$O$7)*100 -> 2.1381517 | Q22: 74673 | R22: =(Q22/$Q$7)*100 -> 1.7997258 | S22: 121772 | T22: =(S22/$S$7)*100 -> 2.4168419
A23: 75－ 79 | C23: =SUM(E23,G23) -> 394551 | D23: =(C23/$C$7)*100 -> 1.8221073 | E23: =SUM('90'!K23,'90'!Q23) -> 215485 | F23: =(E23/$E$7)*100 -> 1.9941543 | G23: =SUM('90'!M23,'90'!S23) -> 179066 | H23: =(G23/$G$7)*100 -> 1.6507246 | I23: =SUM('90'!K23,'90'!M23) -> 262535 | J23: =(I23/$I$7)*100 -> 2.1060173 | K23: =166441-75 -> 166366 | L23: =(K23/$K$7)*100 -> 2.4992256 | M23: =96500-331 -> 96169 | N23: =(M23/$M$7)*100 -> 1.6554475 | O23: =Q23+S23 -> 132016 | P23: =(O23/$O$7)*100 -> 1.436892 | Q23: 49119 | R23: =(Q23/$Q$7)*100 -> 1.183838 | S23: 82897 | T23: =(S23/$S$7)*100 -> 1.6452792
A24: 80－ 84 | C24: =SUM(E24,G24) -> 204551 | D24: =(C24/$C$7)*100 -> 0.9446532 | E24: =SUM('90'!K24,'90'!Q24) -> 102614 | F24: =(E24/$E$7)*100 -> 0.94961666 | G24: =SUM('90'!M24,'90'!S24) -> 101937 | H24: =(G24/$G$7)*100 -> 0.9397089 | I24: =SUM('90'!K24,'90'!M24) -> 132526 | J24: =(I24/$I$7)*100 -> 1.0631042 | K24: =77090-31 -> 77059 | L24: =(K24/$K$7)*100 -> 1.1576153 | M24: =55653-186 -> 55467 | N24: =(M24/$M$7)*100 -> 0.95480566 | O24: =Q24+S24 -> 72025 | P24: =(O24/$O$7)*100 -> 0.78393636 | Q24: 25555 | R24: =(Q24/$Q$7)*100 -> 0.61591195 | S24: 46470 | T24: =(S24/$S$7)*100 -> 0.9223027
A25: 85－ 89 | C25: =SUM(E25,G25) -> 85130 | D25: =(C25/$C$7)*100 -> 0.39314561 | E25: =SUM('90'!K25,'90'!Q25) -> 38758 | F25: =(E25/$E$7)*100 -> 0.35867662 | G25: =SUM('90'!M25,'90'!S25) -> 46372 | H25: =(G25/$G$7)*100 -> 0.4274815 | I25: =SUM('90'!K25,'90'!M25) -> 53609 | J25: =(I25/$I$7)*100 -> 0.43004354 | K25: =28774-14 -> 28760 | L25: =(K25/$K$7)*100 -> 0.43204578 | M25: =24951-102 -> 24849 | N25: =(M25/$M$7)*100 -> 0.42774922 | O25: =Q25+S25 -> 31521 | P25: =(O25/$O$7)*100 -> 0.34308168 | Q25: 9998 | R25: =(Q25/$Q$7)*100 -> 0.24096606 | S25: 21523 | T25: =(S25/$S$7)*100 -> 0.42717282
A26: 90－ 94 | C26: =SUM(E26,G26) -> 23527 | D26: =(C26/$C$7)*100 -> 0.1086519 | E26: =SUM('90'!K26,'90'!Q26) -> 8750 | F26: =(E26/$E$7)*100 -> 0.080974777 | G26: =SUM('90'!M26,'90'!S26) -> 14777 | H26: =(G26/$G$7)*100 -> 0.13622216 | I26: =SUM('90'!K26,'90'!M26) -> 13918 | J26: =(I26/$I$7)*100 -> 0.11164816 | K26: =6208-2 -> 6206 | L26: =(K26/$K$7)*100 -> 0.09322935 | M26: =7747-35 -> 7712 | N26: =(M26/$M$7)*100 -> 0.13275391 | O26: =Q26+S26 -> 9609 | P26: =(O26/$O$7)*100 -> 0.10458653 | Q26: 2544 | R26: =(Q26/$Q$7)*100 -> 0.061314029 | S26: 7065 | T26: =(S26/$S$7)*100 -> 0.14022097
A27: 95－ 99 | C27: =SUM(E27,G27) -> 4125 | D27: =(C27/$C$7)*100 -> 0.01904999 | E27: =SUM('90'!K27,'90'!Q27) -> 1382 | F27: =(E27/$E$7)*100 -> 0.012789388 | G27: =SUM('90'!M27,'90'!S27) -> 2743 | H27: =(G27/$G$7)*100 -> 0.025286417 | I27: =SUM('90'!K27,'90'!M27) -> 2333 | J27: =(I27/$I$7)*100 -> 0.018714984 | K27: 965 | L27: =(K27/$K$7)*100 -> 0.014496668 | M27: =1374-6 -> 1368 | N27: =(M27/$M$7)*100 -> 0.023548671 | O27: =Q27+S27 -> 1792 | P27: =(O27/$O$7)*100 -> 0.019504533 | Q27: 417 | R27: =(Q27/$Q$7)*100 -> 0.010050295 | S27: 1375 | T27: =(S27/$S$7)*100 -> 0.027289998
C28: =SUM(E28,G28) -> 544 | D28: =(C28/$C$7)*100 -> 0.0025122896 | E28: =SUM('90'!K28,'90'!Q28) -> 139 | F28: =(E28/$E$7)*100 -> 0.0012863422 | G28: =SUM('90'!M28,'90'!S28) -> 405 | H28: =(G28/$G$7)*100 -> 0.0037335031 | I28: =SUM('90'!K28,'90'!M28) -> 293 | J28: =(I28/$I$7)*100 -> 0.0023504031 | K28: 100 | L28: =(K28/$K$7)*100 -> 0.0015022454 | M28: =198-5 -> 193 | N28: =(M28/$M$7)*100 -> 0.0033222906 | O28: =Q28+S28 -> 251 | P28: =(O28/$O$7)*100 -> 0.0027319407 | Q28: 39 | R28: =(Q28/$Q$7)*100 -> 0.00093995563 | S28: 212 | T28: =(S28/$S$7)*100 -> 0.0042076215
A29: 平均年齡 | B29: mean | C29: 33.59 | E29: 33.54 | G29: 33.65 | I29: 41.98 | K29: 42.76 | M29: 41.09 | O29: 22.21 | Q29: 18.75 | S29: 25.06

Sheet 89
A1: 保險對象人數－按年齡性別分 | K1: Beneficiaries by Gender and Age
D3: 中華民國八十九年底 | I3: 單位：人 | O3: End of 2000 | T3: Unit：Person
C4: 保險對象 Beneficiaries | K4: 被保險人 Insureds | O4: 眷屬 Dependents
C5: 合 計 Total | E5: 男 Male | G5: 女 Female | I5: 合 計 Total | K5: 男 Male | M5: 女 Female | O5: 合 計 Total | Q5: 男 Male | S5: 女 Female
C6: 人數 Number | D6: 百分比 % | E6: 人數 Number | F6: 百分比 % | G6: 人數 Number | H6: 百分比 % | I6: 人數 Number | J6: 百分比 % | K6: 人數 Number | L6: 百分比 % | M6: 人數 Number | N6: 百分比 % | O6: 人數 Number | P6: 百分比 % | Q6: 人數 Number | R6: 百分比 % | S6: 人數 Number | T6: 百分比 %
A7: 總 計 | B7: Grand Total | C7: 21400826 | D7: 100 | E7: 10710080 | F7: 100 | G7: 10690746 | H7: 100 | I7: 12346850 | J7: 100 | K7: =SUM(K8:K28) -> 6590172 | L7: =(K7/$K$7)*100 -> 100 | M7: =SUM(M8:M28) -> 5756678 | N7: =(M7/M7)*100 -> 100 | O7: =Q7+S7 -> 9053976 | P7: =(O7/O7)*100 -> 100 | Q7: =SUM(Q8:Q28) -> 4119908 | R7: =(Q7/Q7)*100 -> 100 | S7: =SUM(S8:S28) -> 4934068 | T7: =(S7/S7)*100 -> 100
A8: 0－ 4 | C8: 1412512 | D8: 6.6002686 | E8: 736303 | F8: 6.8748599 | G8: 676209 | H8: 6.3251807 | I8: 9881 | J8: 0.080028509 | K8: 5167 | L8: =(K8/$K$7)*100 -> 0.07840463 | M8: 4714 | N8: =(M8/$C$7)*100 -> 0.022027187 | O8: =Q8+S8 -> 1402631 | P8: =(O8/$E$7)*100 -> 13.096363 | Q8: 731136 | R8: =(Q8/$G$7)*100 -> 6.8389615 | S8: 671495 | T8: =(S8/$I$7)*100 -> 5.4385936
A9: 5－ 9 | C9: 1553279 | D9: 7.2580329 | E9: 808997 | F9: 7.5536037 | G9: 744282 | H9: 6.9619276 | I9: 21469 | J9: 0.17388241 | K9: 10993 | L9: =(K9/$K$7)*100 -> 0.166809 | M9: 10476 | N9: =(M9/$C$7)*100 -> 0.048951382 | O9: =Q9+S9 -> 1531810 | P9: =(O9/$E$7)*100 -> 14.302508 | Q9: 798004 | R9: =(Q9/$G$7)*100 -> 7.464437 | S9: 733806 | T9: =(S9/$I$7)*100 -> 5.9432649
A10: 10－ 14 | C10: 1529256 | D10: 7.1457803 | E10: 794768 | F10: 7.4207476 | G10: 734488 | H10: 6.8703157 | I10: 32304 | J10: 0.26163758 | K10: 16297 | L10: =(K10/$K$7)*100 -> 0.24729248 | M10: 16007 | N10: =(M10/$C$7)*100 -> 0.074796178 | O10: =Q10+S10 -> 1496952 | P10: =(O10/$E$7)*100 -> 13.977038 | Q10: 778471 | R10: =(Q10/$G$7)*100 -> 7.2817276 | S10: 718481 | T10: =(S10/$I$7)*100 -> 5.8191442
A11: 15－ 19 | C11: 1817773 | D11: 8.4939385 | E11: 931454 | F11: 8.6969845 | G11: 886319 | H11: 8.2905253 | I11: 231360 | J11: 1.8738383 | K11: 120714 | L11: =(K11/$K$7)*100 -> 1.8317276 | M11: 110646 | N11: =(M11/$C$7)*100 -> 0.51701743 | O11: =Q11+S11 -> 1586413 | P11: =(O11/$E$7)*100 -> 14.812336 | Q11: 810740 | R11: =(Q11/$G$7)*100 -> 7.5835681 | S11: 775673 | T11: =(S11/$I$7)*100 -> 6.2823554
A12: 20－ 24 | C12: 1735727 | D12: 8.1105608 | E12: 761225 | F12: 7.1075566 | G12: 974502 | H12: 9.1153789 | I12: 1045506 | J12: 8.4677954 | K12: 439658 | L12: =(K12/$K$7)*100 -> 6.6714192 | M12: 605848 | N12: =(M12/$C$7)*100 -> 2.8309562 | O12: =Q12+S12 -> 690221 | P12: =(O12/$E$7)*100 -> 6.4445924 | Q12: 321567 | R12: =(Q12/$G$7)*100 -> 3.0079005 | S12: 368654 | T12: =(S12/$I$7)*100 -> 2.9858142
A13: 25－ 29 | C13: 1781665 | D13: 8.325216 | E13: 864058 | F13: 8.0677082 | G13: 917607 | H13: 8.5831896 | I13: 1566217 | J13: 12.685155 | K13: 808722 | L13: =(K13/$K$7)*100 -> 12.271637 | M13: 757495 | N13: =(M13/$C$7)*100 -> 3.5395596 | O13: =Q13+S13 -> 215448 | P13: =(O13/$E$7)*100 -> 2.0116376 | Q13: 55336 | R13: =(Q13/$G$7)*100 -> 0.51760654 | S13: 160112 | T13: =(S13/$I$7)*100 -> 1.2967842
A14: 30－ 34 | C14: 1853691 | D14: 8.6617731 | E14: 927940 | F14: 8.6641743 | G14: 925751 | H14: 8.6593676 | I14: 1620495 | J14: 13.124765 | K14: 885645 | L14: =(K14/$K$7)*100 -> 13.438875 | M14: 734850 | N14: =(M14/$C$7)*100 -> 3.433746 | O14: =Q14+S14 -> 233196 | P14: =(O14/$E$7)*100 -> 2.1773507 | Q14: 42295 | R14: =(Q14/$G$7)*100 -> 0.39562253 | S14: 190901 | T14: =(S14/$I$7)*100 -> 1.5461514
A15: 35－ 39 | C15: 1883571 | D15: 8.8013939 | E15: 945667 | F15: 8.8296913 | G15: 937904 | H15: 8.7730454 | I15: 1648377 | J15: 13.350587 | K15: 896954 | L15: =(K15/$K$7)*100 -> 13.610479 | M15: 751423 | N15: =(M15/$C$7)*100 -> 3.5111869 | O15: =Q15+S15 -> 235194 | P15: =(O15/$E$7)*100 -> 2.196006 | Q15: 48713 | R15: =(Q15/$G$7)*100 -> 0.45565576 | S15: 186481 | T15: =(S15/$I$7)*100 -> 1.5103528
A16: 40－ 44 | C16: 1757410 | D16: 8.2118793 | E16: 878516 | F16: 8.2027025 | G16: 878894 | H16: 8.2210727 | I16: 1547516 | J16: 12.533691 | K16: 830578 | L16: =(K16/$K$7)*100 -> 12.603283 | M16: 716938 | N16: =(M16/$C$7)*100 -> 3.3500483 | O16: =Q16+S16 -> 209894 | P16: =(O16/$E$7)*100 -> 1.9597799 | Q16: 47938 | R16: =(Q16/$G$7)*100 -> 0.4484065 | S16: 161956 | T16: =(S16/$I$7)*100 -> 1.3117192
A17: 45－ 49 | C17: 1569732 | D17: 7.3349131 | E17: 782260 | F17: 7.3039604 | G17: 787472 | H17: 7.3659219 | I17: 1380672 | J17: 11.182383 | K17: 735193 | L17: =(K17/$K$7)*100 -> 11.1559 | M17: 645479 | N17: =(M17/$C$7)*100 -> 3.0161406 | O17: =Q17+S17 -> 189060 | P17: =(O17/$E$7)*100 -> 1.7652529 | Q17: 47067 | R17: =(Q17/$G$7)*100 -> 0.44025927 | S17: 141993 | T17: =(S17/$I$7)*100 -> 1.1500342
A18: 50－ 54 | C18: 1056483 | D18: 4.9366459 | E18: 525880 | F18: 4.9101407 | G18: 530603 | H18: 4.963199 | I18: 914216 | J18: 7.4044473 | K18: 484211 | L18: =(K18/$K$7)*100 -> 7.3474714 | M18: 430005 | N18: =(M18/$C$7)*100 -> 2.0092916 | O18: =Q18+S18 -> 142267 | P18: =(O18/$E$7)*100 -> 1.3283468 | Q18: 41669 | R18: =(Q18/$G$7)*100 -> 0.389767 | S18: 100598 | T18: =(S18/$I$7)*100 -> 0.81476652
A19: 55－ 59 | C19: 796957 | D19: 3.7239544 | E19: 392692 | F19: 3.6665646 | G19: 404265 | H19: 3.781448 | I19: 609273 | J19: 4.9346432 | K19: 339816 | L19: =(K19/$K$7)*100 -> 5.1564056 | M19: 269457 | N19: =(M19/$C$7)*100 -> 1.2590963 | O19: =Q19+S19 -> 187684 | P19: =(O19/$E$7)*100 -> 1.7524052 | Q19: 52876 | R19: =(Q19/$G$7)*100 -> 0.49459598 | S19: 134808 | T19: =(S19/$I$7)*100 -> 1.0918412
... A27: 95－ 99 | C27: 3835 | D27: 0.017919869 | E27: 1295 | F27: 0.012091413 | G27: 2540 | H27: 0.023758866 | I27: 2099 | J27: 0.017000288 | K27: 889 | L27: =(K27/$K$7)*100 -> 0.013489784 | M27: 1210 | N27: =(M27/$C$7)*100 -> 0.0056539874 | O27: =Q27+S27 -> 1736 | P27: =(O27/$E$7)*100 -> 0.016209029 | Q27: 406 | R27: =(Q27/$G$7)*100 -> 0.003797677 | S27: 1330 | T27: =(S27/$I$7)*100 -> 0.010771978
C28: 487 | D28: 0.0022756131 | E28: 129 | F28: 0.0012044728 | G28: 358 | H28: 0.0033486905 | I28: 264 | J28: 0.0021381972 | K28: 91 | L28: =(K28/$K$7)*100 -> 0.0013808441 | M28: 173 | N28: =(M28/$C$7)*100 -> 0.00080838001 | O28: =Q28+S28 -> 223 | P28: =(O28/$E$7)*100 -> 0.0020821506 | Q28: 38 | R28: =(Q28/$G$7)*100 -> 0.0003554476 | S28: 185 | T28: =(S28/$I$7)*100 -> 0.0014983579
A29: 平均年齡 | B29: mean | C29: 33.25 | E29: 33.23 | G29: 33.27 | I29: 41.74 | K29: 42.61 | M29: 40.74 | O29: 21.68 | Q29: 18.23 | S29: 24.55

Sheet 88
A1: 保險對象人數－按年齡性別分 | K1: Beneficiaries by Gender and Age
D3: 中華民國八十八年底 | I3: 單位：人 | O3: End of 1999 | T3: Unit：Person
C4: 保險對象 Beneficiaries | K4: 被保險人 Insureds | O4: 眷屬 Dependents
C5: 合 計 Total | E5: 男 Male | G5: 女 Female | I5: 合 計 Total | K5: 男 Male | M5: 女 Female | O5: 合 計 Total | Q5: 男 Male | S5: 女 Female
C6: 人數 Number | D6: 百分比 % | E6: 人數 Number | F6: 百分比 % | G6: 人數 Number | H6: 百分比 % | I6: 人數 Number | J6: 百分比 % | K6: 人數 Number | L6: 百分比 % | M6: 人數 Number | N6: 百分比 % | O6: 人數 Number | P6: 百分比 % | Q6: 人數 Number | R6: 百分比 % | S6: 人數 Number | T6: 百分比 %
A7: 總 計 | B7: Grand Total | C7: 21,089,859 | D7: 100.00 | E7: 10,613,449 | F7: 100.00 | G7: 10,476,410 | H7: 100.00 | I7: 12,098,002 | J7: 100.00 | K7: 6,500,515 | L7: 100.00 | M7: 5,597,487 | N7: 100.00 | O7: 8,991,857 | P7: 100.00 | Q7: 4,112,934 | R7: 100.00 | S7: 4,878,923 | T7: 100.00
A8: 0－ 4 | C8: 1,438,989 | D8: 6.82 | E8: 748,888 | F8: 7.06 | G8: 690,101 | H8: 6.59 | I8: 9,793 | J8: 0.08 | K8: 5,094 | L8: 0.08 | M8: 4,699 | N8: 0.08 | O8: 1,429,196 | P8: 15.89 | Q8: 743,794 | R8: 18.08 | S8: 685,402 | T8: 14.05
A9: 5－ 9 | C9: 1,561,734 | D9: 7.41 | E9: 815,404 | F9: 7.68 | G9: 746,330 | H9: 7.12 | I9: 20,020 | J9: 0.17 | K9: 10,242 | L9: 0.16 | M9: 9,778 | N9: 0.17 | O9: 1,541,714 | P9: 17.15 | Q9: 805,162 | R9: 19.58 | S9: 736,552 | T9: 15.10
A10: 10－ 14 | C10: 1,523,690 | D10: 7.22 | E10: 789,316 | F10: 7.44 | G10: 734,374 | H10: 7.01 | I10: 30,282 | J10: 0.25 | K10: 15,231 | L10: 0.23 | M10: 15,051 | N10: 0.27 | O10: 1,493,408 | P10: 16.61 | Q10: 774,085 | R10: 18.82 | S10: 719,323 | T10: 14.74
A11: 15－ 19 | C11: 1,862,585 | D11: 8.83 | E11: 954,927 | F11: 9.00 | G11: 907,658 | H11: 8.66 | I11: 242,393 | J11: 2.00 | K11: 126,704 | L11: 1.95 | M11: 115,689 | N11: 2.07 | O11: 1,620,192 | P11: 18.02 | Q11: 828,223 | R11: 20.14 | S11: 791,969 | T11: 16.23
A12: 20－ 24 | C12: 1,667,396 | D12: 7.91 | E12: 733,451 | F12: 6.91 | G12: 933,945 | H12: 8.91 | I12: 1,023,512 | J12: 8.46 | K12: 434,126 | L12: 6.68 | M12: 589,386 | N12: 10.53 | O12: 643,884 | P12: 7.16 | Q12: 299,325 | R12: 7.28 | S12: 344,559 | T12: 7.06
A13: 25－ 29 | C13: 1,754,414 | D13: 8.32 | E13: 866,853 | F13: 8.17 | G13: 887,561 | H13: 8.47 | I13: 1,540,686 | J13: 12.74 | K13: 812,013 | L13: 12.49 | M13: 728,673 | N13: 13.02 | O13: 213,728 | P13: 2.38 | Q13: 54,840 | R13: 1.33 | S13: 158,888 | T13: 3.26
A14: 30－ 34 | C14: 1,843,819 | D14: 8.74 | E14: 930,066 | F14: 8.76 | G14: 913,753 | H14: 8.72 | I14: 1,610,744 | J14: 13.31 | K14: 885,870 | L14: 13.63 | M14: 724,874 | N14: 12.95 | O14: 233,075 | P14: 2.59 | Q14: 44,196 | R14: 1.07 | S14: 188,879 | T14: 3.87
A15: 35－ 39 | C15: 1,874,793 | D15: 8.89 | E15: 945,660 | F15: 8.91 | G15: 929,133 | H15: 8.87 | I15: 1,643,029 | J15: 13.58 | K15: 896,628 | L15: 13.79 | M15: 746,401 | N15: 13.33 | O15: 231,764 | P15: 2.58 | Q15: 49,032 | R15: 1.19 | S15: 182,732 | T15: 3.75
A16: 40－ 44 | C16: 1,727,097 | D16: 8.19 | E16: 865,141 | F16: 8.15 | G16: 861,956 | H16: 8.23 | I16: 1,523,789 | J16: 12.60 | K16: 818,839 | L16: 12.60 | M16: 704,950 | N16: 12.59 | O16: 203,308 | P16: 2.26 | Q16: 46,302 | R16: 1.13 | S16: 157,006 | T16: 3.22
A17: 45－ 49 | C17: 1,493,679 | D17: 7.08 | E17: 746,624 | F17: 7.03 | G17: 747,055 | H17: 7.13 | I17: 1,316,643 | J17: 10.88 | K17: 702,358 | L17: 10.80 | M17: 614,285 | N17: 10.97 | O17: 177,036 | P17: 1.97 | Q17: 44,266 | R17: 1.08 | S17: 132,770 | T17: 2.72
A18: 50－ 54 | C18: 939,086 | D18: 4.45 | E18: 468,469 | F18: 4.41 | G18: 470,617 | H18: 4.49 | I18: 813,720 | J18: 6.73 | K18: 431,064 | L18: 6.63 | M18: 382,656 | N18: 6.84 | O18: 125,366 | P18: 1.39 | Q18: 37,405 | R18: 0.91 | S18: 87,961 | T18: 1.80
A19: 55－ 59 | C19: 829,852 | D19: 3.93 | E19: 410,106 | F19: 3.86 | G19: 419,746 | H19: 4.01 | I19: 637,538 | J19: 5.27 | K19: 357,296 | L19: 5.50 | M19: 280,242 | N19: 5.01 | O19: 192,314 | P19: 2.14 | Q19: 52,810 | R19: 1.28 | S19: 139,504 | T19: 2.86
... A27: 95－ 99 | C27: 3,736 | D27: 0.02 | E27: 1,282 | F27: 0.01 | G27: 2,454 | H27: 0.02 | I27: 1,952 | J27: 0.02 | K27: 828 | L27: 0.01 | M27: 1,124 | N27: 0.02 | O27: 1,784 | P27: 0.02 | Q27: 454 | R27: 0.01 | S27: 1,330 | T27: 0.03
C28: 487 | D28: 0.00 | E28: 140 | F28: 0.00 | G28: 347 | H28: 0.00 | I28: 230 | J28: 0.00 | K28: 91 | L28: 0.00 | M28: 139 | N28: 0.00 | O28: 257 | P28: 0.00 | Q28: 49 | R28: 0.00 | S28: 208 | T28: 0.00
A29: 平均年齡 | B29: mean | C29: 32.93 | E29: 32.97 | G29: 32.90 | I29: 41.62 | K29: 42.46 | M29: 40.63 | O29: 21.25 | Q29: 17.96 | S29: 24.02

Sheet 87
A1: 保險對象人數－按年齡性別分 | K1: Beneficiaries by Gender and Age
D3: 中華民國八十七年底 | I3: 單位：人 | O3: End of 1998 | T3: Unit：Person
C4: 保險對象 Beneficiaries | K4: 被保險人 Insureds | O4: 眷屬 Dependents
C5: 合 計 Total | E5: 男 Male | G5: 女 Female | I5: 合 計 Total | K5: 男 Male | M5: 女 Female | O5: 合 計 Total | Q5: 男 Male | S5: 女 Female
C6: 人數 Number | D6: 百分比 % | E6: 人數 Number | F6: 百分比 % | G6: 人數 Number | H6: 百分比 % | I6: 人數 Number | J6: 百分比 % | K6: 人數 Number | L6: 百分比 % | M6: 人數 Number | N6: 百分比 % | O6: 人數 Number | P6: 百分比 % | Q6: 人數 Number | R6: 百分比 % | S6: 人數 Number | T6: 百分比 %
A7: 總 計 | B7: Grand Total | C7: 20,757,185 | D7: 100.00 | E7: 10,454,707 | F7: 100.00 | G7: 10,302,478 | H7: 100.00 | I7: 11,830,991 | J7: 100.00 | K7: 6,371,531 | L7: 100.00 | M7: 5,459,460 | N7: 100.00 | O7: 8,926,194 | P7: 100.00 | Q7: 4,083,176 | R7: 100.00 | S7: 4,843,018 | T7: 100.00
A8: 0－ 4 | C8: 1,444,329 | D8: 6.96 | E8: 751,976 | F8: 7.19 | G8: 692,353 | H8: 6.72 | I8: 5,835 | J8: 0.05 | K8: 3,084 | L8: 0.05 | M8: 2,751 | N8: 0.05 | O8: 1,438,494 | P8: 16.12 | Q8: 748,892 | R8: 18.34 | S8: 689,602 | T8: 14.24
A9: 5－ 9 | C9: 1,531,111 | D9: 7.38 | E9: 799,793 | F9: 7.65 | G9: 731,318 | H9: 7.10 | I9: 14,292 | J9: 0.12 | K9: 7,344 | L9: 0.12 | M9: 6,948 | N9: 0.13 | O9: 1,516,819 | P9: 16.99 | Q9: 792,449 | R9: 19.41 | S9: 724,370 | T9: 14.96
A10: 10－ 14 | C10: 1,562,334 | D10: 7.53 | E10: 807,982 | F10: 7.73 | G10: 754,352 | H10: 7.32 | I10: 25,025 | J10: 0.21 | K10: 12,466 | L10: 0.20 | M10: 12,559 | N10: 0.23 | O10: 1,537,309 | P10: 17.22 | Q10: 795,516 | R10: 19.48 | S10: 741,793 | T10: 15.32
A11: 15－ 19 | C11: 1,885,579 | D11: 9.08 | E11: 958,316 | F11: 9.17 | G11: 927,263 | H11: 9.00 | I11: 250,379 | J11: 2.12 | K11: 126,825 | L11: 1.99 | M11: 123,554 | N11: 2.26 | O11: 1,635,200 | P11: 18.32 | Q11: 831,491 | R11: 20.36 | S11: 803,709 | T11: 16.60
A12: 20－ 24 | C12: 1,592,549 | D12: 7.67 | E12: 693,241 | F12: 6.63 | G12: 899,308 | H12: 8.73 | I12: 982,086 | J12: 8.30 | K12: 413,685 | L12: 6.49 | M12: 568,401 | N12: 10.41 | O12: 610,463 | P12: 6.84 | Q12: 279,556 | R12: 6.85 | S12: 330,907 | T12: 6.83
A13: 25－ 29 | C13: 1,750,963 | D13: 8.44 | E13: 870,877 | F13: 8.33 | G13: 880,086 | H13: 8.54 | I13: 1,537,098 | J13: 12.99 | K13: 816,709 | L13: 12.82 | M13: 720,389 | N13: 13.20 | O13: 213,865 | P13: 2.40 | Q13: 54,168 | R13: 1.33 | S13: 159,697 | T13: 3.30
A14: 30－ 34 | C14: 1,842,137 | D14: 8.87 | E14: 932,079 | F14: 8.92 | G14: 910,058 | H14: 8.83 | I14: 1,610,656 | J14: 13.61 | K14: 888,113 | L14: 13.94 | M14: 722,543 | N14: 13.23 | O14: 231,481 | P14: 2.59 | Q14: 43,966 | R14: 1.08 | S14: 187,515 | T14: 3.87
A15: 35－ 39 | C15: 1,857,056 | D15: 8.95 | E15: 936,827 | F15: 8.96 | G15: 920,229 | H15: 8.93 | I15: 1,630,695 | J15: 13.78 | K15: 889,384 | L15: 13.96 | M15: 741,311 | N15: 13.58 | O15: 226,361 | P15: 2.54 | Q15: 47,443 | R15: 1.16 | S15: 178,918 | T15: 3.69
A16: 40－ 44 | C16: 1,684,379 | D16: 8.11 | E16: 844,251 | F16: 8.08 | G16: 840,128 | H16: 8.15 | I16: 1,489,628 | J16: 12.59 | K16: 800,335 | L16: 12.56 | M16: 689,293 | N16: 12.63 | O16: 194,751 | P16: 2.18 | Q16: 43,916 | R16: 1.08 | S16: 150,835 | T16: 3.11
A17: 45－ 49 | C17: 1,418,566 | D17: 6.83 | E17: 710,568 | F17: 6.80 | G17: 707,998 | H17: 6.87 | I17: 1,253,002 | J17: 10.59 | K17: 669,858 | L17: 10.51 | M17: 583,144 | N17: 10.68 | O17: 165,564 | P17: 1.85 | Q17: 40,710 | R17: 1.00 | S17: 124,854 | T17: 2.58
A18: 50－ 54 | C18: 862,750 | D18: 4.16 | E18: 430,346 | F18: 4.12 | G18: 432,404 | H18: 4.20 | I18: 749,615 | J18: 6.34 | K18: 397,434 | L18: 6.24 | M18: 352,181 | N18: 6.45 | O18: 113,135 | P18: 1.27 | Q18: 32,912 | R18: 0.81 | S18: 80,223 | T18: 1.66
A19: 55－ 59 | C19: 830,493 | D19: 4.00 | E19: 409,747 | F19: 3.92 | G19: 420,746 | H19: 4.08 | I19: 642,609 | J19: 5.43 | K19: 360,570 | L19: 5.66 | M19: 282,039 | N19: 5.17 | O19: 187,884 | P19: 2.10 | Q19: 49,177 | R19: 1.20 | S19: 138,707 | T19: 2.86
... A27: 95－ 99 | C27: 3,134 | D27: 0.02 | E27: 1,059 | F27: 0.01 | G27: 2,075 | H27: 0.02 | I27: 1,679 | J27: 0.01 | K27: 720 | L27: 0.01 | M27: 959 | N27: 0.02 | O27: 1,455 | P27: 0.02 | Q27: 339 | R27: 0.01 | S27: 1,116 | T27: 0.02
C28: 372 | D28: 0.00 | E28: 111 | F28: 0.00 | G28: 261 | H28: 0.00 | I28: 194 | J28: 0.00 | K28: 74 | L28: 0.00 | M28: 120 | N28: 0.00 | O28: 178 | P28: 0.00 | Q28: 37 | R28: 0.00 | S28: 141 | T28: 0.00
A29: 平均年齡 | B29: mean | C29: 32.65 | E29: 32.72 | G29: 32.57 | I29: 41.51 | K29: 42.38 | M29: 40.49 | O29: 20.13 | Q29: 17.65 | S29: 23.64

Sheet 86
A1: 保險對象人數－按年齡性別分 | K1: Beneficiaries by Gender and Age
D3: 中華民國八十六年底 | I3: 單位：人 | O3: End of 1997 | T3: Unit：Person
C4: 保險對象 Beneficiaries | K4: 被保險人 Insureds | O4: 眷屬 Dependents
C5: 合 計 Total | E5: 男 Male | G5: 女 Female | I5: 合 計 Total | K5: 男 Male | M5: 女 Female | O5: 合 計 Total | Q5: 男 Male | S5: 女 Female
C6: 人數 Number | D6: 百分比 % | E6: 人數 Number | F6: 百分比 % | G6: 人數 Number | H6: 百分比 % | I6: 人數 Number | J6: 百分比 % | K6: 人數 Number | L6: 百分比 % | M6: 人數 Number | N6: 百分比 % | O6: 人數 Number | P6: 百分比 % | Q6: 人數 Number | R6: 百分比 % | S6: 人數 Number | T6: 百分比 %
A7: 總 計 | B7: Grand Total | C7: 20,492,317 | D7: 100.00 | E7: 10,313,824 | F7: 100.00 | G7: 10,178,493 | H7: 100.00 | I7: 11,674,073 | J7: 100.00 | K7: 6,266,906 | L7: 100.00 | M7: 5,407,167 | N7: 100.00 | O7: 8,818,244 | P7: 100.00 | Q7: 4,046,918 | R7: 100.00 | S7: 4,771,326 | T7: 100.00
A8: 0－ 4 | C8: 1,449,738 | D8: 7.07 | E8: 755,636 | F8: 7.33 | G8: 694,102 | H8: 6.82 | I8: 5,291 | J8: 0.05 | K8: 2,883 | L8: 0.05 | M8: 2,408 | N8: 0.04 | O8: 1,444,447 | P8: 16.38 | Q8: 752,753 | R8: 18.60 | S8: 691,694 | T8: 14.50
A9: 5－ 9 | C9: 1,516,519 | D9: 7.40 | E9: 793,211 | F9: 7.69 | G9: 723,308 | H9: 7.11 | I9: 13,049 | J9: 0.11 | K9: 6,734 | L9: 0.11 | M9: 6,315 | N9: 0.12 | O9: 1,503,470 | P9: 17.05 | Q9: 786,477 | R9: 19.43 | S9: 716,993 | T9: 15.03
A10: 10－ 14 | C10: 1,570,765 | D10: 7.67 | E10: 811,475 | F10: 7.87 | G10: 759,290 | H10: 7.46 | I10: 24,030 | J10: 0.21 | K10: 11,918 | L10: 0.19 | M10: 12,112 | N10: 0.22 | O10: 1,546,735 | P10: 17.54 | Q10: 799,557 | R10: 19.76 | S10: 747,178 | T10: 15.66
A11: 15－ 19 | C11: 1,896,520 | D11: 9.25 | E11: 963,489 | F11: 9.34 | G11: 933,031 | H11: 9.17 | I11: 272,947 | J11: 2.34 | K11: 137,263 | L11: 2.19 | M11: 135,684 | N11: 2.51 | O11: 1,623,573 | P11: 18.41 | Q11: 826,226 | R11: 20.42 | S11: 797,347 | T11: 16.71
A12: 20－ 24 | C12: 1,499,768 | D12: 7.32 | E12: 641,131 | F12: 6.22 | G12: 858,637 | H12: 8.44 | I12: 950,176 | J12: 8.14 | K12: 393,966 | L12: 6.29 | M12: 556,210 | N12: 10.29 | O12: 549,592 | P12: 6.23 | Q12: 247,165 | R12: 6.11 | S12: 302,427 | T12: 6.34
A13: 25－ 29 | C13: 1,727,289 | D13: 8.43 | E13: 862,938 | F13: 8.37 | G13: 864,351 | H13: 8.49 | I13: 1,515,880 | J13: 12.99 | K13: 807,792 | L13: 12.89 | M13: 708,088 | N13: 13.10 | O13: 211,409 | P13: 2.40 | Q13: 55,146 | R13: 1.36 | S13: 156,263 | T13: 3.28
A14: 30－ 34 | C14: 1,819,213 | D14: 8.88 | E14: 918,889 | F14: 8.91 | G14: 900,324 | H14: 8.85 | I14: 1,595,931 | J14: 13.67 | K14: 875,350 | L14: 13.97 | M14: 720,581 | N14: 13.33 | O14: 223,282 | P14: 2.53 | Q14: 43,539 | R14: 1.08 | S14: 179,743 | T14: 3.77
A15: 35－ 39 | C15: 1,801,227 | D15: 8.79 | E15: 908,084 | F15: 8.80 | G15: 893,143 | H15: 8.77 | I15: 1,586,922 | J15: 13.59 | K15: 862,957 | L15: 13.77 | M15: 723,965 | N15: 13.39 | O15: 214,305 | P15: 2.43 | Q15: 45,127 | R15: 1.12 | S15: 169,178 | T15: 3.55
A16: 40－ 44 | C16: 1,627,572 | D16: 7.94 | E16: 814,633 | F16: 7.90 | G16: 812,939 | H16: 7.99 | I16: 1,445,377 | J16: 12.38 | K16: 773,760 | L16: 12.35 | M16: 671,617 | N16: 12.42 | O16: 182,195 | P16: 2.07 | Q16: 40,873 | R16: 1.01 | S16: 141,322 | T16: 2.96
A17: 45－ 49 | C17: 1,360,149 | D17: 6.64 | E17: 659,574 | F17: 6.40 | G17: 700,575 | H17: 6.88 | I17: 1,206,621 | J17: 10.34 | K17: 621,907 | L17: 9.92 | M17: 584,714 | N17: 10.81 | O17: 153,528 | P17: 1.74 | Q17: 37,667 | R17: 0.93 | S17: 115,861 | T17: 2.43
A18: 50－ 54 | C18: 829,106 | D18: 4.05 | E18: 410,861 | F18: 3.98 | G18: 418,245 | H18: 4.11 | I18: 719,388 | J18: 6.16 | K18: 378,800 | L18: 6.04 | M18: 340,588 | N18: 6.30 | O18: 109,718 | P18: 1.24 | Q18: 32,061 | R18: 0.79 | S18: 77,657 | T18: 1.63
A19: 55－ 59 | C19: 835,739 | D19: 4.08 | E19: 409,122 | F19: 3.97 | G19: 426,617 | H19: 4.19 | I19: 647,809 | J19: 5.55 | K19: 360,273 | L19: 5.75 | M19: 287,536 | N19: 5.32 | O19: 187,930 | P19: 2.13 | Q19: 48,849 | R19: 1.21 | S19: 139,081 | T19: 2.91
... A27: 95－ 99 | C27: 3,319 | D27: 0.02 | E27: 1,207 | F27: 0.01 | G27: 2,112 | H27: 0.02 | I27: 1,662 | J27: 0.01 | K27: 786 | L27: 0.01 | M27: 876 | N27: 0.02 | O27: 1,657 | P27: 0.02 | Q27: 421 | R27: 0.01 | S27: 1,236 | T27: 0.03
C28: 390 | D28: 0.00 | E28: 115 | F28: 0.00 | G28: 275 | H28: 0.00 | I28: 194 | J28: 0.00 | K28: 80 | L28: 0.00 | M28: 114 | N28: 0.00 | O28: 196 | P28: 0.00 | Q28: 35 | R28: 0.00 | S28: 161 | T28: 0.00
A29: 平均年齡 | B29: mean | C29: 32.71 | E29: 32.83 | G29: 32.58 | I29: 41.64 | K29: 42.61 | M29: 40.52 | O29: 20.87 | Q29: 17.68 | S29: 23.59

Sheet 85
A1: 保險對象人數－按年齡性別分 | K1: Beneficiaries by Gender and Age
D3: 中華民國八十五年底 | I3: 單位：人 | O3: End of 1996 | T3: Unit：Person
C4: 保險對象 Beneficiaries | K4: 被保險人 Insureds | O4: 眷屬 Dependents
C5: 合 計 Total | E5: 男 Male | G5: 女 Female | I5: 合 計 Total | K5: 男 Male | M5: 女 Female | O5: 合 計 Total | Q5: 男 Male | S5: 女 Female
C6: 人數 Number | D6: 百分比 % | E6: 人數 Number | F6: 百分比 % | G6: 人數 Number | H6: 百分比 % | I6: 人數 Number | J6: 百分比 % | K6: 人數 Number | L6: 百分比 % | M6: 人數 Number | N6: 百分比 % | O6: 人數 Number | P6: 百分比 % | Q6: 人數 Number | R6: 百分比 % | S6: 人數 Number | T6: 百分比 %
A7: 總 計 | B7: Grand Total | C7: 20,041,488 | D7: 100.00 | E7: 10,073,261 | F7: 100.00 | G7: 9,968,227 | H7: 100.00 | I7: 11,464,047 | J7: 100.00 | K7: 6,112,601 | L7: 100.00 | M7: 5,351,446 | N7: 100.00 | O7: 8,577,441 | P7: 100.00 | Q7: 3,960,660 | R7: 100.00 | S7: 4,616,781 | T7: 100.00
A8: 0－ 4 | C8: 1,454,404 | D8: 7.26 | E8: 759,469 | F8: 7.54 | G8: 694,935 | H8: 6.97 | I8: 9,848 | J8: 0.09 | K8: 5,227 | L8: 0.09 | M8: 4,621 | N8: 0.09 | O8: 1,444,556 | P8: 16.84 | Q8: 754,242 | R8: 19.04 | S8: 690,314 | T8: 14.95
A9: 5－ 9 | C9: 1,503,878 | D9: 7.50 | E9: 786,135 | F9: 7.80 | G9: 717,743 | H9: 7.20 | I9: 16,174 | J9: 0.14 | K9: 8,410 | L9: 0.14 | M9: 7,764 | N9: 0.15 | O9: 1,487,704 | P9: 17.34 | Q9: 777,725 | R9: 19.64 | S9: 709,979 | T9: 15.38
A10: 10－ 14 | C10: 1,636,044 | D10: 8.16 | E10: 844,939 | F10: 8.39 | G10: 791,105 | H10: 7.94 | I10: 28,123 | J10: 0.25 | K10: 14,210 | L10: 0.23 | M10: 13,913 | N10: 0.26 | O10: 1,607,921 | P10: 18.75 | Q10: 830,729 | R10: 20.97 | S10: 777,192 | T10: 16.83
A11: 15－ 19 | C11: 1,857,865 | D11: 9.27 | E11: 941,664 | F11: 9.35 | G11: 916,201 | H11: 9.19 | I11: 294,546 | J11: 2.57 | K11: 147,642 | L11: 2.42 | M11: 146,904 | N11: 2.75 | O11: 1,563,319 | P11: 18.23 | Q11: 794,022 | R11: 20.05 | S11: 769,297 | T11: 16.66
A12: 20－ 24 | C12: 1,471,889 | D12: 7.34 | E12: 623,475 | F12: 6.19 | G12: 848,414 | H12: 8.51 | I12: 981,624 | J12: 8.56 | K12: 399,749 | L12: 6.54 | M12: 581,875 | N12: 10.87 | O12: 490,265 | P12: 5.72 | Q12: 223,726 | R12: 5.65 | S12: 266,539 | T12: 5.77
A13: 25－ 29 | C13: 1,732,375 | D13: 8.64 | E13: 855,639 | F13: 8.49 | G13: 876,736 | H13: 8.80 | I13: 1,528,682 | J13: 13.33 | K13: 801,534 | L13: 13.11 | M13: 727,148 | N13: 13.59 | O13: 203,693 | P13: 2.37 | Q13: 54,105 | R13: 1.37 | S13: 149,588 | T13: 3.24
A14: 30－ 34 | C14: 1,843,416 | D14: 9.20 | E14: 920,023 | F14: 9.13 | G14: 923,393 | H14: 9.26 | I14: 1,625,657 | J14: 14.18 | K14: 876,533 | L14: 14.34 | M14: 749,124 | N14: 14.00 | O14: 217,759 | P14: 2.54 | Q14: 43,490 | R14: 1.10 | S14: 174,269 | T14: 3.77
A15: 35－ 39 | C15: 1,760,177 | D15: 8.78 | E15: 878,335 | F15: 8.72 | G15: 881,842 | H15: 8.85 | I15: 1,560,164 | J15: 13.61 | K15: 836,297 | L15: 13.68 | M15: 723,867 | N15: 13.53 | O15: 200,013 | P15: 2.33 | Q15: 42,038 | R15: 1.06 | S15: 157,975 | T15: 3.42
A16: 40－ 44 | C16: 1,596,593 | D16: 7.97 | E16: 796,618 | F16: 7.91 | G16: 799,975 | H16: 8.03 | I16: 1,425,900 | J16: 12.44 | K16: 758,595 | L16: 12.41 | M16: 667,305 | N16: 12.47 | O16: 170,693 | P16: 1.99 | Q16: 38,023 | R16: 0.96 | S16: 132,670 | T16: 2.87
A17: 45－ 49 | C17: 1,209,578 | D17: 6.04 | E17: 604,484 | F17: 6.00 | G17: 605,094 | H17: 6.07 | I17: 1,074,333 | J17: 9.37 | K17: 571,696 | L17: 9.35 | M17: 502,637 | N17: 9.39 | O17: 135,245 | P17: 1.58 | Q17: 32,788 | R17: 0.83 | S17: 102,457 | T17: 2.22
A18: 50－ 54 | C18: 799,856 | D18: 3.99 | E18: 397,699 | F18: 3.95 | G18: 402,157 | H18: 4.03 | I18: 698,705 | J18: 6.09 | K18: 368,980 | L18: 6.04 | M18: 329,725 | N18: 6.16 | O18: 101,151 | P18: 1.18 | Q18: 28,719 | R18: 0.73 | S18: 72,432 | T18: 1.57
A19: 55－ 59 | C19: 809,938 | D19: 4.04 | E19: 398,895 | F19: 3.96 | G19: 411,043 | H19: 4.12 | I19: 639,289 | J19: 5.58 | K19: 356,226 | L19: 5.83 | M19: 283,063 | N19: 5.29 | O19: 170,649 | P19: 1.99 | Q19: 42,669 | R19: 1.08 | S19: 127,980 | T19: 2.77
... A27: 95－ 99 | C27: 2,622 | D27: 0.01 | E27: 880 | F27: 0.01 | G27: 1,742 | H27: 0.02 | I27: 1,326 | J27: 0.01 | K27: 549 | L27: 0.01 | M27: 777 | N27: 0.01 | O27: 1,296 | P27: 0.02 | Q27: 331 | R27: 0.01 | S27: 965 | T27: 0.02
C28: 453 | D28: 0.00 | E28: 157 | F28: 0.00 | G28: 296 | H28: 0.00 | I28: 171 | J28: 0.00 | K28: 72 | L28: 0.00 | M28: 99 | N28: 0.00 | O28: 282 | P28: 0.00 | Q28: 85 | R28: 0.00 | S28: 197 | T28: 0.00
A29: 平均年齡 | B29: mean | C29: 32.10 | E29: 32.24 | G29: 31.96 | I29: 41.05 | K29: 42.11 | M29: 39.85 | O29: 20.13 | Q29: 17.01 | S29: 22.81

Sheet 84
A1: 保險對象人數－按年齡性別分 | K1: Beneficiaries by Gender and Age
D3: 中華民國八十四年底 | I3: 單位：人 | O3: End of 1995 | T3: Unit：Person
C4: 保險對象 Beneficiaries | K4: 被保險人 Insureds | O4: 眷屬 Dependents
C5: 合 計 Total | E5: 男 Male | G5: 女 Female | I5: 合 計 Total | K5: 男 Male | M5: 女 Female | O5: 合 計 Total | Q5: 男 Male | S5: 女 Female
C6: 人數 Number | D6: 百分比 % | E6: 人數 Number | F6: 百分比 % | G6: 人數 Number | H6: 百分比 % | I6: 人數 Number | J6: 百分比 % | K6: 人數 Number | L6: 百分比 % | M6: 人數 Number | N6: 百分比 % | O6: 人數 Number | P6: 百分比 % | Q6: 人數 Number | R6: 百分比 % | S6: 人數 Number | T6: 百分比 %
A7: 總 計 | B7: Grand Total | C7: 19,123,278 | D7: 100.00 | E7: 9,591,276 | F7: 100.00 | G7: 9,532,002 | H7: 100.00 | I7: 11,212,718 | J7: 100.00 | K7: 5,891,892 | L7: 100.00 | M7: 5,320,826 | N7: 100.00 | O7: 7,910,560 | P7: 100.00 | Q7: 3,699,384 | R7: 100.00 | S7: 4,211,176 | T7: 100.00
A8: 0－ 4 | C8: 1,365,788 | D8: 7.14 | E8: 715,073 | F8: 7.46 | G8: 650,715 | H8: 6.83 | I8: 8,260 | J8: 0.07 | K8: 4,429 | L8: 0.08 | M8: 3,831 | N8: 0.07 | O8: 1,357,528 | P8: 17.16 | Q8: 710,644 | R8: 19.21 | S8: 646,884 | T8: 15.36
A9: 5－ 9 | C9: 1,404,822 | D9: 7.35 | E9: 732,844 | F9: 7.64 | G9: 671,978 | H9: 7.05 | I9: 15,283 | J9: 0.14 | K9: 7,856 | L9: 0.13 | M9: 7,427 | N9: 0.14 | O9: 1,389,539 | P9: 17.57 | Q9: 724,988 | R9: 19.60 | S9: 664,551 | T9: 15.78
A10: 10－ 14 | C10: 1,633,859 | D10: 8.54 | E10: 843,759 | F10: 8.80 | G10: 790,100 | H10: 8.29 | I10: 28,341 | J10: 0.25 | K10: 14,263 | L10: 0.24 | M10: 14,078 | N10: 0.26 | O10: 1,605,518 | P10: 20.30 | Q10: 829,496 | R10: 22.42 | S10: 776,022 | T10: 18.43
A11: 15－ 19 | C11: 1,767,303 | D11: 9.24 | E11: 896,765 | F11: 9.35 | G11: 870,538 | H11: 9.13 | I11: 350,122 | J11: 3.12 | K11: 178,155 | L11: 3.02 | M11: 171,967 | N11: 3.23 | O11: 1,417,181 | P11: 17.92 | Q11: 718,610 | R11: 19.43 | S11: 698,571 | T11: 16.59
A12: 20－ 24 | C12: 1,356,616 | D12: 7.09 | E12: 566,527 | F12: 5.91 | G12: 790,089 | H12: 8.29 | I12: 970,013 | J12: 8.65 | K12: 382,972 | L12: 6.50 | M12: 587,041 | N12: 11.03 | O12: 386,603 | P12: 4.89 | Q12: 183,555 | R12: 4.96 | S12: 203,048 | T12: 4.82
A13: 25－ 29 | C13: 1,682,697 | D13: 8.80 | E13: 819,938 | F13: 8.55 | G13: 862,759 | H13: 9.05 | I13: 1,511,256 | J13: 13.48 | K13: 769,661 | L13: 13.06 | M13: 741,595 | N13: 13.94 | O13: 171,441 | P13: 2.17 | Q13: 50,277 | R13: 1.36 | S13: 121,164 | T13: 2.88
A14: 30－ 34 | C14: 1,786,395 | D14: 9.34 | E14: 883,442 | F14: 9.21 | G14: 902,953 | H14: 9.47 | I14: 1,606,869 | J14: 14.33 | K14: 845,451 | L14: 14.35 | M14: 761,418 | N14: 14.31 | O14: 179,526 | P14: 2.27 | Q14: 37,991 | R14: 1.03 | S14: 141,535 | T14: 3.36
A15: 35－ 39 | C15: 1,693,240 | D15: 8.85 | E15: 838,206 | F15: 8.74 | G15: 855,034 | H15: 8.97 | I15: 1,527,338 | J15: 13.62 | K15: 802,746 | L15: 13.62 | M15: 724,592 | N15: 13.62 | O15: 165,902 | P15: 2.10 | Q15: 35,460 | R15: 0.96 | S15: 130,442 | T15: 3.10
A16: 40－ 44 | C16: 1,528,521 | D16: 7.99 | E16: 759,767 | F16: 7.92 | G16: 768,754 | H16: 8.06 | I16: 1,384,224 | J16: 12.35 | K16: 727,568 | L16: 12.35 | M16: 656,656 | N16: 12.34 | O16: 144,297 | P16: 1.82 | Q16: 32,199 | R16: 0.87 | S16: 112,098 | T16: 2.66
A17: 45－ 49 | C17: 1,043,793 | D17: 5.46 | E17: 520,926 | F17: 5.43 | G17: 522,867 | H17: 5.49 | I17: 935,217 | J17: 8.34 | K17: 495,151 | L17: 8.40 | M17: 440,066 | N17: 8.27 | O17: 108,576 | P17: 1.37 | Q17: 25,775 | R17: 0.70 | S17: 82,801 | T17: 1.97
A18: 50－ 54 | C18: 809,226 | D18: 4.23 | E18: 401,824 | F18: 4.19 | G18: 407,402 | H18: 4.27 | I18: 711,160 | J18: 6.34 | K18: 374,349 | L18: 6.35 | M18: 336,811 | N18: 6.33 | O18: 98,066 | P18: 1.24 | Q18: 27,475 | R18: 0.74 | S18: 70,591 | T18: 1.68
A19: 55－ 59 | C19: 781,961 | D19: 4.09 | E19: 385,913 | F19: 4.02 | G19: 396,048 | H19: 4.15 | I19: 631,341 | J19: 5.63 | K19: 346,894 | L19: 5.89 | M19: 284,447 | N19: 5.35 | O19: 150,620 | P19: 1.90 | Q19: 39,019 | R19: 1.05 | S19: 111,601 | T19: 2.65
... A27: 95－ 99 | C27: 2,490 | D27: 0.01 | E27: 890 | F27: 0.01 | G27: 1,600 | H27: 0.02 | I27: 1,166 | J27: 0.01 | K27: 503 | L27: 0.01 | M27: 663 | N27: 0.01 | O27: 1,324 | P27: 0.02 | Q27: 387 | R27: 0.01 | S27: 937 | T27: 0.02
C28: 513 | D28: 0.00 | E28: 188 | F28: 0.00 | G28: 325 | H28: 0.00 | I28: 161 | J28: 0.00 | K28: 69 | L28: 0.00 | M28: 92 | N28: 0.00 | O28: 352 | P28: 0.00 | Q28: 119 | R28: 0.00 | S28: 233 | T28: 0.01
A29: 平均年齡 | B29: mean | C29: 32.11 | E29: 32.29 | G29: 31.92 | I29: 40.79 | K29: 41.97 | M29: 39.47 | O29: 19.8 | Q29: 16.86 | S29: 22.39
