Workbook

Sheet 000000

Sheet 000001

Sheet 113
A1: 保險對象人數－按性別及年齡別分 | K1: Beneficiaries by Gender and Age
A3: 中華民國113年底 | K3: End of 2024
A4: 單位：人 | T4: Unit：Persons
A5: 年齡別 | B5: 總計 Grand Total | H5: 被保險人 | K5: Insureds | N5: 眷屬 Dependents | T5: Age
B6: 合計 Total | D6: 男 Male | F6: 女 Female | H6: 合計 Total | J6: 男 Male | L6: 女 Female | N6: 合計 Total | P6: 男 Male | R6: 女 Female
C7: 百分比 % | E7: 百分比 % | G7: 百分比 % | I7: 百分比 % | K7: 百分比 % | M7: 百分比 % | O7: 百分比 % | Q7: 百分比 % | S7: 百分比 %
A8: 總 計 | B8: 23959972 | C8: 100 | D8: 11800428 | E8: 100 | F8: 12159544 | G8: 100 | H8: 16408438 | I8: 100 | J8: 8387317 | K8: 100 | L8: 8021121 | M8: 100 | N8: 7551534 | O8: 100 | P8: 3413111 | Q8: 100 | R8: 4138423 | S8: 100 | T8: Grand Total
A9: 0－4 | B9: 719626 | C9: 3.0034509 | D9: 372647 | E9: 3.1579109 | F9: 346979 | G9: 2.8535527 | H9: 9723 | I9: 0.059256097 | J9: 4989 | K9: 0.059482669 | L9: 4734 | M9: 0.059019182 | N9: 709903 | O9: 9.4007787 | P9: 367658 | Q9: 10.771932 | R9: 342245 | S9: 8.2699376 | T9: 0－4
A10: 5－9 | B10: 966836 | C10: 4.0352134 | D10: 500910 | E10: 4.244846 | F10: 465926 | G10: 3.831772 | H10: 22392 | I10: 0.13646637 | J10: 11508 | K10: 0.13720717 | L10: 10884 | M10: 0.13569176 | N10: 944444 | O10: 12.506651 | P10: 489402 | Q10: 14.338883 | R10: 455042 | S10: 10.995541 | T10: 5－9
A11: 10－14 | B11: 1000360 | C11: 4.1751301 | D11: 518452 | E11: 4.3935017 | F11: 481908 | G11: 3.9632078 | H11: 30958 | I11: 0.18867122 | J11: 16227 | K11: 0.19347069 | L11: 14731 | M11: 0.18365263 | N11: 969402 | O11: 12.837153 | P11: 502225 | Q11: 14.714582 | R11: 467177 | S11: 11.288769 | T11: 10－14
A12: 15－19 | B12: 1015964 | C12: 4.2402554 | D12: 531212 | E12: 4.5016333 | F12: 484752 | G12: 3.9865969 | H12: 148489 | I12: 0.90495512 | J12: 84651 | K12: 1.0092739 | L12: 63838 | M12: 0.79587379 | N12: 867475 | O12: 11.487401 | P12: 446561 | Q12: 13.083694 | R12: 420914 | S12: 10.170879 | T12: 15－19
A13: 20－24 | B13: 1351362 | C13: 5.6400817 | D13: 705582 | E13: 5.9792916 | F13: 645780 | G13: 5.3108899 | H13: 841710 | I13: 5.1297387 | J13: 444856 | K13: 5.303913 | L13: 396854 | M13: 4.9476127 | N13: 509652 | O13: 6.7489864 | P13: 260726 | Q13: 7.6389546 | R13: 248926 | S13: 6.0149965 | T13: 20－24
A14: 25－29 | B14: 1655133 | C14: 6.9079087 | D14: 858805 | E14: 7.2777445 | F14: 796328 | G14: 6.5489956 | H14: 1575832 | I14: 9.6037904 | J14: 823155 | K14: 9.8142827 | L14: 752677 | M14: 9.3836884 | N14: 79301 | O14: 1.050131 | P14: 35650 | Q14: 1.0445016 | R14: 43651 | S14: 1.0547738 | T14: 25－29
A15: 30－34 | B15: 1780725 | C15: 7.432083 | D15: 922437 | E15: 7.8169792 | F15: 858288 | G15: 7.0585542 | H15: 1719977 | I15: 10.482271 | J15: 906196 | K15: 10.804361 | L15: 813781 | M15: 10.145477 | N15: 60748 | O15: 0.80444583 | P15: 16241 | Q15: 0.47584154 | R15: 44507 | S15: 1.075458 | T15: 30－34
A16: 35－39 | B16: 1730388 | C16: 7.2219951 | D16: 872939 | E16: 7.3975198 | F16: 857449 | G16: 7.0516542 | H16: 1651974 | I16: 10.067832 | J16: 854554 | K16: 10.188646 | L16: 797420 | M16: 9.9415032 | N16: 78414 | O16: 1.038385 | P16: 18385 | Q16: 0.53865813 | R16: 60029 | S16: 1.4505284 | T16: 35－39
A17: 40－44 | B17: 2051388 | C17: 8.5617295 | D17: 999779 | E17: 8.4723961 | F17: 1051609 | G17: 8.6484246 | H17: 1946508 | I17: 11.862848 | J17: 974337 | K17: 11.61679 | L17: 972171 | M17: 12.120139 | N17: 104880 | O17: 1.3888569 | P17: 25442 | Q17: 0.74541965 | R17: 79438 | S17: 1.9195235 | T17: 40－44
A18: 45－49 | B18: 1999985 | C18: 8.3471926 | D18: 969518 | E18: 8.2159562 | F18: 1030467 | G18: 8.474553 | H18: 1887005 | I18: 11.500211 | J18: 938777 | K18: 11.192816 | L18: 948228 | M18: 11.821639 | N18: 112980 | O18: 1.4961199 | P18: 30741 | Q18: 0.9006739 | R18: 82239 | S18: 1.9872062 | T18: 45－49
A19: 50－54 | B19: 1759453 | C19: 7.3433016 | D19: 852106 | E19: 7.2209754 | F19: 907347 | G19: 7.462015 | H19: 1610196 | I19: 9.8132193 | J19: 805054 | K19: 9.5984687 | L19: 805142 | M19: 10.037774 | N19: 149257 | O19: 1.9765123 | P19: 47052 | Q19: 1.3785664 | R19: 102205 | S19: 2.4696605 | T19: 50－54
... A29: 100+ | B29: 4694 | C29: 0.019591008 | D29: 1857 | E29: 0.015736717 | F29: 2837 | G29: 0.023331467 | H29: 3239 | I29: 0.019739844 | J29: 1478 | K29: 0.017621845 | L29: 1761 | M29: 0.021954537 | N29: 1455 | O29: 0.019267608 | P29: 379 | Q29: 0.011104239 | R29: 1076 | S29: 0.026000242 | T29: 100+
A30: 平均年齡 | B30: 43.381006 | D30: 42.320821 | F30: 44.409881 | H30: 46.427893 | J30: 46.098829 | L30: 46.77198 | N30: 36.760544 | P30: 33.036814 | R30: 39.831643 | T30: Mean

Sheet 112
A1: 保險對象人數－按性別及年齡別分 | K1: Beneficiaries by Gender and Age
A3: 中華民國112年底 | K3: End of 2023
A4: 單位：人 | T4: Unit：Persons
A5: 年齡別 | B5: 總計 Grand Total | H5: 被保險人 | K5: Insureds | N5: 眷屬 Dependents | T5: Age
B6: 合計 Total | D6: 男 Male | F6: 女 Female | H6: 合計 Total | J6: 男 Male | L6: 女 Female | N6: 合計 Total | P6: 男 Male | R6: 女 Female
C7: 百分比 % | E7: 百分比 % | G7: 百分比 % | I7: 百分比 % | K7: 百分比 % | M7: 百分比 % | O7: 百分比 % | Q7: 百分比 % | S7: 百分比 %
A8: 總 計 | B8: 23882516 | C8: 100 | D8: 11771053 | E8: 100 | F8: 12111463 | G8: 100 | H8: 16283451 | I8: 100 | J8: 8336212 | K8: 100 | L8: 7947239 | M8: 100 | N8: 7599065 | O8: 100 | P8: 3434841 | Q8: 100 | R8: 4164224 | S8: 100 | T8: Grand Total
A9: 0－4 | B9: 757685 | C9: 3.172551 | D9: 392437 | E9: 3.3339158 | F9: 365248 | G9: 3.0157216 | H9: 11060 | I9: 0.06792172 | J9: 5648 | K9: 0.067752596 | L9: 5412 | M9: 0.068099122 | N9: 746625 | O9: 9.8252219 | P9: 386789 | Q9: 11.260754 | R9: 359836 | S9: 8.6411298 | T9: 0－4
A10: 5－9 | B10: 1000189 | C10: 4.1879549 | D10: 518063 | E10: 4.4011611 | F10: 482126 | G10: 3.9807412 | H10: 24026 | I10: 0.14754858 | J10: 12331 | K10: 0.1479209 | L10: 11695 | M10: 0.14715803 | N10: 976163 | O10: 12.84583 | P10: 505732 | Q10: 14.723593 | R10: 470431 | S10: 11.296967 | T10: 5－9
A11: 10－14 | B11: 981087 | C11: 4.1079717 | D11: 509425 | E11: 4.3277776 | F11: 471662 | G11: 3.8943437 | H11: 32335 | I11: 0.19857584 | J11: 16799 | K11: 0.20151839 | L11: 15536 | M11: 0.19548928 | N11: 948752 | O11: 12.485115 | P11: 492626 | Q11: 14.342032 | R11: 456126 | S11: 10.953445 | T11: 10－14
A12: 15－19 | B12: 1034561 | C12: 4.3318761 | D12: 541406 | E12: 4.5994696 | F12: 493155 | G12: 4.0718037 | H12: 150175 | I12: 0.92225536 | J12: 85520 | K12: 1.0258856 | L12: 64655 | M12: 0.81355298 | N12: 884386 | O12: 11.63809 | P12: 455886 | Q12: 13.272405 | R12: 428500 | S12: 10.290032 | T12: 15－19
A13: 20－24 | B13: 1396109 | C13: 5.8457367 | D13: 727968 | E13: 6.1843915 | F13: 668141 | G13: 5.5166003 | H13: 858183 | I13: 5.2702772 | J13: 453551 | K13: 5.4407326 | L13: 404632 | M13: 5.0914789 | N13: 537926 | O13: 7.0788446 | P13: 274417 | Q13: 7.9892199 | R13: 263509 | S13: 6.3279257 | T13: 20－24
A14: 25－29 | B14: 1672334 | C14: 7.0023359 | D14: 867439 | E14: 7.3692557 | F14: 804895 | G14: 6.6457289 | H14: 1588969 | I14: 9.7581833 | J14: 830614 | K14: 9.9639261 | L14: 758355 | M14: 9.5423706 | N14: 83365 | O14: 1.0970429 | P14: 36825 | Q14: 1.072102 | R14: 46540 | S14: 1.1176152 | T14: 25－29
A15: 30－34 | B15: 1745546 | C15: 7.3088866 | D15: 902611 | E15: 7.6680565 | F15: 842935 | G15: 6.9598115 | H15: 1682574 | I15: 10.333031 | J15: 886771 | K15: 10.637577 | L15: 795803 | M15: 10.013578 | N15: 62972 | O15: 0.8286809 | P15: 15840 | Q15: 0.46115672 | R15: 47132 | S15: 1.1318315 | T15: 30－34
A16: 35－39 | B16: 1775051 | C16: 7.4324288 | D16: 887694 | E16: 7.5413304 | F16: 887357 | G16: 7.326588 | H16: 1690250 | I16: 10.380171 | J16: 868995 | K16: 10.424339 | L16: 821255 | M16: 10.33384 | N16: 84801 | O16: 1.1159399 | P16: 18699 | Q16: 0.54439201 | R16: 66102 | S16: 1.5873786 | T16: 35－39
A17: 40－44 | B17: 2085299 | C17: 8.7314879 | D17: 1014052 | E17: 8.6147943 | F17: 1071247 | G17: 8.8449017 | H17: 1975877 | I17: 12.134264 | J17: 988005 | K17: 11.851966 | L17: 987872 | M17: 12.43038 | N17: 109422 | O17: 1.4399403 | P17: 26047 | Q17: 0.75831749 | R17: 83375 | S17: 2.0021738 | T17: 40－44
A18: 45－49 | B18: 1931182 | C18: 8.0861748 | D18: 935480 | E18: 7.9472924 | F18: 995702 | G18: 8.2211538 | H18: 1817902 | I18: 11.164108 | J18: 904728 | K18: 10.852987 | L18: 913174 | M18: 11.490456 | N18: 113280 | O18: 1.4907097 | P18: 30752 | Q18: 0.89529617 | R18: 82528 | S18: 1.9818338 | T18: 45－49
A19: 50－54 | B19: 1771862 | C19: 7.4190759 | D19: 860935 | E19: 7.3140016 | F19: 910927 | G19: 7.5211971 | H19: 1613311 | I19: 9.9076725 | J19: 811437 | K19: 9.7338815 | L19: 801874 | M19: 10.08997 | N19: 158551 | O19: 2.0864541 | P19: 49498 | Q19: 1.4410565 | R19: 109053 | S19: 2.6188072 | T19: 50－54
... A29: 100+ | B29: 4511 | C29: 0.018888295 | D29: 1818 | E29: 0.015444668 | F29: 2693 | G29: 0.022235134 | H29: 3099 | I29: 0.019031592 | J29: 1446 | K29: 0.017346008 | L29: 1653 | M29: 0.020799676 | N29: 1412 | O29: 0.018581233 | P29: 372 | Q29: 0.010830196 | R29: 1040 | S29: 0.024974641 | T29: 100+
A30: 平均年齡 | B30: 42.960344 | D30: 41.93563 | F30: 43.956258 | H30: 46.197078 | J30: 45.910078 | L30: 46.498125 | N30: 36.024597 | P30: 32.289814 | R30: 39.105216 | T30: Mean

Sheet 111
A1: 保險對象人數－按性別及年齡別分 | K1: Beneficiaries by Gender and Age
A3: 中華民國111年底 | K3: End of 2022
A4: 單位：人 | T4: Unit：Persons
A5: 年齡別 | B5: 總計 Grand Total | H5: 被保險人 | K5: Insureds | N5: 眷屬 Dependents | T5: Age
B6: 合計 Total | D6: 男 Male | F6: 女 Female | H6: 合計 Total | J6: 男 Male | L6: 女 Female | N6: 合計 Total | P6: 男 Male | R6: 女 Female
C7: 百分比 % | E7: 百分比 % | G7: 百分比 % | I7: 百分比 % | K7: 百分比 % | M7: 百分比 % | O7: 百分比 % | Q7: 百分比 % | S7: 百分比 %
A8: 總 計 | B8: 23787442 | C8: 100 | D8: 11745647 | E8: 100 | F8: 12041795 | G8: 100 | H8: 16164862 | I8: 100 | J8: 8296424 | K8: 100 | L8: 7868438 | M8: 100 | N8: 7622580 | O8: 100 | P8: 3449223 | Q8: 100 | R8: 4173357 | S8: 100 | T8: Grand Total
A9: 0－4 | B9: 796173 | C9: 3.3470308 | D9: 412286 | E9: 3.5101174 | F9: 383887 | G9: 3.187955 | H9: 11931 | I9: 0.073808239 | J9: 6140 | K9: 0.074007789 | L9: 5791 | M9: 0.073597835 | N9: 784242 | O9: 10.288406 | P9: 406146 | Q9: 11.775 | R9: 378096 | S9: 9.0597569 | T9: 0－4
A10: 5－9 | B10: 1008478 | C10: 4.2395395 | D10: 522551 | E10: 4.4488907 | F10: 485927 | G10: 4.0353369 | H10: 24717 | I10: 0.15290573 | J10: 12784 | K10: 0.15409049 | L10: 11933 | M10: 0.15165653 | N10: 983761 | O10: 12.90588 | P10: 509767 | Q10: 14.779184 | R10: 473994 | S10: 11.357619 | T10: 5－9
A11: 10－14 | B11: 977615 | C11: 4.1097946 | D11: 508395 | E11: 4.3283695 | F11: 469220 | G11: 3.8965952 | H11: 34190 | I11: 0.21150815 | J11: 17734 | K11: 0.21375475 | L11: 16456 | M11: 0.20913935 | N11: 943425 | O11: 12.376715 | P11: 490661 | Q11: 14.225262 | R11: 452764 | S11: 10.848916 | T11: 10－14
A12: 15－19 | B12: 1060430 | C12: 4.4579405 | D12: 556165 | E12: 4.7350733 | F12: 504265 | G12: 4.1876232 | H12: 148588 | I12: 0.91920364 | J12: 85486 | K12: 1.0303957 | L12: 63102 | M12: 0.80196349 | N12: 911842 | O12: 11.96238 | P12: 470679 | Q12: 13.645943 | R12: 441163 | S12: 10.570938 | T12: 15－19
A13: 20－24 | B13: 1426905 | C13: 5.9985643 | D13: 749169 | E13: 6.3782693 | F13: 677736 | G13: 5.6281975 | H13: 863675 | I13: 5.342916 | J13: 461634 | K13: 5.5642527 | L13: 402041 | M13: 5.1095402 | N13: 563230 | O13: 7.388968 | P13: 287535 | Q13: 8.3362253 | R13: 275695 | S13: 6.6060728 | T13: 20－24
A14: 25－29 | B14: 1718358 | C14: 7.2238032 | D14: 892015 | E14: 7.5944305 | F14: 826343 | G14: 6.8622909 | H14: 1627475 | I14: 10.06798 | J14: 851778 | K14: 10.266809 | L14: 775697 | M14: 9.8583353 | N14: 90883 | O14: 1.1922866 | P14: 40237 | Q14: 1.1665526 | R14: 50646 | S14: 1.2135554 | T14: 25－29
A15: 30－34 | B15: 1738435 | C15: 7.3082049 | D15: 899550 | E15: 7.6585819 | F15: 838885 | G15: 6.9664448 | H15: 1672769 | I15: 10.34818 | J15: 884260 | K15: 10.658327 | L15: 788509 | M15: 10.021163 | N15: 65666 | O15: 0.86146685 | P15: 15290 | Q15: 0.44328824 | R15: 50376 | S15: 1.2070858 | T15: 30－34
A16: 35－39 | B16: 1802984 | C16: 7.5795624 | D16: 894298 | E16: 7.6138675 | F16: 908686 | G16: 7.5461009 | H16: 1713851 | I16: 10.602324 | J16: 876026 | K16: 10.559079 | L16: 837825 | M16: 10.64792 | N16: 89133 | O16: 1.1693285 | P16: 18272 | Q16: 0.5297425 | R16: 70861 | S16: 1.6979377 | T16: 35－39
A17: 40－44 | B17: 2093055 | C17: 8.7989915 | D17: 1017804 | E17: 8.6653719 | F17: 1075251 | G17: 8.9293249 | H17: 1982436 | I17: 12.26386 | J17: 991915 | K17: 11.955934 | L17: 990521 | M17: 12.588534 | N17: 110619 | O17: 1.4512016 | P17: 25889 | Q17: 0.75057484 | R17: 84730 | S17: 2.0302601 | T17: 40－44
A18: 45－49 | B18: 1870928 | C18: 7.8651921 | D18: 906167 | E18: 7.7149177 | F18: 964761 | G18: 8.0117707 | H18: 1759176 | I18: 10.882716 | J18: 876587 | K18: 10.565841 | L18: 882589 | M18: 11.216826 | N18: 111752 | O18: 1.4660653 | P18: 29580 | Q18: 0.85758445 | R18: 82172 | S18: 1.9689665 | T18: 45－49
A19: 50－54 | B19: 1781163 | C19: 7.4878291 | D19: 868027 | E19: 7.3902017 | F19: 913136 | G19: 7.5830555 | H19: 1615624 | I19: 9.9946662 | J19: 816477 | K19: 9.8413124 | L19: 799147 | M19: 10.156361 | N19: 165539 | O19: 2.1716925 | P19: 51550 | Q19: 1.4945395 | R19: 113989 | S19: 2.7313503 | T19: 50－54
... A29: 100+ | B29: 4416 | C29: 0.018564417 | D29: 1852 | E29: 0.015767543 | F29: 2564 | G29: 0.021292507 | H29: 3005 | I29: 0.018589704 | J29: 1440 | K29: 0.017356876 | L29: 1565 | M29: 0.019889589 | N29: 1411 | O29: 0.018510793 | P29: 412 | Q29: 0.011944719 | R29: 999 | S29: 0.023937564 | T29: 100+
A30: 平均年齡 | B30: 42.515787 | D30: 41.509937 | F30: 43.496899 | H30: 45.949832 | J30: 45.676327 | L30: 46.238213 | N30: 35.233362 | P30: 31.488511 | R30: 38.328431 | T30: Mean

Sheet 110
A1: 保險對象人數－按性別及年齡別分 | K1: Beneficiaries by Gender and Age
A3: 中華民國110年底 | K3: End of 2021
A4: 單位：人 | T4: Unit：Persons
A5: 年齡別 | B5: 總計 Grand Total | H5: 被保險人 | K5: Insureds | N5: 眷屬 Dependents | T5: Age
B6: 合計 Total | D6: 男 Male | F6: 女 Female | H6: 合計 Total | J6: 男 Male | L6: 女 Female | N6: 合計 Total | P6: 男 Male | R6: 女 Female
C7: 百分比 % | E7: 百分比 % | G7: 百分比 % | I7: 百分比 % | K7: 百分比 % | M7: 百分比 % | O7: 百分比 % | Q7: 百分比 % | S7: 百分比 %
A8: 總 計 | B8: 23861265 | C8: 100 | D8: 11782279 | E8: 100 | F8: 12078986 | G8: 100 | H8: 16102302 | I8: 100 | J8: 8271976 | K8: 100 | L8: 7830326 | M8: 100 | N8: 7758963 | O8: 100 | P8: 3510303 | Q8: 100 | R8: 4248660 | S8: 100 | T8: Grand Total
A9: 0－4 | B9: 852766 | C9: 3.5738508 | D9: 441709 | E9: 3.7489267 | F9: 411057 | G9: 3.4030754 | H9: 12782 | I9: 0.079379954 | J9: 6630 | K9: 0.080150136 | L9: 6152 | M9: 0.078566333 | N9: 839984 | O9: 10.825983 | P9: 435079 | Q9: 12.394343 | R9: 404905 | S9: 9.5301813 | T9: 0－4
A10: 5－9 | B10: 1050455 | C10: 4.4023441 | D10: 544321 | E10: 4.6198278 | F10: 506134 | G10: 4.1902027 | H10: 25874 | I10: 0.1606851 | J10: 13341 | K10: 0.16127948 | L10: 12533 | M10: 0.16005719 | N10: 1024581 | O10: 13.205128 | P10: 530980 | Q10: 15.12633 | R10: 493601 | S10: 11.617804 | T10: 5－9
A11: 10－14 | B11: 950269 | C11: 3.9824754 | D11: 495518 | E11: 4.205621 | F11: 454751 | G11: 3.7648111 | H11: 35758 | I11: 0.22206763 | J11: 18581 | K11: 0.22462589 | L11: 17177 | M11: 0.21936507 | N11: 914511 | O11: 11.786511 | P11: 476937 | Q11: 13.586776 | R11: 437574 | S11: 10.299106 | T11: 10－14
A12: 15－19 | B12: 1100882 | C12: 4.6136783 | D12: 576390 | E12: 4.8920077 | F12: 524492 | G12: 4.3421857 | H12: 152683 | I12: 0.94820604 | J12: 87606 | K12: 1.0590698 | L12: 65077 | M12: 0.83108928 | N12: 948199 | O12: 12.220692 | P12: 488784 | Q12: 13.924268 | R12: 459415 | S12: 10.813174 | T12: 15－19
A13: 20－24 | B13: 1502160 | C13: 6.2953913 | D13: 783521 | E13: 6.6499953 | F13: 718639 | G13: 5.9494977 | H13: 902551 | I13: 5.6051054 | J13: 479655 | K13: 5.7985541 | L13: 422896 | M13: 5.4007458 | N13: 599609 | O13: 7.7279528 | P13: 303866 | Q13: 8.6564037 | R13: 295743 | S13: 6.9608535 | T13: 20－24
A14: 25－29 | B14: 1714257 | C14: 7.1842671 | D14: 886971 | E14: 7.5280088 | F14: 827286 | G14: 6.8489689 | H14: 1616051 | I14: 10.036149 | J14: 845194 | K14: 10.217559 | L14: 770857 | M14: 9.8445071 | N14: 98206 | O14: 1.2657104 | P14: 41777 | Q14: 1.1901252 | R14: 56429 | S14: 1.3281599 | T14: 25－29
A15: 30－34 | B15: 1726550 | C15: 7.2357857 | D15: 886251 | E15: 7.5218979 | F15: 840299 | G15: 6.9567015 | H15: 1654285 | I15: 10.273593 | J15: 870588 | K15: 10.524547 | L15: 783697 | M15: 10.008485 | N15: 72265 | O15: 0.93137446 | P15: 15663 | Q15: 0.4462008 | R15: 56602 | S15: 1.3322318 | T15: 30－34
A16: 35－39 | B16: 1898529 | C16: 7.9565312 | D16: 931829 | E16: 7.9087331 | F16: 966700 | G16: 8.0031552 | H16: 1798234 | I16: 11.167559 | J16: 911887 | K16: 11.023811 | L16: 886347 | M16: 11.319414 | N16: 100295 | O16: 1.2926341 | P16: 19942 | Q16: 0.56809911 | R16: 80353 | S16: 1.8912551 | T16: 35－39
A17: 40－44 | B17: 2073361 | C17: 8.6892334 | D17: 1006516 | E17: 8.5426258 | F17: 1066845 | G17: 8.8322397 | H17: 1958492 | I17: 12.162808 | J17: 979584 | K17: 11.842201 | L17: 978908 | M17: 12.501497 | N17: 114869 | O17: 1.4804685 | P17: 26932 | Q17: 0.76722722 | R17: 87937 | S17: 2.0697585 | T17: 40－44
A18: 45－49 | B18: 1841035 | C18: 7.71558 | D18: 892005 | E18: 7.570734 | F18: 949030 | G18: 7.8568681 | H18: 1723480 | I18: 10.703314 | J18: 860470 | K18: 10.40223 | L18: 863010 | M18: 11.02138 | N18: 117555 | O18: 1.5150865 | P18: 31535 | Q18: 0.8983555 | R18: 86020 | S18: 2.0246384 | T18: 45－49
A19: 50－54 | B19: 1785321 | C19: 7.4820886 | D19: 875078 | E19: 7.4270691 | F19: 910243 | G19: 7.5357567 | H19: 1609292 | I19: 9.9941735 | J19: 819928 | K19: 9.9121177 | L19: 789364 | M19: 10.080857 | N19: 176029 | O19: 2.2687181 | P19: 55150 | Q19: 1.5710894 | R19: 120879 | S19: 2.8451088 | T19: 50－54
... A29: 100+ | B29: 4251 | C29: 0.017815485 | D29: 1748 | E29: 0.014835839 | F29: 2503 | G29: 0.020721938 | H29: 2871 | I29: 0.017829749 | J29: 1367 | K29: 0.016525677 | L29: 1504 | M29: 0.019207374 | N29: 1380 | O29: 0.017785882 | P29: 381 | Q29: 0.010853764 | R29: 999 | S29: 0.023513296 | T29: 100+
A30: 平均年齡 | B30: 42.072972 | D30: 41.127079 | F30: 42.995631 | H30: 45.718165 | J30: 45.510953 | L30: 45.937065 | N30: 34.508044 | P30: 30.796546 | R30: 37.574537 | T30: Mean

Sheet 109
A1: 保險對象人數－按性別及年齡別分 | K1: Beneficiaries by Gender and Age
A3: 中華民國109年底 | K3: End of 2020
A4: 單位：人 | T4: Unit：Persons
A5: 年齡別 | B5: 總計 Grand Total | H5: 被保險人 | K5: Insureds | N5: 眷屬 Dependents | T5: Age
B6: 合計 Total | D6: 男 Male | F6: 女 Female | H6: 合計 Total | J6: 男 Male | L6: 女 Female | N6: 合計 Total | P6: 男 Male | R6: 女 Female
C7: 百分比 % | E7: 百分比 % | G7: 百分比 % | I7: 百分比 % | K7: 百分比 % | M7: 百分比 % | O7: 百分比 % | Q7: 百分比 % | S7: 百分比 %
A8: 總 計 | B8: 23986997 | C8: 100 | D8: 11842902 | E8: 100 | F8: 12144095 | G8: 100 | H8: 16105070 | I8: 100 | J8: 8283331 | K8: 100 | L8: 7821739 | M8: 100 | N8: 7881927 | O8: 100 | P8: 3559571 | Q8: 100 | R8: 4322356 | S8: 100 | T8: Grand Total
A9: 0－4 | B9: 907054 | C9: 3.7814404 | D9: 469914 | E9: 3.9678957 | F9: 437140 | G9: 3.5996095 | H9: 13472 | I9: 0.083650676 | J9: 6992 | K9: 0.084410487 | L9: 6480 | M9: 0.082846027 | N9: 893582 | O9: 11.337101 | P9: 462922 | Q9: 13.004994 | R9: 430660 | S9: 9.9635477 | T9: 0－4
A10: 5－9 | B10: 1046442 | C10: 4.3625386 | D10: 542428 | E10: 4.580195 | F10: 504014 | G10: 4.1502804 | H10: 25872 | I10: 0.16064506 | J10: 13278 | K10: 0.16029783 | L10: 12594 | M10: 0.16101279 | N10: 1020570 | O10: 12.94823 | P10: 529150 | Q10: 14.865555 | R10: 491420 | S10: 11.369263 | T10: 5－9
A11: 10－14 | B11: 960562 | C11: 4.0045113 | D11: 501543 | E11: 4.2349671 | F11: 459019 | G11: 3.7797712 | H11: 38595 | I11: 0.23964503 | J11: 20060 | K11: 0.24217311 | L11: 18535 | M11: 0.23696776 | N11: 921967 | O11: 11.697228 | P11: 481483 | Q11: 13.526433 | R11: 440484 | S11: 10.190831 | T11: 10－14
A12: 15－19 | B12: 1153994 | C12: 4.8109148 | D12: 603416 | E12: 5.0951701 | F12: 550578 | G12: 4.5337096 | H12: 165064 | I12: 1.0249195 | J12: 94883 | K12: 1.1454691 | L12: 70181 | M12: 0.89725571 | N12: 988930 | O12: 12.546805 | P12: 508533 | Q12: 14.286356 | R12: 480397 | S12: 11.11424 | T12: 15－19
A13: 20－24 | B13: 1580312 | C13: 6.5882028 | D13: 821426 | E13: 6.9360196 | F13: 758886 | G13: 6.2490124 | H13: 960053 | I13: 5.9611849 | J13: 508242 | K13: 6.13572 | L13: 451811 | M13: 5.7763497 | N13: 620259 | O13: 7.8693827 | P13: 313184 | Q13: 8.7983636 | R13: 307075 | S13: 7.1043431 | T13: 20－24
A14: 25－29 | B14: 1732029 | C14: 7.2206996 | D14: 894396 | E14: 7.5521692 | F14: 837633 | G14: 6.897451 | H14: 1629245 | I14: 10.116348 | J14: 852044 | K14: 10.286248 | L14: 777201 | M14: 9.9364221 | N14: 102784 | O14: 1.3040466 | P14: 42352 | Q14: 1.1898063 | R14: 60432 | S14: 1.3981264 | T14: 25－29
A15: 30－34 | B15: 1727374 | C15: 7.2012933 | D15: 877793 | E15: 7.4119755 | F15: 849581 | G15: 6.9958362 | H15: 1645694 | I15: 10.218484 | J15: 860429 | K15: 10.387476 | L15: 785265 | M15: 10.039519 | N15: 81680 | O15: 1.0362948 | P15: 17364 | Q15: 0.48781159 | R15: 64316 | S15: 1.4879848 | T15: 30－34
A16: 35－39 | B16: 2014977 | C16: 8.4002887 | D16: 983174 | E16: 8.3017997 | F16: 1031803 | G16: 8.4963351 | H16: 1900146 | I16: 11.798434 | J16: 960609 | K16: 11.596893 | L16: 939537 | M16: 12.011868 | N16: 114831 | O16: 1.4568899 | P16: 22565 | Q16: 0.63392471 | R16: 92266 | S16: 2.1346229 | T16: 35－39
A17: 40－44 | B17: 2082969 | C17: 8.6837423 | D17: 1009981 | E17: 8.5281547 | F17: 1072988 | G17: 8.8354711 | H17: 1959715 | I17: 12.168311 | J17: 980871 | K17: 11.841504 | L17: 978844 | M17: 12.514404 | N17: 123254 | O17: 1.5637547 | P17: 29110 | Q17: 0.81779518 | R17: 94144 | S17: 2.1780714 | T17: 40－44
A18: 45－49 | B18: 1789332 | C18: 7.4595915 | D18: 867480 | E18: 7.3248938 | F18: 921852 | G18: 7.5909485 | H18: 1665917 | I18: 10.344053 | J18: 834216 | K18: 10.071021 | L18: 831701 | M18: 10.633198 | N18: 123415 | O18: 1.5657973 | P18: 33264 | Q18: 0.93449463 | R18: 90151 | S18: 2.0856912 | T18: 45－49
A19: 50－54 | B19: 1803660 | C19: 7.5193239 | D19: 886372 | E19: 7.4844156 | F19: 917288 | G19: 7.5533665 | H19: 1613085 | I19: 10.016007 | J19: 826109 | K19: 9.9731497 | L19: 786976 | M19: 10.061394 | N19: 190575 | O19: 2.4178732 | P19: 60263 | Q19: 1.6929849 | R19: 130312 | S19: 3.0148373 | T19: 50－54
... A29: 100+ | B29: 3719 | C29: 0.015504233 | D29: 1499 | E29: 0.012657371 | F29: 2220 | G29: 0.018280489 | H29: 2448 | I29: 0.015200182 | J29: 1158 | K29: 0.013979883 | L29: 1290 | M29: 0.016492496 | N29: 1271 | O29: 0.016125498 | P29: 341 | Q29: 0.0095798061 | R29: 930 | S29: 0.021516044 | T29: 100+
A30: 平均年齡 | B30: 41.598641 | D30: 40.697408 | F30: 42.477523 | H30: 45.383955 | J30: 45.229539 | L30: 45.547483 | N30: 33.864145 | P30: 30.150871 | R30: 36.922121 | T30: Mean

Sheet 108
A1: 保險對象人數－按性別及年齡別分 | K1: Beneficiaries by Gender and Age
A3: 中華民國108年底 | K3: End of 2019
A4: 單位：人 | T4: Unit：Persons
A5: 年齡別 | B5: 總計 Grand Total | H5: 被保險人 | K5: Insureds | N5: 眷屬 Dependents | T5: Age
B6: 合計 Total | D6: 男 Male | F6: 女 Female | H6: 合計 Total | J6: 男 Male | L6: 女 Female | N6: 合計 Total | P6: 男 Male | R6: 女 Female
C7: 百分比 % | E7: 百分比 % | G7: 百分比 % | I7: 百分比 % | K7: 百分比 % | M7: 百分比 % | O7: 百分比 % | Q7: 百分比 % | S7: 百分比 %
A8: 總 計 | B8: 24020428 | C8: 100 | D8: 11864558 | E8: 100 | F8: 12155870 | G8: 100 | H8: 16072302 | I8: 100 | J8: 8274694 | K8: 100 | L8: 7797608 | M8: 100 | N8: 7948126 | O8: 100 | P8: 3589864 | Q8: 100 | R8: 4358262 | S8: 100 | T8: Grand Total
A9: 0－4 | B9: 956367 | C9: 3.9814736 | D9: 495769 | E9: 4.1785712 | F9: 460598 | G9: 3.7890994 | H9: 13984 | I9: 0.087006827 | J9: 7145 | K9: 0.086347604 | L9: 6839 | M9: 0.087706384 | N9: 942383 | O9: 11.856669 | P9: 488624 | Q9: 13.611212 | R9: 453759 | S9: 10.411467 | T9: 0－4
A10: 5－9 | B10: 1001048 | C10: 4.1674861 | D10: 518985 | E10: 4.3742464 | F10: 482063 | G10: 3.9656808 | H10: 25315 | I10: 0.157507 | J10: 13061 | K10: 0.15784269 | L10: 12254 | M10: 0.15715076 | N10: 975733 | O10: 12.276265 | P10: 505924 | Q10: 14.093124 | R10: 469809 | S10: 10.779733 | T10: 5－9
A11: 10－14 | B11: 999860 | C11: 4.1625403 | D11: 522058 | E11: 4.4001471 | F11: 477802 | G11: 3.9306278 | H11: 41659 | I11: 0.25919747 | J11: 21574 | K11: 0.26072263 | L11: 20085 | M11: 0.25757899 | N11: 958201 | O11: 12.055685 | P11: 500484 | Q11: 13.941587 | R11: 457717 | S11: 10.502283 | T11: 10－14
A12: 15－19 | B12: 1254460 | C12: 5.2224715 | D12: 656727 | E12: 5.5351999 | F12: 597733 | G12: 4.9172375 | H12: 190091 | I12: 1.1827242 | J12: 108745 | K12: 1.3141876 | L12: 81346 | M12: 1.0432174 | N12: 1064369 | O12: 13.391446 | P12: 547982 | Q12: 15.264701 | R12: 516387 | S12: 11.848462 | T12: 15－19
A13: 20－24 | B13: 1606103 | C13: 6.6864046 | D13: 834005 | E13: 7.0293811 | F13: 772098 | G13: 6.3516474 | H13: 992052 | I13: 6.1724325 | J13: 524829 | K13: 6.342579 | L13: 467223 | M13: 5.991876 | N13: 614051 | O13: 7.7257331 | P13: 309176 | Q13: 8.6124711 | R13: 304875 | S13: 6.9953344 | T13: 20－24
A14: 25－29 | B14: 1751368 | C14: 7.2911607 | D14: 905145 | E14: 7.628982 | F14: 846223 | G14: 6.9614351 | H14: 1645309 | I14: 10.236922 | J14: 862598 | K14: 10.424531 | L14: 782711 | M14: 10.037835 | N14: 106059 | O14: 1.33439 | P14: 42547 | Q14: 1.1851981 | R14: 63512 | S14: 1.4572782 | T14: 25－29
A15: 30－34 | B15: 1738806 | C15: 7.2388635 | D15: 873985 | E15: 7.3663511 | F15: 864821 | G15: 7.1144311 | H15: 1651718 | I15: 10.276798 | J15: 856633 | K15: 10.352443 | L15: 795085 | M15: 10.196524 | N15: 87088 | O15: 1.0957048 | P15: 17352 | Q15: 0.48336093 | R15: 69736 | S15: 1.6000874 | T15: 30－34
A16: 35－39 | B16: 2080800 | C16: 8.6626267 | D16: 1010838 | E16: 8.5198117 | F16: 1069962 | G16: 8.8020191 | H16: 1957264 | I16: 12.17787 | J16: 986715 | K16: 11.924489 | L16: 970549 | M16: 12.446753 | N16: 123536 | O16: 1.5542783 | P16: 24123 | Q16: 0.67197532 | R16: 99413 | S16: 2.2810239 | T16: 35－39
A17: 40－44 | B17: 2035968 | C17: 8.4759855 | D17: 986666 | E17: 8.3160789 | F17: 1049302 | G17: 8.6320601 | H17: 1911109 | I17: 11.890699 | J17: 957180 | K17: 11.567558 | L17: 953929 | M17: 12.233611 | N17: 124859 | O17: 1.5709238 | P17: 29486 | Q17: 0.82136816 | R17: 95373 | S17: 2.1883264 | T17: 40－44
A18: 45－49 | B18: 1797816 | C18: 7.4845294 | D18: 874419 | E18: 7.3700091 | F18: 923397 | G18: 7.5963053 | H18: 1668022 | I18: 10.37824 | J18: 839095 | K18: 10.140496 | L18: 828927 | M18: 10.630529 | N18: 129794 | O18: 1.6330139 | P18: 35324 | Q18: 0.98399271 | R18: 94470 | S18: 2.1676072 | T18: 45－49
A19: 50－54 | B19: 1806960 | C19: 7.522597 | D19: 889367 | E19: 7.4959977 | F19: 917593 | G19: 7.5485588 | H19: 1608098 | I19: 10.005399 | J19: 825965 | K19: 9.9818193 | L19: 782133 | M19: 10.030422 | N19: 198862 | O19: 2.5019986 | P19: 63402 | Q19: 1.7661393 | R19: 135460 | S19: 3.1081197 | T19: 50－54
... A29: 100+ | B29: 3275 | C29: 0.013634228 | D29: 1317 | E29: 0.011100287 | F29: 1958 | G29: 0.016107444 | H29: 2144 | I29: 0.013339719 | J29: 1003 | K29: 0.012121294 | L29: 1141 | M29: 0.014632692 | N29: 1131 | O29: 0.014229769 | P29: 314 | Q29: 0.0087468495 | R29: 817 | S29: 0.018746005 | T29: 100+
A30: 平均年齡 | B30: 41.139738 | D30: 40.26969 | F30: 41.988935 | H30: 45.081846 | J30: 44.965017 | L30: 45.205823 | N30: 33.168204 | P30: 29.446886 | R30: 36.233424 | T30: Mean

Sheet 107
A1: 保險對象人數－按性別及年齡別分 | K1: Beneficiaries by Gender and Age
A3: 中華民國107年底 | K3: End of 2018
A4: 單位：人 | T4: Unit：Persons
A5: 年齡別 | B5: 總計 Grand Total | H5: 被保險人 | K5: Insureds | N5: 眷屬 Dependents | T5: Age
B6: 合計 Total | D6: 男 Male | F6: 女 Female | H6: 合計 Total | J6: 男 Male | L6: 女 Female | N6: 合計 Total | P6: 男 Male | R6: 女 Female
C7: 百分比 % | E7: 百分比 % | G7: 百分比 % | I7: 百分比 % | K7: 百分比 % | M7: 百分比 % | O7: 百分比 % | Q7: 百分比 % | S7: 百分比 %
A8: 總 計 | B8: 23948108 | C8: 100 | D8: 11843883 | E8: 100 | F8: 12104225 | G8: 100 | H8: 15964302 | I8: 100 | J8: 8238080 | K8: 100 | L8: 7726222 | M8: 100 | N8: 7983806 | O8: 100 | P8: 3605803 | Q8: 100 | R8: 4378003 | S8: 100 | T8: Grand Total
A9: 0－4 | B9: 989225 | C9: 4.1307021 | D9: 512511 | E9: 4.3272211 | F9: 476714 | G9: 3.9384099 | H9: 13901 | I9: 0.087075526 | J9: 7116 | K9: 0.086379351 | L9: 6785 | M9: 0.087817824 | N9: 975324 | O9: 12.216279 | P9: 505395 | Q9: 14.016157 | R9: 469929 | S9: 10.733867 | T9: 0－4
A10: 5－9 | B10: 981350 | C10: 4.0978185 | D10: 509543 | E10: 4.3021617 | F10: 471807 | G10: 3.8978704 | H10: 25190 | I10: 0.15778955 | J10: 12977 | K10: 0.15752457 | L10: 12213 | M10: 0.15807208 | N10: 956160 | O10: 11.976243 | P10: 496566 | Q10: 13.771301 | R10: 459594 | S10: 10.4978 | T10: 5－9
A11: 10－14 | B11: 1021386 | C11: 4.2649966 | D11: 534156 | E11: 4.5099736 | F11: 487230 | G11: 4.0252887 | H11: 44479 | I11: 0.27861538 | J11: 22891 | K11: 0.27786814 | L11: 21588 | M11: 0.27941211 | N11: 976907 | O11: 12.236106 | P11: 511265 | Q11: 14.17895 | R11: 465642 | S11: 10.635945 | T11: 10－14
A12: 15－19 | B12: 1315090 | C12: 5.491415 | D12: 688370 | E12: 5.8120297 | F12: 626720 | G12: 5.1776962 | H12: 194820 | I12: 1.2203477 | J12: 112176 | K12: 1.3616765 | L12: 82644 | M12: 1.069656 | N12: 1120270 | O12: 14.031779 | P12: 576194 | Q12: 15.979631 | R12: 544076 | S12: 12.427493 | T12: 15－19
A13: 20－24 | B13: 1643410 | C13: 6.8623793 | D13: 856225 | E13: 7.2292592 | F13: 787185 | G13: 6.5033903 | H13: 1016855 | I13: 6.369555 | J13: 542521 | K13: 6.5855272 | L13: 474334 | M13: 6.1392748 | N13: 626555 | O13: 7.8478235 | P13: 313704 | Q13: 8.6999761 | R13: 312851 | S13: 7.145975 | T13: 20－24
A14: 25－29 | B14: 1730333 | C14: 7.2253432 | D14: 893612 | E14: 7.5449242 | F14: 836721 | G14: 6.9126359 | H14: 1623792 | I14: 10.171394 | J14: 852130 | K14: 10.343794 | L14: 771662 | M14: 9.9875722 | N14: 106541 | O14: 1.3344638 | P14: 41482 | Q14: 1.1504234 | R14: 65059 | S14: 1.4860428 | T14: 25－29
A15: 30－34 | B15: 1792460 | C15: 7.4847666 | D15: 893343 | E15: 7.542653 | F15: 899117 | G15: 7.4281253 | H15: 1699242 | I15: 10.644011 | J15: 875675 | K15: 10.629601 | L15: 823567 | M15: 10.659375 | N15: 93218 | O15: 1.1675885 | P15: 17668 | Q15: 0.48998794 | R15: 75550 | S15: 1.7256726 | T15: 30－34
A16: 35－39 | B16: 2118691 | C16: 8.8470079 | D16: 1028182 | E16: 8.6811226 | F16: 1090509 | G16: 9.0093253 | H16: 1991100 | I16: 12.472202 | J16: 1003520 | K16: 12.181479 | L16: 987580 | M16: 12.782185 | N16: 127591 | O16: 1.5981225 | P16: 24662 | Q16: 0.68395306 | R16: 102929 | S16: 2.3510491 | T16: 35－39
A17: 40－44 | B17: 1968644 | C17: 8.2204573 | D17: 953900 | E17: 8.0539465 | F17: 1014744 | G17: 8.3833868 | H17: 1845247 | I17: 11.558582 | J17: 924981 | K17: 11.228114 | L17: 920266 | M17: 11.910944 | N17: 123397 | O17: 1.5455912 | P17: 28919 | Q17: 0.80201276 | R17: 94478 | S17: 2.1580159 | T17: 40－44
A18: 45－49 | B18: 1811739 | C18: 7.5652699 | D18: 884688 | E18: 7.4695773 | F18: 927051 | G18: 7.6589042 | H18: 1677266 | I18: 10.506353 | J18: 847991 | K18: 10.293551 | L18: 829275 | M18: 10.733254 | N18: 134473 | O18: 1.684322 | P18: 36697 | Q18: 1.0177206 | R18: 97776 | S18: 2.233347 | T18: 45－49
A19: 50－54 | B19: 1813120 | C19: 7.5710365 | D19: 894237 | E19: 7.5502012 | F19: 918883 | G19: 7.5914237 | H19: 1606992 | I19: 10.066159 | J19: 828357 | K19: 10.055219 | L19: 778635 | M19: 10.077823 | N19: 206128 | O19: 2.5818263 | P19: 65880 | Q19: 1.8270549 | R19: 140248 | S19: 3.2034697 | T19: 50－54
... A29: 100+ | B29: 2955 | C29: 0.012339179 | D29: 1167 | E29: 0.0098531875 | F29: 1788 | G29: 0.014771702 | H29: 1906 | I29: 0.011939138 | J29: 884 | K29: 0.010730656 | L29: 1022 | M29: 0.013227681 | N29: 1049 | O29: 0.013139097 | P29: 283 | Q29: 0.0078484598 | R29: 766 | S29: 0.017496562 | T29: 100+
A30: 平均年齡 | B30: 40.713695 | D30: 39.873307 | F30: 41.536008 | H30: 44.828652 | J30: 44.741015 | L30: 44.922094 | N30: 32.485488 | P30: 28.752187 | R30: 35.560303 | T30: Mean

Sheet 106
A1: 保險對象人數－按性別及年齡別分 | K1: Beneficiaries by Gender and Age
A3: 中華民國106年底 | K3: End of 2017
A4: 單位：人 | T4: Unit：Persons
A5: 年齡別 | B5: 總計 Grand Total | H5: 被保險人 | K5: Insureds | N5: 眷屬 Dependents | T5: Age
B6: 合計 Total | D6: 男 Male | F6: 女 Female | H6: 合計 Total | J6: 男 Male | L6: 女 Female | N6: 合計 Total | P6: 男 Male | R6: 女 Female
C7: 百分比 % | E7: 百分比 % | G7: 百分比 % | I7: 百分比 % | K7: 百分比 % | M7: 百分比 % | O7: 百分比 % | Q7: 百分比 % | S7: 百分比 %
A8: 總 計 | B8: 23880332 | C8: 100 | D8: 11820988 | E8: 100 | F8: 12059344 | G8: 100 | H8: 15850671 | I8: 100 | J8: 8193486 | K8: 100 | L8: 7657185 | M8: 100 | N8: 8029661 | O8: 100 | P8: 3627502 | Q8: 100 | R8: 4402159 | S8: 100 | T8: Grand Total
A9: 0－4 | B9: 1000726 | C9: 4.1905866 | D9: 518696 | E9: 4.3879243 | F9: 482030 | G9: 3.9971494 | H9: 13439 | I9: 0.084785054 | J9: 6937 | K9: 0.084664818 | L9: 6502 | M9: 0.084913712 | N9: 987287 | O9: 12.2955 | P9: 511759 | Q9: 14.107752 | R9: 475528 | S9: 10.802154 | T9: 0－4
A10: 5－9 | B10: 982092 | C10: 4.1125559 | D10: 510604 | E10: 4.3194697 | F10: 471488 | G10: 3.9097317 | H10: 25730 | I10: 0.16232751 | J10: 13151 | K10: 0.16050555 | L10: 12579 | M10: 0.16427708 | N10: 956362 | O10: 11.910366 | P10: 497453 | Q10: 13.713376 | R10: 458909 | S10: 10.424635 | T10: 5－9
A11: 10－14 | B11: 1048062 | C11: 4.3888083 | D11: 548572 | E11: 4.6406612 | F11: 499490 | G11: 4.1419334 | H11: 46617 | I11: 0.29410111 | J11: 23802 | K11: 0.29049906 | L11: 22815 | M11: 0.29795545 | N11: 1001445 | O11: 12.471822 | P11: 524770 | Q11: 14.466429 | R11: 476675 | S11: 10.82821 | T11: 10－14
A12: 15－19 | B12: 1352702 | C12: 5.6645025 | D12: 707852 | E12: 5.9880951 | F12: 644850 | G12: 5.3473058 | H12: 195830 | I12: 1.2354682 | J12: 113366 | K12: 1.3836113 | L12: 82464 | M12: 1.0769493 | N12: 1156872 | O12: 14.407482 | P12: 594486 | Q12: 16.388302 | R12: 562386 | S12: 12.775231 | T12: 15－19
A13: 20－24 | B13: 1704215 | C13: 7.1364795 | D13: 887971 | E13: 7.5118171 | F13: 816244 | G13: 6.7685605 | H13: 1044113 | I13: 6.5871849 | J13: 559437 | K13: 6.8278264 | L13: 484676 | M13: 6.329689 | N13: 660102 | O13: 8.2207954 | P13: 328534 | Q13: 9.0567559 | R13: 331568 | S13: 7.5319406 | T13: 20－24
A14: 25－29 | B14: 1732422 | C14: 7.2545976 | D14: 892140 | E14: 7.5470849 | F14: 840282 | G14: 6.9678915 | H14: 1625128 | I14: 10.252739 | J14: 851780 | K14: 10.395819 | L14: 773348 | M14: 10.099638 | N14: 107294 | O14: 1.3362208 | P14: 40360 | Q14: 1.1126114 | R14: 66934 | S14: 1.5204812 | T14: 25－29
A15: 30－34 | B15: 1827633 | C15: 7.6532981 | D15: 901725 | E15: 7.6281695 | F15: 925908 | G15: 7.6779301 | H15: 1727921 | I15: 10.901248 | J15: 883740 | K15: 10.785885 | L15: 844181 | M15: 11.024691 | N15: 99712 | O15: 1.2417959 | P15: 17985 | Q15: 0.49579573 | R15: 81727 | S15: 1.8565209 | T15: 30－34
A16: 35－39 | B16: 2130690 | C16: 8.9223634 | D16: 1034409 | E16: 8.7506137 | F16: 1096281 | G16: 9.0907184 | H16: 1999522 | I16: 12.614747 | J16: 1009070 | K16: 12.315515 | L16: 990452 | M16: 12.934936 | N16: 131168 | O16: 1.6335434 | P16: 25339 | Q16: 0.69852477 | R16: 105829 | S16: 2.4040249 | T16: 35－39
A17: 40－44 | B17: 1912016 | C17: 8.0066559 | D17: 927265 | E17: 7.8442259 | F17: 984751 | G17: 8.1658754 | H17: 1788173 | I17: 11.281371 | J17: 898356 | K17: 10.964271 | L17: 889817 | M17: 11.62068 | N17: 123843 | O17: 1.5423192 | P17: 28909 | Q17: 0.7969396 | R17: 94934 | S17: 2.1565327 | T17: 40－44
A18: 45－49 | B18: 1826463 | C18: 7.6483987 | D18: 895217 | E18: 7.5731149 | F18: 931246 | G18: 7.7221945 | H18: 1686829 | I18: 10.642004 | J18: 856945 | K18: 10.458857 | L18: 829884 | M18: 10.837978 | N18: 139634 | O18: 1.7389775 | P18: 38272 | Q18: 1.0550511 | R18: 101362 | S18: 2.302552 | T18: 45－49
A19: 50－54 | B19: 1825835 | C19: 7.6457689 | D19: 900777 | E19: 7.6201499 | F19: 925058 | G19: 7.6708816 | H19: 1610619 | I19: 10.161204 | J19: 831343 | K19: 10.146389 | L19: 779276 | M19: 10.177056 | N19: 215216 | O19: 2.6802626 | P19: 69434 | Q19: 1.9140996 | R19: 145782 | S19: 3.3116023 | T19: 50－54
... A29: 100+ | B29: 2821 | C29: 0.011813069 | D29: 1142 | E29: 0.009660783 | F29: 1679 | G29: 0.013922814 | H29: 1823 | I29: 0.01150109 | J29: 859 | K29: 0.010483938 | L29: 964 | M29: 0.012589483 | N29: 998 | O29: 0.012428918 | P29: 283 | Q29: 0.0078015119 | R29: 715 | S29: 0.01624203 | T29: 100+
A30: 平均年齡 | B30: 40.303809 | D30: 39.500361 | F30: 41.091378 | H30: 44.596867 | J30: 44.549844 | L30: 44.647183 | N30: 31.829249 | P30: 28.095025 | R30: 34.906353 | T30: Mean

Sheet 105
A1: 保險對象人數－按性別及年齡別分 | K1: Beneficiaries by Gender and Age
A3: 中華民國105年底 | K3: End of 2016
A4: 單位：人 | T4: Unit：Persons
A5: 年齡別 | B5: 總計 Grand Total | H5: 被保險人 | K5: Insureds | N5: 眷屬 Dependents | T5: Age
B6: 合計 Total | D6: 男 Male | F6: 女 Female | H6: 合計 Total | J6: 男 Male | L6: 女 Female | N6: 合計 Total | P6: 男 Male | R6: 女 Female
C7: 百分比 % | E7: 百分比 % | G7: 百分比 % | I7: 百分比 % | K7: 百分比 % | M7: 百分比 % | O7: 百分比 % | Q7: 百分比 % | S7: 百分比 %
A8: 總 計 | B8: 23814584 | C8: 100 | D8: 11799845 | E8: 100 | F8: 12014739 | G8: 100 | H8: 15751630 | I8: 100 | J8: 8154133 | K8: 100 | L8: 7597497 | M8: 100 | N8: 8062954 | O8: 100 | P8: 3645712 | Q8: 100 | R8: 4417242 | S8: 100 | T8: Grand Total
A9: 0－4 | B9: 1040898 | C9: 4.3708427 | D9: 539372 | E9: 4.5710092 | F9: 501526 | G9: 4.1742563 | H9: 14143 | I9: 0.089787533 | J9: 7358 | K9: 0.090236448 | L9: 6785 | M9: 0.089305728 | N9: 1026755 | O9: 12.734229 | P9: 532014 | Q9: 14.59287 | R9: 494741 | S9: 11.200224 | T9: 0－4
A10: 5－9 | B10: 951302 | C10: 3.9946194 | D10: 495936 | E10: 4.2029027 | F10: 455366 | G10: 3.7900615 | H10: 26968 | I10: 0.17120768 | J10: 13842 | K10: 0.16975441 | L10: 13126 | M10: 0.17276743 | N10: 924334 | O10: 11.463962 | P10: 482094 | Q10: 13.22359 | R10: 442240 | S10: 10.011677 | T10: 5－9
A11: 10－14 | B11: 1088646 | C11: 4.5713417 | D11: 569721 | E11: 4.8282075 | F11: 518925 | G11: 4.3190701 | H11: 51010 | I11: 0.3238395 | J11: 26067 | K11: 0.31967838 | L11: 24943 | M11: 0.32830549 | N11: 1037636 | O11: 12.869179 | P11: 543654 | Q11: 14.912149 | R11: 493982 | S11: 11.183041 | T11: 10－14
A12: 15－19 | B12: 1429761 | C12: 6.0037202 | D12: 747009 | E12: 6.3306679 | F12: 682752 | G12: 5.6826203 | H12: 209752 | I12: 1.3316209 | J12: 121154 | K12: 1.4857987 | L12: 88598 | M12: 1.1661472 | N12: 1220009 | O12: 15.131043 | P12: 625855 | Q12: 17.16688 | R12: 594154 | S12: 13.450791 | T12: 15－19
A13: 20－24 | B13: 1703045 | C13: 7.1512692 | D13: 886585 | E13: 7.5135309 | F13: 816460 | G13: 6.7954868 | H13: 1039412 | I13: 6.5987584 | J13: 557231 | K13: 6.8337247 | L13: 482181 | M13: 6.346577 | N13: 663633 | O13: 8.2306435 | P13: 329354 | Q13: 9.0340104 | R13: 334279 | S13: 7.5675953 | T13: 20－24
A14: 25－29 | B14: 1716092 | C14: 7.2060549 | D14: 879740 | E14: 7.4555217 | F14: 836352 | G14: 6.9610501 | H14: 1604973 | I14: 10.18925 | J14: 838768 | K14: 10.286415 | L14: 766205 | M14: 10.084966 | N14: 111119 | O14: 1.3781426 | P14: 40972 | Q14: 1.1238408 | R14: 70147 | S14: 1.5880271 | T14: 25－29
A15: 30－34 | B15: 1914986 | C15: 8.0412322 | D15: 937700 | E15: 7.9467146 | F15: 977286 | G15: 8.1340593 | H15: 1804857 | I15: 11.458224 | J15: 918329 | K15: 11.262129 | L15: 886528 | M15: 11.668685 | N15: 110129 | O15: 1.3658642 | P15: 19371 | Q15: 0.53133654 | R15: 90758 | S15: 2.0546305 | T15: 30－34
A16: 35－39 | B16: 2102702 | C16: 8.8294719 | D16: 1021572 | E16: 8.6575036 | F16: 1081130 | G16: 8.9983644 | H16: 1969671 | I16: 12.504553 | J16: 995512 | K16: 12.20868 | L16: 974159 | M16: 12.822104 | N16: 133031 | O16: 1.649904 | P16: 26060 | Q16: 0.71481236 | R16: 106971 | S16: 2.4216694 | T16: 35－39
A17: 40－44 | B17: 1876408 | C17: 7.879239 | D17: 911347 | E17: 7.7233811 | F17: 965061 | G17: 8.0323093 | H17: 1748693 | I17: 11.101664 | J17: 881156 | K17: 10.80625 | L17: 867537 | M17: 11.418721 | N17: 127715 | O17: 1.5839728 | P17: 30191 | Q17: 0.82812356 | R17: 97524 | S17: 2.207803 | T17: 40－44
A18: 45－49 | B18: 1824923 | C18: 7.663048 | D18: 899946 | E18: 7.6267612 | F18: 924977 | G18: 7.6986858 | H18: 1681404 | I18: 10.674476 | J18: 860298 | K18: 10.550453 | L18: 821106 | M18: 10.807586 | N18: 143519 | O18: 1.7799804 | P18: 39648 | Q18: 1.0875242 | R18: 103871 | S18: 2.3514899 | T18: 45－49
A19: 50－54 | B19: 1853826 | C19: 7.7844148 | D19: 915029 | E19: 7.7545849 | F19: 938797 | G19: 7.8137111 | H19: 1630704 | I19: 10.352605 | J19: 842730 | K19: 10.335004 | L19: 787974 | M19: 10.371495 | N19: 223122 | O19: 2.7672488 | P19: 72299 | Q19: 1.9831243 | R19: 150823 | S19: 3.4144156 | T19: 50－54
... A29: 100+ | B29: 2589 | C29: 0.01087149 | D29: 1033 | E29: 0.0087543523 | F29: 1556 | G29: 0.01295076 | H29: 1637 | I29: 0.010392575 | J29: 765 | K29: 0.0093817454 | L29: 872 | M29: 0.011477464 | N29: 952 | O29: 0.011807087 | P29: 268 | Q29: 0.0073511018 | R29: 684 | S29: 0.015484775 | T29: 100+
A30: 平均年齡 | B30: 39.89144 | D30: 39.130375 | F30: 40.638892 | H30: 44.39063 | J30: 44.384554 | L30: 44.397151 | N30: 31.101909 | P30: 27.378686 | R30: 34.174822 | T30: Mean

Sheet 104
A1: 保險對象人數－按性別及年齡別分 | K1: Beneficiaries by Gender and Age
A3: 中華民國104年底 | K3: End of 2015
A4: 單位：人 | T4: Unit：Persons
A5: 年齡別 | B5: 總計 Grand Total | H5: 被保險人 | K5: Insureds | N5: 眷屬 Dependents | T5: Age
B6: 合計 Total | D6: 男 Male | F6: 女 Female | H6: 合計 Total | J6: 男 Male | L6: 女 Female | N6: 合計 Total | P6: 男 Male | R6: 女 Female
C7: 百分比 % | E7: 百分比 % | G7: 百分比 % | I7: 百分比 % | K7: 百分比 % | M7: 百分比 % | O7: 百分比 % | Q7: 百分比 % | S7: 百分比 %
A8: 總 計 | B8: 23737221 | C8: 100 | D8: 11773677 | E8: 100 | F8: 11963544 | G8: 100 | H8: 15641440 | I8: 100 | J8: 8109819 | K8: 100 | L8: 7531621 | M8: 100 | N8: 8095781 | O8: 100 | P8: 3663858 | Q8: 100 | R8: 4431923 | S8: 100 | T8: Grand Total
A9: 0－4 | B9: 1031184 | C9: 4.3441648 | D9: 534373 | E9: 4.5387095 | F9: 496811 | G9: 4.1527076 | H9: 13992 | I9: 0.089454679 | J9: 7287 | K9: 0.08985404 | L9: 6705 | M9: 0.08902466 | N9: 1017192 | O9: 12.56447 | P9: 527086 | Q9: 14.386092 | R9: 490106 | S9: 11.058541 | T9: 0－4
A10: 5－9 | B10: 957246 | C10: 4.0326793 | D10: 499875 | E10: 4.2457 | F10: 457371 | G10: 3.8230394 | H10: 28653 | I10: 0.18318646 | J10: 14808 | K10: 0.18259347 | L10: 13845 | M10: 0.18382497 | N10: 928593 | O10: 11.470085 | P10: 485067 | Q10: 13.239241 | R10: 443526 | S10: 10.007529 | T10: 5－9
A11: 10－14 | B11: 1137462 | C11: 4.791892 | D11: 594758 | E11: 5.0515909 | F11: 542704 | G11: 4.5363147 | H11: 54310 | I11: 0.34721867 | J11: 27614 | K11: 0.34050082 | L11: 26696 | M11: 0.35445225 | N11: 1083152 | O11: 13.379216 | P11: 567144 | Q11: 15.479421 | R11: 516008 | S11: 11.642982 | T11: 10－14
A12: 15－19 | B12: 1492047 | C12: 6.2856853 | D12: 779209 | E12: 6.6182298 | F12: 712838 | G12: 5.9584183 | H12: 216755 | I12: 1.3857739 | J12: 125127 | K12: 1.5429074 | L12: 91628 | M12: 1.2165774 | N12: 1275292 | O12: 15.752551 | P12: 654082 | Q12: 17.852275 | R12: 621210 | S12: 14.016715 | T12: 15－19
A13: 20－24 | B13: 1695276 | C13: 7.141847 | D13: 882235 | E13: 7.4932835 | F13: 813041 | G13: 6.7959879 | H13: 1026479 | I13: 6.5625607 | J13: 550971 | K13: 6.7938754 | L13: 475508 | M13: 6.3134882 | N13: 668797 | O13: 8.261056 | P13: 331264 | Q13: 9.0413984 | R13: 337533 | S13: 7.6159491 | T13: 20－24
A14: 25－29 | B14: 1697216 | C14: 7.1500198 | D14: 863005 | E14: 7.3299531 | F14: 834211 | G14: 6.9729421 | H14: 1581456 | I14: 10.11068 | J14: 820680 | K14: 10.119585 | L14: 760776 | M14: 10.101092 | N14: 115760 | O14: 1.4298806 | P14: 42325 | Q14: 1.1552031 | R14: 73435 | S14: 1.6569557 | T14: 25－29
A15: 30－34 | B15: 2018369 | C15: 8.5029709 | D15: 986213 | E15: 8.3764231 | F15: 1032156 | G15: 8.6275104 | H15: 1897538 | I15: 12.131479 | J15: 965006 | K15: 11.89923 | L15: 932532 | M15: 12.381558 | N15: 120831 | O15: 1.4925181 | P15: 21207 | Q15: 0.5788161 | R15: 99624 | S15: 2.247873 | T15: 30－34
A16: 35－39 | B16: 2102607 | C16: 8.8578482 | D16: 1022870 | E16: 8.6877702 | F16: 1079737 | G16: 9.025227 | H16: 1965649 | I16: 12.566931 | J16: 995838 | K16: 12.279411 | L16: 969811 | M16: 12.876524 | N16: 136958 | O16: 1.6917207 | P16: 27032 | Q16: 0.73780152 | R16: 109926 | S16: 2.4803229 | T16: 35－39
A17: 40－44 | B17: 1817446 | C17: 7.6565239 | D17: 884722 | E17: 7.5144069 | F17: 932724 | G17: 7.7963854 | H17: 1687329 | I17: 10.787555 | J17: 853748 | K17: 10.527337 | L17: 833581 | M17: 11.06775 | N17: 130117 | O17: 1.6072199 | P17: 30974 | Q17: 0.84539303 | R17: 99143 | S17: 2.2370199 | T17: 40－44
A18: 45－49 | B18: 1838825 | C18: 7.7465892 | D18: 909821 | E18: 7.7275859 | F18: 929004 | G18: 7.765291 | H18: 1689020 | I18: 10.798366 | J18: 867702 | K18: 10.6994 | L18: 821318 | M18: 10.90493 | N18: 149805 | O18: 1.8504083 | P18: 42119 | Q18: 1.1495806 | R18: 107686 | S18: 2.4297805 | T18: 45－49
A19: 50－54 | B19: 1850912 | C19: 7.7975092 | D19: 914880 | E19: 7.7705546 | F19: 936032 | G19: 7.8240361 | H19: 1622953 | I19: 10.375982 | J19: 841324 | K19: 10.37414 | L19: 781629 | M19: 10.377965 | N19: 227959 | O19: 2.8157753 | P19: 73556 | Q19: 2.0076106 | R19: 154403 | S19: 3.4838827 | T19: 50－54
... A29: 100+ | B29: 2509 | C29: 0.010569898 | D29: 1008 | E29: 0.0085614715 | F29: 1501 | G29: 0.012546449 | H29: 1562 | I29: 0.0099862928 | J29: 749 | K29: 0.0092357178 | L29: 813 | M29: 0.010794489 | N29: 947 | O29: 0.011697451 | P29: 259 | Q29: 0.0070690513 | R29: 688 | S29: 0.015523735 | T29: 100+
A30: 平均年齡 | B30: 39.517417 | D30: 38.801058 | F30: 40.222407 | H30: 44.204733 | J30: 44.244607 | L30: 44.161798 | N30: 30.461296 | P30: 26.751958 | R30: 33.527795 | T30: Mean

Sheet 103
A1: 保險對象人數－按年齡性別分 | K1: Beneficiaries by Age and Gender
A3: 中華民國103年底 | K3: End of 2014
A4: 單位：人 | S4: Unit：Person
A5: 年齡別 Age | B5: 保險對象 Beneficiaries | J5: 被保險人 Insureds | N5: 眷屬 Dependents
B6: 合 計 Total | D6: 男 Male | F6: 女 Female | H6: 合 計 Total | J6: 男 | L6: 女 Female | N6: 合 計 Total | P6: 男 Male | R6: 女 Female
C7: 百分比 % | E7: 百分比 % | G7: 百分比 % | I7: 百分比 % | J7: Male | K7: 百分比 % | M7: 百分比 % | O7: 百分比 % | Q7: 百分比 % | S7: 百分比 %
A8: 總 計 Grand Total | B8: 23621599 | C8: 100 | D8: 11728872 | E8: 100 | F8: 11892727 | G8: 100 | H8: 15501531 | I8: 100 | J8: 8052525 | K8: 100 | L8: 7449006 | M8: 100 | N8: 8120068 | O8: 100 | P8: 3676347 | Q8: 100 | R8: 4443721 | S8: 100
A9: 0 － 4 | B9: 984060 | C9: 4.1659331 | D9: 510169 | E9: 4.3496851 | F9: 473891 | G9: 3.9847127 | H9: 14034 | I9: 0.090532993 | J9: 7341 | K9: 0.091163952 | L9: 6693 | M9: 0.089850914 | N9: 970026 | O9: 11.946033 | P9: 502828 | Q9: 13.677381 | R9: 467198 | S9: 10.513666
A10: 5 － 9 | B10: 996123 | C10: 4.2170007 | D10: 520206 | E10: 4.4352603 | F10: 475917 | G10: 4.0017483 | H10: 31454 | I10: 0.20290899 | J10: 16214 | K10: 0.20135299 | L10: 15240 | M10: 0.20459106 | N10: 964669 | O10: 11.880061 | P10: 503992 | Q10: 13.709043 | R10: 460677 | S10: 10.36692
A11: 10 － 14 | B11: 1234252 | C11: 5.2250993 | D11: 645500 | E11: 5.503513 | F11: 588752 | G11: 4.9505214 | H11: 60231 | I11: 0.38854872 | J11: 30539 | K11: 0.3792475 | L11: 29692 | M11: 0.39860352 | N11: 1174021 | O11: 14.458266 | P11: 614961 | Q11: 16.727502 | R11: 559060 | S11: 12.580898
A12: 15 － 19 | B12: 1511472 | C12: 6.3986862 | D12: 787871 | E12: 6.7173638 | F12: 723601 | G12: 6.0843993 | H12: 221249 | I12: 1.4272719 | J12: 128041 | K12: 1.5900727 | L12: 93208 | M12: 1.251281 | N12: 1290223 | O12: 15.889313 | P12: 659830 | Q12: 17.947979 | R12: 630393 | S12: 14.186152
A13: 20 － 24 | B13: 1694736 | C13: 7.1745185 | D13: 882606 | E13: 7.5250715 | F13: 812130 | G13: 6.8287954 | H13: 1019261 | I13: 6.575228 | J13: 547324 | K13: 6.7969239 | L13: 471937 | M13: 6.3355701 | N13: 675475 | O13: 8.318588 | P13: 335282 | Q13: 9.119977 | R13: 340193 | S13: 7.6555886
A14: 25 － 29 | B14: 1693041 | C14: 7.1673429 | D14: 851940 | E14: 7.2636141 | F14: 841101 | G14: 7.0723981 | H14: 1571293 | I14: 10.136373 | J14: 809268 | K14: 10.049866 | L14: 762025 | M14: 10.229888 | N14: 121748 | O14: 1.499347 | P14: 42672 | Q14: 1.1607174 | R14: 79076 | S14: 1.7794997
A15: 30 － 34 | B15: 2071423 | C15: 8.7691904 | D15: 1010004 | E15: 8.6112629 | F15: 1061419 | G15: 8.9249421 | H15: 1942029 | I15: 12.527982 | J15: 987113 | K15: 12.258428 | L15: 954916 | M15: 12.819375 | N15: 129394 | O15: 1.5935088 | P15: 22891 | Q15: 0.62265613 | R15: 106503 | S15: 2.3967076
A16: 35 － 39 | B16: 2049727 | C16: 8.6773423 | D16: 998394 | E16: 8.5122764 | F16: 1051333 | G16: 8.840134 | H16: 1911525 | I16: 12.331201 | J16: 970771 | K16: 12.055486 | L16: 940754 | M16: 12.629256 | N16: 138202 | O16: 1.7019808 | P16: 27623 | Q16: 0.75137086 | R16: 110579 | S16: 2.4884326
A17: 40 － 44 | B17: 1823615 | C17: 7.7201167 | D17: 891765 | E17: 7.6031608 | F17: 931850 | G17: 7.8354611 | H17: 1687254 | I17: 10.884435 | J17: 859043 | K17: 10.667995 | L17: 828211 | M17: 11.11841 | N17: 136361 | O17: 1.6793086 | P17: 32722 | Q17: 0.89006832 | R17: 103639 | S17: 2.3322571
A18: 45 － 49 | B18: 1840501 | C18: 7.7916021 | D18: 912915 | E18: 7.7834851 | F18: 927586 | G18: 7.7996073 | H18: 1687329 | I18: 10.884918 | J18: 869415 | K18: 10.7968 | L18: 817914 | M18: 10.980176 | N18: 153172 | O18: 1.8863389 | P18: 43500 | Q18: 1.1832398 | R18: 109672 | S18: 2.4680217
A19: 50 － 54 | B19: 1849882 | C19: 7.8313157 | D19: 915717 | E19: 7.8073748 | F19: 934165 | G19: 7.8549268 | H19: 1619505 | I19: 10.447387 | J19: 842014 | K19: 10.456521 | L19: 777491 | M19: 10.437513 | N19: 230377 | O19: 2.8371314 | P19: 73703 | Q19: 2.004789 | R19: 156674 | S19: 3.5257389
... A29: 100+ | B29: 2304 | C29: 0.0097537851 | D29: 910 | E29: 0.0077586319 | F29: 1394 | G29: 0.01172145 | H29: 1442 | I29: 0.009302307 | J29: 671 | K29: 0.00833279 | L29: 771 | M29: 0.010350374 | N29: 862 | O29: 0.010615675 | P29: 239 | Q29: 0.0065010185 | R29: 623 | S29: 0.014019782
A30: 平均年齡 Mean | B30: 39.137448 | D30: 38.465783 | F30: 39.799858 | H30: 44.033745 | J30: 44.118502 | L30: 43.942121 | N30: 29.790222 | P30: 26.084291 | R30: 32.856186

Sheet 102
A1: 保險對象人數－按年齡性別分 | K1: Beneficiaries by Age and Gender
A3: 中華民國102年底 | K3: End of 2013
A4: 單位：人 | S4: Unit：Person
A5: 年齡別 Age | B5: 保險對象 Beneficiaries | J5: 被保險人 Insureds | N5: 眷屬 Dependents
B6: 合 計 Total | D6: 男 Male | F6: 女 Female | H6: 合 計 Total | J6: 男 | L6: 女 Female | N6: 合 計 Total | P6: 男 Male | R6: 女 Female
C7: 百分比 % | E7: 百分比 % | G7: 百分比 % | I7: 百分比 % | J7: Male | K7: 百分比 % | M7: 百分比 % | O7: 百分比 % | Q7: 百分比 % | S7: 百分比 %
A8: 總 計 Grand Total | B8: 23462863 | C8: 100 | D8: 11656518 | E8: 100 | F8: 11806345 | G8: 100 | H8: 15306878 | I8: 100 | J8: 7962412 | K8: 100 | L8: 7344466 | M8: 100 | N8: 8155985 | O8: 100 | P8: 3694106 | Q8: 100 | R8: 4461879 | S8: 100
A9: 0 － 4 | B9: 965445 | C9: 4.1147792 | D9: 501441 | E9: 4.3018078 | F9: 464004 | G9: 3.930124 | H9: 14161 | I9: 0.092513967 | J9: 7336 | K9: 0.092132886 | L9: 6825 | M9: 0.09292711 | N9: 951284 | O9: 11.663631 | P9: 494105 | Q9: 13.375496 | R9: 457179 | S9: 10.246333
A10: 5 － 9 | B10: 1018520 | C10: 4.3409877 | D10: 532846 | E10: 4.5712279 | F10: 485674 | G10: 4.1136694 | H10: 33609 | I10: 0.21956796 | J10: 17405 | K10: 0.21858954 | L10: 16204 | M10: 0.2206287 | N10: 984911 | O10: 12.07593 | P10: 515441 | Q10: 13.953065 | R10: 469470 | S10: 10.5218
A11: 10 － 14 | B11: 1297529 | C11: 5.5301393 | D11: 678049 | E11: 5.8169086 | F11: 619480 | G11: 5.2470091 | H11: 63013 | I11: 0.41166461 | J11: 32075 | K11: 0.4028302 | L11: 30938 | M11: 0.42124233 | N11: 1234516 | O11: 15.13632 | P11: 645974 | Q11: 17.486612 | R11: 588542 | S11: 13.190452
A12: 15 － 19 | B12: 1544644 | C12: 6.5833569 | D12: 802678 | E12: 6.8860873 | F12: 741966 | G12: 6.2844682 | H12: 214493 | I12: 1.4012851 | J12: 122146 | K12: 1.5340327 | L12: 92347 | M12: 1.2573685 | N12: 1330151 | O12: 16.308895 | P12: 680532 | Q12: 18.422103 | R12: 649619 | S12: 14.559315
A13: 20 － 24 | B13: 1654715 | C13: 7.0524855 | D13: 857881 | E13: 7.3596678 | F13: 796834 | G13: 6.7492014 | H13: 977336 | I13: 6.3849467 | J13: 525285 | K13: 6.5970588 | L13: 452051 | M13: 6.154988 | N13: 677379 | O13: 8.3052997 | P13: 332596 | Q13: 9.0034233 | R13: 344783 | S13: 7.727305
A14: 25 － 29 | B14: 1732677 | C14: 7.3847637 | D14: 864235 | E14: 7.4141781 | F14: 868442 | G14: 7.3557227 | H14: 1600020 | I14: 10.452948 | J14: 818191 | K14: 10.275668 | L14: 781829 | M14: 10.645144 | N14: 132657 | O14: 1.6264988 | P14: 46044 | Q14: 1.2464179 | R14: 86613 | S14: 1.9411777
A15: 30 － 34 | B15: 2101002 | C15: 8.954585 | D15: 1023959 | E15: 8.7844329 | F15: 1077043 | G15: 9.1225777 | H15: 1964828 | I15: 12.836243 | J15: 999814 | K15: 12.556673 | L15: 965014 | M15: 13.139335 | N15: 136174 | O15: 1.6696205 | P15: 24145 | Q15: 0.65360875 | R15: 112029 | S15: 2.5108032
A16: 35 － 39 | B16: 1979370 | C16: 8.4361827 | D16: 963848 | E16: 8.2687472 | F16: 1015522 | G16: 8.6014935 | H16: 1839027 | I16: 12.014383 | J16: 935229 | K16: 11.745549 | L16: 903798 | M16: 12.305837 | N16: 140343 | O16: 1.7207364 | P16: 28619 | Q16: 0.7747206 | R16: 111724 | S16: 2.5039675
A17: 40 － 44 | B17: 1834948 | C17: 7.8206483 | D17: 901180 | E17: 7.7311252 | F17: 933768 | G17: 7.9090354 | H17: 1690772 | I17: 11.045832 | J17: 865813 | K17: 10.873753 | L17: 824959 | M17: 11.232389 | N17: 144176 | O17: 1.7677325 | P17: 35367 | Q17: 0.95738996 | R17: 108809 | S17: 2.4386363
A18: 45 － 49 | B18: 1845805 | C18: 7.8669214 | D18: 917325 | E18: 7.8696314 | F18: 928480 | G18: 7.8642459 | H18: 1687836 | I18: 11.026651 | J18: 872200 | K18: 10.953967 | L18: 815636 | M18: 11.10545 | N18: 157969 | O18: 1.9368476 | P18: 45125 | Q18: 1.2215405 | R18: 112844 | S18: 2.529069
A19: 50 － 54 | B19: 1837490 | C19: 7.8314825 | D19: 909836 | E19: 7.8053841 | F19: 927654 | G19: 7.8572496 | H19: 1603908 | I19: 10.478348 | J19: 835344 | K19: 10.491092 | L19: 768564 | M19: 10.464532 | N19: 233582 | O19: 2.8639337 | P19: 74492 | Q19: 2.0165095 | R19: 159090 | S19: 3.5655382
... A29: 100+ | B29: 2065 | C29: 0.0088011425 | D29: 818 | E29: 0.007017533 | F29: 1247 | G29: 0.010562117 | H29: 1271 | I29: 0.0083034568 | J29: 589 | K29: 0.007397256 | L29: 682 | M29: 0.0092859032 | N29: 794 | O29: 0.0097351822 | P29: 229 | Q29: 0.0061990641 | R29: 565 | S29: 0.012662827
A30: 平均年齡 Mean | B30: 38.775152 | D30: 38.150595 | F30: 39.391784 | H30: 43.917624 | J30: 44.056272 | L30: 43.767311 | N30: 29.123935 | P30: 25.421282 | R30: 32.189457

Sheet 101
A1: 保險對象人數－按年齡性別分 | J1: Beneficiaries by Age and Gender
A3: 中華民國101年底 | J3: End of 2012
A4: 單位：人 | S4: Unit：Person
A5: 年齡別 Age | B5: 保險對象 Beneficiaries | K5: 被保險人 Insureds | N5: 眷屬 Dependents
B6: 合 計 Total | D6: 男 Male | F6: 女 Female | H6: 合 計 Total | J6: 男 | L6: 女 Female | N6: 合 計 Total | P6: 男 Male | R6: 女 Female
C7: 百分比 % | E7: 百分比 % | G7: 百分比 % | I7: 百分比 % | J7: Male | K7: 百分比 % | M7: 百分比 % | O7: 百分比 % | Q7: 百分比 % | S7: 百分比 %
A8: 總 計 Grand Total | B8: =SUM(D8,F8) -> 23280949 | C8: =(B8/B8)*100 -> 100 | D8: =SUM(D9:D29) -> 11558126 | E8: =(D8/D8)*100 -> 100 | F8: =SUM(F9:F29) -> 11722823 | G8: =(F8/F8)*100 -> 100 | H8: =SUM(H9:H29) -> 15147476 | I8: =(H8/H8)*100 -> 100 | J8: =SUM(J9:J29) -> 7865956 | K8: =(J8/J8)*100 -> 100 | L8: =SUM(L9:L29) -> 7281520 | M8: =(L8/L8)*100 -> 100 | N8: =P8+R8 -> 8133473 | O8: =(N8/N8)*100 -> 100 | P8: =SUM(P9:P29) -> 3692170 | Q8: =(P8/P8)*100 -> 100 | R8: =SUM(R9:R29) -> 4441303 | S8: =(R8/R8)*100 -> 100
A9: 0 － 4 | B9: =SUM(D9,F9) -> 956478 | C9: =(B9/$B$8)*100 -> 4.108415 | D9: =SUM(J9,P9) -> 497719 | E9: =(D9/$D$8)*100 -> 4.3062258 | F9: =SUM(L9,R9) -> 458759 | G9: =(F9/$F$8)*100 -> 3.9133833 | H9: =J9+L9 -> 14390 | I9: =(H9/$H$8)*100 -> 0.094999325 | J9: 7460 | K9: =(J9/$J$8)*100 -> 0.094839076 | L9: 6930 | M9: =(L9/$L$8)*100 -> 0.095172437 | N9: =P9+R9 -> 942088 | O9: =(N9/$N$8)*100 -> 11.58285 | P9: 490259 | Q9: =(P9/$P$8)*100 -> 13.278343 | R9: 451829 | S9: =(R9/$R$8)*100 -> 10.173343
A10: 5 － 9 | B10: =SUM(D10,F10) -> 1046409 | C10: =(B10/$B$8)*100 -> 4.4947008 | D10: =SUM(J10,P10) -> 547861 | E10: =(D10/$D$8)*100 -> 4.7400504 | F10: =SUM(L10,R10) -> 498548 | G10: =(F10/$F$8)*100 -> 4.2527982 | H10: =J10+L10 -> 34935 | I10: =(H10/$H$8)*100 -> 0.23063248 | J10: 18055 | K10: =(J10/$J$8)*100 -> 0.22953345 | L10: 16880 | M10: =(L10/$L$8)*100 -> 0.23181973 | N10: =P10+R10 -> 1011474 | O10: =(N10/$N$8)*100 -> 12.435942 | P10: 529806 | Q10: =(P10/$P$8)*100 -> 14.349448 | R10: 481668 | S10: =(R10/$R$8)*100 -> 10.845196
A11: 10 － 14 | B11: =SUM(D11,F11) -> 1336059 | C11: =(B11/$B$8)*100 -> 5.7388511 | D11: =SUM(J11,P11) -> 697306 | E11: =(D11/$D$8)*100 -> 6.0330368 | F11: =SUM(L11,R11) -> 638753 | G11: =(F11/$F$8)*100 -> 5.4487985 | H11: =J11+L11 -> 64566 | I11: =(H11/$H$8)*100 -> 0.42624923 | J11: 32776 | K11: =(J11/$J$8)*100 -> 0.41668171 | L11: 31790 | M11: =(L11/$L$8)*100 -> 0.43658467 | N11: =P11+R11 -> 1271493 | O11: =(N11/$N$8)*100 -> 15.632842 | P11: 664530 | Q11: =(P11/$P$8)*100 -> 17.998359 | R11: 606963 | S11: =(R11/$R$8)*100 -> 13.666327
A12: 15 － 19 | B12: =SUM(D12,F12) -> 1601637 | C12: =(B12/$B$8)*100 -> 6.8796036 | D12: =SUM(J12,P12) -> 833684 | E12: =(D12/$D$8)*100 -> 7.2129686 | F12: =SUM(L12,R12) -> 767953 | G12: =(F12/$F$8)*100 -> 6.5509221 | H12: =J12+L12 -> 218419 | I12: =(H12/$H$8)*100 -> 1.4419498 | J12: 128251 | K12: =(J12/$J$8)*100 -> 1.6304566 | L12: 90168 | M12: =(L12/$L$8)*100 -> 1.2383129 | N12: =P12+R12 -> 1383218 | O12: =(N12/$N$8)*100 -> 17.006487 | P12: 705433 | Q12: =(P12/$P$8)*100 -> 19.10619 | R12: 677785 | S12: =(R12/$R$8)*100 -> 15.260949
A13: 20 － 24 | B13: =SUM(D13,F13) -> 1656301 | C13: =(B13/$B$8)*100 -> 7.114405 | D13: =SUM(J13,P13) -> 856767 | E13: =(D13/$D$8)*100 -> 7.4126809 | F13: =SUM(L13,R13) -> 799534 | G13: =(F13/$F$8)*100 -> 6.8203196 | H13: =J13+L13 -> 978969 | I13: =(H13/$H$8)*100 -> 6.4629183 | J13: 524342 | K13: =(J13/$J$8)*100 -> 6.6659666 | L13: 454627 | M13: =(L13/$L$8)*100 -> 6.2435728 | N13: =P13+R13 -> 677332 | O13: =(N13/$N$8)*100 -> 8.3277095 | P13: 332425 | Q13: =(P13/$P$8)*100 -> 9.0035128 | R13: 344907 | S13: =(R13/$R$8)*100 -> 7.7658966
A14: 25 － 29 | B14: =SUM(D14,F14) -> 1765859 | C14: =(B14/$B$8)*100 -> 7.5849958 | D14: =SUM(J14,P14) -> 870371 | E14: =(D14/$D$8)*100 -> 7.5303817 | F14: =SUM(L14,R14) -> 895488 | G14: =(F14/$F$8)*100 -> 7.6388426 | H14: =J14+L14 -> 1628945 | I14: =(H14/$H$8)*100 -> 10.753904 | J14: 824827 | K14: =(J14/$J$8)*100 -> 10.486036 | L14: 804118 | M14: =(L14/$L$8)*100 -> 11.043271 | N14: =P14+R14 -> 136914 | O14: =(N14/$N$8)*100 -> 1.6833399 | P14: 45544 | Q14: =(P14/$P$8)*100 -> 1.2335293 | R14: 91370 | S14: =(R14/$R$8)*100 -> 2.0572791
A15: 30 － 34 | B15: =SUM(D15,F15) -> 2103802 | C15: =(B15/$B$8)*100 -> 9.0365818 | D15: =SUM(J15,P15) -> 1021342 | E15: =(D15/$D$8)*100 -> 8.8365709 | F15: =SUM(L15,R15) -> 1082460 | G15: =(F15/$F$8)*100 -> 9.2337827 | H15: =J15+L15 -> 1964746 | I15: =(H15/$H$8)*100 -> 12.970781 | J15: 996583 | K15: =(J15/$J$8)*100 -> 12.669573 | L15: 968163 | M15: =(L15/$L$8)*100 -> 13.296166 | N15: =P15+R15 -> 139056 | O15: =(N15/$N$8)*100 -> 1.7096756 | P15: 24759 | Q15: =(P15/$P$8)*100 -> 0.67058126 | R15: 114297 | S15: =(R15/$R$8)*100 -> 2.5735015
A16: 35 － 39 | B16: =SUM(D16,F16) -> 1912339 | C16: =(B16/$B$8)*100 -> 8.2141798 | D16: =SUM(J16,P16) -> 926517 | E16: =(D16/$D$8)*100 -> 8.0161524 | F16: =SUM(L16,R16) -> 985822 | G16: =(F16/$F$8)*100 -> 8.4094249 | H16: =J16+L16 -> 1770863 | I16: =(H16/$H$8)*100 -> 11.690812 | J16: 897829 | K16: =(J16/$J$8)*100 -> 11.414112 | L16: 873034 | M16: =(L16/$L$8)*100 -> 11.989722 | N16: =P16+R16 -> 141476 | O16: =(N16/$N$8)*100 -> 1.7394291 | P16: 28688 | Q16: =(P16/$P$8)*100 -> 0.77699564 | R16: 112788 | S16: =(R16/$R$8)*100 -> 2.539525
A17: 40 － 44 | B17: =SUM(D17,F17) -> 1839784 | C17: =(B17/$B$8)*100 -> 7.9025301 | D17: =SUM(J17,P17) -> 903344 | E17: =(D17/$D$8)*100 -> 7.8156615 | F17: =SUM(L17,R17) -> 936440 | G17: =(F17/$F$8)*100 -> 7.9881783 | H17: =J17+L17 -> 1688753 | I17: =(H17/$H$8)*100 -> 11.148742 | J17: 866100 | K17: =(J17/$J$8)*100 -> 11.01074 | L17: 822653 | M17: =(L17/$L$8)*100 -> 11.29782 | N17: =P17+R17 -> 151031 | O17: =(N17/$N$8)*100 -> 1.8569066 | P17: 37244 | Q17: =(P17/$P$8)*100 -> 1.0087293 | R17: 113787 | S17: =(R17/$R$8)*100 -> 2.5620184
A18: 45 － 49 | B18: =SUM(D18,F18) -> 1851949 | C18: =(B18/$B$8)*100 -> 7.9547831 | D18: =SUM(J18,P18) -> 918091 | E18: =(D18/$D$8)*100 -> 7.9432514 | F18: =SUM(L18,R18) -> 933858 | G18: =(F18/$F$8)*100 -> 7.9661529 | H18: =J18+L18 -> 1689836 | I18: =(H18/$H$8)*100 -> 11.155892 | J18: 871586 | K18: =(J18/$J$8)*100 -> 11.080484 | L18: 818250 | M18: =(L18/$L$8)*100 -> 11.237352 | N18: =P18+R18 -> 162113 | O18: =(N18/$N$8)*100 -> 1.9931584 | P18: 46505 | Q18: =(P18/$P$8)*100 -> 1.2595574 | R18: 115608 | S18: =(R18/$R$8)*100 -> 2.6030199
