Workbook
Name aaa: !#REF!
Name aaa: !#REF!
Name 民國100年第2季: '101'!#REF!
Name 民國100年第2季: '102'!#REF!
Name 民國100年第2季: !#REF!
Name 民國100年第2季: !#REF!
Name 民國100年第2季: !#REF!
Name 民國100年第2季: !#REF!
Name 民國100年第2季: !#REF!
Name 民國100年第2季: !#REF!
Name 民國100年第2季: 歷年!#REF!
Name 民國100年第2季: !#REF!

Sheet 歷年
A1: 3.1-02 原住民低收入戶戶數及人數
A2: 101-113年底
A4: 地區別 | B4: 原住民戶數(戶長性別) | N4: 原住民人數
B5: 總計 | E5: 第1款(省、新北、臺中、臺南)、第0類(臺北)、第1類(高雄) | H5: 第2款(省、新北、臺中、臺南)、第1、2類(臺北)、第2類(高雄) | K5: 第3款(省、新北、臺中、臺南)、第3、4類(臺北、高雄) | N5: 總計 | Q5: 第1款(省、新北、臺中、臺南)、第0類(臺北)、第1類(高雄) | T5: 第2款(省、新北、臺中、臺南)、第1、2類(臺北)、第2類(高雄) | W5: 第3款(省、新北、臺中、臺南)、第3、4類(臺北、高雄)
B6: 計 | C6: 男 | D6: 女 | E6: 計 | F6: 男 | G6: 女 | H6: 計 | I6: 男 | J6: 女 | K6: 計 | L6: 男 | M6: 女 | N6: 計 | O6: 男 | P6: 女 | Q6: 計 | R6: 男 | S6: 女 | T6: 計 | U6: 男 | V6: 女 | W6: 計 | X6: 男 | Y6: 女
A7: 101年,2012 | B7: ='101'!B7 -> 10068 | C7: ='101'!C7 -> 5324 | D7: ='101'!D7 -> 4744 | E7: ='101'!E7 -> 99 | F7: ='101'!F7 -> 73 | G7: ='101'!G7 -> 26 | H7: ='101'!H7 -> 1643 | I7: ='101'!I7 -> 868 | ... Y7: ='101'!Y7 -> 12605
A8: 102年,2013 | B8: ='102'!B7 -> 10830 | C8: ='102'!C7 -> 6094 | D8: ='102'!D7 -> 4736 | E8: ='102'!E7 -> 411 | F8: ='102'!F7 -> 327 | G8: ='102'!G7 -> 84 | H8: ='102'!H7 -> 1861 | I8: ='102'!I7 -> 1023 | ... Y8: ='102'!Y7 -> 13426
A9: 103年,2014 | B9: 11045 | C9: 6138 | D9: 4907 | E9: 318 | F9: 252 | G9: 66 | H9: 1773 | I9: 1007 | J9: 766 | K9: 8954 | L9: 4879 | M9: 4075 | N9: 33046 | O9: 16736 | P9: 16310 | Q9: 321 | R9: 254 | S9: 67 | T9: 4874 | U9: 2501 | V9: 2373 | W9: 27851 | X9: 13981 | Y9: 13870
A10: 104年,2015 | B10: 10878 | C10: 6122 | D10: 4756 | E10: 281 | F10: 229 | G10: 52 | H10: 1707 | I10: 1028 | J10: 679 | K10: 8890 | L10: 4865 | M10: 4025 | N10: 31940 | O10: 16249 | P10: 15691 | Q10: 286 | R10: 231 | S10: 55 | T10: 4260 | U10: 2300 | V10: 1960 | W10: 27394 | X10: 13718 | Y10: 13676
A11: 105年,2016 | B11: 10888 | C11: 6173 | D11: 4715 | E11: 239 | F11: 196 | G11: 43 | H11: 1649 | I11: 1030 | J11: 619 | K11: 9000 | L11: 4947 | M11: 4053 | N11: 31789 | O11: 16225 | P11: 15564 | Q11: 241 | R11: 197 | S11: 44 | T11: 4017 | U11: 2175 | V11: 1842 | W11: 27531 | X11: 13853 | Y11: 13678
A12: 106年,2017 | B12: 10925 | C12: 6221 | D12: 4704 | E12: 210 | F12: 171 | G12: 39 | H12: 1510 | I12: 960 | J12: 550 | K12: 9205 | L12: 5090 | M12: 4115 | N12: 31253 | O12: 15980 | P12: 15273 | Q12: 213 | R12: 173 | S12: 40 | T12: 3526 | U12: 1938 | V12: 1588 | W12: 27514 | X12: 13869 | Y12: 13645
A13: 107年,2018 | B13: 11292 | C13: 6422 | D13: 4870 | E13: 181 | F13: 142 | G13: 39 | H13: 1467 | I13: 929 | J13: 538 | K13: 9644 | L13: 5351 | M13: 4293 | N13: 32069 | O13: 16425 | P13: 15644 | Q13: 184 | R13: 144 | S13: 40 | T13: 3346 | U13: 1827 | V13: 1519 | W13: 28539 | X13: 14454 | Y13: 14085
A14: 108年,2019 | B14: 10720 | C14: 6062 | D14: 4658 | E14: 40 | F14: 34 | G14: 6 | H14: 1324 | I14: 850 | J14: 474 | K14: 9356 | L14: 5178 | M14: 4178 | N14: 30810 | O14: 15711 | P14: 15099 | Q14: 43 | R14: 36 | S14: 7 | T14: 3067 | U14: 1697 | V14: 1370 | W14: 27700 | X14: 13978 | Y14: 13722
A15: 109年,2020 | B15: 10693 | C15: 6139 | D15: 4554 | E15: 32 | F15: 28 | G15: 4 | H15: 1216 | I15: 782 | J15: 434 | K15: 9445 | L15: 5329 | M15: 4116 | N15: 30277 | O15: 15557 | P15: 14720 | Q15: 33 | R15: 29 | S15: 4 | T15: 2758 | U15: 1497 | V15: 1261 | W15: 27486 | X15: 14031 | Y15: 13455
A16: 110年,2021 | B16: 10949 | C16: 6276 | D16: 4673 | E16: 26 | F16: 22 | G16: 4 | H16: 1214 | I16: 796 | J16: 418 | K16: 9709 | L16: 5458 | M16: 4251 | N16: 30415 | O16: 15610 | P16: 14805 | Q16: 26 | R16: 22 | S16: 4 | T16: 2684 | U16: 1468 | V16: 1216 | W16: 27705 | X16: 14120 | Y16: 13585
A17: 111年,2022 | B17: 11160 | C17: 6320 | D17: 4840 | E17: 30 | F17: 23 | G17: 7 | H17: 1157 | I17: 745 | J17: 412 | K17: 9973 | L17: 5552 | M17: 4421 | N17: 30799 | O17: 15760 | P17: 15039 | Q17: 31 | R17: 23 | S17: 8 | T17: 2588 | U17: 1444 | V17: 1144 | W17: 28180 | X17: 14293 | Y17: 13887
A18: 112年,2023 | B18: 10935 | C18: 6218 | D18: 4717 | E18: 28 | F18: 24 | G18: 4 | H18: 1130 | I18: 711 | J18: 419 | K18: 9777 | L18: 5483 | M18: 4294 | N18: 29492 | O18: 15166 | P18: 14326 | Q18: 28 | R18: 24 | S18: 4 | T18: 2441 | U18: 1345 | V18: 1096 | W18: 27023 | X18: 13797 | Y18: 13226
A19: 113年,2024 | B19: 10800 | C19: 6100 | D19: 4700 | E19: 30 | F19: 25 | G19: 5 | H19: 1070 | I19: 670 | J19: 400 | K19: 9700 | L19: 5405 | M19: 4295 | N19: 28423 | O19: 14633 | P19: 13790 | Q19: 30 | R19: 25 | S19: 5 | T19: 2256 | U19: 1246 | V19: 1010 | W19: 26137 | X19: 13362 | Y19: 12775
A20: 資料來源：直轄市、縣﹝市﹞政府。

Sheet 113
A1: 3.1-02 原住民低收入戶戶數及人數
A2: 113年底, End of 2024
A3: 地區別 | B3: 原住民戶數(戶長性別) | N3: 原住民人數
B4: 總計 | E4: 第1款(省、新北、臺中、臺南)、第0類(臺北)、第1類(高雄) | H4: 第2款(省、新北、臺中、臺南)、第1、2類(臺北)、第2類(高雄) | K4: 第3款(省、新北、臺中、臺南)、第3、4類(臺北、高雄) | N4: 總計 | Q4: 第1款(省、新北、臺中、臺南)、第0類(臺北)、第1類(高雄) | T4: 第2款(省、新北、臺中、臺南)、第1、2類(臺北)、第2類(高雄) | W4: 第3款(省、新北、臺中、臺南)、第3、4類(臺北、高雄)
B5: 計 | C5: 男 | D5: 女 | E5: 計 | F5: 男 | G5: 女 | H5: 計 | I5: 男 | J5: 女 | K5: 計 | L5: 男 | M5: 女 | N5: 計 | O5: 男 | P5: 女 | Q5: 計 | R5: 男 | S5: 女 | T5: 計 | U5: 男 | V5: 女 | W5: 計 | X5: 男 | Y5: 女
A6: 總計 | B6: 10800 | C6: 6100 | D6: 4700 | E6: 30 | F6: 25 | G6: 5 | H6: 1070 | I6: 670 | J6: 400 | K6: 9700 | L6: 5405 | M6: 4295 | N6: 28423 | O6: 14633 | P6: 13790 | Q6: 30 | R6: 25 | S6: 5 | T6: 2256 | U6: 1246 | V6: 1010 | W6: 26137 | X6: 13362 | Y6: 12775
A7: 新北市 | B7: 511 | C7: 235 | D7: 276 | E7: 0 | F7: 0 | G7: 0 | H7: 27 | I7: 10 | J7: 17 | K7: 484 | L7: 225 | M7: 259 | N7: 1485 | O7: 684 | P7: 801 | Q7: 0 | R7: 0 | S7: 0 | T7: 69 | U7: 27 | V7: 42 | W7: 1416 | X7: 657 | Y7: 759
A8: 臺北市 | B8: 491 | C8: 223 | D8: 268 | E8: 6 | F8: 4 | G8: 2 | H8: 63 | I8: 28 | J8: 35 | K8: 422 | L8: 191 | M8: 231 | N8: 1314 | O8: 617 | P8: 697 | Q8: 6 | R8: 4 | S8: 2 | T8: 109 | U8: 51 | V8: 58 | W8: 1199 | X8: 562 | Y8: 637
A9: 桃園市 | B9: 1590 | C9: 927 | D9: 663 | E9: 7 | F9: 7 | G9: 0 | H9: 96 | I9: 60 | J9: 36 | K9: 1487 | L9: 860 | M9: 627 | N9: 5170 | O9: 2607 | P9: 2563 | Q9: 7 | R9: 7 | S9: 0 | T9: 267 | U9: 148 | V9: 119 | W9: 4896 | X9: 2452 | Y9: 2444
A10: 臺中市 | B10: 749 | C10: 329 | D10: 420 | E10: 4 | F10: 4 | G10: 0 | H10: 175 | I10: 97 | J10: 78 | K10: 570 | L10: 228 | M10: 342 | N10: 2379 | O10: 1138 | P10: 1241 | Q10: 4 | R10: 4 | S10: 0 | T10: 479 | U10: 247 | V10: 232 | W10: 1896 | X10: 887 | Y10: 1009
A11: 臺南市 | B11: 73 | C11: 30 | D11: 43 | E11: 0 | F11: 0 | G11: 0 | H11: 9 | I11: 3 | J11: 6 | K11: 64 | L11: 27 | M11: 37 | N11: 219 | O11: 101 | P11: 118 | Q11: 0 | R11: 0 | S11: 0 | T11: 24 | U11: 9 | V11: 15 | W11: 195 | X11: 92 | Y11: 103
A12: 高雄市 | B12: 473 | C12: 245 | D12: 228 | E12: 2 | F12: 1 | G12: 1 | H12: 134 | I12: 77 | J12: 57 | K12: 337 | L12: 167 | M12: 170 | N12: 1533 | O12: 738 | P12: 795 | Q12: 2 | R12: 1 | S12: 1 | T12: 349 | U12: 180 | V12: 169 | W12: 1182 | X12: 557 | Y12: 625
A13: 宜蘭縣 | B13: 476 | C13: 285 | D13: 191 | E13: 0 | F13: 0 | G13: 0 | H13: 21 | I13: 13 | J13: 8 | K13: 455 | L13: 272 | M13: 183 | N13: 1264 | O13: 663 | P13: 601 | Q13: 0 | R13: 0 | S13: 0 | T13: 36 | U13: 22 | V13: 14 | W13: 1228 | X13: 641 | Y13: 587
A14: 新竹縣 | B14: 388 | C14: 240 | D14: 148 | E14: 1 | F14: 1 | G14: 0 | H14: 32 | I14: 20 | J14: 12 | K14: 355 | L14: 219 | M14: 136 | N14: 1243 | O14: 617 | P14: 626 | Q14: 1 | R14: 1 | S14: 0 | T14: 76 | U14: 40 | V14: 36 | W14: 1166 | X14: 576 | Y14: 590
A15: 苗栗縣 | B15: 195 | C15: 119 | D15: 76 | E15: 0 | F15: 0 | G15: 0 | H15: 67 | I15: 43 | J15: 24 | K15: 128 | L15: 76 | M15: 52 | N15: 566 | O15: 263 | P15: 303 | Q15: 0 | R15: 0 | S15: 0 | T15: 158 | U15: 85 | V15: 73 | W15: 408 | X15: 178 | Y15: 230
A16: 彰化縣 | B16: 72 | C16: 30 | D16: 42 | E16: 0 | F16: 0 | G16: 0 | H16: 0 | I16: 0 | J16: 0 | K16: 72 | L16: 30 | M16: 42 | N16: 204 | O16: 94 | P16: 110 | Q16: 0 | R16: 0 | S16: 0 | T16: 0 | U16: 0 | V16: 0 | W16: 204 | X16: 94 | Y16: 110
A17: 南投縣 | B17: 297 | C17: 181 | D17: 116 | E17: 0 | F17: 0 | G17: 0 | H17: 5 | I17: 1 | J17: 4 | K17: 292 | L17: 180 | M17: 112 | N17: 882 | O17: 444 | P17: 438 | Q17: 0 | R17: 0 | S17: 0 | T17: 13 | U17: 5 | V17: 8 | W17: 869 | X17: 439 | Y17: 430
... A28: 連江縣 | B28: 7 | C28: 4 | D28: 3 | E28: 0 | F28: 0 | G28: 0 | H28: 0 | I28: 0 | J28: 0 | K28: 7 | L28: 4 | M28: 3 | N28: 19 | O28: 5 | P28: 14 | Q28: 0 | R28: 0 | S28: 0 | T28: 0 | U28: 0 | V28: 0 | W28: 19 | X28: 5 | Y28: 14
A29: 資料來源：直轄市、縣﹝市﹞政府。
A30: 總計 | B30: =B6-SUM(B7:B12)-#REF! -> #REF! | C30: =C6-SUM(C7:C12)-#REF! -> #REF! | D30: =D6-SUM(D7:D12)-#REF! -> #REF! | E30: =E6-SUM(E7:E12)-#REF! -> #REF! | F30: =F6-SUM(F7:F12)-#REF! -> #REF! | G30: =G6-SUM(G7:G12)-#REF! -> #REF! | H30: =H6-SUM(H7:H12)-#REF! -> #REF! | I30: =I6-SUM(I7:I12)-#REF! -> #REF! | ... Y30: =Y6-SUM(Y7:Y12)-#REF! -> #REF!
A31: 台灣省 | B31: =B12-SUM(B13:B26) -> -6426 | C31: =C12-SUM(C13:C26) -> -3858 | D31: =D12-SUM(D13:D26) -> -2568 | E31: =E12-SUM(E13:E26) -> -9 | F31: =F12-SUM(F13:F26) -> -8 | G31: =G12-SUM(G13:G26) -> -1 | H31: =H12-SUM(H13:H26) -> -430 | I31: =I12-SUM(I13:I26) -> -317 | ... Y31: =Y12-SUM(Y13:Y26) -> -6553
A32: 福建省 | B32: =#REF!-B27-B28 -> #REF! | C32: =#REF!-C27-C28 -> #REF! | D32: =#REF!-D27-D28 -> #REF! | E32: =#REF!-E27-E28 -> #REF! | F32: =#REF!-F27-F28 -> #REF! | G32: =#REF!-G27-G28 -> #REF! | H32: =#REF!-H27-H28 -> #REF! | I32: =#REF!-I27-I28 -> #REF! | ... Y32: =#REF!-Y27-Y28 -> #REF!
A33: 核年季 | B33: =B6-#REF! -> #REF! | C33: =C6-#REF! -> #REF! | D33: =D6-#REF! -> #REF! | E33: =E6-#REF! -> #REF! | H33: =H6-#REF! -> #REF! | K33: =K6-#REF! -> #REF! | N33: =N6-#REF! -> #REF! | O33: =O6-#REF! -> #REF! | P33: =P6-#REF! -> #REF! | Q33: =Q6-#REF! -> #REF! | T33: =T6-#REF! -> #REF! | W33: =W6-#REF! -> #REF!

Sheet 112
A1: 3.1-02 原住民低收入戶戶數及人數
A2: 112年底, End of 2023
A3: 地區別 | B3: 原住民戶數(戶長性別) | N3: 原住民人數
B4: 總計 | E4: 第1款(省、新北、臺中、臺南)、第0類(臺北)、第1類(高雄) | H4: 第2款(省、新北、臺中、臺南)、第1、2類(臺北)、第2類(高雄) | K4: 第3款(省、新北、臺中、臺南)、第3、4類(臺北、高雄) | N4: 總計 | Q4: 第1款(省、新北、臺中、臺南)、第0類(臺北)、第1類(高雄) | T4: 第2款(省、新北、臺中、臺南)、第1、2類(臺北)、第2類(高雄) | W4: 第3款(省、新北、臺中、臺南)、第3、4類(臺北、高雄)
B5: 計 | C5: 男 | D5: 女 | E5: 計 | F5: 男 | G5: 女 | H5: 計 | I5: 男 | J5: 女 | K5: 計 | L5: 男 | M5: 女 | N5: 計 | O5: 男 | P5: 女 | Q5: 計 | R5: 男 | S5: 女 | T5: 計 | U5: 男 | V5: 女 | W5: 計 | X5: 男 | Y5: 女
A6: 總計 | B6: 10935 | C6: 6218 | D6: 4717 | E6: 28 | F6: 24 | G6: 4 | H6: 1130 | I6: 711 | J6: 419 | K6: 9777 | L6: 5483 | M6: 4294 | N6: 29492 | O6: 15166 | P6: 14326 | Q6: 28 | R6: 24 | S6: 4 | T6: 2441 | U6: 1345 | V6: 1096 | W6: 27023 | X6: 13797 | Y6: 13226
A7: 新北市 | B7: 518 | C7: 244 | D7: 274 | E7: 0 | F7: 0 | G7: 0 | H7: 25 | I7: 10 | J7: 15 | K7: 493 | L7: 234 | M7: 259 | N7: 1562 | O7: 735 | P7: 827 | Q7: 0 | R7: 0 | S7: 0 | T7: 66 | U7: 26 | V7: 40 | W7: 1496 | X7: 709 | Y7: 787
A8: 臺北市 | B8: 494 | C8: 212 | D8: 282 | E8: 7 | F8: 5 | G8: 2 | H8: 62 | I8: 26 | J8: 36 | K8: 425 | L8: 181 | M8: 244 | N8: 1329 | O8: 610 | P8: 719 | Q8: 7 | R8: 5 | S8: 2 | T8: 114 | U8: 50 | V8: 64 | W8: 1208 | X8: 555 | Y8: 653
A9: 桃園市 | B9: 1613 | C9: 937 | D9: 676 | E9: 6 | F9: 6 | G9: 0 | H9: 108 | I9: 65 | J9: 43 | K9: 1499 | L9: 866 | M9: 633 | N9: 5397 | O9: 2727 | P9: 2670 | Q9: 6 | R9: 6 | S9: 0 | T9: 323 | U9: 175 | V9: 148 | W9: 5068 | X9: 2546 | Y9: 2522
A10: 臺中市 | B10: 777 | C10: 343 | D10: 434 | E10: 3 | F10: 3 | G10: 0 | H10: 162 | I10: 84 | J10: 78 | K10: 612 | L10: 256 | M10: 356 | N10: 2536 | O10: 1220 | P10: 1316 | Q10: 3 | R10: 3 | S10: 0 | T10: 463 | U10: 240 | V10: 223 | W10: 2070 | X10: 977 | Y10: 1093
A11: 臺南市 | B11: 61 | C11: 28 | D11: 33 | E11: 0 | F11: 0 | G11: 0 | H11: 9 | I11: 4 | J11: 5 | K11: 52 | L11: 24 | M11: 28 | N11: 174 | O11: 77 | P11: 97 | Q11: 0 | R11: 0 | S11: 0 | T11: 22 | U11: 9 | V11: 13 | W11: 152 | X11: 68 | Y11: 84
A12: 高雄市 | B12: 485 | C12: 251 | D12: 234 | E12: 2 | F12: 1 | G12: 1 | H12: 140 | I12: 81 | J12: 59 | K12: 343 | L12: 169 | M12: 174 | N12: 1580 | O12: 763 | P12: 817 | Q12: 2 | R12: 1 | S12: 1 | T12: 378 | U12: 197 | V12: 181 | W12: 1200 | X12: 565 | Y12: 635
A13: 宜蘭縣 | B13: 412 | C13: 249 | D13: 163 | E13: 0 | F13: 0 | G13: 0 | H13: 20 | I13: 16 | J13: 4 | K13: 392 | L13: 233 | M13: 159 | N13: 1105 | O13: 583 | P13: 522 | Q13: 0 | R13: 0 | S13: 0 | T13: 27 | U13: 19 | V13: 8 | W13: 1078 | X13: 564 | Y13: 514
A14: 新竹縣 | B14: 366 | C14: 221 | D14: 145 | E14: 1 | F14: 1 | G14: 0 | H14: 35 | I14: 21 | J14: 14 | K14: 330 | L14: 199 | M14: 131 | N14: 1212 | O14: 601 | P14: 611 | Q14: 1 | R14: 1 | S14: 0 | T14: 82 | U14: 40 | V14: 42 | W14: 1129 | X14: 560 | Y14: 569
A15: 苗栗縣 | B15: 207 | C15: 126 | D15: 81 | E15: 0 | F15: 0 | G15: 0 | H15: 71 | I15: 46 | J15: 25 | K15: 136 | L15: 80 | M15: 56 | N15: 633 | O15: 300 | P15: 333 | Q15: 0 | R15: 0 | S15: 0 | T15: 197 | U15: 106 | V15: 91 | W15: 436 | X15: 194 | Y15: 242
A16: 彰化縣 | B16: 68 | C16: 29 | D16: 39 | E16: 0 | F16: 0 | G16: 0 | H16: 0 | I16: 0 | J16: 0 | K16: 68 | L16: 29 | M16: 39 | N16: 184 | O16: 82 | P16: 102 | Q16: 0 | R16: 0 | S16: 0 | T16: 0 | U16: 0 | V16: 0 | W16: 184 | X16: 82 | Y16: 102
A17: 南投縣 | B17: 308 | C17: 187 | D17: 121 | E17: 0 | F17: 0 | G17: 0 | H17: 4 | I17: 1 | J17: 3 | K17: 304 | L17: 186 | M17: 118 | N17: 908 | O17: 449 | P17: 459 | Q17: 0 | R17: 0 | S17: 0 | T17: 15 | U17: 5 | V17: 10 | W17: 893 | X17: 444 | Y17: 449
... A28: 連江縣 | B28: 6 | C28: 5 | D28: 1 | E28: 0 | F28: 0 | G28: 0 | H28: 0 | I28: 0 | J28: 0 | K28: 6 | L28: 5 | M28: 1 | N28: 10 | O28: 5 | P28: 5 | Q28: 0 | R28: 0 | S28: 0 | T28: 0 | U28: 0 | V28: 0 | W28: 10 | X28: 5 | Y28: 5
A29: 資料來源：直轄市、縣﹝市﹞政府。
A30: 總計 | B30: =B6-SUM(B7:B12)-#REF! -> #REF! | C30: =C6-SUM(C7:C12)-#REF! -> #REF! | D30: =D6-SUM(D7:D12)-#REF! -> #REF! | E30: =E6-SUM(E7:E12)-#REF! -> #REF! | F30: =F6-SUM(F7:F12)-#REF! -> #REF! | G30: =G6-SUM(G7:G12)-#REF! -> #REF! | H30: =H6-SUM(H7:H12)-#REF! -> #REF! | I30: =I6-SUM(I7:I12)-#REF! -> #REF! | ... Y30: =Y6-SUM(Y7:Y12)-#REF! -> #REF!
A31: 台灣省 | B31: =B12-SUM(B13:B26) -> -6489 | C31: =C12-SUM(C13:C26) -> -3944 | D31: =D12-SUM(D13:D26) -> -2545 | E31: =E12-SUM(E13:E26) -> -8 | F31: =F12-SUM(F13:F26) -> -8 | G31: =G12-SUM(G13:G26) -> 0 | H31: =H12-SUM(H13:H26) -> -482 | I31: =I12-SUM(I13:I26) -> -359 | ... Y31: =Y12-SUM(Y13:Y26) -> -6809
A32: 福建省 | B32: =#REF!-B27-B28 -> #REF! | C32: =#REF!-C27-C28 -> #REF! | D32: =#REF!-D27-D28 -> #REF! | E32: =#REF!-E27-E28 -> #REF! | F32: =#REF!-F27-F28 -> #REF! | G32: =#REF!-G27-G28 -> #REF! | H32: =#REF!-H27-H28 -> #REF! | I32: =#REF!-I27-I28 -> #REF! | ... Y32: =#REF!-Y27-Y28 -> #REF!
A33: 核年季 | B33: =B6-#REF! -> #REF! | C33: =C6-#REF! -> #REF! | D33: =D6-#REF! -> #REF! | E33: =E6-#REF! -> #REF! | H33: =H6-#REF! -> #REF! | K33: =K6-#REF! -> #REF! | N33: =N6-#REF! -> #REF! | O33: =O6-#REF! -> #REF! | P33: =P6-#REF! -> #REF! | Q33: =Q6-#REF! -> #REF! | T33: =T6-#REF! -> #REF! | W33: =W6-#REF! -> #REF!

Sheet 111
A1: 3.1-02 原住民低收入戶戶數及人數
A2: 111年底, End of 2022
A3: 地區別 | B3: 原住民戶數(戶長性別) | N3: 原住民人數
B4: 總計 | E4: 第1款(省、新北、臺中、臺南)、第0類(臺北)、第1類(高雄) | H4: 第2款(省、新北、臺中、臺南)、第1、2類(臺北)、第2類(高雄) | K4: 第3款(省、新北、臺中、臺南)、第3、4類(臺北、高雄) | N4: 總計 | Q4: 第1款(省、新北、臺中、臺南)、第0類(臺北)、第1類(高雄) | T4: 第2款(省、新北、臺中、臺南)、第1、2類(臺北)、第2類(高雄) | W4: 第3款(省、新北、臺中、臺南)、第3、4類(臺北、高雄)
B5: 計 | C5: 男 | D5: 女 | E5: 計 | F5: 男 | G5: 女 | H5: 計 | I5: 男 | J5: 女 | K5: 計 | L5: 男 | M5: 女 | N5: 計 | O5: 男 | P5: 女 | Q5: 計 | R5: 男 | S5: 女 | T5: 計 | U5: 男 | V5: 女 | W5: 計 | X5: 男 | Y5: 女
A6: 總計 | B6: 11160 | C6: 6320 | D6: 4840 | E6: 30 | F6: 23 | G6: 7 | H6: 1157 | I6: 745 | J6: 412 | K6: 9973 | L6: 5552 | M6: 4421 | N6: 30799 | O6: 15760 | P6: 15039 | Q6: 31 | R6: 23 | S6: 8 | T6: 2588 | U6: 1444 | V6: 1144 | W6: 28180 | X6: 14293 | Y6: 13887
A7: 新北市 | B7: 500 | C7: 230 | D7: 270 | E7: 0 | F7: 0 | G7: 0 | H7: 26 | I7: 12 | J7: 14 | K7: 474 | L7: 218 | M7: 256 | N7: 1525 | O7: 722 | P7: 803 | Q7: 0 | R7: 0 | S7: 0 | T7: 61 | U7: 26 | V7: 35 | W7: 1464 | X7: 696 | Y7: 768
A8: 臺北市 | B8: 505 | C8: 207 | D8: 298 | E8: 7 | F8: 5 | G8: 2 | H8: 62 | I8: 19 | J8: 43 | K8: 436 | L8: 183 | M8: 253 | N8: 1403 | O8: 631 | P8: 772 | Q8: 7 | R8: 5 | S8: 2 | T8: 130 | U8: 54 | V8: 76 | W8: 1266 | X8: 572 | Y8: 694
A9: 桃園市 | B9: 1556 | C9: 892 | D9: 664 | E9: 7 | F9: 5 | G9: 2 | H9: 121 | I9: 76 | J9: 45 | K9: 1428 | L9: 811 | M9: 617 | N9: 5304 | O9: 2664 | P9: 2640 | Q9: 7 | R9: 5 | S9: 2 | T9: 388 | U9: 205 | V9: 183 | W9: 4909 | X9: 2454 | Y9: 2455
A10: 臺中市 | B10: 805 | C10: 358 | D10: 447 | E10: 3 | F10: 3 | G10: 0 | H10: 158 | I10: 82 | J10: 76 | K10: 644 | L10: 273 | M10: 371 | N10: 2675 | O10: 1273 | P10: 1402 | Q10: 3 | R10: 3 | S10: 0 | T10: 490 | U10: 260 | V10: 230 | W10: 2182 | X10: 1010 | Y10: 1172
A11: 臺南市 | B11: 70 | C11: 34 | D11: 36 | E11: 0 | F11: 0 | G11: 0 | H11: 12 | I11: 4 | J11: 8 | K11: 58 | L11: 30 | M11: 28 | N11: 226 | O11: 99 | P11: 127 | Q11: 0 | R11: 0 | S11: 0 | T11: 27 | U11: 10 | V11: 17 | W11: 199 | X11: 89 | Y11: 110
A12: 高雄市 | B12: 471 | C12: 253 | D12: 218 | E12: 3 | F12: 1 | G12: 2 | H12: 148 | I12: 92 | J12: 56 | K12: 320 | L12: 160 | M12: 160 | N12: 1544 | O12: 748 | P12: 796 | Q12: 4 | R12: 1 | S12: 3 | T12: 388 | U12: 206 | V12: 182 | W12: 1152 | X12: 541 | Y12: 611
A13: 宜蘭縣 | B13: 449 | C13: 273 | D13: 176 | E13: 0 | F13: 0 | G13: 0 | H13: 21 | I13: 16 | J13: 5 | K13: 428 | L13: 257 | M13: 171 | N13: 1270 | O13: 661 | P13: 609 | Q13: 0 | R13: 0 | S13: 0 | T13: 33 | U13: 25 | V13: 8 | W13: 1237 | X13: 636 | Y13: 601
A14: 新竹縣 | B14: 406 | C14: 250 | D14: 156 | E14: 1 | F14: 1 | G14: 0 | H14: 30 | I14: 19 | J14: 11 | K14: 375 | L14: 230 | M14: 145 | N14: 1411 | O14: 692 | P14: 719 | Q14: 1 | R14: 1 | S14: 0 | T14: 62 | U14: 28 | V14: 34 | W14: 1348 | X14: 663 | Y14: 685
A15: 苗栗縣 | B15: 216 | C15: 133 | D15: 83 | E15: 0 | F15: 0 | G15: 0 | H15: 73 | I15: 52 | J15: 21 | K15: 143 | L15: 81 | M15: 62 | N15: 656 | O15: 317 | P15: 339 | Q15: 0 | R15: 0 | S15: 0 | T15: 197 | U15: 112 | V15: 85 | W15: 459 | X15: 205 | Y15: 254
A16: 彰化縣 | B16: 70 | C16: 32 | D16: 38 | E16: 0 | F16: 0 | G16: 0 | H16: 0 | I16: 0 | J16: 0 | K16: 70 | L16: 32 | M16: 38 | N16: 195 | O16: 90 | P16: 105 | Q16: 0 | R16: 0 | S16: 0 | T16: 0 | U16: 0 | V16: 0 | W16: 195 | X16: 90 | Y16: 105
A17: 南投縣 | B17: 335 | C17: 202 | D17: 133 | E17: 0 | F17: 0 | G17: 0 | H17: 6 | I17: 2 | J17: 4 | K17: 329 | L17: 200 | M17: 129 | N17: 978 | O17: 481 | P17: 497 | Q17: 0 | R17: 0 | S17: 0 | T17: 20 | U17: 10 | V17: 10 | W17: 958 | X17: 471 | Y17: 487
... A28: 連江縣 | B28: 5 | C28: 4 | D28: 1 | E28: 0 | F28: 0 | G28: 0 | H28: 0 | I28: 0 | J28: 0 | K28: 5 | L28: 4 | M28: 1 | N28: 10 | O28: 5 | P28: 5 | Q28: 0 | R28: 0 | S28: 0 | T28: 0 | U28: 0 | V28: 0 | W28: 10 | X28: 5 | Y28: 5
A29: 資料來源：直轄市、縣﹝市﹞政府。
A30: 總計 | B30: =B6-SUM(B7:B12)-#REF! -> #REF! | C30: =C6-SUM(C7:C12)-#REF! -> #REF! | D30: =D6-SUM(D7:D12)-#REF! -> #REF! | E30: =E6-SUM(E7:E12)-#REF! -> #REF! | F30: =F6-SUM(F7:F12)-#REF! -> #REF! | G30: =G6-SUM(G7:G12)-#REF! -> #REF! | H30: =H6-SUM(H7:H12)-#REF! -> #REF! | I30: =I6-SUM(I7:I12)-#REF! -> #REF! | ... Y30: =Y6-SUM(Y7:Y12)-#REF! -> #REF!
A31: 台灣省 | B31: =B12-SUM(B13:B26) -> -6770 | C31: =C12-SUM(C13:C26) -> -4086 | D31: =D12-SUM(D13:D26) -> -2684 | E31: =E12-SUM(E13:E26) -> -7 | F31: =F12-SUM(F13:F26) -> -8 | G31: =G12-SUM(G13:G26) -> 1 | H31: =H12-SUM(H13:H26) -> -481 | I31: =I12-SUM(I13:I26) -> -368 | ... Y31: =Y12-SUM(Y13:Y26) -> -7453
A32: 福建省 | B32: =#REF!-B27-B28 -> #REF! | C32: =#REF!-C27-C28 -> #REF! | D32: =#REF!-D27-D28 -> #REF! | E32: =#REF!-E27-E28 -> #REF! | F32: =#REF!-F27-F28 -> #REF! | G32: =#REF!-G27-G28 -> #REF! | H32: =#REF!-H27-H28 -> #REF! | I32: =#REF!-I27-I28 -> #REF! | ... Y32: =#REF!-Y27-Y28 -> #REF!
A33: 核年季 | B33: =B6-#REF! -> #REF! | C33: =C6-#REF! -> #REF! | D33: =D6-#REF! -> #REF! | E33: =E6-#REF! -> #REF! | H33: =H6-#REF! -> #REF! | K33: =K6-#REF! -> #REF! | N33: =N6-#REF! -> #REF! | O33: =O6-#REF! -> #REF! | P33: =P6-#REF! -> #REF! | Q33: =Q6-#REF! -> #REF! | T33: =T6-#REF! -> #REF! | W33: =W6-#REF! -> #REF!

Sheet 110
A1: 3.1-02 原住民低收入戶戶數及人數
A2: 110年底, End of 2021
A3: 地區別 | B3: 原住民戶數(戶長性別) | N3: 原住民人數
B4: 總計 | E4: 第1款(省、新北、臺中、臺南)、第0類(臺北)、第1類(高雄) | H4: 第2款(省、新北、臺中、臺南)、第1、2類(臺北)、第2類(高雄) | K4: 第3款(省、新北、臺中、臺南)、第3、4類(臺北、高雄) | N4: 總計 | Q4: 第1款(省、新北、臺中、臺南)、第0類(臺北)、第1類(高雄) | T4: 第2款(省、新北、臺中、臺南)、第1、2類(臺北)、第2類(高雄) | W4: 第3款(省、新北、臺中、臺南)、第3、4類(臺北、高雄)
B5: 計 | C5: 男 | D5: 女 | E5: 計 | F5: 男 | G5: 女 | H5: 計 | I5: 男 | J5: 女 | K5: 計 | L5: 男 | M5: 女 | N5: 計 | O5: 男 | P5: 女 | Q5: 計 | R5: 男 | S5: 女 | T5: 計 | U5: 男 | V5: 女 | W5: 計 | X5: 男 | Y5: 女
A6: 總計 | B6: 10949 | C6: 6276 | D6: 4673 | E6: 26 | F6: 22 | G6: 4 | H6: 1214 | I6: 796 | J6: 418 | K6: 9709 | L6: 5458 | M6: 4251 | N6: 30415 | O6: 15610 | P6: 14805 | Q6: 26 | R6: 22 | S6: 4 | T6: 2684 | U6: 1468 | V6: 1216 | W6: 27705 | X6: 14120 | Y6: 13585
A7: 新北市 | B7: 619 | C7: 302 | D7: 317 | E7: 0 | F7: 0 | G7: 0 | H7: 27 | I7: 15 | J7: 12 | K7: 592 | L7: 287 | M7: 305 | N7: 1677 | O7: 812 | P7: 865 | Q7: 0 | R7: 0 | S7: 0 | T7: 53 | U7: 28 | V7: 25 | W7: 1624 | X7: 784 | Y7: 840
A8: 臺北市 | B8: 493 | C8: 203 | D8: 290 | E8: 4 | F8: 3 | G8: 1 | H8: 62 | I8: 21 | J8: 41 | K8: 427 | L8: 179 | M8: 248 | N8: 1390 | O8: 620 | P8: 770 | Q8: 4 | R8: 3 | S8: 1 | T8: 137 | U8: 53 | V8: 84 | W8: 1249 | X8: 564 | Y8: 685
A9: 桃園市 | B9: 1515 | C9: 883 | D9: 632 | E9: 4 | F9: 4 | G9: 0 | H9: 108 | I9: 70 | J9: 38 | K9: 1403 | L9: 809 | M9: 594 | N9: 5257 | O9: 2617 | P9: 2640 | Q9: 4 | R9: 4 | S9: 0 | T9: 355 | U9: 183 | V9: 172 | W9: 4898 | X9: 2430 | Y9: 2468
A10: 臺中市 | B10: 780 | C10: 358 | D10: 422 | E10: 3 | F10: 3 | G10: 0 | H10: 153 | I10: 80 | J10: 73 | K10: 624 | L10: 275 | M10: 349 | N10: 2575 | O10: 1228 | P10: 1347 | Q10: 3 | R10: 3 | S10: 0 | T10: 490 | U10: 240 | V10: 250 | W10: 2082 | X10: 985 | Y10: 1097
A11: 臺南市 | B11: 85 | C11: 38 | D11: 47 | E11: 0 | F11: 0 | G11: 0 | H11: 9 | I11: 3 | J11: 6 | K11: 76 | L11: 35 | M11: 41 | N11: 274 | O11: 107 | P11: 167 | Q11: 0 | R11: 0 | S11: 0 | T11: 21 | U11: 7 | V11: 14 | W11: 253 | X11: 100 | Y11: 153
A12: 高雄市 | B12: 425 | C12: 234 | D12: 191 | E12: 1 | F12: 1 | G12: 0 | H12: 142 | I12: 85 | J12: 57 | K12: 282 | L12: 148 | M12: 134 | N12: 1466 | O12: 736 | P12: 730 | Q12: 1 | R12: 1 | S12: 0 | T12: 366 | U12: 182 | V12: 184 | W12: 1099 | X12: 553 | Y12: 546
A13: 宜蘭縣 | B13: 382 | C13: 236 | D13: 146 | E13: 0 | F13: 0 | G13: 0 | H13: 23 | I13: 18 | J13: 5 | K13: 359 | L13: 218 | M13: 141 | N13: 1093 | O13: 563 | P13: 530 | Q13: 0 | R13: 0 | S13: 0 | T13: 47 | U13: 29 | V13: 18 | W13: 1046 | X13: 534 | Y13: 512
A14: 新竹縣 | B14: 390 | C14: 249 | D14: 141 | E14: 1 | F14: 1 | G14: 0 | H14: 34 | I14: 24 | J14: 10 | K14: 355 | L14: 224 | M14: 131 | N14: 1369 | O14: 688 | P14: 681 | Q14: 1 | R14: 1 | S14: 0 | T14: 59 | U14: 31 | V14: 28 | W14: 1309 | X14: 656 | Y14: 653
A15: 苗栗縣 | B15: 210 | C15: 123 | D15: 87 | E15: 0 | F15: 0 | G15: 0 | H15: 81 | I15: 53 | J15: 28 | K15: 129 | L15: 70 | M15: 59 | N15: 627 | O15: 307 | P15: 320 | Q15: 0 | R15: 0 | S15: 0 | T15: 211 | U15: 113 | V15: 98 | W15: 416 | X15: 194 | Y15: 222
A16: 彰化縣 | B16: 69 | C16: 33 | D16: 36 | E16: 0 | F16: 0 | G16: 0 | H16: 0 | I16: 0 | J16: 0 | K16: 69 | L16: 33 | M16: 36 | N16: 175 | O16: 81 | P16: 94 | Q16: 0 | R16: 0 | S16: 0 | T16: 0 | U16: 0 | V16: 0 | W16: 175 | X16: 81 | Y16: 94
A17: 南投縣 | B17: 360 | C17: 231 | D17: 129 | E17: 0 | F17: 0 | G17: 0 | H17: 10 | I17: 4 | J17: 6 | K17: 350 | L17: 227 | M17: 123 | N17: 1062 | O17: 535 | P17: 527 | Q17: 0 | R17: 0 | S17: 0 | T17: 38 | U17: 18 | V17: 20 | W17: 1024 | X17: 517 | Y17: 507
... A28: 連江縣 | B28: 4 | C28: 3 | D28: 1 | E28: 0 | F28: 0 | G28: 0 | H28: 0 | I28: 0 | J28: 0 | K28: 4 | L28: 3 | M28: 1 | N28: 9 | O28: 4 | P28: 5 | Q28: 0 | R28: 0 | S28: 0 | T28: 0 | U28: 0 | V28: 0 | W28: 9 | X28: 4 | Y28: 5
A29: 資料來源：直轄市、縣﹝市﹞政府。
A30: 總計 | B30: =B6-SUM(B7:B12)-#REF! -> #REF! | C30: =C6-SUM(C7:C12)-#REF! -> #REF! | D30: =D6-SUM(D7:D12)-#REF! -> #REF! | E30: =E6-SUM(E7:E12)-#REF! -> #REF! | F30: =F6-SUM(F7:F12)-#REF! -> #REF! | G30: =G6-SUM(G7:G12)-#REF! -> #REF! | H30: =H6-SUM(H7:H12)-#REF! -> #REF! | I30: =I6-SUM(I7:I12)-#REF! -> #REF! | ... Y30: =Y6-SUM(Y7:Y12)-#REF! -> #REF!
A31: 台灣省 | B31: =B12-SUM(B13:B26) -> -6595 | C31: =C12-SUM(C13:C26) -> -4018 | D31: =D12-SUM(D13:D26) -> -2577 | E31: =E12-SUM(E13:E26) -> -13 | F31: =F12-SUM(F13:F26) -> -10 | G31: =G12-SUM(G13:G26) -> -3 | H31: =H12-SUM(H13:H26) -> -569 | I31: =I12-SUM(I13:I26) -> -436 | ... Y31: =Y12-SUM(Y13:Y26) -> -7236
A32: 福建省 | B32: =#REF!-B27-B28 -> #REF! | C32: =#REF!-C27-C28 -> #REF! | D32: =#REF!-D27-D28 -> #REF! | E32: =#REF!-E27-E28 -> #REF! | F32: =#REF!-F27-F28 -> #REF! | G32: =#REF!-G27-G28 -> #REF! | H32: =#REF!-H27-H28 -> #REF! | I32: =#REF!-I27-I28 -> #REF! | ... Y32: =#REF!-Y27-Y28 -> #REF!
A33: 核年季 | B33: =B6-#REF! -> #REF! | C33: =C6-#REF! -> #REF! | D33: =D6-#REF! -> #REF! | E33: =E6-#REF! -> #REF! | H33: =H6-#REF! -> #REF! | K33: =K6-#REF! -> #REF! | N33: =N6-#REF! -> #REF! | O33: =O6-#REF! -> #REF! | P33: =P6-#REF! -> #REF! | Q33: =Q6-#REF! -> #REF! | T33: =T6-#REF! -> #REF! | W33: =W6-#REF! -> #REF!

Sheet 109
A1: 3.1-02 原住民低收入戶戶數及人數
A2: 109年底, End of 2020
A3: 地區別 | B3: 原住民戶數(戶長性別) | N3: 原住民人數
B4: 總計 | E4: 第1款(省、新北、臺中、臺南)、第0類(臺北)、第1類(高雄) | H4: 第2款(省、新北、臺中、臺南)、第1、2類(臺北)、第2類(高雄) | K4: 第3款(省、新北、臺中、臺南)、第3、4類(臺北、高雄) | N4: 總計 | Q4: 第1款(省、新北、臺中、臺南)、第0類(臺北)、第1類(高雄) | T4: 第2款(省、新北、臺中、臺南)、第1、2類(臺北)、第2類(高雄) | W4: 第3款(省、新北、臺中、臺南)、第3、4類(臺北、高雄)
B5: 計 | C5: 男 | D5: 女 | E5: 計 | F5: 男 | G5: 女 | H5: 計 | I5: 男 | J5: 女 | K5: 計 | L5: 男 | M5: 女 | N5: 計 | O5: 男 | P5: 女 | Q5: 計 | R5: 男 | S5: 女 | T5: 計 | U5: 男 | V5: 女 | W5: 計 | X5: 男 | Y5: 女
A6: 總計 | B6: 10693 | C6: 6139 | D6: 4554 | E6: 32 | F6: 28 | G6: 4 | H6: 1216 | I6: 782 | J6: 434 | K6: 9445 | L6: 5329 | M6: 4116 | N6: 30277 | O6: 15557 | P6: 14720 | Q6: 33 | R6: 29 | S6: 4 | T6: 2758 | U6: 1497 | V6: 1261 | W6: 27486 | X6: 14031 | Y6: 13455
A7: 新北市 | B7: 658 | C7: 314 | D7: 344 | E7: 0 | F7: 0 | G7: 0 | H7: 30 | I7: 17 | J7: 13 | K7: 628 | L7: 297 | M7: 331 | N7: 1847 | O7: 871 | P7: 976 | Q7: 0 | R7: 0 | S7: 0 | T7: 53 | U7: 27 | V7: 26 | W7: 1794 | X7: 844 | Y7: 950
A8: 臺北市 | B8: 404 | C8: 153 | D8: 251 | E8: 4 | F8: 3 | G8: 1 | H8: 55 | I8: 21 | J8: 34 | K8: 345 | L8: 129 | M8: 216 | N8: 1323 | O8: 582 | P8: 741 | Q8: 4 | R8: 3 | S8: 1 | T8: 151 | U8: 61 | V8: 90 | W8: 1168 | X8: 518 | Y8: 650
A9: 桃園市 | B9: 1439 | C9: 816 | D9: 623 | E9: 4 | F9: 4 | G9: 0 | H9: 107 | I9: 64 | J9: 43 | K9: 1328 | L9: 748 | M9: 580 | N9: 5076 | O9: 2535 | P9: 2541 | Q9: 4 | R9: 4 | S9: 0 | T9: 351 | U9: 178 | V9: 173 | W9: 4721 | X9: 2353 | Y9: 2368
A10: 臺中市 | B10: 801 | C10: 379 | D10: 422 | E10: 4 | F10: 4 | G10: 0 | H10: 155 | I10: 75 | J10: 80 | K10: 642 | L10: 300 | M10: 342 | N10: 2713 | O10: 1298 | P10: 1415 | Q10: 4 | R10: 4 | S10: 0 | T10: 508 | U10: 241 | V10: 267 | W10: 2201 | X10: 1053 | Y10: 1148
A11: 臺南市 | B11: 81 | C11: 36 | D11: 45 | E11: 0 | F11: 0 | G11: 0 | H11: 8 | I11: 5 | J11: 3 | K11: 73 | L11: 31 | M11: 42 | N11: 259 | O11: 100 | P11: 159 | Q11: 0 | R11: 0 | S11: 0 | T11: 18 | U11: 9 | V11: 9 | W11: 241 | X11: 91 | Y11: 150
A12: 高雄市 | B12: 450 | C12: 236 | D12: 214 | E12: 2 | F12: 2 | G12: 0 | H12: 134 | I12: 78 | J12: 56 | K12: 314 | L12: 156 | M12: 158 | N12: 1684 | O12: 818 | P12: 866 | Q12: 2 | R12: 2 | S12: 0 | T12: 369 | U12: 195 | V12: 174 | W12: 1313 | X12: 621 | Y12: 692
A13: 宜蘭縣 | B13: 341 | C13: 230 | D13: 111 | E13: 0 | F13: 0 | G13: 0 | H13: 22 | I13: 16 | J13: 6 | K13: 319 | L13: 214 | M13: 105 | N13: 970 | O13: 511 | P13: 459 | Q13: 0 | R13: 0 | S13: 0 | T13: 50 | U13: 30 | V13: 20 | W13: 920 | X13: 481 | Y13: 439
A14: 新竹縣 | B14: 403 | C14: 251 | D14: 152 | E14: 1 | F14: 1 | G14: 0 | H14: 38 | I14: 29 | J14: 9 | K14: 364 | L14: 221 | M14: 143 | N14: 1377 | O14: 691 | P14: 686 | Q14: 1 | R14: 1 | S14: 0 | T14: 70 | U14: 38 | V14: 32 | W14: 1306 | X14: 652 | Y14: 654
A15: 苗栗縣 | B15: 200 | C15: 127 | D15: 73 | E15: 0 | F15: 0 | G15: 0 | H15: 79 | I15: 55 | J15: 24 | K15: 121 | L15: 72 | M15: 49 | N15: 635 | O15: 318 | P15: 317 | Q15: 0 | R15: 0 | S15: 0 | T15: 211 | U15: 116 | V15: 95 | W15: 424 | X15: 202 | Y15: 222
A16: 彰化縣 | B16: 71 | C16: 32 | D16: 39 | E16: 0 | F16: 0 | G16: 0 | H16: 0 | I16: 0 | J16: 0 | K16: 71 | L16: 32 | M16: 39 | N16: 178 | O16: 88 | P16: 90 | Q16: 0 | R16: 0 | S16: 0 | T16: 0 | U16: 0 | V16: 0 | W16: 178 | X16: 88 | Y16: 90
A17: 南投縣 | B17: 391 | C17: 247 | D17: 144 | E17: 1 | F17: 1 | G17: 0 | H17: 12 | I17: 5 | J17: 7 | K17: 378 | L17: 241 | M17: 137 | N17: 1149 | O17: 585 | P17: 564 | Q17: 2 | R17: 2 | S17: 0 | T17: 43 | U17: 19 | V17: 24 | W17: 1104 | X17: 564 | Y17: 540
... A28: 連江縣 | B28: 4 | C28: 3 | D28: 1 | E28: 0 | F28: 0 | G28: 0 | H28: 0 | I28: 0 | J28: 0 | K28: 4 | L28: 3 | M28: 1 | N28: 8 | O28: 6 | P28: 2 | Q28: 0 | R28: 0 | S28: 0 | T28: 0 | U28: 0 | V28: 0 | W28: 8 | X28: 6 | Y28: 2
A29: 資料來源：直轄市、縣﹝市﹞政府。
A30: 總計 | B30: =B6-SUM(B7:B12)-#REF! -> #REF! | C30: =C6-SUM(C7:C12)-#REF! -> #REF! | D30: =D6-SUM(D7:D12)-#REF! -> #REF! | E30: =E6-SUM(E7:E12)-#REF! -> #REF! | F30: =F6-SUM(F7:F12)-#REF! -> #REF! | G30: =G6-SUM(G7:G12)-#REF! -> #REF! | H30: =H6-SUM(H7:H12)-#REF! -> #REF! | I30: =I6-SUM(I7:I12)-#REF! -> #REF! | ... Y30: =Y6-SUM(Y7:Y12)-#REF! -> #REF!
A31: 台灣省 | B31: =B12-SUM(B13:B26) -> -6402 | C31: =C12-SUM(C13:C26) -> -3965 | D31: =D12-SUM(D13:D26) -> -2437 | E31: =E12-SUM(E13:E26) -> -16 | F31: =F12-SUM(F13:F26) -> -13 | G31: =G12-SUM(G13:G26) -> -3 | H31: =H12-SUM(H13:H26) -> -592 | I31: =I12-SUM(I13:I26) -> -444 | ... Y31: =Y12-SUM(Y13:Y26) -> -6797
A32: 福建省 | B32: =#REF!-B27-B28 -> #REF! | C32: =#REF!-C27-C28 -> #REF! | D32: =#REF!-D27-D28 -> #REF! | E32: =#REF!-E27-E28 -> #REF! | F32: =#REF!-F27-F28 -> #REF! | G32: =#REF!-G27-G28 -> #REF! | H32: =#REF!-H27-H28 -> #REF! | I32: =#REF!-I27-I28 -> #REF! | ... Y32: =#REF!-Y27-Y28 -> #REF!
A33: 核年季 | B33: =B6-#REF! -> #REF! | C33: =C6-#REF! -> #REF! | D33: =D6-#REF! -> #REF! | E33: =E6-#REF! -> #REF! | H33: =H6-#REF! -> #REF! | K33: =K6-#REF! -> #REF! | N33: =N6-#REF! -> #REF! | O33: =O6-#REF! -> #REF! | P33: =P6-#REF! -> #REF! | Q33: =Q6-#REF! -> #REF! | T33: =T6-#REF! -> #REF! | W33: =W6-#REF! -> #REF!

Sheet 108
A1: 3.1-02 原住民低收入戶戶數及人數
A2: 108年底, End of 2019
A3: 地區別 | B3: 原住民戶數(戶長性別) | N3: 原住民人數
B4: 總計 | E4: 第1款(省、新北、臺中、臺南)、第0類(臺北)、第1類(高雄) | H4: 第2款(省、新北、臺中、臺南)、第1、2類(臺北)、第2類(高雄) | K4: 第3款(省、新北、臺中、臺南)、第3、4類(臺北、高雄) | N4: 總計 | Q4: 第1款(省、新北、臺中、臺南)、第0類(臺北)、第1類(高雄) | T4: 第2款(省、新北、臺中、臺南)、第1、2類(臺北)、第2類(高雄) | W4: 第3款(省、新北、臺中、臺南)、第3、4類(臺北、高雄)
B5: 計 | C5: 男 | D5: 女 | E5: 計 | F5: 男 | G5: 女 | H5: 計 | I5: 男 | J5: 女 | K5: 計 | L5: 男 | M5: 女 | N5: 計 | O5: 男 | P5: 女 | Q5: 計 | R5: 男 | S5: 女 | T5: 計 | U5: 男 | V5: 女 | W5: 計 | X5: 男 | Y5: 女
A6: 總計 | B6: 10720 | C6: 6062 | D6: 4658 | E6: 40 | F6: 34 | G6: 6 | H6: 1324 | I6: 850 | J6: 474 | K6: 9356 | L6: 5178 | M6: 4178 | N6: 30810 | O6: 15711 | P6: 15099 | Q6: 43 | R6: 36 | S6: 7 | T6: 3067 | U6: 1697 | V6: 1370 | W6: 27700 | X6: 13978 | Y6: 13722
A7: 新北市 | B7: 632 | C7: 289 | D7: 343 | E7: 0 | F7: 0 | G7: 0 | H7: 29 | I7: 17 | J7: 12 | K7: 603 | L7: 272 | M7: 331 | N7: 1846 | O7: 856 | P7: 990 | Q7: 0 | R7: 0 | S7: 0 | T7: 52 | U7: 27 | V7: 25 | W7: 1794 | X7: 829 | Y7: 965
A8: 臺北市 | B8: 414 | C8: 152 | D8: 262 | E8: 5 | F8: 3 | G8: 2 | H8: 57 | I8: 22 | J8: 35 | K8: 352 | L8: 127 | M8: 225 | N8: 1368 | O8: 609 | P8: 759 | Q8: 5 | R8: 3 | S8: 2 | T8: 168 | U8: 72 | V8: 96 | W8: 1195 | X8: 534 | Y8: 661
A9: 桃園市 | B9: 1296 | C9: 701 | D9: 595 | E9: 4 | F9: 4 | G9: 0 | H9: 113 | I9: 65 | J9: 48 | K9: 1179 | L9: 632 | M9: 547 | N9: 4603 | O9: 2288 | P9: 2315 | Q9: 4 | R9: 4 | S9: 0 | T9: 356 | U9: 191 | V9: 165 | W9: 4243 | X9: 2093 | Y9: 2150
A10: 臺中市 | B10: 785 | C10: 375 | D10: 410 | E10: 7 | F10: 6 | G10: 1 | H10: 161 | I10: 80 | J10: 81 | K10: 617 | L10: 289 | M10: 328 | N10: 2664 | O10: 1275 | P10: 1389 | Q10: 9 | R10: 7 | S10: 2 | T10: 528 | U10: 253 | V10: 275 | W10: 2127 | X10: 1015 | Y10: 1112
A11: 臺南市 | B11: 85 | C11: 36 | D11: 49 | E11: 0 | F11: 0 | G11: 0 | H11: 12 | I11: 6 | J11: 6 | K11: 73 | L11: 30 | M11: 43 | N11: 274 | O11: 114 | P11: 160 | Q11: 0 | R11: 0 | S11: 0 | T11: 30 | U11: 14 | V11: 16 | W11: 244 | X11: 100 | Y11: 144
A12: 高雄市 | B12: 496 | C12: 260 | D12: 236 | E12: 1 | F12: 1 | G12: 0 | H12: 137 | I12: 79 | J12: 58 | K12: 358 | L12: 180 | M12: 178 | N12: 1822 | O12: 890 | P12: 932 | Q12: 1 | R12: 1 | S12: 0 | T12: 393 | U12: 208 | V12: 185 | W12: 1428 | X12: 681 | Y12: 747
A13: 宜蘭縣 | B13: 334 | C13: 229 | D13: 105 | E13: 0 | F13: 0 | G13: 0 | H13: 24 | I13: 19 | J13: 5 | K13: 310 | L13: 210 | M13: 100 | N13: 844 | O13: 441 | P13: 403 | Q13: 0 | R13: 0 | S13: 0 | T13: 56 | U13: 34 | V13: 22 | W13: 788 | X13: 407 | Y13: 381
A14: 新竹縣 | B14: 409 | C14: 249 | D14: 160 | E14: 1 | F14: 1 | G14: 0 | H14: 38 | I14: 29 | J14: 9 | K14: 370 | L14: 219 | M14: 151 | N14: 1519 | O14: 751 | P14: 768 | Q14: 1 | R14: 1 | S14: 0 | T14: 91 | U14: 50 | V14: 41 | W14: 1427 | X14: 700 | Y14: 727
A15: 苗栗縣 | B15: 222 | C15: 140 | D15: 82 | E15: 0 | F15: 0 | G15: 0 | H15: 81 | I15: 53 | J15: 28 | K15: 141 | L15: 87 | M15: 54 | N15: 720 | O15: 365 | P15: 355 | Q15: 0 | R15: 0 | S15: 0 | T15: 239 | U15: 131 | V15: 108 | W15: 481 | X15: 234 | Y15: 247
A16: 彰化縣 | B16: 63 | C16: 31 | D16: 32 | E16: 0 | F16: 0 | G16: 0 | H16: 0 | I16: 0 | J16: 0 | K16: 63 | L16: 31 | M16: 32 | N16: 158 | O16: 75 | P16: 83 | Q16: 0 | R16: 0 | S16: 0 | T16: 0 | U16: 0 | V16: 0 | W16: 158 | X16: 75 | Y16: 83
A17: 南投縣 | B17: 420 | C17: 262 | D17: 158 | E17: 1 | F17: 1 | G17: 0 | H17: 22 | I17: 10 | J17: 12 | K17: 397 | L17: 251 | M17: 146 | N17: 1275 | O17: 649 | P17: 626 | Q17: 2 | R17: 2 | S17: 0 | T17: 81 | U17: 39 | V17: 42 | W17: 1192 | X17: 608 | Y17: 584
... A28: 連江縣 | B28: 4 | C28: 3 | D28: 1 | E28: 0 | F28: 0 | G28: 0 | H28: 0 | I28: 0 | J28: 0 | K28: 4 | L28: 3 | M28: 1 | N28: 8 | O28: 6 | P28: 2 | Q28: 0 | R28: 0 | S28: 0 | T28: 0 | U28: 0 | V28: 0 | W28: 8 | X28: 6 | Y28: 2
A29: 資料來源：直轄市、縣﹝市﹞政府。
A30: 總計 | B30: =B6-SUM(B7:B12)-#REF! -> #REF! | C30: =C6-SUM(C7:C12)-#REF! -> #REF! | D30: =D6-SUM(D7:D12)-#REF! -> #REF! | E30: =E6-SUM(E7:E12)-#REF! -> #REF! | F30: =F6-SUM(F7:F12)-#REF! -> #REF! | G30: =G6-SUM(G7:G12)-#REF! -> #REF! | H30: =H6-SUM(H7:H12)-#REF! -> #REF! | I30: =I6-SUM(I7:I12)-#REF! -> #REF! | ... Y30: =Y6-SUM(Y7:Y12)-#REF! -> #REF!
A31: 台灣省 | B31: =B12-SUM(B13:B26) -> -6506 | C31: =C12-SUM(C13:C26) -> -3984 | D31: =D12-SUM(D13:D26) -> -2522 | E31: =E12-SUM(E13:E26) -> -22 | F31: =F12-SUM(F13:F26) -> -19 | G31: =G12-SUM(G13:G26) -> -3 | H31: =H12-SUM(H13:H26) -> -677 | I31: =I12-SUM(I13:I26) -> -501 | ... Y31: =Y12-SUM(Y13:Y26) -> -7183
A32: 福建省 | B32: =#REF!-B27-B28 -> #REF! | C32: =#REF!-C27-C28 -> #REF! | D32: =#REF!-D27-D28 -> #REF! | E32: =#REF!-E27-E28 -> #REF! | F32: =#REF!-F27-F28 -> #REF! | G32: =#REF!-G27-G28 -> #REF! | H32: =#REF!-H27-H28 -> #REF! | I32: =#REF!-I27-I28 -> #REF! | ... Y32: =#REF!-Y27-Y28 -> #REF!
A33: 核年季 | B33: =B6-#REF! -> #REF! | C33: =C6-#REF! -> #REF! | D33: =D6-#REF! -> #REF! | E33: =E6-#REF! -> #REF! | H33: =H6-#REF! -> #REF! | K33: =K6-#REF! -> #REF! | N33: =N6-#REF! -> #REF! | O33: =O6-#REF! -> #REF! | P33: =P6-#REF! -> #REF! | Q33: =Q6-#REF! -> #REF! | T33: =T6-#REF! -> #REF! | W33: =W6-#REF! -> #REF!

Sheet 107
A1: 3.1-02 原住民低收入戶戶數及人數
A2: 107年底, End of 2018
A3: 地區別 | B3: 原住民戶數(戶長性別) | N3: 原住民人數
B4: 總計 | E4: 第1款(省、新北、臺中、臺南)、第0類(臺北)、第1類(高雄) | H4: 第2款(省、新北、臺中、臺南)、第1、2類(臺北)、第2類(高雄) | K4: 第3款(省、新北、臺中、臺南)、第3、4類(臺北、高雄) | N4: 總計 | Q4: 第1款(省、新北、臺中、臺南)、第0類(臺北)、第1類(高雄) | T4: 第2款(省、新北、臺中、臺南)、第1、2類(臺北)、第2類(高雄) | W4: 第3款(省、新北、臺中、臺南)、第3、4類(臺北、高雄)
B5: 計 | C5: 男 | D5: 女 | E5: 計 | F5: 男 | G5: 女 | H5: 計 | I5: 男 | J5: 女 | K5: 計 | L5: 男 | M5: 女 | N5: 計 | O5: 男 | P5: 女 | Q5: 計 | R5: 男 | S5: 女 | T5: 計 | U5: 男 | V5: 女 | W5: 計 | X5: 男 | Y5: 女
A6: 總計 | B6: 11292 | C6: 6422 | D6: 4870 | E6: 181 | F6: 142 | G6: 39 | H6: 1467 | I6: 929 | J6: 538 | K6: 9644 | L6: 5351 | M6: 4293 | N6: 32069 | O6: 16425 | P6: 15644 | Q6: 184 | R6: 144 | S6: 40 | T6: 3346 | U6: 1827 | V6: 1519 | W6: 28539 | X6: 14454 | Y6: 14085
A7: 新北市 | B7: 733 | C7: 353 | D7: 380 | E7: 0 | F7: 0 | G7: 0 | H7: 41 | I7: 21 | J7: 20 | K7: 692 | L7: 332 | M7: 360 | N7: 2134 | O7: 1038 | P7: 1096 | Q7: 0 | R7: 0 | S7: 0 | T7: 88 | U7: 46 | V7: 42 | W7: 2046 | X7: 992 | Y7: 1054
A8: 臺北市 | B8: 745 | C8: 364 | D8: 381 | E8: 141 | F8: 107 | G8: 34 | H8: 129 | I8: 54 | J8: 75 | K8: 475 | L8: 203 | M8: 272 | N8: 1680 | O8: 811 | P8: 869 | Q8: 141 | R8: 107 | S8: 34 | T8: 237 | U8: 105 | V8: 132 | W8: 1302 | X8: 599 | Y8: 703
A9: 桃園市 | B9: 1163 | C9: 632 | D9: 531 | E9: 4 | F9: 4 | G9: 0 | H9: 109 | I9: 63 | J9: 46 | K9: 1050 | L9: 565 | M9: 485 | N9: 4026 | O9: 2026 | P9: 2000 | Q9: 4 | R9: 4 | S9: 0 | T9: 352 | U9: 181 | V9: 171 | W9: 3670 | X9: 1841 | Y9: 1829
A10: 臺中市 | B10: 809 | C10: 376 | D10: 433 | E10: 5 | F10: 5 | G10: 0 | H10: 154 | I10: 79 | J10: 75 | K10: 650 | L10: 292 | M10: 358 | N10: 2683 | O10: 1272 | P10: 1411 | Q10: 7 | R10: 6 | S10: 1 | T10: 471 | U10: 228 | V10: 243 | W10: 2205 | X10: 1038 | Y10: 1167
A11: 臺南市 | B11: 97 | C11: 37 | D11: 60 | E11: 0 | F11: 0 | G11: 0 | H11: 12 | I11: 5 | J11: 7 | K11: 85 | L11: 32 | M11: 53 | N11: 317 | O11: 132 | P11: 185 | Q11: 0 | R11: 0 | S11: 0 | T11: 30 | U11: 13 | V11: 17 | W11: 287 | X11: 119 | Y11: 168
A12: 高雄市 | B12: 470 | C12: 257 | D12: 213 | E12: 1 | F12: 1 | G12: 0 | H12: 131 | I12: 81 | J12: 50 | K12: 338 | L12: 175 | M12: 163 | N12: 1844 | O12: 888 | P12: 956 | Q12: 1 | R12: 1 | S12: 0 | T12: 393 | U12: 214 | V12: 179 | W12: 1450 | X12: 673 | Y12: 777
A13: 宜蘭縣 | B13: 341 | C13: 226 | D13: 115 | E13: 0 | F13: 0 | G13: 0 | H13: 16 | I13: 10 | J13: 6 | K13: 325 | L13: 216 | M13: 109 | N13: 866 | O13: 435 | P13: 431 | Q13: 0 | R13: 0 | S13: 0 | T13: 42 | U13: 24 | V13: 18 | W13: 824 | X13: 411 | Y13: 413
A14: 新竹縣 | B14: 418 | C14: 255 | D14: 163 | E14: 1 | F14: 1 | G14: 0 | H14: 27 | I14: 22 | J14: 5 | K14: 390 | L14: 232 | M14: 158 | N14: 1548 | O14: 765 | P14: 783 | Q14: 1 | R14: 1 | S14: 0 | T14: 72 | U14: 38 | V14: 34 | W14: 1475 | X14: 726 | Y14: 749
A15: 苗栗縣 | B15: 215 | C15: 136 | D15: 79 | E15: 0 | F15: 0 | G15: 0 | H15: 79 | I15: 54 | J15: 25 | K15: 136 | L15: 82 | M15: 54 | N15: 695 | O15: 354 | P15: 341 | Q15: 0 | R15: 0 | S15: 0 | T15: 232 | U15: 127 | V15: 105 | W15: 463 | X15: 227 | Y15: 236
A16: 彰化縣 | B16: 59 | C16: 29 | D16: 30 | E16: 0 | F16: 0 | G16: 0 | H16: 0 | I16: 0 | J16: 0 | K16: 59 | L16: 29 | M16: 30 | N16: 146 | O16: 69 | P16: 77 | Q16: 0 | R16: 0 | S16: 0 | T16: 0 | U16: 0 | V16: 0 | W16: 146 | X16: 69 | Y16: 77
A17: 南投縣 | B17: 437 | C17: 274 | D17: 163 | E17: 3 | F17: 3 | G17: 0 | H17: 29 | I17: 14 | J17: 15 | K17: 405 | L17: 257 | M17: 148 | N17: 1359 | O17: 689 | P17: 670 | Q17: 4 | R17: 4 | S17: 0 | T17: 101 | U17: 47 | V17: 54 | W17: 1254 | X17: 638 | Y17: 616
... A28: 連江縣 | B28: 5 | C28: 2 | D28: 3 | E28: 0 | F28: 0 | G28: 0 | H28: 1 | I28: 0 | J28: 1 | K28: 4 | L28: 2 | M28: 2 | N28: 8 | O28: 4 | P28: 4 | Q28: 0 | R28: 0 | S28: 0 | T28: 1 | U28: 0 | V28: 1 | W28: 7 | X28: 4 | Y28: 3
A29: 資料來源：直轄市、縣﹝市﹞政府。
A30: 總計 | B30: =B6-SUM(B7:B12)-#REF! -> #REF! | C30: =C6-SUM(C7:C12)-#REF! -> #REF! | D30: =D6-SUM(D7:D12)-#REF! -> #REF! | E30: =E6-SUM(E7:E12)-#REF! -> #REF! | F30: =F6-SUM(F7:F12)-#REF! -> #REF! | G30: =G6-SUM(G7:G12)-#REF! -> #REF! | H30: =H6-SUM(H7:H12)-#REF! -> #REF! | I30: =I6-SUM(I7:I12)-#REF! -> #REF! | ... Y30: =Y6-SUM(Y7:Y12)-#REF! -> #REF!
A31: 台灣省 | B31: =B12-SUM(B13:B26) -> -6794 | C31: =C12-SUM(C13:C26) -> -4142 | D31: =D12-SUM(D13:D26) -> -2652 | E31: =E12-SUM(E13:E26) -> -29 | F31: =F12-SUM(F13:F26) -> -24 | G31: =G12-SUM(G13:G26) -> -5 | H31: =H12-SUM(H13:H26) -> -758 | I31: =I12-SUM(I13:I26) -> -544 | ... Y31: =Y12-SUM(Y13:Y26) -> -7600
A32: 福建省 | B32: =#REF!-B27-B28 -> #REF! | C32: =#REF!-C27-C28 -> #REF! | D32: =#REF!-D27-D28 -> #REF! | E32: =#REF!-E27-E28 -> #REF! | F32: =#REF!-F27-F28 -> #REF! | G32: =#REF!-G27-G28 -> #REF! | H32: =#REF!-H27-H28 -> #REF! | I32: =#REF!-I27-I28 -> #REF! | ... Y32: =#REF!-Y27-Y28 -> #REF!
A33: 核年季 | B33: =B6-#REF! -> #REF! | C33: =C6-#REF! -> #REF! | D33: =D6-#REF! -> #REF! | E33: =E6-#REF! -> #REF! | H33: =H6-#REF! -> #REF! | K33: =K6-#REF! -> #REF! | N33: =N6-#REF! -> #REF! | O33: =O6-#REF! -> #REF! | P33: =P6-#REF! -> #REF! | Q33: =Q6-#REF! -> #REF! | T33: =T6-#REF! -> #REF! | W33: =W6-#REF! -> #REF!

Sheet 106
A1: 3.1-02 原住民低收入戶戶數及人數
A2: 106年底, End of 2017
A3: 地區別 | B3: 原住民戶數(戶長性別) | N3: 原住民人數
B4: 總計 | E4: 第1款(省、新北、臺中、臺南)、第0類(臺北)、第1類(高雄) | H4: 第2款(省、新北、臺中、臺南)、第1、2類(臺北)、第2類(高雄) | K4: 第3款(省、新北、臺中、臺南)、第3、4類(臺北、高雄) | N4: 總計 | Q4: 第1款(省、新北、臺中、臺南)、第0類(臺北)、第1類(高雄) | T4: 第2款(省、新北、臺中、臺南)、第1、2類(臺北)、第2類(高雄) | W4: 第3款(省、新北、臺中、臺南)、第3、4類(臺北、高雄)
B5: 計 | C5: 男 | D5: 女 | E5: 計 | F5: 男 | G5: 女 | H5: 計 | I5: 男 | J5: 女 | K5: 計 | L5: 男 | M5: 女 | N5: 計 | O5: 男 | P5: 女 | Q5: 計 | R5: 男 | S5: 女 | T5: 計 | U5: 男 | V5: 女 | W5: 計 | X5: 男 | Y5: 女
A6: 總計 | B6: 10925 | C6: 6221 | D6: 4704 | E6: 210 | F6: 171 | G6: 39 | H6: 1510 | I6: 960 | J6: 550 | K6: 9205 | L6: 5090 | M6: 4115 | N6: 31253 | O6: 15980 | P6: 15273 | Q6: 213 | R6: 173 | S6: 40 | T6: 3526 | U6: 1938 | V6: 1588 | W6: 27514 | X6: 13869 | Y6: 13645
A7: 新北市 | B7: 793 | C7: 371 | D7: 422 | E7: 0 | F7: 0 | G7: 0 | H7: 39 | I7: 23 | J7: 16 | K7: 754 | L7: 348 | M7: 406 | N7: 2375 | O7: 1161 | P7: 1214 | Q7: 0 | R7: 0 | S7: 0 | T7: 97 | U7: 51 | V7: 46 | W7: 2278 | X7: 1110 | Y7: 1168
A8: 臺北市 | B8: 754 | C8: 392 | D8: 362 | E8: 165 | F8: 131 | G8: 34 | H8: 133 | I8: 64 | J8: 69 | K8: 456 | L8: 197 | M8: 259 | N8: 1692 | O8: 829 | P8: 863 | Q8: 165 | R8: 131 | S8: 34 | T8: 239 | U8: 111 | V8: 128 | W8: 1288 | X8: 587 | Y8: 701
A9: 桃園市 | B9: 1084 | C9: 593 | D9: 491 | E9: 5 | F9: 5 | G9: 0 | H9: 124 | I9: 69 | J9: 55 | K9: 955 | L9: 519 | M9: 436 | N9: 3812 | O9: 1894 | P9: 1918 | Q9: 5 | R9: 5 | S9: 0 | T9: 415 | U9: 208 | V9: 207 | W9: 3392 | X9: 1681 | Y9: 1711
A10: 臺中市 | B10: 747 | C10: 337 | D10: 410 | E10: 6 | F10: 5 | G10: 1 | H10: 132 | I10: 67 | J10: 65 | K10: 609 | L10: 265 | M10: 344 | N10: 2486 | O10: 1193 | P10: 1293 | Q10: 8 | R10: 6 | S10: 2 | T10: 393 | U10: 205 | V10: 188 | W10: 2085 | X10: 982 | Y10: 1103
A11: 臺南市 | B11: 101 | C11: 40 | D11: 61 | E11: 0 | F11: 0 | G11: 0 | H11: 13 | I11: 6 | J11: 7 | K11: 88 | L11: 34 | M11: 54 | N11: 331 | O11: 152 | P11: 179 | Q11: 0 | R11: 0 | S11: 0 | T11: 37 | U11: 17 | V11: 20 | W11: 294 | X11: 135 | Y11: 159
A12: 高雄市 | B12: 490 | C12: 262 | D12: 228 | E12: 2 | F12: 1 | G12: 1 | H12: 142 | I12: 87 | J12: 55 | K12: 346 | L12: 174 | M12: 172 | N12: 1690 | O12: 829 | P12: 861 | Q12: 2 | R12: 1 | S12: 1 | T12: 414 | U12: 216 | V12: 198 | W12: 1274 | X12: 612 | Y12: 662
A13: 宜蘭縣 | B13: 323 | C13: 212 | D13: 111 | E13: 0 | F13: 0 | G13: 0 | H13: 13 | I13: 9 | J13: 4 | K13: 310 | L13: 203 | M13: 107 | N13: 817 | O13: 397 | P13: 420 | Q13: 0 | R13: 0 | S13: 0 | T13: 38 | U13: 20 | V13: 18 | W13: 779 | X13: 377 | Y13: 402
A14: 新竹縣 | B14: 403 | C14: 259 | D14: 144 | E14: 2 | F14: 2 | G14: 0 | H14: 32 | I14: 27 | J14: 5 | K14: 369 | L14: 230 | M14: 139 | N14: 1507 | O14: 761 | P14: 746 | Q14: 2 | R14: 2 | S14: 0 | T14: 68 | U14: 42 | V14: 26 | W14: 1437 | X14: 717 | Y14: 720
A15: 苗栗縣 | B15: 190 | C15: 127 | D15: 63 | E15: 0 | F15: 0 | G15: 0 | H15: 73 | I15: 52 | J15: 21 | K15: 117 | L15: 75 | M15: 42 | N15: 592 | O15: 302 | P15: 290 | Q15: 0 | R15: 0 | S15: 0 | T15: 202 | U15: 111 | V15: 91 | W15: 390 | X15: 191 | Y15: 199
A16: 彰化縣 | B16: 61 | C16: 28 | D16: 33 | E16: 0 | F16: 0 | G16: 0 | H16: 1 | I16: 1 | J16: 0 | K16: 60 | L16: 27 | M16: 33 | N16: 145 | O16: 69 | P16: 76 | Q16: 0 | R16: 0 | S16: 0 | T16: 1 | U16: 1 | V16: 0 | W16: 144 | X16: 68 | Y16: 76
A17: 南投縣 | B17: 422 | C17: 266 | D17: 156 | E17: 3 | F17: 3 | G17: 0 | H17: 33 | I17: 15 | J17: 18 | K17: 386 | L17: 248 | M17: 138 | N17: 1280 | O17: 652 | P17: 628 | Q17: 4 | R17: 4 | S17: 0 | T17: 113 | U17: 56 | V17: 57 | W17: 1163 | X17: 592 | Y17: 571
... A28: 連江縣 | B28: 3 | C28: 2 | D28: 1 | E28: 0 | F28: 0 | G28: 0 | H28: 0 | I28: 0 | J28: 0 | K28: 3 | L28: 2 | M28: 1 | N28: 6 | O28: 4 | P28: 2 | Q28: 0 | R28: 0 | S28: 0 | T28: 0 | U28: 0 | V28: 0 | W28: 6 | X28: 4 | Y28: 2
A29: 資料來源：直轄市、縣﹝市﹞政府。
A30: 總計 | B30: =B6-SUM(B7:B12)-#REF! -> #REF! | C30: =C6-SUM(C7:C12)-#REF! -> #REF! | D30: =D6-SUM(D7:D12)-#REF! -> #REF! | E30: =E6-SUM(E7:E12)-#REF! -> #REF! | F30: =F6-SUM(F7:F12)-#REF! -> #REF! | G30: =G6-SUM(G7:G12)-#REF! -> #REF! | H30: =H6-SUM(H7:H12)-#REF! -> #REF! | I30: =I6-SUM(I7:I12)-#REF! -> #REF! | ... Y30: =Y6-SUM(Y7:Y12)-#REF! -> #REF!
A31: 台灣省 | B31: =B12-SUM(B13:B26) -> -6461 | C31: =C12-SUM(C13:C26) -> -3961 | D31: =D12-SUM(D13:D26) -> -2500 | E31: =E12-SUM(E13:E26) -> -30 | F31: =F12-SUM(F13:F26) -> -28 | G31: =G12-SUM(G13:G26) -> -2 | H31: =H12-SUM(H13:H26) -> -785 | I31: =I12-SUM(I13:I26) -> -557 | ... Y31: =Y12-SUM(Y13:Y26) -> -7473
A32: 福建省 | B32: =#REF!-B27-B28 -> #REF! | C32: =#REF!-C27-C28 -> #REF! | D32: =#REF!-D27-D28 -> #REF! | E32: =#REF!-E27-E28 -> #REF! | F32: =#REF!-F27-F28 -> #REF! | G32: =#REF!-G27-G28 -> #REF! | H32: =#REF!-H27-H28 -> #REF! | I32: =#REF!-I27-I28 -> #REF! | ... Y32: =#REF!-Y27-Y28 -> #REF!
A33: 核年季 | B33: =B6-#REF! -> #REF! | C33: =C6-#REF! -> #REF! | D33: =D6-#REF! -> #REF! | E33: =E6-#REF! -> #REF! | H33: =H6-#REF! -> #REF! | K33: =K6-#REF! -> #REF! | N33: =N6-#REF! -> #REF! | O33: =O6-#REF! -> #REF! | P33: =P6-#REF! -> #REF! | Q33: =Q6-#REF! -> #REF! | T33: =T6-#REF! -> #REF! | W33: =W6-#REF! -> #REF!

Sheet 105
A1: 3.1-02 原住民低收入戶戶數及人數
A2: 105年底, End of 2016
A4: 地區別 | B4: 原住民戶數(戶長性別) | N4: 原住民人數
B5: 總計 | E5: 第1款(省、新北、臺中、臺南)、第0類(臺北)、第1類(高雄) | H5: 第2款(省、新北、臺中、臺南)、第1、2類(臺北)、第2類(高雄) | K5: 第3款(省、新北、臺中、臺南)、第3、4類(臺北、高雄) | N5: 總計 | Q5: 第1款(省、新北、臺中、臺南)、第0類(臺北)、第1類(高雄) | T5: 第2款(省、新北、臺中、臺南)、第1、2類(臺北)、第2類(高雄) | W5: 第3款(省、新北、臺中、臺南)、第3、4類(臺北、高雄)
B6: 計 | C6: 男 | D6: 女 | E6: 計 | F6: 男 | G6: 女 | H6: 計 | I6: 男 | J6: 女 | K6: 計 | L6: 男 | M6: 女 | N6: 計 | O6: 男 | P6: 女 | Q6: 計 | R6: 男 | S6: 女 | T6: 計 | U6: 男 | V6: 女 | W6: 計 | X6: 男 | Y6: 女
A7: 總計 | B7: 10888 | C7: 6173 | D7: 4715 | E7: 239 | F7: 196 | G7: 43 | H7: 1649 | I7: 1030 | J7: 619 | K7: 9000 | L7: 4947 | M7: 4053 | N7: 31789 | O7: 16225 | P7: 15564 | Q7: 241 | R7: 197 | S7: 44 | T7: 4017 | U7: 2175 | V7: 1842 | W7: 27531 | X7: 13853 | Y7: 13678
A8: 新北市 | B8: 853 | C8: 395 | D8: 458 | E8: 0 | F8: 0 | G8: 0 | H8: 43 | I8: 23 | J8: 20 | K8: 810 | L8: 372 | M8: 438 | N8: 2622 | O8: 1300 | P8: 1322 | Q8: 0 | R8: 0 | S8: 0 | T8: 113 | U8: 55 | V8: 58 | W8: 2509 | X8: 1245 | Y8: 1264
A9: 臺北市 | B9: 822 | C9: 421 | D9: 401 | E9: 184 | F9: 147 | G9: 37 | H9: 150 | I9: 77 | J9: 73 | K9: 488 | L9: 197 | M9: 291 | N9: 1859 | O9: 898 | P9: 961 | Q9: 184 | R9: 147 | S9: 37 | T9: 277 | U9: 139 | V9: 138 | W9: 1398 | X9: 612 | Y9: 786
A10: 桃園市 | B10: 965 | C10: 548 | D10: 417 | E10: 7 | F10: 7 | G10: 0 | H10: 133 | I10: 77 | J10: 56 | K10: 825 | L10: 464 | M10: 361 | N10: 3561 | O10: 1775 | P10: 1786 | Q10: 6 | R10: 6 | S10: 0 | T10: 440 | U10: 229 | V10: 211 | W10: 3115 | X10: 1540 | Y10: 1575
A11: 臺中市 | B11: 726 | C11: 317 | D11: 409 | E11: 6 | F11: 5 | G11: 1 | H11: 132 | I11: 67 | J11: 65 | K11: 588 | L11: 245 | M11: 343 | N11: 2460 | O11: 1170 | P11: 1290 | Q11: 8 | R11: 6 | S11: 2 | T11: 417 | U11: 212 | V11: 205 | W11: 2035 | X11: 952 | Y11: 1083
A12: 臺南市 | B12: 110 | C12: 43 | D12: 67 | E12: 0 | F12: 0 | G12: 0 | H12: 20 | I12: 8 | J12: 12 | K12: 90 | L12: 35 | M12: 55 | N12: 366 | O12: 169 | P12: 197 | Q12: 0 | R12: 0 | S12: 0 | T12: 57 | U12: 29 | V12: 28 | W12: 309 | X12: 140 | Y12: 169
A13: 高雄市 | B13: 497 | C13: 264 | D13: 233 | E13: 2 | F13: 1 | G13: 1 | H13: 148 | I13: 89 | J13: 59 | K13: 347 | L13: 174 | M13: 173 | N13: 1778 | O13: 872 | P13: 906 | Q13: 2 | R13: 1 | S13: 1 | T13: 450 | U13: 222 | V13: 228 | W13: 1326 | X13: 649 | Y13: 677
A14: 宜蘭縣 | B14: 364 | C14: 239 | D14: 125 | E14: 0 | F14: 0 | G14: 0 | H14: 16 | I14: 12 | J14: 4 | K14: 348 | L14: 227 | M14: 121 | N14: 990 | O14: 485 | P14: 505 | Q14: 0 | R14: 0 | S14: 0 | T14: 53 | U14: 25 | V14: 28 | W14: 937 | X14: 460 | Y14: 477
A15: 新竹縣 | B15: 429 | C15: 270 | D15: 159 | E15: 3 | F15: 3 | G15: 0 | H15: 37 | I15: 30 | J15: 7 | K15: 389 | L15: 237 | M15: 152 | N15: 1583 | O15: 813 | P15: 770 | Q15: 3 | R15: 3 | S15: 0 | T15: 86 | U15: 50 | V15: 36 | W15: 1494 | X15: 760 | Y15: 734
A16: 苗栗縣 | B16: 208 | C16: 135 | D16: 73 | E16: 0 | F16: 0 | G16: 0 | H16: 86 | I16: 61 | J16: 25 | K16: 122 | L16: 74 | M16: 48 | N16: 667 | O16: 346 | P16: 321 | Q16: 0 | R16: 0 | S16: 0 | T16: 262 | U16: 139 | V16: 123 | W16: 405 | X16: 207 | Y16: 198
A17: 彰化縣 | B17: 58 | C17: 29 | D17: 29 | E17: 0 | F17: 0 | G17: 0 | H17: 1 | I17: 1 | J17: 0 | K17: 57 | L17: 28 | M17: 29 | N17: 136 | O17: 61 | P17: 75 | Q17: 0 | R17: 0 | S17: 0 | T17: 1 | U17: 1 | V17: 0 | W17: 135 | X17: 60 | Y17: 75
A18: 南投縣 | B18: 417 | C18: 251 | D18: 166 | E18: 1 | F18: 1 | G18: 0 | H18: 34 | I18: 14 | J18: 20 | K18: 382 | L18: 236 | M18: 146 | N18: 1253 | O18: 639 | P18: 614 | Q18: 2 | R18: 2 | S18: 0 | T18: 106 | U18: 53 | V18: 53 | W18: 1145 | X18: 584 | Y18: 561
... A29: 連江縣 | B29: 5 | C29: 2 | D29: 3 | E29: 0 | F29: 0 | G29: 0 | H29: 1 | I29: 0 | J29: 1 | K29: 4 | L29: 2 | M29: 2 | N29: 8 | O29: 3 | P29: 5 | Q29: 0 | R29: 0 | S29: 0 | T29: 1 | U29: 0 | V29: 1 | W29: 7 | X29: 3 | Y29: 4
A30: 資料來源：直轄市、縣﹝市﹞政府。
A31: 總計 | B31: =B7-SUM(B8:B13)-#REF! -> #REF! | C31: =C7-SUM(C8:C13)-#REF! -> #REF! | D31: =D7-SUM(D8:D13)-#REF! -> #REF! | E31: =E7-SUM(E8:E13)-#REF! -> #REF! | F31: =F7-SUM(F8:F13)-#REF! -> #REF! | G31: =G7-SUM(G8:G13)-#REF! -> #REF! | H31: =H7-SUM(H8:H13)-#REF! -> #REF! | I31: =I7-SUM(I8:I13)-#REF! -> #REF! | ... Y31: =Y7-SUM(Y8:Y13)-#REF! -> #REF!
A32: 台灣省 | B32: =B13-SUM(B14:B27) -> -6411 | C32: =C13-SUM(C14:C27) -> -3918 | D32: =D13-SUM(D14:D27) -> -2493 | E32: =E13-SUM(E14:E27) -> -38 | F32: =F13-SUM(F14:F27) -> -35 | G32: =G13-SUM(G14:G27) -> -3 | H32: =H13-SUM(H14:H27) -> -874 | I32: =I13-SUM(I14:I27) -> -600 | ... Y32: =Y13-SUM(Y14:Y27) -> -7439
A33: 福建省 | B33: =#REF!-B28-B29 -> #REF! | C33: =#REF!-C28-C29 -> #REF! | D33: =#REF!-D28-D29 -> #REF! | E33: =#REF!-E28-E29 -> #REF! | F33: =#REF!-F28-F29 -> #REF! | G33: =#REF!-G28-G29 -> #REF! | H33: =#REF!-H28-H29 -> #REF! | I33: =#REF!-I28-I29 -> #REF! | ... Y33: =#REF!-Y28-Y29 -> #REF!
A34: 核年季 | B34: =B7-#REF! -> #REF! | C34: =C7-#REF! -> #REF! | D34: =D7-#REF! -> #REF! | E34: =E7-#REF! -> #REF! | H34: =H7-#REF! -> #REF! | K34: =K7-#REF! -> #REF! | N34: =N7-#REF! -> #REF! | O34: =O7-#REF! -> #REF! | P34: =P7-#REF! -> #REF! | Q34: =Q7-#REF! -> #REF! | T34: =T7-#REF! -> #REF! | W34: =W7-#REF! -> #REF!

Sheet 104
A1: 3.1-02 原住民低收入戶戶數及人數
A2: 104年底, End of 2015
A4: 地區別 | B4: 原住民戶數(戶長性別) | N4: 原住民人數
B5: 總計 | E5: 第1款(省、新北、臺中、臺南)、第0類(臺北)、第1類(高雄) | H5: 第2款(省、新北、臺中、臺南)、第1、2類(臺北)、第2類(高雄) | K5: 第3款(省、新北、臺中、臺南)、第3、4類(臺北、高雄) | N5: 總計 | Q5: 第1款(省、新北、臺中、臺南)、第0類(臺北)、第1類(高雄) | T5: 第2款(省、新北、臺中、臺南)、第1、2類(臺北)、第2類(高雄) | W5: 第3款(省、新北、臺中、臺南)、第3、4類(臺北、高雄)
B6: 計 | C6: 男 | D6: 女 | E6: 計 | F6: 男 | G6: 女 | H6: 計 | I6: 男 | J6: 女 | K6: 計 | L6: 男 | M6: 女 | N6: 計 | O6: 男 | P6: 女 | Q6: 計 | R6: 男 | S6: 女 | T6: 計 | U6: 男 | V6: 女 | W6: 計 | X6: 男 | Y6: 女
A7: 總計 | B7: 10878 | C7: 6122 | D7: 4756 | E7: 281 | F7: 229 | G7: 52 | H7: 1707 | I7: 1028 | J7: 679 | K7: 8890 | L7: 4865 | M7: 4025 | N7: 31940 | O7: 16249 | P7: 15691 | Q7: 286 | R7: 231 | S7: 55 | T7: 4260 | U7: 2300 | V7: 1960 | W7: 27394 | X7: 13718 | Y7: 13676
A8: 新北市 | B8: 936 | C8: 443 | D8: 493 | E8: 0 | F8: 0 | G8: 0 | H8: 53 | I8: 25 | J8: 28 | K8: 883 | L8: 418 | M8: 465 | N8: 2867 | O8: 1420 | P8: 1447 | Q8: 0 | R8: 0 | S8: 0 | T8: 149 | U8: 73 | V8: 76 | W8: 2718 | X8: 1347 | Y8: 1371
A9: 臺北市 | B9: 875 | C9: 453 | D9: 422 | E9: 212 | F9: 172 | G9: 40 | H9: 163 | I9: 80 | J9: 83 | K9: 500 | L9: 201 | M9: 299 | N9: 1959 | O9: 940 | P9: 1019 | Q9: 213 | R9: 172 | S9: 41 | T9: 323 | U9: 157 | V9: 166 | W9: 1423 | X9: 611 | Y9: 812
A10: 桃園市 | B10: 897 | C10: 479 | D10: 418 | E10: 4 | F10: 4 | G10: 0 | H10: 109 | I10: 56 | J10: 53 | K10: 784 | L10: 419 | M10: 365 | N10: 3279 | O10: 1609 | P10: 1670 | Q10: 4 | R10: 4 | S10: 0 | T10: 368 | U10: 183 | V10: 185 | W10: 2907 | X10: 1422 | Y10: 1485
A11: 臺中市 | B11: 643 | C11: 302 | D11: 341 | E11: 5 | F11: 5 | G11: 0 | H11: 117 | I11: 68 | J11: 49 | K11: 521 | L11: 229 | M11: 292 | N11: 2179 | O11: 1038 | P11: 1141 | Q11: 7 | R11: 6 | S11: 1 | T11: 380 | U11: 202 | V11: 178 | W11: 1792 | X11: 830 | Y11: 962
A12: 臺南市 | B12: 95 | C12: 37 | D12: 58 | E12: 0 | F12: 0 | G12: 0 | H12: 16 | I12: 7 | J12: 9 | K12: 79 | L12: 30 | M12: 49 | N12: 310 | O12: 145 | P12: 165 | Q12: 0 | R12: 0 | S12: 0 | T12: 42 | U12: 23 | V12: 19 | W12: 268 | X12: 122 | Y12: 146
A13: 高雄市 | B13: 549 | C13: 275 | D13: 274 | E13: 4 | F13: 3 | G13: 1 | H13: 164 | I13: 87 | J13: 77 | K13: 381 | L13: 185 | M13: 196 | N13: 1956 | O13: 952 | P13: 1004 | Q13: 4 | R13: 3 | S13: 1 | T13: 517 | U13: 247 | V13: 270 | W13: 1435 | X13: 702 | Y13: 733
A14: 宜蘭縣 | B14: 336 | C14: 223 | D14: 113 | E14: 0 | F14: 0 | G14: 0 | H14: 19 | I14: 15 | J14: 4 | K14: 317 | L14: 208 | M14: 109 | N14: 1016 | O14: 501 | P14: 515 | Q14: 0 | R14: 0 | S14: 0 | T14: 67 | U14: 34 | V14: 33 | W14: 949 | X14: 467 | Y14: 482
A15: 新竹縣 | B15: 445 | C15: 280 | D15: 165 | E15: 3 | F15: 3 | G15: 0 | H15: 46 | I15: 37 | J15: 9 | K15: 396 | L15: 240 | M15: 156 | N15: 1639 | O15: 853 | P15: 786 | Q15: 3 | R15: 3 | S15: 0 | T15: 115 | U15: 71 | V15: 44 | W15: 1521 | X15: 779 | Y15: 742
A16: 苗栗縣 | B16: 212 | C16: 133 | D16: 79 | E16: 0 | F16: 0 | G16: 0 | H16: 63 | I16: 43 | J16: 20 | K16: 149 | L16: 90 | M16: 59 | N16: 666 | O16: 338 | P16: 328 | Q16: 0 | R16: 0 | S16: 0 | T16: 165 | U16: 91 | V16: 74 | W16: 501 | X16: 247 | Y16: 254
A17: 彰化縣 | B17: 65 | C17: 30 | D17: 35 | E17: 0 | F17: 0 | G17: 0 | H17: 1 | I17: 1 | J17: 0 | K17: 64 | L17: 29 | M17: 35 | N17: 146 | O17: 61 | P17: 85 | Q17: 0 | R17: 0 | S17: 0 | T17: 1 | U17: 1 | V17: 0 | W17: 145 | X17: 60 | Y17: 85
A18: 南投縣 | B18: 451 | C18: 272 | D18: 179 | E18: 0 | F18: 0 | G18: 0 | H18: 24 | I18: 12 | J18: 12 | K18: 427 | L18: 260 | M18: 167 | N18: 1353 | O18: 700 | P18: 653 | Q18: 0 | R18: 0 | S18: 0 | T18: 79 | U18: 43 | V18: 36 | W18: 1274 | X18: 657 | Y18: 617
... A29: 連江縣 | B29: 6 | C29: 3 | D29: 3 | E29: 0 | F29: 0 | G29: 0 | H29: 1 | I29: 0 | J29: 1 | K29: 5 | L29: 3 | M29: 2 | N29: 12 | O29: 8 | P29: 4 | Q29: 0 | R29: 0 | S29: 0 | T29: 1 | U29: 0 | V29: 1 | W29: 11 | X29: 8 | Y29: 3
A30: 資料來源：直轄市、縣﹝市﹞政府。
A31: 總計 | B31: =B7-SUM(B8:B13)-#REF! -> #REF! | C31: =C7-SUM(C8:C13)-#REF! -> #REF! | D31: =D7-SUM(D8:D13)-#REF! -> #REF! | E31: =E7-SUM(E8:E13)-#REF! -> #REF! | F31: =F7-SUM(F8:F13)-#REF! -> #REF! | G31: =G7-SUM(G8:G13)-#REF! -> #REF! | H31: =H7-SUM(H8:H13)-#REF! -> #REF! | I31: =I7-SUM(I8:I13)-#REF! -> #REF! | ... Y31: =Y7-SUM(Y8:Y13)-#REF! -> #REF!
A32: 台灣省 | B32: =B13-SUM(B14:B27) -> -6326 | C32: =C13-SUM(C14:C27) -> -3854 | D32: =D13-SUM(D14:D27) -> -2472 | E32: =E13-SUM(E14:E27) -> -52 | F32: =F13-SUM(F14:F27) -> -42 | G32: =G13-SUM(G14:G27) -> -10 | H32: =H13-SUM(H14:H27) -> -920 | I32: =I13-SUM(I14:I27) -> -618 | ... Y32: =Y13-SUM(Y14:Y27) -> -7427
A33: 福建省 | B33: =#REF!-B28-B29 -> #REF! | C33: =#REF!-C28-C29 -> #REF! | D33: =#REF!-D28-D29 -> #REF! | E33: =#REF!-E28-E29 -> #REF! | F33: =#REF!-F28-F29 -> #REF! | G33: =#REF!-G28-G29 -> #REF! | H33: =#REF!-H28-H29 -> #REF! | I33: =#REF!-I28-I29 -> #REF! | ... Y33: =#REF!-Y28-Y29 -> #REF!
A34: 核年季 | B34: =B7-#REF! -> #REF! | C34: =C7-#REF! -> #REF! | D34: =D7-#REF! -> #REF! | E34: =E7-#REF! -> #REF! | H34: =H7-#REF! -> #REF! | K34: =K7-#REF! -> #REF! | N34: =N7-#REF! -> #REF! | O34: =O7-#REF! -> #REF! | P34: =P7-#REF! -> #REF! | Q34: =Q7-#REF! -> #REF! | T34: =T7-#REF! -> #REF! | W34: =W7-#REF! -> #REF!

Sheet 103
A1: 3.1-02 原住民低收入戶戶數及人數
A2: 103年底, End of 2014
A4: 地區別 | B4: 原住民戶數(戶長性別) | N4: 原住民人數
B5: 總計 | E5: 第1款(省、新北、臺中、臺南)、第0類(臺北)、第1類(高雄) | H5: 第2款(省、新北、臺中、臺南)、第1、2類(臺北)、第2類(高雄) | K5: 第3款(省、新北、臺中、臺南)、第3、4類(臺北、高雄) | N5: 總計 | Q5: 第1款(省、新北、臺中、臺南)、第0類(臺北)、第1類(高雄) | T5: 第2款(省、新北、臺中、臺南)、第1、2類(臺北)、第2類(高雄) | W5: 第3款(省、新北、臺中、臺南)、第3、4類(臺北、高雄)
B6: 計 | C6: 男 | D6: 女 | E6: 計 | F6: 男 | G6: 女 | H6: 計 | I6: 男 | J6: 女 | K6: 計 | L6: 男 | M6: 女 | N6: 計 | O6: 男 | P6: 女 | Q6: 計 | R6: 男 | S6: 女 | T6: 計 | U6: 男 | V6: 女 | W6: 計 | X6: 男 | Y6: 女
A7: 總計 | B7: 11045 | C7: 6138 | D7: 4907 | E7: 318 | F7: 252 | G7: 66 | H7: 1773 | I7: 1007 | J7: 766 | K7: 8954 | L7: 4879 | M7: 4075 | N7: 33046 | O7: 16736 | P7: 16310 | Q7: 321 | R7: 254 | S7: 67 | T7: 4874 | U7: 2501 | V7: 2373 | W7: 27851 | X7: 13981 | Y7: 13870
A8: 新北市 | B8: 977 | C8: 441 | D8: 536 | E8: 1 | F8: 0 | G8: 1 | H8: 64 | I8: 28 | J8: 36 | K8: 912 | L8: 413 | M8: 499 | N8: 3033 | O8: 1489 | P8: 1544 | Q8: 1 | R8: 0 | S8: 1 | T8: 197 | U8: 98 | V8: 99 | W8: 2835 | X8: 1391 | Y8: 1444
A9: 臺北市 | B9: 926 | C9: 482 | D9: 444 | E9: 226 | F9: 183 | G9: 43 | H9: 181 | I9: 88 | J9: 93 | K9: 519 | L9: 211 | M9: 308 | N9: 2081 | O9: 1003 | P9: 1078 | Q9: 227 | R9: 183 | S9: 44 | T9: 347 | U9: 171 | V9: 176 | W9: 1507 | X9: 649 | Y9: 858
A10: 臺中市 | B10: 646 | C10: 297 | D10: 349 | E10: 3 | F10: 3 | G10: 0 | H10: 138 | I10: 67 | J10: 71 | K10: 505 | L10: 227 | M10: 278 | N10: 2194 | O10: 1043 | P10: 1151 | Q10: 3 | R10: 3 | S10: 0 | T10: 490 | U10: 243 | V10: 247 | W10: 1701 | X10: 797 | Y10: 904
A11: 臺南市 | B11: 100 | C11: 39 | D11: 61 | E11: 1 | F11: 0 | G11: 1 | H11: 21 | I11: 9 | J11: 12 | K11: 78 | L11: 30 | M11: 48 | N11: 332 | O11: 152 | P11: 180 | Q11: 1 | R11: 0 | S11: 1 | T11: 61 | U11: 31 | V11: 30 | W11: 270 | X11: 121 | Y11: 149
A12: 高雄市 | B12: 607 | C12: 295 | D12: 312 | E12: 9 | F12: 6 | G12: 3 | H12: 186 | I12: 96 | J12: 90 | K12: 412 | L12: 193 | M12: 219 | N12: 2172 | O12: 1052 | P12: 1120 | Q12: 9 | R12: 6 | S12: 3 | T12: 619 | U12: 292 | V12: 327 | W12: 1544 | X12: 754 | Y12: 790
A13: 宜蘭縣 | B13: 409 | C13: 269 | D13: 140 | E13: 0 | F13: 0 | G13: 0 | H13: 27 | I13: 17 | J13: 10 | K13: 382 | L13: 252 | M13: 130 | N13: 1319 | O13: 668 | P13: 651 | Q13: 0 | R13: 0 | S13: 0 | T13: 102 | U13: 46 | V13: 56 | W13: 1217 | X13: 622 | Y13: 595
A14: 桃園縣 | B14: 680 | C14: 350 | D14: 330 | E14: 4 | F14: 4 | G14: 0 | H14: 74 | I14: 33 | J14: 41 | K14: 602 | L14: 313 | M14: 289 | N14: 2798 | O14: 1372 | P14: 1426 | Q14: 4 | R14: 4 | S14: 0 | T14: 292 | U14: 138 | V14: 154 | W14: 2502 | X14: 1230 | Y14: 1272
A15: 新竹縣 | B15: 481 | C15: 295 | D15: 186 | E15: 3 | F15: 3 | G15: 0 | H15: 63 | I15: 43 | J15: 20 | K15: 415 | L15: 249 | M15: 166 | N15: 1745 | O15: 885 | P15: 860 | Q15: 3 | R15: 3 | S15: 0 | T15: 173 | U15: 93 | V15: 80 | W15: 1569 | X15: 789 | Y15: 780
A16: 苗栗縣 | B16: 214 | C16: 129 | D16: 85 | E16: 0 | F16: 0 | G16: 0 | H16: 69 | I16: 40 | J16: 29 | K16: 145 | L16: 89 | M16: 56 | N16: 641 | O16: 327 | P16: 314 | Q16: 0 | R16: 0 | S16: 0 | T16: 194 | U16: 102 | V16: 92 | W16: 447 | X16: 225 | Y16: 222
A17: 彰化縣 | B17: 56 | C17: 25 | D17: 31 | E17: 0 | F17: 0 | G17: 0 | H17: 0 | I17: 0 | J17: 0 | K17: 56 | L17: 25 | M17: 31 | N17: 149 | O17: 65 | P17: 84 | Q17: 0 | R17: 0 | S17: 0 | T17: 0 | U17: 0 | V17: 0 | W17: 149 | X17: 65 | Y17: 84
A18: 南投縣 | B18: 451 | C18: 261 | D18: 190 | E18: 0 | F18: 0 | G18: 0 | H18: 12 | I18: 7 | J18: 5 | K18: 439 | L18: 254 | M18: 185 | N18: 1335 | O18: 674 | P18: 661 | Q18: 0 | R18: 0 | S18: 0 | T18: 24 | U18: 12 | V18: 12 | W18: 1311 | X18: 662 | Y18: 649
... A29: 連江縣 | B29: 2 | C29: 1 | D29: 1 | E29: 0 | F29: 0 | G29: 0 | H29: 1 | I29: 0 | J29: 1 | K29: 1 | L29: 1 | M29: 0 | N29: 4 | O29: 2 | P29: 2 | Q29: 0 | R29: 0 | S29: 0 | T29: 1 | U29: 0 | V29: 1 | W29: 3 | X29: 2 | Y29: 1
A30: 資料來源：直轄市、縣﹝市﹞政府。
A31: 總計 | B31: =B7-SUM(B8:B12)-#REF! -> #REF! | C31: =C7-SUM(C8:C12)-#REF! -> #REF! | D31: =D7-SUM(D8:D12)-#REF! -> #REF! | E31: =E7-SUM(E8:E12)-#REF! -> #REF! | F31: =F7-SUM(F8:F12)-#REF! -> #REF! | G31: =G7-SUM(G8:G12)-#REF! -> #REF! | H31: =H7-SUM(H8:H12)-#REF! -> #REF! | I31: =I7-SUM(I8:I12)-#REF! -> #REF! | ... Y31: =Y7-SUM(Y8:Y12)-#REF! -> #REF!
A32: 台灣省 | B32: =#REF!-SUM(B13:B27) -> #REF! | C32: =#REF!-SUM(C13:C27) -> #REF! | D32: =#REF!-SUM(D13:D27) -> #REF! | E32: =#REF!-SUM(E13:E27) -> #REF! | F32: =#REF!-SUM(F13:F27) -> #REF! | G32: =#REF!-SUM(G13:G27) -> #REF! | H32: =#REF!-SUM(H13:H27) -> #REF! | I32: =#REF!-SUM(I13:I27) -> #REF! | ... Y32: =#REF!-SUM(Y13:Y27) -> #REF!
A33: 福建省 | B33: =#REF!-B28-B29 -> #REF! | C33: =#REF!-C28-C29 -> #REF! | D33: =#REF!-D28-D29 -> #REF! | E33: =#REF!-E28-E29 -> #REF! | F33: =#REF!-F28-F29 -> #REF! | G33: =#REF!-G28-G29 -> #REF! | H33: =#REF!-H28-H29 -> #REF! | I33: =#REF!-I28-I29 -> #REF! | ... Y33: =#REF!-Y28-Y29 -> #REF!
A34: 核年季 | B34: =B7-#REF! -> #REF! | C34: =C7-#REF! -> #REF! | D34: =D7-#REF! -> #REF! | E34: =E7-#REF! -> #REF! | H34: =H7-#REF! -> #REF! | K34: =K7-#REF! -> #REF! | N34: =N7-#REF! -> #REF! | O34: =O7-#REF! -> #REF! | P34: =P7-#REF! -> #REF! | Q34: =Q7-#REF! -> #REF! | T34: =T7-#REF! -> #REF! | W34: =W7-#REF! -> #REF!

Sheet 102
A1: 3.1-02 原住民低收入戶戶數及人數
A2: 102年底, End of 2013
A4: 地區別 | B4: 原住民戶數(戶長性別) | N4: 原住民人數
B5: 總計 | E5: 第1款(省、新北、臺中、臺南)、第0類(臺北)、第1類(高雄) | H5: 第2款(省、新北、臺中、臺南)、第1、2類(臺北)、第2類(高雄) | K5: 第3款(省、新北、臺中、臺南)、第3、4類(臺北、高雄) | N5: 總計 | Q5: 第1款(省、新北、臺中、臺南)、第0類(臺北)、第1類(高雄) | T5: 第2款(省、新北、臺中、臺南)、第1、2類(臺北)、第2類(高雄) | W5: 第3款(省、新北、臺中、臺南)、第3、4類(臺北、高雄)
B6: 計 | C6: 男 | D6: 女 | E6: 計 | F6: 男 | G6: 女 | H6: 計 | I6: 男 | J6: 女 | K6: 計 | L6: 男 | M6: 女 | N6: 計 | O6: 男 | P6: 女 | Q6: 計 | R6: 男 | S6: 女 | T6: 計 | U6: 男 | V6: 女 | W6: 計 | X6: 男 | Y6: 女
A7: 總計 | B7: 10830 | C7: 6094 | D7: 4736 | E7: 411 | F7: 327 | G7: 84 | H7: 1861 | I7: 1023 | J7: 838 | K7: 8558 | L7: 4744 | M7: 3814 | N7: 32476 | O7: 16338 | P7: 16138 | Q7: 422 | R7: 334 | S7: 88 | T7: 5300 | U7: 2676 | V7: 2624 | W7: 26754 | X7: 13328 | Y7: 13426
A8: 新北市 | B8: 1023 | C8: 576 | D8: 447 | E8: 1 | F8: 0 | G8: 1 | H8: 76 | I8: 40 | J8: 36 | K8: 946 | L8: 536 | M8: 410 | N8: 3165 | O8: 1532 | P8: 1633 | Q8: 1 | R8: 0 | S8: 1 | T8: 252 | U8: 130 | V8: 122 | W8: 2912 | X8: 1402 | Y8: 1510
A9: 臺北市 | B9: 965 | C9: 503 | D9: 462 | E9: 261 | F9: 215 | G9: 46 | H9: 194 | I9: 96 | J9: 98 | K9: 510 | L9: 192 | M9: 318 | N9: 2199 | O9: 1077 | P9: 1122 | Q9: 262 | R9: 215 | S9: 47 | T9: 382 | U9: 185 | V9: 197 | W9: 1555 | X9: 677 | Y9: 878
A10: 臺中市 | B10: 581 | C10: 256 | D10: 325 | E10: 2 | F10: 2 | G10: 0 | H10: 118 | I10: 47 | J10: 71 | K10: 461 | L10: 207 | M10: 254 | N10: 1995 | O10: 945 | P10: 1050 | Q10: 2 | R10: 2 | S10: 0 | T10: 452 | U10: 221 | V10: 231 | W10: 1541 | X10: 722 | Y10: 819
A11: 臺南市 | B11: 95 | C11: 38 | D11: 57 | E11: 0 | F11: 0 | G11: 0 | H11: 20 | I11: 9 | J11: 11 | K11: 75 | L11: 29 | M11: 46 | N11: 321 | O11: 152 | P11: 169 | Q11: 0 | R11: 0 | S11: 0 | T11: 63 | U11: 25 | V11: 38 | W11: 258 | X11: 127 | Y11: 131
A12: 高雄市 | B12: 667 | C12: 317 | D12: 350 | E12: 12 | F12: 7 | G12: 5 | H12: 204 | I12: 96 | J12: 108 | K12: 451 | L12: 214 | M12: 237 | N12: 2048 | O12: 978 | P12: 1070 | Q12: 12 | R12: 7 | S12: 5 | T12: 630 | U12: 294 | V12: 336 | W12: 1406 | X12: 677 | Y12: 729
A13: 宜蘭縣 | B13: 422 | C13: 281 | D13: 141 | E13: 0 | F13: 0 | G13: 0 | H13: 36 | I13: 24 | J13: 12 | K13: 386 | L13: 257 | M13: 129 | N13: 1381 | O13: 710 | P13: 671 | Q13: 0 | R13: 0 | S13: 0 | T13: 145 | U13: 69 | V13: 76 | W13: 1236 | X13: 641 | Y13: 595
A14: 桃園縣 | B14: 666 | C14: 346 | D14: 320 | E14: 6 | F14: 5 | G14: 1 | H14: 72 | I14: 30 | J14: 42 | K14: 588 | L14: 311 | M14: 277 | N14: 2763 | O14: 1324 | P14: 1439 | Q14: 8 | R14: 6 | S14: 2 | T14: 307 | U14: 141 | V14: 166 | W14: 2448 | X14: 1177 | Y14: 1271
A15: 新竹縣 | B15: 511 | C15: 316 | D15: 195 | E15: 5 | F15: 5 | G15: 0 | H15: 82 | I15: 48 | J15: 34 | K15: 424 | L15: 263 | M15: 161 | N15: 1892 | O15: 954 | P15: 938 | Q15: 5 | R15: 5 | S15: 0 | T15: 244 | U15: 133 | V15: 111 | W15: 1643 | X15: 816 | Y15: 827
A16: 苗栗縣 | B16: 194 | C16: 111 | D16: 83 | E16: 0 | F16: 0 | G16: 0 | H16: 73 | I16: 40 | J16: 33 | K16: 121 | L16: 71 | M16: 50 | N16: 617 | O16: 304 | P16: 313 | Q16: 0 | R16: 0 | S16: 0 | T16: 200 | U16: 90 | V16: 110 | W16: 417 | X16: 214 | Y16: 203
A17: 彰化縣 | B17: 51 | C17: 21 | D17: 30 | E17: 0 | F17: 0 | G17: 0 | H17: 0 | I17: 0 | J17: 0 | K17: 51 | L17: 21 | M17: 30 | N17: 138 | O17: 58 | P17: 80 | Q17: 0 | R17: 0 | S17: 0 | T17: 0 | U17: 0 | V17: 0 | W17: 138 | X17: 58 | Y17: 80
A18: 南投縣 | B18: 450 | C18: 262 | D18: 188 | E18: 0 | F18: 0 | G18: 0 | H18: 14 | I18: 8 | J18: 6 | K18: 436 | L18: 254 | M18: 182 | N18: 1414 | O18: 705 | P18: 709 | Q18: 0 | R18: 0 | S18: 0 | T18: 27 | U18: 12 | V18: 15 | W18: 1387 | X18: 693 | Y18: 694
... A29: 連江縣 | B29: 2 | C29: 1 | D29: 1 | E29: 0 | F29: 0 | G29: 0 | H29: 1 | I29: 0 | J29: 1 | K29: 1 | L29: 1 | M29: 0 | N29: 6 | O29: 3 | P29: 3 | Q29: 0 | R29: 0 | S29: 0 | T29: 1 | U29: 0 | V29: 1 | W29: 5 | X29: 3 | Y29: 2
A30: 資料來源：直轄市、縣﹝市﹞政府。
A31: 總計 | B31: =B7-SUM(B8:B12)-#REF! -> #REF! | C31: =C7-SUM(C8:C12)-#REF! -> #REF! | D31: =D7-SUM(D8:D12)-#REF! -> #REF! | E31: =E7-SUM(E8:E12)-#REF! -> #REF! | F31: =F7-SUM(F8:F12)-#REF! -> #REF! | G31: =G7-SUM(G8:G12)-#REF! -> #REF! | H31: =H7-SUM(H8:H12)-#REF! -> #REF! | I31: =I7-SUM(I8:I12)-#REF! -> #REF! | ... Y31: =Y7-SUM(Y8:Y12)-#REF! -> #REF!
A32: 台灣省 | B32: =#REF!-SUM(B13:B27) -> #REF! | C32: =#REF!-SUM(C13:C27) -> #REF! | D32: =#REF!-SUM(D13:D27) -> #REF! | E32: =#REF!-SUM(E13:E27) -> #REF! | F32: =#REF!-SUM(F13:F27) -> #REF! | G32: =#REF!-SUM(G13:G27) -> #REF! | H32: =#REF!-SUM(H13:H27) -> #REF! | I32: =#REF!-SUM(I13:I27) -> #REF! | ... Y32: =#REF!-SUM(Y13:Y27) -> #REF!
A33: 福建省 | B33: =#REF!-B28-B29 -> #REF! | C33: =#REF!-C28-C29 -> #REF! | D33: =#REF!-D28-D29 -> #REF! | E33: =#REF!-E28-E29 -> #REF! | F33: =#REF!-F28-F29 -> #REF! | G33: =#REF!-G28-G29 -> #REF! | H33: =#REF!-H28-H29 -> #REF! | I33: =#REF!-I28-I29 -> #REF! | ... Y33: =#REF!-Y28-Y29 -> #REF!
A34: 核年季 | B34: =B7-#REF! -> #REF! | C34: =C7-#REF! -> #REF! | D34: =D7-#REF! -> #REF! | E34: =E7-#REF! -> #REF! | H34: =H7-#REF! -> #REF! | K34: =K7-#REF! -> #REF! | N34: =N7-#REF! -> #REF! | O34: =O7-#REF! -> #REF! | P34: =P7-#REF! -> #REF! | Q34: =Q7-#REF! -> #REF! | T34: =T7-#REF! -> #REF! | W34: =W7-#REF! -> #REF!

Sheet 101
A1: 3.1-02 原住民低收入戶戶數及人數
A2: 101年底, End of 2012
A4: 地區別 | B4: 原住民戶數(戶長性別) | N4: 原住民人數
B5: 總計 | E5: 第1款(省、新北、臺中、臺南)、第0類(臺北)、第1類(高雄) | H5: 第2款(省、新北、臺中、臺南)、第1、2類(臺北)、第2類(高雄) | K5: 第3款(省、新北、臺中、臺南)、第3、4類(臺北、高雄) | N5: 總計 | Q5: 第1款(省、新北、臺中、臺南)、第0類(臺北)、第1類(高雄) | T5: 第2款(省、新北、臺中、臺南)、第1、2類(臺北)、第2類(高雄) | W5: 第3款(省、新北、臺中、臺南)、第3、4類(臺北、高雄)
B6: 計 | C6: 男 | D6: 女 | E6: 計 | F6: 男 | G6: 女 | H6: 計 | I6: 男 | J6: 女 | K6: 計 | L6: 男 | M6: 女 | N6: 計 | O6: 男 | P6: 女 | Q6: 計 | R6: 男 | S6: 女 | T6: 計 | U6: 男 | V6: 女 | W6: 計 | X6: 男 | Y6: 女
A7: 總計 | B7: 10068 | C7: 5324 | D7: 4744 | E7: 99 | F7: 73 | G7: 26 | H7: 1643 | I7: 868 | J7: 775 | K7: 8326 | L7: 4383 | M7: 3943 | N7: 30086 | O7: 14982 | P7: 15104 | Q7: 101 | R7: 75 | S7: 26 | T7: 4916 | U7: 2443 | V7: 2473 | W7: 25069 | X7: 12464 | Y7: 12605
A8: 新北市 | B8: 1109 | C8: 340 | D8: 769 | E8: 1 | F8: 0 | G8: 1 | H8: 92 | I8: 42 | J8: 50 | K8: 1016 | L8: 298 | M8: 718 | N8: 3210 | O8: 1561 | P8: 1649 | Q8: 1 | R8: 0 | S8: 1 | T8: 300 | U8: 157 | V8: 143 | W8: 2909 | X8: 1404 | Y8: 1505
A9: 臺北市 | B9: 814 | C9: 366 | D9: 448 | E9: 6 | F9: 5 | G9: 1 | H9: 121 | I9: 54 | J9: 67 | K9: 687 | L9: 307 | M9: 380 | N9: 1446 | O9: 611 | P9: 835 | Q9: 6 | R9: 5 | S9: 1 | T9: 237 | U9: 98 | V9: 139 | W9: 1203 | X9: 508 | Y9: 695
A10: 臺中市 | B10: 438 | C10: 190 | D10: 248 | E10: 1 | F10: 1 | G10: 0 | H10: 72 | I10: 26 | J10: 46 | K10: 365 | L10: 163 | M10: 202 | N10: 1548 | O10: 714 | P10: 834 | Q10: 1 | R10: 1 | S10: 0 | T10: 254 | U10: 127 | V10: 127 | W10: 1293 | X10: 586 | Y10: 707
A11: 臺南市 | B11: 100 | C11: 35 | D11: 65 | E11: 0 | F11: 0 | G11: 0 | H11: 22 | I11: 8 | J11: 14 | K11: 78 | L11: 27 | M11: 51 | N11: 326 | O11: 144 | P11: 182 | Q11: 0 | R11: 0 | S11: 0 | T11: 66 | U11: 29 | V11: 37 | W11: 260 | X11: 115 | Y11: 145
A12: 高雄市 | B12: 597 | C12: 273 | D12: 324 | E12: 6 | F12: 6 | G12: 0 | H12: 183 | I12: 77 | J12: 106 | K12: 408 | L12: 190 | M12: 218 | N12: 1900 | O12: 886 | P12: 1014 | Q12: 6 | R12: 6 | S12: 0 | T12: 593 | U12: 272 | V12: 321 | W12: 1301 | X12: 608 | Y12: 693
A13: 宜蘭縣 | B13: 426 | C13: 276 | D13: 150 | E13: 0 | F13: 0 | G13: 0 | H13: 42 | I13: 27 | J13: 15 | K13: 384 | L13: 249 | M13: 135 | N13: 1367 | O13: 687 | P13: 680 | Q13: 0 | R13: 0 | S13: 0 | T13: 180 | U13: 84 | V13: 96 | W13: 1187 | X13: 603 | Y13: 584
A14: 桃園縣 | B14: 663 | C14: 338 | D14: 325 | E14: 4 | F14: 3 | G14: 1 | H14: 76 | I14: 40 | J14: 36 | K14: 583 | L14: 295 | M14: 288 | N14: 2750 | O14: 1317 | P14: 1433 | Q14: 4 | R14: 3 | S14: 1 | T14: 310 | U14: 145 | V14: 165 | W14: 2436 | X14: 1169 | Y14: 1267
A15: 新竹縣 | B15: 494 | C15: 300 | D15: 194 | E15: 4 | F15: 4 | G15: 0 | H15: 85 | I15: 48 | J15: 37 | K15: 405 | L15: 248 | M15: 157 | N15: 1799 | O15: 890 | P15: 909 | Q15: 4 | R15: 4 | S15: 0 | T15: 273 | U15: 132 | V15: 141 | W15: 1522 | X15: 754 | Y15: 768
A16: 苗栗縣 | B16: 178 | C16: 110 | D16: 68 | E16: 0 | F16: 0 | G16: 0 | H16: 79 | I16: 43 | J16: 36 | K16: 99 | L16: 67 | M16: 32 | N16: 580 | O16: 294 | P16: 286 | Q16: 0 | R16: 0 | S16: 0 | T16: 233 | U16: 114 | V16: 119 | W16: 347 | X16: 180 | Y16: 167
A17: 彰化縣 | B17: 52 | C17: 21 | D17: 31 | E17: 0 | F17: 0 | G17: 0 | H17: 0 | I17: 0 | J17: 0 | K17: 52 | L17: 21 | M17: 31 | N17: 141 | O17: 62 | P17: 79 | Q17: 0 | R17: 0 | S17: 0 | T17: 0 | U17: 0 | V17: 0 | W17: 141 | X17: 62 | Y17: 79
A18: 南投縣 | B18: 455 | C18: 263 | D18: 192 | E18: 1 | F18: 1 | G18: 0 | H18: 11 | I18: 7 | J18: 4 | K18: 443 | L18: 255 | M18: 188 | N18: 1460 | O18: 709 | P18: 751 | Q18: 1 | R18: 1 | S18: 0 | T18: 18 | U18: 9 | V18: 9 | W18: 1441 | X18: 699 | Y18: 742
... A29: 連江縣 | B29: 3 | C29: 0 | D29: 3 | E29: 0 | F29: 0 | G29: 0 | H29: 1 | I29: 0 | J29: 1 | K29: 2 | L29: 0 | M29: 2 | N29: 3 | O29: 0 | P29: 3 | Q29: 0 | R29: 0 | S29: 0 | T29: 1 | U29: 0 | V29: 1 | W29: 2 | X29: 0 | Y29: 2
A30: 資料來源：直轄市、縣﹝市﹞政府。
A31: 總計 | B31: =B7-SUM(B8:B12)-#REF! -> #REF! | C31: =C7-SUM(C8:C12)-#REF! -> #REF! | D31: =D7-SUM(D8:D12)-#REF! -> #REF! | E31: =E7-SUM(E8:E12)-#REF! -> #REF! | F31: =F7-SUM(F8:F12)-#REF! -> #REF! | G31: =G7-SUM(G8:G12)-#REF! -> #REF! | H31: =H7-SUM(H8:H12)-#REF! -> #REF! | I31: =I7-SUM(I8:I12)-#REF! -> #REF! | ... Y31: =Y7-SUM(Y8:Y12)-#REF! -> #REF!
A32: 台灣省 | B32: =#REF!-SUM(B13:B27) -> #REF! | C32: =#REF!-SUM(C13:C27) -> #REF! | D32: =#REF!-SUM(D13:D27) -> #REF! | E32: =#REF!-SUM(E13:E27) -> #REF! | F32: =#REF!-SUM(F13:F27) -> #REF! | G32: =#REF!-SUM(G13:G27) -> #REF! | H32: =#REF!-SUM(H13:H27) -> #REF! | I32: =#REF!-SUM(I13:I27) -> #REF! | ... Y32: =#REF!-SUM(Y13:Y27) -> #REF!
A33: 福建省 | B33: =#REF!-B28-B29 -> #REF! | C33: =#REF!-C28-C29 -> #REF! | D33: =#REF!-D28-D29 -> #REF! | E33: =#REF!-E28-E29 -> #REF! | F33: =#REF!-F28-F29 -> #REF! | G33: =#REF!-G28-G29 -> #REF! | H33: =#REF!-H28-H29 -> #REF! | I33: =#REF!-I28-I29 -> #REF! | ... Y33: =#REF!-Y28-Y29 -> #REF!
A34: 核年季 | B34: =B7-#REF! -> #REF! | C34: =C7-#REF! -> #REF! | D34: =D7-#REF! -> #REF! | E34: =E7-#REF! -> #REF! | H34: =H7-#REF! -> #REF! | K34: =K7-#REF! -> #REF! | N34: =N7-#REF! -> #REF! | O34: =O7-#REF! -> #REF! | P34: =P7-#REF! -> #REF! | Q34: =Q7-#REF! -> #REF! | T34: =T7-#REF! -> #REF! | W34: =W7-#REF! -> #REF!
