Workbook
Name 民國100年第2季: '100'!#REF!
Name 民國100年第2季: '101'!#REF!
Name 民國100年第2季: '102'!#REF!
Name 民國100年第2季: !#REF!
Name 民國100年第2季: !#REF!
Name 民國100年第2季: !#REF!
Name 民國100年第2季: !#REF!
Name 民國100年第2季: !#REF!
Name 民國100年第2季: !#REF!
Name 民國100年第2季: !#REF!
Name 民國100年第2季: !#REF!
Name 民國100年第2季: !#REF!
Name 民國100年第2季: !#REF!
Name 民國100年第2季: '92'!#REF!
Name 民國100年第2季: '93'!#REF!
Name 民國100年第2季: '94'!#REF!
Name 民國100年第2季: '95'!#REF!
Name 民國100年第2季: '96'!#REF!
Name 民國100年第2季: '97'!#REF!
Name 民國100年第2季: '98'!#REF!
Name 民國100年第2季: '99'!#REF!
Name 民國100年第2季: 歷年!#REF!
Name 民國100年第2季: !#REF!

Sheet 歷年
A1: 3.1-01 低收入戶戶數及人數
A2: 92-113年底
A4: 地區別 | B4: 總計 | H4: 第1款(省、新北、臺中、臺南)、第0類(臺北)、第1類(高雄) | N4: 第2款(省、新北、臺中、臺南)、第1、2類(臺北)、第2類(高雄) | T4: 第3款(省、新北、臺中、臺南)、第3、4類(臺北、高雄) | Z4: 低收入戶戶數占總戶數比率(%) | AA4: 低收入戶人數占總人數比率(%)
B5: 戶數(戶長性別) | E5: 人數 | H5: 戶數 | K5: 人數 | N5: 戶數 | Q5: 人數 | T5: 戶數 | W5: 人數
B6: 計 | C6: 男 | D6: 女 | E6: 計 | F6: 男 | G6: 女 | H6: 計 | I6: 男 | J6: 女 | K6: 計 | L6: 男 | M6: 女 | N6: 計 | O6: 男 | P6: 女 | Q6: 計 | R6: 男 | S6: 女 | T6: 計 | U6: 男 | V6: 女 | W6: 計 | X6: 男 | Y6: 女
A7: 92年,2003 | B7: ='92'!B7 -> 76406 | C7: ='92'!C7 -> 40247 | D7: ='92'!D7 -> 36159 | E7: ='92'!E7 -> 187875 | F7: ='92'!F7 -> 92793 | G7: ='92'!G7 -> 95082 | H7: ='92'!H7 -> 3702 | I7: ='92'!I7 -> 2388 | ... AA7: ='92'!AA7 -> 0.83
A8: 93年,2004 | B8: ='93'!B7 -> 82783 | C8: ='93'!C7 -> 44606 | D8: ='93'!D7 -> 38177 | E8: ='93'!E7 -> 204216 | F8: ='93'!F7 -> 101366 | G8: ='93'!G7 -> 102850 | H8: ='93'!H7 -> 3665 | I8: ='93'!I7 -> 2540 | ... AA8: ='93'!AA7 -> 0.9
A9: 94年,2005 | B9: ='94'!B7 -> 84823 | C9: ='94'!C7 -> 45634 | D9: ='94'!D7 -> 39189 | E9: ='94'!E7 -> 211292 | F9: ='94'!F7 -> 104745 | G9: ='94'!G7 -> 106547 | H9: ='94'!H7 -> 4049 | I9: ='94'!I7 -> 2872 | ... AA9: ='94'!AA7 -> 0.93
A10: 95年,2006 | B10: ='95'!B7 -> 89900 | C10: ='95'!C7 -> 49755 | D10: ='95'!D7 -> 40145 | E10: ='95'!E7 -> 218166 | F10: ='95'!F7 -> 108097 | G10: ='95'!G7 -> 110069 | H10: ='95'!H7 -> 4214 | I10: ='95'!I7 -> 3008 | ... AA10: ='95'!AA7 -> 0.95
A11: 96年,2007 | B11: ='96'!B7 -> 90682 | C11: ='96'!C7 -> 50593 | D11: ='96'!D7 -> 40089 | E11: ='96'!E7 -> 220990 | F11: ='96'!F7 -> 110639 | G11: ='96'!G7 -> 110351 | H11: ='96'!H7 -> 4207 | I11: ='96'!I7 -> 3062 | ... AA11: ='96'!AA7 -> 0.96
A12: 97年,2008 | B12: ='97'!B7 -> 93032 | C12: ='97'!C7 -> 53021 | D12: ='97'!D7 -> 40011 | E12: ='97'!E7 -> 223697 | F12: ='97'!F7 -> 113281 | G12: ='97'!G7 -> 110416 | H12: ='97'!H7 -> 4308 | I12: ='97'!I7 -> 3150 | ... AA12: ='97'!AA7 -> 0.97
A13: 98年,2009 | B13: ='98'!B7 -> 105265 | C13: ='98'!C7 -> 60982 | D13: ='98'!D7 -> 44283 | E13: ='98'!E7 -> 256342 | F13: ='98'!F7 -> 130515 | G13: ='98'!G7 -> 125827 | H13: ='98'!H7 -> 4253 | I13: ='98'!I7 -> 3191 | ... AA13: ='98'!AA7 -> 1.11
A14: 99年,2010 | B14: ='99'!B7 -> 112200 | C14: ='99'!C7 -> 65575 | D14: ='99'!D7 -> 46625 | E14: ='99'!E7 -> 273361 | F14: ='99'!F7 -> 140672 | G14: ='99'!G7 -> 132689 | H14: ='99'!H7 -> 4085 | I14: ='99'!I7 -> 3091 | ... AA14: ='99'!AA7 -> 1.18
A15: 100年,2011 | B15: ='100'!B7 -> 128237 | C15: ='100'!C7 -> 74638 | D15: ='100'!D7 -> 53599 | E15: ='100'!E7 -> 314282 | F15: ='100'!F7 -> 160644 | G15: ='100'!G7 -> 153638 | H15: ='100'!H7 -> 4253 | I15: ='100'!I7 -> 3209 | ... AA15: ='100'!AA7 -> 1.35
A16: 101年,2012 | B16: ='101'!B7 -> 145613 | C16: ='101'!C7 -> 86274 | D16: ='101'!D7 -> 59339 | E16: ='101'!E7 -> 357446 | F16: ='101'!F7 -> 182335 | G16: ='101'!G7 -> 175111 | H16: ='101'!H7 -> 4364 | I16: ='101'!I7 -> 3282 | ... AA16: ='101'!AA7 -> 1.53
A17: 102年,2013 | B17: ='102'!B7 -> 148590 | C17: ='102'!C7 -> 88492 | D17: ='102'!D7 -> 60098 | E17: ='102'!E7 -> 361765 | F17: ='102'!F7 -> 186087 | G17: ='102'!G7 -> 175678 | H17: ='102'!H7 -> 4520 | I17: ='102'!I7 -> 3407 | ... AA17: ='102'!AA7 -> 1.5477559
A18: 103年,2014 | B18: 149958 | C18: 90573 | D18: 59385 | E18: 357722 | F18: 185438 | G18: 172284 | H18: 4243 | I18: 3178 | J18: 1065 | K18: 4389 | L18: 3252 | M18: 1137 | N18: 33053 | O18: 21175 | P18: 11878 | Q18: 61779 | R18: 34572 | S18: 27207 | T18: 112662 | U18: 66220 | V18: 46442 | W18: 291554 | X18: 147614 | Y18: 143940 | Z18: ='103'!Z7 -> 1.7888988 | AA18: ='103'!AA7 -> 1.53
A19: 104年,2015 | B19: 146379 | C19: 89167 | D19: 57212 | E19: 342490 | F19: 178253 | G19: 164237 | H19: 3902 | I19: 2910 | J19: 992 | K19: 4032 | L19: 2979 | M19: 1053 | N19: 32662 | O19: 21380 | P19: 11282 | Q19: 57917 | R19: 33107 | S19: 24810 | T19: 109815 | U19: 64877 | V19: 44938 | W19: 280541 | X19: 142167 | Y19: 138374 | Z19: 1.73 | AA19: 1.46
A20: 105年,2016 | B20: 145176 | C20: 88869 | D20: 56307 | E20: 331776 | F20: 173763 | G20: 158013 | H20: 3533 | I20: 2635 | J20: 898 | K20: 3653 | L20: 2701 | M20: 952 | N20: 33216 | O20: 21978 | P20: 11238 | Q20: 56516 | R20: 32768 | S20: 23748 | T20: 108427 | U20: 64256 | V20: 44171 | W20: 271607 | X20: 138294 | Y20: 133313 | Z20: 1.7 | AA20: 1.41
A21: 106年,2017 | B21: 142814 | C21: 87828 | D21: 54986 | E21: 317257 | F21: 167287 | G21: 149970 | H21: 3328 | I21: 2500 | J21: 828 | K21: 3448 | L21: 2561 | M21: 887 | N21: 32748 | O21: 21889 | P21: 10859 | Q21: 53142 | R21: 31358 | S21: 21784 | T21: 106738 | U21: 63439 | V21: 43299 | W21: 260667 | X21: 133368 | Y21: 127299 | Z21: 1.65 | AA21: 1.35
A22: 107年,2018 | B22: 143941 | C22: 88747 | D22: 55194 | E22: 311526 | F22: 165319 | G22: 146207 | H22: 3073 | I22: 2288 | J22: 785 | K22: 3194 | L22: 2352 | M22: 842 | N22: 33394 | O22: 22386 | P22: 11008 | Q22: 52141 | R22: 31086 | S22: 21055 | T22: 107474 | U22: 64073 | V22: 43401 | W22: 256191 | X22: 131881 | Y22: 124310 | Z22: 1.65 | AA22: 1.32
A23: 108年,2019 | B23: 144863 | C23: 89549 | D23: 55314 | E23: 304470 | F23: 162658 | G23: 141812 | H23: 2926 | I23: 2157 | J23: 769 | K23: 3028 | L23: 2213 | M23: 815 | N23: 34050 | O23: 22893 | P23: 11157 | Q23: 51337 | R23: 30964 | S23: 20373 | T23: 107887 | U23: 64499 | V23: 43388 | W23: 250105 | X23: 129481 | Y23: 120624 | Z23: 1.64 | AA23: 1.29
A24: 109年,2020 | B24: 146342 | C24: 90618 | D24: 55724 | E24: 300241 | F24: 161390 | G24: 138851 | H24: 2733 | I24: 2008 | J24: 725 | K24: 2813 | L24: 2058 | M24: 755 | N24: 34563 | O24: 23299 | P24: 11264 | Q24: 50711 | R24: 30845 | S24: 19866 | T24: 109046 | U24: 65311 | V24: 43735 | W24: 246717 | X24: 128487 | Y24: 118230 | Z24: 1.64 | AA24: 1.27
A25: 110年,2021 | B25: 146995 | C25: 90786 | D25: 56209 | E25: 295901 | F25: 159633 | G25: 136268 | H25: 2646 | I25: 1927 | J25: 719 | K25: 2725 | L25: 1976 | M25: 749 | N25: 34843 | O25: 23544 | P25: 11299 | Q25: 50284 | R25: 30803 | S25: 19481 | T25: 109506 | U25: 65315 | V25: 44191 | W25: 242892 | X25: 126854 | Y25: 116038 | Z25: 1.6320845 | AA25: 1.2658696
A26: 111年,2022 | B26: 146029 | C26: 89837 | D26: 56192 | E26: 288703 | F26: 155932 | G26: 132771 | H26: 2452 | I26: 1753 | J26: 699 | K26: 2533 | L26: 1800 | M26: 733 | N26: 35047 | O26: 23515 | P26: 11532 | Q26: 49686 | R26: 30401 | S26: 19285 | T26: 108530 | U26: 64569 | V26: 43961 | W26: 236484 | X26: 123731 | Y26: 112753 | Z26: 1.6065769 | AA26: 1.2409519
A27: 112年,2023 | B27: 144668 | C27: 89017 | D27: 55651 | E27: 277364 | F27: 150565 | G27: 126799 | H27: 2314 | I27: 1639 | J27: 675 | K27: 2386 | L27: 1682 | M27: 704 | N27: 35375 | O27: 23695 | P27: 11680 | Q27: 48368 | R27: 29880 | S27: 18488 | T27: 106979 | U27: 63683 | V27: 43296 | W27: 226610 | X27: 119003 | Y27: 107607 | Z27: 1.5655316 | AA27: 1.1842817
A28: 113年,2024 | B28: 141947 | C28: 87255 | D28: 54692 | E28: 263294 | F28: 143816 | G28: 119478 | H28: 2354 | I28: 1685 | J28: 669 | K28: 2416 | L28: 1716 | M28: 700 | N28: 36313 | O28: 24187 | P28: 12126 | Q28: 48617 | R28: 30076 | S28: 18541 | T28: 103280 | U28: 61383 | V28: 41897 | W28: 212261 | X28: 112024 | Y28: 100237 | Z28: 1.4961507 | AA28: 1.1251775
A30: 資料來源：直轄市、縣﹝市﹞政府。

Sheet 113
A1: 3.1-01 低收入戶戶數及人數
A2: 113年底, 2024
A4: 地區別 | B4: 總計 | H4: 第1款(省、新北、臺中、臺南)、第0類(臺北)、第1類(高雄) | N4: 第2款(省、新北、臺中、臺南)、第1、2類(臺北)、第2類(高雄) | T4: 第3款(省、新北、臺中、臺南)、第3、4類(臺北、高雄) | Z4: 低收入戶戶數占總戶數比率(%) | AA4: 低收入戶人數占總人數比率(%)
B5: 戶數(戶長性別) | E5: 人數 | H5: 戶數 | K5: 人數 | N5: 戶數 | Q5: 人數 | T5: 戶數 | W5: 人數
B6: 計 | C6: 男 | D6: 女 | E6: 計 | F6: 男 | G6: 女 | H6: 計 | I6: 男 | J6: 女 | K6: 計 | L6: 男 | M6: 女 | N6: 計 | O6: 男 | P6: 女 | Q6: 計 | R6: 男 | S6: 女 | T6: 計 | U6: 男 | V6: 女 | W6: 計 | X6: 男 | Y6: 女
A7: 總計 | B7: 141947 | C7: 87255 | D7: 54692 | E7: 263294 | F7: 143816 | G7: 119478 | H7: 2354 | I7: 1685 | J7: 669 | K7: 2416 | L7: 1716 | M7: 700 | N7: 36313 | O7: 24187 | P7: 12126 | Q7: 48617 | R7: 30076 | S7: 18541 | T7: 103280 | U7: 61383 | V7: 41897 | W7: 212261 | X7: 112024 | Y7: 100237 | Z7: 1.4961507 | AA7: 1.1251775 | AC7: 8286260 | AD7: 23373517
A8: 新北市 | B8: 16952 | C8: 10352 | D8: 6600 | E8: 30456 | F8: 16477 | G8: 13979 | H8: 74 | I8: 60 | J8: 14 | K8: 81 | L8: 63 | M8: 18 | N8: 1558 | O8: 1027 | P8: 531 | Q8: 2248 | R8: 1361 | S8: 887 | T8: 15320 | U8: 9265 | V8: 6055 | W8: 28127 | X8: 15053 | Y8: 13074 | Z8: 0.98683502 | AA8: 0.75255726 | AC8: 1477857 | AD8: 3954929
A9: 臺北市 | B9: 21202 | C9: 11559 | D9: 9643 | E9: 40678 | F9: 20639 | G9: 20039 | H9: 1269 | I9: 880 | J9: 389 | K9: 1300 | L9: 893 | M9: 407 | N9: 6921 | O9: 4268 | P9: 2653 | Q9: 8584 | R9: 5048 | S9: 3536 | T9: 13012 | U9: 6411 | V9: 6601 | W9: 30794 | X9: 14698 | Y9: 16096 | Z9: 1.9787343 | AA9: 1.6330847 | AC9: 1026738 | AD9: 2686516
A10: 桃園市 | B10: 12338 | C10: 7241 | D10: 5097 | E10: 27220 | F10: 14151 | G10: 13069 | H10: 70 | I10: 54 | J10: 16 | K10: 71 | L10: 54 | M10: 17 | N10: 1522 | O10: 1029 | P10: 493 | Q10: 2394 | R10: 1472 | S10: 922 | T10: 10746 | U10: 6158 | V10: 4588 | W10: 24755 | X10: 12625 | Y10: 12130 | Z10: 1.3151864 | AA10: 1.1639204 | AC10: 897191 | AD10: 2701661
A11: 臺中市 | B11: 19916 | C11: 11577 | D11: 8339 | E11: 40396 | F11: 21248 | G11: 19148 | H11: 519 | I11: 385 | J11: 134 | K11: 532 | L11: 394 | M11: 138 | N11: 7652 | O11: 4912 | P11: 2740 | Q11: 11271 | R11: 6649 | S11: 4622 | T11: 11745 | U11: 6280 | V11: 5465 | W11: 28593 | X11: 14205 | Y11: 14388 | Z11: 1.7973999 | AA11: 1.4121508 | AC11: 663131 | AD11: 1883208
A12: 臺南市 | B12: 8208 | C12: 5547 | D12: 2661 | E12: 13343 | F12: 7976 | G12: 5367 | H12: 145 | I12: 96 | J12: 49 | K12: 147 | L12: 97 | M12: 50 | N12: 2629 | O12: 1870 | P12: 759 | Q12: 3083 | R12: 2087 | S12: 996 | T12: 5434 | U12: 3581 | V12: 1853 | W12: 10113 | X12: 5792 | Y12: 4321 | Z12: 1.1000734 | AA12: 0.71788625 | AC12: 1056421 | AD12: 2779877
A13: 高雄市 | B13: 14477 | C13: 9048 | D13: 5429 | E13: 26239 | F13: 14391 | G13: 11848 | H13: 58 | I13: 39 | J13: 19 | K13: 61 | L13: 40 | M13: 21 | N13: 7124 | O13: 4758 | P13: 2366 | Q13: 9010 | R13: 5678 | S13: 3332 | T13: 7295 | U13: 4251 | V13: 3044 | W13: 17168 | X13: 8673 | Y13: 8495 | Z13: 1.2323421 | AA13: 0.96063867 | AC13: 3125941 | AD13: 9234448
A14: 宜蘭縣 | B14: 2967 | C14: 1843 | D14: 1124 | E14: 5173 | F14: 2896 | G14: 2277 | H14: 5 | I14: 4 | J14: 1 | K14: 5 | L14: 4 | M14: 1 | N14: 243 | O14: 165 | P14: 78 | Q14: 342 | R14: 220 | S14: 122 | T14: 2719 | U14: 1674 | V14: 1045 | W14: 4826 | X14: 2672 | Y14: 2154 | Z14: 1.6138858 | AA14: 1.1515721 | AC14: 716582 | AD14: 2044023
A15: 新竹縣 | B15: 1968 | C15: 1266 | D15: 702 | E15: 3961 | F15: 2188 | G15: 1773 | H15: 2 | I15: 2 | J15: 0 | K15: 2 | L15: 2 | M15: 0 | N15: 221 | O15: 159 | P15: 62 | Q15: 326 | R15: 215 | S15: 111 | T15: 1745 | U15: 1105 | V15: 640 | W15: 3633 | X15: 1971 | Y15: 1662 | Z15: 0.8552766 | AA15: 0.66611619 | AC15: 174836 | AD15: 530486
A16: 苗栗縣 | B16: 2870 | C16: 1887 | D16: 983 | E16: 5111 | F16: 2894 | G16: 2217 | H16: 1 | I16: 1 | J16: 0 | K16: 1 | L16: 1 | M16: 0 | N16: 1023 | O16: 736 | P16: 287 | Q16: 1392 | R16: 921 | S16: 471 | T16: 1846 | U16: 1150 | V16: 696 | W16: 3718 | X16: 1972 | Y16: 1746 | Z16: 1.4016615 | AA16: 0.95917456 | AC16: 180916 | AD16: 565554
A17: 彰化縣 | B17: 7866 | C17: 5025 | D17: 2841 | E17: 12670 | F17: 7301 | G17: 5369 | H17: 5 | I17: 3 | J17: 2 | K17: 5 | L17: 3 | M17: 2 | N17: 93 | O17: 61 | P17: 32 | Q17: 149 | R17: 92 | S17: 57 | T17: 7768 | U17: 4961 | V17: 2807 | W17: 12516 | X17: 7206 | Y17: 5310 | Z17: 1.8690123 | AA17: 1.0337161 | AC17: 375940 | AD17: 1296013
A18: 南投縣 | B18: 2488 | C18: 1769 | D18: 719 | E18: 4017 | F18: 2462 | G18: 1555 | H18: 1 | I18: 1 | J18: 0 | K18: 1 | L18: 1 | M18: 0 | N18: 118 | O18: 85 | P18: 33 | Q18: 165 | R18: 107 | S18: 58 | T18: 2369 | U18: 1683 | V18: 686 | W18: 3851 | X18: 2354 | Y18: 1497 | Z18: 1.3514908 | AA18: 0.85052054 | AC18: 175452 | AD18: 517222
... A29: 連江縣 | B29: 44 | C29: 29 | D29: 15 | E29: 91 | F29: 46 | G29: 45 | H29: 11 | I29: 9 | J29: 2 | K29: 11 | L29: 9 | M29: 2 | N29: 15 | O29: 11 | P29: 4 | Q29: 29 | R29: 20 | S29: 9 | T29: 18 | U29: 9 | V29: 9 | W29: 51 | X29: 17 | Y29: 34 | Z29: 1.1293634 | AA29: 0.65232975 | AC29: 2423 | AD29: 12165
A30: 資料來源：直轄市、縣﹝市﹞政府。

Sheet 112
A1: 3.1-01 低收入戶戶數及人數
A2: 112年底, 2023
A4: 地區別 | B4: 總計 | H4: 第1款(省、新北、臺中、臺南)、第0類(臺北)、第1類(高雄) | N4: 第2款(省、新北、臺中、臺南)、第1、2類(臺北)、第2類(高雄) | T4: 第3款(省、新北、臺中、臺南)、第3、4類(臺北、高雄) | Z4: 低收入戶戶數占總戶數比率(%) | AA4: 低收入戶人數占總人數比率(%)
B5: 戶數(戶長性別) | E5: 人數 | H5: 戶數 | K5: 人數 | N5: 戶數 | Q5: 人數 | T5: 戶數 | W5: 人數
B6: 計 | C6: 男 | D6: 女 | E6: 計 | F6: 男 | G6: 女 | H6: 計 | I6: 男 | J6: 女 | K6: 計 | L6: 男 | M6: 女 | N6: 計 | O6: 男 | P6: 女 | Q6: 計 | R6: 男 | S6: 女 | T6: 計 | U6: 男 | V6: 女 | W6: 計 | X6: 男 | Y6: 女
A7: 總計 | B7: 144668 | C7: 89017 | D7: 55651 | E7: 277364 | F7: 150565 | G7: 126799 | H7: 2314 | I7: 1639 | J7: 675 | K7: 2386 | L7: 1682 | M7: 704 | N7: 35375 | O7: 23695 | P7: 11680 | Q7: 48368 | R7: 29880 | S7: 18488 | T7: 106979 | U7: 63683 | V7: 43296 | W7: 226610 | X7: 119003 | Y7: 107607 | Z7: 1.5655316 | AA7: 1.1842817 | AC7: 8286260 | AD7: 23373517
A8: 新北市 | B8: 17905 | C8: 10890 | D8: 7015 | E8: 33640 | F8: 18001 | G8: 15639 | H8: 66 | I8: 56 | J8: 10 | K8: 74 | L8: 60 | M8: 14 | N8: 1367 | O8: 903 | P8: 464 | Q8: 2066 | R8: 1231 | S8: 835 | T8: 16472 | U8: 9931 | V8: 6541 | W8: 31500 | X8: 16710 | Y8: 14790 | Z8: 1.0714692 | AA8: 0.83244249 | AC8: 1477857 | AD8: 3954929
A9: 臺北市 | B9: 21557 | C9: 11808 | D9: 9749 | E9: 42486 | F9: 21600 | G9: 20886 | H9: 1371 | I9: 959 | J9: 412 | K9: 1415 | L9: 982 | M9: 433 | N9: 6624 | O9: 4134 | P9: 2490 | Q9: 8260 | R9: 4891 | S9: 3369 | T9: 13562 | U9: 6715 | V9: 6847 | W9: 32811 | X9: 15727 | Y9: 17084 | Z9: 2.0240706 | AA9: 1.6913984 | AC9: 1026738 | AD9: 2686516
A10: 桃園市 | B10: 12580 | C10: 7373 | D10: 5207 | E10: 28841 | F10: 14890 | G10: 13951 | H10: 66 | I10: 46 | J10: 20 | K10: 68 | L10: 47 | M10: 21 | N10: 1419 | O10: 953 | P10: 466 | Q10: 2357 | R10: 1424 | S10: 933 | T10: 11095 | U10: 6374 | V10: 4721 | W10: 26416 | X10: 13419 | Y10: 12997 | Z10: 1.3923923 | AA10: 1.2445171 | AC10: 897191 | AD10: 2701661
A11: 臺中市 | B11: 20368 | C11: 11779 | D11: 8589 | E11: 42813 | F11: 22336 | G11: 20477 | H11: 405 | I11: 289 | J11: 116 | K11: 413 | L11: 296 | M11: 117 | N11: 7309 | O11: 4721 | P11: 2588 | Q11: 11065 | R11: 6510 | S11: 4555 | T11: 12654 | U11: 6769 | V11: 5885 | W11: 31335 | X11: 15530 | Y11: 15805 | Z11: 1.9221895 | AA11: 1.50437 | AC11: 663131 | AD11: 1883208
A12: 臺南市 | B12: 8274 | C12: 5614 | D12: 2660 | E12: 13700 | F12: 8142 | G12: 5558 | H12: 155 | I12: 101 | J12: 54 | K12: 157 | L12: 102 | M12: 55 | N12: 2781 | O12: 1986 | P12: 795 | Q12: 3242 | R12: 2207 | S12: 1035 | T12: 5338 | U12: 3527 | V12: 1811 | W12: 10301 | X12: 5833 | Y12: 4468 | Z12: 1.1378874 | AA12: 0.73658052 | AC12: 1056421 | AD12: 2779877
A13: 高雄市 | B13: 14840 | C13: 9275 | D13: 5565 | E13: 27909 | F13: 15139 | G13: 12770 | H13: 57 | I13: 35 | J13: 22 | K13: 60 | L13: 38 | M13: 22 | N13: 7023 | O13: 4685 | P13: 2338 | Q13: 9121 | R13: 5700 | S13: 3421 | T13: 7760 | U13: 4555 | V13: 3205 | W13: 18728 | X13: 9401 | Y13: 9327 | Z13: 1.2895657 | AA13: 1.0193426 | AC13: 3125941 | AD13: 9234448
A14: 宜蘭縣 | B14: 2555 | C14: 1634 | D14: 921 | E14: 4354 | F14: 2495 | G14: 1859 | H14: 6 | I14: 5 | J14: 1 | K14: 6 | L14: 5 | M14: 1 | N14: 231 | O14: 163 | P14: 68 | Q14: 305 | R14: 201 | S14: 104 | T14: 2318 | U14: 1466 | V14: 852 | W14: 4043 | X14: 2289 | Y14: 1754 | Z14: 1.4301547 | AA14: 0.96779213 | AC14: 716582 | AD14: 2044023
A15: 新竹縣 | B15: 1879 | C15: 1204 | D15: 675 | E15: 3947 | F15: 2149 | G15: 1798 | H15: 3 | I15: 3 | J15: 0 | K15: 3 | L15: 3 | M15: 0 | N15: 235 | O15: 170 | P15: 65 | Q15: 347 | R15: 226 | S15: 121 | T15: 1641 | U15: 1031 | V15: 610 | W15: 3597 | X15: 1920 | Y15: 1677 | Z15: 0.85063809 | AA15: 0.6697902 | AC15: 174836 | AD15: 530486
A16: 苗栗縣 | B16: 3052 | C16: 2003 | D16: 1049 | E16: 5601 | F16: 3167 | G16: 2434 | H16: 1 | I16: 1 | J16: 0 | K16: 1 | L16: 1 | M16: 0 | N16: 1107 | O16: 814 | P16: 293 | Q16: 1566 | R16: 1045 | S16: 521 | T16: 1944 | U16: 1188 | V16: 756 | W16: 4034 | X16: 2121 | Y16: 1913 | Z16: 1.5287364 | AA16: 1.0477482 | AC16: 180916 | AD16: 565554
A17: 彰化縣 | B17: 7762 | C17: 5011 | D17: 2751 | E17: 12716 | F17: 7326 | G17: 5390 | H17: 4 | I17: 3 | J17: 1 | K17: 4 | L17: 3 | M17: 1 | N17: 100 | O17: 70 | P17: 30 | Q17: 155 | R17: 99 | S17: 56 | T17: 7658 | U17: 4938 | V17: 2720 | W17: 12557 | X17: 7224 | Y17: 5333 | Z17: 1.9100114 | AA17: 1.0262718 | AC17: 375940 | AD17: 1296013
A18: 南投縣 | B18: 2535 | C18: 1794 | D18: 741 | E18: 4172 | F18: 2531 | G18: 1641 | H18: 3 | I18: 1 | J18: 2 | K18: 3 | L18: 1 | M18: 2 | N18: 119 | O18: 86 | P18: 33 | Q18: 181 | R18: 111 | S18: 70 | T18: 2413 | U18: 1707 | V18: 706 | W18: 3988 | X18: 2419 | Y18: 1569 | Z18: 1.403367 | AA18: 0.8744608 | AC18: 175452 | AD18: 517222
... A29: 連江縣 | B29: 51 | C29: 36 | D29: 15 | E29: 92 | F29: 51 | G29: 41 | H29: 14 | I29: 10 | J29: 4 | K29: 14 | L29: 10 | M29: 4 | N29: 16 | O29: 12 | P29: 4 | Q29: 26 | R29: 16 | S29: 10 | T29: 21 | U29: 14 | V29: 7 | W29: 52 | X29: 25 | Y29: 27 | Z29: 1.3757756 | AA29: 0.65531733 | AC29: 2423 | AD29: 12165
A30: 資料來源：直轄市、縣﹝市﹞政府。

Sheet 111
A1: 3.1-01 低收入戶戶數及人數
A2: 111年底, 2022
A4: 地區別 | B4: 總計 | H4: 第1款(省、新北、臺中、臺南)、第0類(臺北)、第1類(高雄) | N4: 第2款(省、新北、臺中、臺南)、第1、2類(臺北)、第2類(高雄) | T4: 第3款(省、新北、臺中、臺南)、第3、4類(臺北、高雄) | Z4: 低收入戶戶數占總戶數比率(%) | AA4: 低收入戶人數占總人數比率(%)
B5: 戶數(戶長性別) | E5: 人數 | H5: 戶數 | K5: 人數 | N5: 戶數 | Q5: 人數 | T5: 戶數 | W5: 人數
B6: 計 | C6: 男 | D6: 女 | E6: 計 | F6: 男 | G6: 女 | H6: 計 | I6: 男 | J6: 女 | K6: 計 | L6: 男 | M6: 女 | N6: 計 | O6: 男 | P6: 女 | Q6: 計 | R6: 男 | S6: 女 | T6: 計 | U6: 男 | V6: 女 | W6: 計 | X6: 男 | Y6: 女
A7: 總計 | B7: 146029 | C7: 89837 | D7: 56192 | E7: 288703 | F7: 155932 | G7: 132771 | H7: 2452 | I7: 1753 | J7: 699 | K7: 2533 | L7: 1800 | M7: 733 | N7: 35047 | O7: 23515 | P7: 11532 | Q7: 49686 | R7: 30401 | S7: 19285 | T7: 108530 | U7: 64569 | V7: 43961 | W7: 236484 | X7: 123731 | Y7: 112753 | Z7: 1.6065769 | AA7: 1.2409519 | AC7: 8286260 | AD7: 23373517
A8: 新北市 | B8: 18041 | C8: 10894 | D8: 7147 | E8: 35091 | F8: 18658 | G8: 16433 | H8: 73 | I8: 61 | J8: 12 | K8: 81 | L8: 65 | M8: 16 | N8: 1345 | O8: 879 | P8: 466 | Q8: 2106 | R8: 1239 | S8: 867 | T8: 16623 | U8: 9954 | V8: 6669 | W8: 32904 | X8: 17354 | Y8: 15550 | Z8: 1.1007939 | AA8: 0.87825184 | AC8: 1477857 | AD8: 3954929
A9: 臺北市 | B9: 21909 | C9: 12065 | D9: 9844 | E9: 44476 | F9: 22610 | G9: 21866 | H9: 1474 | I9: 1040 | J9: 434 | K9: 1528 | L9: 1069 | M9: 459 | N9: 6644 | O9: 4125 | P9: 2519 | Q9: 8691 | R9: 5097 | S9: 3594 | T9: 13791 | U9: 6900 | V9: 6891 | W9: 34257 | X9: 16444 | Y9: 17813 | Z9: 2.0846238 | AA9: 1.7928948 | AC9: 1026738 | AD9: 2686516
A10: 桃園市 | B10: 12091 | C10: 7071 | D10: 5020 | E10: 28305 | F10: 14570 | G10: 13735 | H10: 67 | I10: 46 | J10: 21 | K10: 69 | L10: 47 | M10: 22 | N10: 1397 | O10: 917 | P10: 480 | Q10: 2529 | R10: 1474 | S10: 1055 | T10: 10627 | U10: 6108 | V10: 4519 | W10: 25707 | X10: 13049 | Y10: 12658 | Z10: 1.3763765 | AA10: 1.2406507 | AC10: 897191 | AD10: 2701661
A11: 臺中市 | B11: 20398 | C11: 11824 | D11: 8574 | E11: 44247 | F11: 23043 | G11: 21204 | H11: 412 | I11: 299 | J11: 113 | K11: 420 | L11: 306 | M11: 114 | N11: 7113 | O11: 4653 | P11: 2460 | Q11: 11170 | R11: 6561 | S11: 4609 | T11: 12873 | U11: 6872 | V11: 6001 | W11: 32657 | X11: 16176 | Y11: 16481 | Z11: 1.9730688 | AA11: 1.5721316 | AC11: 663131 | AD11: 1883208
A12: 臺南市 | B12: 8775 | C12: 5912 | D12: 2863 | E12: 15214 | F12: 8853 | G12: 6361 | H12: 181 | I12: 124 | J12: 57 | K12: 183 | L12: 125 | M12: 58 | N12: 2912 | O12: 2073 | P12: 839 | Q12: 3528 | R12: 2372 | S12: 1156 | T12: 5682 | U12: 3715 | V12: 1967 | W12: 11503 | X12: 6356 | Y12: 5147 | Z12: 1.2246299 | AA12: 0.82104828 | AC12: 1056421 | AD12: 2779877
A13: 高雄市 | B13: 15091 | C13: 9433 | D13: 5658 | E13: 29344 | F13: 15750 | G13: 13594 | H13: 60 | I13: 35 | J13: 25 | K13: 64 | L13: 38 | M13: 26 | N13: 6874 | O13: 4560 | P13: 2314 | Q13: 9135 | R13: 5630 | S13: 3505 | T13: 8157 | U13: 4838 | V13: 3319 | W13: 20145 | X13: 10082 | Y13: 10063 | Z13: 1.3275158 | AA13: 1.0756058 | AC13: 3125941 | AD13: 9234448
A14: 宜蘭縣 | B14: 2805 | C14: 1779 | D14: 1026 | E14: 5081 | F14: 2881 | G14: 2200 | H14: 7 | I14: 6 | J14: 1 | K14: 7 | L14: 6 | M14: 1 | N14: 259 | O14: 185 | P14: 74 | Q14: 363 | R14: 243 | S14: 120 | T14: 2539 | U14: 1588 | V14: 951 | W14: 4711 | X14: 2632 | Y14: 2079 | Z14: 1.5930802 | AA14: 1.1314696 | AC14: 716582 | AD14: 2044023
A15: 新竹縣 | B15: 1920 | C15: 1233 | D15: 687 | E15: 4241 | F15: 2278 | G15: 1963 | H15: 6 | I15: 6 | J15: 0 | K15: 6 | L15: 6 | M15: 0 | N15: 264 | O15: 194 | P15: 70 | Q15: 381 | R15: 249 | S15: 132 | T15: 1650 | U15: 1033 | V15: 617 | W15: 3854 | X15: 2023 | Y15: 1831 | Z15: 0.89228867 | AA15: 0.73057331 | AC15: 174836 | AD15: 530486
A16: 苗栗縣 | B16: 3099 | C16: 2055 | D16: 1044 | E16: 5851 | F16: 3310 | G16: 2541 | H16: 1 | I16: 1 | J16: 0 | K16: 1 | L16: 1 | M16: 0 | N16: 1152 | O16: 856 | P16: 296 | Q16: 1707 | R16: 1120 | S16: 587 | T16: 1946 | U16: 1198 | V16: 748 | W16: 4143 | X16: 2189 | Y16: 1954 | Z16: 1.5728968 | AA16: 1.0933751 | AC16: 180916 | AD16: 565554
A17: 彰化縣 | B17: 7562 | C17: 4879 | D17: 2683 | E17: 12594 | F17: 7206 | G17: 5388 | H17: 3 | I17: 3 | J17: 0 | K17: 3 | L17: 3 | M17: 0 | N17: 88 | O17: 61 | P17: 27 | Q17: 133 | R17: 87 | S17: 46 | T17: 7471 | U17: 4815 | V17: 2656 | W17: 12458 | X17: 7116 | Y17: 5342 | Z17: 1.8791313 | AA17: 1.0113721 | AC17: 375940 | AD17: 1296013
A18: 南投縣 | B18: 2566 | C18: 1813 | D18: 753 | E18: 4343 | F18: 2605 | G18: 1738 | H18: 3 | I18: 2 | J18: 1 | K18: 3 | L18: 2 | M18: 1 | N18: 125 | O18: 89 | P18: 36 | Q18: 223 | R18: 135 | S18: 88 | T18: 2438 | U18: 1722 | V18: 716 | W18: 4117 | X18: 2468 | Y18: 1649 | Z18: 1.4262925 | AA18: 0.90555573 | AC18: 175452 | AD18: 517222
... A29: 連江縣 | B29: 48 | C29: 34 | D29: 14 | E29: 83 | F29: 50 | G29: 33 | H29: 16 | I29: 11 | J29: 5 | K29: 17 | L29: 12 | M29: 5 | N29: 15 | O29: 12 | P29: 3 | Q29: 25 | R29: 16 | S29: 9 | T29: 17 | U29: 11 | V29: 6 | W29: 41 | X29: 22 | Y29: 19 | Z29: 1.322314 | AA29: 0.59357792 | AC29: 2423 | AD29: 12165
A30: 資料來源：直轄市、縣﹝市﹞政府。

Sheet 110
A1: 3.1-01 低收入戶戶數及人數
A2: 110年底, 2021
A4: 地區別 | B4: 總計 | H4: 第1款(省、新北、臺中、臺南)、第0類(臺北)、第1類(高雄) | N4: 第2款(省、新北、臺中、臺南)、第1、2類(臺北)、第2類(高雄) | T4: 第3款(省、新北、臺中、臺南)、第3、4類(臺北、高雄) | Z4: 低收入戶戶數占總戶數比率(%) | AA4: 低收入戶人數占總人數比率(%)
B5: 戶數(戶長性別) | E5: 人數 | H5: 戶數 | K5: 人數 | N5: 戶數 | Q5: 人數 | T5: 戶數 | W5: 人數
B6: 計 | C6: 男 | D6: 女 | E6: 計 | F6: 男 | G6: 女 | H6: 計 | I6: 男 | J6: 女 | K6: 計 | L6: 男 | M6: 女 | N6: 計 | O6: 男 | P6: 女 | Q6: 計 | R6: 男 | S6: 女 | T6: 計 | U6: 男 | V6: 女 | W6: 計 | X6: 男 | Y6: 女
A7: 總計 | B7: 146995 | C7: 90786 | D7: 56209 | E7: 295901 | F7: 159633 | G7: 136268 | H7: 2646 | I7: 1927 | J7: 719 | K7: 2725 | L7: 1976 | M7: 749 | N7: 34843 | O7: 23544 | P7: 11299 | Q7: 50284 | R7: 30803 | S7: 19481 | T7: 109506 | U7: 65315 | V7: 44191 | W7: 242892 | X7: 126854 | Y7: 116038 | Z7: 1.6320845 | AA7: 1.2658696 | AC7: 8286260 | AD7: 23373517
A8: 新北市 | B8: 18970 | C8: 11618 | D8: 7352 | E8: 37386 | F8: 20020 | G8: 17366 | H8: 78 | I8: 63 | J8: 15 | K8: 86 | L8: 67 | M8: 19 | N8: 1413 | O8: 954 | P8: 459 | Q8: 2220 | R8: 1331 | S8: 889 | T8: 17479 | U8: 10601 | V8: 6878 | W8: 35080 | X8: 18622 | Y8: 16458 | Z8: 1.1703331 | AA8: 0.93275813 | AC8: 1477857 | AD8: 3954929
A9: 臺北市 | B9: 21647 | C9: 11976 | D9: 9671 | E9: 44678 | F9: 22707 | G9: 21971 | H9: 1579 | I9: 1131 | J9: 448 | K9: 1630 | L9: 1161 | M9: 469 | N9: 6435 | O9: 4008 | P9: 2427 | Q9: 8636 | R9: 5069 | S9: 3567 | T9: 13633 | U9: 6837 | V9: 6796 | W9: 34412 | X9: 16477 | Y9: 17935 | Z9: 2.0565345 | AA9: 1.7698512 | AC9: 1026738 | AD9: 2686516
A10: 桃園市 | B10: 11802 | C10: 6864 | D10: 4938 | E10: 28359 | F10: 14553 | G10: 13806 | H10: 51 | I10: 38 | J10: 13 | K10: 53 | L10: 38 | M10: 15 | N10: 1271 | O10: 824 | P10: 447 | Q10: 2372 | R10: 1370 | S10: 1002 | T10: 10480 | U10: 6002 | V10: 4478 | W10: 25934 | X10: 13145 | Y10: 12789 | Z10: 1.368916 | AA10: 1.2479807 | AC10: 897191 | AD10: 2701661
A11: 臺中市 | B11: 20168 | C11: 11699 | D11: 8469 | E11: 44205 | F11: 22994 | G11: 21211 | H11: 415 | I11: 306 | J11: 109 | K11: 424 | L11: 314 | M11: 110 | N11: 6832 | O11: 4523 | P11: 2309 | Q11: 10943 | R11: 6447 | S11: 4496 | T11: 12921 | U11: 6870 | V11: 6051 | W11: 32838 | X11: 16233 | Y11: 16605 | Z11: 1.9824462 | AA11: 1.5711803 | AC11: 663131 | AD11: 1883208
A12: 臺南市 | B12: 9546 | C12: 6389 | D12: 3157 | E12: 17527 | F12: 10028 | G12: 7499 | H12: 230 | I12: 160 | J12: 70 | K12: 233 | L12: 162 | M12: 71 | N12: 3071 | O12: 2189 | P12: 882 | Q12: 3798 | R12: 2537 | S12: 1261 | T12: 6245 | U12: 4040 | V12: 2205 | W12: 13496 | X12: 7329 | Y12: 6167 | Z12: 1.3446472 | AA12: 0.94126985 | AC12: 1056421 | AD12: 2779877
A13: 高雄市 | B13: 15368 | C13: 9634 | D13: 5734 | E13: 30563 | F13: 16334 | G13: 14229 | H13: 64 | I13: 43 | J13: 21 | K13: 67 | L13: 46 | M13: 21 | N13: 6918 | O13: 4609 | P13: 2309 | Q13: 9333 | R13: 5729 | S13: 3604 | T13: 8386 | U13: 4982 | V13: 3404 | W13: 21163 | X13: 10559 | Y13: 10604 | Z13: 1.3614361 | AA13: 1.1135315 | AC13: 3125941 | AD13: 9234448
A14: 宜蘭縣 | B14: 2683 | C14: 1712 | D14: 971 | E14: 4900 | F14: 2765 | G14: 2135 | H14: 10 | I14: 9 | J14: 1 | K14: 10 | L14: 9 | M14: 1 | N14: 284 | O14: 209 | P14: 75 | Q14: 421 | R14: 280 | S14: 141 | T14: 2389 | U14: 1494 | V14: 895 | W14: 4469 | X14: 2476 | Y14: 1993 | Z14: 0.1044494 | AA14: 1.087217 | AC14: 716582 | AD14: 2044023
A15: 新竹縣 | B15: 1974 | C15: 1280 | D15: 694 | E15: 4353 | F15: 2355 | G15: 1998 | H15: 9 | I15: 9 | J15: 0 | K15: 9 | L15: 9 | M15: 0 | N15: 299 | O15: 223 | P15: 76 | Q15: 435 | R15: 288 | S15: 147 | T15: 1666 | U15: 1048 | V15: 618 | W15: 3909 | X15: 2058 | Y15: 1851 | Z15: 0.93681038 | AA15: 0.75628062 | AC15: 174836 | AD15: 530486
A16: 苗栗縣 | B16: 3189 | C16: 2070 | D16: 1119 | E16: 6077 | F16: 3414 | G16: 2663 | H16: 1 | I16: 1 | J16: 0 | K16: 1 | L16: 1 | M16: 0 | N16: 1230 | O16: 908 | P16: 322 | Q16: 1836 | R16: 1183 | S16: 653 | T16: 1958 | U16: 1161 | V16: 797 | W16: 4240 | X16: 2230 | Y16: 2010 | Z16: 1.6325381 | AA16: 1.1291803 | AC16: 180916 | AD16: 565554
A17: 彰化縣 | B17: 7387 | C17: 4797 | D17: 2590 | E17: 12336 | F17: 7071 | G17: 5265 | H17: 2 | I17: 2 | J17: 0 | K17: 2 | L17: 2 | M17: 0 | N17: 85 | O17: 59 | P17: 26 | Q17: 130 | R17: 88 | S17: 42 | T17: 7300 | U17: 4736 | V17: 2564 | W17: 12204 | X17: 6981 | Y17: 5223 | Z17: 1.8504555 | AA17: 0.98268981 | AC17: 375940 | AD17: 1296013
A18: 南投縣 | B18: 2693 | C18: 1902 | D18: 791 | E18: 4704 | F18: 2799 | G18: 1905 | H18: 4 | I18: 3 | J18: 1 | K18: 4 | L18: 3 | M18: 1 | N18: 152 | O18: 105 | P18: 47 | Q18: 284 | R18: 164 | S18: 120 | T18: 2537 | U18: 1794 | V18: 743 | W18: 4416 | X18: 2632 | Y18: 1784 | Z18: 1.4976504 | AA18: 0.97010293 | AC18: 175452 | AD18: 517222
... A29: 連江縣 | B29: 47 | C29: 34 | D29: 13 | E29: 86 | F29: 51 | G29: 35 | H29: 14 | I29: 10 | J29: 4 | K29: 15 | L29: 11 | M29: 4 | N29: 15 | O29: 12 | P29: 3 | Q29: 19 | R29: 13 | S29: 6 | T29: 18 | U29: 12 | V29: 6 | W29: 52 | X29: 27 | Y29: 25 | Z29: 1.331822 | AA29: 0.6302675 | AC29: 2423 | AD29: 12165
A30: 資料來源：直轄市、縣﹝市﹞政府。

Sheet 109
A1: 3.1-01 低收入戶戶數及人數
A2: 109年底, 2020
A4: 地區別 | B4: 總計 | H4: 第1款(省、新北、臺中、臺南)、第0類(臺北)、第1類(高雄) | N4: 第2款(省、新北、臺中、臺南)、第1、2類(臺北)、第2類(高雄) | T4: 第3款(省、新北、臺中、臺南)、第3、4類(臺北、高雄) | Z4: 低收入戶戶數占總戶數比率(%) | AA4: 低收入戶人數占總人數比率(%)
B5: 戶數(戶長性別) | E5: 人數 | H5: 戶數 | K5: 人數 | N5: 戶數 | Q5: 人數 | T5: 戶數 | W5: 人數
B6: 計 | C6: 男 | D6: 女 | E6: 計 | F6: 男 | G6: 女 | H6: 計 | I6: 男 | J6: 女 | K6: 計 | L6: 男 | M6: 女 | N6: 計 | O6: 男 | P6: 女 | Q6: 計 | R6: 男 | S6: 女 | T6: 計 | U6: 男 | V6: 女 | W6: 計 | X6: 男 | Y6: 女
A7: 總計 | B7: 146342 | C7: 90618 | D7: 55724 | E7: 300241 | F7: 161390 | G7: 138851 | H7: 2733 | I7: 2008 | J7: 725 | K7: 2813 | L7: 2058 | M7: 755 | N7: 34563 | O7: 23299 | P7: 11264 | Q7: 50711 | R7: 30845 | S7: 19866 | T7: 109046 | U7: 65311 | V7: 43735 | W7: 246717 | X7: 128487 | Y7: 118230 | Z7: 1.64 | AA7: 1.27 | AC7: 8286260 | AD7: 23373517
A8: 新北市 | B8: 19277 | C8: 11768 | D8: 7509 | E8: 39407 | F8: 20899 | G8: 18508 | H8: 78 | I8: 65 | J8: 13 | K8: 81 | L8: 66 | M8: 15 | N8: 1383 | O8: 933 | P8: 450 | Q8: 2237 | R8: 1332 | S8: 905 | T8: 17816 | U8: 10770 | V8: 7046 | W8: 37089 | X8: 19501 | Y8: 17588 | Z8: 1.2 | AA8: 0.98 | AC8: 1477857 | AD8: 3954929
A9: 臺北市 | B9: 21495 | C9: 12015 | D9: 9480 | E9: 45052 | F9: 22914 | G9: 22138 | H9: 1640 | I9: 1189 | J9: 451 | K9: 1693 | L9: 1223 | M9: 470 | N9: 6249 | O9: 3895 | P9: 2354 | Q9: 8600 | R9: 5026 | S9: 3574 | T9: 13606 | U9: 6931 | V9: 6675 | W9: 34759 | X9: 16665 | Y9: 18094 | Z9: 2.03 | AA9: 1.73 | AC9: 1026738 | AD9: 2686516
A10: 桃園市 | B10: 11078 | C10: 6419 | D10: 4659 | E10: 27119 | F10: 13844 | G10: 13275 | H10: 47 | I10: 35 | J10: 12 | K10: 49 | L10: 35 | M10: 14 | N10: 1196 | O10: 777 | P10: 419 | Q10: 2241 | R10: 1291 | S10: 950 | T10: 9835 | U10: 5607 | V10: 4228 | W10: 24829 | X10: 12518 | Y10: 12311 | Z10: 1.31 | AA10: 1.2 | AC10: 897191 | AD10: 2701661
A11: 臺中市 | B11: 20134 | C11: 11691 | D11: 8443 | E11: 45090 | F11: 23293 | G11: 21797 | H11: 388 | I11: 293 | J11: 95 | K11: 396 | L11: 300 | M11: 96 | N11: 6566 | O11: 4292 | P11: 2274 | Q11: 10751 | R11: 6266 | S11: 4485 | T11: 13180 | U11: 7106 | V11: 6074 | W11: 33943 | X11: 16727 | Y11: 17216 | Z11: 2.01 | AA11: 1.6 | AC11: 663131 | AD11: 1883208
A12: 臺南市 | B12: 9602 | C12: 6431 | D12: 3171 | E12: 17923 | F12: 10185 | G12: 7738 | H12: 261 | I12: 181 | J12: 80 | K12: 267 | L12: 184 | M12: 83 | N12: 3097 | O12: 2208 | P12: 889 | Q12: 3847 | R12: 2561 | S12: 1286 | T12: 6244 | U12: 4042 | V12: 2202 | W12: 13809 | X12: 7440 | Y12: 6369 | Z12: 1.36 | AA12: 0.96 | AC12: 1056421 | AD12: 2779877
A13: 高雄市 | B13: 16088 | C13: 10023 | D13: 6065 | E13: 33192 | F13: 17528 | G13: 15664 | H13: 67 | I13: 45 | J13: 22 | K13: 70 | L13: 47 | M13: 23 | N13: 7074 | O13: 4677 | P13: 2397 | Q13: 9858 | R13: 5954 | S13: 3904 | T13: 8947 | U13: 5301 | V13: 3646 | W13: 23264 | X13: 11527 | Y13: 11737 | Z13: 1.44 | AA13: 1.2 | AC13: 3125941 | AD13: 9234448
A14: 宜蘭縣 | B14: 2543 | C14: 1670 | D14: 873 | E14: 4630 | F14: 2676 | G14: 1954 | H14: 11 | I14: 9 | J14: 2 | K14: 11 | L14: 9 | M14: 2 | N14: 276 | O14: 208 | P14: 68 | Q14: 394 | R14: 276 | S14: 118 | T14: 2256 | U14: 1453 | V14: 803 | W14: 4225 | X14: 2391 | Y14: 1834 | Z14: 1.47 | AA14: 1.02 | AC14: 716582 | AD14: 2044023
A15: 新竹縣 | B15: 1889 | C15: 1235 | D15: 654 | E15: 4156 | F15: 2244 | G15: 1912 | H15: 10 | I15: 9 | J15: 1 | K15: 10 | L15: 9 | M15: 1 | N15: 307 | O15: 232 | P15: 75 | Q15: 447 | R15: 294 | S15: 153 | T15: 1572 | U15: 994 | V15: 578 | W15: 3699 | X15: 1941 | Y15: 1758 | Z15: 0.92 | AA15: 0.73 | AC15: 174836 | AD15: 530486
A16: 苗栗縣 | B16: 3037 | C16: 1988 | D16: 1049 | E16: 5837 | F16: 3304 | G16: 2533 | H16: 1 | I16: 1 | J16: 0 | K16: 1 | L16: 1 | M16: 0 | N16: 1284 | O16: 936 | P16: 348 | Q16: 1926 | R16: 1241 | S16: 685 | T16: 1752 | U16: 1051 | V16: 701 | W16: 3910 | X16: 2062 | Y16: 1848 | Z16: 1.57 | AA16: 1.08 | AC16: 180916 | AD16: 565554
A17: 彰化縣 | B17: 7256 | C17: 4690 | D17: 2566 | E17: 12251 | F17: 7011 | G17: 5240 | H17: 2 | I17: 2 | J17: 0 | K17: 2 | L17: 2 | M17: 0 | N17: 91 | O17: 70 | P17: 21 | Q17: 135 | R17: 91 | S17: 44 | T17: 7163 | U17: 4618 | V17: 2545 | W17: 12114 | X17: 6918 | Y17: 5196 | Z17: 1.83 | AA17: 0.97 | AC17: 375940 | AD17: 1296013
A18: 南投縣 | B18: 2888 | C18: 2026 | D18: 862 | E18: 5154 | F18: 3059 | G18: 2095 | H18: 6 | I18: 5 | J18: 1 | K18: 7 | L18: 6 | M18: 1 | N18: 183 | O18: 125 | P18: 58 | Q18: 326 | R18: 182 | S18: 144 | T18: 2699 | U18: 1896 | V18: 803 | W18: 4821 | X18: 2871 | Y18: 1950 | Z18: 1.61 | AA18: 1.05 | AC18: 175452 | AD18: 517222
... A29: 連江縣 | B29: 52 | C29: 35 | D29: 17 | E29: 96 | F29: 57 | G29: 39 | H29: 14 | I29: 9 | J29: 5 | K29: 15 | L29: 10 | M29: 5 | N29: 18 | O29: 14 | P29: 4 | Q29: 26 | R29: 19 | S29: 7 | T29: 20 | U29: 12 | V29: 8 | W29: 55 | X29: 28 | Y29: 27 | Z29: 1.53 | AA29: 0.72 | AC29: 2423 | AD29: 12165
A30: 資料來源：直轄市、縣﹝市﹞政府。

Sheet 108
A1: 3.1-01 低收入戶戶數及人數
A2: 108年底, 2019
A4: 地區別 | B4: 總計 | H4: 第1款(省、新北、臺中、臺南)、第0類(臺北)、第1類(高雄) | N4: 第2款(省、新北、臺中、臺南)、第1、2類(臺北)、第2類(高雄) | T4: 第3款(省、新北、臺中、臺南)、第3、4類(臺北、高雄) | Z4: 低收入戶戶數占總戶數比率(%) | AA4: 低收入戶人數占總人數比率(%)
B5: 戶數(戶長性別) | E5: 人數 | H5: 戶數 | K5: 人數 | N5: 戶數 | Q5: 人數 | T5: 戶數 | W5: 人數
B6: 計 | C6: 男 | D6: 女 | E6: 計 | F6: 男 | G6: 女 | H6: 計 | I6: 男 | J6: 女 | K6: 計 | L6: 男 | M6: 女 | N6: 計 | O6: 男 | P6: 女 | Q6: 計 | R6: 男 | S6: 女 | T6: 計 | U6: 男 | V6: 女 | W6: 計 | X6: 男 | Y6: 女
A7: 總計 | B7: 144863 | C7: 89549 | D7: 55314 | E7: 304470 | F7: 162658 | G7: 141812 | H7: 2926 | I7: 2157 | J7: 769 | K7: 3028 | L7: 2213 | M7: 815 | N7: 34050 | O7: 22893 | P7: 11157 | Q7: 51337 | R7: 30964 | S7: 20373 | T7: 107887 | U7: 64499 | V7: 43388 | W7: 250105 | X7: 129481 | Y7: 120624 | Z7: 1.64 | AA7: 1.29 | AC7: 8286260 | AD7: 23373517
A8: 新北市 | B8: 19039 | C8: 11660 | D8: 7379 | E8: 40305 | F8: 21293 | G8: 19012 | H8: 78 | I8: 63 | J8: 15 | K8: 81 | L8: 64 | M8: 17 | N8: 1354 | O8: 922 | P8: 432 | Q8: 2206 | R8: 1307 | S8: 899 | T8: 17607 | U8: 10675 | V8: 6932 | W8: 38018 | X8: 19922 | Y8: 18096 | Z8: 1.2 | AA8: 1 | AC8: 1477857 | AD8: 3954929
A9: 臺北市 | B9: 21123 | C9: 11822 | D9: 9301 | E9: 44984 | F9: 22808 | G9: 22176 | H9: 1766 | I9: 1290 | J9: 476 | K9: 1833 | L9: 1325 | M9: 508 | N9: 6006 | O9: 3726 | P9: 2280 | Q9: 8579 | R9: 4962 | S9: 3617 | T9: 13351 | U9: 6806 | V9: 6545 | W9: 34572 | X9: 16521 | Y9: 18051 | Z9: 1.99 | AA9: 1.7 | AC9: 1026738 | AD9: 2686516
A10: 桃園市 | B10: 9738 | C10: 5581 | D10: 4157 | E10: 23822 | F10: 12149 | G10: 11673 | H10: 44 | I10: 36 | J10: 8 | K10: 47 | L10: 36 | M10: 11 | N10: 1131 | O10: 728 | P10: 403 | Q10: 2144 | R10: 1221 | S10: 923 | T10: 8563 | U10: 4817 | V10: 3746 | W10: 21631 | X10: 10892 | Y10: 10739 | Z10: 1.18 | AA10: 1.06 | AC10: 897191 | AD10: 2701661
A11: 臺中市 | B11: 19332 | C11: 11203 | D11: 8129 | E11: 44049 | F11: 22715 | G11: 21334 | H11: 370 | I11: 277 | J11: 93 | K11: 385 | L11: 288 | M11: 97 | N11: 6261 | O11: 4044 | P11: 2217 | Q11: 10468 | R11: 6048 | S11: 4420 | T11: 12701 | U11: 6882 | V11: 5819 | W11: 33196 | X11: 16379 | Y11: 16817 | Z11: 1.96 | AA11: 1.56 | AC11: 663131 | AD11: 1883208
A12: 臺南市 | B12: 9791 | C12: 6531 | D12: 3260 | E12: 18964 | F12: 10623 | G12: 8341 | H12: 297 | I12: 209 | J12: 88 | K12: 302 | L12: 212 | M12: 90 | N12: 3068 | O12: 2186 | P12: 882 | Q12: 3896 | R12: 2582 | S12: 1314 | T12: 6426 | U12: 4136 | V12: 2290 | W12: 14766 | X12: 7829 | Y12: 6937 | Z12: 1.41 | AA12: 1.01 | AC12: 1056421 | AD12: 2779877
A13: 高雄市 | B13: 17141 | C13: 10601 | D13: 6540 | E13: 36844 | F13: 19270 | G13: 17574 | H13: 78 | I13: 53 | J13: 25 | K13: 82 | L13: 56 | M13: 26 | N13: 7249 | O13: 4775 | P13: 2474 | Q13: 10465 | R13: 6236 | S13: 4229 | T13: 9814 | U13: 5773 | V13: 4041 | W13: 26297 | X13: 12978 | Y13: 13319 | Z13: 1.54 | AA13: 1.33 | AC13: 3125941 | AD13: 9234448
A14: 宜蘭縣 | B14: 2531 | C14: 1652 | D14: 879 | E14: 4407 | F14: 2537 | G14: 1870 | H14: 12 | I14: 9 | J14: 3 | K14: 12 | L14: 9 | M14: 3 | N14: 287 | O14: 216 | P14: 71 | Q14: 414 | R14: 289 | S14: 125 | T14: 2232 | U14: 1427 | V14: 805 | W14: 3981 | X14: 2239 | Y14: 1742 | Z14: 1.48 | AA14: 0.97 | AC14: 716582 | AD14: 2044023
A15: 新竹縣 | B15: 1921 | C15: 1253 | D15: 668 | E15: 4478 | F15: 2390 | G15: 2088 | H15: 11 | I15: 10 | J15: 1 | K15: 11 | L15: 10 | M15: 1 | N15: 330 | O15: 256 | P15: 74 | Q15: 505 | R15: 332 | S15: 173 | T15: 1580 | U15: 987 | V15: 593 | W15: 3962 | X15: 2048 | Y15: 1914 | Z15: 0.96 | AA15: 0.79 | AC15: 174836 | AD15: 530486
A16: 苗栗縣 | B16: 3050 | C16: 2009 | D16: 1041 | E16: 6035 | F16: 3424 | G16: 2611 | H16: 4 | I16: 4 | J16: 0 | K16: 4 | L16: 4 | M16: 0 | N16: 1292 | O16: 934 | P16: 358 | Q16: 2019 | R16: 1271 | S16: 748 | T16: 1754 | U16: 1071 | V16: 683 | W16: 4012 | X16: 2149 | Y16: 1863 | Z16: 1.6 | AA16: 1.11 | AC16: 180916 | AD16: 565554
A17: 彰化縣 | B17: 7046 | C17: 4546 | D17: 2500 | E17: 12131 | F17: 6829 | G17: 5302 | H17: 1 | I17: 1 | J17: 0 | K17: 1 | L17: 1 | M17: 0 | N17: 85 | O17: 62 | P17: 23 | Q17: 125 | R17: 81 | S17: 44 | T17: 6960 | U17: 4483 | V17: 2477 | W17: 12005 | X17: 6747 | Y17: 5258 | Z17: 1.79 | AA17: 0.95 | AC17: 375940 | AD17: 1296013
A18: 南投縣 | B18: 2972 | C18: 2080 | D18: 892 | E18: 5560 | F18: 3248 | G18: 2312 | H18: 7 | I18: 6 | J18: 1 | K18: 8 | L18: 7 | M18: 1 | N18: 230 | O18: 154 | P18: 76 | Q18: 442 | R18: 252 | S18: 190 | T18: 2735 | U18: 1920 | V18: 815 | W18: 5110 | X18: 2989 | Y18: 2121 | Z18: 1.66 | AA18: 1.13 | AC18: 175452 | AD18: 517222
... A29: 連江縣 | B29: 55 | C29: 35 | D29: 20 | E29: 108 | F29: 59 | G29: 49 | H29: 14 | I29: 10 | J29: 4 | K29: 15 | L29: 11 | M29: 4 | N29: 16 | O29: 12 | P29: 4 | Q29: 22 | R29: 15 | S29: 7 | T29: 25 | U29: 13 | V29: 12 | W29: 71 | X29: 33 | Y29: 38 | Z29: 1.71 | AA29: 0.83 | AC29: 2423 | AD29: 12165
A30: 資料來源：直轄市、縣﹝市﹞政府。

Sheet 107
A1: 3.1-01 低收入戶戶數及人數
A2: 107年底, 2018
A4: 地區別 | B4: 總計 | H4: 第1款(省、新北、臺中、臺南)、第0類(臺北)、第1類(高雄) | N4: 第2款(省、新北、臺中、臺南)、第1、2類(臺北)、第2類(高雄) | T4: 第3款(省、新北、臺中、臺南)、第3、4類(臺北、高雄) | Z4: 低收入戶戶數占總戶數比率(%) | AA4: 低收入戶人數占總人數比率(%)
B5: 戶數(戶長性別) | E5: 人數 | H5: 戶數 | K5: 人數 | N5: 戶數 | Q5: 人數 | T5: 戶數 | W5: 人數
B6: 計 | C6: 男 | D6: 女 | E6: 計 | F6: 男 | G6: 女 | H6: 計 | I6: 男 | J6: 女 | K6: 計 | L6: 男 | M6: 女 | N6: 計 | O6: 男 | P6: 女 | Q6: 計 | R6: 男 | S6: 女 | T6: 計 | U6: 男 | V6: 女 | W6: 計 | X6: 男 | Y6: 女
A7: 總計 | B7: 143941 | C7: 88747 | D7: 55194 | E7: 311526 | F7: 165319 | G7: 146207 | H7: 3073 | I7: 2288 | J7: 785 | K7: 3194 | L7: 2352 | M7: 842 | N7: 33394 | O7: 22386 | P7: 11008 | Q7: 52141 | R7: 31086 | S7: 21055 | T7: 107474 | U7: 64073 | V7: 43401 | W7: 256191 | X7: 131881 | Y7: 124310 | Z7: 1.65 | AA7: 1.32 | AC7: 8286260 | AD7: 23373517
A8: 新北市 | B8: 18919 | C8: 11444 | D8: 7475 | E8: 41412 | F8: 21719 | G8: 19693 | H8: 69 | I8: 54 | J8: 15 | K8: 74 | L8: 55 | M8: 19 | N8: 1300 | O8: 886 | P8: 414 | Q8: 2216 | R8: 1304 | S8: 912 | T8: 17550 | U8: 10504 | V8: 7046 | W8: 39122 | X8: 20360 | Y8: 18762 | Z8: 1.21 | AA8: 1.04 | AC8: 1477857 | AD8: 3954929
A9: 臺北市 | B9: 20803 | C9: 11680 | D9: 9123 | E9: 45469 | F9: 23000 | G9: 22469 | H9: 1863 | I9: 1368 | J9: 495 | K9: 1940 | L9: 1408 | M9: 532 | N9: 5691 | O9: 3477 | P9: 2214 | Q9: 8438 | R9: 4774 | S9: 3664 | T9: 13249 | U9: 6835 | V9: 6414 | W9: 35091 | X9: 16818 | Y9: 18273 | Z9: 1.97 | AA9: 1.7 | AC9: 1026738 | AD9: 2686516
A10: 桃園市 | B10: 8754 | C10: 4969 | D10: 3785 | E10: 21676 | F10: 11045 | G10: 10631 | H10: 41 | I10: 33 | J10: 8 | K10: 43 | L10: 34 | M10: 9 | N10: 1097 | O10: 719 | P10: 378 | Q10: 2115 | R10: 1208 | S10: 907 | T10: 7616 | U10: 4217 | V10: 3399 | W10: 19518 | X10: 9803 | Y10: 9715 | Z10: 1.08 | AA10: 0.98 | AC10: 897191 | AD10: 2701661
A11: 臺中市 | B11: 19035 | C11: 10970 | D11: 8065 | E11: 44603 | F11: 22856 | G11: 21747 | H11: 396 | I11: 298 | J11: 98 | K11: 414 | L11: 309 | M11: 105 | N11: 5834 | O11: 3757 | P11: 2077 | Q11: 10278 | R11: 5870 | S11: 4408 | T11: 12805 | U11: 6915 | V11: 5890 | W11: 33911 | X11: 16677 | Y11: 17234 | Z11: 1.96 | AA11: 1.59 | AC11: 663131 | AD11: 1883208
A12: 臺南市 | B12: 10028 | C12: 6622 | D12: 3406 | E12: 20365 | F12: 11183 | G12: 9182 | H12: 301 | I12: 216 | J12: 85 | K12: 307 | L12: 219 | M12: 88 | N12: 3060 | O12: 2179 | P12: 881 | Q12: 3929 | R12: 2591 | S12: 1338 | T12: 6667 | U12: 4227 | V12: 2440 | W12: 16129 | X12: 8373 | Y12: 7756 | Z12: 1.45 | AA12: 1.08 | AC12: 1056421 | AD12: 2779877
A13: 高雄市 | B13: 17979 | C13: 11125 | D13: 6854 | E13: 39899 | F13: 20762 | G13: 19137 | H13: 78 | I13: 56 | J13: 22 | K13: 82 | L13: 58 | M13: 24 | N13: 7323 | O13: 4819 | P13: 2504 | Q13: 10862 | R13: 6438 | S13: 4424 | T13: 10578 | U13: 6250 | V13: 4328 | W13: 28955 | X13: 14266 | Y13: 14689 | Z13: 1.63 | AA13: 1.44 | AC13: 3125941 | AD13: 9234448
A14: 宜蘭縣 | B14: 2550 | C14: 1643 | D14: 907 | E14: 4531 | F14: 2550 | G14: 1981 | H14: 13 | I14: 12 | J14: 1 | K14: 13 | L14: 11 | M14: 2 | N14: 271 | O14: 201 | P14: 70 | Q14: 416 | R14: 280 | S14: 136 | T14: 2266 | U14: 1430 | V14: 836 | W14: 4102 | X14: 2259 | Y14: 1843 | Z14: 1.5 | AA14: 1 | AC14: 716582 | AD14: 2044023
A15: 新竹縣 | B15: 1845 | C15: 1215 | D15: 630 | E15: 4435 | F15: 2349 | G15: 2086 | H15: 13 | I15: 12 | J15: 1 | K15: 13 | L15: 12 | M15: 1 | N15: 250 | O15: 190 | P15: 60 | Q15: 413 | R15: 258 | S15: 155 | T15: 1582 | U15: 1013 | V15: 569 | W15: 4009 | X15: 2079 | Y15: 1930 | Z15: 0.94 | AA15: 0.8 | AC15: 174836 | AD15: 530486
A16: 苗栗縣 | B16: 3017 | C16: 1965 | D16: 1052 | E16: 6087 | F16: 3416 | G16: 2671 | H16: 4 | I16: 4 | J16: 0 | K16: 4 | L16: 4 | M16: 0 | N16: 1296 | O16: 925 | P16: 371 | Q16: 2108 | R16: 1307 | S16: 801 | T16: 1717 | U16: 1036 | V16: 681 | W16: 3975 | X16: 2105 | Y16: 1870 | Z16: 1.59 | AA16: 1.11 | AC16: 180916 | AD16: 565554
A17: 彰化縣 | B17: 6685 | C17: 4298 | D17: 2387 | E17: 11629 | F17: 6471 | G17: 5158 | H17: 2 | I17: 2 | J17: 0 | K17: 2 | L17: 2 | M17: 0 | N17: 78 | O17: 53 | P17: 25 | Q17: 115 | R17: 72 | S17: 43 | T17: 6605 | U17: 4243 | V17: 2362 | W17: 11512 | X17: 6397 | Y17: 5115 | Z17: 1.72 | AA17: 0.91 | AC17: 375940 | AD17: 1296013
A18: 南投縣 | B18: 3068 | C18: 2118 | D18: 950 | E18: 6021 | F18: 3429 | G18: 2592 | H18: 11 | I18: 10 | J18: 1 | K18: 12 | L18: 11 | M18: 1 | N18: 283 | O18: 184 | P18: 99 | Q18: 566 | R18: 312 | S18: 254 | T18: 2774 | U18: 1924 | V18: 850 | W18: 5443 | X18: 3106 | Y18: 2337 | Z18: 1.72 | AA18: 1.21 | AC18: 175452 | AD18: 517222
... A29: 連江縣 | B29: 53 | C29: 33 | D29: 20 | E29: 102 | F29: 57 | G29: 45 | H29: 13 | I29: 10 | J29: 3 | K29: 14 | L29: 11 | M29: 3 | N29: 19 | O29: 12 | P29: 7 | Q29: 31 | R29: 17 | S29: 14 | T29: 21 | U29: 11 | V29: 10 | W29: 57 | X29: 29 | Y29: 28 | Z29: 1.73 | AA29: 0.78 | AC29: 2423 | AD29: 12165
A30: 資料來源：直轄市、縣﹝市﹞政府。

Sheet 106
A1: 3.1-01 低收入戶戶數及人數
A2: 106年底, 2017
A4: 地區別 | B4: 總計 | H4: 第1款(省、新北、臺中、臺南)、第0類(臺北)、第1類(高雄) | N4: 第2款(省、新北、臺中、臺南)、第1、2類(臺北)、第2類(高雄) | T4: 第3款(省、新北、臺中、臺南)、第3、4類(臺北、高雄) | Z4: 低收入戶戶數占總戶數比率(%) | AA4: 低收入戶人數占總人數比率(%)
B5: 戶數(戶長性別) | E5: 人數 | H5: 戶數 | K5: 人數 | N5: 戶數 | Q5: 人數 | T5: 戶數 | W5: 人數
B6: 計 | C6: 男 | D6: 女 | E6: 計 | F6: 男 | G6: 女 | H6: 計 | I6: 男 | J6: 女 | K6: 計 | L6: 男 | M6: 女 | N6: 計 | O6: 男 | P6: 女 | Q6: 計 | R6: 男 | S6: 女 | T6: 計 | U6: 男 | V6: 女 | W6: 計 | X6: 男 | Y6: 女
A7: 總計 | B7: 142814 | C7: 87828 | D7: 54986 | E7: 317257 | F7: 167287 | G7: 149970 | H7: 3328 | I7: 2500 | J7: 828 | K7: 3448 | L7: 2561 | M7: 887 | N7: 32748 | O7: 21889 | P7: 10859 | Q7: 53142 | R7: 31358 | S7: 21784 | T7: 106738 | U7: 63439 | V7: 43299 | W7: 260667 | X7: 133368 | Y7: 127299 | Z7: 1.65 | AA7: 1.35 | AC7: 8286260 | AD7: 23373517
A8: 新北市 | B8: 19288 | C8: 11549 | D8: 7739 | E8: 43785 | F8: 22773 | G8: 21012 | H8: 70 | I8: 55 | J8: 15 | K8: 73 | L8: 55 | M8: 18 | N8: 1303 | O8: 873 | P8: 430 | Q8: 2334 | R8: 1328 | S8: 1006 | T8: 17915 | U8: 10621 | V8: 7294 | W8: 41378 | X8: 21390 | Y8: 19988 | Z8: 1.25 | AA8: 1.1 | AC8: 1477857 | AD8: 3954929
A9: 臺北市 | B9: 20483 | C9: 11540 | D9: 8943 | E9: 45816 | F9: 23122 | G9: 22694 | H9: 1925 | I9: 1429 | J9: 496 | K9: 2001 | L9: 1465 | M9: 536 | N9: 5396 | O9: 3298 | P9: 2098 | Q9: 8288 | R9: 4691 | S9: 3597 | T9: 13162 | U9: 6813 | V9: 6349 | W9: 35527 | X9: 16966 | Y9: 18561 | Z9: 1.95 | AA9: 1.71 | AC9: 1026738 | AD9: 2686516
A10: 桃園市 | B10: 8224 | C10: 4625 | D10: 3599 | E10: 20856 | F10: 10576 | G10: 10280 | H10: 39 | I10: 32 | J10: 7 | K10: 42 | L10: 34 | M10: 8 | N10: 1126 | O10: 718 | P10: 408 | Q10: 2242 | R10: 1263 | S10: 979 | T10: 7059 | U10: 3875 | V10: 3184 | W10: 18572 | X10: 9279 | Y10: 9293 | Z10: 1.04 | AA10: 0.95 | AC10: 897191 | AD10: 2701661
A11: 臺中市 | B11: 18249 | C11: 10468 | D11: 7781 | E11: 43645 | F11: 22171 | G11: 21474 | H11: 489 | I11: 376 | J11: 113 | K11: 508 | L11: 389 | M11: 119 | N11: 5311 | O11: 3365 | P11: 1946 | Q11: 9735 | R11: 5462 | S11: 4273 | T11: 12449 | U11: 6727 | V11: 5722 | W11: 33402 | X11: 16320 | Y11: 17082 | Z11: 1.9 | AA11: 1.57 | AC11: 663131 | AD11: 1883208
A12: 臺南市 | B12: 9967 | C12: 6539 | D12: 3428 | E12: 20801 | F12: 11309 | G12: 9492 | H12: 328 | I12: 228 | J12: 100 | K12: 337 | L12: 232 | M12: 105 | N12: 2976 | O12: 2099 | P12: 877 | Q12: 4028 | R12: 2597 | S12: 1431 | T12: 6663 | U12: 4212 | V12: 2451 | W12: 16436 | X12: 8480 | Y12: 7956 | Z12: 1.46 | AA12: 1.1 | AC12: 1056421 | AD12: 2779877
A13: 高雄市 | B13: 19362 | C13: 11926 | D13: 7436 | E13: 44780 | F13: 23132 | G13: 21648 | H13: 95 | I13: 68 | J13: 27 | K13: 99 | L13: 71 | M13: 28 | N13: 7564 | O13: 4975 | P13: 2589 | Q13: 11847 | R13: 6939 | S13: 4908 | T13: 11703 | U13: 6883 | V13: 4820 | W13: 32834 | X13: 16122 | Y13: 16712 | Z13: 1.77 | AA13: 1.61 | AC13: 3125941 | AD13: 9234448
A14: 宜蘭縣 | B14: 2499 | C14: 1620 | D14: 879 | E14: 4485 | F14: 2517 | G14: 1968 | H14: 15 | I14: 14 | J14: 1 | K14: 16 | L14: 14 | M14: 2 | N14: 254 | O14: 192 | P14: 62 | Q14: 391 | R14: 262 | S14: 129 | T14: 2230 | U14: 1414 | V14: 816 | W14: 4078 | X14: 2241 | Y14: 1837 | Z14: 1.48 | AA14: 0.98 | AC14: 716582 | AD14: 2044023
A15: 新竹縣 | B15: 1776 | C15: 1198 | D15: 578 | E15: 4321 | F15: 2338 | G15: 1983 | H15: 18 | I15: 17 | J15: 1 | K15: 18 | L15: 17 | M15: 1 | N15: 212 | O15: 166 | P15: 46 | Q15: 348 | R15: 225 | S15: 123 | T15: 1546 | U15: 1015 | V15: 531 | W15: 3955 | X15: 2096 | Y15: 1859 | Z15: 0.93 | AA15: 0.78 | AC15: 174836 | AD15: 530486
A16: 苗栗縣 | B16: 2899 | C16: 1915 | D16: 984 | E16: 5920 | F16: 3332 | G16: 2588 | H16: 3 | I16: 3 | J16: 0 | K16: 3 | L16: 3 | M16: 0 | N16: 1295 | O16: 932 | P16: 363 | Q16: 2084 | R16: 1299 | S16: 785 | T16: 1601 | U16: 980 | V16: 621 | W16: 3833 | X16: 2030 | Y16: 1803 | Z16: 1.54 | AA16: 1.07 | AC16: 180916 | AD16: 565554
A17: 彰化縣 | B17: 6354 | C17: 4111 | D17: 2243 | E17: 11172 | F17: 6262 | G17: 4910 | H17: 3 | I17: 3 | J17: 0 | K17: 3 | L17: 3 | M17: 0 | N17: 75 | O17: 49 | P17: 26 | Q17: 125 | R17: 72 | S17: 53 | T17: 6276 | U17: 4059 | V17: 2217 | W17: 11044 | X17: 6187 | Y17: 4857 | Z17: 1.64 | AA17: 0.87 | AC17: 375940 | AD17: 1296013
A18: 南投縣 | B18: 3126 | C18: 2134 | D18: 992 | E18: 6188 | F18: 3481 | G18: 2707 | H18: 15 | I18: 12 | J18: 3 | K18: 16 | L18: 13 | M18: 3 | N18: 347 | O18: 229 | P18: 118 | Q18: 698 | R18: 392 | S18: 306 | T18: 2764 | U18: 1893 | V18: 871 | W18: 5474 | X18: 3076 | Y18: 2398 | Z18: 1.76 | AA18: 1.24 | AC18: 175452 | AD18: 517222
... A29: 連江縣 | B29: 49 | C29: 35 | D29: 14 | E29: 105 | F29: 62 | G29: 43 | H29: 10 | I29: 8 | J29: 2 | K29: 10 | L29: 8 | M29: 2 | N29: 14 | O29: 8 | P29: 6 | Q29: 31 | R29: 14 | S29: 17 | T29: 25 | U29: 19 | V29: 6 | W29: 64 | X29: 40 | Y29: 24 | Z29: 1.72 | AA29: 0.82 | AC29: 2423 | AD29: 12165
A30: 資料來源：直轄市、縣﹝市﹞政府。

Sheet 105
A1: 3.1-01 低收入戶戶數及人數
A2: 105年底, 2016
A4: 地區別 | B4: 總計 | H4: 第1款(省、新北、臺中、臺南)、第0類(臺北)、第1類(高雄) | N4: 第2款(省、新北、臺中、臺南)、第1、2類(臺北)、第2類(高雄) | T4: 第3款(省、新北、臺中、臺南)、第3、4類(臺北、高雄) | Z4: 低收入戶戶數占總戶數比率(%) | AA4: 低收入戶人數占總人數比率(%)
B5: 戶數(戶長性別) | E5: 人數 | H5: 戶數 | K5: 人數 | N5: 戶數 | Q5: 人數 | T5: 戶數 | W5: 人數
B6: 計 | C6: 男 | D6: 女 | E6: 計 | F6: 男 | G6: 女 | H6: 計 | I6: 男 | J6: 女 | K6: 計 | L6: 男 | M6: 女 | N6: 計 | O6: 男 | P6: 女 | Q6: 計 | R6: 男 | S6: 女 | T6: 計 | U6: 男 | V6: 女 | W6: 計 | X6: 男 | Y6: 女
A7: 總計 | B7: 145176 | C7: 88869 | D7: 56307 | E7: 331776 | F7: 173763 | G7: 158013 | H7: 3533 | I7: 2635 | J7: 898 | K7: 3653 | L7: 2701 | M7: 952 | N7: 33216 | O7: 21978 | P7: 11238 | Q7: 56516 | R7: 32768 | S7: 23748 | T7: 108427 | U7: 64256 | V7: 44171 | W7: 271607 | X7: 138294 | Y7: 133313 | Z7: 1.7 | AA7: 1.41 | AC7: 8286260 | AD7: 23373517
A8: 新北市 | B8: 20056 | C8: 11883 | D8: 8173 | E8: 47278 | F8: 24368 | G8: 22910 | H8: 75 | I8: 58 | J8: 17 | K8: 78 | L8: 59 | M8: 19 | N8: 1361 | O8: 900 | P8: 461 | Q8: 2545 | R8: 1421 | S8: 1124 | T8: 18620 | U8: 10925 | V8: 7695 | W8: 44655 | X8: 22888 | Y8: 21767 | Z8: 1.31 | AA8: 1.19 | AC8: 1477857 | AD8: 3954929
A9: 臺北市 | B9: 20744 | C9: 11718 | D9: 9026 | E9: 47424 | F9: 23935 | G9: 23489 | H9: 2038 | I9: 1528 | J9: 510 | K9: 2114 | L9: 1568 | M9: 546 | N9: 5243 | O9: 3169 | P9: 2074 | Q9: 8564 | R9: 4759 | S9: 3805 | T9: 13463 | U9: 7021 | V9: 6442 | W9: 36746 | X9: 17608 | Y9: 19138 | Z9: 1.98 | AA9: 1.76 | AC9: 1026738 | AD9: 2686516
A10: 桃園市 | B10: 7690 | C10: 4314 | D10: 3376 | E10: 19927 | F10: 10038 | G10: 9889 | H10: 45 | I10: 38 | J10: 7 | K10: 49 | L10: 40 | M10: 9 | N10: 1069 | O10: 673 | P10: 396 | Q10: 2192 | R10: 1231 | S10: 961 | T10: 6576 | U10: 3603 | V10: 2973 | W10: 17686 | X10: 8767 | Y10: 8919 | Z10: 1 | AA10: 0.93 | AC10: 897191 | AD10: 2701661
A11: 臺中市 | B11: 18169 | C11: 10253 | D11: 7916 | E11: 44651 | F11: 22419 | G11: 22232 | H11: 463 | I11: 335 | J11: 128 | K11: 481 | L11: 348 | M11: 133 | N11: 5256 | O11: 3232 | P11: 2024 | Q11: 10351 | R11: 5636 | S11: 4715 | T11: 12450 | U11: 6686 | V11: 5764 | W11: 33819 | X11: 16435 | Y11: 17384 | Z11: 1.92 | AA11: 1.61 | AC11: 663131 | AD11: 1883208
A12: 臺南市 | B12: 10187 | C12: 6663 | D12: 3524 | E12: 22200 | F12: 11930 | G12: 10270 | H12: 375 | I12: 255 | J12: 120 | K12: 384 | L12: 259 | M12: 125 | N12: 3039 | O12: 2126 | P12: 913 | Q12: 4321 | R12: 2730 | S12: 1591 | T12: 6773 | U12: 4282 | V12: 2491 | W12: 17495 | X12: 8941 | Y12: 8554 | Z12: 1.5 | AA12: 1.18 | AC12: 1056421 | AD12: 2779877
A13: 高雄市 | B13: 20787 | C13: 12815 | D13: 7972 | E13: 49223 | F13: 25361 | G13: 23862 | H13: 111 | I13: 80 | J13: 31 | K13: 115 | L13: 83 | M13: 32 | N13: 8031 | O13: 5266 | P13: 2765 | Q13: 13228 | R13: 7605 | S13: 5623 | T13: 12645 | U13: 7469 | V13: 5176 | W13: 35880 | X13: 17673 | Y13: 18207 | Z13: 1.92 | AA13: 1.77 | AC13: 3125941 | AD13: 9234448
A14: 宜蘭縣 | B14: 2657 | C14: 1668 | D14: 989 | E14: 5056 | F14: 2791 | G14: 2265 | H14: 15 | I14: 14 | J14: 1 | K14: 16 | L14: 14 | M14: 2 | N14: 279 | O14: 213 | P14: 66 | Q14: 441 | R14: 285 | S14: 156 | T14: 2363 | U14: 1441 | V14: 922 | W14: 4599 | X14: 2492 | Y14: 2107 | Z14: 1.59 | AA14: 1.11 | AC14: 716582 | AD14: 2044023
A15: 新竹縣 | B15: 1823 | C15: 1227 | D15: 596 | E15: 4527 | F15: 2463 | G15: 2064 | H15: 18 | I15: 17 | J15: 1 | K15: 18 | L15: 17 | M15: 1 | N15: 227 | O15: 180 | P15: 47 | Q15: 403 | R15: 253 | S15: 150 | T15: 1578 | U15: 1030 | V15: 548 | W15: 4106 | X15: 2193 | Y15: 1913 | Z15: 0.97 | AA15: 0.83 | AC15: 174836 | AD15: 530486
A16: 苗栗縣 | B16: 3079 | C16: 2015 | D16: 1064 | E16: 6679 | F16: 3670 | G16: 3009 | H16: 4 | I16: 4 | J16: 0 | K16: 4 | L16: 4 | M16: 0 | N16: 1303 | O16: 937 | P16: 366 | Q16: 2231 | R16: 1370 | S16: 861 | T16: 1772 | U16: 1074 | V16: 698 | W16: 4444 | X16: 2296 | Y16: 2148 | Z16: 1.66 | AA16: 1.19 | AC16: 180916 | AD16: 565554
A17: 彰化縣 | B17: 6175 | C17: 4003 | D17: 2172 | E17: 10909 | F17: 6102 | G17: 4807 | H17: 2 | I17: 2 | J17: 0 | K17: 2 | L17: 2 | M17: 0 | N17: 70 | O17: 45 | P17: 25 | Q17: 128 | R17: 75 | S17: 53 | T17: 6103 | U17: 3956 | V17: 2147 | W17: 10779 | X17: 6025 | Y17: 4754 | Z17: 1.61 | AA17: 0.85 | AC17: 375940 | AD17: 1296013
A18: 南投縣 | B18: 3195 | C18: 2136 | D18: 1059 | E18: 6547 | F18: 3631 | G18: 2916 | H18: 13 | I18: 10 | J18: 3 | K18: 14 | L18: 11 | M18: 3 | N18: 311 | O18: 213 | P18: 98 | Q18: 652 | R18: 368 | S18: 284 | T18: 2871 | U18: 1913 | V18: 958 | W18: 5881 | X18: 3252 | Y18: 2629 | Z18: 1.8 | AA18: 1.3 | AC18: 175452 | AD18: 517222
... A29: 連江縣 | B29: 55 | C29: 37 | D29: 18 | E29: 133 | F29: 71 | G29: 62 | H29: 11 | I29: 9 | J29: 2 | K29: 11 | L29: 9 | M29: 2 | N29: 13 | O29: 8 | P29: 5 | Q29: 25 | R29: 14 | S29: 11 | T29: 31 | U29: 20 | V29: 11 | W29: 97 | X29: 48 | Y29: 49 | Z29: 2.07 | AA29: 1.06 | AC29: 2423 | AD29: 12165
A30: 資料來源：直轄市、縣﹝市﹞政府。

Sheet 104
A1: 3.1-01 低收入戶戶數及人數
A2: 104年底, 2015
A4: 地區別 | B4: 總計 | H4: 第1款(省、新北、臺中、臺南)、第0類(臺北)、第1類(高雄) | N4: 第2款(省、新北、臺中、臺南)、第1、2類(臺北)、第2類(高雄) | T4: 第3款(省、新北、臺中、臺南)、第3、4類(臺北、高雄) | Z4: 低收入戶戶數占總戶數比率(%) | AA4: 低收入戶人數占總人數比率(%)
B5: 戶數(戶長性別) | E5: 人數 | H5: 戶數 | K5: 人數 | N5: 戶數 | Q5: 人數 | T5: 戶數 | W5: 人數
B6: 計 | C6: 男 | D6: 女 | E6: 計 | F6: 男 | G6: 女 | H6: 計 | I6: 男 | J6: 女 | K6: 計 | L6: 男 | M6: 女 | N6: 計 | O6: 男 | P6: 女 | Q6: 計 | R6: 男 | S6: 女 | T6: 計 | U6: 男 | V6: 女 | W6: 計 | X6: 男 | Y6: 女
A7: 總計 | B7: 146379 | C7: 89167 | D7: 57212 | E7: 342490 | F7: 178253 | G7: 164237 | H7: 3902 | I7: 2910 | J7: 992 | K7: 4032 | L7: 2979 | M7: 1053 | N7: 32662 | O7: 21380 | P7: 11282 | Q7: 57917 | R7: 33107 | S7: 24810 | T7: 109815 | U7: 64877 | V7: 44938 | W7: 280541 | X7: 142167 | Y7: 138374 | Z7: 1.73 | AA7: 1.46 | AC7: 8286260 | AD7: 23373517
A8: 新北市 | B8: 21988 | C8: 12803 | D8: 9185 | E8: 53789 | F8: 27316 | G8: 26473 | H8: 87 | I8: 66 | J8: 21 | K8: 92 | L8: 68 | M8: 24 | N8: 1491 | O8: 954 | P8: 537 | Q8: 2924 | R8: 1595 | S8: 1329 | T8: 20410 | U8: 11783 | V8: 8627 | W8: 50773 | X8: 25653 | Y8: 25120 | Z8: 1.46 | AA8: 1.35 | AC8: 1477857 | AD8: 3954929
A9: 臺北市 | B9: 20945 | C9: 11832 | D9: 9113 | E9: 48594 | F9: 24403 | G9: 24191 | H9: 2167 | I9: 1625 | J9: 542 | K9: 2247 | L9: 1665 | M9: 582 | N9: 5124 | O9: 3062 | P9: 2062 | Q9: 8882 | R9: 4857 | S9: 4025 | T9: 13654 | U9: 7145 | V9: 6509 | W9: 37465 | X9: 17881 | Y9: 19584 | Z9: 2.01 | AA9: 1.8 | AC9: 1026738 | AD9: 2686516
A10: 桃園市 | B10: 6927 | C10: 3880 | D10: 3047 | E10: 17963 | F10: 9070 | G10: 8893 | H10: 41 | I10: 35 | J10: 6 | K10: 44 | L10: 37 | M10: 7 | N10: 922 | O10: 566 | P10: 356 | Q10: 1900 | R10: 1052 | S10: 848 | T10: 5964 | U10: 3279 | V10: 2685 | W10: 16019 | X10: 7981 | Y10: 8038 | Z10: 0.92 | AA10: 0.85 | AC10: 897191 | AD10: 2701661
A11: 臺中市 | B11: 16086 | C11: 9033 | D11: 7053 | E11: 40247 | F11: 20116 | G11: 20131 | H11: 523 | I11: 385 | J11: 138 | K11: 541 | L11: 397 | M11: 144 | N11: 4322 | O11: 2645 | P11: 1677 | Q11: 8716 | R11: 4725 | S11: 3991 | T11: 11241 | U11: 6003 | V11: 5238 | W11: 30990 | X11: 14994 | Y11: 15996 | Z11: 1.73 | AA11: 1.47 | AC11: 663131 | AD11: 1883208
A12: 臺南市 | B12: 10203 | C12: 6614 | D12: 3589 | E12: 22843 | F12: 12180 | G12: 10663 | H12: 491 | I12: 329 | J12: 162 | K12: 499 | L12: 332 | M12: 167 | N12: 3101 | O12: 2152 | P12: 949 | Q12: 4591 | R12: 2850 | S12: 1741 | T12: 6611 | U12: 4133 | V12: 2478 | W12: 17753 | X12: 8998 | Y12: 8755 | Z12: 1.52 | AA12: 1.21 | AC12: 1056421 | AD12: 2779877
A13: 高雄市 | B13: 22811 | C13: 14002 | D13: 8809 | E13: 55256 | F13: 28347 | G13: 26909 | H13: 132 | I13: 99 | J13: 33 | K13: 136 | L13: 102 | M13: 34 | N13: 8567 | O13: 5543 | P13: 3024 | Q13: 14901 | R13: 8403 | S13: 6498 | T13: 14112 | U13: 8360 | V13: 5752 | W13: 40219 | X13: 19842 | Y13: 20377 | Z13: 2.13 | AA13: 1.99 | AC13: 3125941 | AD13: 9234448
A14: 宜蘭縣 | B14: 2670 | C14: 1662 | D14: 1008 | E14: 5212 | F14: 2842 | G14: 2370 | H14: 17 | I14: 14 | J14: 3 | K14: 18 | L14: 14 | M14: 4 | N14: 293 | O14: 221 | P14: 72 | Q14: 468 | R14: 306 | S14: 162 | T14: 2360 | U14: 1427 | V14: 933 | W14: 4726 | X14: 2522 | Y14: 2204 | Z14: 1.62 | AA14: 1.14 | AC14: 716582 | AD14: 2044023
A15: 新竹縣 | B15: 1846 | C15: 1223 | D15: 623 | E15: 4703 | F15: 2550 | G15: 2153 | H15: 25 | I15: 24 | J15: 1 | K15: 25 | L15: 24 | M15: 1 | N15: 264 | O15: 204 | P15: 60 | Q15: 487 | R15: 302 | S15: 185 | T15: 1557 | U15: 995 | V15: 562 | W15: 4191 | X15: 2224 | Y15: 1967 | Z15: 1.01 | AA15: 0.87 | AC15: 174836 | AD15: 530486
A16: 苗栗縣 | B16: 3099 | C16: 2013 | D16: 1086 | E16: 7054 | F16: 3820 | G16: 3234 | H16: 7 | I16: 7 | J16: 0 | K16: 7 | L16: 7 | M16: 0 | N16: 1257 | O16: 885 | P16: 372 | Q16: 2243 | R16: 1347 | S16: 896 | T16: 1835 | U16: 1121 | V16: 714 | W16: 4804 | X16: 2466 | Y16: 2338 | Z16: 1.68 | AA16: 1.25 | AC16: 180916 | AD16: 565554
A17: 彰化縣 | B17: 6069 | C17: 3923 | D17: 2146 | E17: 10879 | F17: 6043 | G17: 4836 | H17: 2 | I17: 2 | J17: 0 | K17: 2 | L17: 2 | M17: 0 | N17: 73 | O17: 46 | P17: 27 | Q17: 146 | R17: 85 | S17: 61 | T17: 5994 | U17: 3875 | V17: 2119 | W17: 10731 | X17: 5956 | Y17: 4775 | Z17: 1.59 | AA17: 0.84 | AC17: 375940 | AD17: 1296013
A18: 南投縣 | B18: 3699 | C18: 2395 | D18: 1304 | E18: 7821 | F18: 4274 | G18: 3547 | H18: 14 | I18: 11 | J18: 3 | K18: 17 | L18: 13 | M18: 4 | N18: 265 | O18: 160 | P18: 105 | Q18: 550 | R18: 287 | S18: 263 | T18: 3420 | U18: 2224 | V18: 1196 | W18: 7254 | X18: 3974 | Y18: 3280 | Z18: 2.09 | AA18: 1.54 | AC18: 175452 | AD18: 517222
... A29: 連江縣 | B29: 57 | C29: 36 | D29: 21 | E29: 156 | F29: 81 | G29: 75 | H29: 11 | I29: 9 | J29: 2 | K29: 11 | L29: 9 | M29: 2 | N29: 13 | O29: 5 | P29: 8 | Q29: 28 | R29: 12 | S29: 16 | T29: 33 | U29: 22 | V29: 11 | W29: 117 | X29: 60 | Y29: 57 | Z29: 2.24 | AA29: 1.24 | AC29: 2423 | AD29: 12165
A30: 資料來源：直轄市、縣﹝市﹞政府。

Sheet 103
A1: 3.1-01 低收入戶戶數及人數
A2: 103年底, 2014
A4: 地區別 | B4: 總計 | H4: 第1款(省、新北、臺中、臺南)、第0類(臺北)、第1類(高雄) | N4: 第2款(省、新北、臺中、臺南)、第1、2類(臺北)、第2類(高雄) | T4: 第3款(省、新北、臺中、臺南)、第3、4類(臺北、高雄) | Z4: 低收入戶戶數占總戶數比率(%) | AA4: 低收入戶人數占總人數比率(%)
B5: 戶數(戶長性別) | E5: 人數 | H5: 戶數 | K5: 人數 | N5: 戶數 | Q5: 人數 | T5: 戶數 | W5: 人數
B6: 計 | C6: 男 | D6: 女 | E6: 計 | F6: 男 | G6: 女 | H6: 計 | I6: 男 | J6: 女 | K6: 計 | L6: 男 | M6: 女 | N6: 計 | O6: 男 | P6: 女 | Q6: 計 | R6: 男 | S6: 女 | T6: 計 | U6: 男 | V6: 女 | W6: 計 | X6: 男 | Y6: 女
A7: 總計 | B7: 149958 | C7: 90573 | D7: 59385 | E7: 357722 | F7: 185438 | G7: 172284 | H7: 4243 | I7: 3178 | J7: 1065 | K7: 4389 | L7: 3252 | M7: 1137 | N7: 33053 | O7: 21175 | P7: 11878 | Q7: 61779 | R7: 34572 | S7: 27207 | T7: 112662 | U7: 66220 | V7: 46442 | W7: 291554 | X7: 147614 | Y7: 143940 | Z7: 1.7888988 | AA7: 1.53 | AC7: 8286260 | AD7: 23373517
A8: 新北市 | B8: 23111 | C8: 13305 | D8: 9806 | E8: 57197 | F8: 28722 | G8: 28475 | H8: 106 | I8: 82 | J8: 24 | K8: 113 | L8: 85 | M8: 28 | N8: 1765 | O8: 1103 | P8: 662 | Q8: 3507 | R8: 1889 | S8: 1618 | T8: 21240 | U8: 12120 | V8: 9120 | W8: 53577 | X8: 26748 | Y8: 26829 | Z8: 1.5438024 | AA8: 1.44 | AC8: 1477857 | AD8: 3954929
A9: 臺北市 | B9: 21204 | C9: 11962 | D9: 9242 | E9: 50021 | F9: 25033 | G9: 24988 | H9: 2318 | I9: 1758 | J9: 560 | K9: 2404 | L9: 1800 | M9: 604 | N9: 5006 | O9: 2972 | P9: 2034 | Q9: 9111 | R9: 4932 | S9: 4179 | T9: 13880 | U9: 7232 | V9: 6648 | W9: 38506 | X9: 18301 | Y9: 20205 | Z9: 2.0439521 | AA9: 1.85 | AC9: 1026738 | AD9: 2686516
A10: 臺中市 | B10: 15673 | C10: 8694 | D10: 6979 | E10: 40408 | F10: 20006 | G10: 20402 | H10: 495 | I10: 362 | J10: 133 | K10: 515 | L10: 373 | M10: 142 | N10: 4192 | O10: 2501 | P10: 1691 | Q10: 9062 | R10: 4814 | S10: 4248 | T10: 10986 | U10: 5831 | V10: 5155 | W10: 30831 | X10: 14819 | Y10: 16012 | Z10: 1.7179562 | AA10: 1.49 | AC10: 897191 | AD10: 2701661
A11: 臺南市 | B11: 10942 | C11: 7031 | D11: 3911 | E11: 25455 | F11: 13359 | G11: 12096 | H11: 573 | I11: 383 | J11: 190 | K11: 585 | L11: 388 | M11: 197 | N11: 3292 | O11: 2240 | P11: 1052 | Q11: 5217 | R11: 3119 | S11: 2098 | T11: 7077 | U11: 4408 | V11: 2669 | W11: 19653 | X11: 9852 | Y11: 9801 | Z11: 1.6379921 | AA11: 1.35 | AC11: 663131 | AD11: 1883208
A12: 高雄市 | B12: 24205 | C12: 14686 | D12: 9519 | E12: 59301 | F12: 30275 | G12: 29026 | H12: 180 | I12: 132 | J12: 48 | K12: 187 | L12: 137 | M12: 50 | N12: 8983 | O12: 5674 | P12: 3309 | Q12: 16739 | R12: 9257 | S12: 7482 | T12: 15042 | U12: 8880 | V12: 6162 | W12: 42375 | X12: 20881 | Y12: 21494 | Z12: 2.2734808 | AA12: 2.13 | AC12: 1056421 | AD12: 2779877
A13: 宜蘭縣 | B13: 3107 | C13: 1884 | D13: 1223 | E13: 6623 | F13: 3508 | G13: 3115 | H13: 24 | I13: 20 | J13: 4 | K13: 25 | L13: 20 | M13: 5 | N13: 360 | O13: 248 | P13: 112 | Q13: 669 | R13: 397 | S13: 272 | T13: 2723 | U13: 1616 | V13: 1107 | W13: 5929 | X13: 3091 | Y13: 2838 | Z13: 1.907633 | AA13: 1.44 | AC13: 160883 | AD13: 458456
A14: 桃園縣 | B14: 6213 | C14: 3444 | D14: 2769 | E14: 17361 | F14: 9521 | G14: 7840 | H14: 43 | I14: 37 | J14: 6 | K14: 46 | L14: 39 | M14: 7 | N14: 759 | O14: 460 | P14: 299 | Q14: 1611 | R14: 882 | S14: 729 | T14: 5411 | U14: 2947 | V14: 2464 | W14: 15704 | X14: 8600 | Y14: 7104 | Z14: 0.84760793 | AA14: 0.84 | AC14: 716582 | AD14: 2044023
A15: 新竹縣 | B15: 1976 | C15: 1272 | D15: 704 | E15: 5196 | F15: 2712 | G15: 2484 | H15: 37 | I15: 35 | J15: 2 | K15: 37 | L15: 35 | M15: 2 | N15: 322 | O15: 232 | P15: 90 | Q15: 664 | R15: 386 | S15: 278 | T15: 1617 | U15: 1005 | V15: 612 | W15: 4495 | X15: 2291 | Y15: 2204 | Z15: 1.1030048 | AA15: 0.97 | AC15: 174836 | AD15: 530486
A16: 苗栗縣 | B16: 3241 | C16: 2068 | D16: 1173 | E16: 7568 | F16: 4062 | G16: 3506 | H16: 6 | I16: 6 | J16: 0 | K16: 6 | L16: 6 | M16: 0 | N16: 1315 | O16: 905 | P16: 410 | Q16: 2467 | R16: 1451 | S16: 1016 | T16: 1920 | U16: 1157 | V16: 763 | W16: 5095 | X16: 2605 | Y16: 2490 | Z16: 1.769839 | AA16: 1.33 | AC16: 180916 | AD16: 565554
A17: 彰化縣 | B17: 5827 | C17: 3760 | D17: 2067 | E17: 10626 | F17: 5894 | G17: 4732 | H17: 2 | I17: 2 | J17: 0 | K17: 2 | L17: 2 | M17: 0 | N17: 75 | O17: 48 | P17: 27 | Q17: 157 | R17: 92 | S17: 65 | T17: 5750 | U17: 3710 | V17: 2040 | W17: 10467 | X17: 5800 | Y17: 4667 | Z17: 1.539006 | AA17: 0.82 | AC17: 375940 | AD17: 1296013
A18: 南投縣 | B18: 3852 | C18: 2453 | D18: 1399 | E18: 8220 | F18: 4429 | G18: 3791 | H18: 10 | I18: 9 | J18: 1 | K18: 10 | L18: 9 | M18: 1 | N18: 199 | O18: 144 | P18: 55 | Q18: 330 | R18: 209 | S18: 121 | T18: 3643 | U18: 2300 | V18: 1343 | W18: 7880 | X18: 4211 | Y18: 3669 | Z18: 2.1868968 | AA18: 1.6 | AC18: 175452 | AD18: 517222
... A29: 連江縣 | B29: 48 | C29: 30 | D29: 18 | E29: 115 | F29: 59 | G29: 56 | H29: 10 | I29: 8 | J29: 2 | K29: 10 | L29: 8 | M29: 2 | N29: 19 | O29: 9 | P29: 10 | Q29: 43 | R29: 21 | S29: 22 | T29: 19 | U29: 13 | V29: 6 | W29: 62 | X29: 30 | Y29: 32 | Z29: 1.9401778 | AA29: 0.92 | AC29: 2423 | AD29: 12165
A30: 資料來源：直轄市、縣﹝市﹞政府。

Sheet 102
A1: 3.1-01 低收入戶戶數及人數
A2: 102年底, 2013
A4: 地區別 | B4: 總計 | H4: 第1款(省、新北、臺中、臺南)、第0類(臺北)、第1類(高雄) | N4: 第2款(省、新北、臺中、臺南)、第1、2類(臺北)、第2類(高雄) | T4: 第3款(省、新北、臺中、臺南)、第3、4類(臺北、高雄) | Z4: 低收入戶戶數佔總戶數比率(%) | AA4: 低收入戶人數佔總人數比率(%)
B5: 戶數(戶長性別) | E5: 人數 | H5: 戶數 | K5: 人數 | N5: 戶數 | Q5: 人數 | T5: 戶數 | W5: 人數
B6: 計 | C6: 男 | D6: 女 | E6: 計 | F6: 男 | G6: 女 | H6: 計 | I6: 男 | J6: 女 | K6: 計 | L6: 男 | M6: 女 | N6: 計 | O6: 男 | P6: 女 | Q6: 計 | R6: 男 | S6: 女 | T6: 計 | U6: 男 | V6: 女 | W6: 計 | X6: 男 | Y6: 女
A7: 總計 | B7: 148590 | C7: 88492 | D7: 60098 | E7: 361765 | F7: 186087 | G7: 175678 | H7: 4520 | I7: 3407 | J7: 1113 | K7: 4698 | L7: 3499 | M7: 1199 | N7: 32656 | O7: 20595 | P7: 12061 | Q7: 64022 | R7: 35199 | S7: 28823 | T7: 111414 | U7: 64490 | V7: 46924 | W7: 293045 | X7: 147389 | Y7: 145656 | Z7: =B7/AC7*100 -> 1.7932095 | AA7: =E7/AD7*100 -> 1.5477559 | AC7: 8286260 | AD7: 23373517
A8: 新北市 | B8: 24215 | C8: 13808 | D8: 10407 | E8: 61349 | F8: 31109 | G8: 30240 | H8: 129 | I8: 93 | J8: 36 | K8: 133 | L8: 93 | M8: 40 | N8: 2116 | O8: 1296 | P8: 820 | Q8: 4594 | R8: 2420 | S8: 2174 | T8: 21970 | U8: 12419 | V8: 9551 | W8: 56622 | X8: 28596 | Y8: 28026 | Z8: =B8/AC8*100 -> 1.6385212 | AA8: =E8/AD8*100 -> 1.5512036 | AC8: 1477857 | AD8: 3954929
A9: 臺北市 | B9: 21066 | C9: 11454 | D9: 9612 | E9: 50649 | F9: 25282 | G9: 25367 | H9: 2415 | I9: 1859 | J9: 556 | K9: 2515 | L9: 1912 | M9: 603 | N9: 4829 | O9: 2781 | P9: 2048 | Q9: 9190 | R9: 4903 | S9: 4287 | T9: 13822 | U9: 6814 | V9: 7008 | W9: 38944 | X9: 18467 | Y9: 20477 | Z9: =B9/AC9*100 -> 2.0517406 | AA9: =E9/AD9*100 -> 1.8853042 | AC9: 1026738 | AD9: 2686516
A10: 臺中市 | B10: 14783 | C10: 8103 | D10: 6680 | E10: 38708 | F10: 19001 | G10: 19707 | H10: 403 | I10: 281 | J10: 122 | K10: 420 | L10: 289 | M10: 131 | N10: 3680 | O10: 2147 | P10: 1533 | Q10: 8385 | R10: 4367 | S10: 4018 | T10: 10700 | U10: 5675 | V10: 5025 | W10: 29903 | X10: 14345 | Y10: 15558 | Z10: =B10/AC10*100 -> 1.6476982 | AA10: =E10/AD10*100 -> 1.4327482 | AC10: 897191 | AD10: 2701661
A11: 臺南市 | B11: 10921 | C11: 6932 | D11: 3989 | E11: 26078 | F11: 13620 | G11: 12458 | H11: 602 | I11: 405 | J11: 197 | K11: 624 | L11: 416 | M11: 208 | N11: 3292 | O11: 2203 | P11: 1089 | Q11: 5620 | R11: 3262 | S11: 2358 | T11: 7027 | U11: 4324 | V11: 2703 | W11: 19834 | X11: 9942 | Y11: 9892 | Z11: =B11/AC11*100 -> 1.6468843 | AA11: =E11/AD11*100 -> 1.3847647 | AC11: 663131 | AD11: 1883208
A12: 高雄市 | B12: 24208 | C12: 14581 | D12: 9627 | E12: 59985 | F12: 30533 | G12: 29452 | H12: 213 | I12: 157 | J12: 56 | K12: 220 | L12: 161 | M12: 59 | N12: 8782 | O12: 5541 | P12: 3241 | Q12: 16821 | R12: 9223 | S12: 7598 | T12: 15213 | U12: 8883 | V12: 6330 | W12: 42944 | X12: 21149 | Y12: 21795 | Z12: =B12/AC12*100 -> 2.2915107 | AA12: =E12/AD12*100 -> 2.1578293 | AC12: 1056421 | AD12: 2779877
A13: 宜蘭縣 | B13: 3104 | C13: 1860 | D13: 1244 | E13: 7027 | F13: 3667 | G13: 3360 | H13: 26 | I13: 22 | J13: 4 | K13: 27 | L13: 22 | M13: 5 | N13: 402 | O13: 270 | P13: 132 | Q13: 792 | R13: 457 | S13: 335 | T13: 2676 | U13: 1568 | V13: 1108 | W13: 6208 | X13: 3188 | Y13: 3020 | Z13: =B13/AC13*100 -> 1.9293524 | AA13: =E13/AD13*100 -> 1.5327534 | AC13: 160883 | AD13: 458456
A14: 桃園縣 | B14: 5858 | C14: 3234 | D14: 2624 | E14: 15568 | F14: 7813 | G14: 7755 | H14: 52 | I14: 43 | J14: 9 | K14: 55 | L14: 45 | M14: 10 | N14: 713 | O14: 430 | P14: 283 | Q14: 1563 | R14: 852 | S14: 711 | T14: 5093 | U14: 2761 | V14: 2332 | W14: 13950 | X14: 6916 | Y14: 7034 | Z14: =B14/AC14*100 -> 0.81749193 | AA14: =E14/AD14*100 -> 0.76163527 | AC14: 716582 | AD14: 2044023
A15: 新竹縣 | B15: 2033 | C15: 1305 | D15: 728 | E15: 5580 | F15: 2875 | G15: 2705 | H15: 44 | I15: 41 | J15: 3 | K15: 44 | L15: 41 | M15: 3 | N15: 406 | O15: 270 | P15: 136 | Q15: 923 | R15: 509 | S15: 414 | T15: 1583 | U15: 994 | V15: 589 | W15: 4613 | X15: 2325 | Y15: 2288 | Z15: =B15/AC15*100 -> 1.162804 | AA15: =E15/AD15*100 -> 1.0518656 | AC15: 174836 | AD15: 530486
A16: 苗栗縣 | B16: 3196 | C16: 1998 | D16: 1198 | E16: 7711 | F16: 4113 | G16: 3598 | H16: 9 | I16: 9 | J16: 0 | K16: 9 | L16: 9 | M16: 0 | N16: 1304 | O16: 881 | P16: 423 | Q16: 2526 | R16: 1452 | S16: 1074 | T16: 1883 | U16: 1108 | V16: 775 | W16: 5176 | X16: 2652 | Y16: 2524 | Z16: =B16/AC16*100 -> 1.7665657 | AA16: =E16/AD16*100 -> 1.3634419 | AC16: 180916 | AD16: 565554
A17: 彰化縣 | B17: 5794 | C17: 3750 | D17: 2044 | E17: 10557 | F17: 5880 | G17: 4677 | H17: 3 | I17: 3 | J17: 0 | K17: 3 | L17: 3 | M17: 0 | N17: 85 | O17: 55 | P17: 30 | Q17: 173 | R17: 95 | S17: 78 | T17: 5706 | U17: 3692 | V17: 2014 | W17: 10381 | X17: 5782 | Y17: 4599 | Z17: =B17/AC17*100 -> 1.5412034 | AA17: =E17/AD17*100 -> 0.81457516 | AC17: 375940 | AD17: 1296013
A18: 南投縣 | B18: 3875 | C18: 2448 | D18: 1427 | E18: 8486 | F18: 4518 | G18: 3968 | H18: 12 | I18: 9 | J18: 3 | K18: 12 | L18: 9 | M18: 3 | N18: 216 | O18: 160 | P18: 56 | Q18: 373 | R18: 229 | S18: 144 | T18: 3647 | U18: 2279 | V18: 1368 | W18: 8101 | X18: 4280 | Y18: 3821 | Z18: =B18/AC18*100 -> 2.2085813 | AA18: =E18/AD18*100 -> 1.6406881 | AC18: 175452 | AD18: 517222
... A29: 連江縣 | B29: 47 | C29: 30 | D29: 17 | E29: 110 | F29: 58 | G29: 52 | H29: 12 | I29: 10 | J29: 2 | K29: 12 | L29: 10 | M29: 2 | N29: 18 | O29: 9 | P29: 9 | Q29: 47 | R29: 21 | S29: 26 | T29: 17 | U29: 11 | V29: 6 | W29: 51 | X29: 27 | Y29: 24 | Z29: =B29/AC29*100 -> 1.9397441 | AA29: =E29/AD29*100 -> 0.90423346 | AC29: 2423 | AD29: 12165
A30: 資料來源：直轄市、縣﹝市﹞政府。

Sheet 101
A1: 3.1-01 低收入戶戶數及人數
A2: 101年底, 2012
A4: 地區別 | B4: 總計 | H4: 第1款(省、新北、臺中、臺南)、第0類(臺北)、第1類(高雄) | N4: 第2款(省、新北、臺中、臺南)、第1、2類(臺北)、第2類(高雄) | T4: 第3款(省、新北、臺中、臺南)、第3、4類(臺北、高雄) | Z4: 低收入戶戶數佔總戶數比率(%) | AA4: 低收入戶人數佔總人數比率(%)
B5: 戶數(戶長性別) | E5: 人數 | H5: 戶數 | K5: 人數 | N5: 戶數 | Q5: 人數 | T5: 戶數 | W5: 人數
B6: 計 | C6: 男 | D6: 女 | E6: 計 | F6: 男 | G6: 女 | H6: 計 | I6: 男 | J6: 女 | K6: 計 | L6: 男 | M6: 女 | N6: 計 | O6: 男 | P6: 女 | Q6: 計 | R6: 男 | S6: 女 | T6: 計 | U6: 男 | V6: 女 | W6: 計 | X6: 男 | Y6: 女
A7: 總計 | B7: 145613 | C7: 86274 | D7: 59339 | E7: 357446 | F7: 182335 | G7: 175111 | H7: 4364 | I7: 3282 | J7: 1082 | K7: 4582 | L7: 3382 | M7: 1200 | N7: 31095 | O7: 19257 | P7: 11838 | Q7: 63984 | R7: 34394 | S7: 29590 | T7: 110154 | U7: 63735 | V7: 46419 | W7: 288880 | X7: 144559 | Y7: 144321 | Z7: 1.78 | AA7: 1.53
A8: 新北市 | B8: 23672 | C8: 13393 | D8: 10279 | E8: 61085 | F8: 30409 | G8: 30676 | H8: 160 | I8: 114 | J8: 46 | K8: 174 | L8: 113 | M8: 61 | N8: 2341 | O8: 1410 | P8: 931 | Q8: 5187 | R8: 2717 | S8: 2470 | T8: 21171 | U8: 11869 | V8: 9302 | W8: 55724 | X8: 27579 | Y8: 28145 | Z8: 1.62 | AA8: 1.55
A9: 臺北市 | B9: 21001 | C9: 11424 | D9: 9577 | E9: 51282 | F9: 25517 | G9: 25765 | H9: 2536 | I9: 1938 | J9: 598 | K9: 2656 | L9: 1997 | M9: 659 | N9: 4614 | O9: 2621 | P9: 1993 | Q9: 9147 | R9: 4782 | S9: 4365 | T9: 13851 | U9: 6865 | V9: 6986 | W9: 39479 | X9: 18738 | Y9: 20741 | Z9: 2.06 | AA9: 1.92
A10: 臺中市 | B10: 11633 | C10: 6359 | D10: 5274 | E10: 30645 | F10: 15007 | G10: 15638 | H10: 162 | I10: 118 | J10: 44 | K10: 168 | L10: 121 | M10: 47 | N10: 2150 | O10: 1191 | P10: 959 | Q10: 5032 | R10: 2539 | S10: 2493 | T10: 9321 | U10: 5050 | V10: 4271 | W10: 25445 | X10: 12347 | Y10: 13098 | Z10: 1.32 | AA10: 1.14
A11: 臺南市 | B11: 10952 | C11: 6814 | D11: 4138 | E11: 26229 | F11: 13477 | G11: 12752 | H11: 511 | I11: 340 | J11: 171 | K11: 542 | L11: 353 | M11: 189 | N11: 3060 | O11: 1978 | P11: 1082 | Q11: 5659 | R11: 3150 | S11: 2509 | T11: 7381 | U11: 4496 | V11: 2885 | W11: 20028 | X11: 9974 | Y11: 10054 | Z11: 1.67 | AA11: 1.39
A12: 高雄市 | B12: 24148 | C12: 14231 | D12: 9917 | E12: 59935 | F12: 30192 | G12: 29743 | H12: 262 | I12: 197 | J12: 65 | K12: 277 | L12: 204 | M12: 73 | N12: 8912 | O12: 5455 | P12: 3457 | Q12: 18127 | R12: 9634 | S12: 8493 | T12: 14974 | U12: 8579 | V12: 6395 | W12: 41531 | X12: 20354 | Y12: 21177 | Z12: 2.31 | AA12: 2.16
A13: 宜蘭縣 | B13: 3170 | C13: 1872 | D13: 1298 | E13: 7391 | F13: 3786 | G13: 3605 | H13: 29 | I13: 25 | J13: 4 | K13: 30 | L13: 25 | M13: 5 | N13: 451 | O13: 290 | P13: 161 | Q13: 957 | R13: 538 | S13: 419 | T13: 2690 | U13: 1557 | V13: 1133 | W13: 6404 | X13: 3223 | Y13: 3181 | Z13: 1.99 | AA13: 1.61
A14: 桃園縣 | B14: 5643 | C14: 3082 | D14: 2561 | E14: 15185 | F14: 7543 | G14: 7642 | H14: 53 | I14: 42 | J14: 11 | K14: 54 | L14: 43 | M14: 11 | N14: 692 | O14: 413 | P14: 279 | Q14: 1519 | R14: 818 | S14: 701 | T14: 4898 | U14: 2627 | V14: 2271 | W14: 13612 | X14: 6682 | Y14: 6930 | Z14: 0.8 | AA14: 0.75
A15: 新竹縣 | B15: 2079 | C15: 1319 | D15: 760 | E15: 5650 | F15: 2879 | G15: 2771 | H15: 54 | I15: 51 | J15: 3 | K15: 54 | L15: 51 | M15: 3 | N15: 415 | O15: 268 | P15: 147 | Q15: 978 | R15: 509 | S15: 469 | T15: 1610 | U15: 1000 | V15: 610 | W15: 4618 | X15: 2319 | Y15: 2299 | Z15: 1.22 | AA15: 1.08
A16: 苗栗縣 | B16: 3146 | C16: 1965 | D16: 1181 | E16: 7887 | F16: 4175 | G16: 3712 | H16: 10 | I16: 10 | J16: 0 | K16: 10 | L16: 10 | M16: 0 | N16: 1321 | O16: 873 | P16: 448 | Q16: 2818 | R16: 1569 | S16: 1249 | T16: 1815 | U16: 1082 | V16: 733 | W16: 5059 | X16: 2596 | Y16: 2463 | Z16: 1.76 | AA16: 1.4
A17: 彰化縣 | B17: 5643 | C17: 3682 | D17: 1961 | E17: 10329 | F17: 5785 | G17: 4544 | H17: 3 | I17: 2 | J17: 1 | K17: 3 | L17: 2 | M17: 1 | N17: 102 | O17: 64 | P17: 38 | Q17: 207 | R17: 109 | S17: 98 | T17: 5538 | U17: 3616 | V17: 1922 | W17: 10119 | X17: 5674 | Y17: 4445 | Z17: 1.52 | AA17: 0.79
A18: 南投縣 | B18: 3879 | C18: 2449 | D18: 1430 | E18: 8780 | F18: 4623 | G18: 4157 | H18: 14 | I18: 11 | J18: 3 | K18: 14 | L18: 11 | M18: 3 | N18: 234 | O18: 170 | P18: 64 | Q18: 411 | R18: 249 | S18: 162 | T18: 3631 | U18: 2268 | V18: 1363 | W18: 8355 | X18: 4363 | Y18: 3992 | Z18: 2.22 | AA18: 1.69
... A29: 連江縣 | B29: 53 | C29: 34 | D29: 19 | E29: 124 | F29: 65 | G29: 59 | H29: 10 | I29: 8 | J29: 2 | K29: 10 | L29: 8 | M29: 2 | N29: 20 | O29: 11 | P29: 9 | Q29: 55 | R29: 24 | S29: 31 | T29: 23 | U29: 15 | V29: 8 | W29: 59 | X29: 33 | Y29: 26 | Z29: 2.29 | AA29: 1.1
A30: 資料來源：直轄市、縣﹝市﹞政府。

Sheet 100
A1: 3.1-01 低收入戶戶數及人數
A2: 100年底, 2011
A4: 地區別 | B4: 總計 | H4: 第1款(省、新北、臺中、臺南)、第0類(臺北)、第1類(高雄) | N4: 第2款(省、新北、臺中、臺南)、第1、2類(臺北)、第2類(高雄) | T4: 第3款(省、新北、臺中、臺南)、第3、4類(臺北、高雄) | Z4: 低收入戶戶數佔總戶數比率(%) | AA4: 低收入戶人數佔總人數比率(%)
B5: 戶數(戶長性別) | E5: 人數 | H5: 戶數 | K5: 人數 | N5: 戶數 | Q5: 人數 | T5: 戶數 | W5: 人數
B6: 計 | C6: 男 | D6: 女 | E6: 計 | F6: 男 | G6: 女 | H6: 計 | I6: 男 | J6: 女 | K6: 計 | L6: 男 | M6: 女 | N6: 計 | O6: 男 | P6: 女 | Q6: 計 | R6: 男 | S6: 女 | T6: 計 | U6: 男 | V6: 女 | W6: 計 | X6: 男 | Y6: 女
A7: 總計 | B7: 128237 | C7: 74638 | D7: 53599 | E7: 314282 | F7: 160644 | G7: 153638 | H7: 4253 | I7: 3209 | J7: 1044 | K7: 4482 | L7: 3320 | M7: 1162 | N7: 26999 | O7: 16349 | P7: 10650 | Q7: 56295 | R7: 29479 | S7: 26816 | T7: 96985 | U7: 55080 | V7: 41905 | W7: 253505 | X7: 127845 | Y7: 125660 | Z7: 1.59 | AA7: 1.35
A8: 新北市 | B8: 19213 | C8: 10765 | D8: 8448 | E8: 49389 | F8: 24343 | G8: 25046 | H8: 171 | I8: 117 | J8: 54 | K8: 186 | L8: 122 | M8: 64 | N8: 2394 | O8: 1426 | P8: 968 | Q8: 5436 | R8: 2822 | S8: 2614 | T8: 16648 | U8: 9222 | V8: 7426 | W8: 43767 | X8: 21399 | Y8: 22368 | Z8: 1.34 | AA8: 1.26
A9: 臺北市 | B9: 19427 | C9: 10575 | D9: 8852 | E9: 47597 | F9: 24640 | G9: 22957 | H9: 2572 | I9: 1997 | J9: 575 | K9: 2679 | L9: 2066 | M9: 613 | N9: 4148 | O9: 2339 | P9: 1809 | Q9: 8457 | R9: 4143 | S9: 4314 | T9: 12707 | U9: 6239 | V9: 6468 | W9: 36461 | X9: 18431 | Y9: 18030 | Z9: 1.94 | AA9: 1.8
A10: 臺中市 | B10: 8319 | C10: 4366 | D10: 3953 | E10: 21217 | F10: 10237 | G10: 10980 | H10: 106 | I10: 81 | J10: 25 | K10: 107 | L10: 81 | M10: 26 | N10: 1053 | O10: 527 | P10: 526 | Q10: 2516 | R10: 1182 | S10: 1334 | T10: 7160 | U10: 3758 | V10: 3402 | W10: 18594 | X10: 8974 | Y10: 9620 | Z10: 0.96 | AA10: 0.8
A11: 臺南市 | B11: 9621 | C11: 5364 | D11: 4257 | E11: 23771 | F11: 12171 | G11: 11600 | H11: 394 | I11: 259 | J11: 135 | K11: 431 | L11: 274 | M11: 157 | N11: 2164 | O11: 1283 | P11: 881 | Q11: 4529 | R11: 2396 | S11: 2133 | T11: 7063 | U11: 3822 | V11: 3241 | W11: 18811 | X11: 9501 | Y11: 9310 | Z11: 1.48 | AA11: 1.27
A12: 高雄市 | B12: 20957 | C12: 11870 | D12: 9087 | E12: 50426 | F12: 25233 | G12: 25193 | H12: 285 | I12: 202 | J12: 83 | K12: 307 | L12: 211 | M12: 96 | N12: 7950 | O12: 4628 | P12: 3322 | Q12: 15903 | R12: 8323 | S12: 7580 | T12: 12722 | U12: 7040 | V12: 5682 | W12: 34216 | X12: 16699 | Y12: 17517 | Z12: 2.02 | AA12: 1.82
A13: 宜蘭縣 | B13: 3072 | C13: 1844 | D13: 1228 | E13: 7373 | F13: 3767 | G13: 3606 | H13: 33 | I13: 26 | J13: 7 | K13: 35 | L13: 27 | M13: 8 | N13: 584 | O13: 387 | P13: 197 | Q13: 1310 | R13: 740 | S13: 570 | T13: 2455 | U13: 1431 | V13: 1024 | W13: 6028 | X13: 3000 | Y13: 3028 | Z13: 1.96 | AA13: 1.61
A14: 桃園縣 | B14: 5104 | C14: 2691 | D14: 2413 | E14: 13676 | F14: 6805 | G14: 6871 | H14: 65 | I14: 51 | J14: 14 | K14: 68 | L14: 52 | M14: 16 | N14: 701 | O14: 425 | P14: 276 | Q14: 1615 | R14: 852 | S14: 763 | T14: 4338 | U14: 2215 | V14: 2123 | W14: 11993 | X14: 5901 | Y14: 6092 | Z14: 0.74 | AA14: 0.68
A15: 新竹縣 | B15: 1896 | C15: 1153 | D15: 743 | E15: 5097 | F15: 2634 | G15: 2463 | H15: 54 | I15: 51 | J15: 3 | K15: 55 | L15: 52 | M15: 3 | N15: 465 | O15: 278 | P15: 187 | Q15: 1087 | R15: 547 | S15: 540 | T15: 1377 | U15: 824 | V15: 553 | W15: 3955 | X15: 2035 | Y15: 1920 | Z15: 1.15 | AA15: 0.98
A16: 苗栗縣 | B16: 2748 | C16: 1695 | D16: 1053 | E16: 6691 | F16: 3507 | G16: 3184 | H16: 13 | I16: 13 | J16: 0 | K16: 14 | L16: 13 | M16: 1 | N16: 900 | O16: 606 | P16: 294 | Q16: 1930 | R16: 1096 | S16: 834 | T16: 1835 | U16: 1076 | V16: 759 | W16: 4747 | X16: 2398 | Y16: 2349 | Z16: 1.57 | AA16: 1.19
A17: 彰化縣 | B17: 5449 | C17: 3545 | D17: 1904 | E17: 9897 | F17: 5515 | G17: 4382 | H17: 2 | I17: 2 | J17: 0 | K17: 2 | L17: 2 | M17: 0 | N17: 129 | O17: 76 | P17: 53 | Q17: 286 | R17: 144 | S17: 142 | T17: 5318 | U17: 3467 | V17: 1851 | W17: 9609 | X17: 5369 | Y17: 4240 | Z17: 1.48 | AA17: 0.76
A18: 南投縣 | B18: 3808 | C18: 2399 | D18: 1409 | E18: 8777 | F18: 4620 | G18: 4157 | H18: 19 | I18: 16 | J18: 3 | K18: 19 | L18: 16 | M18: 3 | N18: 242 | O18: 178 | P18: 64 | Q18: 453 | R18: 267 | S18: 186 | T18: 3547 | U18: 2205 | V18: 1342 | W18: 8305 | X18: 4337 | Y18: 3968 | Z18: 2.21 | AA18: 1.68
... A29: 連江縣 | B29: 51 | C29: 30 | D29: 21 | E29: 121 | F29: 63 | G29: 58 | H29: 17 | I29: 11 | J29: 6 | K29: 17 | L29: 11 | M29: 6 | N29: 16 | O29: 6 | P29: 10 | Q29: 53 | R29: 21 | S29: 32 | T29: 18 | U29: 13 | V29: 5 | W29: 51 | X29: 31 | Y29: 20 | Z29: 2.32 | AA29: 1.2
A30: 資料來源：直轄市、縣﹝市﹞政府。

Sheet 99
A1: 3.1-01 低收入戶戶數及人數
A2: 99年底, 2010
A4: 地區別 | B4: 總計 | H4: 第1款(省)、第0類(臺北)、第1類(高雄) | N4: 第2款(省)、第1、2類(臺北)、第2類(高雄) | T4: 第3款(省)、第3、4類(臺北、高雄) | Z4: 低收入戶戶數佔總戶數比率(%) | AA4: 低收入戶人數佔總人數比率(%)
B5: 戶數(戶長性別) | E5: 人數 | H5: 戶數 | K5: 人數 | N5: 戶數 | Q5: 人數 | T5: 戶數 | W5: 人數
B6: 計 | C6: 男 | D6: 女 | E6: 計 | F6: 男 | G6: 女 | H6: 計 | I6: 男 | J6: 女 | K6: 計 | L6: 男 | M6: 女 | N6: 計 | O6: 男 | P6: 女 | Q6: 計 | R6: 男 | S6: 女 | T6: 計 | U6: 男 | V6: 女 | W6: 計 | X6: 男 | Y6: 女
A7: 總計 | B7: 112200 | C7: 65575 | D7: 46625 | E7: 273361 | F7: 140672 | G7: 132689 | H7: 4085 | I7: 3091 | J7: 994 | K7: 4271 | L7: 3198 | M7: 1073 | N7: 24201 | O7: 14612 | P7: 9589 | Q7: 51788 | R7: 27026 | S7: 24762 | T7: 83914 | U7: 47872 | V7: 36042 | W7: 217302 | X7: 110448 | Y7: 106854 | Z7: 1.41 | AA7: 1.18
A8: 臺北縣 | B8: 15171 | C8: 8323 | D8: 6848 | E8: 38172 | F8: 19611 | G8: 18561 | H8: 183 | I8: 123 | J8: 60 | K8: 193 | L8: 129 | M8: 64 | N8: 2291 | O8: 1358 | P8: 933 | Q8: 5130 | R8: 2615 | S8: 2515 | T8: 12697 | U8: 6842 | V8: 5855 | W8: 32849 | X8: 16867 | Y8: 15982 | Z8: 1.08 | AA8: 0.98
A9: 宜蘭縣 | B9: 3104 | C9: 1886 | D9: 1218 | E9: 7651 | F9: 3932 | G9: 3719 | H9: 44 | I9: 36 | J9: 8 | K9: 46 | L9: 37 | M9: 9 | N9: 722 | O9: 464 | P9: 258 | Q9: 1719 | R9: 939 | S9: 780 | T9: 2338 | U9: 1386 | V9: 952 | W9: 5886 | X9: 2956 | Y9: 2930 | Z9: 2.02 | AA9: 1.66
A10: 桃園縣 | B10: 4964 | C10: 2585 | D10: 2379 | E10: 13568 | F10: 6699 | G10: 6869 | H10: 73 | I10: 56 | J10: 17 | K10: 77 | L10: 58 | M10: 19 | N10: 729 | O10: 443 | P10: 286 | Q10: 1778 | R10: 926 | S10: 852 | T10: 4162 | U10: 2086 | V10: 2076 | W10: 11713 | X10: 5715 | Y10: 5998 | Z10: 0.74 | AA10: 0.68
A11: 新竹縣 | B11: 1486 | C11: 963 | D11: 523 | E11: 3954 | F11: 2529 | G11: 1425 | H11: 59 | I11: 59 | K11: 59 | L11: 59 | N11: 445 | O11: 284 | P11: 161 | Q11: 1139 | R11: 622 | S11: 517 | T11: 982 | U11: 620 | V11: 362 | W11: 2756 | X11: 1848 | Y11: 908 | Z11: 0.92 | AA11: 0.77
A12: 苗栗縣 | B12: 2493 | C12: 1489 | D12: 1004 | E12: 6048 | F12: 3155 | G12: 2893 | H12: 13 | I12: 13 | K12: 14 | L12: 13 | M12: 1 | N12: 800 | O12: 523 | P12: 277 | Q12: 1755 | R12: 976 | S12: 779 | T12: 1680 | U12: 953 | V12: 727 | W12: 4279 | X12: 2166 | Y12: 2113 | Z12: 1.44 | AA12: 1.08
A13: 臺中縣 | B13: 3904 | C13: 2272 | D13: 1632 | E13: 10049 | F13: 5049 | G13: 5000 | H13: 4 | I13: 4 | K13: 4 | L13: 4 | N13: 342 | O13: 187 | P13: 155 | Q13: 844 | R13: 407 | S13: 437 | T13: 3558 | U13: 2081 | V13: 1477 | W13: 9201 | X13: 4638 | Y13: 4563 | Z13: 0.84 | AA13: 0.64
A14: 彰化縣 | B14: 5360 | C14: 3440 | D14: 1920 | E14: 9897 | F14: 5483 | G14: 4414 | H14: 3 | I14: 3 | K14: 3 | L14: 3 | N14: 166 | O14: 99 | P14: 67 | Q14: 374 | R14: 186 | S14: 188 | T14: 5191 | U14: 3338 | V14: 1853 | W14: 9520 | X14: 5294 | Y14: 4226 | Z14: 1.47 | AA14: 0.76
A15: 南投縣 | B15: 3818 | C15: 2355 | D15: 1463 | E15: 8719 | F15: 4647 | G15: 4072 | H15: 24 | I15: 21 | J15: 3 | K15: 24 | L15: 21 | M15: 3 | N15: 454 | O15: 262 | P15: 192 | Q15: 794 | R15: 495 | S15: 299 | T15: 3340 | U15: 2072 | V15: 1268 | W15: 7901 | X15: 4131 | Y15: 3770 | Z15: 2.24 | AA15: 1.66
A16: 雲林縣 | B16: 4060 | C16: 2781 | D16: 1279 | E16: 9732 | F16: 5198 | G16: 4534 | N16: 1753 | O16: 1313 | P16: 440 | Q16: 3187 | R16: 1926 | S16: 1261 | T16: 2307 | U16: 1468 | V16: 839 | W16: 6545 | X16: 3272 | Y16: 3273 | Z16: 1.77 | AA16: 1.36
A17: 嘉義縣 | B17: 1452 | C17: 966 | D17: 486 | E17: 3251 | F17: 1947 | G17: 1304 | H17: 15 | I17: 13 | J17: 2 | K17: 16 | L17: 14 | M17: 2 | N17: 162 | O17: 116 | P17: 46 | Q17: 242 | R17: 154 | S17: 88 | T17: 1275 | U17: 837 | V17: 438 | W17: 2993 | X17: 1779 | Y17: 1214 | Z17: 0.82 | AA17: 0.6
A18: 臺南縣 | B18: 3336 | C18: 2640 | D18: 696 | E18: 7026 | F18: 3862 | G18: 3164 | H18: 27 | I18: 19 | J18: 8 | K18: 28 | L18: 19 | M18: 9 | N18: 333 | O18: 272 | P18: 61 | Q18: 566 | R18: 339 | S18: 227 | T18: 2976 | U18: 2349 | V18: 627 | W18: 6432 | X18: 3504 | Y18: 2928 | Z18: 0.9 | AA18: 0.64
A19: 高雄縣 | B19: 5849 | C19: 3614 | D19: 2235 | E19: 14573 | F19: 7563 | G19: 7010 | H19: 95 | I19: 73 | J19: 22 | K19: 100 | L19: 75 | M19: 25 | N19: 1348 | O19: 934 | P19: 414 | Q19: 2605 | R19: 1513 | S19: 1092 | T19: 4406 | U19: 2607 | V19: 1799 | W19: 11868 | X19: 5975 | Y19: 5893 | Z19: 1.35 | AA19: 1.17
A20: 屏東縣 | B20: 7867 | C20: 5249 | D20: 2618 | E20: 19324 | F20: 10351 | G20: 8973 | H20: 52 | I20: 37 | J20: 15 | K20: 53 | L20: 38 | M20: 15 | N20: 1004 | O20: 719 | P20: 285 | Q20: 1783 | R20: 1070 | S20: 713 | T20: 6811 | U20: 4493 | V20: 2318 | W20: 17488 | X20: 9243 | Y20: 8245 | Z20: 2.84 | AA20: 2.21
A21: 臺東縣 | B21: 3914 | C21: 2405 | D21: 1509 | E21: 10788 | F21: 5674 | G21: 5114 | H21: 112 | I21: 88 | J21: 24 | K21: 117 | L21: 89 | M21: 28 | N21: 927 | O21: 634 | P21: 293 | Q21: 2355 | R21: 1314 | S21: 1041 | T21: 2875 | U21: 1683 | V21: 1192 | W21: 8316 | X21: 4271 | Y21: 4045 | Z21: 4.87 | AA21: 4.68
A22: 花蓮縣 | B22: 3139 | C22: 2090 | D22: 1049 | E22: 7404 | F22: 3978 | G22: 3426 | H22: 6 | I22: 4 | J22: 2 | K22: 6 | L22: 4 | M22: 2 | N22: 140 | O22: 86 | P22: 54 | Q22: 228 | R22: 129 | S22: 99 | T22: 2993 | U22: 2000 | V22: 993 | W22: 7170 | X22: 3845 | Y22: 3325 | Z22: 2.6 | AA22: 2.19
A23: 澎湖縣 | B23: 1388 | C23: 859 | D23: 529 | E23: 3110 | F23: 1571 | G23: 1539 | H23: 164 | I23: 98 | J23: 66 | K23: 174 | L23: 104 | M23: 70 | N23: 566 | O23: 355 | P23: 211 | Q23: 1354 | R23: 698 | S23: 656 | T23: 658 | U23: 406 | V23: 252 | W23: 1582 | X23: 769 | Y23: 813 | Z23: 4.06 | AA23: 3.21
A24: 基隆市 | B24: 1443 | C24: 747 | D24: 696 | E24: 3743 | F24: 1793 | G24: 1950 | H24: 12 | I24: 9 | J24: 3 | K24: 14 | L24: 9 | M24: 5 | N24: 429 | O24: 226 | P24: 203 | Q24: 988 | R24: 489 | S24: 499 | T24: 1002 | U24: 512 | V24: 490 | W24: 2741 | X24: 1295 | Y24: 1446 | Z24: 0.98 | AA24: 0.97
A25: 新竹市 | B25: 1268 | C25: 691 | D25: 577 | E25: 3219 | F25: 1548 | G25: 1671 | H25: 56 | I25: 41 | J25: 15 | K25: 56 | L25: 41 | M25: 15 | N25: 448 | O25: 236 | P25: 212 | Q25: 1139 | R25: 539 | S25: 600 | T25: 764 | U25: 414 | V25: 350 | W25: 2024 | X25: 968 | Y25: 1056 | Z25: 0.89 | AA25: 0.78
A26: 臺中市 | B26: 3947 | C26: 1920 | D26: 2027 | E26: 9365 | F26: 4359 | G26: 5006 | H26: 79 | I26: 61 | J26: 18 | K26: 83 | L26: 63 | M26: 20 | N26: 495 | O26: 247 | P26: 248 | Q26: 1115 | R26: 526 | S26: 589 | T26: 3373 | U26: 1612 | V26: 1761 | W26: 8167 | X26: 3770 | Y26: 4397 | Z26: 1.02 | AA26: 0.87
A27: 嘉義市 | B27: 1287 | C27: 784 | D27: 503 | E27: 2988 | F27: 1560 | G27: 1428 | H27: 52 | I27: 43 | J27: 9 | K27: 53 | L27: 44 | M27: 9 | N27: 371 | O27: 235 | P27: 136 | Q27: 636 | R27: 360 | S27: 276 | T27: 864 | U27: 506 | V27: 358 | W27: 2299 | X27: 1156 | Y27: 1143 | Z27: 1.35 | AA27: 1.1
A28: 臺南市 | B28: 4677 | C28: 2648 | D28: 2029 | E28: 12159 | F28: 5961 | G28: 6198 | H28: 343 | I28: 230 | J28: 113 | K28: 367 | L28: 246 | M28: 121 | N28: 1523 | O28: 864 | P28: 659 | Q28: 3443 | R28: 1728 | S28: 1715 | T28: 2811 | U28: 1554 | V28: 1257 | W28: 8349 | X28: 3987 | Y28: 4362 | Z28: 1.73 | AA28: 1.57
... A30: 高雄市 | B30: 10161 | C30: 5041 | D30: 5120 | E30: 24129 | F30: 11484 | G30: 12645 | H30: 126 | I30: 84 | J30: 42 | K30: 135 | L30: 88 | M30: 47 | N30: 5131 | O30: 2762 | P30: 2369 | Q30: 10821 | R30: 5350 | S30: 5471 | T30: 4904 | U30: 2195 | V30: 2709 | W30: 13173 | X30: 6046 | Y30: 7127 | Z30: 1.73 | AA30: 1.58
A31: 金門縣 | B31: 261 | C31: 150 | D31: 111 | E31: 574 | F31: 293 | G31: 281 | N31: 87 | O31: 48 | P31: 39 | Q31: 199 | R31: 97 | S31: 102 | T31: 174 | U31: 102 | V31: 72 | W31: 375 | X31: 196 | Y31: 179 | Z31: 0.8 | AA31: 0.59
A32: 連江縣 | B32: 41 | C32: 23 | D32: 18 | E32: 95 | F32: 45 | G32: 50 | H32: 13 | I32: 9 | J32: 4 | K32: 13 | L32: 9 | M32: 4 | N32: 10 | O32: 4 | P32: 6 | Q32: 30 | R32: 12 | S32: 18 | T32: 18 | U32: 10 | V32: 8 | W32: 52 | X32: 24 | Y32: 28 | Z32: 1.94 | AA32: 0.96
A33: 資料來源：直轄市、縣﹝市﹞政府。

Sheet 98
A1: 3.1-01 低收入戶戶數及人數
A2: 98年底, 2009
A4: 地區別 | B4: 總計 | H4: 第1款(省)、第0類(臺北)、第1類(高雄) | N4: 第2款(省)、第1、2類(臺北)、第2類(高雄) | T4: 第3款(省)、第3、4類(臺北、高雄) | Z4: 低收入戶戶數佔總戶數比率(%) | AA4: 低收入戶人數佔總人數比率(%)
B5: 戶數(戶長性別) | E5: 人數 | H5: 戶數 | K5: 人數 | N5: 戶數 | Q5: 人數 | T5: 戶數 | W5: 人數
B6: 計 | C6: 男 | D6: 女 | E6: 計 | F6: 男 | G6: 女 | H6: 計 | I6: 男 | J6: 女 | K6: 計 | L6: 男 | M6: 女 | N6: 計 | O6: 男 | P6: 女 | Q6: 計 | R6: 男 | S6: 女 | T6: 計 | U6: 男 | V6: 女 | W6: 計 | X6: 男 | Y6: 女
A7: 總計 | B7: 105265 | C7: 60982 | D7: 44283 | E7: 256342 | F7: 130515 | G7: 125827 | H7: 4253 | I7: 3191 | J7: 1062 | K7: 4451 | L7: 3301 | M7: 1150 | N7: 23447 | O7: 14009 | P7: 9438 | Q7: 50811 | R7: 26259 | S7: 24552 | T7: 77565 | U7: 43782 | V7: 33783 | W7: 201080 | X7: 100955 | Y7: 100125 | Z7: 1.35 | AA7: 1.11
A8: 臺北縣 | B8: 13105 | C8: 7171 | D8: 5934 | E8: 32357 | F8: 16084 | G8: 16273 | H8: 205 | I8: 138 | J8: 67 | K8: 222 | L8: 146 | M8: 76 | N8: 2042 | O8: 1195 | P8: 847 | Q8: 4464 | R8: 2311 | S8: 2153 | T8: 10858 | U8: 5838 | V8: 5020 | W8: 27671 | X8: 13627 | Y8: 14044 | Z8: 0.95 | AA8: 0.84
A9: 宜蘭縣 | B9: 3156 | C9: 1873 | D9: 1283 | E9: 7847 | F9: 3929 | G9: 3918 | H9: 42 | I9: 32 | J9: 10 | K9: 44 | L9: 33 | M9: 11 | N9: 848 | O9: 529 | P9: 319 | Q9: 2012 | R9: 1069 | S9: 943 | T9: 2266 | U9: 1312 | V9: 954 | W9: 5791 | X9: 2827 | Y9: 2964 | Z9: 2.08 | AA9: 1.7
A10: 桃園縣 | B10: 4598 | C10: 2333 | D10: 2265 | E10: 12224 | F10: 5995 | G10: 6229 | H10: 72 | I10: 57 | J10: 15 | K10: 79 | L10: 61 | M10: 18 | N10: 767 | O10: 426 | P10: 341 | Q10: 2000 | R10: 1002 | S10: 998 | T10: 3759 | U10: 1850 | V10: 1909 | W10: 10145 | X10: 4932 | Y10: 5213 | Z10: 0.7 | AA10: 0.62
A11: 新竹縣 | B11: 1385 | C11: 884 | D11: 501 | E11: 3707 | F11: 2212 | G11: 1495 | H11: 74 | I11: 74 | K11: 75 | L11: 75 | N11: 413 | O11: 260 | P11: 153 | Q11: 1078 | R11: 597 | S11: 481 | T11: 898 | U11: 550 | V11: 348 | W11: 2554 | X11: 1540 | Y11: 1014 | Z11: 0.88 | AA11: 0.73
A12: 苗栗縣 | B12: 2446 | C12: 1443 | D12: 1003 | E12: 5923 | F12: 3067 | G12: 2856 | H12: 14 | I12: 13 | J12: 1 | K12: 15 | L12: 13 | M12: 2 | N12: 876 | O12: 544 | P12: 332 | Q12: 2045 | R12: 1092 | S12: 953 | T12: 1556 | U12: 886 | V12: 670 | W12: 3863 | X12: 1962 | Y12: 1901 | Z12: 1.44 | AA12: 1.05
A13: 臺中縣 | B13: 3814 | C13: 2120 | D13: 1694 | E13: 9513 | F13: 4802 | G13: 4711 | H13: 4 | I13: 3 | J13: 1 | K13: 4 | L13: 3 | M13: 1 | N13: 315 | O13: 173 | P13: 142 | Q13: 764 | R13: 400 | S13: 364 | T13: 3495 | U13: 1944 | V13: 1551 | W13: 8745 | X13: 4399 | Y13: 4346 | Z13: 0.83 | AA13: 0.61
A14: 彰化縣 | B14: 5219 | C14: 3311 | D14: 1908 | E14: 10001 | F14: 5477 | G14: 4524 | H14: 3 | I14: 3 | K14: 3 | L14: 3 | N14: 204 | O14: 124 | P14: 80 | Q14: 458 | R14: 240 | S14: 218 | T14: 5012 | U14: 3184 | V14: 1828 | W14: 9540 | X14: 5234 | Y14: 4306 | Z14: 1.45 | AA14: 0.76
A15: 南投縣 | B15: 3488 | C15: 2204 | D15: 1284 | E15: 8249 | F15: 4343 | G15: 3906 | H15: 25 | I15: 22 | J15: 3 | K15: 25 | L15: 22 | M15: 3 | N15: 272 | O15: 199 | P15: 73 | Q15: 519 | R15: 312 | S15: 207 | T15: 3191 | U15: 1983 | V15: 1208 | W15: 7705 | X15: 4009 | Y15: 3696 | Z15: 2.06 | AA15: 1.55
A16: 雲林縣 | B16: 4153 | C16: 2784 | D16: 1369 | E16: 9963 | F16: 5306 | G16: 4657 | H16: 53 | I16: 37 | J16: 16 | K16: 56 | L16: 39 | M16: 17 | N16: 1998 | O16: 1446 | P16: 552 | Q16: 3656 | R16: 2143 | S16: 1513 | T16: 2102 | U16: 1301 | V16: 801 | W16: 6251 | X16: 3124 | Y16: 3127 | Z16: 1.83 | AA16: 1.38
A17: 嘉義縣 | B17: 1490 | C17: 1001 | D17: 489 | E17: 3375 | F17: 1802 | G17: 1573 | H17: 16 | I17: 14 | J17: 2 | K17: 17 | L17: 14 | M17: 3 | N17: 173 | O17: 123 | P17: 50 | Q17: 271 | R17: 160 | S17: 111 | T17: 1301 | U17: 864 | V17: 437 | W17: 3087 | X17: 1628 | Y17: 1459 | Z17: 0.85 | AA17: 0.62
A18: 臺南縣 | B18: 3176 | C18: 2545 | D18: 631 | E18: 6554 | F18: 3631 | G18: 2923 | H18: 33 | I18: 24 | J18: 9 | K18: 33 | L18: 24 | M18: 9 | N18: 349 | O18: 281 | P18: 68 | Q18: 604 | R18: 361 | S18: 243 | T18: 2794 | U18: 2240 | V18: 554 | W18: 5917 | X18: 3246 | Y18: 2671 | Z18: 0.87 | AA18: 0.59
A19: 高雄縣 | B19: 5195 | C19: 3194 | D19: 2001 | E19: 12842 | F19: 6707 | G19: 6135 | H19: 98 | I19: 76 | J19: 22 | K19: 103 | L19: 78 | M19: 25 | N19: 1261 | O19: 858 | P19: 403 | Q19: 2443 | R19: 1414 | S19: 1029 | T19: 3836 | U19: 2260 | V19: 1576 | W19: 10296 | X19: 5215 | Y19: 5081 | Z19: 1.22 | AA19: 1.03
A20: 屏東縣 | B20: 7438 | C20: 4893 | D20: 2545 | E20: 18519 | F20: 9821 | G20: 8698 | H20: 69 | I20: 48 | J20: 21 | K20: 69 | L20: 48 | M20: 21 | N20: 1076 | O20: 762 | P20: 314 | Q20: 1995 | R20: 1175 | S20: 820 | T20: 6293 | U20: 4083 | V20: 2210 | W20: 16455 | X20: 8598 | Y20: 7857 | Z20: 2.71 | AA20: 2.1
A21: 臺東縣 | B21: 3780 | C21: 2308 | D21: 1472 | E21: 10629 | F21: 5530 | G21: 5099 | H21: 166 | I21: 127 | J21: 39 | K21: 173 | L21: 130 | M21: 43 | N21: 982 | O21: 642 | P21: 340 | Q21: 2462 | R21: 1275 | S21: 1187 | T21: 2632 | U21: 1539 | V21: 1093 | W21: 7994 | X21: 4125 | Y21: 3869 | Z21: 4.74 | AA21: 4.57
A22: 花蓮縣 | B22: 3210 | C22: 2022 | D22: 1188 | E22: 8104 | F22: 4249 | G22: 3855 | H22: 10 | I22: 9 | J22: 1 | K22: 10 | L22: 9 | M22: 1 | N22: 232 | O22: 146 | P22: 86 | Q22: 455 | R22: 250 | S22: 205 | T22: 2968 | U22: 1867 | V22: 1101 | W22: 7639 | X22: 3990 | Y22: 3649 | Z22: 2.68 | AA22: 2.38
A23: 澎湖縣 | B23: 1488 | C23: 918 | D23: 570 | E23: 3419 | F23: 1730 | G23: 1689 | H23: 194 | I23: 120 | J23: 74 | K23: 212 | L23: 131 | M23: 81 | N23: 591 | O23: 373 | P23: 218 | Q23: 1459 | R23: 732 | S23: 727 | T23: 703 | U23: 425 | V23: 278 | W23: 1748 | X23: 867 | Y23: 881 | Z23: 4.49 | AA23: 3.55
A24: 基隆市 | B24: 1385 | C24: 725 | D24: 660 | E24: 3538 | F24: 1719 | G24: 1819 | H24: 11 | I24: 8 | J24: 3 | K24: 13 | L24: 8 | M24: 5 | N24: 420 | O24: 220 | P24: 200 | Q24: 934 | R24: 455 | S24: 479 | T24: 954 | U24: 497 | V24: 457 | W24: 2591 | X24: 1256 | Y24: 1335 | Z24: 0.95 | AA24: 0.91
A25: 新竹市 | B25: 1183 | C25: 616 | D25: 567 | E25: 3004 | F25: 1456 | G25: 1548 | H25: 60 | I25: 46 | J25: 14 | K25: 61 | L25: 46 | M25: 15 | N25: 463 | O25: 232 | P25: 231 | Q25: 1242 | R25: 604 | S25: 638 | T25: 660 | U25: 338 | V25: 322 | W25: 1701 | X25: 806 | Y25: 895 | Z25: 0.85 | AA25: 0.73
A26: 臺中市 | B26: 3928 | C26: 1932 | D26: 1996 | E26: 9277 | F26: 4440 | G26: 4837 | H26: 77 | I26: 59 | J26: 18 | K26: 77 | L26: 59 | M26: 18 | N26: 457 | O26: 230 | P26: 227 | Q26: 1048 | R26: 496 | S26: 552 | T26: 3394 | U26: 1643 | V26: 1751 | W26: 8152 | X26: 3885 | Y26: 4267 | Z26: 1.04 | AA26: 0.86
... A30: 高雄市 | B30: 9519 | C30: 4610 | D30: 4909 | E30: 22672 | F30: 10680 | G30: 11992 | H30: 133 | I30: 89 | J30: 44 | K30: 146 | L30: 95 | M30: 51 | N30: 4682 | O30: 2456 | P30: 2226 | Q30: 9948 | R30: 4861 | S30: 5087 | T30: 4704 | U30: 2065 | V30: 2639 | W30: 12578 | X30: 5724 | Y30: 6854 | Z30: 1.64 | AA30: 1.48
A31: 金門縣 | B31: 259 | C31: 146 | D31: 113 | E31: 564 | F31: 283 | G31: 281 | N31: 83 | O31: 42 | P31: 41 | Q31: 181 | R31: 83 | S31: 98 | T31: 176 | U31: 104 | V31: 72 | W31: 383 | X31: 200 | Y31: 183 | Z31: 0.82 | AA31: 0.6
A32: 連江縣 | B32: 44 | C32: 25 | D32: 19 | E32: 89 | F32: 44 | G32: 45 | H32: 18 | I32: 11 | J32: 7 | K32: 18 | L32: 11 | M32: 7 | N32: 11 | O32: 4 | P32: 7 | Q32: 34 | R32: 13 | S32: 21 | T32: 15 | U32: 10 | V32: 5 | W32: 37 | X32: 20 | Y32: 17 | Z32: 2.14 | AA32: 0.9
A33: 資料來源：直轄市、縣﹝市﹞政府。

Sheet 97
A1: 3.1-01 低收入戶戶數及人數
A2: 97年底, 2008
A4: 地區別 | B4: 總計 | H4: 第1款(省)、第0類(臺北)、第1類(高雄) | N4: 第2款(省)、第1、2類(臺北)、第2類(高雄) | T4: 第3款(省)、第3、4類(臺北、高雄) | Z4: 低收入戶戶數佔總戶數比率(%) | AA4: 低收入戶人數佔總人數比率(%)
B5: 戶數(戶長性別) | E5: 人數 | H5: 戶數 | K5: 人數 | N5: 戶數 | Q5: 人數 | T5: 戶數 | W5: 人數
B6: 計 | C6: 男 | D6: 女 | E6: 計 | F6: 男 | G6: 女 | H6: 計 | I6: 男 | J6: 女 | K6: 計 | L6: 男 | M6: 女 | N6: 計 | O6: 男 | P6: 女 | Q6: 計 | R6: 男 | S6: 女 | T6: 計 | U6: 男 | V6: 女 | W6: 計 | X6: 男 | Y6: 女
A7: 總計 | B7: 93032 | C7: 53021 | D7: 40011 | E7: 223697 | F7: 113281 | G7: 110416 | H7: 4308 | I7: 3150 | J7: 1158 | K7: 4540 | L7: 3273 | M7: 1267 | N7: 21324 | O7: 12711 | P7: 8613 | Q7: 46748 | R7: 24056 | S7: 22692 | T7: 67400 | U7: 37160 | V7: 30240 | W7: 172409 | X7: 85952 | Y7: 86457 | Z7: 1.22 | AA7: 0.97
A8: 臺北縣 | B8: 10608 | C8: 5585 | D8: 5023 | E8: 24835 | F8: 12032 | G8: 12803 | H8: 192 | I8: 129 | J8: 63 | K8: 207 | L8: 135 | M8: 72 | N8: 1487 | O8: 853 | P8: 634 | Q8: 3188 | R8: 1518 | S8: 1670 | T8: 8929 | U8: 4603 | V8: 4326 | W8: 21440 | X8: 10379 | Y8: 11061 | Z8: 0.79 | AA8: 0.65
A9: 宜蘭縣 | B9: 3174 | C9: 1863 | D9: 1311 | E9: 6970 | F9: 3556 | G9: 3414 | H9: 32 | I9: 23 | J9: 9 | K9: 34 | L9: 23 | M9: 11 | N9: 477 | O9: 261 | P9: 216 | Q9: 1104 | R9: 568 | S9: 536 | T9: 2665 | U9: 1579 | V9: 1086 | W9: 5832 | X9: 2965 | Y9: 2867 | Z9: 2.12 | AA9: 1.51
A10: 桃園縣 | B10: 3772 | C10: 1860 | D10: 1912 | E10: 9791 | F10: 4722 | G10: 5069 | H10: 74 | I10: 58 | J10: 16 | K10: 82 | L10: 62 | M10: 20 | N10: 773 | O10: 414 | P10: 359 | Q10: 1988 | R10: 947 | S10: 1041 | T10: 2925 | U10: 1388 | V10: 1537 | W10: 7721 | X10: 3713 | Y10: 4008 | Z10: 0.59 | AA10: 0.5
A11: 新竹縣 | B11: 1128 | C11: 732 | D11: 396 | E11: 2887 | F11: 1687 | G11: 1200 | H11: 83 | I11: 75 | J11: 8 | K11: 85 | L11: 77 | M11: 8 | N11: 425 | O11: 264 | P11: 161 | Q11: 1182 | R11: 653 | S11: 529 | T11: 620 | U11: 393 | V11: 227 | W11: 1620 | X11: 957 | Y11: 663 | Z11: 0.74 | AA11: 0.57
A12: 苗栗縣 | B12: 2031 | C12: 1206 | D12: 825 | E12: 4644 | F12: 2451 | G12: 2193 | H12: 15 | I12: 14 | J12: 1 | K12: 15 | L12: 14 | M12: 1 | N12: 678 | O12: 428 | P12: 250 | Q12: 1513 | R12: 858 | S12: 655 | T12: 1338 | U12: 764 | V12: 574 | W12: 3116 | X12: 1579 | Y12: 1537 | Z12: 1.22 | AA12: 0.83
A13: 臺中縣 | B13: 2863 | C13: 1689 | D13: 1174 | E13: 7360 | F13: 3725 | G13: 3635 | H13: 6 | I13: 4 | J13: 2 | K13: 7 | L13: 4 | M13: 3 | N13: 285 | O13: 164 | P13: 121 | Q13: 790 | R13: 387 | S13: 403 | T13: 2572 | U13: 1521 | V13: 1051 | W13: 6563 | X13: 3334 | Y13: 3229 | Z13: 0.63 | AA13: 0.47
A14: 彰化縣 | B14: 5004 | C14: 3058 | D14: 1946 | E14: 9830 | F14: 5256 | G14: 4574 | H14: 4 | I14: 4 | K14: 4 | L14: 4 | N14: 233 | O14: 132 | P14: 101 | Q14: 534 | R14: 273 | S14: 261 | T14: 4767 | U14: 2922 | V14: 1845 | W14: 9292 | X14: 4979 | Y14: 4313 | Z14: 1.41 | AA14: 0.75
A15: 南投縣 | B15: 3314 | C15: 2095 | D15: 1219 | E15: 7900 | F15: 4162 | G15: 3738 | H15: 31 | I15: 25 | J15: 6 | K15: 32 | L15: 25 | M15: 7 | N15: 300 | O15: 219 | P15: 81 | Q15: 564 | R15: 342 | S15: 222 | T15: 2983 | U15: 1851 | V15: 1132 | W15: 7304 | X15: 3795 | Y15: 3509 | Z15: 1.99 | AA15: 1.49
A16: 雲林縣 | B16: 3832 | C16: 2563 | D16: 1269 | E16: 9288 | F16: 5156 | G16: 4132 | H16: 93 | I16: 47 | J16: 46 | K16: 101 | L16: 50 | M16: 51 | N16: 1926 | O16: 1399 | P16: 527 | Q16: 3837 | R16: 2285 | S16: 1552 | T16: 1813 | U16: 1117 | V16: 696 | W16: 5350 | X16: 2821 | Y16: 2529 | Z16: 1.71 | AA16: 1.28
A17: 嘉義縣 | B17: 1476 | C17: 989 | D17: 487 | E17: 3308 | F17: 1853 | G17: 1455 | H17: 20 | I17: 16 | J17: 4 | K17: 22 | L17: 16 | M17: 6 | N17: 185 | O17: 128 | P17: 57 | Q17: 290 | R17: 172 | S17: 118 | T17: 1271 | U17: 845 | V17: 426 | W17: 2996 | X17: 1665 | Y17: 1331 | Z17: 0.86 | AA17: 0.6
A18: 臺南縣 | B18: 2818 | C18: 2108 | D18: 710 | E18: 5588 | F18: 3161 | G18: 2427 | H18: 35 | I18: 25 | J18: 10 | K18: 35 | L18: 25 | M18: 10 | N18: 384 | O18: 328 | P18: 56 | Q18: 647 | R18: 386 | S18: 261 | T18: 2399 | U18: 1755 | V18: 644 | W18: 4906 | X18: 2750 | Y18: 2156 | Z18: 0.79 | AA18: 0.51
A19: 高雄縣 | B19: 4317 | C19: 2619 | D19: 1698 | E19: 10417 | F19: 5480 | G19: 4937 | H19: 93 | I19: 72 | J19: 21 | K19: 97 | L19: 74 | M19: 23 | N19: 1096 | O19: 737 | P19: 359 | Q19: 2090 | R19: 1223 | S19: 867 | T19: 3128 | U19: 1810 | V19: 1318 | W19: 8230 | X19: 4183 | Y19: 4047 | Z19: 1.03 | AA19: 0.84
A20: 屏東縣 | B20: 7248 | C20: 4706 | D20: 2542 | E20: 18174 | F20: 9537 | G20: 8637 | H20: 78 | I20: 55 | J20: 23 | K20: 78 | L20: 55 | M20: 23 | N20: 1284 | O20: 899 | P20: 385 | Q20: 2567 | R20: 1446 | S20: 1121 | T20: 5886 | U20: 3752 | V20: 2134 | W20: 15529 | X20: 8036 | Y20: 7493 | Z20: 2.69 | AA20: 2.05
A21: 臺東縣 | B21: 3610 | C21: 2145 | D21: 1465 | E21: 10834 | F21: 5553 | G21: 5281 | H21: 235 | I21: 161 | J21: 74 | K21: 254 | L21: 169 | M21: 85 | N21: 1189 | O21: 742 | P21: 447 | Q21: 3027 | R21: 1583 | S21: 1444 | T21: 2186 | U21: 1242 | V21: 944 | W21: 7553 | X21: 3801 | Y21: 3752 | Z21: 4.59 | AA21: 4.67
A22: 花蓮縣 | B22: 3350 | C22: 1814 | D22: 1536 | E22: 7585 | F22: 3728 | G22: 3857 | H22: 16 | I22: 8 | J22: 8 | K22: 16 | L22: 8 | M22: 8 | N22: 311 | O22: 158 | P22: 153 | Q22: 633 | R22: 313 | S22: 320 | T22: 3023 | U22: 1648 | V22: 1375 | W22: 6936 | X22: 3407 | Y22: 3529 | Z22: 2.83 | AA22: 2.22
A23: 澎湖縣 | B23: 1261 | C23: 802 | D23: 459 | E23: 3313 | F23: 1706 | G23: 1607 | H23: 218 | I23: 140 | J23: 78 | K23: 242 | L23: 153 | M23: 89 | N23: 566 | O23: 368 | P23: 198 | Q23: 1508 | R23: 784 | S23: 724 | T23: 477 | U23: 294 | V23: 183 | W23: 1563 | X23: 769 | Y23: 794 | Z23: 4.01 | AA23: 3.55
A24: 基隆市 | B24: 1272 | C24: 631 | D24: 641 | E24: 3247 | F24: 1639 | G24: 1608 | H24: 10 | I24: 7 | J24: 3 | K24: 13 | L24: 8 | M24: 5 | N24: 380 | O24: 205 | P24: 175 | Q24: 801 | R24: 387 | S24: 414 | T24: 882 | U24: 419 | V24: 463 | W24: 2433 | X24: 1244 | Y24: 1189 | Z24: 0.88 | AA24: 0.83
A25: 新竹市 | B25: 1018 | C25: 536 | D25: 482 | E25: 2449 | F25: 1178 | G25: 1271 | H25: 73 | I25: 58 | J25: 15 | K25: 76 | L25: 60 | M25: 16 | N25: 394 | O25: 203 | P25: 191 | Q25: 1063 | R25: 489 | S25: 574 | T25: 551 | U25: 275 | V25: 276 | W25: 1310 | X25: 629 | Y25: 681 | Z25: 0.76 | AA25: 0.6
A26: 臺中市 | B26: 2884 | C26: 1356 | D26: 1528 | E26: 7306 | F26: 3376 | G26: 3930 | H26: 84 | I26: 69 | J26: 15 | K26: 85 | L26: 69 | M26: 16 | N26: 369 | O26: 171 | P26: 198 | Q26: 870 | R26: 380 | S26: 490 | T26: 2431 | U26: 1116 | V26: 1315 | W26: 6351 | X26: 2927 | Y26: 3424 | Z26: 0.78 | AA26: 0.69
... A32: 連江縣 | B32: 45 | C32: 26 | D32: 19 | E32: 81 | F32: 41 | G32: 40 | H32: 18 | I32: 11 | J32: 7 | K32: 18 | L32: 11 | M32: 7 | N32: 14 | O32: 7 | P32: 7 | Q32: 35 | R32: 15 | S32: 20 | T32: 13 | U32: 8 | V32: 5 | W32: 28 | X32: 15 | Y32: 13 | Z32: 2.27 | AA32: 0.83
A33: 資料來源：直轄市、縣﹝市﹞政府。

Sheet 96
A1: 3.1-01 低收入戶戶數及人數
A2: 96年底, 2007
A4: 地區別 | B4: 總計 | H4: 第1款(省)、第0類(臺北)、第1類(高雄) | N4: 第2款(省)、第1、2類(臺北)、第2類(高雄) | T4: 第3款(省)、第3、4類(臺北、高雄) | Z4: 低收入戶戶數佔總戶數比率(%) | AA4: 低收入戶人數佔總人數比率(%)
B5: 戶數(戶長性別) | E5: 人數 | H5: 戶數 | K5: 人數 | N5: 戶數 | Q5: 人數 | T5: 戶數 | W5: 人數
B6: 計 | C6: 男 | D6: 女 | E6: 計 | F6: 男 | G6: 女 | H6: 計 | I6: 男 | J6: 女 | K6: 計 | L6: 男 | M6: 女 | N6: 計 | O6: 男 | P6: 女 | Q6: 計 | R6: 男 | S6: 女 | T6: 計 | U6: 男 | V6: 女 | W6: 計 | X6: 男 | Y6: 女
A7: 總計 | B7: 90682 | C7: 50593 | D7: 40089 | E7: 220990 | F7: 110639 | G7: 110351 | H7: 4207 | I7: 3062 | J7: 1145 | K7: 4461 | L7: 3217 | M7: 1244 | N7: 21025 | O7: 12141 | P7: 8884 | Q7: 46776 | R7: 23820 | S7: 22956 | T7: 65450 | U7: 35390 | V7: 30060 | W7: 169753 | X7: 83602 | Y7: 86151 | Z7: 1.21 | AA7: 0.96
A8: 臺北縣 | B8: 11100 | C8: 5773 | D8: 5327 | E8: 27399 | F8: 12992 | G8: 14407 | H8: 207 | I8: 138 | J8: 69 | K8: 227 | L8: 147 | M8: 80 | N8: 1603 | O8: 884 | P8: 719 | Q8: 3391 | R8: 1608 | S8: 1783 | T8: 9290 | U8: 4751 | V8: 4539 | W8: 23781 | X8: 11237 | Y8: 12544 | Z8: 0.85 | AA8: 0.72
A9: 宜蘭縣 | B9: 2945 | C9: 1746 | D9: 1199 | E9: 6579 | F9: 3360 | G9: 3219 | H9: 43 | I9: 34 | J9: 9 | K9: 45 | L9: 34 | M9: 11 | N9: 493 | O9: 259 | P9: 234 | Q9: 1182 | R9: 577 | S9: 605 | T9: 2409 | U9: 1453 | V9: 956 | W9: 5352 | X9: 2749 | Y9: 2603 | Z9: 2 | AA9: 1.43
A10: 桃園縣 | B10: 3413 | C10: 1719 | D10: 1694 | E10: 8960 | F10: 4426 | G10: 4534 | H10: 71 | I10: 57 | J10: 14 | K10: 80 | L10: 62 | M10: 18 | N10: 769 | O10: 432 | P10: 337 | Q10: 1956 | R10: 1075 | S10: 881 | T10: 2573 | U10: 1230 | V10: 1343 | W10: 6924 | X10: 3289 | Y10: 3635 | Z10: 0.55 | AA10: 0.46
A11: 新竹縣 | B11: 1055 | C11: 686 | D11: 369 | E11: 2678 | F11: 1566 | G11: 1112 | H11: 95 | I11: 87 | J11: 8 | K11: 97 | L11: 89 | M11: 8 | N11: 425 | O11: 274 | P11: 151 | Q11: 1189 | R11: 688 | S11: 501 | T11: 535 | U11: 325 | V11: 210 | W11: 1392 | X11: 789 | Y11: 603 | Z11: 0.71 | AA11: 0.54
A12: 苗栗縣 | B12: 2073 | C12: 1188 | D12: 885 | E12: 4784 | F12: 2455 | G12: 2329 | H12: 1 | I12: 1 | J12: 0 | K12: 3 | L12: 2 | M12: 1 | N12: 294 | O12: 173 | P12: 121 | Q12: 637 | R12: 351 | S12: 286 | T12: 1778 | U12: 1014 | V12: 764 | W12: 4144 | X12: 2102 | Y12: 2042 | Z12: 1.27 | AA12: 0.85
A13: 臺中縣 | B13: 2865 | C13: 1390 | D13: 1475 | E13: 7075 | F13: 3324 | G13: 3751 | H13: 9 | I13: 8 | J13: 1 | K13: 12 | L13: 9 | M13: 3 | N13: 307 | O13: 148 | P13: 159 | Q13: 862 | R13: 398 | S13: 464 | T13: 2549 | U13: 1234 | V13: 1315 | W13: 6201 | X13: 2917 | Y13: 3284 | Z13: 0.65 | AA13: 0.46
A14: 彰化縣 | B14: 5249 | C14: 2984 | D14: 2265 | E14: 10891 | F14: 5564 | G14: 5327 | H14: 5 | I14: 4 | J14: 1 | K14: 5 | L14: 4 | M14: 1 | N14: 325 | O14: 184 | P14: 141 | Q14: 738 | R14: 365 | S14: 373 | T14: 4919 | U14: 2796 | V14: 2123 | W14: 10148 | X14: 5195 | Y14: 4953 | Z14: 1.51 | AA14: 0.83
A15: 南投縣 | B15: 3095 | C15: 1938 | D15: 1157 | E15: 7902 | F15: 4214 | G15: 3688 | H15: 32 | I15: 25 | J15: 7 | K15: 37 | L15: 29 | M15: 8 | N15: 318 | O15: 223 | P15: 95 | Q15: 633 | R15: 373 | S15: 260 | T15: 2745 | U15: 1690 | V15: 1055 | W15: 7232 | X15: 3812 | Y15: 3420 | Z15: 1.89 | AA15: 1.48
A16: 雲林縣 | B16: 4314 | C16: 2754 | D16: 1560 | E16: 10833 | F16: 5907 | G16: 4926 | H16: 80 | I16: 48 | J16: 32 | K16: 85 | L16: 52 | M16: 33 | N16: 1800 | O16: 1175 | P16: 625 | Q16: 3846 | R16: 2135 | S16: 1711 | T16: 2434 | U16: 1531 | V16: 903 | W16: 6902 | X16: 3720 | Y16: 3182 | Z16: 1.97 | AA16: 1.49
A17: 嘉義縣 | B17: 1515 | C17: 998 | D17: 517 | E17: 3490 | F17: 2016 | G17: 1474 | H17: 28 | I17: 23 | J17: 5 | K17: 30 | L17: 23 | M17: 7 | N17: 214 | O17: 149 | P17: 65 | Q17: 335 | R17: 202 | S17: 133 | T17: 1273 | U17: 826 | V17: 447 | W17: 3125 | X17: 1791 | Y17: 1334 | Z17: 0.9 | AA17: 0.63
A18: 臺南縣 | B18: 2635 | C18: 2028 | D18: 607 | E18: 5103 | F18: 2899 | G18: 2204 | H18: 40 | I18: 28 | J18: 12 | K18: 41 | L18: 29 | M18: 12 | N18: 382 | O18: 326 | P18: 56 | Q18: 559 | R18: 358 | S18: 201 | T18: 2213 | U18: 1674 | V18: 539 | W18: 4503 | X18: 2512 | Y18: 1991 | Z18: 0.75 | AA18: 0.46
... A32: 連江縣 | B32: 44 | C32: 23 | D32: 21 | E32: 73 | F32: 38 | G32: 35 | H32: 19 | I32: 11 | J32: 8 | K32: 19 | L32: 11 | M32: 8 | N32: 14 | O32: 6 | P32: 8 | Q32: 33 | R32: 15 | S32: 18 | T32: 11 | U32: 6 | V32: 5 | W32: 21 | X32: 12 | Y32: 9 | Z32: 2.28 | AA32: 0.73
A33: 資料來源：直轄市、縣﹝市﹞政府。

Sheet 95
A1: 3.1-01 低收入戶戶數及人數
A2: 95年底, 2006
A4: 地區別 | B4: 總計 | H4: 第1款(省)、第0類(臺北)、第1類(高雄) | N4: 第2款(省)、第1、2類(臺北)、第2類(高雄) | T4: 第3款(省)、第3、4類(臺北、高雄) | Z4: 低收入戶戶數佔總戶數比率(%) | AA4: 低收入戶人數佔總人數比率(%)
B5: 戶數(戶長性別) | E5: 人數 | H5: 戶數 | K5: 人數 | N5: 戶數 | Q5: 人數 | T5: 戶數 | W5: 人數
B6: 計 | C6: 男 | D6: 女 | E6: 計 | F6: 男 | G6: 女 | H6: 計 | I6: 男 | J6: 女 | K6: 計 | L6: 男 | M6: 女 | N6: 計 | O6: 男 | P6: 女 | Q6: 計 | R6: 男 | S6: 女 | T6: 計 | U6: 男 | V6: 女 | W6: 計 | X6: 男 | Y6: 女
A7: 總計 | B7: 89900 | C7: 49755 | D7: 40145 | E7: 218166 | F7: 108097 | G7: 110069 | H7: 4214 | I7: 3008 | J7: 1206 | K7: 4472 | L7: 3128 | M7: 1344 | N7: 21073 | O7: 11951 | P7: 9122 | Q7: 47168 | R7: 23569 | S7: 23599 | T7: 64613 | U7: 34796 | V7: 29817 | W7: 166526 | X7: 81400 | Y7: 85126 | Z7: 1.22 | AA7: 0.95
A8: 臺北縣 | B8: 10917 | C8: 5643 | D8: 5274 | E8: 26887 | F8: 12706 | G8: 14181 | H8: 206 | I8: 140 | J8: 66 | K8: 227 | L8: 147 | M8: 80 | N8: 1752 | O8: 912 | P8: 840 | Q8: 3665 | R8: 1677 | S8: 1988 | T8: 8959 | U8: 4591 | V8: 4368 | W8: 22995 | X8: 10882 | Y8: 12113 | Z8: 0.85 | AA8: 0.71
A9: 宜蘭縣 | B9: 2819 | C9: 1690 | D9: 1129 | E9: 6156 | F9: 3217 | G9: 2939 | H9: 39 | I9: 31 | J9: 8 | K9: 39 | L9: 31 | M9: 8 | N9: 411 | O9: 228 | P9: 183 | Q9: 987 | R9: 507 | S9: 480 | T9: 2369 | U9: 1431 | V9: 938 | W9: 5130 | X9: 2679 | Y9: 2451 | Z9: 1.95 | AA9: 1.34
A10: 桃園縣 | B10: 3321 | C10: 1653 | D10: 1668 | E10: 8498 | F10: 3993 | G10: 4505 | H10: 74 | I10: 58 | J10: 16 | K10: 81 | L10: 62 | M10: 19 | N10: 741 | O10: 404 | P10: 337 | Q10: 1757 | R10: 918 | S10: 839 | T10: 2506 | U10: 1191 | V10: 1315 | W10: 6660 | X10: 3013 | Y10: 3647 | Z10: 0.55 | AA10: 0.44
A11: 新竹縣 | B11: 942 | C11: 613 | D11: 329 | E11: 2216 | F11: 1157 | G11: 1059 | H11: 80 | I11: 70 | J11: 10 | K11: 80 | L11: 70 | M11: 10 | N11: 361 | O11: 242 | P11: 119 | Q11: 958 | R11: 507 | S11: 451 | T11: 501 | U11: 301 | V11: 200 | W11: 1178 | X11: 580 | Y11: 598 | Z11: 0.66 | AA11: 0.45
A12: 苗栗縣 | B12: 2088 | C12: 1179 | D12: 909 | E12: 5437 | F12: 2712 | G12: 2725 | H12: 1 | I12: 1 | J12: 0 | K12: 1 | L12: 1 | M12: 0 | N12: 397 | O12: 237 | P12: 160 | Q12: 886 | R12: 470 | S12: 416 | T12: 1690 | U12: 941 | V12: 749 | W12: 4550 | X12: 2241 | Y12: 2309 | Z12: 1.3 | AA12: 0.97
A13: 臺中縣 | B13: 2696 | C13: 1301 | D13: 1395 | E13: 6553 | F13: 3087 | G13: 3466 | H13: 10 | I13: 6 | J13: 4 | K13: 14 | L13: 2 | M13: 12 | N13: 168 | O13: 78 | P13: 90 | Q13: 486 | R13: 236 | S13: 250 | T13: 2518 | U13: 1217 | V13: 1301 | W13: 6053 | X13: 2849 | Y13: 3204 | Z13: 0.62 | AA13: 0.42
A14: 彰化縣 | B14: 5007 | C14: 2809 | D14: 2198 | E14: 10480 | F14: 5297 | G14: 5183 | H14: 6 | I14: 5 | J14: 1 | K14: 6 | L14: 5 | M14: 1 | N14: 344 | O14: 188 | P14: 156 | Q14: 792 | R14: 394 | S14: 398 | T14: 4657 | U14: 2616 | V14: 2041 | W14: 9682 | X14: 4898 | Y14: 4784 | Z14: 1.46 | AA14: 0.8
A15: 南投縣 | B15: 3472 | C15: 2067 | D15: 1405 | E15: 8301 | F15: 4218 | G15: 4083 | H15: 37 | I15: 29 | J15: 8 | K15: 38 | L15: 30 | M15: 8 | N15: 407 | O15: 265 | P15: 142 | Q15: 710 | R15: 397 | S15: 313 | T15: 3028 | U15: 1773 | V15: 1255 | W15: 7553 | X15: 3791 | Y15: 3762 | Z15: 2.14 | AA15: 1.55
A16: 雲林縣 | B16: 4072 | C16: 2525 | D16: 1547 | E16: 9961 | F16: 5096 | G16: 4865 | H16: 54 | I16: 34 | J16: 20 | K16: 55 | L16: 34 | M16: 21 | N16: 1641 | O16: 1044 | P16: 597 | Q16: 3431 | R16: 1777 | S16: 1654 | T16: 2377 | U16: 1447 | V16: 930 | W16: 6475 | X16: 3285 | Y16: 3190 | Z16: 1.89 | AA16: 1.37
A17: 嘉義縣 | B17: 1942 | C17: 1245 | D17: 697 | E17: 4781 | F17: 2668 | G17: 2113 | H17: 35 | I17: 26 | J17: 9 | K17: 37 | L17: 26 | M17: 11 | N17: 296 | O17: 182 | P17: 114 | Q17: 493 | R17: 271 | S17: 222 | T17: 1611 | U17: 1037 | V17: 574 | W17: 4251 | X17: 2371 | Y17: 1880 | Z17: 1.16 | AA17: 0.86
A18: 臺南縣 | B18: 2668 | C18: 2134 | D18: 534 | E18: 5103 | F18: 2828 | G18: 2275 | H18: 40 | I18: 28 | J18: 12 | K18: 40 | L18: 28 | M18: 12 | N18: 498 | O18: 420 | P18: 78 | Q18: 727 | R18: 417 | S18: 310 | T18: 2130 | U18: 1686 | V18: 444 | W18: 4336 | X18: 2383 | Y18: 1953 | Z18: 0.76 | AA18: 0.46
... A32: 連江縣 | B32: 46 | C32: 21 | D32: 25 | E32: 75 | F32: 39 | G32: 36 | H32: 24 | I32: 14 | J32: 10 | K32: 24 | L32: 14 | M32: 10 | N32: 12 | O32: 3 | P32: 9 | Q32: 29 | R32: 13 | S32: 16 | T32: 10 | U32: 4 | V32: 6 | W32: 22 | X32: 12 | Y32: 10 | Z32: 2.45 | AA32: 0.77
A33: 資料來源：直轄市、縣﹝市﹞政府。

Sheet 94
A1: 3.1-01 低收入戶戶數及人數
A2: 94年底, 2005
A4: 地區別 | B4: 總計 | H4: 第1款(省)、第0類(臺北)、第1類(高雄) | N4: 第2款(省)、第1、2類(臺北)、第2類(高雄) | T4: 第3款(省)、第3、4類(臺北、高雄) | Z4: 低收入戶戶數佔總戶數比率(%) | AA4: 低收入戶人數佔總人數比率(%)
B5: 戶數(戶長性別) | E5: 人數 | H5: 戶數 | K5: 人數 | N5: 戶數 | Q5: 人數 | T5: 戶數 | W5: 人數
B6: 計 | C6: 男 | D6: 女 | E6: 計 | F6: 男 | G6: 女 | H6: 計 | I6: 男 | J6: 女 | K6: 計 | L6: 男 | M6: 女 | N6: 計 | O6: 男 | P6: 女 | Q6: 計 | R6: 男 | S6: 女 | T6: 計 | U6: 男 | V6: 女 | W6: 計 | X6: 男 | Y6: 女
A7: 總計 | B7: 84823 | C7: 45634 | D7: 39189 | E7: 211292 | F7: 104745 | G7: 106547 | H7: 4049 | I7: 2872 | J7: 1177 | K7: 4394 | L7: 3038 | M7: 1356 | N7: 20445 | O7: 11210 | P7: 9235 | Q7: 46973 | R7: 23537 | S7: 23436 | T7: 60329 | U7: 31552 | V7: 28777 | W7: 159925 | X7: 78170 | Y7: 81755 | Z7: 1.16 | AA7: 0.93
A8: 臺北縣 | B8: 9176 | C8: 4111 | D8: 5065 | E8: 24563 | F8: 11133 | G8: 13430 | H8: 246 | I8: 165 | J8: 81 | K8: 288 | L8: 172 | M8: 116 | N8: 1721 | O8: 774 | P8: 947 | Q8: 3801 | R8: 1748 | S8: 2053 | T8: 7209 | U8: 3172 | V8: 4037 | W8: 20474 | X8: 9213 | Y8: 11261 | Z8: 0.73 | AA8: 0.66
A9: 宜蘭縣 | B9: 3034 | C9: 1760 | D9: 1274 | E9: 7142 | F9: 3595 | G9: 3547 | H9: 43 | I9: 32 | J9: 11 | K9: 48 | L9: 34 | M9: 14 | N9: 412 | O9: 242 | P9: 170 | Q9: 1026 | R9: 516 | S9: 510 | T9: 2579 | U9: 1486 | V9: 1093 | W9: 6068 | X9: 3045 | Y9: 3023 | Z9: 2.13 | AA9: 1.55
A10: 桃園縣 | B10: 3152 | C10: 1621 | D10: 1531 | E10: 8133 | F10: 3839 | G10: 4294 | H10: 72 | I10: 55 | J10: 17 | K10: 78 | L10: 59 | M10: 19 | N10: 743 | O10: 416 | P10: 327 | Q10: 1684 | R10: 826 | S10: 858 | T10: 2337 | U10: 1150 | V10: 1187 | W10: 6371 | X10: 2954 | Y10: 3417 | Z10: 0.53 | AA10: 0.43
A11: 新竹縣 | B11: 1270 | C11: 595 | D11: 675 | E11: 3434 | F11: 1616 | G11: 1818 | H11: 86 | I11: 47 | J11: 39 | K11: 88 | L11: 48 | M11: 40 | N11: 541 | O11: 248 | P11: 293 | Q11: 1390 | R11: 659 | S11: 731 | T11: 643 | U11: 300 | V11: 343 | W11: 1956 | X11: 909 | Y11: 1047 | Z11: 0.92 | AA11: 0.72
A12: 苗栗縣 | B12: 2025 | C12: 1186 | D12: 839 | E12: 4525 | F12: 2300 | G12: 2225 | H12: 1 | I12: 1 | J12: 0 | K12: 1 | L12: 1 | M12: 0 | N12: 396 | O12: 245 | P12: 151 | Q12: 840 | R12: 421 | S12: 419 | T12: 1628 | U12: 940 | V12: 688 | W12: 3684 | X12: 1878 | Y12: 1806 | Z12: 1.28 | AA12: 0.81
A13: 臺中縣 | B13: 2514 | C13: 1248 | D13: 1266 | E13: 6022 | F13: 2965 | G13: 3057 | H13: 8 | I13: 6 | J13: 2 | K13: 9 | L13: 7 | M13: 2 | N13: 200 | O13: 101 | P13: 99 | Q13: 554 | R13: 288 | S13: 266 | T13: 2306 | U13: 1141 | V13: 1165 | W13: 5459 | X13: 2670 | Y13: 2789 | Z13: 0.59 | AA13: 0.39
A14: 彰化縣 | B14: 4614 | C14: 2008 | D14: 2606 | E14: 9630 | F14: 4845 | G14: 4785 | H14: 8 | I14: 5 | J14: 3 | K14: 8 | L14: 5 | M14: 3 | N14: 364 | O14: 151 | P14: 213 | Q14: 838 | R14: 405 | S14: 433 | T14: 4242 | U14: 1852 | V14: 2390 | W14: 8784 | X14: 4435 | Y14: 4349 | Z14: 1.36 | AA14: 0.73
A15: 南投縣 | B15: 3199 | C15: 1855 | D15: 1344 | E15: 7997 | F15: 3980 | G15: 4017 | H15: 36 | I15: 28 | J15: 8 | K15: 37 | L15: 29 | M15: 8 | N15: 456 | O15: 283 | P15: 173 | Q15: 843 | R15: 459 | S15: 384 | T15: 2707 | U15: 1544 | V15: 1163 | W15: 7117 | X15: 3492 | Y15: 3625 | Z15: 1.99 | AA15: 1.49
A16: 雲林縣 | B16: 3839 | C16: 2371 | D16: 1468 | E16: 10437 | F16: 5345 | G16: 5092 | H16: 55 | I16: 31 | J16: 24 | K16: 56 | L16: 31 | M16: 25 | N16: 1540 | O16: 950 | P16: 590 | Q16: 4143 | R16: 2180 | S16: 1963 | T16: 2244 | U16: 1390 | V16: 854 | W16: 6238 | X16: 3134 | Y16: 3104 | Z16: 1.8 | AA16: 1.42
A17: 嘉義縣 | B17: 1939 | C17: 1255 | D17: 684 | E17: 4815 | F17: 2619 | G17: 2196 | H17: 37 | I17: 27 | J17: 10 | K17: 38 | L17: 27 | M17: 11 | N17: 328 | O17: 199 | P17: 129 | Q17: 604 | R17: 317 | S17: 287 | T17: 1574 | U17: 1029 | V17: 545 | W17: 4173 | X17: 2275 | Y17: 1898 | Z17: 1.18 | AA17: 0.86
A18: 臺南縣 | B18: 2519 | C18: 2115 | D18: 404 | E18: 4711 | F18: 2596 | G18: 2115 | H18: 45 | I18: 33 | J18: 12 | K18: 45 | L18: 33 | M18: 12 | N18: 548 | O18: 487 | P18: 61 | Q18: 821 | R18: 473 | S18: 348 | T18: 1926 | U18: 1595 | V18: 331 | W18: 3845 | X18: 2090 | Y18: 1755 | Z18: 0.73 | AA18: 0.43
... A32: 連江縣 | B32: 44 | C32: 24 | D32: 20 | E32: 75 | F32: 42 | G32: 33 | H32: 23 | I32: 16 | J32: 7 | K32: 23 | L32: 16 | M32: 7 | N32: 13 | O32: 5 | P32: 8 | Q32: 34 | R32: 17 | S32: 17 | T32: 8 | U32: 3 | V32: 5 | W32: 18 | X32: 9 | Y32: 9 | Z32: 2.42 | AA32: 0.72
A33: 資料來源：直轄市、縣﹝市﹞政府。

Sheet 93
A1: 3.1-01 低收入戶戶數及人數
A2: 93年底, 2004
A4: 地區別 | B4: 總計 | H4: 第1款(省)、第0類(臺北)、第1類(高雄) | N4: 第2款(省)、第1、2類(臺北)、第2類(高雄) | T4: 第3款(省)、第3、4類(臺北、高雄) | Z4: 低收入戶戶數佔總戶數比率(%) | AA4: 低收入戶人數佔總人數比率(%)
B5: 戶數(戶長性別) | E5: 人數 | H5: 戶數 | K5: 人數 | N5: 戶數 | Q5: 人數 | T5: 戶數 | W5: 人數
B6: 計 | C6: 男 | D6: 女 | E6: 計 | F6: 男 | G6: 女 | H6: 計 | I6: 男 | J6: 女 | K6: 計 | L6: 男 | M6: 女 | N6: 計 | O6: 男 | P6: 女 | Q6: 計 | R6: 男 | S6: 女 | T6: 計 | U6: 男 | V6: 女 | W6: 計 | X6: 男 | Y6: 女
A7: 總計 | B7: 82783 | C7: 44606 | D7: 38177 | E7: 204216 | F7: 101366 | G7: 102850 | H7: 3665 | I7: 2540 | J7: 1125 | K7: 4014 | L7: 2725 | M7: 1289 | N7: 21220 | O7: 11584 | P7: 9636 | Q7: 46659 | R7: 23401 | S7: 23258 | T7: 57898 | U7: 30482 | V7: 27416 | W7: 153543 | X7: 75240 | Y7: 78303 | Z7: 1.15 | AA7: 0.9
A8: 臺北縣 | B8: 8560 | C8: 3989 | D8: 4571 | E8: 22396 | F8: 10278 | G8: 12118 | H8: 230 | I8: 137 | J8: 93 | K8: 260 | L8: 153 | M8: 107 | N8: 1621 | O8: 763 | P8: 858 | Q8: 3283 | R8: 1545 | S8: 1738 | T8: 6709 | U8: 3089 | V8: 3620 | W8: 18853 | X8: 8580 | Y8: 10273 | Z8: 0.69 | AA8: 0.6
A9: 宜蘭縣 | B9: 2663 | C9: 1541 | D9: 1122 | E9: 6462 | F9: 3222 | G9: 3240 | H9: 48 | I9: 36 | J9: 12 | K9: 52 | L9: 37 | M9: 15 | N9: 352 | O9: 221 | P9: 131 | Q9: 854 | R9: 440 | S9: 414 | T9: 2263 | U9: 1284 | V9: 979 | W9: 5556 | X9: 2745 | Y9: 2811 | Z9: 1.89 | AA9: 1.4
A10: 桃園縣 | B10: 3132 | C10: 1626 | D10: 1506 | E10: 8122 | F10: 3842 | G10: 4280 | H10: 88 | I10: 62 | J10: 26 | K10: 95 | L10: 68 | M10: 27 | N10: 722 | O10: 388 | P10: 334 | Q10: 1560 | R10: 756 | S10: 804 | T10: 2322 | U10: 1176 | V10: 1146 | W10: 6467 | X10: 3018 | Y10: 3449 | Z10: 0.55 | AA10: 0.44
A11: 新竹縣 | B11: 949 | C11: 469 | D11: 480 | E11: 2722 | F11: 1331 | G11: 1391 | H11: 68 | I11: 38 | J11: 30 | K11: 69 | L11: 39 | M11: 30 | N11: 459 | O11: 229 | P11: 230 | Q11: 1122 | R11: 559 | S11: 563 | T11: 422 | U11: 202 | V11: 220 | W11: 1531 | X11: 733 | Y11: 798 | Z11: 0.72 | AA11: 0.58
A12: 苗栗縣 | B12: 1763 | C12: 1062 | D12: 701 | E12: 4043 | F12: 2064 | G12: 1979 | H12: 11 | I12: 7 | J12: 4 | K12: 11 | L12: 7 | M12: 4 | N12: 339 | O12: 219 | P12: 120 | Q12: 745 | R12: 380 | S12: 365 | T12: 1413 | U12: 836 | V12: 577 | W12: 3287 | X12: 1677 | Y12: 1610 | Z12: 1.13 | AA12: 0.72
A13: 臺中縣 | B13: 2202 | C13: 1101 | D13: 1101 | E13: 5165 | F13: 2550 | G13: 2615 | H13: 7 | I13: 4 | J13: 3 | K13: 8 | L13: 6 | M13: 2 | N13: 191 | O13: 95 | P13: 96 | Q13: 503 | R13: 265 | S13: 238 | T13: 2004 | U13: 1002 | V13: 1002 | W13: 4654 | X13: 2279 | Y13: 2375 | Z13: 0.52 | AA13: 0.34
A14: 彰化縣 | B14: 4063 | C14: 1990 | D14: 2073 | E14: 8388 | F14: 4273 | G14: 4115 | H14: 9 | I14: 4 | J14: 5 | K14: 9 | L14: 4 | M14: 5 | N14: 355 | O14: 174 | P14: 181 | Q14: 831 | R14: 406 | S14: 425 | T14: 3699 | U14: 1812 | V14: 1887 | W14: 7548 | X14: 3863 | Y14: 3685 | Z14: 1.21 | AA14: 0.64
A15: 南投縣 | B15: 3086 | C15: 1800 | D15: 1286 | E15: 7819 | F15: 3883 | G15: 3936 | H15: 44 | I15: 37 | J15: 7 | K15: 45 | L15: 38 | M15: 7 | N15: 511 | O15: 314 | P15: 197 | Q15: 976 | R15: 516 | S15: 460 | T15: 2531 | U15: 1449 | V15: 1082 | W15: 6798 | X15: 3329 | Y15: 3469 | Z15: 1.94 | AA15: 1.45
A16: 雲林縣 | B16: 3870 | C16: 1978 | D16: 1892 | E16: 9687 | F16: 4922 | G16: 4765 | H16: 55 | I16: 29 | J16: 26 | K16: 56 | L16: 29 | M16: 27 | N16: 1483 | O16: 749 | P16: 734 | Q16: 3406 | R16: 1696 | S16: 1710 | T16: 2332 | U16: 1200 | V16: 1132 | W16: 6225 | X16: 3197 | Y16: 3028 | Z16: 1.84 | AA16: 1.31
A17: 嘉義縣 | B17: 1933 | C17: 1254 | D17: 679 | E17: 4939 | F17: 2527 | G17: 2412 | H17: 44 | I17: 33 | J17: 11 | K17: 46 | L17: 32 | M17: 14 | N17: 350 | O17: 221 | P17: 129 | Q17: 696 | R17: 356 | S17: 340 | T17: 1539 | U17: 1000 | V17: 539 | W17: 4197 | X17: 2139 | Y17: 2058 | Z17: 1.19 | AA17: 0.89
A18: 臺南縣 | B18: 2426 | C18: 2092 | D18: 334 | E18: 4530 | F18: 2494 | G18: 2036 | H18: 60 | I18: 42 | J18: 18 | K18: 60 | L18: 42 | M18: 18 | N18: 655 | O18: 543 | P18: 112 | Q18: 1007 | R18: 575 | S18: 432 | T18: 1711 | U18: 1507 | V18: 204 | W18: 3463 | X18: 1877 | Y18: 1586 | Z18: 0.71 | AA18: 0.41
... A32: 連江縣 | B32: 35 | C32: 20 | D32: 15 | E32: 51 | F32: 31 | G32: 20 | H32: 26 | I32: 18 | J32: 8 | K32: 28 | L32: 19 | M32: 9 | N32: 7 | O32: 1 | P32: 6 | Q32: 19 | R32: 9 | S32: 10 | T32: 2 | U32: 1 | V32: 1 | W32: 4 | X32: 3 | Y32: 1 | Z32: 2.01 | AA32: 0.54
A33: 資料來源：直轄市、縣﹝市﹞政府。

Sheet 92
A1: 3.1-01 低收入戶戶數及人數
A2: 92年底, 2003
A4: 地區別 | B4: 總計 | H4: 第1款(省)、第0類(臺北)、第1類(高雄) | N4: 第2款(省)、第1、2類(臺北)、第2類(高雄) | T4: 第3款(省)、第3、4類(臺北、高雄) | Z4: 低收入戶戶數佔總戶數比率(%) | AA4: 低收入戶人數佔總人數比率(%)
B5: 戶數(戶長性別) | E5: 人數 | H5: 戶數 | K5: 人數 | N5: 戶數 | Q5: 人數 | T5: 戶數 | W5: 人數
B6: 計 | C6: 男 | D6: 女 | E6: 計 | F6: 男 | G6: 女 | H6: 計 | I6: 男 | J6: 女 | K6: 計 | L6: 男 | M6: 女 | N6: 計 | O6: 男 | P6: 女 | Q6: 計 | R6: 男 | S6: 女 | T6: 計 | U6: 男 | V6: 女 | W6: 計 | X6: 男 | Y6: 女
A7: 總計 | B7: 76406 | C7: 40247 | D7: 36159 | E7: 187875 | F7: 92793 | G7: 95082 | H7: 3702 | I7: 2388 | J7: 1314 | K7: 4175 | L7: 2680 | M7: 1495 | N7: 21219 | O7: 11150 | P7: 10069 | Q7: 46762 | R7: 23593 | S7: 23169 | T7: 51485 | U7: 26709 | V7: 24776 | W7: 136938 | X7: 66520 | Y7: 70418 | Z7: 1.08 | AA7: 0.83
A8: 臺北縣 | B8: 8027 | C8: 3728 | D8: 4299 | E8: 20579 | F8: 9491 | G8: 11088 | H8: 322 | I8: 188 | J8: 134 | K8: 377 | L8: 220 | M8: 157 | N8: 1728 | O8: 807 | P8: 921 | Q8: 3571 | R8: 1667 | S8: 1904 | T8: 5977 | U8: 2733 | V8: 3244 | W8: 16631 | X8: 7604 | Y8: 9027 | Z8: 0.66 | AA8: 0.56
A9: 宜蘭縣 | B9: 2408 | C9: 1415 | D9: 993 | E9: 5794 | F9: 2927 | G9: 2867 | H9: 51 | I9: 36 | J9: 15 | K9: 52 | L9: 36 | M9: 16 | N9: 359 | O9: 229 | P9: 130 | Q9: 817 | R9: 461 | S9: 356 | T9: 1998 | U9: 1150 | V9: 848 | W9: 4925 | X9: 2430 | Y9: 2495 | Z9: 1.75 | AA9: 1.25
A10: 桃園縣 | B10: 3532 | C10: 1413 | D10: 2119 | E10: 9191 | F10: 3677 | G10: 5514 | H10: 149 | I10: 60 | J10: 89 | K10: 159 | L10: 64 | M10: 95 | N10: 1058 | O10: 423 | P10: 635 | Q10: 2444 | R10: 978 | S10: 1466 | T10: 2325 | U10: 930 | V10: 1395 | W10: 6588 | X10: 2635 | Y10: 3953 | Z10: 0.64 | AA10: 0.5
A11: 新竹縣 | B11: 812 | C11: 436 | D11: 376 | E11: 2287 | F11: 1213 | G11: 1074 | H11: 74 | I11: 46 | J11: 28 | K11: 79 | L11: 49 | M11: 30 | N11: 370 | O11: 198 | P11: 172 | Q11: 860 | R11: 461 | S11: 399 | T11: 368 | U11: 192 | V11: 176 | W11: 1348 | X11: 703 | Y11: 645 | Z11: 0.64 | AA11: 0.5
A12: 苗栗縣 | B12: 1549 | C12: 932 | D12: 617 | E12: 3376 | F12: 1773 | G12: 1603 | H12: 22 | I12: 14 | J12: 8 | K12: 22 | L12: 14 | M12: 8 | N12: 346 | O12: 221 | P12: 125 | Q12: 642 | R12: 374 | S12: 268 | T12: 1181 | U12: 697 | V12: 484 | W12: 2712 | X12: 1385 | Y12: 1327 | Z12: 1.01 | AA12: 0.6
A13: 臺中縣 | B13: 2076 | C13: 1121 | D13: 955 | E13: 4933 | F13: 2656 | G13: 2277 | H13: 9 | I13: 8 | J13: 1 | K13: 10 | L13: 9 | M13: 1 | N13: 214 | O13: 117 | P13: 97 | Q13: 476 | R13: 257 | S13: 219 | T13: 1853 | U13: 996 | V13: 857 | W13: 4447 | X13: 2390 | Y13: 2057 | Z13: 0.5 | AA13: 0.32
A14: 彰化縣 | B14: 3890 | C14: 1966 | D14: 1924 | E14: 8413 | F14: 4250 | G14: 4163 | H14: 11 | I14: 6 | J14: 5 | K14: 11 | L14: 6 | M14: 5 | N14: 438 | O14: 211 | P14: 227 | Q14: 999 | R14: 481 | S14: 518 | T14: 3441 | U14: 1749 | V14: 1692 | W14: 7403 | X14: 3763 | Y14: 3640 | Z14: 1.17 | AA14: 0.64
A15: 南投縣 | B15: 3108 | C15: 1835 | D15: 1273 | E15: 8054 | F15: 4015 | G15: 4039 | H15: 60 | I15: 48 | J15: 12 | K15: 63 | L15: 50 | M15: 13 | N15: 640 | O15: 390 | P15: 250 | Q15: 1244 | R15: 655 | S15: 589 | T15: 2408 | U15: 1397 | V15: 1011 | W15: 6747 | X15: 3310 | Y15: 3437 | Z15: 1.98 | AA15: 1.49
A16: 雲林縣 | B16: 3832 | C16: 1975 | D16: 1857 | E16: 9358 | F16: 4807 | G16: 4551 | H16: 53 | I16: 28 | J16: 25 | K16: 53 | L16: 28 | M16: 25 | N16: 1568 | O16: 796 | P16: 772 | Q16: 3945 | R16: 1988 | S16: 1957 | T16: 2211 | U16: 1151 | V16: 1060 | W16: 5360 | X16: 2791 | Y16: 2569 | Z16: 1.84 | AA16: 1.26
A17: 嘉義縣 | B17: 2083 | C17: 1330 | D17: 753 | E17: 5335 | F17: 2757 | G17: 2578 | H17: 51 | I17: 36 | J17: 15 | K17: 55 | L17: 37 | M17: 18 | N17: 450 | O17: 273 | P17: 177 | Q17: 941 | R17: 469 | S17: 472 | T17: 1582 | U17: 1021 | V17: 561 | W17: 4339 | X17: 2251 | Y17: 2088 | Z17: 1.3 | AA17: 0.95
A18: 臺南縣 | B18: 2439 | C18: 1487 | D18: 952 | E18: 4743 | F18: 2546 | G18: 2197 | H18: 89 | I18: 63 | J18: 26 | K18: 94 | L18: 65 | M18: 29 | N18: 814 | O18: 466 | P18: 348 | Q18: 1285 | R18: 728 | S18: 557 | T18: 1536 | U18: 958 | V18: 578 | W18: 3364 | X18: 1753 | Y18: 1611 | Z18: 0.72 | AA18: 0.43
... A32: 連江縣 | B32: 37 | C32: 21 | D32: 16 | E32: 61 | F32: 35 | G32: 26 | H32: 20 | I32: 15 | J32: 5 | K32: 22 | L32: 16 | M32: 6 | N32: 12 | O32: 3 | P32: 9 | Q32: 25 | R32: 12 | S32: 13 | T32: 5 | U32: 3 | V32: 2 | W32: 14 | X32: 7 | Y32: 7 | Z32: 2.21 | AA32: 0.69
A33: 資料來源：直轄市、縣﹝市﹞政府。
