Workbook
Name 民國100年第2季: '100'!#REF!
Name 民國100年第2季: '101'!#REF!
Name 民國100年第2季: '102'!#REF!
Name 民國100年第2季: !#REF!
Name 民國100年第2季: !#REF!
Name 民國100年第2季: !#REF!
Name 民國100年第2季: !#REF!
Name 民國100年第2季: !#REF!
Name 民國100年第2季: !#REF!
Name 民國100年第2季: !#REF!
Name 民國100年第2季: !#REF!
Name 民國100年第2季: !#REF!
Name 民國100年第2季: !#REF!
Name 民國100年第2季: '92'!#REF!
Name 民國100年第2季: '93'!#REF!
Name 民國100年第2季: '94'!#REF!
Name 民國100年第2季: '95'!#REF!
Name 民國100年第2季: '96'!#REF!
Name 民國100年第2季: '97'!#REF!
Name 民國100年第2季: '98'!#REF!
Name 民國100年第2季: '99'!#REF!
Name 民國100年第2季: 歷年!#REF!
Name 民國100年第2季: !#REF!

Sheet 歷年
A1: 3.1-01 低收入戶戶數及人數
A2: 92-113年底
A4: 地區別 | B4: 總計 | H4: 第1款(省、新北、臺中、臺南)、第0類(臺北)、第1類(高雄) | N4: 第2款(省、新北、臺中、臺南)、第1、2類(臺北)、第2類(高雄) | T4: 第3款(省、新北、臺中、臺南)、第3、4類(臺北、高雄) | Z4: 低收入戶戶數占總戶數比率(%) | AA4: 低收入戶人數占總人數比率(%)
B5: 戶數(戶長性別) | E5: 人數 | H5: 戶數 | K5: 人數 | N5: 戶數 | Q5: 人數 | T5: 戶數 | W5: 人數
B6: 計 | C6: 男 | D6: 女 | E6: 計 | F6: 男 | G6: 女 | H6: 計 | I6: 男 | J6: 女 | K6: 計 | L6: 男 | M6: 女 | N6: 計 | O6: 男 | P6: 女 | Q6: 計 | R6: 男 | S6: 女 | T6: 計 | U6: 男 | V6: 女 | W6: 計 | X6: 男 | Y6: 女
A7: 92年,2003 | B7: ='92'!B7 -> 76406 | C7: ='92'!C7 -> 40247 | D7: ='92'!D7 -> 36159 | E7: ='92'!E7 -> 187875 | F7: ='92'!F7 -> 92793 | G7: ='92'!G7 -> 95082 | H7: ='92'!H7 -> 3702 | I7: ='92'!I7 -> 2388 | ... AA7: ='92'!AA7 -> 0.83
A8: 93年,2004 | B8: ='93'!B7 -> 82783 | C8: ='93'!C7 -> 44606 | D8: ='93'!D7 -> 38177 | E8: ='93'!E7 -> 204216 | F8: ='93'!F7 -> 101366 | G8: ='93'!G7 -> 102850 | H8: ='93'!H7 -> 3665 | I8: ='93'!I7 -> 2540 | ... AA8: ='93'!AA7 -> 0.9
A9: 94年,2005 | B9: ='94'!B7 -> 84823 | C9: ='94'!C7 -> 45634 | D9: ='94'!D7 -> 39189 | E9: ='94'!E7 -> 211292 | F9: ='94'!F7 -> 104745 | G9: ='94'!G7 -> 106547 | H9: ='94'!H7 -> 4049 | I9: ='94'!I7 -> 2872 | ... AA9: ='94'!AA7 -> 0.93
A10: 95年,2006 | B10: ='95'!B7 -> 89900 | C10: ='95'!C7 -> 49755 | D10: ='95'!D7 -> 40145 | E10: ='95'!E7 -> 218166 | F10: ='95'!F7 -> 108097 | G10: ='95'!G7 -> 110069 | H10: ='95'!H7 -> 4214 | I10: ='95'!I7 -> 3008 | ... AA10: ='95'!AA7 -> 0.95
A11: 96年,2007 | B11: ='96'!B7 -> 90682 | C11: ='96'!C7 -> 50593 | D11: ='96'!D7 -> 40089 | E11: ='96'!E7 -> 220990 | F11: ='96'!F7 -> 110639 | G11: ='96'!G7 -> 110351 | H11: ='96'!H7 -> 4207 | I11: ='96'!I7 -> 3062 | ... AA11: ='96'!AA7 -> 0.96
A12: 97年,2008 | B12: ='97'!B7 -> 93032 | C12: ='97'!C7 -> 53021 | D12: ='97'!D7 -> 40011 | E12: ='97'!E7 -> 223697 | F12: ='97'!F7 -> 113281 | G12: ='97'!G7 -> 110416 | H12: ='97'!H7 -> 4308 | I12: ='97'!I7 -> 3150 | ... AA12: ='97'!AA7 -> 0.97
A13: 98年,2009 | B13: ='98'!B7 -> 105265 | C13: ='98'!C7 -> 60982 | D13: ='98'!D7 -> 44283 | E13: ='98'!E7 -> 256342 | F13: ='98'!F7 -> 130515 | G13: ='98'!G7 -> 125827 | H13: ='98'!H7 -> 4253 | I13: ='98'!I7 -> 3191 | ... AA13: ='98'!AA7 -> 1.11
A14: 99年,2010 | B14: ='99'!B7 -> 112200 | C14: ='99'!C7 -> 65575 | D14: ='99'!D7 -> 46625 | E14: ='99'!E7 -> 273361 | F14: ='99'!F7 -> 140672 | G14: ='99'!G7 -> 132689 | H14: ='99'!H7 -> 4085 | I14: ='99'!I7 -> 3091 | ... AA14: ='99'!AA7 -> 1.18
A15: 100年,2011 | B15: ='100'!B7 -> 128237 | C15: ='100'!C7 -> 74638 | D15: ='100'!D7 -> 53599 | E15: ='100'!E7 -> 314282 | F15: ='100'!F7 -> 160644 | G15: ='100'!G7 -> 153638 | H15: ='100'!H7 -> 4253 | I15: ='100'!I7 -> 3209 | ... AA15: ='100'!AA7 -> 1.35
A16: 101年,2012 | B16: ='101'!B7 -> 145613 | C16: ='101'!C7 -> 86274 | D16: ='101'!D7 -> 59339 | E16: ='101'!E7 -> 357446 | F16: ='101'!F7 -> 182335 | G16: ='101'!G7 -> 175111 | H16: ='101'!H7 -> 4364 | I16: ='101'!I7 -> 3282 | ... AA16: ='101'!AA7 -> 1.53
A17: 102年,2013 | B17: ='102'!B7 -> 148590 | C17: ='102'!C7 -> 88492 | D17: ='102'!D7 -> 60098 | E17: ='102'!E7 -> 361765 | F17: ='102'!F7 -> 186087 | G17: ='102'!G7 -> 175678 | H17: ='102'!H7 -> 4520 | I17: ='102'!I7 -> 3407 | ... AA17: ='102'!AA7 -> 1.5477559
A18: 103年,2014 | B18: 149958 | C18: 90573 | D18: 59385 | E18: 357722 | F18: 185438 | G18: 172284 | H18: 4243 | I18: 3178 | J18: 1065 | K18: 4389 | L18: 3252 | M18: 1137 | N18: 33053 | O18: 21175 | P18: 11878 | Q18: 61779 | R18: 34572 | S18: 27207 | T18: 112662 | U18: 66220 | V18: 46442 | W18: 291554 | X18: 147614 | Y18: 143940 | Z18: ='103'!Z7 -> 1.7888988 | AA18: ='103'!AA7 -> 1.53
A19: 104年,2015 | B19: 146379 | C19: 89167 | D19: 57212 | E19: 342490 | F19: 178253 | G19: 164237 | H19: 3902 | I19: 2910 | J19: 992 | K19: 4032 | L19: 2979 | M19: 1053 | N19: 32662 | O19: 21380 | P19: 11282 | Q19: 57917 | R19: 33107 | S19: 24810 | T19: 109815 | U19: 64877 | V19: 44938 | W19: 280541 | X19: 142167 | Y19: 138374 | Z19: 1.73 | AA19: 1.46
A20: 105年,2016 | B20: 145176 | C20: 88869 | D20: 56307 | E20: 331776 | F20: 173763 | G20: 158013 | H20: 3533 | I20: 2635 | J20: 898 | K20: 3653 | L20: 2701 | M20: 952 | N20: 33216 | O20: 21978 | P20: 11238 | Q20: 56516 | R20: 32768 | S20: 23748 | T20: 108427 | U20: 64256 | V20: 44171 | W20: 271607 | X20: 138294 | Y20: 133313 | Z20: 1.7 | AA20: 1.41
A21: 106年,2017 | B21: 142814 | C21: 87828 | D21: 54986 | E21: 317257 | F21: 167287 | G21: 149970 | H21: 3328 | I21: 2500 | J21: 828 | K21: 3448 | L21: 2561 | M21: 887 | N21: 32748 | O21: 21889 | P21: 10859 | Q21: 53142 | R21: 31358 | S21: 21784 | T21: 106738 | U21: 63439 | V21: 43299 | W21: 260667 | X21: 133368 | Y21: 127299 | Z21: 1.65 | AA21: 1.35
A22: 107年,2018 | B22: 143941 | C22: 88747 | D22: 55194 | E22: 311526 | F22: 165319 | G22: 146207 | H22: 3073 | I22: 2288 | J22: 785 | K22: 3194 | L22: 2352 | M22: 842 | N22: 33394 | O22: 22386 | P22: 11008 | Q22: 52141 | R22: 31086 | S22: 21055 | T22: 107474 | U22: 64073 | V22: 43401 | W22: 256191 | X22: 131881 | Y22: 124310 | Z22: 1.65 | AA22: 1.32
A23: 108年,2019 | B23: 144863 | C23: 89549 | D23: 55314 | E23: 304470 | F23: 162658 | G23: 141812 | H23: 2926 | I23: 2157 | J23: 769 | K23: 3028 | L23: 2213 | M23: 815 | N23: 34050 | O23: 22893 | P23: 11157 | Q23: 51337 | R23: 30964 | S23: 20373 | T23: 107887 | U23: 64499 | V23: 43388 | W23: 250105 | X23: 129481 | Y23: 120624 | Z23: 1.64 | AA23: 1.29
A24: 109年,2020 | B24: 146342 | C24: 90618 | D24: 55724 | E24: 300241 | F24: 161390 | G24: 138851 | H24: 2733 | I24: 2008 | J24: 725 | K24: 2813 | L24: 2058 | M24: 755 | N24: 34563 | O24: 23299 | P24: 11264 | Q24: 50711 | R24: 30845 | S24: 19866 | T24: 109046 | U24: 65311 | V24: 43735 | W24: 246717 | X24: 128487 | Y24: 118230 | Z24: 1.64 | AA24: 1.27
A25: 110年,2021 | B25: 146995 | C25: 90786 | D25: 56209 | E25: 295901 | F25: 159633 | G25: 136268 | H25: 2646 | I25: 1927 | J25: 719 | K25: 2725 | L25: 1976 | M25: 749 | N25: 34843 | O25: 23544 | P25: 11299 | Q25: 50284 | R25: 30803 | S25: 19481 | T25: 109506 | U25: 65315 | V25: 44191 | W25: 242892 | X25: 126854 | Y25: 116038 | Z25: 1.6320845 | AA25: 1.2658696
A26: 111年,2022 | B26: 146029 | C26: 89837 | D26: 56192 | E26: 288703 | F26: 155932 | G26: 132771 | H26: 2452 | I26: 1753 | J26: 699 | K26: 2533 | L26: 1800 | M26: 733 | N26: 35047 | O26: 23515 | P26: 11532 | Q26: 49686 | R26: 30401 | S26: 19285 | T26: 108530 | U26: 64569 | V26: 43961 | W26: 236484 | X26: 123731 | Y26: 112753 | Z26: 1.6065769 | AA26: 1.2409519
A27: 112年,2023 | B27: 144668 | C27: 89017 | D27: 55651 | E27: 277364 | F27: 150565 | G27: 126799 | H27: 2314 | I27: 1639 | J27: 675 | K27: 2386 | L27: 1682 | M27: 704 | N27: 35375 | O27: 23695 | P27: 11680 | Q27: 48368 | R27: 29880 | S27: 18488 | T27: 106979 | U27: 63683 | V27: 43296 | W27: 226610 | X27: 119003 | Y27: 107607 | Z27: 1.5655316 | AA27: 1.1842817
A28: 113年,2024 | B28: 141947 | C28: 87255 | D28: 54692 | E28: 263294 | F28: 143816 | G28: 119478 | H28: 2354 | I28: 1685 | J28: 669 | K28: 2416 | L28: 1716 | M28: 700 | N28: 36313 | O28: 24187 | P28: 12126 | Q28: 48617 | R28: 30076 | S28: 18541 | T28: 103280 | U28: 61383 | V28: 41897 | W28: 212261 | X28: 112024 | Y28: 100237 | Z28: 1.4961507 | AA28: 1.1251775
A30: 資料來源：直轄市、縣﹝市﹞政府。

Sheet 113
A1: 3.1-01 低收入戶戶數及人數
A2: 113年底, 2024
A4: 地區別 | B4: 總計 | H4: 第1款(省、新北、臺中、臺南)、第0類(臺北)、第1類(高雄) | N4: 第2款(省、新北、臺中、臺南)、第1、2類(臺北)、第2類(高雄) | T4: 第3款(省、新北、臺中、臺南)、第3、4類(臺北、高雄) | Z4: 低收入戶戶數占總戶數比率(%) | AA4: 低收入戶人數占總人數比率(%)
B5: 戶數(戶長性別) | E5: 人數 | H5: 戶數 | K5: 人數 | N5: 戶數 | Q5: 人數 | T5: 戶數 | W5: 人數
B6: 計 | C6: 男 | D6: 女 | E6: 計 | F6: 男 | G6: 女 | H6: 計 | I6: 男 | J6: 女 | K6: 計 | L6: 男 | M6: 女 | N6: 計 | O6: 男 | P6: 女 | Q6: 計 | R6: 男 | S6: 女 | T6: 計 | U6: 男 | V6: 女 | W6: 計 | X6: 男 | Y6: 女
A7: 總計 | B7: 141947 | C7: 87255 | D7: 54692 | E7: 263294 | F7: 143816 | G7: 119478 | H7: 2354 | I7: 1685 | J7: 669 | K7: 2416 | L7: 1716 | M7: 700 | N7: 36313 | O7: 24187 | P7: 12126 | Q7: 48617 | R7: 30076 | S7: 18541 | T7: 103280 | U7: 61383 | V7: 41897 | W7: 212261 | X7: 112024 | Y7: 100237 | Z7: 1.4961507 | AA7: 1.1251775 | AC7: 8286260 | AD7: 23373517
A8: 新北市 | B8: 16952 | C8: 10352 | D8: 6600 | E8: 30456 | F8: 16477 | G8: 13979 | H8: 74 | I8: 60 | J8: 14 | K8: 81 | L8: 63 | M8: 18 | N8: 1558 | O8: 1027 | P8: 531 | Q8: 2248 | R8: 1361 | S8: 887 | T8: 15320 | U8: 9265 | V8: 6055 | W8: 28127 | X8: 15053 | Y8: 13074 | Z8: 0.98683502 | AA8: 0.75255726 | AC8: 1477857 | AD8: 3954929
A9: 臺北市 | B9: 21202 | C9: 11559 | D9: 9643 | E9: 40678 | F9: 20639 | G9: 20039 | H9: 1269 | I9: 880 | J9: 389 | K9: 1300 | L9: 893 | M9: 407 | N9: 6921 | O9: 4268 | P9: 2653 | Q9: 8584 | R9: 5048 | S9: 3536 | T9: 13012 | U9: 6411 | V9: 6601 | W9: 30794 | X9: 14698 | Y9: 16096 | Z9: 1.9787343 | AA9: 1.6330847 | AC9: 1026738 | AD9: 2686516
A10: 桃園市 | B10: 12338 | C10: 7241 | D10: 5097 | E10: 27220 | F10: 14151 | G10: 13069 | H10: 70 | I10: 54 | J10: 16 | K10: 71 | L10: 54 | M10: 17 | N10: 1522 | O10: 1029 | P10: 493 | Q10: 2394 | R10: 1472 | S10: 922 | T10: 10746 | U10: 6158 | V10: 4588 | W10: 24755 | X10: 12625 | Y10: 12130 | Z10: 1.3151864 | AA10: 1.1639204 | AC10: 897191 | AD10: 2701661
A11: 臺中市 | B11: 19916 | C11: 11577 | D11: 8339 | E11: 40396 | F11: 21248 | G11: 19148 | H11: 519 | I11: 385 | J11: 134 | K11: 532 | L11: 394 | M11: 138 | N11: 7652 | O11: 4912 | P11: 2740 | Q11: 11271 | R11: 6649 | S11: 4622 | T11: 11745 | U11: 6280 | V11: 5465 | W11: 28593 | X11: 14205 | Y11: 14388 | Z11: 1.7973999 | AA11: 1.4121508 | AC11: 663131 | AD11: 1883208
A12: 臺南市 | B12: 8208 | C12: 5547 | D12: 2661 | E12: 13343 | F12: 7976 | G12: 5367 | H12: 145 | I12: 96 | J12: 49 | K12: 147 | L12: 97 | M12: 50 | N12: 2629 | O12: 1870 | P12: 759 | Q12: 3083 | R12: 2087 | S12: 996 | T12: 5434 | U12: 3581 | V12: 1853 | W12: 10113 | X12: 5792 | Y12: 4321 | Z12: 1.1000734 | AA12: 0.71788625 | AC12: 1056421 | AD12: 2779877
A13: 高雄市 | B13: 14477 | C13: 9048 | D13: 5429 | E13: 26239 | F13: 14391 | G13: 11848 | H13: 58 | I13: 39 | J13: 19 | K13: 61 | L13: 40 | M13: 21 | N13: 7124 | O13: 4758 | P13: 2366 | Q13: 9010 | R13: 5678 | S13: 3332 | T13: 7295 | U13: 4251 | V13: 3044 | W13: 17168 | X13: 8673 | Y13: 8495 | Z13: 1.2323421 | AA13: 0.96063867 | AC13: 3125941 | AD13: 9234448
A14: 宜蘭縣 | B14: 2967 | C14: 1843 | D14: 1124 | E14: 5173 | F14: 2896 | G14: 2277 | H14: 5 | I14: 4 | J14: 1 | K14: 5 | L14: 4 | M14: 1 | N14: 243 | O14: 165 | P14: 78 | Q14: 342 | R14: 220 | S14: 122 | T14: 2719 | U14: 1674 | V14: 1045 | W14: 4826 | X14: 2672 | Y14: 2154 | Z14: 1.6138858 | AA14: 1.1515721 | AC14: 716582 | AD14: 2044023
A15: 新竹縣 | B15: 1968 | C15: 1266 | D15: 702 | E15: 3961 | F15: 2188 | G15: 1773 | H15: 2 | I15: 2 | J15: 0 | K15: 2 | L15: 2 | M15: 0 | N15: 221 | O15: 159 | P15: 62 | Q15: 326 | R15: 215 | S15: 111 | T15: 1745 | U15: 1105 | V15: 640 | W15: 3633 | X15: 1971 | Y15: 1662 | Z15: 0.8552766 | AA15: 0.66611619 | AC15: 174836 | AD15: 530486
A16: 苗栗縣 | B16: 2870 | C16: 1887 | D16: 983 | E16: 5111 | F16: 2894 | G16: 2217 | H16: 1 | I16: 1 | J16: 0 | K16: 1 | L16: 1 | M16: 0 | N16: 1023 | O16: 736 | P16: 287 | Q16: 1392 | R16: 921 | S16: 471 | T16: 1846 | U16: 1150 | V16: 696 | W16: 3718 | X16: 1972 | Y16: 1746 | Z16: 1.4016615 | AA16: 0.95917456 | AC16: 180916 | AD16: 565554
A17: 彰化縣 | B17: 7866 | C17: 5025 | D17: 2841 | E17: 12670 | F17: 7301 | G17: 5369 | H17: 5 | I17: 3 | J17: 2 | K17: 5 | L17: 3 | M17: 2 | N17: 93 | O17: 61 | P17: 32 | Q17: 149 | R17: 92 | S17: 57 | T17: 7768 | U17: 4961 | V17: 2807 | W17: 12516 | X17: 7206 | Y17: 5310 | Z17: 1.8690123 | AA17: 1.0337161 | AC17: 375940 | AD17: 1296013
A18: 南投縣 | B18: 2488 | C18: 1769 | D18: 719 | E18: 4017 | F18: 2462 | G18: 1555 | H18: 1 | I18: 1 | J18: 0 | K18: 1 | L18: 1 | M18: 0 | N18: 118 | O18: 85 | P18: 33 | Q18: 165 | R18: 107 | S18: 58 | T18: 2369 | U18: 1683 | V18: 686 | W18: 3851 | X18: 2354 | Y18: 1497 | Z18: 1.3514908 | AA18: 0.85052054 | AC18: 175452 | AD18: 517222
... A29: 連江縣 | B29: 44 | C29: 29 | D29: 15 | E29: 91 | F29: 46 | G29: 45 | H29: 11 | I29: 9 | J29: 2 | K29: 11 | L29: 9 | M29: 2 | N29: 15 | O29: 11 | P29: 4 | Q29: 29 | R29: 20 | S29: 9 | T29: 18 | U29: 9 | V29: 9 | W29: 51 | X29: 17 | Y29: 34 | Z29: 1.1293634 | AA29: 0.65232975 | AC29: 2423 | AD29: 12165
A30: 資料來源：直轄市、縣﹝市﹞政府。

Sheet 112
A1: 3.1-01 低收入戶戶數及人數
A2: 112年底, 2023
A4: 地區別 | B4: 總計 | H4: 第1款(省、新北、臺中、臺南)、第0類(臺北)、第1類(高雄) | N4: 第2款(省、新北、臺中、臺南)、第1、2類(臺北)、第2類(高雄) | T4: 第3款(省、新北、臺中、臺南)、第3、4類(臺北、高雄) | Z4: 低收入戶戶數占總戶數比率(%) | AA4: 低收入戶人數占總人數比率(%)
B5: 戶數(戶長性別) | E5: 人數 | H5: 戶數 | K5: 人數 | N5: 戶數 | Q5: 人數 | T5: 戶數 | W5: 人數
B6: 計 | C6: 男 | D6: 女 | E6: 計 | F6: 男 | G6: 女 | H6: 計 | I6: 男 | J6: 女 | K6: 計 | L6: 男 | M6: 女 | N6: 計 | O6: 男 | P6: 女 | Q6: 計 | R6: 男 | S6: 女 | T6: 計 | U6: 男 | V6: 女 | W6: 計 | X6: 男 | Y6: 女
A7: 總計 | B7: 144668 | C7: 89017 | D7: 55651 | E7: 277364 | F7: 150565 | G7: 126799 | H7: 2314 | I7: 1639 | J7: 675 | K7: 2386 | L7: 1682 | M7: 704 | N7: 35375 | O7: 23695 | P7: 11680 | Q7: 48368 | R7: 29880 | S7: 18488 | T7: 106979 | U7: 63683 | V7: 43296 | W7: 226610 | X7: 119003 | Y7: 107607 | Z7: 1.5655316 | AA7: 1.1842817 | AC7: 8286260 | AD7: 23373517
A8: 新北市 | B8: 17905 | C8: 10890 | D8: 7015 | E8: 33640 | F8: 18001 | G8: 15639 | H8: 66 | I8: 56 | J8: 10 | K8: 74 | L8: 60 | M8: 14 | N8: 1367 | O8: 903 | P8: 464 | Q8: 2066 | R8: 1231 | S8: 835 | T8: 16472 | U8: 9931 | V8: 6541 | W8: 31500 | X8: 16710 | Y8: 14790 | Z8: 1.0714692 | AA8: 0.83244249 | AC8: 1477857 | AD8: 3954929
A9: 臺北市 | B9: 21557 | C9: 11808 | D9: 9749 | E9: 42486 | F9: 21600 | G9: 20886 | H9: 1371 | I9: 959 | J9: 412 | K9: 1415 | L9: 982 | M9: 433 | N9: 6624 | O9: 4134 | P9: 2490 | Q9: 8260 | R9: 4891 | S9: 3369 | T9: 13562 | U9: 6715 | V9: 6847 | W9: 32811 | X9: 15727 | Y9: 17084 | Z9: 2.0240706 | AA9: 1.6913984 | AC9: 1026738 | AD9: 2686516
A10: 桃園市 | B10: 12580 | C10: 7373 | D10: 5207 | E10: 28841 | F10: 14890 | G10: 13951 | H10: 66 | I10: 46 | J10: 20 | K10: 68 | L10: 47 | M10: 21 | N10: 1419 | O10: 953 | P10: 466 | Q10: 2357 | R10: 1424 | S10: 933 | T10: 11095 | U10: 6374 | V10: 4721 | W10: 26416 | X10: 13419 | Y10: 12997 | Z10: 1.3923923 | AA10: 1.2445171 | AC10: 897191 | AD10: 2701661
A11: 臺中市 | B11: 20368 | C11: 11779 | D11: 8589 | E11: 42813 | F11: 22336 | G11: 20477 | H11: 405 | I11: 289 | J11: 116 | K11: 413 | L11: 296 | M11: 117 | N11: 7309 | O11: 4721 | P11: 2588 | Q11: 11065 | R11: 6510 | S11: 4555 | T11: 12654 | U11: 6769 | V11: 5885 | W11: 31335 | X11: 15530 | Y11: 15805 | Z11: 1.9221895 | AA11: 1.50437 | AC11: 663131 | AD11: 1883208
A12: 臺南市 | B12: 8274 | C12: 5614 | D12: 2660 | E12: 13700 | F12: 8142 | G12: 5558 | H12: 155 | I12: 101 | J12: 54 | K12: 157 | L12: 102 | M12: 55 | N12: 2781 | O12: 1986 | P12: 795 | Q12: 3242 | R12: 2207 | S12: 1035 | T12: 5338 | U12: 3527 | V12: 1811 | W12: 10301 | X12: 5833 | Y12: 4468 | Z12: 1.1378874 | AA12: 0.73658052 | AC12: 1056421 | AD12: 2779877
A13: 高雄市 | B13: 14840 | C13: 9275 | D13: 5565 | E13: 27909 | F13: 15139 | G13: 12770 | H13: 57 | I13: 35 | J13: 22 | K13: 60 | L13: 38 | M13: 22 | N13: 7023 | O13: 4685 | P13: 2338 | Q13: 9121 | R13: 5700 | S13: 3421 | T13: 7760 | U13: 4555 | V13: 3205 | W13: 18728 | X13: 9401 | Y13: 9327 | Z13: 1.2895657 | AA13: 1.0193426 | AC13: 3125941 | AD13: 9234448
A14: 宜蘭縣 | B14: 2555 | C14: 1634 | D14: 921 | E14: 4354 | F14: 2495 | G14: 1859 | H14: 6 | I14: 5 | J14: 1 | K14: 6 | L14: 5 | M14: 1 | N14: 231 | O14: 163 | P14: 68 | Q14: 305 | R14: 201 | S14: 104 | T14: 2318 | U14: 1466 | V14: 852 | W14: 4043 | X14: 2289 | Y14: 1754 | Z14: 1.4301547 | AA14: 0.96779213 | AC14: 716582 | AD14: 2044023
A15: 新竹縣 | B15: 1879 | C15: 1204 | D15: 675 | E15: 3947 | F15: 2149 | G15: 1798 | H15: 3 | I15: 3 | J15: 0 | K15: 3 | L15: 3 | M15: 0 | N15: 235 | O15: 170 | P15: 65 | Q15: 347 | R15: 226 | S15: 121 | T15: 1641 | U15: 1031 | V15: 610 | W15: 3597 | X15: 1920 | Y15: 1677 | Z15: 0.85063809 | AA15: 0.6697902 | AC15: 174836 | AD15: 530486
A16: 苗栗縣 | B16: 3052 | C16: 2003 | D16: 1049 | E16: 5601 | F16: 3167 | G16: 2434 | H16: 1 | I16: 1 | J16: 0 | K16: 1 | L16: 1 | M16: 0 | N16: 1107 | O16: 814 | P16: 293 | Q16: 1566 | R16: 1045 | S16: 521 | T16: 1944 | U16: 1188 | V16: 756 | W16: 4034 | X16: 2121 | Y16: 1913 | Z16: 1.5287364 | AA16: 1.0477482 | AC16: 180916 | AD16: 565554
A17: 彰化縣 | B17: 7762 | C17: 5011 | D17: 2751 | E17: 12716 | F17: 7326 | G17: 5390 | H17: 4 | I17: 3 | J17: 1 | K17: 4 | L17: 3 | M17: 1 | N17: 100 | O17: 70 | P17: 30 | Q17: 155 | R17: 99 | S17: 56 | T17: 7658 | U17: 4938 | V17: 2720 | W17: 12557 | X17: 7224 | Y17: 5333 | Z17: 1.9100114 | AA17: 1.0262718 | AC17: 375940 | AD17: 1296013
A18: 南投縣 | B18: 2535 | C18: 1794 | D18: 741 | E18: 4172 | F18: 2531 | G18: 1641 | H18: 3 | I18: 1 | J18: 2 | K18: 3 | L18: 1 | M18: 2 | N18: 119 | O18: 86 | P18: 33 | Q18: 181 | R18: 111 | S18: 70 | T18: 2413 | U18: 1707 | V18: 706 | W18: 3988 | X18: 2419 | Y18: 1569 | Z18: 1.403367 | AA18: 0.8744608 | AC18: 175452 | AD18: 517222
... A29: 連江縣 | B29: 51 | C29: 36 | D29: 15 | E29: 92 | F29: 51 | G29: 41 | H29: 14 | I29: 10 | J29: 4 | K29: 14 | L29: 10 | M29: 4 | N29: 16 | O29: 12 | P29: 4 | Q29: 26 | R29: 16 | S29: 10 | T29: 21 | U29: 14 | V29: 7 | W29: 52 | X29: 25 | Y29: 27 | Z29: 1.3757756 | AA29: 0.65531733 | AC29: 2423 | AD29: 12165
A30: 資料來源：直轄市、縣﹝市﹞政府。

Sheet 111
A1: 3.1-01 低收入戶戶數及人數
A2: 111年底, 2022
A4: 地區別 | B4: 總計 | H4: 第1款(省、新北、臺中、臺南)、第0類(臺北)、第1類(高雄) | N4: 第2款(省、新北、臺中、臺南)、第1、2類(臺北)、第2類(高雄) | T4: 第3款(省、新北、臺中、臺南)、第3、4類(臺北、高雄) | Z4: 低收入戶戶數占總戶數比率(%) | AA4: 低收入戶人數占總人數比率(%)
B5: 戶數(戶長性別) | E5: 人數 | H5: 戶數 | K5: 人數 | N5: 戶數 | Q5: 人數 | T5: 戶數 | W5: 人數
B6: 計 | C6: 男 | D6: 女 | E6: 計 | F6: 男 | G6: 女 | H6: 計 | I6: 男 | J6: 女 | K6: 計 | L6: 男 | M6: 女 | N6: 計 | O6: 男 | P6: 女 | Q6: 計 | R6: 男 | S6: 女 | T6: 計 | U6: 男 | V6: 女 | W6: 計 | X6: 男 | Y6: 女
A7: 總計 | B7: 146029 | C7: 89837 | D7: 56192 | E7: 288703 | F7: 155932 | G7: 132771 | H7: 2452 | I7: 1753 | J7: 699 | K7: 2533 | L7: 1800 | M7: 733 | N7: 35047 | O7: 23515 | P7: 11532 | Q7: 49686 | R7: 30401 | S7: 19285 | T7: 108530 | U7: 64569 | V7: 43961 | W7: 236484 | X7: 123731 | Y7: 112753 | Z7: 1.6065769 | AA7: 1.2409519 | AC7: 8286260 | AD7: 23373517
A8: 新北市 | B8: 18041 | C8: 10894 | D8: 7147 | E8: 35091 | F8: 18658 | G8: 16433 | H8: 73 | I8: 61 | J8: 12 | K8: 81 | L8: 65 | M8: 16 | N8: 1345 | O8: 879 | P8: 466 | Q8: 2106 | R8: 1239 | S8: 867 | T8: 16623 | U8: 9954 | V8: 6669 | W8: 32904 | X8: 17354 | Y8: 15550 | Z8: 1.1007939 | AA8: 0.87825184 | AC8: 1477857 | AD8: 3954929
A9: 臺北市 | B9: 21909 | C9: 12065 | D9: 9844 | E9: 44476 | F9: 22610 | G9: 21866 | H9: 1474 | I9: 1040 | J9: 434 | K9: 1528 | L9: 1069 | M9: 459 | N9: 6644 | O9: 4125 | P9: 2519 | Q9: 8691 | R9: 5097 | S9: 3594 | T9: 13791 | U9: 6900 | V9: 6891 | W9: 34257 | X9: 16444 | Y9: 17813 | Z9: 2.0846238 | AA9: 1.7928948 | AC9: 1026738 | AD9: 2686516
A10: 桃園市 | B10: 12091 | C10: 7071 | D10: 5020 | E10: 28305 | F10: 14570 | G10: 13735 | H10: 67 | I10: 46 | J10: 21 | K10: 69 | L10: 47 | M10: 22 | N10: 1397 | O10: 917 | P10: 480 | Q10: 2529 | R10: 1474 | S10: 1055 | T10: 10627 | U10: 6108 | V10: 4519 | W10: 25707 | X10: 13049 | Y10: 12658 | Z10: 1.3763765 | AA10: 1.2406507 | AC10: 897191 | AD10: 2701661
A11: 臺中市 | B11: 20398 | C11: 11824 | D11: 8574 | E11: 44247 | F11: 23043 | G11: 21204 | H11: 412 | I11: 299 | J11: 113 | K11: 420 | L11: 306 | M11: 114 | N11: 7113 | O11: 4653 | P11: 2460 | Q11: 11170 | R11: 6561 | S11: 4609 | T11: 12873 | U11: 6872 | V11: 6001 | W11: 32657 | X11: 16176 | Y11: 16481 | Z11: 1.9730688 | AA11: 1.5721316 | AC11: 663131 | AD11: 1883208
A12: 臺南市 | B12: 8775 | C12: 5912 | D12: 2863 | E12: 15214 | F12: 8853 | G12: 6361 | H12: 181 | I12: 124 | J12: 57 | K12: 183 | L12: 125 | M12: 58 | N12: 2912 | O12: 2073 | P12: 839 | Q12: 3528 | R12: 2372 | S12: 1156 | T12: 5682 | U12: 3715 | V12: 1967 | W12: 11503 | X12: 6356 | Y12: 5147 | Z12: 1.2246299 | AA12: 0.82104828 | AC12: 1056421 | AD12: 2779877
A13: 高雄市 | B13: 15091 | C13: 9433 | D13: 5658 | E13: 29344 | F13: 15750 | G13: 13594 | H13: 60 | I13: 35 | J13: 25 | K13: 64 | L13: 38 | M13: 26 | N13: 6874 | O13: 4560 | P13: 2314 | Q13: 9135 | R13: 5630 | S13: 3505 | T13: 8157 | U13: 4838 | V13: 3319 | W13: 20145 | X13: 10082 | Y13: 10063 | Z13: 1.3275158 | AA13: 1.0756058 | AC13: 3125941 | AD13: 9234448
A14: 宜蘭縣 | B14: 2805 | C14: 1779 | D14: 1026 | E14: 5081 | F14: 2881 | G14: 2200 | H14: 7 | I14: 6 | J14: 1 | K14: 7 | L14: 6 | M14: 1 | N14: 259 | O14: 185 | P14: 74 | Q14: 363 | R14: 243 | S14: 120 | T14: 2539 | U14: 1588 | V14: 951 | W14: 4711 | X14: 2632 | Y14: 2079 | Z14: 1.5930802 | AA14: 1.1314696 | AC14: 716582 | AD14: 2044023
A15: 新竹縣 | B15: 1920 | C15: 1233 | D15: 687 | E15: 4241 | F15: 2278 | G15: 1963 | H15: 6 | I15: 6 | J15: 0 | K15: 6 | L15: 6 | M15: 0 | N15: 264 | O15: 194 | P15: 70 | Q15: 381 | R15: 249 | S15: 132 | T15: 1650 | U15: 1033 | V15: 617 | W15: 3854 | X15: 2023 | Y15: 1831 | Z15: 0.89228867 | AA15: 0.73057331 | AC15: 174836 | AD15: 530486
A16: 苗栗縣 | B16: 3099 | C16: 2055 | D16: 1044 | E16: 5851 | F16: 3310 | G16: 2541 | H16: 1 | I16: 1 | J16: 0 | K16: 1 | L16: 1 | M16: 0 | N16: 1152 | O16: 856 | P16: 296 | Q16: 1707 | R16: 1120 | S16: 587 | T16: 1946 | U16: 1198 | V16: 748 | W16: 4143 | X16: 2189 | Y16: 1954 | Z16: 1.5728968 | AA16: 1.0933751 | AC16: 180916 | AD16: 565554
A17: 彰化縣 | B17: 7562 | C17: 4879 | D17: 2683 | E17: 12594 | F17: 7206 | G17: 5388 | H17: 3 | I17: 3 | J17: 0 | K17: 3 | L17: 3 | M17: 0 | N17: 88 | O17: 61 | P17: 27 | Q17: 133 | R17: 87 | S17: 46 | T17: 7471 | U17: 4815 | V17: 2656 | W17: 12458 | X17: 7116 | Y17: 5342 | Z17: 1.8791313 | AA17: 1.0113721 | AC17: 375940 | AD17: 1296013
A18: 南投縣 | B18: 2566 | C18: 1813 | D18: 753 | E18: 4343 | F18: 2605 | G18: 1738 | H18: 3 | I18: 2 | J18: 1 | K18: 3 | L18: 2 | M18: 1 | N18: 125 | O18: 89 | P18: 36 | Q18: 223 | R18: 135 | S18: 88 | T18: 2438 | U18: 1722 | V18: 716 | W18: 4117 | X18: 2468 | Y18: 1649 | Z18: 1.4262925 | AA18: 0.90555573 | AC18: 175452 | AD18: 517222
... A29: 連江縣 | B29: 48 | C29: 34 | D29: 14 | E29: 83 | F29: 50 | G29: 33 | H29: 16 | I29: 11 | J29: 5 | K29: 17 | L29: 12 | M29: 5 | N29: 15 | O29: 12 | P29: 3 | Q29: 25 | R29: 16 | S29: 9 | T29: 17 | U29: 11 | V29: 6 | W29: 41 | X29: 22 | Y29: 19 | Z29: 1.322314 | AA29: 0.59357792 | AC29: 2423 | AD29: 12165
A30: 資料來源：直轄市、縣﹝市﹞政府。

Sheet 110
A1: 3.1-01 低收入戶戶數及人數
A2: 110年底, 2021
A4: 地區別 | B4: 總計 | H4: 第1款(省、新北、臺中、臺南)、第0類(臺北)、第1類(高雄) | N4: 第2款(省、新北、臺中、臺南)、第1、2類(臺北)、第2類(高雄) | T4: 第3款(省、新北、臺中、臺南)、第3、4類(臺北、高雄) | Z4: 低收入戶戶數占總戶數比率(%) | AA4: 低收入戶人數占總人數比率(%)
B5: 戶數(戶長性別) | E5: 人數 | H5: 戶數 | K5: 人數 | N5: 戶數 | Q5: 人數 | T5: 戶數 | W5: 人數
B6: 計 | C6: 男 | D6: 女 | E6: 計 | F6: 男 | G6: 女 | H6: 計 | I6: 男 | J6: 女 | K6: 計 | L6: 男 | M6: 女 | N6: 計 | O6: 男 | P6: 女 | Q6: 計 | R6: 男 | S6: 女 | T6: 計 | U6: 男 | V6: 女 | W6: 計 | X6: 男 | Y6: 女
A7: 總計 | B7: 146995 | C7: 90786 | D7: 56209 | E7: 295901 | F7: 159633 | G7: 136268 | H7: 2646 | I7: 1927 | J7: 719 | K7: 2725 | L7: 1976 | M7: 749 | N7: 34843 | O7: 23544 | P7: 11299 | Q7: 50284 | R7: 30803 | S7: 19481 | T7: 109506 | U7: 65315 | V7: 44191 | W7: 242892 | X7: 126854 | Y7: 116038 | Z7: 1.6320845 | AA7: 1.2658696 | AC7: 8286260 | AD7: 23373517
A8: 新北市 | B8: 18970 | C8: 11618 | D8: 7352 | E8: 37386 | F8: 20020 | G8: 17366 | H8: 78 | I8: 63 | J8: 15 | K8: 86 | L8: 67 | M8: 19 | N8: 1413 | O8: 954 | P8: 459 | Q8: 2220 | R8: 1331 | S8: 889 | T8: 17479 | U8: 10601 | V8: 6878 | W8: 35080 | X8: 18622 | Y8: 16458 | Z8: 1.1703331 | AA8: 0.93275813 | AC8: 1477857 | AD8: 3954929
A9: 臺北市 | B9: 21647 | C9: 11976 | D9: 9671 | E9: 44678 | F9: 22707 | G9: 21971 | H9: 1579 | I9: 1131 | J9: 448 | K9: 1630 | L9: 1161 | M9: 469 | N9: 6435 | O9: 4008 | P9: 2427 | Q9: 8636 | R9: 5069 | S9: 3567 | T9: 13633 | U9: 6837 | V9: 6796 | W9: 34412 | X9: 16477 | Y9: 17935 | Z9: 2.0565345 | AA9: 1.7698512 | AC9: 1026738 | AD9: 2686516
A10: 桃園市 | B10: 11802 | C10: 6864 | D10: 4938 | E10: 28359 | F10: 14553 | G10: 13806 | H10: 51 | I10: 38 | J10: 13 | K10: 53 | L10: 38 | M10: 15 | N10: 1271 | O10: 824 | P10: 447 | Q10: 2372 | R10: 1370 | S10: 1002 | T10: 10480 | U10: 6002 | V10: 4478 | W10: 25934 | X10: 13145 | Y10: 12789 | Z10: 1.368916 | AA10: 1.2479807 | AC10: 897191 | AD10: 2701661
A11: 臺中市 | B11: 20168 | C11: 11699 | D11: 8469 | E11: 44205 | F11: 22994 | G11: 21211 | H11: 415 | I11: 306 | J11: 109 | K11: 424 | L11: 314 | M11: 110 | N11: 6832 | O11: 4523 | P11: 2309 | Q11: 10943 | R11: 6447 | S11: 4496 | T11: 12921 | U11: 6870 | V11: 6051 | W11: 32838 | X11: 16233 | Y11: 16605 | Z11: 1.9824462 | AA11: 1.5711803 | AC11: 663131 | AD11: 1883208
A12: 臺南市 | B12: 9546 | C12: 6389 | D12: 3157 | E12: 17527 | F12: 10028 | G12: 7499 | H12: 230 | I12: 160 | J12: 70 | K12: 233 | L12: 162 | M12: 71 | N12: 3071 | O12: 2189 | P12: 882 | Q12: 3798 | R12: 2537 | S12: 1261 | T12: 6245 | U12: 4040 | V12: 2205 | W12: 13496 | X12: 7329 | Y12: 6167 | Z12: 1.3446472 | AA12: 0.94126985 | AC12: 1056421 | AD12: 2779877
A13: 高雄市 | B13: 15368 | C13: 9634 | D13: 5734 | E13: 30563 | F13: 16334 | G13: 14229 | H13: 64 | I13: 43 | J13: 21 | K13: 67 | L13: 46 | M13: 21 | N13: 6918 | O13: 4609 | P13: 2309 | Q13: 9333 | R13: 5729 | S13: 3604 | T13: 8386 | U13: 4982 | V13: 3404 | W13: 21163 | X13: 10559 | Y13: 10604 | Z13: 1.3614361 | AA13: 1.1135315 | AC13: 3125941 | AD13: 9234448
A14: 宜蘭縣 | B14: 2683 | C14: 1712 | D14: 971 | E14: 4900 | F14: 2765 | G14: 2135 | H14: 10 | I14: 9 | J14: 1 | K14: 10 | L14: 9 | M14: 1 | N14: 284 | O14: 209 | P14: 75 | Q14: 421 | R14: 280 | S14: 141 | T14: 2389 | U14: 1494 | V14: 895 | W14: 4469 | X14: 2476 | Y14: 1993 | Z14: 0.1044494 | AA14: 1.087217 | AC14: 716582 | AD14: 2044023
A15: 新竹縣 | B15: 1974 | C15: 1280 | D15: 694 | E15: 4353 | F15: 2355 | G15: 1998 | H15: 9 | I15: 9 | J15: 0 | K15: 9 | L15: 9 | M15: 0 | N15: 299 | O15: 223 | P15: 76 | Q15: 435 | R15: 288 | S15: 147 | T15: 1666 | U15: 1048 | V15: 618 | W15: 3909 | X15: 2058 | Y15: 1851 | Z15: 0.93681038 | AA15: 0.75628062 | AC15: 174836 | AD15: 530486
A16: 苗栗縣 | B16: 3189 | C16: 2070 | D16: 1119 | E16: 6077 | F16: 3414 | G16: 2663 | H16: 1 | I16: 1 | J16: 0 | K16: 1 | L16: 1 | M16: 0 | N16: 1230 | O16: 908 | P16: 322 | Q16: 1836 | R16: 1183 | S16: 653 | T16: 1958 | U16: 1161 | V16: 797 | W16: 4240 | X16: 2230 | Y16: 2010 | Z16: 1.6325381 | AA16: 1.1291803 | AC16: 180916 | AD16: 565554
A17: 彰化縣 | B17: 7387 | C17: 4797 | D17: 2590 | E17: 12336 | F17: 7071 | G17: 5265 | H17: 2 | I17: 2 | J17: 0 | K17: 2 | L17: 2 | M17: 0 | N17: 85 | O17: 59 | P17: 26 | Q17: 130 | R17: 88 | S17: 42 | T17: 7300 | U17: 4736 | V17: 2564 | W17: 12204 | X17: 6981 | Y17: 5223 | Z17: 1.8504555 | AA17: 0.98268981 | AC17: 375940 | AD17: 1296013
A18: 南投縣 | B18: 2693 | C18: 1902 | D18: 791 | E18: 4704 | F18: 2799 | G18: 1905 | H18: 4 | I18: 3 | J18: 1 | K18: 4 | L18: 3 | M18: 1 | N18: 152 | O18: 105 | P18: 47 | Q18: 284 | R18: 164 | S18: 120 | T18: 2537 | U18: 1794 | V18: 743 | W18: 4416 | X18: 2632 | Y18: 1784 | Z18: 1.4976504 | AA18: 0.97010293 | AC18: 175452 | AD18: 517222
... A29: 連江縣 | B29: 47 | C29: 34 | D29: 13 | E29: 86 | F29: 51 | G29: 35 | H29: 14 | I29: 10 | J29: 4 | K29: 15 | L29: 11 | M29: 4 | N29: 15 | O29: 12 | P29: 3 | Q29: 19 | R29: 13 | S29: 6 | T29: 18 | U29: 12 | V29: 6 | W29: 52 | X29: 27 | Y29: 25 | Z29: 1.331822 | AA29: 0.6302675 | AC29: 2423 | AD29: 12165
A30: 資料來源：直轄市、縣﹝市﹞政府。

Sheet 109
A1: 3.1-01 低收入戶戶數及人數
A2: 109年底, 2020
A4: 地區別 | B4: 總計 | H4: 第1款(省、新北、臺中、臺南)、第0類(臺北)、第1類(高雄) | N4: 第2款(省、新北、臺中、臺南)、第1、2類(臺北)、第2類(高雄) | T4: 第3款(省、新北、臺中、臺南)、第3、4類(臺北、高雄) | Z4: 低收入戶戶數占總戶數比率(%) | AA4: 低收入戶人數占總人數比率(%)
B5: 戶數(戶長性別) | E5: 人數 | H5: 戶數 | K5: 人數 | N5: 戶數 | Q5: 人數 | T5: 戶數 | W5: 人數
B6: 計 | C6: 男 | D6: 女 | E6: 計 | F6: 男 | G6: 女 | H6: 計 | I6: 男 | J6: 女 | K6: 計 | L6: 男 | M6: 女 | N6: 計 | O6: 男 | P6: 女 | Q6: 計 | R6: 男 | S6: 女 | T6: 計 | U6: 男 | V6: 女 | W6: 計 | X6: 男 | Y6: 女
A7: 總計 | B7: 146342 | C7: 90618 | D7: 55724 | E7: 300241 | F7: 161390 | G7: 138851 | H7: 2733 | I7: 2008 | J7: 725 | K7: 2813 | L7: 2058 | M7: 755 | N7: 34563 | O7: 23299 | P7: 11264 | Q7: 50711 | R7: 30845 | S7: 19866 | T7: 109046 | U7: 65311 | V7: 43735 | W7: 246717 | X7: 128487 | Y7: 118230 | Z7: 1.64 | AA7: 1.27 | AC7: 8286260 | AD7: 23373517
A8: 新北市 | B8: 19277 | C8: 11768 | D8: 7509 | E8: 39407 | F8: 20899 | G8: 18508 | H8: 78 | I8: 65 | J8: 13 | K8: 81 | L8: 66 | M8: 15 | N8: 1383 | O8: 933 | P8: 450 | Q8: 2237 | R8: 1332 | S8: 905 | T8: 17816 | U8: 10770 | V8: 7046 | W8: 37089 | X8: 19501 | Y8: 17588 | Z8: 1.2 | AA8: 0.98 | AC8: 1477857 | AD8: 3954929
A9: 臺北市 | B9: 21495 | C9: 12015 | D9: 9480 | E9: 45052 | F9: 22914 | G9: 22138 | H9: 1640 | I9: 1189 | J9: 451 | K9: 1693 | L9: 1223 | M9: 470 | N9: 6249 | O9: 3895 | P9: 2354 | Q9: 8600 | R9: 5026 | S9: 3574 | T9: 13606 | U9: 6931 | V9: 6675 | W9: 34759 | X9: 16665 | Y9: 18094 | Z9: 2.03 | AA9: 1.73 | AC9: 1026738 | AD9: 2686516
A10: 桃園市 | B10: 11078 | C10: 6419 | D10: 4659 | E10: 27119 | F10: 13844 | G10: 13275 | H10: 47 | I10: 35 | J10: 12 | K10: 49 | L10: 35 | M10: 14 | N10: 1196 | O10: 777 | P10: 419 | Q10: 2241 | R10: 1291 | S10: 950 | T10: 9835 | U10: 5607 | V10: 4228 | W10: 24829 | X10: 12518 | Y10: 12311 | Z10: 1.31 | AA10: 1.2 | AC10: 897191 | AD10: 2701661
A11: 臺中市 | B11: 20134 | C11: 11691 | D11: 8443 | E11: 45090 | F11: 23293 | G11: 21797 | H11: 388 | I11: 293 | J11: 95 | K11: 396 | L11: 300 | M11: 96 | N11: 6566 | O11: 4292 | P11: 2274 | Q11: 10751 | R11: 6266 | S11: 4485 | T11: 13180 | U11: 7106 | V11: 6074 | W11: 33943 | X11: 16727 | Y11: 17216 | Z11: 2.01 | AA11: 1.6 | AC11: 663131 | AD11: 1883208
A12: 臺南市 | B12: 9602 | C12: 6431 | D12: 3171 | E12: 17923 | F12: 10185 | G12: 7738 | H12: 261 | I12: 181 | J12: 80 | K12: 267 | L12: 184 | M12: 83 | N12: 3097 | O12: 2208 | P12: 889 | Q12: 3847 | R12: 2561 | S12: 1286 | T12: 6244 | U12: 4042 | V12: 2202 | W12: 13809 | X12: 7440 | Y12: 6369 | Z12: 1.36 | AA12: 0.96 | AC12: 1056421 | AD12: 2779877
A13: 高雄市 | B13: 16088 | C13: 10023 | D13: 6065 | E13: 33192 | F13: 17528 | G13: 15664 | H13: 67 | I13: 45 | J13: 22 | K13: 70 | L13: 47 | M13: 23 | N13: 7074 | O13: 4677 | P13: 2397 | Q13: 9858 | R13: 5954 | S13: 3904 | T13: 8947 | U13: 5301 | V13: 3646 | W13: 23264 | X13: 11527 | Y13: 11737 | Z13: 1.44 | AA13: 1.2 | AC13: 3125941 | AD13: 9234448
A14: 宜蘭縣 | B14: 2543 | C14: 1670 | D14: 873 | E14: 4630 | F14: 2676 | G14: 1954 | H14: 11 | I14: 9 | J14: 2 | K14: 11 | L14: 9 | M14: 2 | N14: 276 | O14: 208 | P14: 68 | Q14: 394 | R14: 276 | S14: 118 | T14: 2256 | U14: 1453 | V14: 803 | W14: 4225 | X14: 2391 | Y14: 1834 | Z14: 1.47 | AA14: 1.02 | AC14: 716582 | AD14: 2044023
A15: 新竹縣 | B15: 1889 | C15: 1235 | D15: 654 | E15: 4156 | F15: 2244 | G15: 1912 | H15: 10 | I15: 9 | J15: 1 | K15: 10 | L15: 9 | M15: 1 | N15: 307 | O15: 232 | P15: 75 | Q15: 447 | R15: 294 | S15: 153 | T15: 1572 | U15: 994 | V15: 578 | W15: 3699 | X15: 1941 | Y15: 1758 | Z15: 0.92 | AA15: 0.73 | AC15: 174836 | AD15: 530486
A16: 苗栗縣 | B16: 3037 | C16: 1988 | D16: 1049 | E16: 5837 | F16: 3304 | G16: 2533 | H16: 1 | I16: 1 | J16: 0 | K16: 1 | L16: 1 | M16: 0 | N16: 1284 | O16: 936 | P16: 348 | Q16: 1926 | R16: 1241 | S16: 685 | T16: 1752 | U16: 1051 | V16: 701 | W16: 3910 | X16: 2062 | Y16: 1848 | Z16: 1.57 | AA16: 1.08 | AC16: 180916 | AD16: 565554
A17: 彰化縣 | B17: 7256 | C17: 4690 | D17: 2566 | E17: 12251 | F17: 7011 | G17: 5240 | H17: 2 | I17: 2 | J17: 0 | K17: 2 | L17: 2 | M17: 0 | N17: 91 | O17: 70 | P17: 21 | Q17: 135 | R17: 91 | S17: 44 | T17: 7163 | U17: 4618 | V17: 2545 | W17: 12114 | X17: 6918 | Y17: 5196 | Z17: 1.83 | AA17: 0.97 | AC17: 375940 | AD17: 1296013
A18: 南投縣 | B18: 2888 | C18: 2026 | D18: 862 | E18: 5154 | F18: 3059 | G18: 2095 | H18: 6 | I18: 5 | J18: 1 | K18: 7 | L18: 6 | M18: 1 | N18: 183 | O18: 125 | P18: 58 | Q18: 326 | R18: 182 | S18: 144 | T18: 2699 | U18: 1896 | V18: 803 | W18: 4821 | X18: 2871 | Y18: 1950 | Z18: 1.61 | AA18: 1.05 | AC18: 175452 | AD18: 517222
... A29: 連江縣 | B29: 52 | C29: 35 | D29: 17 | E29: 96 | F29: 57 | G29: 39 | H29: 14 | I29: 9 | J29: 5 | K29: 15 | L29: 10 | M29: 5 | N29: 18 | O29: 14 | P29: 4 | Q29: 26 | R29: 19 | S29: 7 | T29: 20 | U29: 12 | V29: 8 | W29: 55 | X29: 28 | Y29: 27 | Z29: 1.53 | AA29: 0.72 | AC29: 2423 | AD29: 12165
A30: 資料來源：直轄市、縣﹝市﹞政府。

Sheet 108
A1: 3.1-01 低收入戶戶數及人數
A2: 108年底, 2019
A4: 地區別 | B4: 總計 | H4: 第1款(省、新北、臺中、臺南)、第0類(臺北)、第1類(高雄) | N4: 第2款(省、新北、臺中、臺南)、第1、2類(臺北)、第2類(高雄) | T4: 第3款(省、新北、臺中、臺南)、第3、4類(臺北、高雄) | Z4: 低收入戶戶數占總戶數比率(%) | AA4: 低收入戶人數占總人數比率(%)
B5: 戶數(戶長性別) | E5: 人數 | H5: 戶數 | K5: 人數 | N5: 戶數 | Q5: 人數 | T5: 戶數 | W5: 人數
B6: 計 | C6: 男 | D6: 女 | E6: 計 | F6: 男 | G6: 女 | H6: 計 | I6: 男 | J6: 女 | K6: 計 | L6: 男 | M6: 女 | N6: 計 | O6: 男 | P6: 女 | Q6: 計 | R6: 男 | S6: 女 | T6: 計 | U6: 男 | V6: 女 | W6: 計 | X6: 男 | Y6: 女
A7: 總計 | B7: 144863 | C7: 89549 | D7: 55314 | E7: 304470 | F7: 162658 | G7: 141812 | H7: 2926 | I7: 2157 | J7: 769 | K7: 3028 | L7: 2213 | M7: 815 | N7: 34050 | O7: 22893 | P7: 11157 | Q7: 51337 | R7: 30964 | S7: 20373 | T7: 107887 | U7: 64499 | V7: 43388 | W7: 250105 | X7: 129481 | Y7: 120624 | Z7: 1.64 | AA7: 1.29 | AC7: 8286260 | AD7: 23373517
A8: 新北市 | B8: 19039 | C8: 11660 | D8: 7379 | E8: 40305 | F8: 21293 | G8: 19012 | H8: 78 | I8: 63 | J8: 15 | K8: 81 | L8: 64 | M8: 17 | N8: 1354 | O8: 922 | P8: 432 | Q8: 2206 | R8: 1307 | S8: 899 | T8: 17607 | U8: 10675 | V8: 6932 | W8: 38018 | X8: 19922 | Y8: 18096 | Z8: 1.2 | AA8: 1 | AC8: 1477857 | AD8: 3954929
A9: 臺北市 | B9: 21123 | C9: 11822 | D9: 9301 | E9: 44984 | F9: 22808 | G9: 22176 | H9: 1766 | I9: 1290 | J9: 476 | K9: 1833 | L9: 1325 | M9: 508 | N9: 6006 | O9: 3726 | P9: 2280 | Q9: 8579 | R9: 4962 | S9: 3617 | T9: 13351 | U9: 6806 | V9: 6545 | W9: 34572 | X9: 16521 | Y9: 18051 | Z9: 1.99 | AA9: 1.7 | AC9: 1026738 | AD9: 2686516
A10: 桃園市 | B10: 9738 | C10: 5581 | D10: 4157 | E10: 23822 | F10: 12149 | G10: 11673 | H10: 44 | I10: 36 | J10: 8 | K10: 47 | L10: 36 | M10: 11 | N10: 1131 | O10: 728 | P10: 403 | Q10: 2144 | R10: 1221 | S10: 923 | T10: 8563 | U10: 4817 | V10: 3746 | W10: 21631 | X10: 10892 | Y10: 10739 | Z10: 1.18 | AA10: 1.06 | AC10: 897191 | AD10: 2701661
A11: 臺中市 | B11: 19332 | C11: 11203 | D11: 8129 | E11: 44049 | F11: 22715 | G11: 21334 | H11: 370 | I11: 277 | J11: 93 | K11: 385 | L11: 288 | M11: 97 | N11: 6261 | O11: 4044 | P11: 2217 | Q11: 10468 | R11: 6048 | S11: 4420 | T11: 12701 | U11: 6882 | V11: 5819 | W11: 33196 | X11: 16379 | Y11: 16817 | Z11: 1.96 | AA11: 1.56 | AC11: 663131 | AD11: 1883208
A12: 臺南市 | B12: 9791 | C12: 6531 | D12: 3260 | E12: 18964 | F12: 10623 | G12: 8341 | H12: 297 | I12: 209 | J12: 88 | K12: 302 | L12: 212 | M12: 90 | N12: 3068 | O12: 2186 | P12: 882 | Q12: 3896 | R12: 2582 | S12: 1314 | T12: 6426 | U12: 4136 | V12: 2290 | W12: 14766 | X12: 7829 | Y12: 6937 | Z12: 1.41 | AA12: 1.01 | AC12: 1056421 | AD12: 2779877
A13: 高雄市 | B13: 17141 | C13: 10601 | D13: 6540 | E13: 36844 | F13: 19270 | G13: 17574 | H13: 78 | I13: 53 | J13: 25 | K13: 82 | L13: 56 | M13: 26 | N13: 7249 | O13: 4775 | P13: 2474 | Q13: 10465 | R13: 6236 | S13: 4229 | T13: 9814 | U13: 5773 | V13: 4041 | W13: 26297 | X13: 12978 | Y13: 13319 | Z13: 1.54 | AA13: 1.33 | AC13: 3125941 | AD13: 9234448
A14: 宜蘭縣 | B14: 2531 | C14: 1652 | D14: 879 | E14: 4407 | F14: 2537 | G14: 1870 | H14: 12 | I14: 9 | J14: 3 | K14: 12 | L14: 9 | M14: 3 | N14: 287 | O14: 216 | P14: 71 | Q14: 414 | R14: 289 | S14: 125 | T14: 2232 | U14: 1427 | V14: 805 | W14: 3981 | X14: 2239 | Y14: 1742 | Z14: 1.48 | AA14: 0.97 | AC14: 716582 | AD14: 2044023
A15: 新竹縣 | B15: 1921 | C15: 1253 | D15: 668 | E15: 4478 | F15: 2390 | G15: 2088 | H15: 11 | I15: 10 | J15: 1 | K15: 11 | L15: 10 | M15: 1 | N15: 330 | O15: 256 | P15: 74 | Q15: 505 | R15: 332 | S15: 173 | T15: 1580 | U15: 987 | V15: 593 | W15: 3962 | X15: 2048 | Y15: 1914 | Z15: 0.96 | AA15: 0.79 | AC15: 174836 | AD15: 530486
A16: 苗栗縣 | B16: 3050 | C16: 2009 | D16: 1041 | E16: 6035 | F16: 3424 | G16: 2611 | H16: 4 | I16: 4 | J16: 0 | K16: 4 | L16: 4 | M16: 0 | N16: 1292 | O16: 934 | P16: 358 | Q16: 2019 | R16: 1271 | S16: 748 | T16: 1754 | U16: 1071 | V16: 683 | W16: 4012 | X16: 2149 | Y16: 1863 | Z16: 1.6 | AA16: 1.11 | AC16: 180916 | AD16: 565554
A17: 彰化縣 | B17: 7046 | C17: 4546 | D17: 2500 | E17: 12131 | F17: 6829 | G17: 5302 | H17: 1 | I17: 1 | J17: 0 | K17: 1 | L17: 1 | M17: 0 | N17: 85 | O17: 62 | P17: 23 | Q17: 125 | R17: 81 | S17: 44 | T17: 6960 | U17: 4483 | V17: 2477 | W17: 12005 | X17: 6747 | Y17: 5258 | Z17: 1.79 | AA17: 0.95 | AC17: 375940 | AD17: 1296013
A18: 南投縣 | B18: 2972 | C18: 2080 | D18: 892 | E18: 5560 | F18: 3248 | G18: 2312 | H18: 7 | I18: 6 | J18: 1 | K18: 8 | L18: 7 | M18: 1 | N18: 230 | O18: 154 | P18: 76 | Q18: 442 | R18: 252 | S18: 190 | T18: 2735 | U18: 1920 | V18: 815 | W18: 5110 | X18: 2989 | Y18: 2121 | Z18: 1.66 | AA18: 1.13 | AC18: 175452 | AD18: 517222
... A29: 連江縣 | B29: 55 | C29: 35 | D29: 20 | E29: 108 | F29: 59 | G29: 49 | H29: 14 | I29: 10 | J29: 4 | K29: 15 | L29: 11 | M29: 4 | N29: 16 | O29: 12 | P29: 4 | Q29: 22 | R29: 15 | S29: 7 | T29: 25 | U29: 13 | V29: 12 | W29: 71 | X29: 33 | Y29: 38 | Z29: 1.71 | AA29: 0.83 | AC29: 2423 | AD29: 12165
A30: 資料來源：直轄市、縣﹝市﹞政府。

Sheet 107
A1: 3.1-01 低收入戶戶數及人數
A2: 107年底, 2018
A4: 地區別 | B4: 總計 | H4: 第1款(省、新北、臺中、臺南)、第0類(臺北)、第1類(高雄) | N4: 第2款(省、新北、臺中、臺南)、第1、2類(臺北)、第2類(高雄) | T4: 第3款(省、新北、臺中、臺南)、第3、4類(臺北、高雄) | Z4: 低收入戶戶數占總戶數比率(%) | AA4: 低收入戶人數占總人數比率(%)
B5: 戶數(戶長性別) | E5: 人數 | H5: 戶數 | K5: 人數 | N5: 戶數 | Q5: 人數 | T5: 戶數 | W5: 人數
B6: 計 | C6: 男 | D6: 女 | E6: 計 | F6: 男 | G6: 女 | H6: 計 | I6: 男 | J6: 女 | K6: 計 | L6: 男 | M6: 女 | N6: 計 | O6: 男 | P6: 女 | Q6: 計 | R6: 男 | S6: 女 | T6: 計 | U6: 男 | V6: 女 | W6: 計 | X6: 男 | Y6: 女
A7: 總計 | B7: 143941 | C7: 88747 | D7: 55194 | E7: 311526 | F7: 165319 | G7: 146207 | H7: 3073 | I7: 2288 | J7: 785 | K7: 3194 | L7: 2352 | M7: 842 | N7: 33394 | O7: 22386 | P7: 11008 | Q7: 52141 | R7: 31086 | S7: 21055 | T7: 107474 | U7: 64073 | V7: 43401 | W7: 256191 | X7: 131881 | Y7: 124310 | Z7: 1.65 | AA7: 1.32 | AC7: 8286260 | AD7: 23373517
A8: 新北市 | B8: 18919 | C8: 11444 | D8: 7475 | E8: 41412 | F8: 21719 | G8: 19693 | H8: 69 | I8: 54 | J8: 15 | K8: 74 | L8: 55 | M8: 19 | N8: 1300 | O8: 886 | P8: 414 | Q8: 2216 | R8: 1304 | S8: 912 | T8: 17550 | U8: 10504 | V8: 7046 | W8: 39122 | X8: 20360 | Y8: 18762 | Z8: 1.21 | AA8: 1.04 | AC8: 1477857 | AD8: 3954929
A9: 臺北市 | B9: 20803 | C9: 11680 | D9: 9123 | E9: 45469 | F9: 23000 | G9: 22469 | H9: 1863 | I9: 1368 | J9: 495 | K9: 1940 | L9: 1408 | M9: 532 | N9: 5691 | O9: 3477 | P9: 2214 | Q9: 8438 | R9: 4774 | S9: 3664 | T9: 13249 | U9: 6835 | V9: 6414 | W9: 35091 | X9: 16818 | Y9: 18273 | Z9: 1.97 | AA9: 1.7 | AC9: 1026738 | AD9: 2686516
A10: 桃園市 | B10: 8754 | C10: 4969 | D10: 3785 | E10: 21676 | F10: 11045 | G10: 10631 | H10: 41 | I10: 33 | J10: 8 | K10: 43 | L10: 34 | M10: 9 | N10: 1097 | O10: 719 | P10: 378 | Q10: 2115 | R10: 1208 | S10: 907 | T10: 7616 | U10: 4217 | V10: 3399 | W10: 19518 | X10: 9803 | Y10: 9715 | Z10: 1.08 | AA10: 0.98 | AC10: 897191 | AD10: 2701661
A11: 臺中市 | B11: 19035 | C11: 10970 | D11: 8065 | E11: 44603 | F11: 22856 | G11: 21747 | H11: 396 | I11: 298 | J11: 98 | K11: 414 | L11: 309 | M11: 105 | N11: 5834 | O11: 3757 | P11: 2077 | Q11: 10278 | R11: 5870 | S11: 4408 | T11: 12805 | U11: 6915 | V11: 5890 | W11: 33911 | X11: 16677 | Y11: 17234 | Z11: 1.96 | AA11: 1.59 | AC11: 663131 | AD11: 1883208
A12: 臺南市 | B12: 10028 | C12: 6622 | D12: 3406 | E12: 20365 | F12: 11183 | G12: 9182 | H12: 301 | I12: 216 | J12: 85 | K12: 307 | L12: 219 | M12: 88 | N12: 3060 | O12: 2179 | P12: 881 | Q12: 3929 | R12: 2591 | S12: 1338 | T12: 6667 | U12: 4227 | V12: 2440 | W12: 16129 | X12: 8373 | Y12: 7756 | Z12: 1.45 | AA12: 1.08 | AC12: 1056421 | AD12: 2779877
A13: 高雄市 | B13: 17979 | C13: 11125 | D13: 6854 | E13: 39899 | F13: 20762 | G13: 19137 | H13: 78 | I13: 56 | J13: 22 | K13: 82 | L13: 58 | M13: 24 | N13: 7323 | O13: 4819 | P13: 2504 | Q13: 10862 | R13: 6438 | S13: 4424 | T13: 10578 | U13: 6250 | V13: 4328 | W13: 28955 | X13: 14266 | Y13: 14689 | Z13: 1.63 | AA13: 1.44 | AC13: 3125941 | AD13: 9234448
A14: 宜蘭縣 | B14: 2550 | C14: 1643 | D14: 907 | E14: 4531 | F14: 2550 | G14: 1981 | H14: 13 | I14: 12 | J14: 1 | K14: 13 | L14: 11 | M14: 2 | N14: 271 | O14: 201 | P14: 70 | Q14: 416 | R14: 280 | S14: 136 | T14: 2266 | U14: 1430 | V14: 836 | W14: 4102 | X14: 2259 | Y14: 1843 | Z14: 1.5 | AA14: 1 | AC14: 716582 | AD14: 2044023
A15: 新竹縣 | B15: 1845 | C15: 1215 | D15: 630 | E15: 4435 | F15: 2349 | G15: 2086 | H15: 13 | I15: 12 | J15: 1 | K15: 13 | L15: 12 | M15: 1 | N15: 250 | O15: 190 | P15: 60 | Q15: 413 | R15: 258 | S15: 155 | T15: 1582 | U15: 1013 | V15: 569 | W15: 4009 | X15: 2079 | Y15: 1930 | Z15: 0.94 | AA15: 0.8 | AC15: 174836 | AD15: 530486
A16: 苗栗縣 | B16: 3017 | C16: 1965 | D16: 1052 | E16: 6087 | F16: 3416 | G16: 2671 | H16: 4 | I16: 4 | J16: 0 | K16: 4 | L16: 4 | M16: 0 | N16: 1296 | O16: 925 | P16: 371 | Q16: 2108 | R16: 1307 | S16: 801 | T16: 1717 | U16: 1036 | V16: 681 | W16: 3975 | X16: 2105 | Y16: 1870 | Z16: 1.59 | AA16: 1.11 | AC16: 180916 | AD16: 565554
A17: 彰化縣 | B17: 6685 | C17: 4298 | D17: 2387 | E17: 11629 | F17: 6471 | G17: 5158 | H17: 2 | I17: 2 | J17: 0 | K17: 2 | L17: 2 | M17: 0 | N17: 78 | O17: 53 | P17: 25 | Q17: 115 | R17: 72 | S17: 43 | T17: 6605 | U17: 4243 | V17: 2362 | W17: 11512 | X17: 6397 | Y17: 5115 | Z17: 1.72 | AA17: 0.91 | AC17: 375940 | AD17: 1296013
A18: 南投縣 | B18: 3068 | C18: 2118 | D18: 950 | E18: 6021 | F18: 3429 | G18: 2592 | H18: 11 | I18: 10 | J18: 1 | K18: 12 | L18: 11 | M18: 1 | N18: 283 | O18: 184 | P18: 99 | Q18: 566 | R18: 312 | S18: 254 | T18: 2774 | U18: 1924 | V18: 850 | W18: 5443 | X18: 3106 | Y18: 2337 | Z18: 1.72 | AA18: 1.21 | AC18: 175452 | AD18: 517222
... A29: 連江縣 | B29: 53 | C29: 33 | D29: 20 | E29: 102 | F29: 57 | G29: 45 | H29: 13 | I29: 10 | J29: 3 | K29: 14 | L29: 11 | M29: 3 | N29: 19 | O29: 12 | P29: 7 | Q29: 31 | R29: 17 | S29: 14 | T29: 21 | U29: 11 | V29: 10 | W29: 57 | X29: 29 | Y29: 28 | Z29: 1.73 | AA29: 0.78 | AC29: 2423 | AD29: 12165
A30: 資料來源：直轄市、縣﹝市﹞政府。

Sheet 106
A1: 3.1-01 低收入戶戶數及人數
A2: 106年底, 2017
A4: 地區別 | B4: 總計 | H4: 第1款(省、新北、臺中、臺南)、第0類(臺北)、第1類(高雄) | N4: 第2款(省、新北、臺中、臺南)、第1、2類(臺北)、第2類(高雄) | T4: 第3款(省、新北、臺中、臺南)、第3、4類(臺北、高雄) | Z4: 低收入戶戶數占總戶數比率(%) | AA4: 低收入戶人數占總人數比率(%)
B5: 戶數(戶長性別) | E5: 人數 | H5: 戶數 | K5: 人數 | N5: 戶數 | Q5: 人數 | T5: 戶數 | W5: 人數
B6: 計 | C6: 男 | D6: 女 | E6: 計 | F6: 男 | G6: 女 | H6: 計 | I6: 男 | J6: 女 | K6: 計 | L6: 男 | M6: 女 | N6: 計 | O6: 男 | P6: 女 | Q6: 計 | R6: 男 | S6: 女 | T6: 計 | U6: 男 | V6: 女 | W6: 計 | X6: 男 | Y6: 女
A7: 總計 | B7: 142814 | C7: 87828 | D7: 54986 | E7: 317257 | F7: 167287 | G7: 149970 | H7: 3328 | I7: 2500 | J7: 828 | K7: 3448 | L7: 2561 | M7: 887 | N7: 32748 | O7: 21889 | P7: 10859 | Q7: 53142 | R7: 31358 | S7: 21784 | T7: 106738 | U7: 63439 | V7: 43299 | W7: 260667 | X7: 133368 | Y7: 127299 | Z7: 1.65 | AA7: 1.35 | AC7: 8286260 | AD7: 23373517
A8: 新北市 | B8: 19288 | C8: 11549 | D8: 7739 | E8: 43785 | F8: 22773 | G8: 21012 | H8: 70 | I8: 55 | J8: 15 | K8: 73 | L8: 55 | M8: 18 | N8: 1303 | O8: 873 | P8: 430 | Q8: 2334 | R8: 1328 | S8: 1006 | T8: 17915 | U8: 10621 | V8: 7294 | W8: 41378 | X8: 21390 | Y8: 19988 | Z8: 1.25 | AA8: 1.1 | AC8: 1477857 | AD8: 3954929
A9: 臺北市 | B9: 20483 | C9: 11540 | D9: 8943 | E9: 45816 | F9: 23122 | G9: 22694 | H9: 1925 | I9: 1429 | J9: 496 | K9: 2001 | L9: 1465 | M9: 536 | N9: 5396 | O9: 3298 | P9: 2098 | Q9: 8288 | R9: 4691 | S9: 3597 | T9: 13162 | U9: 6813 | V9: 6349 | W9: 35527 | X9: 16966 | Y9: 18561 | Z9: 1.95 | AA9: 1.71 | AC9: 1026738 | AD9: 2686516
A10: 桃園市 | B10: 8224 | C10: 4625 | D10: 3599 | E10: 20856 | F10: 10576 | G10: 10280 | H10: 39 | I10: 32 | J10: 7 | K10: 42 | L10: 34 | M10: 8 | N10: 1126 | O10: 718 | P10: 408 | Q10: 2242 | R10: 1263 | S10: 979 | T10: 7059 | U10: 3875 | V10: 3184 | W10: 18572 | X10: 9279 | Y10: 9293 | Z10: 1.04 | AA10: 0.95 | AC10: 897191 | AD10: 2701661
A11: 臺中市 | B11: 18249 | C11: 10468 | D11: 7781 | E11: 43645 | F11: 22171 | G11: 21474 | H11: 489 | I11: 376 | J11: 113 | K11: 508 | L11: 389 | M11: 119 | N11: 5311 | O11: 3365 | P11: 1946 | Q11: 9735 | R11: 5462 | S11: 4273 | T11: 12449 | U11: 6727 | V11: 5722 | W11: 33402 | X11: 16320 | Y11: 17082 | Z11: 1.9 | AA11: 1.57 | AC11: 663131 | AD11: 1883208
A12: 臺南市 | B12: 9967 | C12: 6539 | D12: 3428 | E12: 20801 | F12: 11309 | G12: 9492 | H12: 328 | I12: 228 | J12: 100 | K12: 337 | L12: 232 | M12: 105 | N12: 2976 | O12: 2099 | P12: 877 | Q12: 4028 | R12: 2597 | S12: 1431 | T12: 6663 | U12: 4212 | V12: 2451 | W12: 16436 | X12: 8480 | Y12: 7956 | Z12: 1.46 | AA12: 1.1 | AC12: 1056421 | AD12: 2779877
A13: 高雄市 | B13: 19362 | C13: 11926 | D13: 7436 | E13: 44780 | F13: 23132 | G13: 21648 | H13: 95 | I13: 68 | J13: 27 | K13: 99 | L13: 71 | M13: 28 | N13: 7564 | O13: 4975 | P13: 2589 | Q13: 11847 | R13: 6939 | S13: 4908 | T13: 11703 | U13: 6883 | V13: 4820 | W13: 32834 | X13: 16122 | Y13: 16712 | Z13: 1.77 | AA13: 1.61 | AC13: 3125941 | AD13: 9234448
A14: 宜蘭縣 | B14: 2499 | C14: 1620 | D14: 879 | E14: 4485 | F14: 2517 | G14: 1968 | H14: 15 | I14: 14 | J14: 1 | K14: 16 | L14: 14 | M14: 2 | N14: 254 | O14: 192 | P14: 62 | Q14: 391 | R14: 262 | S14: 129 | T14: 2230 | U14: 1414 | V14: 816 | W14: 4078 | X14: 2241 | Y14: 1837 | Z14: 1.48 | AA14: 0.98 | AC14: 716582 | AD14: 2044023
A15: 新竹縣 | B15: 1776 | C15: 1198 | D15: 578 | E15: 4321 | F15: 2338 | G15: 1983 | H15: 18 | I15: 17 | J15: 1 | K15: 18 | L15: 17 | M15: 1 | N15: 212 | O15: 166 | P15: 46 | Q15: 348 | R15: 225 | S15: 123 | T15: 1546 | U15: 1015 | V15: 531 | W15: 3955 | X15: 2096 | Y15: 1859 | Z15: 0.93 | AA15: 0.78 | AC15: 174836 | AD15: 530486
A16: 苗栗縣 | B16: 2899 | C16: 1915 | D16: 984 | E16: 5920 | F16: 3332 | G16: 2588 | H16: 3 | I16: 3 | J16: 0 | K16: 3 | L16: 3 | M16: 0 | N16: 1295 | O16: 932 | P16: 363 | Q16: 2084 | R16: 1299 | S16: 785 | T16: 1601 | U16: 980 | V16: 621 | W16: 3833 | X16: 2030 | Y16: 1803 | Z16: 1.54 | AA16: 1.07 | AC16: 180916 | AD16: 565554
A17: 彰化縣 | B17: 6354 | C17: 4111 | D17: 2243 | E17: 11172 | F17: 6262 | G17: 4910 | H17: 3 | I17: 3 | J17: 0 | K17: 3 | L17: 3 | M17: 0 | N17: 75 | O17: 49 | P17: 26 | Q17: 125 | R17: 72 | S17: 53 | T17: 6276 | U17: 4059 | V17: 2217 | W17: 11044 | X17: 6187 | Y17: 4857 | Z17: 1.64 | AA17: 0.87 | AC17: 375940 | AD17: 1296013
A18: 南投縣 | B18: 3126 | C18: 2134 | D18: 992 | E18: 6188 | F18: 3481 | G18: 2707 | H18: 15 | I18: 12 | J18: 3 | K18: 16 | L18: 13 | M18: 3 | N18: 347 | O18: 229 | P18: 118 | Q18: 698 | R18: 392 | S18: 306 | T18: 2764 | U18: 1893 | V18: 871 | W18: 5474 | X18: 3076 | Y18: 2398 | Z18: 1.76 | AA18: 1.24 | AC18: 175452 | AD18: 517222
... A29: 連江縣 | B29: 49 | C29: 35 | D29: 14 | E29: 105 | F29: 62 | G29: 43 | H29: 10 | I29: 8 | J29: 2 | K29: 10 | L29: 8 | M29: 2 | N29: 14 | O29: 8 | P29: 6 | Q29: 31 | R29: 14 | S29: 17 | T29: 25 | U29: 19 | V29: 6 | W29: 64 | X29: 40 | Y29: 24 | Z29: 1.72 | AA29: 0.82 | AC29: 2423 | AD29: 12165
A30: 資料來源：直轄市、縣﹝市﹞政府。

Sheet 105
A1: 3.1-01 低收入戶戶數及人數
A2: 105年底, 2016
A4: 地區別 | B4: 總計 | H4: 第1款(省、新北、臺中、臺南)、第0類(臺北)、第1類(高雄) | N4: 第2款(省、新北、臺中、臺南)、第1、2類(臺北)、第2類(高雄) | T4: 第3款(省、新北、臺中、臺南)、第3、4類(臺北、高雄) | Z4: 低收入戶戶數占總戶數比率(%) | AA4: 低收入戶人數占總人數比率(%)
B5: 戶數(戶長性別) | E5: 人數 | H5: 戶數 | K5: 人數 | N5: 戶數 | Q5: 人數 | T5: 戶數 | W5: 人數
B6: 計 | C6: 男 | D6: 女 | E6: 計 | F6: 男 | G6: 女 | H6: 計 | I6: 男 | J6: 女 | K6: 計 | L6: 男 | M6: 女 | N6: 計 | O6: 男 | P6: 女 | Q6: 計 | R6: 男 | S6: 女 | T6: 計 | U6: 男 | V6: 女 | W6: 計 | X6: 男 | Y6: 女
A7: 總計 | B7: 145176 | C7: 88869 | D7: 56307 | E7: 331776 | F7: 173763 | G7: 158013 | H7: 3533 | I7: 2635 | J7: 898 | K7: 3653 | L7: 2701 | M7: 952 | N7: 33216 | O7: 21978 | P7: 11238 | Q7: 56516 | R7: 32768 | S7: 23748 | T7: 108427 | U7: 64256 | V7: 44171 | W7: 271607 | X7: 138294 | Y7: 133313 | Z7: 1.7 | AA7: 1.41 | AC7: 8286260 | AD7: 23373517
A8: 新北市 | B8: 20056 | C8: 11883 | D8: 8173 | E8: 47278 | F8: 24368 | G8: 22910 | H8: 75 | I8: 58 | J8: 17 | K8: 78 | L8: 59 | M8: 19 | N8: 1361 | O8: 900 | P8: 461 | Q8: 2545 | R8: 1421 | S8: 1124 | T8: 18620 | U8: 10925 | V8: 7695 | W8: 44655 | X8: 22888 | Y8: 21767 | Z8: 1.31 | AA8: 1.19 | AC8: 1477857 | AD8: 3954929
A9: 臺北市 | B9: 20744 | C9: 11718 | D9: 9026 | E9: 47424 | F9: 23935 | G9: 23489 | H9: 2038 | I9: 1528 | J9: 510 | K9: 2114 | L9: 1568 | M9: 546 | N9: 5243 | O9: 3169 | P9: 2074 | Q9: 8564 | R9: 4759 | S9: 3805 | T9: 13463 | U9: 7021 | V9: 6442 | W9: 36746 | X9: 17608 | Y9: 19138 | Z9: 1.98 | AA9: 1.76 | AC9: 1026738 | AD9: 2686516
A10: 桃園市 | B10: 7690 | C10: 4314 | D10: 3376 | E10: 19927 | F10: 10038 | G10: 9889 | H10: 45 | I10: 38 | J10: 7 | K10: 49 | L10: 40 | M10: 9 | N10: 1069 | O10: 673 | P10: 396 | Q10: 2192 | R10: 1231 | S10: 961 | T10: 6576 | U10: 3603 | V10: 2973 | W10: 17686 | X10: 8767 | Y10: 8919 | Z10: 1 | AA10: 0.93 | AC10: 897191 | AD10: 2701661
A11: 臺中市 | B11: 18169 | C11: 10253 | D11: 7916 | E11: 44651 | F11: 22419 | G11: 22232 | H11: 463 | I11: 335 | J11: 128 | K11: 481 | L11: 348 | M11: 133 | N11: 5256 | O11: 3232 | P11: 2024 | Q11: 10351 | R11: 5636 | S11: 4715 | T11: 12450 | U11: 6686 | V11: 5764 | W11: 33819 | X11: 16435 | Y11: 17384 | Z11: 1.92 | AA11: 1.61 | AC11: 663131 | AD11: 1883208
A12: 臺南市 | B12: 10187 | C12: 6663 | D12: 3524 | E12: 22200 | F12: 11930 | G12: 10270 | H12: 375 | I12: 255 | J12: 120 | K12: 384 | L12: 259 | M12: 125 | N12: 3039 | O12: 2126 | P12: 913 | Q12: 4321 | R12: 2730 | S12: 1591 | T12: 6773 | U12: 4282 | V12: 2491 | W12: 17495 | X12: 8941 | Y12: 8554 | Z12: 1.5 | AA12: 1.18 | AC12: 1056421 | AD12: 2779877
A13: 高雄市 | B13: 20787 | C13: 12815 | D13: 7972 | E13: 49223 | F13: 25361 | G13: 23862 | H13: 111 | I13: 80 | J13: 31 | K13: 115 | L13: 83 | M13: 32 | N13: 8031 | O13: 5266 | P13: 2765 | Q13: 13228 | R13: 7605 | S13: 5623 | T13: 12645 | U13: 7469 | V13: 5176 | W13: 35880 | X13: 17673 | Y13: 18207 | Z13: 1.92 | AA13: 1.77 | AC13: 3125941 | AD13: 9234448
A14: 宜蘭縣 | B14: 2657 | C14: 1668 | D14: 989 | E14: 5056 | F14: 2791 | G14: 2265 | H14: 15 | I14: 14 | J14: 1 | K14: 16 | L14: 14 | M14: 2 | N14: 279 | O14: 213 | P14: 66 | Q14: 441 | R14: 285 | S14: 156 | T14: 2363 | U14: 1441 | V14: 922 | W14: 4599 | X14: 2492 | Y14: 2107 | Z14: 1.59 | AA14: 1.11 | AC14: 716582 | AD14: 2044023
A15: 新竹縣 | B15: 1823 | C15: 1227 | D15: 596 | E15: 4527 | F15: 2463 | G15: 2064 | H15: 18 | I15: 17 | J15: 1 | K15: 18 | L15: 17 | M15: 1 | N15: 227 | O15: 180 | P15: 47 | Q15: 403 | R15: 253 | S15: 150 | T15: 1578 | U15: 1030 | V15: 548 | W15: 4106 | X15: 2193 | Y15: 1913 | Z15: 0.97 | AA15: 0.83 | AC15: 174836 | AD15: 530486
A16: 苗栗縣 | B16: 3079 | C16: 2015 | D16: 1064 | E16: 6679 | F16: 3670 | G16: 3009 | H16: 4 | I16: 4 | J16: 0 | K16: 4 | L16: 4 | M16: 0 | N16: 1303 | O16: 937 | P16: 366 | Q16: 2231 | R16: 1370 | S16: 861 | T16: 1772 | U16: 1074 | V16: 698 | W16: 4444 | X16: 2296 | Y16: 2148 | Z16: 1.66 | AA16: 1.19 | AC16: 180916 | AD16: 565554
A17: 彰化縣 | B17: 6175 | C17: 4003 | D17: 2172 | E17: 10909 | F17: 6102 | G17: 4807 | H17: 2 | I17: 2 | J17: 0 | K17: 2 | L17: 2 | M17: 0 | N17: 70 | O17: 45 | P17: 25 | Q17: 128 | R17: 75 | S17: 53 | T17: 6103 | U17: 3956 | V17: 2147 | W17: 10779 | X17: 6025 | Y17: 4754 | Z17: 1.61 | AA17: 0.85 | AC17: 375940 | AD17: 1296013
A18: 南投縣 | B18: 3195 | C18: 2136 | D18: 1059 | E18: 6547 | F18: 3631 | G18: 2916 | H18: 13 | I18: 10 | J18: 3 | K18: 14 | L18: 11 | M18: 3 | N18: 311 | O18: 213 | P18: 98 | Q18: 652 | R18: 368 | S18: 284 | T18: 2871 | U18: 1913 | V18: 958 | W18: 5881 | X18: 3252 | Y18: 2629 | Z18: 1.8 | AA18: 1.3 | AC18: 175452 | AD18: 517222
... A29: 連江縣 | B29: 55 | C29: 37 | D29: 18 | E29: 133 | F29: 71 | G29: 62 | H29: 11 | I29: 9 | J29: 2 | K29: 11 | L29: 9 | M29: 2 | N29: 13 | O29: 8 | P29: 5 | Q29: 25 | R29: 14 | S29: 11 | T29: 31 | U29: 20 | V29: 11 | W29: 97 | X29: 48 | Y29: 49 | Z29: 2.07 | AA29: 1.06 | AC29: 2423 | AD29: 12165
A30: 資料來源：直轄市、縣﹝市﹞政府。

Sheet 104
A1: 3.1-01 低收入戶戶數及人數
A2: 104年底, 2015
A4: 地區別 | B4: 總計 | H4: 第1款(省、新北、臺中、臺南)、第0類(臺北)、第1類(高雄) | N4: 第2款(省、新北、臺中、臺南)、第1、2類(臺北)、第2類(高雄) | T4: 第3款(省、新北、臺中、臺南)、第3、4類(臺北、高雄) | Z4: 低收入戶戶數占總戶數比率(%) | AA4: 低收入戶人數占總人數比率(%)
B5: 戶數(戶長性別) | E5: 人數 | H5: 戶數 | K5: 人數 | N5: 戶數 | Q5: 人數 | T5: 戶數 | W5: 人數
B6: 計 | C6: 男 | D6: 女 | E6: 計 | F6: 男 | G6: 女 | H6: 計 | I6: 男 | J6: 女 | K6: 計 | L6: 男 | M6: 女 | N6: 計 | O6: 男 | P6: 女 | Q6: 計 | R6: 男 | S6: 女 | T6: 計 | U6: 男 | V6: 女 | W6: 計 | X6: 男 | Y6: 女
A7: 總計 | B7: 146379 | C7: 89167 | D7: 57212 | E7: 342490 | F7: 178253 | G7: 164237 | H7: 3902 | I7: 2910 | J7: 992 | K7: 4032 | L7: 2979 | M7: 1053 | N7: 32662 | O7: 21380 | P7: 11282 | Q7: 57917 | R7: 33107 | S7: 24810 | T7: 109815 | U7: 64877 | V7: 44938 | W7: 280541 | X7: 142167 | Y7: 138374 | Z7: 1.73 | AA7: 1.46 | AC7: 8286260 | AD7: 23373517
A8: 新北市 | B8: 21988 | C8: 12803 | D8: 9185 | E8: 53789 | F8: 27316 | G8: 26473 | H8: 87 | I8: 66 | J8: 21 | K8: 92 | L8: 68 | M8: 24 | N8: 1491 | O8: 954 | P8: 537 | Q8: 2924 | R8: 1595 | S8: 1329 | T8: 20410 | U8: 11783 | V8: 8627 | W8: 50773 | X8: 25653 | Y8: 25120 | Z8: 1.46 | AA8: 1.35 | AC8: 1477857 | AD8: 3954929
A9: 臺北市 | B9: 20945 | C9: 11832 | D9: 9113 | E9: 48594 | F9: 24403 | G9: 24191 | H9: 2167 | I9: 1625 | J9: 542 | K9: 2247 | L9: 1665 | M9: 582 | N9: 5124 | O9: 3062 | P9: 2062 | Q9: 8882 | R9: 4857 | S9: 4025 | T9: 13654 | U9: 7145 | V9: 6509 | W9: 37465 | X9: 17881 | Y9: 19584 | Z9: 2.01 | AA9: 1.8 | AC9: 1026738 | AD9: 2686516
A10: 桃園市 | B10: 6927 | C10: 3880 | D10: 3047 | E10: 17963 | F10: 9070 | G10: 8893 | H10: 41 | I10: 35 | J10: 6 | K10: 44 | L10: 37 | M10: 7 | N10: 922 | O10: 566 | P10: 356 | Q10: 1900 | R10: 1052 | S10: 848 | T10: 5964 | U10: 3279 | V10: 2685 | W10: 16019 | X10: 7981 | Y10: 8038 | Z10: 0.92 | AA10: 0.85 | AC10: 897191 | AD10: 2701661
A11: 臺中市 | B11: 16086 | C11: 9033 | D11: 7053 | E11: 40247 | F11: 20116 | G11: 20131 | H11: 523 | I11: 385 | J11: 138 | K11: 541 | L11: 397 | M11: 144 | N11: 4322 | O11: 2645 | P11: 1677 | Q11: 8716 | R11: 4725 | S11: 3991 | T11: 11241 | U11: 6003 | V11: 5238 | W11: 30990 | X11: 14994 | Y11: 15996 | Z11: 1.73 | AA11: 1.47 | AC11: 663131 | AD11: 1883208
A12: 臺南市 | B12: 10203 | C12: 6614 | D12: 3589 | E12: 22843 | F12: 12180 | G12: 10663 | H12: 491 | I12: 329 | J12: 162 | K12: 499 | L12: 332 | M12: 167 | N12: 3101 | O12: 2152 | P12: 949 | Q12: 4591 | R12: 2850 | S12: 1741 | T12: 6611 | U12: 4133 | V12: 2478 | W12: 17753 | X12: 8998 | Y12: 8755 | Z12: 1.52 | AA12: 1.21 | AC12: 1056421 | AD12: 2779877
A13: 高雄市 | B13: 22811 | C13: 14002 | D13: 8809 | E13: 55256 | F13: 28347 | G13: 26909 | H13: 132 | I13: 99 | J13: 33 | K13: 136 | L13: 102 | M13: 34 | N13: 8567 | O13: 5543 | P13: 3024 | Q13: 14901 | R13: 8403 | S13: 6498 | T13: 14112 | U13: 8360 | V13: 5752 | W13: 40219 | X13: 19842 | Y13: 20377 | Z13: 2.13 | AA13: 1.99 | AC13: 3125941 | AD13: 9234448
A14: 宜蘭縣 | B14: 2670 | C14: 1662 | D14: 1008 | E14: 5212 | F14: 2842 | G14: 2370 | H14: 17 | I14: 14 | J14: 3 | K14: 18 | L14: 14 | M14: 4 | N14: 293 | O14: 221 | P14: 72 | Q14: 468 | R14: 306 | S14: 162 | T14: 2360 | U14: 1427 | V14: 933 | W14: 4726 | X14: 2522 | Y14: 2204 | Z14: 1.62 | AA14: 1.14 | AC14: 716582 | AD14: 2044023
A15: 新竹縣 | B15: 1846 | C15: 1223 | D15: 623 | E15: 4703 | F15: 2550 | G15: 2153 | H15: 25 | I15: 24 | J15: 1 | K15: 25 | L15: 24 | M15: 1 | N15: 264 | O15: 204 | P15: 60 | Q15: 487 | R15: 302 | S15: 185 | T15: 1557 | U15: 995 | V15: 562 | W15: 4191 | X15: 2224 | Y15: 1967 | Z15: 1.01 | AA15: 0.87 | AC15: 174836 | AD15: 530486
A16: 苗栗縣 | B16: 3099 | C16: 2013 | D16: 1086 | E16: 7054 | F16: 3820 | G16: 3234 | H16: 7 | I16: 7 | J16: 0 | K16: 7 | L16: 7 | M16: 0 | N16: 1257 | O16: 885 | P16: 372 | Q16: 2243 | R16: 1347 | S16: 896 | T16: 1835 | U16: 1121 | V16: 714 | W16: 4804 | X16: 2466 | Y16: 2338 | Z16: 1.68 | AA16: 1.25 | AC16: 180916 | AD16: 565554
A17: 彰化縣 | B17: 6069 | C17: 3923 | D17: 2146 | E17: 10879 | F17: 6043 | G17: 4836 | H17: 2 | I17: 2 | J17: 0 | K17: 2 | L17: 2 | M17: 0 | N17: 73 | O17: 46 | P17: 27 | Q17: 146 | R17: 85 | S17: 61 | T17: 5994 | U17: 3875 | V17: 2119 | W17: 10731 | X17: 5956 | Y17: 4775 | Z17: 1.59 | AA17: 0.84 | AC17: 375940 | AD17: 1296013
A18: 南投縣 | B18: 3699 | C18: 2395 | D18: 1304 | E18: 7821 | F18: 4274 | G18: 3547 | H18: 14 | I18: 11 | J18: 3 | K18: 17 | L18: 13 | M18: 4 | N18: 265 | O18: 160 | P18: 105 | Q18: 550 | R18: 287 | S18: 263 | T18: 3420 | U18: 2224 | V18: 1196 | W18: 7254 | X18: 3974 | Y18: 3280 | Z18: 2.09 | AA18: 1.54 | AC18: 175452 | AD18: 517222
... A29: 連江縣 | B29: 57 | C29: 36 | D29: 21 | E29: 156 | F29: 81 | G29: 75 | H29: 11 | I29: 9 | J29: 2 | K29: 11 | L29: 9 | M29: 2 | N29: 13 | O29: 5 | P29: 8 | Q29: 28 | R29: 12 | S29: 16 | T29: 33 | U29: 22 | V29: 11 | W29: 117 | X29: 60 | Y29: 57 | Z29: 2.24 | AA29: 1.24 | AC29: 2423 | AD29: 12165
A30: 資料來源：直轄市、縣﹝市﹞政府。

Sheet 103
A1: 3.1-01 低收入戶戶數及人數
A2: 103年底, 2014
A4: 地區別 | B4: 總計 | H4: 第1款(省、新北、臺中、臺南)、第0類(臺北)、第1類(高雄) | N4: 第2款(省、新北、臺中、臺南)、第1、2類(臺北)、第2類(高雄) | T4: 第3款(省、新北、臺中、臺南)、第3、4類(臺北、高雄) | Z4: 低收入戶戶數占總戶數比率(%) | AA4: 低收入戶人數占總人數比率(%)
B5: 戶數(戶長性別) | E5: 人數 | H5: 戶數 | K5: 人數 | N5: 戶數 | Q5: 人數 | T5: 戶數 | W5: 人數
B6: 計 | C6: 男 | D6: 女 | E6: 計 | F6: 男 | G6: 女 | H6: 計 | I6: 男 | J6: 女 | K6: 計 | L6: 男 | M6: 女 | N6: 計 | O6: 男 | P6: 女 | Q6: 計 | R6: 男 | S6: 女 | T6: 計 | U6: 男 | V6: 女 | W6: 計 | X6: 男 | Y6: 女
A7: 總計 | B7: 149958 | C7: 90573 | D7: 59385 | E7: 357722 | F7: 185438 | G7: 172284 | H7: 4243 | I7: 3178 | J7: 1065 | K7: 4389 | L7: 3252 | M7: 1137 | N7: 33053 | O7: 21175 | P7: 11878 | Q7: 61779 | R7: 34572 | S7: 27207 | T7: 112662 | U7: 66220 | V7: 46442 | W7: 291554 | X7: 147614 | Y7: 143940 | Z7: 1.7888988 | AA7: 1.53 | AC7: 8286260 | AD7: 23373517
A8: 新北市 | B8: 23111 | C8: 13305 | D8: 9806 | E8: 57197 | F8: 28722 | G8: 28475 | H8: 106 | I8: 82 | J8: 24 | K8: 113 | L8: 85 | M8: 28 | N8: 1765 | O8: 1103 | P8: 662 | Q8: 3507 | R8: 1889 | S8: 1618 | T8: 21240 | U8: 12120 | V8: 9120 | W8: 53577 | X8: 26748 | Y8: 26829 | Z8: 1.5438024 | AA8: 1.44 | AC8: 1477857 | AD8: 3954929
A9: 臺北市 | B9: 21204 | C9: 11962 | D9: 9242 | E9: 50021 | F9: 25033 | G9: 24988 | H9: 2318 | I9: 1758 | J9: 560 | K9: 2404 | L9: 1800 | M9: 604 | N9: 5006 | O9: 2972 | P9: 2034 | Q9: 9111 | R9: 4932 | S9: 4179 | T9: 13880 | U9: 7232 | V9: 6648 | W9: 38506 | X9: 18301 | Y9: 20205 | Z9: 2.0439521 | AA9: 1.85 | AC9: 1026738 | AD9: 2686516
A10: 臺中市 | B10: 15673 | C10: 8694 | D10: 6979 | E10: 40408 | F10: 20006 | G10: 20402 | H10: 495 | I10: 362 | J10: 133 | K10: 515 | L10: 373 | M10: 142 | N10: 4192 | O10: 2501 | P10: 1691 | Q10: 9062 | R10: 4814 | S10: 4248 | T10: 10986 | U10: 5831 | V10: 5155 | W10: 30831 | X10: 14819 | Y10: 16012 | Z10: 1.7179562 | AA10: 1.49 | AC10: 897191 | AD10: 2701661
A11: 臺南市 | B11: 10942 | C11: 7031 | D11: 3911 | E11: 25455 | F11: 13359 | G11: 12096 | H11: 573 | I11: 383 | J11: 190 | K11: 585 | L11: 388 | M11: 197 | N11: 3292 | O11: 2240 | P11: 1052 | Q11: 5217 | R11: 3119 | S11: 2098 | T11: 7077 | U11: 4408 | V11: 2669 | W11: 19653 | X11: 9852 | Y11: 9801 | Z11: 1.6379921 | AA11: 1.35 | AC11: 663131 | AD11: 1883208
A12: 高雄市 | B12: 24205 | C12: 14686 | D12: 9519 | E12: 59301 | F12: 30275 | G12: 29026 | H12: 180 | I12: 132 | J12: 48 | K12: 187 | L12: 137 | M12: 50 | N12: 8983 | O12: 5674 | P12: 3309 | Q12: 16739 | R12: 9257 | S12: 7482 | T12: 15042 | U12: 8880 | V12: 6162 | W12: 42375 | X12: 20881 | Y12: 21494 | Z12: 2.2734808 | AA12: 2.13 | AC12: 1056421 | AD12: 2779877
A13: 宜蘭縣 | B13: 3107 | C13: 1884 | D13: 1223 | E13: 6623 | F13: 3508 | G13: 3115 | H13: 24 | I13: 20 | J13: 4 | K13: 25 | L13: 20 | M13: 5 | N13: 360 | O13: 248 | P13: 112 | Q13: 669 | R13: 397 | S13: 272 | T13: 2723 | U13: 1616 | V13: 1107 | W13: 5929 | X13: 3091 | Y13: 2838 | Z13: 1.907633 | AA13: 1.44 | AC13: 160883 | AD13: 458456
