Workbook

Sheet 歷年
A1: 2-02 領有社會工作師執照人數 | I1: 查詢歷年社會工作師及格人數統計
A2: 民國92-113年底
U3: 單位：人
A4: 年底別 | B4: 總計 | E4: 未滿25歲 | H4: 25至29歲 | K4: 30至34歲 | N4: 35至39歲 | Q4: 40歲以上 | T4: 原住民身分
B5: 計 | C5: 男 | D5: 女 | E5: 計 | F5: 男 | G5: 女 | H5: 計 | I5: 男 | J5: 女 | K5: 計 | L5: 男 | M5: 女 | N5: 計 | O5: 男 | P5: 女 | Q5: 計 | R5: 男 | S5: 女 | T5: 男 | U5: 女
A6: 92年底,2003 | B6: ='92'!B6 -> 872 | C6: ='92'!C6 -> 86 | D6: ='92'!D6 -> 786 | E6: ='92'!E6 -> 7 | F6: ='92'!F6 -> 0 | G6: ='92'!G6 -> 7 | H6: ='92'!H6 -> 119 | I6: ='92'!I6 -> 5 | ... U6: ='92'!U6 -> 0
A7: 93年底,2004 | B7: ='93'!B6 -> 1019 | C7: ='93'!C6 -> 97 | D7: ='93'!D6 -> 922 | E7: ='93'!E6 -> 7 | F7: ='93'!F6 -> 0 | G7: ='93'!G6 -> 7 | H7: ='93'!H6 -> 133 | I7: ='93'!I6 -> 6 | ... U7: ='93'!U6 -> 0
A8: 94年底,2005 | B8: ='94'!B6 -> 1053 | C8: ='94'!C6 -> 104 | D8: ='94'!D6 -> 949 | E8: ='94'!E6 -> 4 | F8: ='94'!F6 -> 0 | G8: ='94'!G6 -> 4 | H8: ='94'!H6 -> 107 | I8: ='94'!I6 -> 5 | ... U8: ='94'!U6 -> 0
A9: 95年底,2006 | B9: ='95'!B6 -> 1117 | C9: ='95'!C6 -> 104 | D9: ='95'!D6 -> 1013 | E9: ='95'!E6 -> 4 | F9: ='95'!F6 -> 0 | G9: ='95'!G6 -> 4 | H9: ='95'!H6 -> 111 | I9: ='95'!I6 -> 6 | ... U9: ='95'!U6 -> 0
A10: 96年底,2007 | B10: ='96'!B6 -> 1208 | C10: ='96'!C6 -> 111 | D10: ='96'!D6 -> 1097 | E10: ='96'!E6 -> 5 | F10: ='96'!F6 -> 1 | G10: ='96'!G6 -> 4 | H10: ='96'!H6 -> 116 | I10: ='96'!I6 -> 10 | ... U10: ='96'!U6 -> 0
A11: 97年底,2008 | B11: ='97'!B6 -> 1286 | C11: ='97'!C6 -> 120 | D11: ='97'!D6 -> 1166 | E11: ='97'!E6 -> 5 | F11: ='97'!F6 -> 1 | G11: ='97'!G6 -> 4 | H11: ='97'!H6 -> 117 | I11: ='97'!I6 -> 8 | ... U11: ='97'!U6 -> 0
A12: 98年底,2009 | B12: ='98'!B6 -> 1599 | C12: ='98'!C6 -> 163 | D12: ='98'!D6 -> 1436 | E12: ='98'!E6 -> 15 | F12: ='98'!F6 -> 1 | G12: ='98'!G6 -> 14 | H12: ='98'!H6 -> 197 | I12: ='98'!I6 -> 19 | ... U12: ='98'!U6 -> 0
A13: 99年底,2010 | B13: ='99'!B6 -> 1817 | C13: ='99'!C6 -> 211 | D13: ='99'!D6 -> 1606 | E13: ='99'!E6 -> 13 | F13: ='99'!F6 -> 1 | G13: ='99'!G6 -> 12 | H13: ='99'!H6 -> 276 | I13: ='99'!I6 -> 32 | ... U13: ='99'!U6 -> 0
A14: 100年底,2011 | B14: ='100'!B6 -> 2115 | C14: ='100'!C6 -> 239 | D14: ='100'!D6 -> 1876 | E14: ='100'!E6 -> 25 | F14: ='100'!F6 -> 1 | G14: ='100'!G6 -> 24 | H14: ='100'!H6 -> 325 | I14: ='100'!I6 -> 27 | ... U14: ='100'!U6 -> 0
A15: 101年底,2012 | B15: ='101'!B6 -> 3112 | C15: ='101'!C6 -> 398 | D15: ='101'!D6 -> 2714 | E15: ='101'!E6 -> 75 | F15: ='101'!F6 -> 5 | G15: ='101'!G6 -> 70 | H15: ='101'!H6 -> 593 | I15: ='101'!I6 -> 67 | ... U15: ='101'!U6 -> 3
A16: 102年底,2013 | B16: ='102'!B6 -> 3837 | C16: ='102'!C6 -> 521 | D16: ='102'!D6 -> 3316 | E16: ='102'!E6 -> 86 | F16: ='102'!F6 -> 8 | G16: ='102'!G6 -> 78 | H16: ='102'!H6 -> 744 | I16: ='102'!I6 -> 90 | ... U16: ='102'!U6 -> 3
A17: 103年底,2014 | B17: 4471 | C17: 638 | D17: 3833 | E17: 110 | F17: 14 | G17: 96 | H17: 775 | I17: 101 | J17: 674 | K17: 1191 | L17: 187 | M17: 1004 | N17: 920 | O17: 150 | P17: 770 | Q17: 1475 | R17: 186 | S17: 1289 | T17: 4 | U17: 5
A18: 104年底,2015 | B18: 5107 | C18: 731 | D18: 4376 | E18: 142 | F18: 12 | G18: 130 | H18: 868 | I18: 124 | J18: 744 | K18: 1375 | L18: 206 | M18: 1169 | N18: 1073 | O18: 177 | P18: 896 | Q18: 1649 | R18: 212 | S18: 1437 | T18: 7 | U18: 12
A19: 105年底,2016 | B19: 5613 | C19: 822 | D19: 4791 | E19: 177 | F19: 18 | G19: 159 | H19: 958 | I19: 141 | J19: 817 | K19: 1387 | L19: 220 | M19: 1167 | N19: 1148 | O19: 183 | P19: 965 | Q19: 1943 | R19: 260 | S19: 1683 | T19: 8 | U19: 18
A20: 106年底,2017 | B20: 6234 | C20: 930 | D20: 5304 | E20: 259 | F20: 27 | G20: 232 | H20: 1103 | I20: 165 | J20: 938 | K20: 1476 | L20: 247 | M20: 1229 | N20: 1312 | O20: 197 | P20: 1115 | Q20: 2084 | R20: 294 | S20: 1790 | T20: 12 | U20: 41
A21: 107年底,2018 | B21: 7033 | C21: 1105 | D21: 5928 | E21: 313 | F21: 39 | G21: 274 | H21: 1143 | I21: 196 | J21: 947 | K21: 1606 | L21: 276 | M21: 1330 | N21: 1512 | O21: 238 | P21: 1274 | Q21: 2459 | R21: 356 | S21: 2103 | T21: 14 | U21: 63
A22: 108年底,2019 | B22: 7774 | C22: 1228 | D22: 6546 | E22: 396 | F22: 57 | G22: 339 | H22: 1276 | I22: 217 | J22: 1059 | K22: 1632 | L22: 283 | M22: 1349 | N22: 1672 | O22: 279 | P22: 1393 | Q22: 2798 | R22: 392 | S22: 2406 | T22: 21 | U22: 99
A23: 109年底,2020 | B23: 8649 | C23: 1396 | D23: 7253 | E23: 566 | F23: 92 | G23: 474 | H23: 1479 | I23: 266 | J23: 1213 | K23: 1769 | L23: 312 | M23: 1457 | N23: 1815 | O23: 303 | P23: 1512 | Q23: 3020 | R23: 423 | S23: 2597 | T23: 39 | U23: 138
A24: 110年底,2021 | B24: 8779 | C24: 1413 | D24: 7366 | E24: 667 | F24: 111 | G24: 556 | H24: 1518 | I24: 262 | J24: 1256 | K24: 1663 | L24: 304 | M24: 1359 | N24: 1796 | O24: 288 | P24: 1508 | Q24: 3135 | R24: 448 | S24: 2687 | T24: 44 | U24: 159
A25: 111年底,2022 | B25: 9298 | C25: 1500 | D25: 7798 | E25: 396 | F25: 69 | G25: 327 | H25: 1608 | I25: 275 | J25: 1333 | K25: 1755 | L25: 322 | M25: 1433 | N25: 1821 | O25: 295 | P25: 1526 | Q25: 3718 | R25: 539 | S25: 3179 | T25: 53 | U25: 187
A26: 112年底,2023 | B26: 9817 | C26: 1619 | D26: 8198 | E26: 456 | F26: 66 | G26: 390 | H26: 1669 | I26: 315 | J26: 1354 | K26: 1796 | L26: 349 | M26: 1447 | N26: 1840 | O26: 299 | P26: 1541 | Q26: 4056 | R26: 590 | S26: 3466 | T26: 72 | U26: 226
A27: 113年底,2024 | B27: 10728 | C27: 1863 | D27: 8865 | E27: 505 | F27: 60 | G27: 445 | H27: 1778 | I27: 364 | J27: 1414 | K27: 1969 | L27: 454 | M27: 1515 | N27: 1831 | O27: 303 | P27: 1528 | Q27: 4645 | R27: 682 | S27: 3963 | T27: 94 | U27: 370
A28: 資料來源：直轄市、縣(市)政府。

Sheet 113
A1: 2-02 領有社會工作師執照人數
A2: 民國113年底
U3: 單位：人
A4: 區域別 | B4: 總計 | E4: 未滿25歲 | H4: 25至29歲 | K4: 30至34歲 | N4: 35至39歲 | Q4: 40歲以上 | T4: 原住民身分
B5: 計 | C5: 男 | D5: 女 | E5: 計 | F5: 男 | G5: 女 | H5: 計 | I5: 男 | J5: 女 | K5: 計 | L5: 男 | M5: 女 | N5: 計 | O5: 男 | P5: 女 | Q5: 計 | R5: 男 | S5: 女 | T5: 男 | U5: 女
A6: 113年底,2024 | B6: 10728 | C6: 1863 | D6: 8865 | E6: 505 | F6: 60 | G6: 445 | H6: 1778 | I6: 364 | J6: 1414 | K6: 1969 | L6: 454 | M6: 1515 | N6: 1831 | O6: 303 | P6: 1528 | Q6: 4645 | R6: 682 | S6: 3963 | T6: 94 | U6: 370
A7: 新北市 | B7: 1112 | C7: 185 | D7: 927 | E7: 47 | F7: 6 | G7: 41 | H7: 197 | I7: 33 | J7: 164 | K7: 230 | L7: 52 | M7: 178 | N7: 208 | O7: 37 | P7: 171 | Q7: 430 | R7: 57 | S7: 373 | T7: 14 | U7: 50
A8: 臺北市 | B8: 1715 | C8: 267 | D8: 1448 | E8: 112 | F8: 14 | G8: 98 | H8: 290 | I8: 64 | J8: 226 | K8: 316 | L8: 61 | M8: 255 | N8: 259 | O8: 44 | P8: 215 | Q8: 738 | R8: 84 | S8: 654 | T8: 0 | U8: 0
A9: 桃園市 | B9: 811 | C9: 135 | D9: 676 | E9: 47 | F9: 6 | G9: 41 | H9: 151 | I9: 25 | J9: 126 | K9: 132 | L9: 30 | M9: 102 | N9: 142 | O9: 26 | P9: 116 | Q9: 339 | R9: 48 | S9: 291 | T9: 11 | U9: 70
A10: 臺中市 | B10: 1442 | C10: 219 | D10: 1223 | E10: 86 | F10: 5 | G10: 81 | H10: 230 | I10: 50 | J10: 180 | K10: 263 | L10: 44 | M10: 219 | N10: 288 | O10: 36 | P10: 252 | Q10: 575 | R10: 84 | S10: 491 | T10: 6 | U10: 19
A11: 臺南市 | B11: 806 | C11: 135 | D11: 671 | E11: 36 | F11: 3 | G11: 33 | H11: 149 | I11: 29 | J11: 120 | K11: 132 | L11: 23 | M11: 109 | N11: 135 | O11: 28 | P11: 107 | Q11: 354 | R11: 52 | S11: 302 | T11: 10 | U11: 40
A12: 高雄市 | B12: 1182 | C12: 182 | D12: 1000 | E12: 49 | F12: 5 | G12: 44 | H12: 155 | I12: 23 | J12: 132 | K12: 197 | L12: 35 | M12: 162 | N12: 172 | O12: 29 | P12: 143 | Q12: 609 | R12: 90 | S12: 519 | T12: 3 | U12: 14
A13: 宜蘭縣 | B13: 260 | C13: 58 | D13: 202 | E13: 15 | F13: 2 | G13: 13 | H13: 38 | I13: 12 | J13: 26 | K13: 41 | L13: 10 | M13: 31 | N13: 42 | O13: 9 | P13: 33 | Q13: 124 | R13: 25 | S13: 99 | T13: 2 | U13: 11
A14: 新竹縣 | B14: 206 | C14: 36 | D14: 170 | E14: 14 | F14: 4 | G14: 10 | H14: 36 | I14: 10 | J14: 26 | K14: 41 | L14: 11 | M14: 30 | N14: 29 | O14: 2 | P14: 27 | Q14: 86 | R14: 9 | S14: 77 | T14: 4 | U14: 13
A15: 苗栗縣 | B15: 239 | C15: 37 | D15: 202 | E15: 5 | F15: 1 | G15: 4 | H15: 28 | I15: 6 | J15: 22 | K15: 37 | L15: 5 | M15: 32 | N15: 40 | O15: 7 | P15: 33 | Q15: 129 | R15: 18 | S15: 111 | T15: 0 | U15: 1
A16: 彰化縣 | B16: 468 | C16: 78 | D16: 390 | E16: 19 | F16: 2 | G16: 17 | H16: 98 | I16: 17 | J16: 81 | K16: 99 | L16: 24 | M16: 75 | N16: 79 | O16: 12 | P16: 67 | Q16: 173 | R16: 23 | S16: 150 | T16: 7 | U16: 26
A17: 南投縣 | B17: 349 | C17: 136 | D17: 213 | E17: 11 | F17: 2 | G17: 9 | H17: 57 | I17: 14 | J17: 43 | K17: 99 | L17: 81 | M17: 18 | N17: 60 | O17: 14 | P17: 46 | Q17: 122 | R17: 25 | S17: 97 | T17: 7 | U17: 21
... A28: 連江縣 | B28: 5 | C28: 0 | D28: 5 | E28: 0 | F28: 0 | G28: 0 | H28: 0 | I28: 0 | J28: 0 | K28: 2 | L28: 0 | M28: 2 | N28: 0 | O28: 0 | P28: 0 | Q28: 3 | R28: 0 | S28: 3 | T28: 0 | U28: 0
A29: 資料來源：直轄市、縣(市)政府。

Sheet 112
A1: 2-02 領有社會工作師執照人數
A2: 民國112年底
U3: 單位：人
A4: 區域別 | B4: 總計 | E4: 未滿25歲 | H4: 25至29歲 | K4: 30至34歲 | N4: 35至39歲 | Q4: 40歲以上 | T4: 原住民身分
B5: 計 | C5: 男 | D5: 女 | E5: 計 | F5: 男 | G5: 女 | H5: 計 | I5: 男 | J5: 女 | K5: 計 | L5: 男 | M5: 女 | N5: 計 | O5: 男 | P5: 女 | Q5: 計 | R5: 男 | S5: 女 | T5: 男 | U5: 女
A6: 112年底,2023 | B6: 9817 | C6: 1619 | D6: 8198 | E6: 456 | F6: 66 | G6: 390 | H6: 1669 | I6: 315 | J6: 1354 | K6: 1796 | L6: 349 | M6: 1447 | N6: 1840 | O6: 299 | P6: 1541 | Q6: 4056 | R6: 590 | S6: 3466 | T6: 72 | U6: 226
A7: 新北市 | B7: 1071 | C7: 164 | D7: 907 | E7: 73 | F7: 11 | G7: 62 | H7: 180 | I7: 24 | J7: 156 | K7: 225 | L7: 45 | M7: 180 | N7: 199 | O7: 34 | P7: 165 | Q7: 394 | R7: 50 | S7: 344 | T7: 15 | U7: 41
A8: 臺北市 | B8: 1447 | C8: 219 | D8: 1228 | E8: 69 | F8: 12 | G8: 57 | H8: 283 | I8: 58 | J8: 225 | K8: 247 | L8: 48 | M8: 199 | N8: 240 | O8: 42 | P8: 198 | Q8: 608 | R8: 59 | S8: 549 | T8: 0 | U8: 0
A9: 桃園市 | B9: 774 | C9: 132 | D9: 642 | E9: 15 | F9: 4 | G9: 11 | H9: 151 | I9: 23 | J9: 128 | K9: 139 | L9: 28 | M9: 111 | N9: 168 | O9: 25 | P9: 143 | Q9: 301 | R9: 52 | S9: 249 | T9: 0 | U9: 0
A10: 臺中市 | B10: 1340 | C10: 196 | D10: 1144 | E10: 70 | F10: 8 | G10: 62 | H10: 229 | I10: 38 | J10: 191 | K10: 274 | L10: 47 | M10: 227 | N10: 271 | O10: 34 | P10: 237 | Q10: 496 | R10: 69 | S10: 427 | T10: 6 | U10: 17
A11: 臺南市 | B11: 735 | C11: 119 | D11: 616 | E11: 31 | F11: 4 | G11: 27 | H11: 119 | I11: 23 | J11: 96 | K11: 133 | L11: 23 | M11: 110 | N11: 140 | O11: 23 | P11: 117 | Q11: 312 | R11: 46 | S11: 266 | T11: 5 | U11: 1
A12: 高雄市 | B12: 1111 | C12: 176 | D12: 935 | E12: 55 | F12: 2 | G12: 53 | H12: 141 | I12: 21 | J12: 120 | K12: 169 | L12: 37 | M12: 132 | N12: 196 | O12: 35 | P12: 161 | Q12: 550 | R12: 81 | S12: 469 | T12: 3 | U12: 10
A13: 宜蘭縣 | B13: 237 | C13: 52 | D13: 185 | E13: 7 | F13: 1 | G13: 6 | H13: 33 | I13: 10 | J13: 23 | K13: 39 | L13: 10 | M13: 29 | N13: 51 | O13: 12 | P13: 39 | Q13: 107 | R13: 19 | S13: 88 | T13: 2 | U13: 11
A14: 新竹縣 | B14: 180 | C14: 29 | D14: 151 | E14: 11 | F14: 3 | G14: 8 | H14: 32 | I14: 6 | J14: 26 | K14: 28 | L14: 8 | M14: 20 | N14: 36 | O14: 3 | P14: 33 | Q14: 73 | R14: 9 | S14: 64 | T14: 4 | U14: 9
A15: 苗栗縣 | B15: 222 | C15: 35 | D15: 187 | E15: 7 | F15: 1 | G15: 6 | H15: 19 | I15: 4 | J15: 15 | K15: 34 | L15: 4 | M15: 30 | N15: 45 | O15: 6 | P15: 39 | Q15: 117 | R15: 20 | S15: 97 | T15: 0 | U15: 1
A16: 彰化縣 | B16: 430 | C16: 70 | D16: 360 | E16: 22 | F16: 3 | G16: 19 | H16: 90 | I16: 17 | J16: 73 | K16: 86 | L16: 17 | M16: 69 | N16: 79 | O16: 13 | P16: 66 | Q16: 153 | R16: 20 | S16: 133 | T16: 7 | U16: 26
A17: 南投縣 | B17: 299 | C17: 66 | D17: 233 | E17: 12 | F17: 2 | G17: 10 | H17: 60 | I17: 14 | J17: 46 | K17: 69 | L17: 16 | M17: 53 | N17: 59 | O17: 12 | P17: 47 | Q17: 99 | R17: 22 | S17: 77 | T17: 7 | U17: 20
... A28: 連江縣 | B28: 6 | C28: 1 | D28: 5 | E28: 1 | F28: 0 | G28: 1 | H28: 0 | I28: 0 | J28: 0 | K28: 3 | L28: 1 | M28: 2 | N28: 0 | O28: 0 | P28: 0 | Q28: 2 | R28: 0 | S28: 2 | T28: 0 | U28: 0
A29: 資料來源：直轄市、縣(市)政府。

Sheet 111
A1: 2-02 領有社會工作師執照人數
A2: 民國111年底
U3: 單位：人
A4: 區域別 | B4: 總計 | E4: 未滿25歲 | H4: 25至29歲 | K4: 30至34歲 | N4: 35至39歲 | Q4: 40歲以上 | T4: 原住民身分
B5: 計 | C5: 男 | D5: 女 | E5: 計 | F5: 男 | G5: 女 | H5: 計 | I5: 男 | J5: 女 | K5: 計 | L5: 男 | M5: 女 | N5: 計 | O5: 男 | P5: 女 | Q5: 計 | R5: 男 | S5: 女 | T5: 男 | U5: 女
A6: 111年底,2022 | B6: 9298 | C6: 1500 | D6: 7798 | E6: 396 | F6: 69 | G6: 327 | H6: 1608 | I6: 275 | J6: 1333 | K6: 1755 | L6: 322 | M6: 1433 | N6: 1821 | O6: 295 | P6: 1526 | Q6: 3718 | R6: 539 | S6: 3179 | T6: 53 | U6: 187
A7: 新北市 | B7: 1012 | C7: 161 | D7: 851 | E7: 51 | F7: 4 | G7: 47 | H7: 174 | I7: 26 | J7: 148 | K7: 220 | L7: 47 | M7: 173 | N7: 200 | O7: 32 | P7: 168 | Q7: 367 | R7: 52 | S7: 315 | T7: 12 | U7: 26
A8: 臺北市 | B8: 1416 | C8: 211 | D8: 1205 | E8: 70 | F8: 12 | G8: 58 | H8: 269 | I8: 46 | J8: 223 | K8: 243 | L8: 53 | M8: 190 | N8: 236 | O8: 43 | P8: 193 | Q8: 598 | R8: 57 | S8: 541 | T8: 0 | U8: 0
A9: 桃園市 | B9: 752 | C9: 125 | D9: 627 | E9: 35 | F9: 10 | G9: 25 | H9: 136 | I9: 19 | J9: 117 | K9: 132 | L9: 27 | M9: 105 | N9: 165 | O9: 22 | P9: 143 | Q9: 284 | R9: 47 | S9: 237 | T9: 0 | U9: 0
A10: 臺中市 | B10: 1182 | C10: 171 | D10: 1011 | E10: 34 | F10: 4 | G10: 30 | H10: 210 | I10: 35 | J10: 175 | K10: 262 | L10: 35 | M10: 227 | N10: 251 | O10: 36 | P10: 215 | Q10: 425 | R10: 61 | S10: 364 | T10: 1 | U10: 10
A11: 臺南市 | B11: 726 | C11: 114 | D11: 612 | E11: 28 | F11: 6 | G11: 22 | H11: 111 | I11: 22 | J11: 89 | K11: 129 | L11: 18 | M11: 111 | N11: 151 | O11: 20 | P11: 131 | Q11: 307 | R11: 48 | S11: 259 | T11: 0 | U11: 2
A12: 高雄市 | B12: 1078 | C12: 166 | D12: 912 | E12: 40 | F12: 5 | G12: 35 | H12: 136 | I12: 23 | J12: 113 | K12: 189 | L12: 32 | M12: 157 | N12: 192 | O12: 33 | P12: 159 | Q12: 521 | R12: 73 | S12: 448 | T12: 2 | U12: 7
A13: 宜蘭縣 | B13: 229 | C13: 47 | D13: 182 | E13: 9 | F13: 2 | G13: 7 | H13: 30 | I13: 6 | J13: 24 | K13: 40 | L13: 8 | M13: 32 | N13: 54 | O13: 16 | P13: 38 | Q13: 96 | R13: 15 | S13: 81 | T13: 2 | U13: 12
A14: 新竹縣 | B14: 161 | C14: 23 | D14: 138 | E14: 11 | F14: 2 | G14: 9 | H14: 29 | I14: 4 | J14: 25 | K14: 18 | L14: 4 | M14: 14 | N14: 37 | O14: 3 | P14: 34 | Q14: 66 | R14: 10 | S14: 56 | T14: 3 | U14: 10
A15: 苗栗縣 | B15: 200 | C15: 35 | D15: 165 | E15: 5 | F15: 1 | G15: 4 | H15: 16 | I15: 3 | J15: 13 | K15: 29 | L15: 5 | M15: 24 | N15: 49 | O15: 9 | P15: 40 | Q15: 101 | R15: 17 | S15: 84 | T15: 0 | U15: 0
A16: 彰化縣 | B16: 403 | C16: 63 | D16: 340 | E16: 15 | F16: 3 | G16: 12 | H16: 89 | I16: 15 | J16: 74 | K16: 87 | L16: 16 | M16: 71 | N16: 85 | O16: 12 | P16: 73 | Q16: 127 | R16: 17 | S16: 110 | T16: 9 | U16: 29
A17: 南投縣 | B17: 246 | C17: 49 | D17: 197 | E17: 4 | F17: 0 | G17: 4 | H17: 49 | I17: 11 | J17: 38 | K17: 52 | L17: 11 | M17: 41 | N17: 54 | O17: 7 | P17: 47 | Q17: 87 | R17: 20 | S17: 67 | T17: 2 | U17: 16
... A28: 連江縣 | B28: 4 | C28: 0 | D28: 4 | E28: 1 | F28: 0 | G28: 1 | H28: 0 | I28: 0 | J28: 0 | K28: 2 | L28: 0 | M28: 2 | N28: 0 | O28: 0 | P28: 0 | Q28: 1 | R28: 0 | S28: 1 | T28: 0 | U28: 0
A29: 資料來源：直轄市、縣(市)政府。

Sheet 110
A1: 2-02 領有社會工作師執照人數
A2: 民國110年底
U3: 單位：人
A4: 區域別 | B4: 總計 | E4: 未滿25歲 | H4: 25至29歲 | K4: 30至34歲 | N4: 35至39歲 | Q4: 40歲以上 | T4: 原住民身分
B5: 計 | C5: 男 | D5: 女 | E5: 計 | F5: 男 | G5: 女 | H5: 計 | I5: 男 | J5: 女 | K5: 計 | L5: 男 | M5: 女 | N5: 計 | O5: 男 | P5: 女 | Q5: 計 | R5: 男 | S5: 女 | T5: 男 | U5: 女
A6: 110年底,2021 | B6: 8779 | C6: 1413 | D6: 7366 | E6: 667 | F6: 111 | G6: 556 | H6: 1518 | I6: 262 | J6: 1256 | K6: 1663 | L6: 304 | M6: 1359 | N6: 1796 | O6: 288 | P6: 1508 | Q6: 3135 | R6: 448 | S6: 2687 | T6: 44 | U6: 159
A7: 新北市 | B7: 998 | C7: 156 | D7: 842 | E7: 155 | F7: 15 | G7: 140 | H7: 211 | I7: 46 | J7: 165 | K7: 189 | L7: 35 | M7: 154 | N7: 189 | O7: 28 | P7: 161 | Q7: 254 | R7: 32 | S7: 222 | T7: 10 | U7: 15
A8: 臺北市 | B8: 1230 | C8: 176 | D8: 1054 | E8: 47 | F8: 8 | G8: 39 | H8: 233 | I8: 36 | J8: 197 | K8: 219 | L8: 48 | M8: 171 | N8: 228 | O8: 35 | P8: 193 | Q8: 503 | R8: 49 | S8: 454 | T8: 0 | U8: 0
A9: 桃園市 | B9: 677 | C9: 117 | D9: 560 | E9: 31 | F9: 6 | G9: 25 | H9: 101 | I9: 20 | J9: 81 | K9: 133 | L9: 26 | M9: 107 | N9: 168 | O9: 23 | P9: 145 | Q9: 244 | R9: 42 | S9: 202 | T9: 0 | U9: 0
A10: 臺中市 | B10: 1198 | C10: 173 | D10: 1025 | E10: 31 | F10: 5 | G10: 26 | H10: 195 | I10: 27 | J10: 168 | K10: 253 | L10: 34 | M10: 219 | N10: 275 | O10: 38 | P10: 237 | Q10: 444 | R10: 69 | S10: 375 | T10: 1 | U10: 10
A11: 臺南市 | B11: 662 | C11: 102 | D11: 560 | E11: 20 | F11: 5 | G11: 15 | H11: 86 | I11: 17 | J11: 69 | K11: 118 | L11: 19 | M11: 99 | N11: 150 | O11: 21 | P11: 129 | Q11: 288 | R11: 40 | S11: 248 | T11: 0 | U11: 0
A12: 高雄市 | B12: 1058 | C12: 160 | D12: 898 | E12: 25 | F12: 6 | G12: 19 | H12: 141 | I12: 20 | J12: 121 | K12: 178 | L12: 35 | M12: 143 | N12: 214 | O12: 35 | P12: 179 | Q12: 500 | R12: 64 | S12: 436 | T12: 1 | U12: 6
A13: 宜蘭縣 | B13: 225 | C13: 48 | D13: 177 | E13: 28 | F13: 4 | G13: 24 | H13: 34 | I13: 8 | J13: 26 | K13: 49 | L13: 18 | M13: 31 | N13: 42 | O13: 7 | P13: 35 | Q13: 72 | R13: 11 | S13: 61 | T13: 1 | U13: 10
A14: 新竹縣 | B14: 132 | C14: 19 | D14: 113 | E14: 19 | F14: 4 | G14: 15 | H14: 12 | I14: 2 | J14: 10 | K14: 30 | L14: 2 | M14: 28 | N14: 33 | O14: 4 | P14: 29 | Q14: 38 | R14: 7 | S14: 31 | T14: 1 | U14: 7
A15: 苗栗縣 | B15: 190 | C15: 33 | D15: 157 | E15: 4 | F15: 1 | G15: 3 | H15: 21 | I15: 2 | J15: 19 | K15: 26 | L15: 4 | M15: 22 | N15: 54 | O15: 10 | P15: 44 | Q15: 85 | R15: 16 | S15: 69 | T15: 0 | U15: 0
A16: 彰化縣 | B16: 393 | C16: 65 | D16: 328 | E16: 81 | F16: 14 | G16: 67 | H16: 83 | I16: 16 | J16: 67 | K16: 69 | L16: 11 | M16: 58 | N16: 72 | O16: 10 | P16: 62 | Q16: 88 | R16: 14 | S16: 74 | T16: 8 | U16: 28
A17: 南投縣 | B17: 223 | C17: 47 | D17: 176 | E17: 37 | F17: 7 | G17: 30 | H17: 49 | I17: 10 | J17: 39 | K17: 51 | L17: 9 | M17: 42 | N17: 36 | O17: 7 | P17: 29 | Q17: 50 | R17: 14 | S17: 36 | T17: 2 | U17: 15
... A28: 連江縣 | B28: 3 | C28: 0 | D28: 3 | E28: 1 | F28: 0 | G28: 1 | H28: 0 | I28: 0 | J28: 0 | K28: 2 | L28: 0 | M28: 2 | N28: 0 | O28: 0 | P28: 0 | Q28: 0 | R28: 0 | S28: 0 | T28: 0 | U28: 0
A29: 資料來源：直轄市、縣(市)政府。

Sheet 109
A1: 2-02 領有社會工作師執照人數
A2: 民國109年底
U3: 單位：人
A4: 區域別 | B4: 總計 | E4: 未滿25歲 | H4: 25至29歲 | K4: 30至34歲 | N4: 35至39歲 | Q4: 40歲以上 | T4: 原住民身分
B5: 計 | C5: 男 | D5: 女 | E5: 計 | F5: 男 | G5: 女 | H5: 計 | I5: 男 | J5: 女 | K5: 計 | L5: 男 | M5: 女 | N5: 計 | O5: 男 | P5: 女 | Q5: 計 | R5: 男 | S5: 女 | T5: 男 | U5: 女
A6: 109年底,2020 | B6: 8649 | C6: 1396 | D6: 7253 | E6: 566 | F6: 92 | G6: 474 | H6: 1479 | I6: 266 | J6: 1213 | K6: 1769 | L6: 312 | M6: 1457 | N6: 1815 | O6: 303 | P6: 1512 | Q6: 3020 | R6: 423 | S6: 2597 | T6: 39 | U6: 138
A7: 新北市 | B7: 1197 | C7: 193 | D7: 1004 | E7: 47 | F7: 5 | G7: 42 | H7: 220 | I7: 37 | J7: 183 | K7: 240 | L7: 48 | M7: 192 | N7: 265 | O7: 35 | P7: 230 | Q7: 425 | R7: 68 | S7: 357 | T7: 6 | U7: 4
A8: 臺北市 | B8: 1187 | C8: 173 | D8: 1014 | E8: 38 | F8: 6 | G8: 32 | H8: 215 | I8: 40 | J8: 175 | K8: 220 | L8: 49 | M8: 171 | N8: 211 | O8: 29 | P8: 182 | Q8: 503 | R8: 49 | S8: 454 | T8: 0 | U8: 0
A9: 桃園市 | B9: 627 | C9: 104 | D9: 523 | E9: 45 | F9: 8 | G9: 37 | H9: 101 | I9: 20 | J9: 81 | K9: 156 | L9: 25 | M9: 131 | N9: 141 | O9: 20 | P9: 121 | Q9: 184 | R9: 31 | S9: 153 | T9: 1 | U9: 0
A10: 臺中市 | B10: 1121 | C10: 162 | D10: 959 | E10: 31 | F10: 2 | G10: 29 | H10: 173 | I10: 27 | J10: 146 | K10: 259 | L10: 30 | M10: 229 | N10: 268 | O10: 49 | P10: 219 | Q10: 390 | R10: 54 | S10: 336 | T10: 1 | U10: 8
A11: 臺南市 | B11: 655 | C11: 103 | D11: 552 | E11: 15 | F11: 3 | G11: 12 | H11: 89 | I11: 19 | J11: 70 | K11: 130 | L11: 25 | M11: 105 | N11: 162 | O11: 22 | P11: 140 | Q11: 259 | R11: 34 | S11: 225 | T11: 0 | U11: 0
A12: 高雄市 | B12: 1019 | C12: 147 | D12: 872 | E12: 39 | F12: 6 | G12: 33 | H12: 126 | I12: 20 | J12: 106 | K12: 178 | L12: 26 | M12: 152 | N12: 232 | O12: 45 | P12: 187 | Q12: 444 | R12: 50 | S12: 394 | T12: 0 | U12: 5
A13: 宜蘭縣 | B13: 251 | C13: 55 | D13: 196 | E13: 37 | F13: 5 | G13: 32 | H13: 43 | I13: 10 | J13: 33 | K13: 58 | L13: 19 | M13: 39 | N13: 43 | O13: 6 | P13: 37 | Q13: 70 | R13: 15 | S13: 55 | T13: 1 | U13: 10
A14: 新竹縣 | B14: 123 | C14: 19 | D14: 104 | E14: 18 | F14: 4 | G14: 14 | H14: 15 | I14: 3 | J14: 12 | K14: 28 | L14: 2 | M14: 26 | N14: 25 | O14: 2 | P14: 23 | Q14: 37 | R14: 8 | S14: 29 | T14: 0 | U14: 8
A15: 苗栗縣 | B15: 178 | C15: 31 | D15: 147 | E15: 5 | F15: 0 | G15: 5 | H15: 24 | I15: 6 | J15: 18 | K15: 24 | L15: 2 | M15: 22 | N15: 52 | O15: 9 | P15: 43 | Q15: 73 | R15: 14 | S15: 59 | T15: 0 | U15: 0
A16: 彰化縣 | B16: 360 | C16: 57 | D16: 303 | E16: 74 | F16: 11 | G16: 63 | H16: 76 | I16: 14 | J16: 62 | K16: 72 | L16: 10 | M16: 62 | N16: 67 | O16: 12 | P16: 55 | Q16: 71 | R16: 10 | S16: 61 | T16: 8 | U16: 30
A17: 南投縣 | B17: 191 | C17: 35 | D17: 156 | E17: 32 | F17: 4 | G17: 28 | H17: 44 | I17: 9 | J17: 35 | K17: 47 | L17: 5 | M17: 42 | N17: 28 | O17: 5 | P17: 23 | Q17: 40 | R17: 12 | S17: 28 | T17: 2 | U17: 14
... A28: 連江縣 | B28: 3 | C28: 0 | D28: 3 | E28: 1 | F28: 0 | G28: 1 | H28: 1 | I28: 0 | J28: 1 | K28: 1 | L28: 0 | M28: 1 | N28: 0 | O28: 0 | P28: 0 | Q28: 0 | R28: 0 | S28: 0 | T28: 0 | U28: 0
A29: 資料來源：直轄市、縣(市)政府。

Sheet 108
A1: 2-02 領有社會工作師執照人數
A2: 民國108年底
U3: 單位：人
A4: 區域別 | B4: 總計 | E4: 未滿25歲 | H4: 25至29歲 | K4: 30至34歲 | N4: 35至39歲 | Q4: 40歲以上 | T4: 原住民身分
B5: 計 | C5: 男 | D5: 女 | E5: 計 | F5: 男 | G5: 女 | H5: 計 | I5: 男 | J5: 女 | K5: 計 | L5: 男 | M5: 女 | N5: 計 | O5: 男 | P5: 女 | Q5: 計 | R5: 男 | S5: 女 | T5: 男 | U5: 女
A6: 108年底,2019 | B6: 7774 | C6: 1228 | D6: 6546 | E6: 396 | F6: 57 | G6: 339 | H6: 1276 | I6: 217 | J6: 1059 | K6: 1632 | L6: 283 | M6: 1349 | N6: 1672 | O6: 279 | P6: 1393 | Q6: 2798 | R6: 392 | S6: 2406 | T6: 21 | U6: 99
A7: 新北市 | B7: 1006 | C7: 159 | D7: 847 | E7: 27 | F7: 4 | G7: 23 | H7: 178 | I7: 29 | J7: 149 | K7: 214 | L7: 43 | M7: 171 | N7: 244 | O7: 32 | P7: 212 | Q7: 343 | R7: 51 | S7: 292 | T7: 3 | U7: 3
A8: 臺北市 | B8: 1063 | C8: 156 | D8: 907 | E8: 44 | F8: 8 | G8: 36 | H8: 175 | I8: 36 | J8: 139 | K8: 193 | L8: 37 | M8: 156 | N8: 196 | O8: 24 | P8: 172 | Q8: 455 | R8: 51 | S8: 404 | T8: 0 | U8: 0
A9: 桃園市 | B9: 594 | C9: 98 | D9: 496 | E9: 15 | F9: 3 | G9: 12 | H9: 94 | I9: 16 | J9: 78 | K9: 145 | L9: 22 | M9: 123 | N9: 152 | O9: 23 | P9: 129 | Q9: 188 | R9: 34 | S9: 154 | T9: 0 | U9: 0
A10: 臺中市 | B10: 981 | C10: 151 | D10: 830 | E10: 27 | F10: 2 | G10: 25 | H10: 134 | I10: 22 | J10: 112 | K10: 243 | L10: 31 | M10: 212 | N10: 226 | O10: 47 | P10: 179 | Q10: 351 | R10: 49 | S10: 302 | T10: 1 | U10: 9
A11: 臺南市 | B11: 577 | C11: 92 | D11: 485 | E11: 5 | F11: 0 | G11: 5 | H11: 77 | I11: 14 | J11: 63 | K11: 115 | L11: 23 | M11: 92 | N11: 149 | O11: 21 | P11: 128 | Q11: 231 | R11: 34 | S11: 197 | T11: 0 | U11: 0
A12: 高雄市 | B12: 967 | C12: 142 | D12: 825 | E12: 14 | F12: 2 | G12: 12 | H12: 110 | I12: 20 | J12: 90 | K12: 176 | L12: 24 | M12: 152 | N12: 218 | O12: 42 | P12: 176 | Q12: 449 | R12: 54 | S12: 395 | T12: 0 | U12: 4
A13: 宜蘭縣 | B13: 212 | C13: 44 | D13: 168 | E13: 28 | F13: 2 | G13: 26 | H13: 40 | I13: 8 | J13: 32 | K13: 49 | L13: 15 | M13: 34 | N13: 36 | O13: 6 | P13: 30 | Q13: 59 | R13: 13 | S13: 46 | T13: 1 | U13: 9
A14: 新竹縣 | B14: 99 | C14: 14 | D14: 85 | E14: 10 | F14: 2 | G14: 8 | H14: 16 | I14: 3 | J14: 13 | K14: 23 | L14: 1 | M14: 22 | N14: 18 | O14: 2 | P14: 16 | Q14: 32 | R14: 6 | S14: 26 | T14: 0 | U14: 3
A15: 苗栗縣 | B15: 162 | C15: 30 | D15: 132 | E15: 4 | F15: 0 | G15: 4 | H15: 20 | I15: 6 | J15: 14 | K15: 32 | L15: 4 | M15: 28 | N15: 45 | O15: 7 | P15: 38 | Q15: 61 | R15: 13 | S15: 48 | T15: 0 | U15: 0
A16: 彰化縣 | B16: 321 | C16: 34 | D16: 287 | E16: 29 | F16: 2 | G16: 27 | H16: 69 | I16: 7 | J16: 62 | K16: 61 | L16: 6 | M16: 55 | N16: 55 | O16: 7 | P16: 48 | Q16: 107 | R16: 12 | S16: 95 | T16: 0 | U16: 0
A17: 南投縣 | B17: 212 | C17: 39 | D17: 173 | E17: 16 | F17: 1 | G17: 15 | H17: 39 | I17: 5 | J17: 34 | K17: 48 | L17: 8 | M17: 40 | N17: 52 | O17: 8 | P17: 44 | Q17: 57 | R17: 17 | S17: 40 | T17: 3 | U17: 13
... A28: 連江縣 | B28: 4 | C28: 1 | D28: 3 | E28: 0 | F28: 0 | G28: 0 | H28: 2 | I28: 0 | J28: 2 | K28: 2 | L28: 1 | M28: 1 | N28: 0 | O28: 0 | P28: 0 | Q28: 0 | R28: 0 | S28: 0 | T28: 0 | U28: 0
A29: 資料來源：直轄市、縣(市)政府。

Sheet 107
A1: 2-02 領有社會工作師執照人數
A2: 民國107年底
U3: 單位：人
A4: 區域別 | B4: 總計 | E4: 未滿25歲 | H4: 25至29歲 | K4: 30至34歲 | N4: 35至39歲 | Q4: 40歲以上 | T4: 原住民身分
B5: 計 | C5: 男 | D5: 女 | E5: 計 | F5: 男 | G5: 女 | H5: 計 | I5: 男 | J5: 女 | K5: 計 | L5: 男 | M5: 女 | N5: 計 | O5: 男 | P5: 女 | Q5: 計 | R5: 男 | S5: 女 | T5: 男 | U5: 女
A6: 107年底,2018 | B6: 7033 | C6: 1105 | D6: 5928 | E6: 313 | F6: 39 | G6: 274 | H6: 1143 | I6: 196 | J6: 947 | K6: 1606 | L6: 276 | M6: 1330 | N6: 1512 | O6: 238 | P6: 1274 | Q6: 2459 | R6: 356 | S6: 2103 | T6: 14 | U6: 63
A7: 新北市 | B7: 903 | C7: 145 | D7: 758 | E7: 32 | F7: 4 | G7: 28 | H7: 160 | I7: 37 | J7: 123 | K7: 200 | L7: 30 | M7: 170 | N7: 205 | O7: 26 | P7: 179 | Q7: 306 | R7: 48 | S7: 258 | T7: 3 | U7: 1
A8: 臺北市 | B8: 1008 | C8: 141 | D8: 867 | E8: 24 | F8: 6 | G8: 18 | H8: 153 | I8: 25 | J8: 128 | K8: 203 | L8: 38 | M8: 165 | N8: 215 | O8: 21 | P8: 194 | Q8: 413 | R8: 51 | S8: 362 | T8: 0 | U8: 0
A9: 桃園市 | B9: 525 | C9: 84 | D9: 441 | E9: 15 | F9: 3 | G9: 12 | H9: 96 | I9: 15 | J9: 81 | K9: 140 | L9: 22 | M9: 118 | N9: 120 | O9: 20 | P9: 100 | Q9: 154 | R9: 24 | S9: 130 | T9: 0 | U9: 0
A10: 臺中市 | B10: 882 | C10: 135 | D10: 747 | E10: 26 | F10: 2 | G10: 24 | H10: 116 | I10: 19 | J10: 97 | K10: 226 | L10: 35 | M10: 191 | N10: 204 | O10: 34 | P10: 170 | Q10: 310 | R10: 45 | S10: 265 | T10: 0 | U10: 4
A11: 臺南市 | B11: 527 | C11: 85 | D11: 442 | E11: 16 | F11: 2 | G11: 14 | H11: 72 | I11: 13 | J11: 59 | K11: 120 | L11: 23 | M11: 97 | N11: 130 | O11: 20 | P11: 110 | Q11: 189 | R11: 27 | S11: 162 | T11: 0 | U11: 0
A12: 高雄市 | B12: 893 | C12: 132 | D12: 761 | E12: 36 | F12: 1 | G12: 35 | H12: 111 | I12: 21 | J12: 90 | K12: 182 | L12: 33 | M12: 149 | N12: 221 | O12: 37 | P12: 184 | Q12: 343 | R12: 40 | S12: 303 | T12: 0 | U12: 2
A13: 宜蘭縣 | B13: 200 | C13: 43 | D13: 157 | E13: 24 | F13: 1 | G13: 23 | H13: 41 | I13: 12 | J13: 29 | K13: 49 | L13: 12 | M13: 37 | N13: 33 | O13: 5 | P13: 28 | Q13: 53 | R13: 13 | S13: 40 | T13: 0 | U13: 7
A14: 新竹縣 | B14: 86 | C14: 16 | D14: 70 | E14: 6 | F14: 1 | G14: 5 | H14: 19 | I14: 3 | J14: 16 | K14: 26 | L14: 4 | M14: 22 | N14: 11 | O14: 2 | P14: 9 | Q14: 24 | R14: 6 | S14: 18 | T14: 1 | U14: 3
A15: 苗栗縣 | B15: 148 | C15: 23 | D15: 125 | E15: 3 | F15: 1 | G15: 2 | H15: 20 | I15: 5 | J15: 15 | K15: 32 | L15: 3 | M15: 29 | N15: 34 | O15: 5 | P15: 29 | Q15: 59 | R15: 9 | S15: 50 | T15: 0 | U15: 0
A16: 彰化縣 | B16: 308 | C16: 41 | D16: 267 | E16: 19 | F16: 0 | G16: 19 | H16: 51 | I16: 5 | J16: 46 | K16: 69 | L16: 9 | M16: 60 | N16: 60 | O16: 10 | P16: 50 | Q16: 109 | R16: 17 | S16: 92 | T16: 0 | U16: 0
A17: 南投縣 | B17: 167 | C17: 30 | D17: 137 | E17: 2 | F17: 0 | G17: 2 | H17: 37 | I17: 4 | J17: 33 | K17: 50 | L17: 7 | M17: 43 | N17: 34 | O17: 6 | P17: 28 | Q17: 44 | R17: 13 | S17: 31 | T17: 0 | U17: 0
... A28: 連江縣 | B28: 1 | C28: 0 | D28: 1 | E28: 0 | F28: 0 | G28: 0 | H28: 1 | I28: 0 | J28: 1 | K28: 0 | L28: 0 | M28: 0 | N28: 0 | O28: 0 | P28: 0 | Q28: 0 | R28: 0 | S28: 0 | T28: 0 | U28: 0
A29: 資料來源：直轄市、縣(市)政府。

Sheet 106
A1: 2-02 領有社會工作師執照人數
A2: 民國106年底
U3: 單位：人
A4: 區域別 | B4: 總計 | E4: 未滿25歲 | H4: 25至29歲 | K4: 30至34歲 | N4: 35至39歲 | Q4: 40歲以上 | T4: 原住民身分
B5: 計 | C5: 男 | D5: 女 | E5: 計 | F5: 男 | G5: 女 | H5: 計 | I5: 男 | J5: 女 | K5: 計 | L5: 男 | M5: 女 | N5: 計 | O5: 男 | P5: 女 | Q5: 計 | R5: 男 | S5: 女 | T5: 男 | U5: 女
A6: 106年底,2017 | B6: 6234 | C6: 930 | D6: 5304 | E6: 259 | F6: 27 | G6: 232 | H6: 1103 | I6: 165 | J6: 938 | K6: 1476 | L6: 247 | M6: 1229 | N6: 1312 | O6: 197 | P6: 1115 | Q6: 2084 | R6: 294 | S6: 1790 | T6: 12 | U6: 41
A7: 新北市 | B7: 829 | C7: 121 | D7: 708 | E7: 26 | F7: 3 | G7: 23 | H7: 149 | I7: 24 | J7: 125 | K7: 201 | L7: 26 | M7: 175 | N7: 185 | O7: 28 | P7: 157 | Q7: 268 | R7: 40 | S7: 228 | T7: 4 | U7: 1
A8: 臺北市 | B8: 959 | C8: 128 | D8: 831 | E8: 24 | F8: 3 | G8: 21 | H8: 158 | I8: 29 | J8: 129 | K8: 183 | L8: 30 | M8: 153 | N8: 207 | O8: 22 | P8: 185 | Q8: 387 | R8: 44 | S8: 343 | T8: 0 | U8: 0
A9: 桃園市 | B9: 487 | C9: 72 | D9: 415 | E9: 11 | F9: 1 | G9: 10 | H9: 98 | I9: 15 | J9: 83 | K9: 137 | L9: 21 | M9: 116 | N9: 95 | O9: 16 | P9: 79 | Q9: 146 | R9: 19 | S9: 127 | T9: 0 | U9: 0
A10: 臺中市 | B10: 740 | C10: 111 | D10: 629 | E10: 38 | F10: 6 | G10: 32 | H10: 183 | I10: 23 | J10: 160 | K10: 212 | L10: 33 | M10: 179 | N10: 138 | O10: 24 | P10: 114 | Q10: 169 | R10: 25 | S10: 144 | T10: 2 | U10: 3
A11: 臺南市 | B11: 491 | C11: 72 | D11: 419 | E11: 12 | F11: 4 | G11: 8 | H11: 77 | I11: 12 | J11: 65 | K11: 103 | L11: 14 | M11: 89 | N11: 125 | O11: 20 | P11: 105 | Q11: 174 | R11: 22 | S11: 152 | T11: 0 | U11: 0
A12: 高雄市 | B12: 729 | C12: 112 | D12: 617 | E12: 17 | F12: 1 | G12: 16 | H12: 97 | I12: 19 | J12: 78 | K12: 151 | L12: 30 | M12: 121 | N12: 175 | O12: 28 | P12: 147 | Q12: 289 | R12: 34 | S12: 255 | T12: 0 | U12: 1
A13: 宜蘭縣 | B13: 156 | C13: 36 | D13: 120 | E13: 4 | F13: 0 | G13: 4 | H13: 24 | I13: 6 | J13: 18 | K13: 48 | L13: 15 | M13: 33 | N13: 31 | O13: 4 | P13: 27 | Q13: 49 | R13: 11 | S13: 38 | T13: 0 | U13: 0
A14: 新竹縣 | B14: 79 | C14: 12 | D14: 67 | E14: 5 | F14: 1 | G14: 4 | H14: 14 | I14: 2 | J14: 12 | K14: 26 | L14: 3 | M14: 23 | N14: 13 | O14: 1 | P14: 12 | Q14: 21 | R14: 5 | S14: 16 | T14: 0 | U14: 3
A15: 苗栗縣 | B15: 141 | C15: 20 | D15: 121 | E15: 5 | F15: 0 | G15: 5 | H15: 21 | I15: 3 | J15: 18 | K15: 36 | L15: 7 | M15: 29 | N15: 31 | O15: 5 | P15: 26 | Q15: 48 | R15: 5 | S15: 43 | T15: 0 | U15: 0
A16: 彰化縣 | B16: 265 | C16: 32 | D16: 233 | E16: 14 | F16: 1 | G16: 13 | H16: 40 | I16: 2 | J16: 38 | K16: 68 | L16: 9 | M16: 59 | N16: 58 | O16: 6 | P16: 52 | Q16: 85 | R16: 14 | S16: 71 | T16: 0 | U16: 0
A17: 南投縣 | B17: 154 | C17: 29 | D17: 125 | E17: 12 | F17: 0 | G17: 12 | H17: 22 | I17: 4 | J17: 18 | K17: 47 | L17: 6 | M17: 41 | N17: 32 | O17: 5 | P17: 27 | Q17: 41 | R17: 14 | S17: 27 | T17: 0 | U17: 0
... A28: 連江縣 | B28: 1 | C28: 0 | D28: 1 | E28: 0 | F28: 0 | G28: 0 | H28: 1 | I28: 0 | J28: 1 | K28: 0 | L28: 0 | M28: 0 | N28: 0 | O28: 0 | P28: 0 | Q28: 0 | R28: 0 | S28: 0 | T28: 0 | U28: 0
A29: 資料來源：直轄市、縣(市)政府。

Sheet 105
A1: 2-02 領有社會工作師執照人數
A2: 民國105年底
U3: 單位：人
A4: 區域別 | B4: 總計 | E4: 未滿25歲 | H4: 25至29歲 | K4: 30至34歲 | N4: 35至39歲 | Q4: 40歲以上 | T4: 原住民身分
B5: 計 | C5: 男 | D5: 女 | E5: 計 | F5: 男 | G5: 女 | H5: 計 | I5: 男 | J5: 女 | K5: 計 | L5: 男 | M5: 女 | N5: 計 | O5: 男 | P5: 女 | Q5: 計 | R5: 男 | S5: 女 | T5: 男 | U5: 女
A6: 105年底,2016 | B6: 5613 | C6: 822 | D6: 4791 | E6: 177 | F6: 18 | G6: 159 | H6: 958 | I6: 141 | J6: 817 | K6: 1387 | L6: 220 | M6: 1167 | N6: 1148 | O6: 183 | P6: 965 | Q6: 1943 | R6: 260 | S6: 1683 | T6: 8 | U6: 18
A7: 新北市 | B7: 724 | C7: 104 | D7: 620 | E7: 9 | F7: 1 | G7: 8 | H7: 119 | I7: 18 | J7: 101 | K7: 175 | L7: 24 | M7: 151 | N7: 177 | O7: 26 | P7: 151 | Q7: 244 | R7: 35 | S7: 209 | T7: 2 | U7: 0
A8: 臺北市 | B8: 851 | C8: 98 | D8: 753 | E8: 5 | F8: 0 | G8: 5 | H8: 96 | I8: 18 | J8: 78 | K8: 155 | L8: 16 | M8: 139 | N8: 166 | O8: 17 | P8: 149 | Q8: 429 | R8: 47 | S8: 382 | T8: 1 | U8: 0
A9: 桃園市 | B9: 408 | C9: 55 | D9: 353 | E9: 12 | F9: 0 | G9: 12 | H9: 87 | I9: 12 | J9: 75 | K9: 131 | L9: 17 | M9: 114 | N9: 72 | O9: 13 | P9: 59 | Q9: 106 | R9: 13 | S9: 93 | T9: 0 | U9: 0
A10: 臺中市 | B10: 676 | C10: 104 | D10: 572 | E10: 24 | F10: 4 | G10: 20 | H10: 169 | I10: 23 | J10: 146 | K10: 198 | L10: 31 | M10: 167 | N10: 124 | O10: 20 | P10: 104 | Q10: 161 | R10: 26 | S10: 135 | T10: 2 | U10: 4
A11: 臺南市 | B11: 448 | C11: 57 | D11: 391 | E11: 9 | F11: 0 | G11: 9 | H11: 72 | I11: 11 | J11: 61 | K11: 107 | L11: 10 | M11: 97 | N11: 97 | O11: 17 | P11: 80 | Q11: 163 | R11: 19 | S11: 144 | T11: 0 | U11: 0
A12: 高雄市 | B12: 672 | C12: 102 | D12: 570 | E12: 6 | F12: 0 | G12: 6 | H12: 77 | I12: 11 | J12: 66 | K12: 143 | L12: 30 | M12: 113 | N12: 163 | O12: 29 | P12: 134 | Q12: 283 | R12: 32 | S12: 251 | T12: 0 | U12: 1
A13: 宜蘭縣 | B13: 148 | C13: 37 | D13: 111 | E13: 11 | F13: 1 | G13: 10 | H13: 20 | I13: 7 | J13: 13 | K13: 45 | L13: 14 | M13: 31 | N13: 28 | O13: 3 | P13: 25 | Q13: 44 | R13: 12 | S13: 32 | T13: 0 | U13: 0
A14: 新竹縣 | B14: 74 | C14: 12 | D14: 62 | E14: 3 | F14: 1 | G14: 2 | H14: 17 | I14: 1 | J14: 16 | K14: 24 | L14: 4 | M14: 20 | N14: 12 | O14: 1 | P14: 11 | Q14: 18 | R14: 5 | S14: 13 | T14: 0 | U14: 1
A15: 苗栗縣 | B15: 129 | C15: 19 | D15: 110 | E15: 3 | F15: 1 | G15: 2 | H15: 19 | I15: 0 | J15: 19 | K15: 50 | L15: 9 | M15: 41 | N15: 21 | O15: 4 | P15: 17 | Q15: 36 | R15: 5 | S15: 31 | T15: 0 | U15: 0
A16: 彰化縣 | B16: 244 | C16: 28 | D16: 216 | E16: 19 | F16: 1 | G16: 18 | H16: 39 | I16: 4 | J16: 35 | K16: 63 | L16: 7 | M16: 56 | N16: 50 | O16: 10 | P16: 40 | Q16: 73 | R16: 6 | S16: 67 | T16: 0 | U16: 0
A17: 南投縣 | B17: 143 | C17: 28 | D17: 115 | E17: 5 | F17: 0 | G17: 5 | H17: 29 | I17: 6 | J17: 23 | K17: 47 | L17: 5 | M17: 42 | N17: 28 | O17: 6 | P17: 22 | Q17: 34 | R17: 11 | S17: 23 | T17: 0 | U17: 0
... A28: 連江縣 | B28: 2 | C28: 0 | D28: 2 | E28: 0 | F28: 0 | G28: 0 | H28: 1 | I28: 0 | J28: 1 | K28: 0 | L28: 0 | M28: 0 | N28: 0 | O28: 0 | P28: 0 | Q28: 1 | R28: 0 | S28: 1 | T28: 0 | U28: 0
A29: 資料來源：直轄市、縣(市)政府。

Sheet 104
A1: 2-02 領有社會工作師執照人數
A2: 民國104年底
U3: 單位：人
A4: 區域別 | B4: 總計 | E4: 未滿25歲 | H4: 25至29歲 | K4: 30至34歲 | N4: 35至39歲 | Q4: 40歲以上 | T4: 原住民身分
B5: 計 | C5: 男 | D5: 女 | E5: 計 | F5: 男 | G5: 女 | H5: 計 | I5: 男 | J5: 女 | K5: 計 | L5: 男 | M5: 女 | N5: 計 | O5: 男 | P5: 女 | Q5: 計 | R5: 男 | S5: 女 | T5: 男 | U5: 女
A6: 104年底,2015 | B6: 5107 | C6: 731 | D6: 4376 | E6: 142 | F6: 12 | G6: 130 | H6: 868 | I6: 124 | J6: 744 | K6: 1375 | L6: 206 | M6: 1169 | N6: 1073 | O6: 177 | P6: 896 | Q6: 1649 | R6: 212 | S6: 1437 | T6: 7 | U6: 12
A7: 新北市 | B7: 630 | C7: 83 | D7: 547 | E7: 21 | F7: 1 | G7: 20 | H7: 118 | I7: 17 | J7: 101 | K7: 188 | L7: 23 | M7: 165 | N7: 132 | O7: 22 | P7: 110 | Q7: 171 | R7: 20 | S7: 151 | T7: 2 | U7: 0
A8: 臺北市 | B8: 813 | C8: 97 | D8: 716 | E8: 16 | F8: 0 | G8: 16 | H8: 127 | I8: 28 | J8: 99 | K8: 176 | L8: 18 | M8: 158 | N8: 173 | O8: 18 | P8: 155 | Q8: 321 | R8: 33 | S8: 288 | T8: 1 | U8: 0
A9: 桃園市 | B9: 372 | C9: 52 | D9: 320 | E9: 11 | F9: 1 | G9: 10 | H9: 73 | I9: 9 | J9: 64 | K9: 123 | L9: 15 | M9: 108 | N9: 78 | O9: 13 | P9: 65 | Q9: 87 | R9: 14 | S9: 73 | T9: 0 | U9: 0
A10: 臺中市 | B10: 597 | C10: 84 | D10: 513 | E10: 12 | F10: 2 | G10: 10 | H10: 138 | I10: 15 | J10: 123 | K10: 177 | L10: 26 | M10: 151 | N10: 116 | O10: 19 | P10: 97 | Q10: 154 | R10: 22 | S10: 132 | T10: 2 | U10: 4
A11: 臺南市 | B11: 408 | C11: 52 | D11: 356 | E11: 11 | F11: 0 | G11: 11 | H11: 62 | I11: 7 | J11: 55 | K11: 112 | L11: 15 | M11: 97 | N11: 84 | O11: 14 | P11: 70 | Q11: 139 | R11: 16 | S11: 123 | T11: 0 | U11: 0
A12: 高雄市 | B12: 641 | C12: 96 | D12: 545 | E12: 4 | F12: 1 | G12: 3 | H12: 66 | I12: 10 | J12: 56 | K12: 140 | L12: 26 | M12: 114 | N12: 164 | O12: 31 | P12: 133 | Q12: 267 | R12: 28 | S12: 239 | T12: 0 | U12: 1
A13: 宜蘭縣 | B13: 141 | C13: 36 | D13: 105 | E13: 6 | F13: 1 | G13: 5 | H13: 19 | I13: 6 | J13: 13 | K13: 45 | L13: 12 | M13: 33 | N13: 28 | O13: 4 | P13: 24 | Q13: 43 | R13: 13 | S13: 30 | T13: 0 | U13: 0
A14: 新竹縣 | B14: 60 | C14: 9 | D14: 51 | E14: 0 | F14: 0 | G14: 0 | H14: 11 | I14: 1 | J14: 10 | K14: 20 | L14: 3 | M14: 17 | N14: 11 | O14: 2 | P14: 9 | Q14: 18 | R14: 3 | S14: 15 | T14: 0 | U14: 0
A15: 苗栗縣 | B15: 122 | C15: 21 | D15: 101 | E15: 2 | F15: 1 | G15: 1 | H15: 19 | I15: 1 | J15: 18 | K15: 43 | L15: 9 | M15: 34 | N15: 27 | O15: 6 | P15: 21 | Q15: 31 | R15: 4 | S15: 27 | T15: 0 | U15: 0
A16: 彰化縣 | B16: 219 | C16: 23 | D16: 196 | E16: 12 | F16: 1 | G16: 11 | H16: 43 | I16: 4 | J16: 39 | K16: 60 | L16: 4 | M16: 56 | N16: 46 | O16: 9 | P16: 37 | Q16: 58 | R16: 5 | S16: 53 | T16: 0 | U16: 0
A17: 南投縣 | B17: 126 | C17: 25 | D17: 101 | E17: 7 | F17: 0 | G17: 7 | H17: 23 | I17: 4 | J17: 19 | K17: 44 | L17: 6 | M17: 38 | N17: 21 | O17: 5 | P17: 16 | Q17: 31 | R17: 10 | S17: 21 | T17: 0 | U17: 0
... A28: 連江縣 | B28: 2 | C28: 0 | D28: 2 | E28: 0 | F28: 0 | G28: 0 | H28: 1 | I28: 0 | J28: 1 | K28: 0 | L28: 0 | M28: 0 | N28: 0 | O28: 0 | P28: 0 | Q28: 1 | R28: 0 | S28: 1 | T28: 0 | U28: 0
A29: 資料來源：直轄市、縣(市)政府。

Sheet 103
A1: 2-02 領有社會工作師執照人數
A2: 民國103年底
U3: 單位：人
A4: 區域別 | B4: 總計 | E4: 未滿25歲 | H4: 25至29歲 | K4: 30至34歲 | N4: 35至39歲 | Q4: 40歲以上 | T4: 原住民身分
B5: 計 | C5: 男 | D5: 女 | E5: 計 | F5: 男 | G5: 女 | H5: 計 | I5: 男 | J5: 女 | K5: 計 | L5: 男 | M5: 女 | N5: 計 | O5: 男 | P5: 女 | Q5: 計 | R5: 男 | S5: 女 | T5: 男 | U5: 女
A6: 103年底,2014 | B6: 4471 | C6: 638 | D6: 3833 | E6: 110 | F6: 14 | G6: 96 | H6: 775 | I6: 101 | J6: 674 | K6: 1191 | L6: 187 | M6: 1004 | N6: 920 | O6: 150 | P6: 770 | Q6: 1475 | R6: 186 | S6: 1289 | T6: 4 | U6: 5
A7: 新北市 | B7: 527 | C7: 73 | D7: 454 | E7: 22 | F7: 3 | G7: 19 | H7: 106 | I7: 13 | J7: 93 | K7: 150 | L7: 21 | M7: 129 | N7: 111 | O7: 17 | P7: 94 | Q7: 138 | R7: 19 | S7: 119 | T7: 0 | U7: 0
A8: 臺北市 | B8: 789 | C8: 92 | D8: 697 | E8: 18 | F8: 4 | G8: 14 | H8: 110 | I8: 18 | J8: 92 | K8: 173 | L8: 16 | M8: 157 | N8: 165 | O8: 18 | P8: 147 | Q8: 323 | R8: 36 | S8: 287 | T8: 1 | U8: 0
A9: 臺中市 | B9: 500 | C9: 67 | D9: 433 | E9: 9 | F9: 2 | G9: 7 | H9: 118 | I9: 9 | J9: 109 | K9: 120 | L9: 25 | M9: 95 | N9: 98 | O9: 14 | P9: 84 | Q9: 155 | R9: 17 | S9: 138 | T9: 1 | U9: 1
A10: 臺南市 | B10: 335 | C10: 51 | D10: 284 | E10: 7 | F10: 0 | G10: 7 | H10: 57 | I10: 12 | J10: 45 | K10: 96 | L10: 13 | M10: 83 | N10: 61 | O10: 13 | P10: 48 | Q10: 114 | R10: 13 | S10: 101 | T10: 0 | U10: 0
A11: 高雄市 | B11: 606 | C11: 85 | D11: 521 | E11: 8 | F11: 0 | G11: 8 | H11: 89 | I11: 15 | J11: 74 | K11: 158 | L11: 29 | M11: 129 | N11: 145 | O11: 24 | P11: 121 | Q11: 206 | R11: 17 | S11: 189 | T11: 0 | U11: 1
A12: 宜蘭縣 | B12: 118 | C12: 29 | D12: 89 | E12: 0 | F12: 0 | G12: 0 | H12: 15 | I12: 6 | J12: 9 | K12: 36 | L12: 4 | M12: 32 | N12: 24 | O12: 5 | P12: 19 | Q12: 43 | R12: 14 | S12: 29 | T12: 0 | U12: 0
A13: 桃園縣 | B13: 355 | C13: 47 | D13: 308 | E13: 9 | F13: 2 | G13: 7 | H13: 76 | I13: 4 | J13: 72 | K13: 112 | L13: 14 | M13: 98 | N13: 66 | O13: 12 | P13: 54 | Q13: 92 | R13: 15 | S13: 77 | T13: 0 | U13: 0
A14: 新竹縣 | B14: 50 | C14: 6 | D14: 44 | E14: 3 | F14: 0 | G14: 3 | H14: 4 | I14: 1 | J14: 3 | K14: 19 | L14: 2 | M14: 17 | N14: 8 | O14: 1 | P14: 7 | Q14: 16 | R14: 2 | S14: 14 | T14: 0 | U14: 0
A15: 苗栗縣 | B15: 100 | C15: 17 | D15: 83 | E15: 2 | F15: 0 | G15: 2 | H15: 19 | I15: 3 | J15: 16 | K15: 30 | L15: 5 | M15: 25 | N15: 20 | O15: 5 | P15: 15 | Q15: 29 | R15: 4 | S15: 25 | T15: 0 | U15: 0
A16: 彰化縣 | B16: 183 | C16: 25 | D16: 158 | E16: 6 | F16: 0 | G16: 6 | H16: 40 | I16: 4 | J16: 36 | K16: 45 | L16: 8 | M16: 37 | N16: 41 | O16: 9 | P16: 32 | Q16: 51 | R16: 4 | S16: 47 | T16: 0 | U16: 0
A17: 南投縣 | B17: 104 | C17: 22 | D17: 82 | E17: 8 | F17: 1 | G17: 7 | H17: 20 | I17: 2 | J17: 18 | K17: 29 | L17: 6 | M17: 23 | N17: 19 | O17: 4 | P17: 15 | Q17: 28 | R17: 9 | S17: 19 | T17: 0 | U17: 0
... A28: 連江縣 | B28: 1 | C28: 1 | D28: 0 | E28: 0 | F28: 0 | G28: 0 | H28: 1 | I28: 1 | J28: 0 | K28: 0 | L28: 0 | M28: 0 | N28: 0 | O28: 0 | P28: 0 | Q28: 0 | R28: 0 | S28: 0 | T28: 0 | U28: 0
A29: 資料來源：直轄市、縣(市)政府。

Sheet 102
A1: 2-02 領有社會工作師執照人數
A2: 民國102年底
U3: 單位：人
A4: 區域別 | B4: 總計 | E4: 未滿25歲 | H4: 25至29歲 | K4: 30至34歲 | N4: 35至39歲 | Q4: 40歲以上 | T4: 原住民身分
B5: 計 | C5: 男 | D5: 女 | E5: 計 | F5: 男 | G5: 女 | H5: 計 | I5: 男 | J5: 女 | K5: 計 | L5: 男 | M5: 女 | N5: 計 | O5: 男 | P5: 女 | Q5: 計 | R5: 男 | S5: 女 | T5: 男 | U5: 女
A6: 102年底,2013 | B6: 3837 | C6: 521 | D6: 3316 | E6: 86 | F6: 8 | G6: 78 | H6: 744 | I6: 90 | J6: 654 | K6: 1047 | L6: 153 | M6: 894 | N6: 709 | O6: 104 | P6: 605 | Q6: 1251 | R6: 166 | S6: 1085 | T6: 3 | U6: 3
A7: 新北市 | B7: 430 | C7: 59 | D7: 371 | E7: 9 | F7: 0 | G7: 9 | H7: 90 | I7: 9 | J7: 81 | K7: 123 | L7: 19 | M7: 104 | N7: 94 | O7: 12 | P7: 82 | Q7: 114 | R7: 19 | S7: 95 | T7: 0 | U7: 0
A8: 臺北市 | B8: 669 | C8: 73 | D8: 596 | E8: 13 | F8: 2 | G8: 11 | H8: 92 | I8: 15 | J8: 77 | K8: 153 | L8: 9 | M8: 144 | N8: 138 | O8: 15 | P8: 123 | Q8: 273 | R8: 32 | S8: 241 | T8: 0 | U8: 0
A9: 臺中市 | B9: 471 | C9: 53 | D9: 418 | E9: 25 | F9: 2 | G9: 23 | H9: 127 | I9: 11 | J9: 116 | K9: 125 | L9: 20 | M9: 105 | N9: 70 | O9: 7 | P9: 63 | Q9: 124 | R9: 13 | S9: 111 | T9: 0 | U9: 0
A10: 臺南市 | B10: 264 | C10: 49 | D10: 215 | E10: 7 | F10: 2 | G10: 5 | H10: 39 | I10: 9 | J10: 30 | K10: 79 | L10: 14 | M10: 65 | N10: 48 | O10: 11 | P10: 37 | Q10: 91 | R10: 13 | S10: 78 | T10: 0 | U10: 0
A11: 高雄市 | B11: 522 | C11: 74 | D11: 448 | E11: 3 | F11: 0 | G11: 3 | H11: 94 | I11: 16 | J11: 78 | K11: 143 | L11: 23 | M11: 120 | N11: 105 | O11: 19 | P11: 86 | Q11: 177 | R11: 16 | S11: 161 | T11: 0 | U11: 1
A12: 宜蘭縣 | B12: 113 | C12: 26 | D12: 87 | E12: 3 | F12: 0 | G12: 3 | H12: 24 | I12: 5 | J12: 19 | K12: 29 | L12: 7 | M12: 22 | N12: 21 | O12: 4 | P12: 17 | Q12: 36 | R12: 10 | S12: 26 | T12: 0 | U12: 0
A13: 桃園縣 | B13: 290 | C13: 42 | D13: 248 | E13: 5 | F13: 1 | G13: 4 | H13: 76 | I13: 8 | J13: 68 | K13: 89 | L13: 12 | M13: 77 | N13: 44 | O13: 9 | P13: 35 | Q13: 76 | R13: 12 | S13: 64 | T13: 1 | U13: 0
A14: 新竹縣 | B14: 48 | C14: 6 | D14: 42 | E14: 2 | F14: 0 | G14: 2 | H14: 6 | I14: 0 | J14: 6 | K14: 16 | L14: 1 | M14: 15 | N14: 10 | O14: 1 | P14: 9 | Q14: 14 | R14: 4 | S14: 10 | T14: 0 | U14: 0
A15: 苗栗縣 | B15: 85 | C15: 14 | D15: 71 | E15: 0 | F15: 0 | G15: 0 | H15: 14 | I15: 2 | J15: 12 | K15: 24 | L15: 4 | M15: 20 | N15: 19 | O15: 4 | P15: 15 | Q15: 28 | R15: 4 | S15: 24 | T15: 0 | U15: 0
A16: 彰化縣 | B16: 162 | C16: 15 | D16: 147 | E16: 2 | F16: 0 | G16: 2 | H16: 37 | I16: 3 | J16: 34 | K16: 44 | L16: 4 | M16: 40 | N16: 33 | O16: 5 | P16: 28 | Q16: 46 | R16: 3 | S16: 43 | T16: 0 | U16: 0
A17: 南投縣 | B17: 81 | C17: 16 | D17: 65 | E17: 7 | F17: 0 | G17: 7 | H17: 23 | I17: 2 | J17: 21 | K17: 20 | L17: 4 | M17: 16 | N17: 9 | O17: 2 | P17: 7 | Q17: 22 | R17: 8 | S17: 14 | T17: 0 | U17: 0
... A28: 連江縣 | B28: 1 | C28: 1 | D28: 0 | E28: 0 | F28: 0 | G28: 0 | H28: 1 | I28: 1 | J28: 0 | K28: 0 | L28: 0 | M28: 0 | N28: 0 | O28: 0 | P28: 0 | Q28: 0 | R28: 0 | S28: 0 | T28: 0 | U28: 0
A29: 資料來源：直轄市、縣(市)政府。

Sheet 101
A1: 2-02 領有社會工作師執照人數
A2: 民國101年底
A4: 區域別 | B4: 總計 | E4: 未滿25歲 | H4: 25至29歲 | K4: 30至34歲 | N4: 35至39歲 | Q4: 40歲以上 | T4: 原住民身分
B5: 計 | C5: 男 | D5: 女 | E5: 計 | F5: 男 | G5: 女 | H5: 計 | I5: 男 | J5: 女 | K5: 計 | L5: 男 | M5: 女 | N5: 計 | O5: 男 | P5: 女 | Q5: 計 | R5: 男 | S5: 女 | T5: 男 | U5: 女
A6: 101年底,2012 | B6: 3112 | C6: 398 | D6: 2714 | E6: 75 | F6: 5 | G6: 70 | H6: 593 | I6: 67 | J6: 526 | K6: 782 | L6: 119 | M6: 663 | N6: 612 | O6: 74 | P6: 538 | Q6: 1050 | R6: 133 | S6: 917 | T6: 2 | U6: 3
A7: 新北市 | B7: 372 | C7: 52 | D7: 320 | E7: 12 | F7: 0 | G7: 12 | H7: 82 | I7: 10 | J7: 72 | K7: 101 | L7: 18 | M7: 83 | N7: 83 | O7: 7 | P7: 76 | Q7: 94 | R7: 17 | S7: 77 | T7: 0 | U7: 0
A8: 臺北市 | B8: 579 | C8: 52 | D8: 527 | E8: 14 | F8: 1 | G8: 13 | H8: 73 | I8: 6 | J8: 67 | K8: 122 | L8: 12 | M8: 110 | N8: 133 | O8: 11 | P8: 122 | Q8: 237 | R8: 22 | S8: 215 | T8: 0 | U8: 0
A9: 臺中市 | B9: 345 | C9: 33 | D9: 312 | E9: 9 | F9: 0 | G9: 9 | H9: 81 | I9: 4 | J9: 77 | K9: 92 | L9: 14 | M9: 78 | N9: 56 | O9: 6 | P9: 50 | Q9: 107 | R9: 9 | S9: 98 | T9: 0 | U9: 0
A10: 臺南市 | B10: 214 | C10: 38 | D10: 176 | E10: 4 | F10: 1 | G10: 3 | H10: 41 | I10: 8 | J10: 33 | K10: 54 | L10: 10 | M10: 44 | N10: 34 | O10: 6 | P10: 28 | Q10: 81 | R10: 13 | S10: 68 | T10: 0 | U10: 0
A11: 高雄市 | B11: 450 | C11: 54 | D11: 396 | E11: 4 | F11: 0 | G11: 4 | H11: 69 | I11: 9 | J11: 60 | K11: 125 | L11: 20 | M11: 105 | N11: 100 | O11: 14 | P11: 86 | Q11: 152 | R11: 11 | S11: 141 | T11: 0 | U11: 1
A12: 宜蘭縣 | B12: 86 | C12: 20 | D12: 66 | E12: 2 | F12: 0 | G12: 2 | H12: 16 | I12: 2 | J12: 14 | K12: 20 | L12: 5 | M12: 15 | N12: 17 | O12: 3 | P12: 14 | Q12: 31 | R12: 10 | S12: 21 | T12: 0 | U12: 0
A13: 桃園縣 | B13: 224 | C13: 40 | D13: 184 | E13: 6 | F13: 0 | G13: 6 | H13: 54 | I13: 9 | J13: 45 | K13: 58 | L13: 11 | M13: 47 | N13: 37 | O13: 8 | P13: 29 | Q13: 69 | R13: 12 | S13: 57 | T13: 0 | U13: 0
A14: 新竹縣 | B14: 21 | C14: 2 | D14: 19 | E14: 0 | F14: 0 | G14: 0 | H14: 3 | I14: 0 | J14: 3 | K14: 6 | L14: 0 | M14: 6 | N14: 6 | O14: 1 | P14: 5 | Q14: 6 | R14: 1 | S14: 5 | T14: 0 | U14: 0
A15: 苗栗縣 | B15: 65 | C15: 7 | D15: 58 | E15: 0 | F15: 0 | G15: 0 | H15: 9 | I15: 2 | J15: 7 | K15: 17 | L15: 2 | M15: 15 | N15: 11 | O15: 0 | P15: 11 | Q15: 28 | R15: 3 | S15: 25 | T15: 0 | U15: 0
A16: 彰化縣 | B16: 143 | C16: 13 | D16: 130 | E16: 5 | F16: 0 | G16: 5 | H16: 38 | I16: 3 | J16: 35 | K16: 31 | L16: 4 | M16: 27 | N16: 28 | O16: 3 | P16: 25 | Q16: 41 | R16: 3 | S16: 38 | T16: 0 | U16: 0
A17: 南投縣 | B17: 72 | C17: 13 | D17: 59 | E17: 4 | F17: 0 | G17: 4 | H17: 21 | I17: 3 | J17: 18 | K17: 21 | L17: 3 | M17: 18 | N17: 8 | O17: 2 | P17: 6 | Q17: 18 | R17: 5 | S17: 13 | T17: 0 | U17: 0
... A28: 連江縣 | B28: 0 | C28: 0 | D28: 0 | E28: 0 | F28: 0 | G28: 0 | H28: 0 | I28: 0 | J28: 0 | K28: 0 | L28: 0 | M28: 0 | N28: 0 | O28: 0 | P28: 0 | Q28: 0 | R28: 0 | S28: 0 | T28: 0 | U28: 0
A29: 資料來源：直轄市、縣(市)政府。

Sheet 100
A1: 2-02 領有社會工作師執照人數
A2: 民國100年底
A4: 區域別 | B4: 總計 | E4: 未滿25歲 | H4: 25至29歲 | K4: 30至34歲 | N4: 35至39歲 | Q4: 40歲以上 | T4: 原住民身分
B5: 計 | C5: 男 | D5: 女 | E5: 計 | F5: 男 | G5: 女 | H5: 計 | I5: 男 | J5: 女 | K5: 計 | L5: 男 | M5: 女 | N5: 計 | O5: 男 | P5: 女 | Q5: 計 | R5: 男 | S5: 女 | T5: 男 | U5: 女
A6: 100年底,2011 | B6: 2115 | C6: 239 | D6: 1876 | E6: 25 | F6: 1 | G6: 24 | H6: 325 | I6: 27 | J6: 298 | K6: 468 | L6: 74 | M6: 394 | N6: 512 | O6: 47 | P6: 465 | Q6: 785 | R6: 90 | S6: 695 | T6: 0 | U6: 0
A7: 新北市 | B7: 250 | C7: 38 | D7: 212 | E7: 8 | F7: 0 | G7: 8 | H7: 57 | I7: 7 | J7: 50 | K7: 58 | L7: 14 | M7: 44 | N7: 59 | O7: 8 | P7: 51 | Q7: 68 | R7: 9 | S7: 59 | T7: 0 | U7: 0
A8: 臺北市 | B8: 471 | C8: 43 | D8: 428 | E8: 7 | F8: 1 | G8: 6 | H8: 53 | I8: 5 | J8: 48 | K8: 92 | L8: 10 | M8: 82 | N8: 131 | O8: 8 | P8: 123 | Q8: 188 | R8: 19 | S8: 169 | T8: 0 | U8: 0
A9: 臺中市 | B9: 255 | C9: 13 | D9: 242 | E9: 3 | F9: 0 | G9: 3 | H9: 29 | I9: 1 | J9: 28 | K9: 74 | L9: 3 | M9: 71 | N9: 65 | O9: 5 | P9: 60 | Q9: 84 | R9: 4 | S9: 80 | T9: 0 | U9: 0
A10: 臺南市 | B10: 174 | C10: 25 | D10: 149 | E10: 1 | F10: 0 | G10: 1 | H10: 22 | I10: 3 | J10: 19 | K10: 39 | L10: 7 | M10: 32 | N10: 33 | O10: 3 | P10: 30 | Q10: 79 | R10: 12 | S10: 67 | T10: 0 | U10: 0
A11: 高雄市 | B11: 319 | C11: 34 | D11: 285 | E11: 1 | F11: 0 | G11: 1 | H11: 48 | I11: 4 | J11: 44 | K11: 75 | L11: 15 | M11: 60 | N11: 82 | O11: 8 | P11: 74 | Q11: 113 | R11: 7 | S11: 106 | T11: 0 | U11: 0
A12: 宜蘭縣 | B12: 52 | C12: 13 | D12: 39 | E12: 0 | F12: 0 | G12: 0 | H12: 9 | I12: 0 | J12: 9 | K12: 5 | L12: 2 | M12: 3 | N12: 10 | O12: 2 | P12: 8 | Q12: 28 | R12: 9 | S12: 19 | T12: 0 | U12: 0
A13: 桃園縣 | B13: 140 | C13: 22 | D13: 118 | E13: 2 | F13: 0 | G13: 2 | H13: 29 | I13: 4 | J13: 25 | K13: 26 | L13: 5 | M13: 21 | N13: 32 | O13: 6 | P13: 26 | Q13: 51 | R13: 7 | S13: 44 | T13: 0 | U13: 0
A14: 新竹縣 | B14: 10 | C14: 1 | D14: 9 | E14: 0 | F14: 0 | G14: 0 | H14: 3 | I14: 0 | J14: 3 | K14: 0 | L14: 0 | M14: 0 | N14: 1 | O14: 0 | P14: 1 | Q14: 6 | R14: 1 | S14: 5 | T14: 0 | U14: 0
A15: 苗栗縣 | B15: 36 | C15: 5 | D15: 31 | E15: 0 | F15: 0 | G15: 0 | H15: 5 | I15: 1 | J15: 4 | K15: 10 | L15: 1 | M15: 9 | N15: 9 | O15: 1 | P15: 8 | Q15: 12 | R15: 2 | S15: 10 | T15: 0 | U15: 0
A16: 彰化縣 | B16: 77 | C16: 5 | D16: 72 | E16: 0 | F16: 0 | G16: 0 | H16: 9 | I16: 0 | J16: 9 | K16: 17 | L16: 3 | M16: 14 | N16: 18 | O16: 1 | P16: 17 | Q16: 33 | R16: 1 | S16: 32 | T16: 0 | U16: 0
A17: 南投縣 | B17: 42 | C17: 8 | D17: 34 | E17: 0 | F17: 0 | G17: 0 | H17: 20 | I17: 1 | J17: 19 | K17: 9 | L17: 3 | M17: 6 | N17: 5 | O17: 2 | P17: 3 | Q17: 8 | R17: 2 | S17: 6 | T17: 0 | U17: 0
... A28: 連江縣 | B28: 0 | C28: 0 | D28: 0 | E28: 0 | F28: 0 | G28: 0 | H28: 0 | I28: 0 | J28: 0 | K28: 0 | L28: 0 | M28: 0 | N28: 0 | O28: 0 | P28: 0 | Q28: 0 | R28: 0 | S28: 0 | T28: 0 | U28: 0
A29: 資料來源：直轄市、縣(市)政府。

Sheet 99
A1: 2-02 領有社會工作師執照人數
A2: 民國99年底
A4: 區域別 | B4: 總計 | E4: 未滿25歲 | H4: 25至29歲 | K4: 30至34歲 | N4: 35至39歲 | Q4: 40歲以上 | T4: 原住民身分
B5: 計 | C5: 男 | D5: 女 | E5: 計 | F5: 男 | G5: 女 | H5: 計 | I5: 男 | J5: 女 | K5: 計 | L5: 男 | M5: 女 | N5: 計 | O5: 男 | P5: 女 | Q5: 計 | R5: 男 | S5: 女 | T5: 男 | U5: 女
A6: 99年底,2010 | B6: 1817 | C6: 211 | D6: 1606 | E6: 13 | F6: 1 | G6: 12 | H6: 276 | I6: 32 | J6: 244 | K6: 418 | L6: 52 | M6: 366 | N6: 466 | O6: 51 | P6: 415 | Q6: 644 | R6: 75 | S6: 569 | T6: 0 | U6: 0
A7: 臺北縣 | B7: 211 | C7: 29 | D7: 182 | E7: 2 | F7: 0 | G7: 2 | H7: 45 | I7: 5 | J7: 40 | K7: 51 | L7: 9 | M7: 42 | N7: 52 | O7: 6 | P7: 46 | Q7: 61 | R7: 9 | S7: 52 | T7: 0 | U7: 0
A8: 宜蘭縣 | B8: 50 | C8: 13 | D8: 37 | E8: 1 | F8: 0 | G8: 1 | H8: 8 | I8: 0 | J8: 8 | K8: 10 | L8: 4 | M8: 6 | N8: 14 | O8: 4 | P8: 10 | Q8: 17 | R8: 5 | S8: 12 | T8: 0 | U8: 0
A9: 桃園縣 | B9: 115 | C9: 17 | D9: 98 | E9: 0 | F9: 0 | G9: 0 | H9: 22 | I9: 5 | J9: 17 | K9: 27 | L9: 4 | M9: 23 | N9: 25 | O9: 4 | P9: 21 | Q9: 41 | R9: 4 | S9: 37 | T9: 0 | U9: 0
A10: 新竹縣 | B10: 11 | C10: 2 | D10: 9 | E10: 0 | F10: 0 | G10: 0 | H10: 3 | I10: 0 | J10: 3 | K10: 3 | L10: 1 | M10: 2 | N10: 0 | O10: 0 | P10: 0 | Q10: 5 | R10: 1 | S10: 4 | T10: 0 | U10: 0
A11: 苗栗縣 | B11: 31 | C11: 4 | D11: 27 | E11: 0 | F11: 0 | G11: 0 | H11: 5 | I11: 1 | J11: 4 | K11: 8 | L11: 1 | M11: 7 | N11: 6 | O11: 0 | P11: 6 | Q11: 12 | R11: 2 | S11: 10 | T11: 0 | U11: 0
A12: 臺中縣 | B12: 75 | C12: 4 | D12: 71 | E12: 1 | F12: 0 | G12: 1 | H12: 9 | I12: 1 | J12: 8 | K12: 22 | L12: 0 | M12: 22 | N12: 19 | O12: 2 | P12: 17 | Q12: 24 | R12: 1 | S12: 23 | T12: 0 | U12: 0
A13: 彰化縣 | B13: 67 | C13: 5 | D13: 62 | E13: 0 | F13: 0 | G13: 0 | H13: 11 | I13: 1 | J13: 10 | K13: 17 | L13: 3 | M13: 14 | N13: 9 | O13: 1 | P13: 8 | Q13: 30 | R13: 0 | S13: 30 | T13: 0 | U13: 0
A14: 南投縣 | B14: 34 | C14: 6 | D14: 28 | E14: 0 | F14: 0 | G14: 0 | H14: 14 | I14: 1 | J14: 13 | K14: 6 | L14: 1 | M14: 5 | N14: 6 | O14: 3 | P14: 3 | Q14: 8 | R14: 1 | S14: 7 | T14: 0 | U14: 0
A15: 雲林縣 | B15: 48 | C15: 6 | D15: 42 | E15: 2 | F15: 0 | G15: 2 | H15: 2 | I15: 1 | J15: 1 | K15: 6 | L15: 1 | M15: 5 | N15: 16 | O15: 3 | P15: 13 | Q15: 22 | R15: 1 | S15: 21 | T15: 0 | U15: 0
A16: 嘉義縣 | B16: 16 | C16: 1 | D16: 15 | E16: 0 | F16: 0 | G16: 0 | H16: 1 | I16: 0 | J16: 1 | K16: 1 | L16: 0 | M16: 1 | N16: 4 | O16: 0 | P16: 4 | Q16: 10 | R16: 1 | S16: 9 | T16: 0 | U16: 0
A17: 臺南縣 | B17: 103 | C17: 14 | D17: 89 | E17: 0 | F17: 0 | G17: 0 | H17: 12 | I17: 2 | J17: 10 | K17: 21 | L17: 3 | M17: 18 | N17: 29 | O17: 5 | P17: 24 | Q17: 41 | R17: 4 | S17: 37 | T17: 0 | U17: 0
... A31: 連江縣 | B31: 0 | C31: 0 | D31: 0 | E31: 0 | F31: 0 | G31: 0 | H31: 0 | I31: 0 | J31: 0 | K31: 0 | L31: 0 | M31: 0 | N31: 0 | O31: 0 | P31: 0 | Q31: 0 | R31: 0 | S31: 0 | T31: 0 | U31: 0
A32: 資料來源：直轄市、縣(市)政府。

Sheet 98
A1: 2-02 領有社會工作師執照人數
A2: 民國98年底
A4: 區域別 | B4: 總計 | E4: 未滿25歲 | H4: 25至29歲 | K4: 30至34歲 | N4: 35至39歲 | Q4: 40歲以上 | T4: 原住民身分
B5: 計 | C5: 男 | D5: 女 | E5: 計 | F5: 男 | G5: 女 | H5: 計 | I5: 男 | J5: 女 | K5: 計 | L5: 男 | M5: 女 | N5: 計 | O5: 男 | P5: 女 | Q5: 計 | R5: 男 | S5: 女 | T5: 男 | U5: 女
A6: 98年底,2009 | B6: 1599 | C6: 163 | D6: 1436 | E6: 15 | F6: 1 | G6: 14 | H6: 197 | I6: 19 | J6: 178 | K6: 378 | L6: 36 | M6: 342 | N6: 439 | O6: 43 | P6: 396 | Q6: 570 | R6: 64 | S6: 506 | T6: 0 | U6: 0
A7: 臺北縣 | B7: 193 | C7: 20 | D7: 173 | E7: 4 | F7: 0 | G7: 4 | H7: 33 | I7: 2 | J7: 31 | K7: 58 | L7: 5 | M7: 53 | N7: 63 | O7: 8 | P7: 55 | Q7: 35 | R7: 5 | S7: 30 | T7: 0 | U7: 0
A8: 宜蘭縣 | B8: 37 | C8: 7 | D8: 30 | E8: 1 | F8: 0 | G8: 1 | H8: 6 | I8: 0 | J8: 6 | K8: 7 | L8: 1 | M8: 6 | N8: 9 | O8: 2 | P8: 7 | Q8: 14 | R8: 4 | S8: 10 | T8: 0 | U8: 0
A9: 桃園縣 | B9: 97 | C9: 15 | D9: 82 | E9: 1 | F9: 0 | G9: 1 | H9: 14 | I9: 4 | J9: 10 | K9: 25 | L9: 4 | M9: 21 | N9: 22 | O9: 4 | P9: 18 | Q9: 35 | R9: 3 | S9: 32 | T9: 0 | U9: 0
A10: 新竹縣 | B10: 11 | C10: 3 | D10: 8 | E10: 1 | F10: 0 | G10: 1 | H10: 1 | I10: 0 | J10: 1 | K10: 3 | L10: 1 | M10: 2 | N10: 1 | O10: 0 | P10: 1 | Q10: 5 | R10: 2 | S10: 3 | T10: 0 | U10: 0
A11: 苗栗縣 | B11: 25 | C11: 4 | D11: 21 | E11: 1 | F11: 0 | G11: 1 | H11: 4 | I11: 1 | J11: 3 | K11: 7 | L11: 1 | M11: 6 | N11: 3 | O11: 0 | P11: 3 | Q11: 10 | R11: 2 | S11: 8 | T11: 0 | U11: 0
A12: 臺中縣 | B12: 64 | C12: 3 | D12: 61 | E12: 1 | F12: 0 | G12: 1 | H12: 5 | I12: 0 | J12: 5 | K12: 19 | L12: 0 | M12: 19 | N12: 23 | O12: 2 | P12: 21 | Q12: 16 | R12: 1 | S12: 15 | T12: 0 | U12: 0
A13: 彰化縣 | B13: 55 | C13: 1 | D13: 54 | E13: 0 | F13: 0 | G13: 0 | H13: 9 | I13: 0 | J13: 9 | K13: 11 | L13: 1 | M13: 10 | N13: 8 | O13: 0 | P13: 8 | Q13: 27 | R13: 0 | S13: 27 | T13: 0 | U13: 0
A14: 南投縣 | B14: 30 | C14: 5 | D14: 25 | E14: 0 | F14: 0 | G14: 0 | H14: 6 | I14: 0 | J14: 6 | K14: 7 | L14: 1 | M14: 6 | N14: 6 | O14: 2 | P14: 4 | Q14: 11 | R14: 2 | S14: 9 | T14: 0 | U14: 0
A15: 雲林縣 | B15: 40 | C15: 5 | D15: 35 | E15: 1 | F15: 0 | G15: 1 | H15: 3 | I15: 1 | J15: 2 | K15: 7 | L15: 2 | M15: 5 | N15: 10 | O15: 1 | P15: 9 | Q15: 19 | R15: 1 | S15: 18 | T15: 0 | U15: 0
A16: 嘉義縣 | B16: 14 | C16: 1 | D16: 13 | E16: 0 | F16: 0 | G16: 0 | H16: 1 | I16: 0 | J16: 1 | K16: 2 | L16: 0 | M16: 2 | N16: 2 | O16: 0 | P16: 2 | Q16: 9 | R16: 1 | S16: 8 | T16: 0 | U16: 0
A17: 臺南縣 | B17: 83 | C17: 10 | D17: 73 | E17: 0 | F17: 0 | G17: 0 | H17: 10 | I17: 1 | J17: 9 | K17: 17 | L17: 1 | M17: 16 | N17: 19 | O17: 5 | P17: 14 | Q17: 37 | R17: 3 | S17: 34 | T17: 0 | U17: 0
... A31: 連江縣 | B31: 0 | C31: 0 | D31: 0 | E31: 0 | F31: 0 | G31: 0 | H31: 0 | I31: 0 | J31: 0 | K31: 0 | L31: 0 | M31: 0 | N31: 0 | O31: 0 | P31: 0 | Q31: 0 | R31: 0 | S31: 0 | T31: 0 | U31: 0
A32: 資料來源：直轄市、縣(市)政府。

Sheet 97
A1: 2-02 領有社會工作師執照人數
A2: 民國97年底
A4: 區域別 | B4: 總計 | E4: 未滿25歲 | H4: 25至29歲 | K4: 30至34歲 | N4: 35至39歲 | Q4: 40歲以上
B5: 計 | C5: 男 | D5: 女 | E5: 計 | F5: 男 | G5: 女 | H5: 計 | I5: 男 | J5: 女 | K5: 計 | L5: 男 | M5: 女 | N5: 計 | O5: 男 | P5: 女 | Q5: 計 | R5: 男 | S5: 女
A6: 97年底,2008 | B6: 1286 | C6: 120 | D6: 1166 | E6: 5 | F6: 1 | G6: 4 | H6: 117 | I6: 8 | J6: 109 | K6: 297 | L6: 21 | M6: 276 | N6: 406 | O6: 42 | P6: 364 | Q6: 461 | R6: 48 | S6: 413
A7: 臺北縣 | B7: 135 | C7: 15 | D7: 120 | E7: 0 | F7: 0 | G7: 0 | H7: 14 | I7: 1 | J7: 13 | K7: 45 | L7: 2 | M7: 43 | N7: 50 | O7: 9 | P7: 41 | Q7: 26 | R7: 3 | S7: 23
A8: 宜蘭縣 | B8: 27 | C8: 5 | D8: 22 | E8: 0 | F8: 0 | G8: 0 | H8: 0 | I8: 0 | J8: 0 | K8: 6 | L8: 0 | M8: 6 | N8: 7 | O8: 1 | P8: 6 | Q8: 14 | R8: 4 | S8: 10
A9: 桃園縣 | B9: 81 | C9: 8 | D9: 73 | E9: 1 | F9: 1 | G9: 0 | H9: 16 | I9: 1 | J9: 15 | K9: 15 | L9: 2 | M9: 13 | N9: 27 | O9: 4 | P9: 23 | Q9: 22 | R9: 0 | S9: 22
A10: 新竹縣 | B10: 6 | C10: 2 | D10: 4 | E10: 0 | F10: 0 | G10: 0 | H10: 0 | I10: 0 | J10: 0 | K10: 2 | L10: 0 | M10: 2 | N10: 1 | O10: 1 | P10: 0 | Q10: 3 | R10: 1 | S10: 2
A11: 苗栗縣 | B11: 28 | C11: 4 | D11: 24 | E11: 0 | F11: 0 | G11: 0 | H11: 4 | I11: 0 | J11: 4 | K11: 4 | L11: 1 | M11: 3 | N11: 10 | O11: 2 | P11: 8 | Q11: 10 | R11: 1 | S11: 9
A12: 臺中縣 | B12: 52 | C12: 3 | D12: 49 | E12: 0 | F12: 0 | G12: 0 | H12: 3 | I12: 0 | J12: 3 | K12: 12 | L12: 0 | M12: 12 | N12: 25 | O12: 2 | P12: 23 | Q12: 12 | R12: 1 | S12: 11
A13: 彰化縣 | B13: 42 | C13: 1 | D13: 41 | E13: 1 | F13: 0 | G13: 1 | H13: 2 | I13: 0 | J13: 2 | K13: 4 | L13: 0 | M13: 4 | N13: 12 | O13: 0 | P13: 12 | Q13: 23 | R13: 1 | S13: 22
A14: 南投縣 | B14: 23 | C14: 6 | D14: 17 | E14: 0 | F14: 0 | G14: 0 | H14: 4 | I14: 0 | J14: 4 | K14: 7 | L14: 2 | M14: 5 | N14: 7 | O14: 4 | P14: 3 | Q14: 5 | R14: 0 | S14: 5
A15: 雲林縣 | B15: 35 | C15: 3 | D15: 32 | E15: 0 | F15: 0 | G15: 0 | H15: 2 | I15: 0 | J15: 2 | K15: 9 | L15: 2 | M15: 7 | N15: 9 | O15: 0 | P15: 9 | Q15: 15 | R15: 1 | S15: 14
A16: 嘉義縣 | B16: 19 | C16: 1 | D16: 18 | E16: 2 | F16: 0 | G16: 2 | H16: 0 | I16: 0 | J16: 0 | K16: 1 | L16: 0 | M16: 1 | N16: 6 | O16: 0 | P16: 6 | Q16: 10 | R16: 1 | S16: 9
A17: 臺南縣 | B17: 73 | C17: 9 | D17: 64 | E17: 0 | F17: 0 | G17: 0 | H17: 6 | I17: 0 | J17: 6 | K17: 15 | L17: 1 | M17: 14 | N17: 17 | O17: 5 | P17: 12 | Q17: 35 | R17: 3 | S17: 32
... A31: 連江縣 | B31: 0 | C31: 0 | D31: 0 | E31: 0 | F31: 0 | G31: 0 | H31: 0 | I31: 0 | J31: 0 | K31: 0 | L31: 0 | M31: 0 | N31: 0 | O31: 0 | P31: 0 | Q31: 0 | R31: 0 | S31: 0
A32: 資料來源：直轄市、縣(市)政府。

Sheet 96
A1: 2-02 領有社會工作師執照人數
A2: 民國96年底
A4: 區域別 | B4: 總計 | E4: 未滿25歲 | H4: 25至29歲 | K4: 30至34歲 | N4: 35至39歲 | Q4: 40歲以上
B5: 計 | C5: 男 | D5: 女 | E5: 計 | F5: 男 | G5: 女 | H5: 計 | I5: 男 | J5: 女 | K5: 計 | L5: 男 | M5: 女 | N5: 計 | O5: 男 | P5: 女 | Q5: 計 | R5: 男 | S5: 女
A6: 96年底,2007 | B6: 1208 | C6: 111 | D6: 1097 | E6: 5 | F6: 1 | G6: 4 | H6: 116 | I6: 10 | J6: 106 | K6: 314 | L6: 14 | M6: 300 | N6: 387 | O6: 45 | P6: 342 | Q6: 386 | R6: 41 | S6: 345
A7: 臺北縣 | B7: 127 | C7: 12 | D7: 115 | E7: 0 | F7: 0 | G7: 0 | H7: 17 | I7: 0 | J7: 17 | K7: 46 | L7: 1 | M7: 45 | N7: 40 | O7: 8 | P7: 32 | Q7: 24 | R7: 3 | S7: 21
A8: 宜蘭縣 | B8: 28 | C8: 7 | D8: 21 | E8: 0 | F8: 0 | G8: 0 | H8: 0 | I8: 0 | J8: 0 | K8: 5 | L8: 0 | M8: 5 | N8: 10 | O8: 3 | P8: 7 | Q8: 13 | R8: 4 | S8: 9
A9: 桃園縣 | B9: 69 | C9: 5 | D9: 64 | E9: 3 | F9: 1 | G9: 2 | H9: 11 | I9: 2 | J9: 9 | K9: 12 | L9: 1 | M9: 11 | N9: 23 | O9: 1 | P9: 22 | Q9: 20 | R9: 0 | S9: 20
A10: 新竹縣 | B10: 3 | C10: 2 | D10: 1 | E10: 0 | F10: 0 | G10: 0 | H10: 0 | I10: 0 | J10: 0 | K10: 0 | L10: 0 | M10: 0 | N10: 1 | O10: 1 | P10: 0 | Q10: 2 | R10: 1 | S10: 1
A11: 苗栗縣 | B11: 19 | C11: 2 | D11: 17 | E11: 0 | F11: 0 | G11: 0 | H11: 1 | I11: 0 | J11: 1 | K11: 4 | L11: 0 | M11: 4 | N11: 7 | O11: 1 | P11: 6 | Q11: 7 | R11: 1 | S11: 6
A12: 臺中縣 | B12: 46 | C12: 3 | D12: 43 | E12: 0 | F12: 0 | G12: 0 | H12: 4 | I12: 1 | J12: 3 | K12: 13 | L12: 0 | M12: 13 | N12: 19 | O12: 2 | P12: 17 | Q12: 10 | R12: 0 | S12: 10
A13: 彰化縣 | B13: 35 | C13: 1 | D13: 34 | E13: 0 | F13: 0 | G13: 0 | H13: 1 | I13: 0 | J13: 1 | K13: 4 | L13: 0 | M13: 4 | N13: 10 | O13: 1 | P13: 9 | Q13: 20 | R13: 0 | S13: 20
A14: 南投縣 | B14: 24 | C14: 6 | D14: 18 | E14: 0 | F14: 0 | G14: 0 | H14: 6 | I14: 2 | J14: 4 | K14: 6 | L14: 1 | M14: 5 | N14: 7 | O14: 3 | P14: 4 | Q14: 5 | R14: 0 | S14: 5
A15: 雲林縣 | B15: 33 | C15: 2 | D15: 31 | E15: 0 | F15: 0 | G15: 0 | H15: 3 | I15: 0 | J15: 3 | K15: 7 | L15: 1 | M15: 6 | N15: 10 | O15: 0 | P15: 10 | Q15: 13 | R15: 1 | S15: 12
A16: 嘉義縣 | B16: 17 | C16: 1 | D16: 16 | E16: 0 | F16: 0 | G16: 0 | H16: 1 | I16: 0 | J16: 1 | K16: 2 | L16: 0 | M16: 2 | N16: 5 | O16: 0 | P16: 5 | Q16: 9 | R16: 1 | S16: 8
A17: 臺南縣 | B17: 72 | C17: 7 | D17: 65 | E17: 0 | F17: 0 | G17: 0 | H17: 6 | I17: 0 | J17: 6 | K17: 15 | L17: 0 | M17: 15 | N17: 18 | O17: 5 | P17: 13 | Q17: 33 | R17: 2 | S17: 31
... A31: 連江縣 | B31: 0 | C31: 0 | D31: 0 | E31: 0 | F31: 0 | G31: 0 | H31: 0 | I31: 0 | J31: 0 | K31: 0 | L31: 0 | M31: 0 | N31: 0 | O31: 0 | P31: 0 | Q31: 0 | R31: 0 | S31: 0
A32: 資料來源：直轄市、縣(市)政府。

Sheet 95
A1: 2-02 領有社會工作師執照人數
A2: 民國95年底
A4: 區域別 | B4: 總計 | E4: 未滿25歲 | H4: 25至29歲 | K4: 30至34歲 | N4: 35至39歲 | Q4: 40歲以上
B5: 計 | C5: 男 | D5: 女 | E5: 計 | F5: 男 | G5: 女 | H5: 計 | I5: 男 | J5: 女 | K5: 計 | L5: 男 | M5: 女 | N5: 計 | O5: 男 | P5: 女 | Q5: 計 | R5: 男 | S5: 女
A6: 95年底,2006 | B6: 1117 | C6: 104 | D6: 1013 | E6: 4 | F6: 0 | G6: 4 | H6: 111 | I6: 6 | J6: 105 | K6: 341 | L6: 21 | M6: 320 | N6: 332 | O6: 40 | P6: 292 | Q6: 329 | R6: 37 | S6: 292
A7: 臺北縣 | B7: 126 | C7: 14 | D7: 112 | E7: 0 | F7: 0 | G7: 0 | H7: 21 | I7: 0 | J7: 21 | K7: 54 | L7: 7 | M7: 47 | N7: 29 | O7: 4 | P7: 25 | Q7: 22 | R7: 3 | S7: 19
A8: 宜蘭縣 | B8: 26 | C8: 6 | D8: 20 | E8: 0 | F8: 0 | G8: 0 | H8: 0 | I8: 0 | J8: 0 | K8: 6 | L8: 0 | M8: 6 | N8: 11 | O8: 3 | P8: 8 | Q8: 9 | R8: 3 | S8: 6
A9: 桃園縣 | B9: 66 | C9: 6 | D9: 60 | E9: 0 | F9: 0 | G9: 0 | H9: 9 | I9: 2 | J9: 7 | K9: 20 | L9: 3 | M9: 17 | N9: 21 | O9: 1 | P9: 20 | Q9: 16 | R9: 0 | S9: 16
A10: 新竹縣 | B10: 3 | C10: 2 | D10: 1 | E10: 0 | F10: 0 | G10: 0 | H10: 0 | I10: 0 | J10: 0 | K10: 0 | L10: 0 | M10: 0 | N10: 1 | O10: 1 | P10: 0 | Q10: 2 | R10: 1 | S10: 1
A11: 苗栗縣 | B11: 16 | C11: 2 | D11: 14 | E11: 0 | F11: 0 | G11: 0 | H11: 1 | I11: 0 | J11: 1 | K11: 4 | L11: 0 | M11: 4 | N11: 6 | O11: 1 | P11: 5 | Q11: 5 | R11: 1 | S11: 4
A12: 臺中縣 | B12: 50 | C12: 2 | D12: 48 | E12: 0 | F12: 0 | G12: 0 | H12: 6 | I12: 0 | J12: 6 | K12: 24 | L12: 2 | M12: 22 | N12: 10 | O12: 0 | P12: 10 | Q12: 10 | R12: 0 | S12: 10
A13: 彰化縣 | B13: 30 | C13: 0 | D13: 30 | E13: 0 | F13: 0 | G13: 0 | H13: 1 | I13: 0 | J13: 1 | K13: 4 | L13: 0 | M13: 4 | N13: 8 | O13: 0 | P13: 8 | Q13: 17 | R13: 0 | S13: 17
A14: 南投縣 | B14: 19 | C14: 4 | D14: 15 | E14: 0 | F14: 0 | G14: 0 | H14: 2 | I14: 1 | J14: 1 | K14: 6 | L14: 2 | M14: 4 | N14: 5 | O14: 1 | P14: 4 | Q14: 6 | R14: 0 | S14: 6
A15: 雲林縣 | B15: 30 | C15: 2 | D15: 28 | E15: 0 | F15: 0 | G15: 0 | H15: 2 | I15: 0 | J15: 2 | K15: 9 | L15: 1 | M15: 8 | N15: 7 | O15: 0 | P15: 7 | Q15: 12 | R15: 1 | S15: 11
A16: 嘉義縣 | B16: 16 | C16: 1 | D16: 15 | E16: 0 | F16: 0 | G16: 0 | H16: 1 | I16: 0 | J16: 1 | K16: 2 | L16: 0 | M16: 2 | N16: 4 | O16: 0 | P16: 4 | Q16: 9 | R16: 1 | S16: 8
