Workbook

Sheet 歷年
A1: 1.6-01 地方政府社會處(局)所轄志工 Number of Volunteers of Department of Social Welfare of Local Government
A3: 單位：隊；人；小時 Unit : Teams, Persons, Hours
A4: 年底別 | B4: 總隊數 No. of Team | C4: 隊員總人數 No. of Team Member | F4: 隊員具 原住民身分 Team Members with Indigenous Identity | H4: 隊員按年齡分 By Age | V4: 隊員按身分分 By Identity | AH4: 隊員按教育程度分 By Education | AT4: 志工志願服務時數 (小時)
H5: 未滿12歲 Under 12 Years | J5: 12-17歲 12-17Years | L5: 18-29歲 18-29Years | N5: 30-49歲 30-49Years | P5: 50-54歲 50-54Years | R5: 55-64歲 55-64Years | T5: 65歲以上 65 Years & Over | V5: 工商界人士 Members of Industry & Commerce | X5: 公教員工 Officers & Teacher | Z5: 退休人員 Retired Members | AB5: 家庭管理 Housekeepers | AD5: 學生 Students | AF5: 其他 Others | AH5: 研究所 Postgraduate | AK5: 大專 University, College | AN5: 高中(職) Senior High School | AQ5: 國中及以下 Junior High School & Under | AT5: 合計 | AU5: 身心障礙福利服務 | AV5: 老人福利服務 | AW5: 婦女福利服務 | AX5: 少年福利服務 | AY5: 兒童福利服務 | AZ5: 諮商輔導服務 | BA5: 家庭福利服務 | BB5: 社區福利服務 | BC5: 綜合福利服務
C6: 計 | D6: 男 | E6: 女 | F6: 男 | G6: 女 | H6: 男 | I6: 女 | J6: 男 | K6: 女 | L6: 男 | M6: 女 | N6: 男 | O6: 女 | P6: 男 | Q6: 女 | R6: 男 | S6: 女 | T6: 男 | U6: 女 | V6: 男 | W6: 女 | X6: 男 | Y6: 女 | Z6: 男 | AA6: 女 | AB6: 男 | AC6: 女 | AD6: 男 | AE6: 女 | AF6: 男 | AG6: 女 | AH6: 計 | AI6: 男 | AJ6: 女 | AK6: 計 | AL6: 男 | AM6: 女 | AN6: 計 | AO6: 男 | AP6: 女 | AQ6: 計 | AR6: 男 | AS6: 女 | AT6: Total | AU6: Welfare Service for the Disabled | AV6: Welfare Service for the Aged | AW6: Welfare Service for the Women | AX6: Welfare Service for the Young | AY6: Welfare Service for Children | AZ6: Service of Consulting | BA6: Welfare Service for Home | BB6: Welfare Service for Communities | BC6: Complex Welfare Service
C7: Total | D7: Male | E7: Female | F7: Male | G7: Female | H7: Male | I7: Female | J7: Male | K7: Female | L7: Male | M7: Female | N7: Male | O7: Female | P7: Male | Q7: Female | R7: Male | S7: Female | T7: Male | U7: Female | V7: Male | W7: Female | X7: Male | Y7: Female | Z7: Male | AA7: Female | AB7: Male | AC7: Female | AD7: Male | AE7: Female | AF7: Male | AG7: Female | AH7: Total | AI7: Male | AJ7: Female | AK7: Total | AL7: Male | AM7: Female | AN7: Total | AO7: Male | AP7: Female | AQ7: Total | AR7: Male | AS7: Female
A8: 85年 1996 | B8: 528 | C8: 35272 | D8: 12691 | E8: 22581 | F8: ... | G8: ... | H8: 134 | J8: 1117 | L8: 9391 | N8: 15846 | P8: 5551 | T8: 3233 | V8: 6229 | W8: 6001 | X8: 1780 | Y8: 2282 | Z8: 1167 | AA8: 1184 | AB8: 47 | AC8: 8254 | AD8: 1955 | AE8: 2924 | AF8: 1513 | AG8: 1936 | AH8: 906 | AI8: 345 | AJ8: 561 | AK8: 11224 | AL8: 4240 | AM8: 6984 | AN8: 15148 | AO8: 5583 | AP8: 9565 | AQ8: 7994 | AR8: 2523 | AS8: 5471 | AT8: 3091765 | AU8: 321502 | AV8: 384299 | AW8: 106530 | AX8: 268785 | AY8: 426296 | AZ8: 683852 | BA8: 150110 | BB8: 157745 | BC8: 263745
A9: 86年 1997 | B9: 653 | C9: 34176 | D9: 11119 | E9: 23057 | F9: ... | G9: ... | H9: 114 | J9: 932 | L9: 8364 | N9: 15041 | P9: 6657 | T9: 3068 | V9: 5458 | W9: 6037 | X9: 1463 | Y9: 2137 | Z9: 1000 | AA9: 964 | AB9: 20 | AC9: 8623 | AD9: 1621 | AE9: 3025 | AF9: 1557 | AG9: 2271 | AH9: 446 | AI9: 234 | AJ9: 212 | AK9: 11726 | AL9: 4037 | AM9: 7689 | AN9: 14411 | AO9: 4650 | AP9: 9761 | AQ9: 7593 | AR9: 2198 | AS9: 5395 | AT9: 3853518 | AU9: 230728 | AV9: 351507 | AW9: 89564 | AX9: 322725 | AY9: 458268 | AZ9: 390871 | BA9: 57005 | BB9: 204166 | BC9: 263697
A10: 87年 1998 | B10: 737 | C10: 38601 | D10: 12328 | E10: 26273 | F10: ... | G10: ... | H10: 99 | J10: 1170 | L10: 8469 | N10: 17105 | P10: 7672 | T10: 4086 | V10: 5980 | W10: 6643 | X10: 1693 | Y10: 2409 | Z10: 1303 | AA10: 1787 | AB10: 26 | AC10: 10309 | AD10: 1598 | AE10: 2720 | AF10: 1728 | AG10: 2405 | AH10: 591 | AI10: 292 | AJ10: 299 | AK10: 12292 | AL10: 4145 | AM10: 8147 | AN10: 16011 | AO10: 5068 | AP10: 10943 | AQ10: 9707 | AR10: 2823 | AS10: 6884 | AT10: 4076612 | AU10: 271515 | AV10: 463353 | AW10: 175414 | AX10: 68341 | AY10: 349318 | AZ10: 439835 | BA10: 63974 | BB10: 287125 | BC10: 386382
A11: 88年 1999 | B11: 827 | C11: 45029 | D11: 13512 | E11: 31517 | F11: ... | G11: ... | H11: 99 | J11: 1267 | L11: 8340 | N11: 21246 | P11: 9737 | T11: 4340 | V11: 6167 | W11: 7250 | X11: 1666 | Y11: 2585 | Z11: 1796 | AA11: 1883 | AB11: 130 | AC11: 13360 | AD11: 1721 | AE11: 3026 | AF11: 2032 | AG11: 3413 | AH11: 677 | AI11: 328 | AJ11: 349 | AK11: 13766 | AL11: 4608 | AM11: 9158 | AN11: 18212 | AO11: 5480 | AP11: 12732 | AQ11: 12374 | AR11: 3096 | AS11: 9278 | AT11: 4432240 | AU11: 294450 | AV11: 641942 | AW11: 139925 | AX11: 208570 | AY11: 486117 | AZ11: 592466 | BA11: 47449 | BB11: 239138 | BC11: 445028
A12: 89年 2000 | B12: 966 | C12: 56676 | D12: 16964 | E12: 39712 | F12: ... | G12: ... | H12: 96 | J12: 2386 | L12: 9098 | N12: 26145 | P12: 13718 | T12: 5233 | V12: 7284 | W12: 8275 | X12: 2145 | Y12: 2941 | Z12: 2591 | AA12: 2755 | AB12: 0 | AC12: 17128 | AD12: 2639 | AE12: 4411 | AF12: 2305 | AG12: 4202 | AH12: 1085 | AI12: 501 | AJ12: 584 | AK12: 16149 | AL12: 5537 | AM12: 10612 | AN12: 23683 | AO12: 6783 | AP12: 16900 | AQ12: 15759 | AR12: 4143 | AS12: 11616 | AT12: 5626344 | AU12: 381693 | AV12: 971334 | AW12: 145129 | AX12: 143375 | AY12: 373395 | AZ12: 534670 | BA12: 69538 | BB12: 382803 | BC12: 644230
A13: 90年 2001 | B13: 1041 | C13: 58734 | D13: 17427 | E13: 41307 | F13: ... | G13: ... | H13: 147 | J13: 2905 | L13: 9380 | N13: 26171 | P13: 14954 | T13: 5177 | V13: 7275 | W13: 8412 | X13: 2185 | Y13: 2903 | Z13: 2542 | AA13: 2689 | AB13: 191 | AC13: 17957 | AD13: 3131 | AE13: 5133 | AF13: 2103 | AG13: 4213 | AH13: 947 | AI13: 439 | AJ13: 508 | AK13: 17415 | AL13: 5928 | AM13: 11487 | AN13: 24519 | AO13: 7022 | AP13: 17497 | AQ13: 15853 | AR13: 4038 | AS13: 11815 | AT13: 5427450 | AU13: 324647 | AV13: 1022467 | AW13: 152905 | AX13: 132065 | AY13: 386231 | AZ13: 355255 | BA13: 55328 | BB13: 371314 | BC13: 610634
A14: 91年 2002 | B14: 909 | C14: 50266 | D14: 15432 | E14: 34834 | F14: ... | G14: ... | H14: 93 | J14: 2494 | L14: 8790 | N14: 21906 | P14: 12497 | T14: 4486 | V14: 6081 | W14: 7157 | X14: 1778 | Y14: 2596 | Z14: 2034 | AA14: 1800 | AB14: 70 | AC14: 15391 | AD14: 3005 | AE14: 4699 | AF14: 2464 | AG14: 3191 | AH14: 795 | AI14: 410 | AJ14: 385 | AK14: 14681 | AL14: 5141 | AM14: 9540 | AN14: 22100 | AO14: 6384 | AP14: 15716 | AQ14: 12690 | AR14: 3497 | AS14: 9193 | AT14: 4388410 | AU14: 411188 | AV14: 1255028 | AW14: 156397 | AX14: 154428 | AY14: 372305 | AZ14: 365753 | BA14: 49579 | BB14: 556653 | BC14: 709069
A15: 92年 2003 | B15: 998 | C15: 58671 | D15: 18146 | E15: 40525 | F15: ... | G15: ... | H15: 144 | J15: 3322 | L15: 10462 | N15: 24773 | P15: 15112 | T15: 4858 | V15: 6872 | W15: 8191 | X15: 1988 | Y15: 2871 | Z15: 2323 | AA15: 2348 | AB15: 162 | AC15: 17132 | AD15: 4147 | AE15: 5680 | AF15: 2654 | AG15: 4303 | AH15: 1220 | AI15: 602 | AJ15: 618 | AK15: 18369 | AL15: 6226 | AM15: 12143 | AN15: 23528 | AO15: 7217 | AP15: 16311 | AQ15: 15554 | AR15: 4101 | AS15: 11453 | AT15: 4938201 | AU15: 388724 | AV15: 1521887 | AW15: 203406 | AX15: 152034 | AY15: 338723 | AZ15: 439695 | BA15: 71616 | BB15: 752897 | BC15: 1069219
A16: 93年 2004 | B16: 1169 | C16: 64822 | D16: 20258 | E16: 44564 | F16: ... | G16: ... | H16: 306 | J16: 3320 | L16: 11488 | N16: 25596 | P16: 18432 | T16: 5680 | V16: 6980 | W16: 8279 | X16: 2105 | Y16: 3111 | Z16: 2936 | AA16: 3068 | AB16: 298 | AC16: 19139 | AD16: 4712 | AE16: 5972 | AF16: 3227 | AG16: 4995 | AH16: 1306 | AI16: 650 | AJ16: 656 | AK16: 20272 | AL16: 6970 | AM16: 13302 | AN16: 25686 | AO16: 7913 | AP16: 17773 | AQ16: 17558 | AR16: 4725 | AS16: 12833 | AT16: ='93'!AM8 -> 5528318 | AU16: ='93'!AN8 -> 369784 | AV16: ='93'!AO8 -> 1503852 | AW16: ='93'!AP8 -> 190283 | AX16: ='93'!AQ8 -> 156795 | AY16: ='93'!AR8 -> 475874 | AZ16: ='93'!AS8 -> 403878 | BA16: ='93'!AU8 -> 74707 | BB16: ='93'!AV8 -> 791356 | BC16: ='93'!AW8 -> 1561789
A17: 94年 2005 | B17: 1338 | C17: 78528 | D17: 24558 | E17: 53970 | F17: ... | G17: ... | H17: 378 | J17: 4444 | L17: 13303 | N17: 30297 | P17: 23059 | T17: 7047 | V17: 9651 | W17: 11038 | X17: 2644 | Y17: 3602 | Z17: 3537 | AA17: 3753 | AB17: 394 | AC17: 21839 | AD17: 4665 | AE17: 7221 | AF17: 3667 | AG17: 6517 | AH17: 1620 | AI17: 763 | AJ17: 857 | AK17: 25090 | AL17: 8808 | AM17: 16282 | AN17: 30280 | AO17: 9360 | AP17: 20920 | AQ17: 21538 | AR17: 5627 | AS17: 15911 | AT17: 6731795 | AU17: 571208 | AV17: 1677911 | AW17: 266627 | AX17: 191122 | AY17: 632809 | AZ17: 402575 | BA17: 108149 | BB17: 765759 | BC17: 2115635
A18: 95年 2006 | B18: ='95'!C8 -> 1564 | C18: ='95'!D8 -> 96225 | D18: ='95'!E8 -> 30469 | E18: ='95'!F8 -> 65756 | F18: ... | G18: ... | H18: ='95'!G8 -> 439 | J18: ='95'!H8 -> 5048 | L18: ='95'!I8 -> 16782 | N18: ='95'!J8 -> 35513 | P18: ='95'!K8 -> 29226 | T18: ='95'!L8 -> 9217 | V18: ='95'!O8 -> 11418 | W18: ='95'!P8 -> 14315 | X18: ='95'!Q8 -> 3683 | Y18: ='95'!R8 -> 4880 | Z18: ='95'!S8 -> 4600 | AA18: ='95'!T8 -> 5182 | AB18: ='95'!U8 -> 744 | AC18: ='95'!V8 -> 25959 | ... AZ18: ='95'!AS8 -> 483041 | BA18: ='95'!AU8 -> 130100 | BB18: ='95'!AV8 -> 908082 | BC18: ='95'!AW8 -> 2730245
A19: 96年 2007 | B19: ='96'!C8 -> 1880 | C19: ='96'!D8 -> 108745 | D19: ='96'!E8 -> 34522 | E19: ='96'!F8 -> 74223 | F19: ... | G19: ... | H19: ='96'!G8 -> 597 | J19: ='96'!H8 -> 5929 | L19: ='96'!I8 -> 18069 | N19: ='96'!J8 -> 37233 | P19: ='96'!K8 -> 35119 | T19: ='96'!L8 -> 11798 | V19: ='96'!O8 -> 12938 | W19: ='96'!P8 -> 15829 | X19: ='96'!Q8 -> 3547 | Y19: ='96'!R8 -> 4692 | Z19: ='96'!S8 -> 5847 | AA19: ='96'!T8 -> 6211 | AB19: ='96'!U8 -> 831 | AC19: ='96'!V8 -> 30613 | ... AZ19: ='96'!AS8 -> 544860 | BA19: ='96'!AU8 -> 189345 | BB19: ='96'!AV8 -> 1719067 | BC19: ='96'!AW8 -> 2748911
A20: 97年 2008 | B20: ='97'!C8 -> 2354 | C20: ='97'!D8 -> 131238 | D20: ='97'!E8 -> 39308 | E20: ='97'!F8 -> 91930 | F20: ... | G20: ... | H20: ='97'!G8 -> 704 | J20: ='97'!H8 -> 6711 | L20: ='97'!I8 -> 20975 | N20: ='97'!J8 -> 42045 | P20: ='97'!K8 -> 45144 | T20: ='97'!L8 -> 15659 | V20: ='97'!O8 -> 14606 | W20: ='97'!P8 -> 17768 | X20: ='97'!Q8 -> 3726 | Y20: ='97'!R8 -> 5606 | Z20: ='97'!S8 -> 6953 | AA20: ='97'!T8 -> 8633 | AB20: ='97'!U8 -> 1024 | AC20: ='97'!V8 -> 37696 | ... AZ20: ='97'!AS8 -> 684026 | BA20: ='97'!AU8 -> 297010 | BB20: ='97'!AV8 -> 2053672 | BC20: ='97'!AW8 -> 4278451
A21: 98年 2009 | B21: ='98'!C8 -> 2711 | C21: ='98'!D8 -> 153819 | D21: ='98'!E8 -> 48018 | E21: ='98'!F8 -> 105801 | F21: ... | G21: ... | H21: ='98'!G8 -> 990 | J21: ='98'!H8 -> 9438 | L21: ='98'!I8 -> 21943 | N21: ='98'!J8 -> 45514 | P21: ='98'!K8 -> 27714 | R21: ='98'!L8 -> 30117 | T21: ='98'!M8 -> 18103 | V21: ='98'!N8 -> 15273 | W21: ='98'!O8 -> 18112 | X21: ='98'!P8 -> 4166 | Y21: ='98'!Q8 -> 6316 | Z21: ='98'!R8 -> 8342 | AA21: ='98'!S8 -> 10163 | AB21: ='98'!T8 -> 2100 | AC21: ='98'!U8 -> 45825 | ... AZ21: ='98'!AR8 -> 830796 | BA21: ='98'!AT8 -> 501470 | BB21: ='98'!AU8 -> 3345264 | BC21: ='98'!AV8 -> 5496286
A22: 99年 2010 | B22: ='99'!C8 -> 2727 | C22: ='99'!D8 -> 160532 | D22: ='99'!E8 -> 51319 | E22: ='99'!F8 -> 109213 | F22: ... | G22: ... | H22: ='99'!G8 -> 1037 | J22: ='99'!H8 -> 7912 | L22: ='99'!I8 -> 24472 | N22: ='99'!J8 -> 44922 | P22: ='99'!K8 -> 29005 | R22: ='99'!L8 -> 30981 | T22: ='99'!M8 -> 22203 | V22: ='99'!N8 -> 16240 | W22: ='99'!O8 -> 19717 | X22: ='99'!P8 -> 5422 | Y22: ='99'!Q8 -> 7071 | Z22: ='99'!R8 -> 8560 | AA22: ='99'!S8 -> 10578 | AB22: ='99'!T8 -> 2275 | AC22: ='99'!U8 -> 44274 | ... AZ22: ='99'!AR8 -> 879030 | BA22: ='99'!AT8 -> 1210803 | BB22: ='99'!AU8 -> 4638467 | BC22: ='99'!AV8 -> 7794250
A23: 100年 2011 | B23: ='100'!C8 -> 3008 | C23: ='100'!D8 -> 162457 | D23: ='100'!E8 -> 54339 | E23: ='100'!F8 -> 108118 | F23: ='100'!G8 -> 1075 | G23: ='100'!H8 -> 2350 | H23: ='100'!I8 -> 264 | I23: ='100'!J8 -> 323 | ... AZ23: ='100'!BA8 -> 957965 | BA23: ='100'!BC8 -> 309176 | BB23: ='100'!BD8 -> 2364589 | BC23: ='100'!BE8 -> 6279941
A24: 101年 2012 | B24: ='101'!C8 -> 3366 | C24: ='101'!D8 -> 182954 | D24: ='101'!E8 -> 60245 | E24: ='101'!F8 -> 122709 | F24: ='101'!G8 -> 1912 | G24: ='101'!H8 -> 4094 | H24: 326 | I24: 368 | J24: 8992 | K24: 8944 | L24: 8505 | M24: 13252 | N24: 12789 | O24: 31077 | P24: 9084 | Q24: 21732 | R24: 11298 | S24: 30855 | T24: 9251 | U24: 16481 | V24: ='101'!W8 -> 17478 | W24: ='101'!X8 -> 21308 | X24: ='101'!Y8 -> 6326 | Y24: ='101'!Z8 -> 8619 | Z24: ='101'!AA8 -> 10886 | AA24: ='101'!AB8 -> 13109 | AB24: ='101'!AC8 -> 1869 | AC24: ='101'!AD8 -> 46031 | ... AZ24: ='101'!BA8 -> 863961 | BA24: ='101'!BC8 -> 396218 | BB24: ='101'!BD8 -> 2766567 | BC24: ='101'!BE8 -> 7879177
A25: 102年 2013 | B25: ='102'!C8 -> 3770 | C25: ='102'!D8 -> 202853 | D25: ='102'!E8 -> 66926 | E25: ='102'!F8 -> 135927 | F25: ='102'!G8 -> 2131 | G25: ='102'!H8 -> 4252 | H25: ='102'!I8 -> 348 | I25: ='102'!J8 -> 486 | ... AZ25: ='102'!BA8 -> 946461 | BA25: ='102'!BC8 -> 604908 | BB25: ='102'!BD8 -> 4459677 | BC25: ='102'!BE8 -> 7386203
A26: 103年 2014 | B26: 3924 | C26: 240150 | D26: 76883 | E26: 163267 | F26: 2432 | G26: 5082 | H26: 357 | I26: 586 | J26: 6150 | K26: 8470 | L26: 13782 | M26: 19062 | N26: 15730 | O26: 36311 | P26: 10757 | Q26: 27453 | R26: 16915 | S26: 44187 | T26: 13192 | U26: 27198 | V26: 22038 | W26: 26401 | X26: 7310 | Y26: 9750 | Z26: 15950 | AA26: 20997 | AB26: 2948 | AC26: 65592 | AD26: 16869 | AE26: 22489 | AF26: 11768 | AG26: 18038 | AH26: 7268 | AI26: 3157 | AJ26: 4111 | AK26: 70925 | AL26: 26134 | AM26: 44791 | AN26: 83769 | AO26: 26426 | AP26: 57343 | AQ26: 78188 | AR26: 21166 | AS26: 57022 | AT26: 32685662 | AU26: 4340394 | AV26: 7824658 | AW26: 952982 | AX26: 1104876 | AY26: 2544083 | AZ26: 1207699 | BA26: 709096 | BB26: 5639366 | BC26: 8362508
A27: 104年 2015 | B27: 4078 | C27: 244145 | D27: 76576 | E27: 167569 | F27: 2090 | G27: 4498 | H27: 366 | I27: 645 | J27: 7571 | K27: 9502 | L27: 12674 | M27: 18614 | N27: 14477 | O27: 36302 | P27: 10489 | Q27: 26079 | R27: 17074 | S27: 46422 | T27: 13925 | U27: 30005 | V27: 22176 | W27: 29738 | X27: 6291 | Y27: 8216 | Z27: 16751 | AA27: 20957 | AB27: 3470 | AC27: 67989 | AD27: 16730 | AE27: 21485 | AF27: 11158 | AG27: 19184 | AH27: 7929 | AI27: 3431 | AJ27: 4498 | AK27: 72731 | AL27: 25831 | AM27: 46900 | AN27: 87853 | AO27: 27007 | AP27: 60846 | AQ27: 75632 | AR27: 20307 | AS27: 55325 | AT27: 35311598 | AU27: 4472513 | AV27: 9490872 | AW27: 992693 | AX27: 1049568 | AY27: 2681656 | AZ27: 1020397 | BA27: 783085 | BB27: 6664627 | BC27: 8156187
A28: 105年 2016 | B28: 4426 | C28: 261485 | D28: 81097 | E28: 180388 | F28: 3114 | G28: 7145 | H28: 365 | I28: 562 | J28: 6023 | K28: 7267 | L28: 10895 | M28: 16540 | N28: 14897 | O28: 37213 | P28: 11192 | Q28: 27782 | R28: 20016 | S28: 52077 | T28: 17709 | U28: 38947 | V28: 24447 | W28: 32330 | X28: 8628 | Y28: 11154 | Z28: 18737 | AA28: 22853 | AB28: 3650 | AC28: 72952 | AD28: 14237 | AE28: 19823 | AF28: 11398 | AG28: 21276 | AH28: 9752 | AI28: 3661 | AJ28: 6091 | AK28: 69328 | AL28: 24707 | AM28: 44621 | AN28: 101175 | AO28: 31073 | AP28: 70102 | AQ28: 81230 | AR28: 21656 | AS28: 59574 | AT28: 36211340 | AU28: 4875530 | AV28: 9076619 | AW28: 1262624 | AX28: 958945 | AY28: 2778886 | AZ28: 1020194 | BA28: 861575 | BB28: 6802302 | BC28: 8574665
A29: 106年 2017 | B29: 4899 | C29: 288677 | D29: 91789 | E29: 196888 | F29: 4908 | G29: 9744 | H29: 494 | I29: 616 | J29: 7706 | K29: 9807 | L29: 12789 | M29: 19135 | N29: 16751 | O29: 38300 | P29: 11433 | Q29: 27814 | R29: 20093 | S29: 53379 | T29: 22523 | U29: 47837 | V29: 25207 | W29: 33206 | X29: 10078 | Y29: 13639 | Z29: 19985 | AA29: 23521 | AB29: 4150 | AC29: 76360 | AD29: 18651 | AE29: 23994 | AF29: 13718 | AG29: 26168 | AH29: 13482 | AI29: 4974 | AJ29: 8508 | AK29: 86431 | AL29: 31123 | AM29: 55308 | AN29: 107799 | AO29: 34150 | AP29: 73649 | AQ29: 80965 | AR29: 21542 | AS29: 59423 | AT29: 40938632 | AU29: 6219683 | AV29: 11553556 | AW29: 1338132 | AX29: 889763 | AY29: 2459265 | AZ29: 1158924 | BA29: 971039 | BB29: 7289566 | BC29: 9058704
A30: 107年 2018 | B30: 5152 | C30: 302398 | D30: 94889 | E30: 207509 | F30: 1920 | G30: 4192 | H30: 601 | I30: 704 | J30: 7652 | K30: 9868 | L30: 12366 | M30: 19568 | N30: 16797 | O30: 37432 | P30: 12359 | Q30: 29760 | R30: 21053 | S30: 56683 | T30: 24061 | U30: 53494 | V30: 24819 | W30: 35476 | X30: 10711 | Y30: 13470 | Z30: 21241 | AA30: 27336 | AB30: 4897 | AC30: 78795 | AD30: 18258 | AE30: 23794 | AF30: 14963 | AG30: 28638 | AH30: 15181 | AI30: 5681 | AJ30: 9500 | AK30: 90288 | AL30: 31834 | AM30: 58454 | AN30: 113621 | AO30: 35100 | AP30: 78521 | AQ30: 83308 | AR30: 22274 | AS30: 61034 | AT30: 43853842 | AU30: 5052711 | AV30: 11434583 | AW30: 1353197 | AX30: 949182 | AY30: 3138257 | AZ30: 1300899 | BA30: 1202134 | BB30: 6484888 | BC30: 12937991
A31: 108年 2019 | B31: 5718 | C31: 321743 | D31: 102559 | E31: 219184 | F31: 1801 | G31: 3908 | H31: 583 | I31: 759 | J31: 8293 | K31: 10419 | L31: 12923 | M31: 20492 | N31: 17422 | O31: 38216 | P31: 13300 | Q31: 30546 | R31: 23091 | S31: 59966 | T31: 26947 | U31: 58786 | V31: 26407 | W31: 35960 | X31: 11776 | Y31: 15863 | Z31: 22404 | AA31: 29758 | AB31: 6121 | AC31: 81491 | AD31: 18786 | AE31: 25073 | AF31: 17065 | AG31: 31039 | AH31: 15970 | AI31: 6107 | AJ31: 9863 | AK31: 98060 | AL31: 35044 | AM31: 63016 | AN31: 119153 | AO31: 37471 | AP31: 81682 | AQ31: 88560 | AR31: 23937 | AS31: 64623 | AT31: 48325929 | AU31: 4418030 | AV31: 15191058 | AW31: 1131375 | AX31: 827939 | AY31: 3558239 | AZ31: 1276327 | BA31: 1216564 | BB31: 7484695 | BC31: 13221702
A32: 109年 2020 | B32: 6310 | C32: 354441 | D32: 112434 | E32: 242007 | F32: 2055 | G32: 4181 | H32: 599 | I32: 799 | J32: 8238 | K32: 10238 | L32: 14567 | M32: 22761 | N32: 19593 | O32: 41838 | P32: 14337 | Q32: 32567 | R32: 24693 | S32: 66134 | T32: 30407 | U32: 67670 | V32: 27931 | W32: 39604 | X32: 11238 | Y32: 15564 | Z32: 25286 | AA32: 36511 | AB32: 6737 | AC32: 83928 | AD32: 19881 | AE32: 26968 | AF32: 21361 | AG32: 39432 | AH32: 13345 | AI32: 5459 | AJ32: 7886 | AK32: 104177 | AL32: 37194 | AM32: 66983 | AN32: 129922 | AO32: 40733 | AP32: 89189 | AQ32: 106997 | AR32: 29048 | AS32: 77949 | AT32: 45962133 | AU32: 3398236 | AV32: 15364663 | AW32: 1079443 | AX32: 726092 | AY32: 3097370 | AZ32: 1188406 | BA32: 868468 | BB32: 6363829 | BC32: 13875626
A33: 110年 2021 | B33: 6437 | C33: 372764 | D33: 116972 | E33: 255792 | F33: 1972 | G33: 4078 | H33: 706 | I33: 980 | J33: 8001 | K33: 10091 | L33: 14189 | M33: 22221 | N33: 19240 | O33: 41401 | P33: 14425 | Q33: 33554 | R33: 25751 | S33: 69266 | T33: 34660 | U33: 78279 | V33: 29771 | W33: 42099 | X33: 11417 | Y33: 16494 | Z33: 27827 | AA33: 40807 | AB33: 5933 | AC33: 88497 | AD33: 19431 | AE33: 26664 | AF33: 22593 | AG33: 41231 | AH33: 15960 | AI33: 6299 | AJ33: 9661 | AK33: 109251 | AL33: 38059 | AM33: 71192 | AN33: 133159 | AO33: 42073 | AP33: 91086 | AQ33: 114394 | AR33: 30541 | AS33: 83853 | AT33: 44638275 | AU33: 3944009 | AV33: 16736889 | AW33: 1284226 | AX33: 991054 | AY33: 2337753 | AZ33: 972094 | BA33: 792535 | BB33: 6918737 | BC33: 10660978
A34: 111年 2022 | B34: 6691 | C34: 410396 | D34: 130113 | E34: 280283 | F34: 1869 | G34: 4266 | H34: 772 | I34: 879 | J34: 8394 | K34: 10332 | L34: 17184 | M34: 24657 | N34: 20630 | O34: 44470 | P34: 15853 | Q34: 35543 | R34: 28575 | S34: 77039 | T34: 38705 | U34: 87363 | V34: 34752 | W34: 48138 | X34: 13388 | Y34: 18352 | Z34: 33136 | AA34: 46979 | AB34: 6481 | AC34: 93825 | AD34: 20114 | AE34: 28875 | AF34: 22242 | AG34: 44114 | AH34: 18490 | AI34: 7319 | AJ34: 11171 | AK34: 124775 | AL34: 44518 | AM34: 80257 | AN34: 147403 | AO34: 45896 | AP34: 101507 | AQ34: 119728 | AR34: 32380 | AS34: 87348 | AT34: 51544093 | AU34: 4752921 | AV34: 20626234 | AW34: 1608848 | AX34: 1095265 | AY34: 2600147 | AZ34: 1072957 | BA34: 915193 | BB34: 7546256 | BC34: 11326272
A35: 112年 2023 | B35: 7166 | C35: 426108 | D35: 129875 | E35: 296233 | F35: 2485 | G35: 5192 | H35: 752 | I35: 836 | J35: 7830 | K35: 9785 | L35: 14288 | M35: 24124 | N35: 19755 | O35: 45518 | P35: 15848 | Q35: 40574 | R35: 30422 | S35: 81514 | T35: 40980 | U35: 93882 | V35: 34628 | W35: 49855 | X35: 13649 | Y35: 21316 | Z35: 32163 | AA35: 49878 | AB35: 5824 | AC35: 97456 | AD35: 16297 | AE35: 26624 | AF35: 27314 | AG35: 51104 | AH35: 20657 | AI35: 8446 | AJ35: 12211 | AK35: 130700 | AL35: 43495 | AM35: 87205 | AN35: 152004 | AO35: 45561 | AP35: 106443 | AQ35: 122747 | AR35: 32373 | AS35: 90374 | AT35: 58812832 | AU35: 4356719 | AV35: 24849048 | AW35: 1790262 | AX35: 1230979 | AY35: 2624910 | AZ35: 1044456 | BA35: 970171 | BB35: 9849699 | BC35: 12096588
A36: 113年 2024 | B36: 7379 | C36: 439561 | D36: 131806 | E36: 307755 | F36: 2354 | G36: 5711 | H36: 734 | I36: 983 | J36: 7720 | K36: 9783 | L36: 14685 | M36: 25807 | N36: 20381 | O36: 46635 | P36: 15577 | Q36: 39945 | R36: 28780 | S36: 81282 | T36: 43929 | U36: 103320 | V36: 34891 | W36: 50954 | X36: 13856 | Y36: 22733 | Z36: 34129 | AA36: 52640 | AB36: 5957 | AC36: 98072 | AD36: 17708 | AE36: 28813 | AF36: 25265 | AG36: 54543 | AH36: 20774 | AI36: 8077 | AJ36: 12697 | AK36: 136647 | AL36: 44697 | AM36: 91950 | AN36: 154833 | AO36: 46116 | AP36: 108717 | AQ36: 127307 | AR36: 32916 | AS36: 94391 | AT36: 63058746 | AU36: 4072930 | AV36: 22656691 | AW36: 1858775 | AX36: 1107886 | AY36: 2500040 | AZ36: 2031379 | BA36: 1082066 | BB36: 10080667 | BC36: 17668312
A37: 資料來源：直轄市、縣(市)政府。
A38: Source : County and City Government.

Sheet 113
A1: 1.6-01 地方政府社會處(局)所轄志工 Number of Volunteers of Department of Social Welfare of Local Government
A2: 113年,2024
A3: 單位：隊；人；小時 Unit : Teams, Persons, Hours
A4: 地區別 Locality | C4: 總隊數 No. of Team | D4: 隊員總人數 No. of Team Member | G4: 隊員具 原住民身分 Team Members with Indigenous Identity | I4: 隊員按年齡分 By Age | W4: 隊員按身分分 By Identity | AI4: 隊員按教育程度分 By Education | AU4: 志工志願服務時數 (小時)
I5: 未滿12歲 Under 12 Years | K5: 12-17歲 12-17 Years | M5: 18-29歲 18-29 Years | O5: 30-49歲 30-49 Years | Q5: 50-54歲 50-54 Years | S5: 55-64歲 55-64 Years | U5: 65歲以上 65 Years & Over | W5: 工商界人士 Members of Industry & Commerce | Y5: 公教員工 Officers & Teacher | AA5: 退休人員 Retired Members | AC5: 家庭管理 Housekeepers | AE5: 學生 Students | AG5: 其他 Others | AI5: 研究所 Postgraduate | AL5: 大專 University, College | AO5: 高中(職) Senior High School | AR5: 國中及以下 Junior High School & Under | AU5: 合計 | AV5: 身心障礙福利服務 | AW5: 老人福利服務 | AX5: 婦女福利服務 | AY5: .少年福利服務 | AZ5: 兒童福利服務 | BA5: 諮商輔導服務 | BB5: 家庭福利服務 | BC5: 社區福利服務 | BD5: 綜合福利服務
D6: 計 | E6: 男 | F6: 女 | G6: 男 | H6: 女 | I6: 男 | J6: 女 | K6: 男 | L6: 女 | M6: 男 | N6: 女 | O6: 男 | P6: 女 | Q6: 男 | R6: 女 | S6: 男 | T6: 女 | U6: 男 | V6: 女 | W6: 男 | X6: 女 | Y6: 男 | Z6: 女 | AA6: 男 | AB6: 女 | AC6: 男 | AD6: 女 | AE6: 男 | AF6: 女 | AG6: 男 | AH6: 女 | AI6: 計 | AJ6: 男 | AK6: 女 | AL6: 計 | AM6: 男 | AN6: 女 | AO6: 計 | AP6: 男 | AQ6: 女 | AR6: 計 | AS6: 男 | AT6: 女 | AU6: Total | AV6: Welfare Service for the Disabled | AW6: Welfare Service for the Aged | AX6: Welfare Service for the Women | AY6: Welfare Service for the Young | AZ6: Welfare Service for Children | BA6: Service of Consulting | BB6: Welfare Service for Home | BC6: Welfare Service for Communities | BD6: Complex Welfare Service
D7: Total | E7: Male | F7: Female | G7: Male | H7: Female | I7: Male | J7: Female | K7: Male | L7: Female | M7: Male | N7: Female | O7: Male | P7: Female | Q7: Male | R7: Female | S7: Male | T7: Female | U7: Male | V7: Female | W7: Male | X7: Female | Y7: Male | Z7: Female | AA7: Male | AB7: Female | AC7: Male | AD7: Female | AE7: Male | AF7: Female | AG7: Male | AH7: Female | AI7: Total | AJ7: Male | AK7: Female | AL7: Total | AM7: Male | AN7: Female | AO7: Total | AP7: Male | AQ7: Female | AR7: Total | AS7: Male | AT7: Female
A8: 總計 | B8: Total | C8: 7379 | D8: 439561 | E8: 131806 | F8: 307755 | G8: 2354 | H8: 5711 | I8: 734 | J8: 983 | K8: 7720 | L8: 9783 | M8: 14685 | N8: 25807 | O8: 20381 | P8: 46635 | Q8: 15577 | R8: 39945 | S8: 28780 | T8: 81282 | U8: 43929 | V8: 103320 | W8: 34891 | X8: 50954 | Y8: 13856 | Z8: 22733 | AA8: 34129 | AB8: 52640 | AC8: 5957 | AD8: 98072 | AE8: 17708 | AF8: 28813 | AG8: 25265 | AH8: 54543 | AI8: 20774 | AJ8: 8077 | AK8: 12697 | AL8: 136647 | AM8: 44697 | AN8: 91950 | AO8: 154833 | AP8: 46116 | AQ8: 108717 | AR8: 127307 | AS8: 32916 | AT8: 94391 | AU8: 63058746 | AV8: 4072930 | AW8: 22656691 | AX8: 1858775 | AY8: 1107886 | AZ8: 2500040 | BA8: 2031379 | BB8: 1082066 | BC8: 10080667 | BD8: 17668312
A9: 新北市 | B9: New Taipei City | C9: 710 | D9: 59104 | E9: 17461 | F9: 41643 | G9: 616 | H9: 1189 | I9: 69 | J9: 101 | K9: 265 | L9: 481 | M9: 717 | N9: 1264 | O9: 1832 | P9: 3679 | Q9: 1877 | R9: 4505 | S9: 6015 | T9: 14744 | U9: 6686 | V9: 16869 | W9: 4421 | X9: 5918 | Y9: 1303 | Z9: 2050 | AA9: 5432 | AB9: 10179 | AC9: 506 | AD9: 15147 | AE9: 734 | AF9: 1308 | AG9: 5065 | AH9: 7041 | AI9: 2195 | AJ9: 906 | AK9: 1289 | AL9: 13426 | AM9: 4527 | AN9: 8899 | AO9: 22765 | AP9: 6510 | AQ9: 16255 | AR9: 20718 | AS9: 5518 | AT9: 15200 | AU9: 12359475 | AV9: 275130 | AW9: 4322377 | AX9: 217358 | AY9: 215276 | AZ9: 358761 | BA9: 91010 | BB9: 98096 | BC9: 2311754 | BD9: 4469713
A10: 臺北市 | B10: Taipei City | C10: 580 | D10: 40773 | E10: 11494 | F10: 29279 | G10: 99 | H10: 164 | I10: 62 | J10: 85 | K10: 251 | L10: 355 | M10: 1574 | N10: 3490 | O10: 3093 | P10: 6590 | Q10: 1139 | R10: 3307 | S10: 2413 | T10: 6846 | U10: 2962 | V10: 8606 | W10: 3691 | X10: 7221 | Y10: 1451 | Z10: 2907 | AA10: 2485 | AB10: 5062 | AC10: 459 | AD10: 5786 | AE10: 1527 | AF10: 3059 | AG10: 1881 | AH10: 5244 | AI10: 4906 | AJ10: 1817 | AK10: 3089 | AL10: 22399 | AM10: 6346 | AN10: 16053 | AO10: 10012 | AP10: 2534 | AQ10: 7478 | AR10: 3456 | AS10: 797 | AT10: 2659 | AU10: 2905006 | AV10: 167840 | AW10: 763973 | AX10: 158857 | AY10: 232015 | AZ10: 534227 | BA10: 40020 | BB10: 10754 | BC10: 101464 | BD10: 895856
A11: 桃園市 | B11: Taoyuan City | C11: 790 | D11: 41818 | E11: 12095 | F11: 29723 | G11: 113 | H11: 436 | I11: 24 | J11: 27 | K11: 150 | L11: 128 | M11: 633 | N11: 907 | O11: 1766 | P11: 3002 | Q11: 1074 | R11: 3338 | S11: 3082 | T11: 9541 | U11: 5366 | V11: 12780 | W11: 3781 | X11: 5648 | Y11: 1384 | Z11: 2093 | AA11: 4444 | AB11: 6434 | AC11: 457 | AD11: 11380 | AE11: 482 | AF11: 1458 | AG11: 1547 | AH11: 2710 | AI11: 1445 | AJ11: 566 | AK11: 879 | AL11: 11367 | AM11: 3764 | AN11: 7603 | AO11: 16790 | AP11: 4654 | AQ11: 12136 | AR11: 12216 | AS11: 3111 | AT11: 9105 | AU11: 4411932 | AV11: 86027 | AW11: 2663857 | AX11: 111414 | AY11: 98540 | AZ11: 79801 | BA11: 45901 | BB11: 49250 | BC11: 157075 | BD11: 1120067
A12: 臺中市 | B12: Taichung City | C12: 897 | D12: 47006 | E12: 13728 | F12: 33278 | G12: 83 | H12: 274 | I12: 172 | J12: 190 | K12: 452 | L12: 592 | M12: 2015 | N12: 3183 | O12: 3082 | P12: 5708 | Q12: 1040 | R12: 3114 | S12: 2023 | T12: 8245 | U12: 4944 | V12: 12246 | W12: 5214 | X12: 7123 | Y12: 877 | Z12: 1614 | AA12: 1517 | AB12: 2302 | AC12: 184 | AD12: 9738 | AE12: 1896 | AF12: 3063 | AG12: 4040 | AH12: 9438 | AI12: 2268 | AJ12: 941 | AK12: 1327 | AL12: 15961 | AM12: 4896 | AN12: 11065 | AO12: 12769 | AP12: 3587 | AQ12: 9182 | AR12: 16008 | AS12: 4304 | AT12: 11704 | AU12: 10197234 | AV12: 680397 | AW12: 2890708 | AX12: 68519 | AY12: 40166 | AZ12: 155758 | BA12: 1402243 | BB12: 90457 | BC12: 1145938 | BD12: 3723048
A13: 臺南市 | B13: Tainan City | C13: 623 | D13: 46188 | E13: 12612 | F13: 33576 | G13: 28 | H13: 60 | I13: 43 | J13: 77 | K13: 1063 | L13: 1422 | M13: 2032 | N13: 4741 | O13: 1566 | P13: 7427 | Q13: 1837 | R13: 5557 | S13: 1905 | T13: 6403 | U13: 4166 | V13: 7949 | W13: 2574 | X13: 4263 | Y13: 1017 | Z13: 2047 | AA13: 4008 | AB13: 6173 | AC13: 777 | AD13: 11276 | AE13: 2549 | AF13: 4758 | AG13: 1687 | AH13: 5059 | AI13: 1232 | AJ13: 454 | AK13: 778 | AL13: 14632 | AM13: 4253 | AN13: 10379 | AO13: 16187 | AP13: 4648 | AQ13: 11539 | AR13: 14137 | AS13: 3257 | AT13: 10880 | AU13: 8544489 | AV13: 1964627 | AW13: 2064742 | AX13: 289155 | AY13: 181625 | AZ13: 536792 | BA13: 177616 | BB13: 369389 | BC13: 1111627 | BD13: 1848916
A14: 高雄市 | B14: Kaohsiung City | C14: 688 | D14: 41193 | E14: 12919 | F14: 28274 | G14: 53 | H14: 162 | I14: 37 | J14: 35 | K14: 362 | L14: 409 | M14: 2262 | N14: 2670 | O14: 2282 | P14: 4728 | Q14: 1575 | R14: 3586 | S14: 2863 | T14: 7856 | U14: 3538 | V14: 8990 | W14: 3955 | X14: 5190 | Y14: 1291 | Z14: 1806 | AA14: 3123 | AB14: 3527 | AC14: 432 | AD14: 9726 | AE14: 1826 | AF14: 2165 | AG14: 2292 | AH14: 5860 | AI14: 2024 | AJ14: 899 | AK14: 1125 | AL14: 15594 | AM14: 5722 | AN14: 9872 | AO14: 13672 | AP14: 3818 | AQ14: 9854 | AR14: 9903 | AS14: 2480 | AT14: 7423 | AU14: 5217415 | AV14: 210020 | AW14: 2154008 | AX14: 95225 | AY14: 57023 | AZ14: 280311 | BA14: 46127 | BB14: 45619 | BC14: 773410 | BD14: 1555672
A15: 宜蘭縣 | B15: Yilan County | C15: 181 | D15: 15455 | E15: 4827 | F15: 10628 | G15: 76 | H15: 181 | I15: 9 | J15: 27 | K15: 374 | L15: 601 | M15: 426 | N15: 932 | O15: 413 | P15: 1137 | Q15: 697 | R15: 1677 | S15: 895 | T15: 2238 | U15: 2013 | V15: 4016 | W15: 961 | X15: 1399 | Y15: 580 | Z15: 1338 | AA15: 2607 | AB15: 5137 | AC15: 141 | AD15: 1535 | AE15: 456 | AF15: 1038 | AG15: 82 | AH15: 181 | AI15: 358 | AJ15: 84 | AK15: 274 | AL15: 3830 | AM15: 1255 | AN15: 2575 | AO15: 6280 | AP15: 2016 | AQ15: 4264 | AR15: 4987 | AS15: 1472 | AT15: 3515 | AU15: 1769157 | AV15: 313818 | AW15: 317262 | AX15: 22201 | AY15: 28303 | AZ15: 21714 | BA15: 6260 | BB15: 34588 | BC15: 642830 | BD15: 382181
A16: 新竹縣 | B16: Hsinchu County | C16: 150 | D16: 7705 | E16: 2428 | F16: 5277 | G16: 31 | H16: 55 | I16: 9 | J16: 8 | K16: 33 | L16: 27 | M16: 237 | N16: 346 | O16: 440 | P16: 781 | Q16: 169 | R16: 545 | S16: 520 | T16: 1620 | U16: 1020 | V16: 1950 | W16: 480 | X16: 626 | Y16: 202 | Z16: 235 | AA16: 446 | AB16: 561 | AC16: 53 | AD16: 1833 | AE16: 365 | AF16: 399 | AG16: 882 | AH16: 1623 | AI16: 240 | AJ16: 90 | AK16: 150 | AL16: 2286 | AM16: 784 | AN16: 1502 | AO16: 1812 | AP16: 592 | AQ16: 1220 | AR16: 3367 | AS16: 962 | AT16: 2405 | AU16: 1074200 | AV16: 21992 | AW16: 254378 | AX16: 13845 | AY16: 2 | AZ16: 387 | BA16: 16270 | BB16: 3762 | BC16: 322920 | BD16: 440644
A17: 苗栗縣 | B17: Miaoli County | C17: 226 | D17: 6520 | E17: 2083 | F17: 4437 | G17: 2 | H17: 6 | I17: 17 | J17: 27 | K17: 96 | L17: 156 | M17: 211 | N17: 334 | O17: 222 | P17: 487 | Q17: 312 | R17: 680 | S17: 388 | T17: 1041 | U17: 837 | V17: 1712 | W17: 218 | X17: 450 | Y17: 210 | Z17: 195 | AA17: 489 | AB17: 898 | AC17: 749 | AD17: 2120 | AE17: 244 | AF17: 298 | AG17: 173 | AH17: 476 | AI17: 74 | AJ17: 34 | AK17: 40 | AL17: 995 | AM17: 443 | AN17: 552 | AO17: 2570 | AP17: 856 | AQ17: 1714 | AR17: 2881 | AS17: 750 | AT17: 2131 | AU17: 1170864 | AV17: 34506 | AW17: 641298 | AX17: 19812 | AY17: 8174 | AZ17: 20476 | BA17: 21786 | BB17: 25496 | BC17: 292508 | BD17: 106808
A18: 彰化縣 | B18: Changhua County | C18: 500 | D18: 32155 | E18: 11962 | F18: 20193 | G18: 19 | H18: 35 | I18: 10 | J18: 21 | K18: 2941 | L18: 2846 | M18: 1964 | N18: 2128 | O18: 1206 | P18: 2099 | Q18: 1175 | R18: 2395 | S18: 1698 | T18: 5166 | U18: 2968 | V18: 5538 | W18: 1760 | X18: 2638 | Y18: 520 | Z18: 1248 | AA18: 3196 | AB18: 1940 | AC18: 302 | AD18: 7002 | AE18: 4558 | AF18: 4330 | AG18: 1626 | AH18: 3035 | AI18: 738 | AJ18: 350 | AK18: 388 | AL18: 7595 | AM18: 3161 | AN18: 4434 | AO18: 14950 | AP18: 5885 | AQ18: 9065 | AR18: 8872 | AS18: 2566 | AT18: 6306 | AU18: 661668 | AV18: 13478 | AW18: 299899 | AX18: 6415 | AY18: 2632 | AZ18: 18701 | BA18: 20144 | BB18: 6536 | BC18: 113546 | BD18: 180317
A19: 南投縣 | B19: Nantou County | C19: 363 | D19: 16286 | E19: 5429 | F19: 10857 | G19: 61 | H19: 154 | I19: 7 | J19: 12 | K19: 215 | L19: 450 | M19: 433 | N19: 979 | O19: 1063 | P19: 2575 | Q19: 1397 | R19: 2429 | S19: 921 | T19: 2056 | U19: 1393 | V19: 2356 | W19: 2314 | X19: 2385 | Y19: 982 | Z19: 1331 | AA19: 774 | AB19: 873 | AC19: 111 | AD19: 4090 | AE19: 565 | AF19: 934 | AG19: 683 | AH19: 1244 | AI19: 324 | AJ19: 126 | AK19: 198 | AL19: 3632 | AM19: 1275 | AN19: 2357 | AO19: 6118 | AP19: 1857 | AQ19: 4261 | AR19: 6212 | AS19: 2171 | AT19: 4041 | AU19: 4964696 | AV19: 173761 | AW19: 1674270 | AX19: 690230 | AY19: 99155 | AZ19: 145091 | BA19: 64536 | BB19: 94326 | BC19: 1234276 | BD19: 789051
... A30: 連江縣 | B30: Lienchiang County | C30: 6 | D30: 168 | E30: 30 | F30: 138 | G30: 0 | H30: 0 | I30: 0 | J30: 0 | K30: 0 | L30: 0 | M30: 0 | N30: 0 | O30: 4 | P30: 38 | Q30: 1 | R30: 14 | S30: 9 | T30: 29 | U30: 16 | V30: 57 | W30: 4 | X30: 7 | Y30: 13 | Z30: 19 | AA30: 2 | AB30: 11 | AC30: 0 | AD30: 39 | AE30: 0 | AF30: 0 | AG30: 11 | AH30: 62 | AI30: 5 | AJ30: 2 | AK30: 3 | AL30: 42 | AM30: 9 | AN30: 33 | AO30: 49 | AP30: 8 | AQ30: 41 | AR30: 72 | AS30: 11 | AT30: 61 | AU30: 12796 | AV30: 0 | AW30: 0 | AX30: 0 | AY30: 0 | AZ30: 0 | BA30: 0 | BB30: 0 | BC30: 12796 | BD30: 0
A31: 資料來源：直轄市、縣(市)政府。

Sheet 112
A1: 1.6-01 地方政府社會處(局)所轄志工 Number of Volunteers of Department of Social Welfare of Local Government
A2: 112年,2023
A3: 單位：隊；人；小時 Unit : Teams, Persons, Hours
A4: 地區別 Locality | C4: 總隊數 No. of Team | D4: 隊員總人數 No. of Team Member | G4: 隊員具 原住民身分 Team Members with Indigenous Identity | I4: 隊員按年齡分 By Age | W4: 隊員按身分分 By Identity | AI4: 隊員按教育程度分 By Education | AU4: 志工志願服務時數 (小時)
I5: 未滿12歲 Under 12 Years | K5: 12-17歲 12-17 Years | M5: 18-29歲 18-29 Years | O5: 30-49歲 30-49 Years | Q5: 50-54歲 50-54 Years | S5: 55-64歲 55-64 Years | U5: 65歲以上 65 Years & Over | W5: 工商界人士 Members of Industry & Commerce | Y5: 公教員工 Officers & Teacher | AA5: 退休人員 Retired Members | AC5: 家庭管理 Housekeepers | AE5: 學生 Students | AG5: 其他 Others | AI5: 研究所 Postgraduate | AL5: 大專 University, College | AO5: 高中(職) Senior High School | AR5: 國中及以下 Junior High School & Under | AU5: 合計 | AV5: 身心障礙福利服務 | AW5: 老人福利服務 | AX5: 婦女福利服務 | AY5: .少年福利服務 | AZ5: 兒童福利服務 | BA5: 諮商輔導服務 | BB5: 家庭福利服務 | BC5: 社區福利服務 | BD5: 綜合福利服務
D6: 計 | E6: 男 | F6: 女 | G6: 男 | H6: 女 | I6: 男 | J6: 女 | K6: 男 | L6: 女 | M6: 男 | N6: 女 | O6: 男 | P6: 女 | Q6: 男 | R6: 女 | S6: 男 | T6: 女 | U6: 男 | V6: 女 | W6: 男 | X6: 女 | Y6: 男 | Z6: 女 | AA6: 男 | AB6: 女 | AC6: 男 | AD6: 女 | AE6: 男 | AF6: 女 | AG6: 男 | AH6: 女 | AI6: 計 | AJ6: 男 | AK6: 女 | AL6: 計 | AM6: 男 | AN6: 女 | AO6: 計 | AP6: 男 | AQ6: 女 | AR6: 計 | AS6: 男 | AT6: 女 | AU6: Total | AV6: Welfare Service for the Disabled | AW6: Welfare Service for the Aged | AX6: Welfare Service for the Women | AY6: Welfare Service for the Young | AZ6: Welfare Service for Children | BA6: Service of Consulting | BB6: Welfare Service for Home | BC6: Welfare Service for Communities | BD6: Complex Welfare Service
D7: Total | E7: Male | F7: Female | G7: Male | H7: Female | I7: Male | J7: Female | K7: Male | L7: Female | M7: Male | N7: Female | O7: Male | P7: Female | Q7: Male | R7: Female | S7: Male | T7: Female | U7: Male | V7: Female | W7: Male | X7: Female | Y7: Male | Z7: Female | AA7: Male | AB7: Female | AC7: Male | AD7: Female | AE7: Male | AF7: Female | AG7: Male | AH7: Female | AI7: Total | AJ7: Male | AK7: Female | AL7: Total | AM7: Male | AN7: Female | AO7: Total | AP7: Male | AQ7: Female | AR7: Total | AS7: Male | AT7: Female
A8: 總計 | B8: Total | C8: 7166 | D8: 426108 | E8: 129875 | F8: 296233 | G8: 2485 | H8: 5192 | I8: 752 | J8: 836 | K8: 7830 | L8: 9785 | M8: 14288 | N8: 24124 | O8: 19755 | P8: 45518 | Q8: 15848 | R8: 40574 | S8: 30422 | T8: 81514 | U8: 40980 | V8: 93882 | W8: 34628 | X8: 49855 | Y8: 13649 | Z8: 21316 | AA8: 32163 | AB8: 49878 | AC8: 5824 | AD8: 97456 | AE8: 16297 | AF8: 26624 | AG8: 27314 | AH8: 51104 | AI8: 20657 | AJ8: 8446 | AK8: 12211 | AL8: 130700 | AM8: 43495 | AN8: 87205 | AO8: 152004 | AP8: 45561 | AQ8: 106443 | AR8: 122747 | AS8: 32373 | AT8: 90374 | AU8: 58812832 | AV8: 4356719 | AW8: 24849048 | AX8: 1790262 | AY8: 1230979 | AZ8: 2624910 | BA8: 1044456 | BB8: 970171 | BC8: 9849699 | BD8: 12096588
A9: 新北市 | B9: New Taipei City | C9: 695 | D9: 57733 | E9: 17204 | F9: 40529 | G9: 658 | H9: 1367 | I9: 68 | J9: 83 | K9: 195 | L9: 363 | M9: 727 | N9: 1270 | O9: 1795 | P9: 3651 | Q9: 1938 | R9: 4522 | S9: 6049 | T9: 14964 | U9: 6432 | V9: 15676 | W9: 4361 | X9: 5703 | Y9: 1347 | Z9: 1942 | AA9: 5393 | AB9: 9872 | AC9: 524 | AD9: 15684 | AE9: 714 | AF9: 1166 | AG9: 4865 | AH9: 6162 | AI9: 1764 | AJ9: 749 | AK9: 1015 | AL9: 12548 | AM9: 4375 | AN9: 8173 | AO9: 22840 | AP9: 6485 | AQ9: 16355 | AR9: 20581 | AS9: 5595 | AT9: 14986 | AU9: 11679919 | AV9: 300748 | AW9: 4462134 | AX9: 225856 | AY9: 297958 | AZ9: 366595 | BA9: 88422 | BB9: 76244 | BC9: 2359200 | BD9: 3502762
A10: 臺北市 | B10: Taipei City | C10: 410 | D10: 43022 | E10: 13869 | F10: 29153 | G10: 54 | H10: 73 | I10: 62 | J10: 55 | K10: 259 | L10: 321 | M10: 1403 | N10: 2585 | O10: 3355 | P10: 5713 | Q10: 1635 | R10: 4691 | S10: 3195 | T10: 7158 | U10: 3960 | V10: 8630 | W10: 3711 | X10: 6134 | Y10: 1021 | Z10: 1856 | AA10: 2389 | AB10: 5513 | AC10: 482 | AD10: 5584 | AE10: 862 | AF10: 1822 | AG10: 5404 | AH10: 8244 | AI10: 5848 | AJ10: 2542 | AK10: 3306 | AL10: 20564 | AM10: 6327 | AN10: 14237 | AO10: 11733 | AP10: 3600 | AQ10: 8133 | AR10: 4877 | AS10: 1400 | AT10: 3477 | AU10: 2165971 | AV10: 103343 | AW10: 525856 | AX10: 72694 | AY10: 209723 | AZ10: 242937 | BA10: 67038 | BB10: 25925 | BC10: 191254 | BD10: 727201
A11: 桃園市 | B11: Taoyuan City | C11: 715 | D11: 39861 | E11: 11312 | F11: 28549 | G11: 171 | H11: 542 | I11: 22 | J11: 25 | K11: 142 | L11: 125 | M11: 661 | N11: 988 | O11: 1533 | P11: 3183 | Q11: 1170 | R11: 3399 | S11: 3211 | T11: 9376 | U11: 4573 | V11: 11453 | W11: 3553 | X11: 5542 | Y11: 1265 | Z11: 1755 | AA11: 4029 | AB11: 5783 | AC11: 470 | AD11: 11499 | AE11: 493 | AF11: 1387 | AG11: 1502 | AH11: 2583 | AI11: 1417 | AJ11: 560 | AK11: 857 | AL11: 10711 | AM11: 3538 | AN11: 7173 | AO11: 16049 | AP11: 4073 | AQ11: 11976 | AR11: 11684 | AS11: 3141 | AT11: 8543 | AU11: 2105087 | AV11: 80097 | AW11: 1128540 | AX11: 96027 | AY11: 75168 | AZ11: 67311 | BA11: 32996 | BB11: 39594 | BC11: 131747 | BD11: 453607
A12: 臺中市 | B12: Taichung City | C12: 870 | D12: 43874 | E12: 13085 | F12: 30789 | G12: 129 | H12: 424 | I12: 142 | J12: 141 | K12: 471 | L12: 631 | M12: 2294 | N12: 3463 | O12: 2691 | P12: 5266 | Q12: 1130 | R12: 3021 | S12: 2963 | T12: 9246 | U12: 3394 | V12: 9021 | W12: 5069 | X12: 6618 | Y12: 1007 | Z12: 1551 | AA12: 1542 | AB12: 2323 | AC12: 168 | AD12: 9594 | AE12: 1787 | AF12: 3148 | AG12: 3512 | AH12: 7555 | AI12: 2059 | AJ12: 865 | AK12: 1194 | AL12: 14911 | AM12: 4731 | AN12: 10180 | AO12: 12684 | AP12: 3624 | AQ12: 9060 | AR12: 14220 | AS12: 3865 | AT12: 10355 | AU12: 8502905 | AV12: 396335 | AW12: 5950327 | AX12: 22471 | AY12: 31366 | AZ12: 138555 | BA12: 76379 | BB12: 39344 | BC12: 799696 | BD12: 1048432
A13: 臺南市 | B13: Tainan City | C13: 625 | D13: 45655 | E13: 12874 | F13: 32781 | G13: 46 | H13: 77 | I13: 90 | J13: 119 | K13: 1201 | L13: 1536 | M13: 1750 | N13: 4387 | O13: 1792 | P13: 7811 | Q13: 1975 | R13: 5636 | S13: 1875 | T13: 6167 | U13: 4191 | V13: 7125 | W13: 3177 | X13: 5722 | Y13: 1337 | Z13: 2289 | AA13: 3844 | AB13: 5990 | AC13: 773 | AD13: 10923 | AE13: 2144 | AF13: 4819 | AG13: 1599 | AH13: 3038 | AI13: 1277 | AJ13: 460 | AK13: 817 | AL13: 15463 | AM13: 4608 | AN13: 10855 | AO13: 15295 | AP13: 4584 | AQ13: 10711 | AR13: 13620 | AS13: 3222 | AT13: 10398 | AU13: 10558771 | AV13: 2535267 | AW13: 2937710 | AX13: 396651 | AY13: 236492 | AZ13: 789941 | BA13: 496534 | BB13: 448932 | BC13: 1150127 | BD13: 1567117
A14: 高雄市 | B14: Kaohsiung City | C14: 671 | D14: 40837 | E14: 12890 | F14: 27947 | G14: 59 | H14: 165 | I14: 57 | J14: 57 | K14: 352 | L14: 418 | M14: 2335 | N14: 2631 | O14: 2259 | P14: 4527 | Q14: 1454 | R14: 3247 | S14: 2953 | T14: 8187 | U14: 3480 | V14: 8880 | W14: 3930 | X14: 5284 | Y14: 1278 | Z14: 1813 | AA14: 3237 | AB14: 3423 | AC14: 475 | AD14: 10019 | AE14: 1877 | AF14: 2220 | AG14: 2093 | AH14: 5188 | AI14: 1959 | AJ14: 894 | AK14: 1065 | AL14: 15555 | AM14: 5771 | AN14: 9784 | AO14: 13272 | AP14: 3761 | AQ14: 9511 | AR14: 10051 | AS14: 2464 | AT14: 7587 | AU14: 5018579 | AV14: 278693 | AW14: 2123019 | AX14: 90811 | AY14: 50183 | AZ14: 270580 | BA14: 50216 | BB14: 51535 | BC14: 764744 | BD14: 1338798
A15: 宜蘭縣 | B15: Yilan County | C15: 161 | D15: 12433 | E15: 3798 | F15: 8635 | G15: 60 | H15: 139 | I15: 2 | J15: 7 | K15: 357 | L15: 549 | M15: 356 | N15: 776 | O15: 324 | P15: 927 | Q15: 506 | R15: 1236 | S15: 671 | T15: 1779 | U15: 1582 | V15: 3361 | W15: 875 | X15: 1124 | Y15: 506 | Z15: 1107 | AA15: 1894 | AB15: 4131 | AC15: 106 | AD15: 1197 | AE15: 371 | AF15: 933 | AG15: 46 | AH15: 143 | AI15: 251 | AJ15: 47 | AK15: 204 | AL15: 2982 | AM15: 950 | AN15: 2032 | AO15: 4962 | AP15: 1527 | AQ15: 3435 | AR15: 4238 | AS15: 1274 | AT15: 2964 | AU15: 1335825 | AV15: 244464 | AW15: 286910 | AX15: 18396 | AY15: 18716 | AZ15: 15291 | BA15: 3374 | BB15: 19540 | BC15: 446346 | BD15: 282788
A16: 新竹縣 | B16: Hsinchu County | C16: 144 | D16: 7338 | E16: 2176 | F16: 5162 | G16: 0 | H16: 5 | I16: 0 | J16: 4 | K16: 51 | L16: 30 | M16: 111 | N16: 133 | O16: 274 | P16: 993 | Q16: 107 | R16: 558 | S16: 489 | T16: 1512 | U16: 1144 | V16: 1932 | W16: 480 | X16: 626 | Y16: 202 | Z16: 220 | AA16: 473 | AB16: 500 | AC16: 53 | AD16: 1833 | AE16: 86 | AF16: 112 | AG16: 882 | AH16: 1871 | AI16: 288 | AJ16: 103 | AK16: 185 | AL16: 1981 | AM16: 559 | AN16: 1422 | AO16: 1711 | AP16: 555 | AQ16: 1156 | AR16: 3358 | AS16: 959 | AT16: 2399 | AU16: 1057050 | AV16: 23202 | AW16: 336508 | AX16: 12597 | AY16: 0 | AZ16: 876 | BA16: 13240 | BB16: 2952 | BC16: 299915 | BD16: 367760
A17: 苗栗縣 | B17: Miaoli County | C17: 242 | D17: 6516 | E17: 2068 | F17: 4448 | G17: 3 | H17: 0 | I17: 17 | J17: 27 | K17: 96 | L17: 156 | M17: 206 | N17: 339 | O17: 218 | P17: 492 | Q17: 312 | R17: 680 | S17: 388 | T17: 1041 | U17: 831 | V17: 1713 | W17: 208 | X17: 452 | Y17: 210 | Z17: 195 | AA17: 489 | AB17: 898 | AC17: 749 | AD17: 2130 | AE17: 240 | AF17: 298 | AG17: 172 | AH17: 475 | AI17: 74 | AJ17: 34 | AK17: 40 | AL17: 986 | AM17: 434 | AN17: 552 | AO17: 2577 | AP17: 851 | AQ17: 1726 | AR17: 2879 | AS17: 749 | AT17: 2130 | AU17: 1170855 | AV17: 34506 | AW17: 641295 | AX17: 19812 | AY17: 8174 | AZ17: 20476 | BA17: 21786 | BB17: 25496 | BC17: 292502 | BD17: 106808
A18: 彰化縣 | B18: Changhua County | C18: 495 | D18: 31679 | E18: 11785 | F18: 19894 | G18: 21 | H18: 35 | I18: 12 | J18: 18 | K18: 2898 | L18: 2805 | M18: 1937 | N18: 2099 | O18: 1186 | P18: 2068 | Q18: 1156 | R18: 2520 | S18: 1850 | T18: 5260 | U18: 2746 | V18: 5124 | W18: 1730 | X18: 2599 | Y18: 510 | Z18: 1227 | AA18: 3149 | AB18: 1910 | AC18: 301 | AD18: 6899 | AE18: 4491 | AF18: 4269 | AG18: 1604 | AH18: 2990 | AI18: 727 | AJ18: 347 | AK18: 380 | AL18: 7482 | AM18: 3114 | AN18: 4368 | AO18: 14729 | AP18: 5796 | AQ18: 8933 | AR18: 8741 | AS18: 2528 | AT18: 6213 | AU18: 650171 | AV18: 13249 | AW18: 294727 | AX18: 6285 | AY18: 2588 | AZ18: 18362 | BA18: 19798 | BB18: 6425 | BC18: 111532 | BD18: 177205
A19: 南投縣 | B19: Nantou County | C19: 349 | D19: 15702 | E19: 5233 | F19: 10469 | G19: 61 | H19: 154 | I19: 7 | J19: 12 | K19: 215 | L19: 447 | M19: 430 | N19: 964 | O19: 1062 | P19: 2557 | Q19: 1377 | R19: 2391 | S19: 890 | T19: 1995 | U19: 1252 | V19: 2103 | W19: 2243 | X19: 2289 | Y19: 949 | Z19: 1266 | AA19: 691 | AB19: 828 | AC19: 107 | AD19: 3911 | AE19: 562 | AF19: 931 | AG19: 681 | AH19: 1244 | AI19: 323 | AJ19: 126 | AK19: 197 | AL19: 3575 | AM19: 1257 | AN19: 2318 | AO19: 6010 | AP19: 1820 | AQ19: 4190 | AR19: 5794 | AS19: 2030 | AT19: 3764 | AU19: 4433980 | AV19: 155187 | AW19: 1497154 | AX19: 616322 | AY19: 88676 | AZ19: 129695 | BA19: 57639 | BB19: 84243 | BC19: 1091614 | BD19: 713450
... A30: 連江縣 | B30: Lienchiang County | C30: 8 | D30: 278 | E30: 39 | F30: 239 | G30: 0 | H30: 0 | I30: 0 | J30: 0 | K30: 0 | L30: 0 | M30: 0 | N30: 3 | O30: 8 | P30: 70 | Q30: 3 | R30: 39 | S30: 12 | T30: 70 | U30: 16 | V30: 57 | W30: 6 | X30: 17 | Y30: 12 | Z30: 31 | AA30: 4 | AB30: 3 | AC30: 0 | AD30: 59 | AE30: 0 | AF30: 1 | AG30: 17 | AH30: 128 | AI30: 1 | AJ30: 1 | AK30: 0 | AL30: 72 | AM30: 15 | AN30: 57 | AO30: 81 | AP30: 10 | AQ30: 71 | AR30: 124 | AS30: 13 | AT30: 111 | AU30: 12618 | AV30: 0 | AW30: 0 | AX30: 0 | AY30: 0 | AZ30: 0 | BA30: 0 | BB30: 0 | BC30: 12618 | BD30: 0
A31: 資料來源：直轄市、縣(市)政府。

Sheet 111
A1: 1.6-01 地方政府社會處(局)所轄志工 Number of Volunteers of Department of Social Welfare of Local Government
A2: 111年,2022
A3: 單位：隊；人；小時 Unit : Teams, Persons, Hours
A4: 地區別 Locality | C4: 總隊數 No. of Team | D4: 隊員總人數 No. of Team Member | G4: 隊員具 原住民身分 Team Members with Indigenous Identity | I4: 隊員按年齡分 By Age | W4: 隊員按身分分 By Identity | AI4: 隊員按教育程度分 By Education | AU4: 志工志願服務時數 (小時)
I5: 未滿12歲 Under 12 Years | K5: 12-17歲 12-17 Years | M5: 18-29歲 18-29 Years | O5: 30-49歲 30-49 Years | Q5: 50-54歲 50-54 Years | S5: 55-64歲 55-64 Years | U5: 65歲以上 65 Years & Over | W5: 工商界人士 Members of Industry & Commerce | Y5: 公教員工 Officers & Teacher | AA5: 退休人員 Retired Members | AC5: 家庭管理 Housekeepers | AE5: 學生 Students | AG5: 其他 Others | AI5: 研究所 Postgraduate | AL5: 大專 University, College | AO5: 高中(職) Senior High School | AR5: 國中及以下 Junior High School & Under | AU5: 合計 | AV5: 身心障礙福利服務 | AW5: 老人福利服務 | AX5: 婦女福利服務 | AY5: .少年福利服務 | AZ5: 兒童福利服務 | BA5: 諮商輔導服務 | BB5: 家庭福利服務 | BC5: 社區福利服務 | BD5: 綜合福利服務
D6: 計 | E6: 男 | F6: 女 | G6: 男 | H6: 女 | I6: 男 | J6: 女 | K6: 男 | L6: 女 | M6: 男 | N6: 女 | O6: 男 | P6: 女 | Q6: 男 | R6: 女 | S6: 男 | T6: 女 | U6: 男 | V6: 女 | W6: 男 | X6: 女 | Y6: 男 | Z6: 女 | AA6: 男 | AB6: 女 | AC6: 男 | AD6: 女 | AE6: 男 | AF6: 女 | AG6: 男 | AH6: 女 | AI6: 計 | AJ6: 男 | AK6: 女 | AL6: 計 | AM6: 男 | AN6: 女 | AO6: 計 | AP6: 男 | AQ6: 女 | AR6: 計 | AS6: 男 | AT6: 女 | AU6: Total | AV6: Welfare Service for the Disabled | AW6: Welfare Service for the Aged | AX6: Welfare Service for the Women | AY6: Welfare Service for the Young | AZ6: Welfare Service for Children | BA6: Service of Consulting | BB6: Welfare Service for Home | BC6: Welfare Service for Communities | BD6: Complex Welfare Service
D7: Total | E7: Male | F7: Female | G7: Male | H7: Female | I7: Male | J7: Female | K7: Male | L7: Female | M7: Male | N7: Female | O7: Male | P7: Female | Q7: Male | R7: Female | S7: Male | T7: Female | U7: Male | V7: Female | W7: Male | X7: Female | Y7: Male | Z7: Female | AA7: Male | AB7: Female | AC7: Male | AD7: Female | AE7: Male | AF7: Female | AG7: Male | AH7: Female | AI7: Total | AJ7: Male | AK7: Female | AL7: Total | AM7: Male | AN7: Female | AO7: Total | AP7: Male | AQ7: Female | AR7: Total | AS7: Male | AT7: Female
A8: 總計 | B8: Total | C8: 6691 | D8: 410396 | E8: 130113 | F8: 280283 | G8: 1869 | H8: 4266 | I8: 772 | J8: 879 | K8: 8394 | L8: 10332 | M8: 17184 | N8: 24657 | O8: 20630 | P8: 44470 | Q8: 15853 | R8: 35543 | S8: 28575 | T8: 77039 | U8: 38705 | V8: 87363 | W8: 34752 | X8: 48138 | Y8: 13388 | Z8: 18352 | AA8: 33136 | AB8: 46979 | AC8: 6481 | AD8: 93825 | AE8: 20114 | AF8: 28875 | AG8: 22242 | AH8: 44114 | AI8: 18490 | AJ8: 7319 | AK8: 11171 | AL8: 124775 | AM8: 44518 | AN8: 80257 | AO8: 147403 | AP8: 45896 | AQ8: 101507 | AR8: 119728 | AS8: 32380 | AT8: 87348 | AU8: 51544093 | AV8: 4752921 | AW8: 20626234 | AX8: 1608848 | AY8: 1095265 | AZ8: 2600147 | BA8: 1072957 | BB8: 915193 | BC8: 7546256 | BD8: 11326272
A9: 新北市 | B9: New Taipei City | C9: 667 | D9: 56332 | E9: 15679 | F9: 40653 | G9: 300 | H9: 654 | I9: 73 | J9: 93 | K9: 168 | L9: 340 | M9: 635 | N9: 1161 | O9: 1712 | P9: 3796 | Q9: 1769 | R9: 4138 | S9: 4442 | T9: 13669 | U9: 6880 | V9: 17456 | W9: 4290 | X9: 5554 | Y9: 1354 | Z9: 1903 | AA9: 5436 | AB9: 9628 | AC9: 466 | AD9: 15323 | AE9: 573 | AF9: 1057 | AG9: 3560 | AH9: 7188 | AI9: 1220 | AJ9: 517 | AK9: 703 | AL9: 11040 | AM9: 4101 | AN9: 6939 | AO9: 22345 | AP9: 6087 | AQ9: 16258 | AR9: 21727 | AS9: 4974 | AT9: 16753 | AU9: 9003566 | AV9: 453484 | AW9: 3068870 | AX9: 194931 | AY9: 348889 | AZ9: 438731 | BA9: 93459 | BB9: 94338 | BC9: 1290593 | BD9: 3020271
A10: 臺北市 | B10: Taipei City | C10: 350 | D10: 39165 | E10: 12828 | F10: 26337 | G10: 31 | H10: 65 | I10: 69 | J10: 111 | K10: 323 | L10: 414 | M10: 2323 | N10: 3340 | O10: 3547 | P10: 6509 | Q10: 1791 | R10: 4095 | S10: 2539 | T10: 6205 | U10: 2236 | V10: 5663 | W10: 3626 | X10: 6497 | Y10: 1315 | Z10: 1594 | AA10: 2854 | AB10: 6420 | AC10: 980 | AD10: 4864 | AE10: 1710 | AF10: 2814 | AG10: 2343 | AH10: 4148 | AI10: 4660 | AJ10: 1780 | AK10: 2880 | AL10: 20114 | AM10: 7141 | AN10: 12973 | AO10: 11655 | AP10: 3221 | AQ10: 8434 | AR10: 2736 | AS10: 686 | AT10: 2050 | AU10: 1451222 | AV10: 154982 | AW10: 393016 | AX10: 29942 | AY10: 8601 | AZ10: 106545 | BA10: 55094 | BB10: 4880 | BC10: 71973 | BD10: 626189
A11: 桃園市 | B11: Taoyuan City | C11: 559 | D11: 35840 | E11: 10039 | F11: 25801 | G11: 24 | H11: 57 | I11: 16 | J11: 13 | K11: 123 | L11: 98 | M11: 632 | N11: 783 | O11: 1151 | P11: 2777 | Q11: 1146 | R11: 3308 | S11: 3283 | T11: 8942 | U11: 3688 | V11: 9880 | W11: 3403 | X11: 5312 | Y11: 1008 | Z11: 1039 | AA11: 3413 | AB11: 4647 | AC11: 489 | AD11: 10557 | AE11: 494 | AF11: 1418 | AG11: 1232 | AH11: 2828 | AI11: 1368 | AJ11: 553 | AK11: 815 | AL11: 9539 | AM11: 3138 | AN11: 6401 | AO11: 13132 | AP11: 3032 | AQ11: 10100 | AR11: 11801 | AS11: 3316 | AT11: 8485 | AU11: 1309264 | AV11: 61128 | AW11: 705979 | AX11: 49075 | AY11: 38015 | AZ11: 35522 | BA11: 19873 | BB11: 23695 | BC11: 110512 | BD11: 265465
A12: 臺中市 | B12: Taichung City | C12: 822 | D12: 41923 | E12: 12914 | F12: 29009 | G12: 67 | H12: 196 | I12: 140 | J12: 144 | K12: 415 | L12: 599 | M12: 3069 | N12: 3135 | O12: 2519 | P12: 4763 | Q12: 1044 | R12: 2842 | S12: 2652 | T12: 9684 | U12: 3075 | V12: 7842 | W12: 4725 | X12: 5858 | Y12: 1009 | Z12: 1517 | AA12: 1454 | AB12: 2081 | AC12: 185 | AD12: 9087 | AE12: 1606 | AF12: 2884 | AG12: 3935 | AH12: 7582 | AI12: 1875 | AJ12: 789 | AK12: 1086 | AL12: 13817 | AM12: 4556 | AN12: 9261 | AO12: 11867 | AP12: 3385 | AQ12: 8482 | AR12: 14364 | AS12: 4184 | AT12: 10180 | AU12: 8409454 | AV12: 312790 | AW12: 5653730 | AX12: 61133 | AY12: 51576 | AZ12: 209197 | BA12: 128466 | BB12: 49513 | BC12: 766244 | BD12: 1176805
A13: 臺南市 | B13: Tainan City | C13: 584 | D13: 42950 | E13: 14282 | F13: 28668 | G13: 31 | H13: 47 | I13: 110 | J13: 127 | K13: 1298 | L13: 1492 | M13: 1772 | N13: 3660 | O13: 2858 | P13: 7427 | Q13: 1956 | R13: 2964 | S13: 2599 | T13: 6343 | U13: 3689 | V13: 6655 | W13: 3452 | X13: 4865 | Y13: 1115 | Z13: 1684 | AA13: 3620 | AB13: 4281 | AC13: 756 | AD13: 10663 | AE13: 4136 | AF13: 5145 | AG13: 1203 | AH13: 2030 | AI13: 1199 | AJ13: 406 | AK13: 793 | AL13: 13874 | AM13: 4384 | AN13: 9490 | AO13: 14901 | AP13: 5596 | AQ13: 9305 | AR13: 12976 | AS13: 3896 | AT13: 9080 | AU13: 8837940 | AV13: 2452414 | AW13: 2008481 | AX13: 348678 | AY13: 226369 | AZ13: 782254 | BA13: 473643 | BB13: 385163 | BC13: 840810 | BD13: 1320128
A14: 高雄市 | B14: Kaohsiung City | C14: 631 | D14: 39979 | E14: 13004 | F14: 26975 | G14: 64 | H14: 165 | I14: 62 | J14: 47 | K14: 439 | L14: 637 | M14: 3043 | N14: 3204 | O14: 2160 | P14: 4293 | Q14: 1384 | R14: 3056 | S14: 2767 | T14: 7592 | U14: 3149 | V14: 8146 | W14: 3786 | X14: 5056 | Y14: 1304 | Z14: 1593 | AA14: 3250 | AB14: 3322 | AC14: 511 | AD14: 10038 | AE14: 2369 | AF14: 2912 | AG14: 1784 | AH14: 4054 | AI14: 1843 | AJ14: 879 | AK14: 964 | AL14: 15372 | AM14: 5959 | AN14: 9413 | AO14: 13013 | AP14: 3738 | AQ14: 9275 | AR14: 9751 | AS14: 2428 | AT14: 7323 | AU14: 4981795 | AV14: 381642 | AW14: 2092030 | AX14: 80165 | AY14: 49938 | AZ14: 241217 | BA14: 45315 | BB14: 52432 | BC14: 779696 | BD14: 1259360
A15: 宜蘭縣 | B15: Yilan County | C15: 137 | D15: 19143 | E15: 7354 | F15: 11789 | G15: 143 | H15: 213 | I15: 4 | J15: 19 | K15: 688 | L15: 927 | M15: 706 | N15: 1257 | O15: 761 | P15: 1351 | Q15: 838 | R15: 1461 | S15: 1135 | T15: 1958 | U15: 3222 | V15: 4816 | W15: 1667 | X15: 1924 | Y15: 667 | Z15: 1241 | AA15: 3724 | AB15: 5215 | AC15: 214 | AD15: 1888 | AE15: 790 | AF15: 1253 | AG15: 292 | AH15: 268 | AI15: 365 | AJ15: 120 | AK15: 245 | AL15: 4986 | AM15: 1917 | AN15: 3069 | AO15: 7030 | AP15: 2669 | AQ15: 4361 | AR15: 6762 | AS15: 2648 | AT15: 4114 | AU15: 1826737 | AV15: 202970 | AW15: 411177 | AX15: 24596 | AY15: 20366 | AZ15: 19773 | BA15: 3916 | BB15: 20599 | BC15: 673967 | BD15: 449373
A16: 新竹縣 | B16: Hsinchu County | C16: 143 | D16: 7074 | E16: 2296 | F16: 4778 | G16: 19 | H16: 62 | I16: 7 | J16: 12 | K16: 35 | L16: 26 | M16: 228 | N16: 324 | O16: 433 | P16: 758 | Q16: 119 | R16: 358 | S16: 504 | T16: 1247 | U16: 970 | V16: 2053 | W16: 461 | X16: 622 | Y16: 168 | Z16: 195 | AA16: 411 | AB16: 434 | AC16: 42 | AD16: 1821 | AE16: 382 | AF16: 434 | AG16: 832 | AH16: 1272 | AI16: 238 | AJ16: 100 | AK16: 138 | AL16: 2597 | AM16: 1010 | AN16: 1587 | AO16: 2278 | AP16: 753 | AQ16: 1525 | AR16: 1961 | AS16: 433 | AT16: 1528 | AU16: 1048453 | AV16: 330619 | AW16: 341648 | AX16: 17223 | AY16: 1713 | AZ16: 15752 | BA16: 31477 | BB16: 26924 | BC16: 130710 | BD16: 152387
A17: 苗栗縣 | B17: Miaoli County | C17: 257 | D17: 6520 | E17: 2069 | F17: 4451 | G17: 3 | H17: 0 | I17: 17 | J17: 27 | K17: 96 | L17: 156 | M17: 206 | N17: 339 | O17: 218 | P17: 492 | Q17: 312 | R17: 681 | S17: 388 | T17: 1042 | U17: 832 | V17: 1714 | W17: 206 | X17: 452 | Y17: 212 | Z17: 195 | AA17: 489 | AB17: 900 | AC17: 750 | AD17: 2131 | AE17: 240 | AF17: 298 | AG17: 172 | AH17: 475 | AI17: 74 | AJ17: 34 | AK17: 40 | AL17: 987 | AM17: 434 | AN17: 553 | AO17: 2578 | AP17: 852 | AQ17: 1726 | AR17: 2881 | AS17: 749 | AT17: 2132 | AU17: 1171439 | AV17: 34523 | AW17: 641615 | AX17: 19822 | AY17: 8178 | AZ17: 20486 | BA17: 21797 | BB17: 25509 | BC17: 292648 | BD17: 106861
A18: 彰化縣 | B18: Changhua County | C18: 479 | D18: 30872 | E18: 12246 | F18: 18626 | G18: 22 | H18: 27 | I18: 9 | J18: 10 | K18: 3233 | L18: 3263 | M18: 2084 | N18: 2183 | O18: 1198 | P18: 1965 | Q18: 1154 | R18: 2056 | S18: 1848 | T18: 4523 | U18: 2720 | V18: 4626 | W18: 1829 | X18: 2393 | Y18: 478 | Z18: 734 | AA18: 3146 | AB18: 1625 | AC18: 424 | AD18: 6442 | AE18: 4724 | AF18: 4565 | AG18: 1645 | AH18: 2867 | AI18: 677 | AJ18: 332 | AK18: 345 | AL18: 6549 | AM18: 3035 | AN18: 3514 | AO18: 15158 | AP18: 6402 | AQ18: 8756 | AR18: 8488 | AS18: 2477 | AT18: 6011 | AU18: 648408 | AV18: 8178 | AW18: 302743 | AX18: 6607 | AY18: 2140 | AZ18: 12768 | BA18: 19112 | BB18: 7507 | BC18: 140635 | BD18: 148718
A19: 南投縣 | B19: Nantou County | C19: 342 | D19: 15363 | E19: 5164 | F19: 10199 | G19: 55 | H19: 130 | I19: 7 | J19: 12 | K19: 214 | L19: 445 | M19: 429 | N19: 941 | O19: 1049 | P19: 2547 | Q19: 1362 | R19: 2350 | S19: 879 | T19: 1897 | U19: 1224 | V19: 2007 | W19: 2230 | X19: 2246 | Y19: 939 | Z19: 1249 | AA19: 678 | AB19: 777 | AC19: 90 | AD19: 3775 | AE19: 560 | AF19: 924 | AG19: 667 | AH19: 1228 | AI19: 323 | AJ19: 126 | AK19: 197 | AL19: 3527 | AM19: 1247 | AN19: 2280 | AO19: 5914 | AP19: 1803 | AQ19: 4111 | AR19: 5599 | AS19: 1988 | AT19: 3611 | AU19: 4078302 | AV19: 142995 | AW19: 1435168 | AX19: 570366 | AY19: 84710 | AZ19: 122350 | BA19: 56417 | BB19: 81086 | BC19: 368838 | BD19: 1216372
... A30: 連江縣 | B30: Lienchiang County | C30: 9 | D30: 280 | E30: 65 | F30: 215 | G30: 0 | H30: 0 | I30: 0 | J30: 1 | K30: 0 | L30: 0 | M30: 1 | N30: 3 | O30: 21 | P30: 81 | Q30: 8 | R30: 30 | S30: 18 | T30: 66 | U30: 17 | V30: 34 | W30: 12 | X30: 16 | Y30: 20 | Z30: 27 | AA30: 4 | AB30: 1 | AC30: 0 | AD30: 57 | AE30: 0 | AF30: 0 | AG30: 29 | AH30: 114 | AI30: 2 | AJ30: 1 | AK30: 1 | AL30: 67 | AM30: 21 | AN30: 46 | AO30: 77 | AP30: 24 | AQ30: 53 | AR30: 134 | AS30: 19 | AT30: 115 | AU30: 3567 | AV30: 0 | AW30: 1409 | AX30: 9 | AY30: 0 | AZ30: 0 | BA30: 0 | BB30: 6 | BC30: 604 | BD30: 1539
A31: 資料來源：直轄市、縣(市)政府。

Sheet 110
A1: 1.6-01 地方政府社會處(局)所轄志工 Number of Volunteers of Department of Social Welfare of Local Government
A2: 110年,2021
A3: 單位：隊；人；小時 Unit : Teams, Persons, Hours
A4: 地區別 Locality | C4: 總隊數 No. of Team | D4: 隊員總人數 No. of Team Member | G4: 隊員具 原住民身分 Team Members with Indigenous Identity | I4: 隊員按年齡分 By Age | W4: 隊員按身分分 By Identity | AI4: 隊員按教育程度分 By Education | AU4: 志工志願服務時數 (小時)
I5: 未滿12歲 Under 12 Years | K5: 12-17歲 12-17 Years | M5: 18-29歲 18-29 Years | O5: 30-49歲 30-49 Years | Q5: 50-54歲 50-54 Years | S5: 55-64歲 55-64 Years | U5: 65歲以上 65 Years & Over | W5: 工商界人士 Members of Industry & Commerce | Y5: 公教員工 Officers & Teacher | AA5: 退休人員 Retired Members | AC5: 家庭管理 Housekeepers | AE5: 學生 Students | AG5: 其他 Others | AI5: 研究所 Postgraduate | AL5: 大專 University, College | AO5: 高中(職) Senior High School | AR5: 國中及以下 Junior High School & Under | AU5: 合計 | AV5: 身心障礙福利服務 | AW5: 老人福利服務 | AX5: 婦女福利服務 | AY5: .少年福利服務 | AZ5: 兒童福利服務 | BA5: 諮商輔導服務 | BB5: 家庭福利服務 | BC5: 社區福利服務 | BD5: 綜合福利服務
D6: 計 | E6: 男 | F6: 女 | G6: 男 | H6: 女 | I6: 男 | J6: 女 | K6: 男 | L6: 女 | M6: 男 | N6: 女 | O6: 男 | P6: 女 | Q6: 男 | R6: 女 | S6: 男 | T6: 女 | U6: 男 | V6: 女 | W6: 男 | X6: 女 | Y6: 男 | Z6: 女 | AA6: 男 | AB6: 女 | AC6: 男 | AD6: 女 | AE6: 男 | AF6: 女 | AG6: 男 | AH6: 女 | AI6: 計 | AJ6: 男 | AK6: 女 | AL6: 計 | AM6: 男 | AN6: 女 | AO6: 計 | AP6: 男 | AQ6: 女 | AR6: 計 | AS6: 男 | AT6: 女 | AU6: Total | AV6: Welfare Service for the Disabled | AW6: Welfare Service for the Aged | AX6: Welfare Service for the Women | AY6: Welfare Service for the Young | AZ6: Welfare Service for Children | BA6: Service of Consulting | BB6: Welfare Service for Home | BC6: Welfare Service for Communities | BD6: Complex Welfare Service
D7: Total | E7: Male | F7: Female | G7: Male | H7: Female | I7: Male | J7: Female | K7: Male | L7: Female | M7: Male | N7: Female | O7: Male | P7: Female | Q7: Male | R7: Female | S7: Male | T7: Female | U7: Male | V7: Female | W7: Male | X7: Female | Y7: Male | Z7: Female | AA7: Male | AB7: Female | AC7: Male | AD7: Female | AE7: Male | AF7: Female | AG7: Male | AH7: Female | AI7: Total | AJ7: Male | AK7: Female | AL7: Total | AM7: Male | AN7: Female | AO7: Total | AP7: Male | AQ7: Female | AR7: Total | AS7: Male | AT7: Female
A8: 總計 | B8: Total | C8: 6437 | D8: 372764 | E8: 116972 | F8: 255792 | G8: 1972 | H8: 4078 | I8: 706 | J8: 980 | K8: 8001 | L8: 10091 | M8: 14189 | N8: 22221 | O8: 19240 | P8: 41401 | Q8: 14425 | R8: 33554 | S8: 25751 | T8: 69266 | U8: 34660 | V8: 78279 | W8: 29771 | X8: 42099 | Y8: 11417 | Z8: 16494 | AA8: 27827 | AB8: 40807 | AC8: 5933 | AD8: 88497 | AE8: 19431 | AF8: 26664 | AG8: 22593 | AH8: 41231 | AI8: 15960 | AJ8: 6299 | AK8: 9661 | AL8: 109251 | AM8: 38059 | AN8: 71192 | AO8: 133159 | AP8: 42073 | AQ8: 91086 | AR8: 114394 | AS8: 30541 | AT8: 83853 | AU8: 44638275 | AV8: 3944009 | AW8: 16736889 | AX8: 1284226 | AY8: 991054 | AZ8: 2337753 | BA8: 972094 | BB8: 792535 | BC8: 6918737 | BD8: 10660978
A9: 新北市 | B9: New Taipei City | C9: 649 | D9: 55011 | E9: 15437 | F9: 39574 | G9: 292 | H9: 563 | I9: 84 | J9: 105 | K9: 182 | L9: 343 | M9: 621 | N9: 1091 | O9: 1784 | P9: 3931 | Q9: 1747 | R9: 4091 | S9: 4496 | T9: 13464 | U9: 6523 | V9: 16549 | W9: 3729 | X9: 4957 | Y9: 1238 | Z9: 1682 | AA9: 4991 | AB9: 8907 | AC9: 462 | AD9: 14598 | AE9: 561 | AF9: 1044 | AG9: 4456 | AH9: 8386 | AI9: 2187 | AJ9: 691 | AK9: 1496 | AL9: 10993 | AM9: 3931 | AN9: 7062 | AO9: 21334 | AP9: 6170 | AQ9: 15164 | AR9: 20497 | AS9: 4645 | AT9: 15852 | AU9: 10353478 | AV9: 409657 | AW9: 4214868 | AX9: 257957 | AY9: 147173 | AZ9: 327414 | BA9: 157082 | BB9: 162160 | BC9: 1250986 | BD9: 3426181
A10: 臺北市 | B10: Taipei City | C10: 292 | D10: 31526 | E10: 9785 | F10: 21741 | G10: 167 | H10: 50 | I10: 92 | J10: 201 | K10: 488 | L10: 764 | M10: 1220 | N10: 2352 | O10: 2853 | P10: 5459 | Q10: 1279 | R10: 3128 | S10: 2020 | T10: 5341 | U10: 1833 | V10: 4496 | W10: 3237 | X10: 5775 | Y10: 762 | Z10: 1316 | AA10: 2111 | AB10: 4345 | AC10: 697 | AD10: 4353 | AE10: 1306 | AF10: 2253 | AG10: 1672 | AH10: 3699 | AI10: 3551 | AJ10: 1327 | AK10: 2224 | AL10: 16197 | AM10: 5085 | AN10: 11112 | AO10: 8608 | AP10: 2606 | AQ10: 6002 | AR10: 3170 | AS10: 767 | AT10: 2403 | AU10: 1413549 | AV10: 99106 | AW10: 390681 | AX10: 57163 | AY10: 54855 | AZ10: 219292 | BA10: 75870 | BB10: 12522 | BC10: 165364 | BD10: 338696
