Workbook

Sheet 歷年
A1: 1.6-01 地方政府社會處(局)所轄志工 Number of Volunteers of Department of Social Welfare of Local Government
A3: 單位：隊；人；小時 Unit : Teams, Persons, Hours
A4: 年底別 | B4: 總隊數 No. of Team | C4: 隊員總人數 No. of Team Member | F4: 隊員具 原住民身分 Team Members with Indigenous Identity | H4: 隊員按年齡分 By Age | V4: 隊員按身分分 By Identity | AH4: 隊員按教育程度分 By Education | AT4: 志工志願服務時數 (小時)
H5: 未滿12歲 Under 12 Years | J5: 12-17歲 12-17Years | L5: 18-29歲 18-29Years | N5: 30-49歲 30-49Years | P5: 50-54歲 50-54Years | R5: 55-64歲 55-64Years | T5: 65歲以上 65 Years & Over | V5: 工商界人士 Members of Industry & Commerce | X5: 公教員工 Officers & Teacher | Z5: 退休人員 Retired Members | AB5: 家庭管理 Housekeepers | AD5: 學生 Students | AF5: 其他 Others | AH5: 研究所 Postgraduate | AK5: 大專 University, College | AN5: 高中(職) Senior High School | AQ5: 國中及以下 Junior High School & Under | AT5: 合計 | AU5: 身心障礙福利服務 | AV5: 老人福利服務 | AW5: 婦女福利服務 | AX5: 少年福利服務 | AY5: 兒童福利服務 | AZ5: 諮商輔導服務 | BA5: 家庭福利服務 | BB5: 社區福利服務 | BC5: 綜合福利服務
C6: 計 | D6: 男 | E6: 女 | F6: 男 | G6: 女 | H6: 男 | I6: 女 | J6: 男 | K6: 女 | L6: 男 | M6: 女 | N6: 男 | O6: 女 | P6: 男 | Q6: 女 | R6: 男 | S6: 女 | T6: 男 | U6: 女 | V6: 男 | W6: 女 | X6: 男 | Y6: 女 | Z6: 男 | AA6: 女 | AB6: 男 | AC6: 女 | AD6: 男 | AE6: 女 | AF6: 男 | AG6: 女 | AH6: 計 | AI6: 男 | AJ6: 女 | AK6: 計 | AL6: 男 | AM6: 女 | AN6: 計 | AO6: 男 | AP6: 女 | AQ6: 計 | AR6: 男 | AS6: 女 | AT6: Total | AU6: Welfare Service for the Disabled | AV6: Welfare Service for the Aged | AW6: Welfare Service for the Women | AX6: Welfare Service for the Young | AY6: Welfare Service for Children | AZ6: Service of Consulting | BA6: Welfare Service for Home | BB6: Welfare Service for Communities | BC6: Complex Welfare Service
C7: Total | D7: Male | E7: Female | F7: Male | G7: Female | H7: Male | I7: Female | J7: Male | K7: Female | L7: Male | M7: Female | N7: Male | O7: Female | P7: Male | Q7: Female | R7: Male | S7: Female | T7: Male | U7: Female | V7: Male | W7: Female | X7: Male | Y7: Female | Z7: Male | AA7: Female | AB7: Male | AC7: Female | AD7: Male | AE7: Female | AF7: Male | AG7: Female | AH7: Total | AI7: Male | AJ7: Female | AK7: Total | AL7: Male | AM7: Female | AN7: Total | AO7: Male | AP7: Female | AQ7: Total | AR7: Male | AS7: Female
A8: 85年 1996 | B8: 528 | C8: 35272 | D8: 12691 | E8: 22581 | F8: ... | G8: ... | H8: 134 | J8: 1117 | L8: 9391 | N8: 15846 | P8: 5551 | T8: 3233 | V8: 6229 | W8: 6001 | X8: 1780 | Y8: 2282 | Z8: 1167 | AA8: 1184 | AB8: 47 | AC8: 8254 | AD8: 1955 | AE8: 2924 | AF8: 1513 | AG8: 1936 | AH8: 906 | AI8: 345 | AJ8: 561 | AK8: 11224 | AL8: 4240 | AM8: 6984 | AN8: 15148 | AO8: 5583 | AP8: 9565 | AQ8: 7994 | AR8: 2523 | AS8: 5471 | AT8: 3091765 | AU8: 321502 | AV8: 384299 | AW8: 106530 | AX8: 268785 | AY8: 426296 | AZ8: 683852 | BA8: 150110 | BB8: 157745 | BC8: 263745
A9: 86年 1997 | B9: 653 | C9: 34176 | D9: 11119 | E9: 23057 | F9: ... | G9: ... | H9: 114 | J9: 932 | L9: 8364 | N9: 15041 | P9: 6657 | T9: 3068 | V9: 5458 | W9: 6037 | X9: 1463 | Y9: 2137 | Z9: 1000 | AA9: 964 | AB9: 20 | AC9: 8623 | AD9: 1621 | AE9: 3025 | AF9: 1557 | AG9: 2271 | AH9: 446 | AI9: 234 | AJ9: 212 | AK9: 11726 | AL9: 4037 | AM9: 7689 | AN9: 14411 | AO9: 4650 | AP9: 9761 | AQ9: 7593 | AR9: 2198 | AS9: 5395 | AT9: 3853518 | AU9: 230728 | AV9: 351507 | AW9: 89564 | AX9: 322725 | AY9: 458268 | AZ9: 390871 | BA9: 57005 | BB9: 204166 | BC9: 263697
A10: 87年 1998 | B10: 737 | C10: 38601 | D10: 12328 | E10: 26273 | F10: ... | G10: ... | H10: 99 | J10: 1170 | L10: 8469 | N10: 17105 | P10: 7672 | T10: 4086 | V10: 5980 | W10: 6643 | X10: 1693 | Y10: 2409 | Z10: 1303 | AA10: 1787 | AB10: 26 | AC10: 10309 | AD10: 1598 | AE10: 2720 | AF10: 1728 | AG10: 2405 | AH10: 591 | AI10: 292 | AJ10: 299 | AK10: 12292 | AL10: 4145 | AM10: 8147 | AN10: 16011 | AO10: 5068 | AP10: 10943 | AQ10: 9707 | AR10: 2823 | AS10: 6884 | AT10: 4076612 | AU10: 271515 | AV10: 463353 | AW10: 175414 | AX10: 68341 | AY10: 349318 | AZ10: 439835 | BA10: 63974 | BB10: 287125 | BC10: 386382
A11: 88年 1999 | B11: 827 | C11: 45029 | D11: 13512 | E11: 31517 | F11: ... | G11: ... | H11: 99 | J11: 1267 | L11: 8340 | N11: 21246 | P11: 9737 | T11: 4340 | V11: 6167 | W11: 7250 | X11: 1666 | Y11: 2585 | Z11: 1796 | AA11: 1883 | AB11: 130 | AC11: 13360 | AD11: 1721 | AE11: 3026 | AF11: 2032 | AG11: 3413 | AH11: 677 | AI11: 328 | AJ11: 349 | AK11: 13766 | AL11: 4608 | AM11: 9158 | AN11: 18212 | AO11: 5480 | AP11: 12732 | AQ11: 12374 | AR11: 3096 | AS11: 9278 | AT11: 4432240 | AU11: 294450 | AV11: 641942 | AW11: 139925 | AX11: 208570 | AY11: 486117 | AZ11: 592466 | BA11: 47449 | BB11: 239138 | BC11: 445028
A12: 89年 2000 | B12: 966 | C12: 56676 | D12: 16964 | E12: 39712 | F12: ... | G12: ... | H12: 96 | J12: 2386 | L12: 9098 | N12: 26145 | P12: 13718 | T12: 5233 | V12: 7284 | W12: 8275 | X12: 2145 | Y12: 2941 | Z12: 2591 | AA12: 2755 | AB12: 0 | AC12: 17128 | AD12: 2639 | AE12: 4411 | AF12: 2305 | AG12: 4202 | AH12: 1085 | AI12: 501 | AJ12: 584 | AK12: 16149 | AL12: 5537 | AM12: 10612 | AN12: 23683 | AO12: 6783 | AP12: 16900 | AQ12: 15759 | AR12: 4143 | AS12: 11616 | AT12: 5626344 | AU12: 381693 | AV12: 971334 | AW12: 145129 | AX12: 143375 | AY12: 373395 | AZ12: 534670 | BA12: 69538 | BB12: 382803 | BC12: 644230
A13: 90年 2001 | B13: 1041 | C13: 58734 | D13: 17427 | E13: 41307 | F13: ... | G13: ... | H13: 147 | J13: 2905 | L13: 9380 | N13: 26171 | P13: 14954 | T13: 5177 | V13: 7275 | W13: 8412 | X13: 2185 | Y13: 2903 | Z13: 2542 | AA13: 2689 | AB13: 191 | AC13: 17957 | AD13: 3131 | AE13: 5133 | AF13: 2103 | AG13: 4213 | AH13: 947 | AI13: 439 | AJ13: 508 | AK13: 17415 | AL13: 5928 | AM13: 11487 | AN13: 24519 | AO13: 7022 | AP13: 17497 | AQ13: 15853 | AR13: 4038 | AS13: 11815 | AT13: 5427450 | AU13: 324647 | AV13: 1022467 | AW13: 152905 | AX13: 132065 | AY13: 386231 | AZ13: 355255 | BA13: 55328 | BB13: 371314 | BC13: 610634
A14: 91年 2002 | B14: 909 | C14: 50266 | D14: 15432 | E14: 34834 | F14: ... | G14: ... | H14: 93 | J14: 2494 | L14: 8790 | N14: 21906 | P14: 12497 | T14: 4486 | V14: 6081 | W14: 7157 | X14: 1778 | Y14: 2596 | Z14: 2034 | AA14: 1800 | AB14: 70 | AC14: 15391 | AD14: 3005 | AE14: 4699 | AF14: 2464 | AG14: 3191 | AH14: 795 | AI14: 410 | AJ14: 385 | AK14: 14681 | AL14: 5141 | AM14: 9540 | AN14: 22100 | AO14: 6384 | AP14: 15716 | AQ14: 12690 | AR14: 3497 | AS14: 9193 | AT14: 4388410 | AU14: 411188 | AV14: 1255028 | AW14: 156397 | AX14: 154428 | AY14: 372305 | AZ14: 365753 | BA14: 49579 | BB14: 556653 | BC14: 709069
A15: 92年 2003 | B15: 998 | C15: 58671 | D15: 18146 | E15: 40525 | F15: ... | G15: ... | H15: 144 | J15: 3322 | L15: 10462 | N15: 24773 | P15: 15112 | T15: 4858 | V15: 6872 | W15: 8191 | X15: 1988 | Y15: 2871 | Z15: 2323 | AA15: 2348 | AB15: 162 | AC15: 17132 | AD15: 4147 | AE15: 5680 | AF15: 2654 | AG15: 4303 | AH15: 1220 | AI15: 602 | AJ15: 618 | AK15: 18369 | AL15: 6226 | AM15: 12143 | AN15: 23528 | AO15: 7217 | AP15: 16311 | AQ15: 15554 | AR15: 4101 | AS15: 11453 | AT15: 4938201 | AU15: 388724 | AV15: 1521887 | AW15: 203406 | AX15: 152034 | AY15: 338723 | AZ15: 439695 | BA15: 71616 | BB15: 752897 | BC15: 1069219
A16: 93年 2004 | B16: 1169 | C16: 64822 | D16: 20258 | E16: 44564 | F16: ... | G16: ... | H16: 306 | J16: 3320 | L16: 11488 | N16: 25596 | P16: 18432 | T16: 5680 | V16: 6980 | W16: 8279 | X16: 2105 | Y16: 3111 | Z16: 2936 | AA16: 3068 | AB16: 298 | AC16: 19139 | AD16: 4712 | AE16: 5972 | AF16: 3227 | AG16: 4995 | AH16: 1306 | AI16: 650 | AJ16: 656 | AK16: 20272 | AL16: 6970 | AM16: 13302 | AN16: 25686 | AO16: 7913 | AP16: 17773 | AQ16: 17558 | AR16: 4725 | AS16: 12833 | AT16: ='93'!AM8 -> 5528318 | AU16: ='93'!AN8 -> 369784 | AV16: ='93'!AO8 -> 1503852 | AW16: ='93'!AP8 -> 190283 | AX16: ='93'!AQ8 -> 156795 | AY16: ='93'!AR8 -> 475874 | AZ16: ='93'!AS8 -> 403878 | BA16: ='93'!AU8 -> 74707 | BB16: ='93'!AV8 -> 791356 | BC16: ='93'!AW8 -> 1561789
A17: 94年 2005 | B17: 1338 | C17: 78528 | D17: 24558 | E17: 53970 | F17: ... | G17: ... | H17: 378 | J17: 4444 | L17: 13303 | N17: 30297 | P17: 23059 | T17: 7047 | V17: 9651 | W17: 11038 | X17: 2644 | Y17: 3602 | Z17: 3537 | AA17: 3753 | AB17: 394 | AC17: 21839 | AD17: 4665 | AE17: 7221 | AF17: 3667 | AG17: 6517 | AH17: 1620 | AI17: 763 | AJ17: 857 | AK17: 25090 | AL17: 8808 | AM17: 16282 | AN17: 30280 | AO17: 9360 | AP17: 20920 | AQ17: 21538 | AR17: 5627 | AS17: 15911 | AT17: 6731795 | AU17: 571208 | AV17: 1677911 | AW17: 266627 | AX17: 191122 | AY17: 632809 | AZ17: 402575 | BA17: 108149 | BB17: 765759 | BC17: 2115635
A18: 95年 2006 | B18: ='95'!C8 -> 1564 | C18: ='95'!D8 -> 96225 | D18: ='95'!E8 -> 30469 | E18: ='95'!F8 -> 65756 | F18: ... | G18: ... | H18: ='95'!G8 -> 439 | J18: ='95'!H8 -> 5048 | L18: ='95'!I8 -> 16782 | N18: ='95'!J8 -> 35513 | P18: ='95'!K8 -> 29226 | T18: ='95'!L8 -> 9217 | V18: ='95'!O8 -> 11418 | W18: ='95'!P8 -> 14315 | X18: ='95'!Q8 -> 3683 | Y18: ='95'!R8 -> 4880 | Z18: ='95'!S8 -> 4600 | AA18: ='95'!T8 -> 5182 | AB18: ='95'!U8 -> 744 | AC18: ='95'!V8 -> 25959 | ... AZ18: ='95'!AS8 -> 483041 | BA18: ='95'!AU8 -> 130100 | BB18: ='95'!AV8 -> 908082 | BC18: ='95'!AW8 -> 2730245
A19: 96年 2007 | B19: ='96'!C8 -> 1880 | C19: ='96'!D8 -> 108745 | D19: ='96'!E8 -> 34522 | E19: ='96'!F8 -> 74223 | F19: ... | G19: ... | H19: ='96'!G8 -> 597 | J19: ='96'!H8 -> 5929 | L19: ='96'!I8 -> 18069 | N19: ='96'!J8 -> 37233 | P19: ='96'!K8 -> 35119 | T19: ='96'!L8 -> 11798 | V19: ='96'!O8 -> 12938 | W19: ='96'!P8 -> 15829 | X19: ='96'!Q8 -> 3547 | Y19: ='96'!R8 -> 4692 | Z19: ='96'!S8 -> 5847 | AA19: ='96'!T8 -> 6211 | AB19: ='96'!U8 -> 831 | AC19: ='96'!V8 -> 30613 | ... AZ19: ='96'!AS8 -> 544860 | BA19: ='96'!AU8 -> 189345 | BB19: ='96'!AV8 -> 1719067 | BC19: ='96'!AW8 -> 2748911
A20: 97年 2008 | B20: ='97'!C8 -> 2354 | C20: ='97'!D8 -> 131238 | D20: ='97'!E8 -> 39308 | E20: ='97'!F8 -> 91930 | F20: ... | G20: ... | H20: ='97'!G8 -> 704 | J20: ='97'!H8 -> 6711 | L20: ='97'!I8 -> 20975 | N20: ='97'!J8 -> 42045 | P20: ='97'!K8 -> 45144 | T20: ='97'!L8 -> 15659 | V20: ='97'!O8 -> 14606 | W20: ='97'!P8 -> 17768 | X20: ='97'!Q8 -> 3726 | Y20: ='97'!R8 -> 5606 | Z20: ='97'!S8 -> 6953 | AA20: ='97'!T8 -> 8633 | AB20: ='97'!U8 -> 1024 | AC20: ='97'!V8 -> 37696 | ... AZ20: ='97'!AS8 -> 684026 | BA20: ='97'!AU8 -> 297010 | BB20: ='97'!AV8 -> 2053672 | BC20: ='97'!AW8 -> 4278451
A21: 98年 2009 | B21: ='98'!C8 -> 2711 | C21: ='98'!D8 -> 153819 | D21: ='98'!E8 -> 48018 | E21: ='98'!F8 -> 105801 | F21: ... | G21: ... | H21: ='98'!G8 -> 990 | J21: ='98'!H8 -> 9438 | L21: ='98'!I8 -> 21943 | N21: ='98'!J8 -> 45514 | P21: ='98'!K8 -> 27714 | R21: ='98'!L8 -> 30117 | T21: ='98'!M8 -> 18103 | V21: ='98'!N8 -> 15273 | W21: ='98'!O8 -> 18112 | X21: ='98'!P8 -> 4166 | Y21: ='98'!Q8 -> 6316 | Z21: ='98'!R8 -> 8342 | AA21: ='98'!S8 -> 10163 | AB21: ='98'!T8 -> 2100 | AC21: ='98'!U8 -> 45825 | ... AZ21: ='98'!AR8 -> 830796 | BA21: ='98'!AT8 -> 501470 | BB21: ='98'!AU8 -> 3345264 | BC21: ='98'!AV8 -> 5496286
A22: 99年 2010 | B22: ='99'!C8 -> 2727 | C22: ='99'!D8 -> 160532 | D22: ='99'!E8 -> 51319 | E22: ='99'!F8 -> 109213 | F22: ... | G22: ... | H22: ='99'!G8 -> 1037 | J22: ='99'!H8 -> 7912 | L22: ='99'!I8 -> 24472 | N22: ='99'!J8 -> 44922 | P22: ='99'!K8 -> 29005 | R22: ='99'!L8 -> 30981 | T22: ='99'!M8 -> 22203 | V22: ='99'!N8 -> 16240 | W22: ='99'!O8 -> 19717 | X22: ='99'!P8 -> 5422 | Y22: ='99'!Q8 -> 7071 | Z22: ='99'!R8 -> 8560 | AA22: ='99'!S8 -> 10578 | AB22: ='99'!T8 -> 2275 | AC22: ='99'!U8 -> 44274 | ... AZ22: ='99'!AR8 -> 879030 | BA22: ='99'!AT8 -> 1210803 | BB22: ='99'!AU8 -> 4638467 | BC22: ='99'!AV8 -> 7794250
A23: 100年 2011 | B23: ='100'!C8 -> 3008 | C23: ='100'!D8 -> 162457 | D23: ='100'!E8 -> 54339 | E23: ='100'!F8 -> 108118 | F23: ='100'!G8 -> 1075 | G23: ='100'!H8 -> 2350 | H23: ='100'!I8 -> 264 | I23: ='100'!J8 -> 323 | ... AZ23: ='100'!BA8 -> 957965 | BA23: ='100'!BC8 -> 309176 | BB23: ='100'!BD8 -> 2364589 | BC23: ='100'!BE8 -> 6279941
A24: 101年 2012 | B24: ='101'!C8 -> 3366 | C24: ='101'!D8 -> 182954 | D24: ='101'!E8 -> 60245 | E24: ='101'!F8 -> 122709 | F24: ='101'!G8 -> 1912 | G24: ='101'!H8 -> 4094 | H24: 326 | I24: 368 | J24: 8992 | K24: 8944 | L24: 8505 | M24: 13252 | N24: 12789 | O24: 31077 | P24: 9084 | Q24: 21732 | R24: 11298 | S24: 30855 | T24: 9251 | U24: 16481 | V24: ='101'!W8 -> 17478 | W24: ='101'!X8 -> 21308 | X24: ='101'!Y8 -> 6326 | Y24: ='101'!Z8 -> 8619 | Z24: ='101'!AA8 -> 10886 | AA24: ='101'!AB8 -> 13109 | AB24: ='101'!AC8 -> 1869 | AC24: ='101'!AD8 -> 46031 | ... AZ24: ='101'!BA8 -> 863961 | BA24: ='101'!BC8 -> 396218 | BB24: ='101'!BD8 -> 2766567 | BC24: ='101'!BE8 -> 7879177
A25: 102年 2013 | B25: ='102'!C8 -> 3770 | C25: ='102'!D8 -> 202853 | D25: ='102'!E8 -> 66926 | E25: ='102'!F8 -> 135927 | F25: ='102'!G8 -> 2131 | G25: ='102'!H8 -> 4252 | H25: ='102'!I8 -> 348 | I25: ='102'!J8 -> 486 | ... AZ25: ='102'!BA8 -> 946461 | BA25: ='102'!BC8 -> 604908 | BB25: ='102'!BD8 -> 4459677 | BC25: ='102'!BE8 -> 7386203
A26: 103年 2014 | B26: 3924 | C26: 240150 | D26: 76883 | E26: 163267 | F26: 2432 | G26: 5082 | H26: 357 | I26: 586 | J26: 6150 | K26: 8470 | L26: 13782 | M26: 19062 | N26: 15730 | O26: 36311 | P26: 10757 | Q26: 27453 | R26: 16915 | S26: 44187 | T26: 13192 | U26: 27198 | V26: 22038 | W26: 26401 | X26: 7310 | Y26: 9750 | Z26: 15950 | AA26: 20997 | AB26: 2948 | AC26: 65592 | AD26: 16869 | AE26: 22489 | AF26: 11768 | AG26: 18038 | AH26: 7268 | AI26: 3157 | AJ26: 4111 | AK26: 70925 | AL26: 26134 | AM26: 44791 | AN26: 83769 | AO26: 26426 | AP26: 57343 | AQ26: 78188 | AR26: 21166 | AS26: 57022 | AT26: 32685662 | AU26: 4340394 | AV26: 7824658 | AW26: 952982 | AX26: 1104876 | AY26: 2544083 | AZ26: 1207699 | BA26: 709096 | BB26: 5639366 | BC26: 8362508
A27: 104年 2015 | B27: 4078 | C27: 244145 | D27: 76576 | E27: 167569 | F27: 2090 | G27: 4498 | H27: 366 | I27: 645 | J27: 7571 | K27: 9502 | L27: 12674 | M27: 18614 | N27: 14477 | O27: 36302 | P27: 10489 | Q27: 26079 | R27: 17074 | S27: 46422 | T27: 13925 | U27: 30005 | V27: 22176 | W27: 29738 | X27: 6291 | Y27: 8216 | Z27: 16751 | AA27: 20957 | AB27: 3470 | AC27: 67989 | AD27: 16730 | AE27: 21485 | AF27: 11158 | AG27: 19184 | AH27: 7929 | AI27: 3431 | AJ27: 4498 | AK27: 72731 | AL27: 25831 | AM27: 46900 | AN27: 87853 | AO27: 27007 | AP27: 60846 | AQ27: 75632 | AR27: 20307 | AS27: 55325 | AT27: 35311598 | AU27: 4472513 | AV27: 9490872 | AW27: 992693 | AX27: 1049568 | AY27: 2681656 | AZ27: 1020397 | BA27: 783085 | BB27: 6664627 | BC27: 8156187
A28: 105年 2016 | B28: 4426 | C28: 261485 | D28: 81097 | E28: 180388 | F28: 3114 | G28: 7145 | H28: 365 | I28: 562 | J28: 6023 | K28: 7267 | L28: 10895 | M28: 16540 | N28: 14897 | O28: 37213 | P28: 11192 | Q28: 27782 | R28: 20016 | S28: 52077 | T28: 17709 | U28: 38947 | V28: 24447 | W28: 32330 | X28: 8628 | Y28: 11154 | Z28: 18737 | AA28: 22853 | AB28: 3650 | AC28: 72952 | AD28: 14237 | AE28: 19823 | AF28: 11398 | AG28: 21276 | AH28: 9752 | AI28: 3661 | AJ28: 6091 | AK28: 69328 | AL28: 24707 | AM28: 44621 | AN28: 101175 | AO28: 31073 | AP28: 70102 | AQ28: 81230 | AR28: 21656 | AS28: 59574 | AT28: 36211340 | AU28: 4875530 | AV28: 9076619 | AW28: 1262624 | AX28: 958945 | AY28: 2778886 | AZ28: 1020194 | BA28: 861575 | BB28: 6802302 | BC28: 8574665
A29: 106年 2017 | B29: 4899 | C29: 288677 | D29: 91789 | E29: 196888 | F29: 4908 | G29: 9744 | H29: 494 | I29: 616 | J29: 7706 | K29: 9807 | L29: 12789 | M29: 19135 | N29: 16751 | O29: 38300 | P29: 11433 | Q29: 27814 | R29: 20093 | S29: 53379 | T29: 22523 | U29: 47837 | V29: 25207 | W29: 33206 | X29: 10078 | Y29: 13639 | Z29: 19985 | AA29: 23521 | AB29: 4150 | AC29: 76360 | AD29: 18651 | AE29: 23994 | AF29: 13718 | AG29: 26168 | AH29: 13482 | AI29: 4974 | AJ29: 8508 | AK29: 86431 | AL29: 31123 | AM29: 55308 | AN29: 107799 | AO29: 34150 | AP29: 73649 | AQ29: 80965 | AR29: 21542 | AS29: 59423 | AT29: 40938632 | AU29: 6219683 | AV29: 11553556 | AW29: 1338132 | AX29: 889763 | AY29: 2459265 | AZ29: 1158924 | BA29: 971039 | BB29: 7289566 | BC29: 9058704
A30: 107年 2018 | B30: 5152 | C30: 302398 | D30: 94889 | E30: 207509 | F30: 1920 | G30: 4192 | H30: 601 | I30: 704 | J30: 7652 | K30: 9868 | L30: 12366 | M30: 19568 | N30: 16797 | O30: 37432 | P30: 12359 | Q30: 29760 | R30: 21053 | S30: 56683 | T30: 24061 | U30: 53494 | V30: 24819 | W30: 35476 | X30: 10711 | Y30: 13470 | Z30: 21241 | AA30: 27336 | AB30: 4897 | AC30: 78795 | AD30: 18258 | AE30: 23794 | AF30: 14963 | AG30: 28638 | AH30: 15181 | AI30: 5681 | AJ30: 9500 | AK30: 90288 | AL30: 31834 | AM30: 58454 | AN30: 113621 | AO30: 35100 | AP30: 78521 | AQ30: 83308 | AR30: 22274 | AS30: 61034 | AT30: 43853842 | AU30: 5052711 | AV30: 11434583 | AW30: 1353197 | AX30: 949182 | AY30: 3138257 | AZ30: 1300899 | BA30: 1202134 | BB30: 6484888 | BC30: 12937991
A31: 108年 2019 | B31: 5718 | C31: 321743 | D31: 102559 | E31: 219184 | F31: 1801 | G31: 3908 | H31: 583 | I31: 759 | J31: 8293 | K31: 10419 | L31: 12923 | M31: 20492 | N31: 17422 | O31: 38216 | P31: 13300 | Q31: 30546 | R31: 23091 | S31: 59966 | T31: 26947 | U31: 58786 | V31: 26407 | W31: 35960 | X31: 11776 | Y31: 15863 | Z31: 22404 | AA31: 29758 | AB31: 6121 | AC31: 81491 | AD31: 18786 | AE31: 25073 | AF31: 17065 | AG31: 31039 | AH31: 15970 | AI31: 6107 | AJ31: 9863 | AK31: 98060 | AL31: 35044 | AM31: 63016 | AN31: 119153 | AO31: 37471 | AP31: 81682 | AQ31: 88560 | AR31: 23937 | AS31: 64623 | AT31: 48325929 | AU31: 4418030 | AV31: 15191058 | AW31: 1131375 | AX31: 827939 | AY31: 3558239 | AZ31: 1276327 | BA31: 1216564 | BB31: 7484695 | BC31: 13221702
A32: 109年 2020 | B32: 6310 | C32: 354441 | D32: 112434 | E32: 242007 | F32: 2055 | G32: 4181 | H32: 599 | I32: 799 | J32: 8238 | K32: 10238 | L32: 14567 | M32: 22761 | N32: 19593 | O32: 41838 | P32: 14337 | Q32: 32567 | R32: 24693 | S32: 66134 | T32: 30407 | U32: 67670 | V32: 27931 | W32: 39604 | X32: 11238 | Y32: 15564 | Z32: 25286 | AA32: 36511 | AB32: 6737 | AC32: 83928 | AD32: 19881 | AE32: 26968 | AF32: 21361 | AG32: 39432 | AH32: 13345 | AI32: 5459 | AJ32: 7886 | AK32: 104177 | AL32: 37194 | AM32: 66983 | AN32: 129922 | AO32: 40733 | AP32: 89189 | AQ32: 106997 | AR32: 29048 | AS32: 77949 | AT32: 45962133 | AU32: 3398236 | AV32: 15364663 | AW32: 1079443 | AX32: 726092 | AY32: 3097370 | AZ32: 1188406 | BA32: 868468 | BB32: 6363829 | BC32: 13875626
A33: 110年 2021 | B33: 6437 | C33: 372764 | D33: 116972 | E33: 255792 | F33: 1972 | G33: 4078 | H33: 706 | I33: 980 | J33: 8001 | K33: 10091 | L33: 14189 | M33: 22221 | N33: 19240 | O33: 41401 | P33: 14425 | Q33: 33554 | R33: 25751 | S33: 69266 | T33: 34660 | U33: 78279 | V33: 29771 | W33: 42099 | X33: 11417 | Y33: 16494 | Z33: 27827 | AA33: 40807 | AB33: 5933 | AC33: 88497 | AD33: 19431 | AE33: 26664 | AF33: 22593 | AG33: 41231 | AH33: 15960 | AI33: 6299 | AJ33: 9661 | AK33: 109251 | AL33: 38059 | AM33: 71192 | AN33: 133159 | AO33: 42073 | AP33: 91086 | AQ33: 114394 | AR33: 30541 | AS33: 83853 | AT33: 44638275 | AU33: 3944009 | AV33: 16736889 | AW33: 1284226 | AX33: 991054 | AY33: 2337753 | AZ33: 972094 | BA33: 792535 | BB33: 6918737 | BC33: 10660978
A34: 111年 2022 | B34: 6691 | C34: 410396 | D34: 130113 | E34: 280283 | F34: 1869 | G34: 4266 | H34: 772 | I34: 879 | J34: 8394 | K34: 10332 | L34: 17184 | M34: 24657 | N34: 20630 | O34: 44470 | P34: 15853 | Q34: 35543 | R34: 28575 | S34: 77039 | T34: 38705 | U34: 87363 | V34: 34752 | W34: 48138 | X34: 13388 | Y34: 18352 | Z34: 33136 | AA34: 46979 | AB34: 6481 | AC34: 93825 | AD34: 20114 | AE34: 28875 | AF34: 22242 | AG34: 44114 | AH34: 18490 | AI34: 7319 | AJ34: 11171 | AK34: 124775 | AL34: 44518 | AM34: 80257 | AN34: 147403 | AO34: 45896 | AP34: 101507 | AQ34: 119728 | AR34: 32380 | AS34: 87348 | AT34: 51544093 | AU34: 4752921 | AV34: 20626234 | AW34: 1608848 | AX34: 1095265 | AY34: 2600147 | AZ34: 1072957 | BA34: 915193 | BB34: 7546256 | BC34: 11326272
A35: 112年 2023 | B35: 7166 | C35: 426108 | D35: 129875 | E35: 296233 | F35: 2485 | G35: 5192 | H35: 752 | I35: 836 | J35: 7830 | K35: 9785 | L35: 14288 | M35: 24124 | N35: 19755 | O35: 45518 | P35: 15848 | Q35: 40574 | R35: 30422 | S35: 81514 | T35: 40980 | U35: 93882 | V35: 34628 | W35: 49855 | X35: 13649 | Y35: 21316 | Z35: 32163 | AA35: 49878 | AB35: 5824 | AC35: 97456 | AD35: 16297 | AE35: 26624 | AF35: 27314 | AG35: 51104 | AH35: 20657 | AI35: 8446 | AJ35: 12211 | AK35: 130700 | AL35: 43495 | AM35: 87205 | AN35: 152004 | AO35: 45561 | AP35: 106443 | AQ35: 122747 | AR35: 32373 | AS35: 90374 | AT35: 58812832 | AU35: 4356719 | AV35: 24849048 | AW35: 1790262 | AX35: 1230979 | AY35: 2624910 | AZ35: 1044456 | BA35: 970171 | BB35: 9849699 | BC35: 12096588
A36: 113年 2024 | B36: 7379 | C36: 439561 | D36: 131806 | E36: 307755 | F36: 2354 | G36: 5711 | H36: 734 | I36: 983 | J36: 7720 | K36: 9783 | L36: 14685 | M36: 25807 | N36: 20381 | O36: 46635 | P36: 15577 | Q36: 39945 | R36: 28780 | S36: 81282 | T36: 43929 | U36: 103320 | V36: 34891 | W36: 50954 | X36: 13856 | Y36: 22733 | Z36: 34129 | AA36: 52640 | AB36: 5957 | AC36: 98072 | AD36: 17708 | AE36: 28813 | AF36: 25265 | AG36: 54543 | AH36: 20774 | AI36: 8077 | AJ36: 12697 | AK36: 136647 | AL36: 44697 | AM36: 91950 | AN36: 154833 | AO36: 46116 | AP36: 108717 | AQ36: 127307 | AR36: 32916 | AS36: 94391 | AT36: 63058746 | AU36: 4072930 | AV36: 22656691 | AW36: 1858775 | AX36: 1107886 | AY36: 2500040 | AZ36: 2031379 | BA36: 1082066 | BB36: 10080667 | BC36: 17668312
A37: 資料來源：直轄市、縣(市)政府。
A38: Source : County and City Government.

Sheet 113
A1: 1.6-01 地方政府社會處(局)所轄志工 Number of Volunteers of Department of Social Welfare of Local Government
A2: 113年,2024
A3: 單位：隊；人；小時 Unit : Teams, Persons, Hours
A4: 地區別 Locality | C4: 總隊數 No. of Team | D4: 隊員總人數 No. of Team Member | G4: 隊員具 原住民身分 Team Members with Indigenous Identity | I4: 隊員按年齡分 By Age | W4: 隊員按身分分 By Identity | AI4: 隊員按教育程度分 By Education | AU4: 志工志願服務時數 (小時)
I5: 未滿12歲 Under 12 Years | K5: 12-17歲 12-17 Years | M5: 18-29歲 18-29 Years | O5: 30-49歲 30-49 Years | Q5: 50-54歲 50-54 Years | S5: 55-64歲 55-64 Years | U5: 65歲以上 65 Years & Over | W5: 工商界人士 Members of Industry & Commerce | Y5: 公教員工 Officers & Teacher | AA5: 退休人員 Retired Members | AC5: 家庭管理 Housekeepers | AE5: 學生 Students | AG5: 其他 Others | AI5: 研究所 Postgraduate | AL5: 大專 University, College | AO5: 高中(職) Senior High School | AR5: 國中及以下 Junior High School & Under | AU5: 合計 | AV5: 身心障礙福利服務 | AW5: 老人福利服務 | AX5: 婦女福利服務 | AY5: .少年福利服務 | AZ5: 兒童福利服務 | BA5: 諮商輔導服務 | BB5: 家庭福利服務 | BC5: 社區福利服務 | BD5: 綜合福利服務
D6: 計 | E6: 男 | F6: 女 | G6: 男 | H6: 女 | I6: 男 | J6: 女 | K6: 男 | L6: 女 | M6: 男 | N6: 女 | O6: 男 | P6: 女 | Q6: 男 | R6: 女 | S6: 男 | T6: 女 | U6: 男 | V6: 女 | W6: 男 | X6: 女 | Y6: 男 | Z6: 女 | AA6: 男 | AB6: 女 | AC6: 男 | AD6: 女 | AE6: 男 | AF6: 女 | AG6: 男 | AH6: 女 | AI6: 計 | AJ6: 男 | AK6: 女 | AL6: 計 | AM6: 男 | AN6: 女 | AO6: 計 | AP6: 男 | AQ6: 女 | AR6: 計 | AS6: 男 | AT6: 女 | AU6: Total | AV6: Welfare Service for the Disabled | AW6: Welfare Service for the Aged | AX6: Welfare Service for the Women | AY6: Welfare Service for the Young | AZ6: Welfare Service for Children | BA6: Service of Consulting | BB6: Welfare Service for Home | BC6: Welfare Service for Communities | BD6: Complex Welfare Service
D7: Total | E7: Male | F7: Female | G7: Male | H7: Female | I7: Male | J7: Female | K7: Male | L7: Female | M7: Male | N7: Female | O7: Male | P7: Female | Q7: Male | R7: Female | S7: Male | T7: Female | U7: Male | V7: Female | W7: Male | X7: Female | Y7: Male | Z7: Female | AA7: Male | AB7: Female | AC7: Male | AD7: Female | AE7: Male | AF7: Female | AG7: Male | AH7: Female | AI7: Total | AJ7: Male | AK7: Female | AL7: Total | AM7: Male | AN7: Female | AO7: Total | AP7: Male | AQ7: Female | AR7: Total | AS7: Male | AT7: Female
A8: 總計 | B8: Total | C8: 7379 | D8: 439561 | E8: 131806 | F8: 307755 | G8: 2354 | H8: 5711 | I8: 734 | J8: 983 | K8: 7720 | L8: 9783 | M8: 14685 | N8: 25807 | O8: 20381 | P8: 46635 | Q8: 15577 | R8: 39945 | S8: 28780 | T8: 81282 | U8: 43929 | V8: 103320 | W8: 34891 | X8: 50954 | Y8: 13856 | Z8: 22733 | AA8: 34129 | AB8: 52640 | AC8: 5957 | AD8: 98072 | AE8: 17708 | AF8: 28813 | AG8: 25265 | AH8: 54543 | AI8: 20774 | AJ8: 8077 | AK8: 12697 | AL8: 136647 | AM8: 44697 | AN8: 91950 | AO8: 154833 | AP8: 46116 | AQ8: 108717 | AR8: 127307 | AS8: 32916 | AT8: 94391 | AU8: 63058746 | AV8: 4072930 | AW8: 22656691 | AX8: 1858775 | AY8: 1107886 | AZ8: 2500040 | BA8: 2031379 | BB8: 1082066 | BC8: 10080667 | BD8: 17668312
A9: 新北市 | B9: New Taipei City | C9: 710 | D9: 59104 | E9: 17461 | F9: 41643 | G9: 616 | H9: 1189 | I9: 69 | J9: 101 | K9: 265 | L9: 481 | M9: 717 | N9: 1264 | O9: 1832 | P9: 3679 | Q9: 1877 | R9: 4505 | S9: 6015 | T9: 14744 | U9: 6686 | V9: 16869 | W9: 4421 | X9: 5918 | Y9: 1303 | Z9: 2050 | AA9: 5432 | AB9: 10179 | AC9: 506 | AD9: 15147 | AE9: 734 | AF9: 1308 | AG9: 5065 | AH9: 7041 | AI9: 2195 | AJ9: 906 | AK9: 1289 | AL9: 13426 | AM9: 4527 | AN9: 8899 | AO9: 22765 | AP9: 6510 | AQ9: 16255 | AR9: 20718 | AS9: 5518 | AT9: 15200 | AU9: 12359475 | AV9: 275130 | AW9: 4322377 | AX9: 217358 | AY9: 215276 | AZ9: 358761 | BA9: 91010 | BB9: 98096 | BC9: 2311754 | BD9: 4469713
A10: 臺北市 | B10: Taipei City | C10: 580 | D10: 40773 | E10: 11494 | F10: 29279 | G10: 99 | H10: 164 | I10: 62 | J10: 85 | K10: 251 | L10: 355 | M10: 1574 | N10: 3490 | O10: 3093 | P10: 6590 | Q10: 1139 | R10: 3307 | S10: 2413 | T10: 6846 | U10: 2962 | V10: 8606 | W10: 3691 | X10: 7221 | Y10: 1451 | Z10: 2907 | AA10: 2485 | AB10: 5062 | AC10: 459 | AD10: 5786 | AE10: 1527 | AF10: 3059 | AG10: 1881 | AH10: 5244 | AI10: 4906 | AJ10: 1817 | AK10: 3089 | AL10: 22399 | AM10: 6346 | AN10: 16053 | AO10: 10012 | AP10: 2534 | AQ10: 7478 | AR10: 3456 | AS10: 797 | AT10: 2659 | AU10: 2905006 | AV10: 167840 | AW10: 763973 | AX10: 158857 | AY10: 232015 | AZ10: 534227 | BA10: 40020 | BB10: 10754 | BC10: 101464 | BD10: 895856
A11: 桃園市 | B11: Taoyuan City | C11: 790 | D11: 41818 | E11: 12095 | F11: 29723 | G11: 113 | H11: 436 | I11: 24 | J11: 27 | K11: 150 | L11: 128 | M11: 633 | N11: 907 | O11: 1766 | P11: 3002 | Q11: 1074 | R11: 3338 | S11: 3082 | T11: 9541 | U11: 5366 | V11: 12780 | W11: 3781 | X11: 5648 | Y11: 1384 | Z11: 2093 | AA11: 4444 | AB11: 6434 | AC11: 457 | AD11: 11380 | AE11: 482 | AF11: 1458 | AG11: 1547 | AH11: 2710 | AI11: 1445 | AJ11: 566 | AK11: 879 | AL11: 11367 | AM11: 3764 | AN11: 7603 | AO11: 16790 | AP11: 4654 | AQ11: 12136 | AR11: 12216 | AS11: 3111 | AT11: 9105 | AU11: 4411932 | AV11: 86027 | AW11: 2663857 | AX11: 111414 | AY11: 98540 | AZ11: 79801 | BA11: 45901 | BB11: 49250 | BC11: 157075 | BD11: 1120067
A12: 臺中市 | B12: Taichung City | C12: 897 | D12: 47006 | E12: 13728 | F12: 33278 | G12: 83 | H12: 274 | I12: 172 | J12: 190 | K12: 452 | L12: 592 | M12: 2015 | N12: 3183 | O12: 3082 | P12: 5708 | Q12: 1040 | R12: 3114 | S12: 2023 | T12: 8245 | U12: 4944 | V12: 12246 | W12: 5214 | X12: 7123 | Y12: 877 | Z12: 1614 | AA12: 1517 | AB12: 2302 | AC12: 184 | AD12: 9738 | AE12: 1896 | AF12: 3063 | AG12: 4040 | AH12: 9438 | AI12: 2268 | AJ12: 941 | AK12: 1327 | AL12: 15961 | AM12: 4896 | AN12: 11065 | AO12: 12769 | AP12: 3587 | AQ12: 9182 | AR12: 16008 | AS12: 4304 | AT12: 11704 | AU12: 10197234 | AV12: 680397 | AW12: 2890708 | AX12: 68519 | AY12: 40166 | AZ12: 155758 | BA12: 1402243 | BB12: 90457 | BC12: 1145938 | BD12: 3723048
A13: 臺南市 | B13: Tainan City | C13: 623 | D13: 46188 | E13: 12612 | F13: 33576 | G13: 28 | H13: 60 | I13: 43 | J13: 77 | K13: 1063 | L13: 1422 | M13: 2032 | N13: 4741 | O13: 1566 | P13: 7427 | Q13: 1837 | R13: 5557 | S13: 1905 | T13: 6403 | U13: 4166 | V13: 7949 | W13: 2574 | X13: 4263 | Y13: 1017 | Z13: 2047 | AA13: 4008 | AB13: 6173 | AC13: 777 | AD13: 11276 | AE13: 2549 | AF13: 4758 | AG13: 1687 | AH13: 5059 | AI13: 1232 | AJ13: 454 | AK13: 778 | AL13: 14632 | AM13: 4253 | AN13: 10379 | AO13: 16187 | AP13: 4648 | AQ13: 11539 | AR13: 14137 | AS13: 3257 | AT13: 10880 | AU13: 8544489 | AV13: 1964627 | AW13: 2064742 | AX13: 289155 | AY13: 181625 | AZ13: 536792 | BA13: 177616 | BB13: 369389 | BC13: 1111627 | BD13: 1848916
A14: 高雄市 | B14: Kaohsiung City | C14: 688 | D14: 41193 | E14: 12919 | F14: 28274 | G14: 53 | H14: 162 | I14: 37 | J14: 35 | K14: 362 | L14: 409 | M14: 2262 | N14: 2670 | O14: 2282 | P14: 4728 | Q14: 1575 | R14: 3586 | S14: 2863 | T14: 7856 | U14: 3538 | V14: 8990 | W14: 3955 | X14: 5190 | Y14: 1291 | Z14: 1806 | AA14: 3123 | AB14: 3527 | AC14: 432 | AD14: 9726 | AE14: 1826 | AF14: 2165 | AG14: 2292 | AH14: 5860 | AI14: 2024 | AJ14: 899 | AK14: 1125 | AL14: 15594 | AM14: 5722 | AN14: 9872 | AO14: 13672 | AP14: 3818 | AQ14: 9854 | AR14: 9903 | AS14: 2480 | AT14: 7423 | AU14: 5217415 | AV14: 210020 | AW14: 2154008 | AX14: 95225 | AY14: 57023 | AZ14: 280311 | BA14: 46127 | BB14: 45619 | BC14: 773410 | BD14: 1555672
A15: 宜蘭縣 | B15: Yilan County | C15: 181 | D15: 15455 | E15: 4827 | F15: 10628 | G15: 76 | H15: 181 | I15: 9 | J15: 27 | K15: 374 | L15: 601 | M15: 426 | N15: 932 | O15: 413 | P15: 1137 | Q15: 697 | R15: 1677 | S15: 895 | T15: 2238 | U15: 2013 | V15: 4016 | W15: 961 | X15: 1399 | Y15: 580 | Z15: 1338 | AA15: 2607 | AB15: 5137 | AC15: 141 | AD15: 1535 | AE15: 456 | AF15: 1038 | AG15: 82 | AH15: 181 | AI15: 358 | AJ15: 84 | AK15: 274 | AL15: 3830 | AM15: 1255 | AN15: 2575 | AO15: 6280 | AP15: 2016 | AQ15: 4264 | AR15: 4987 | AS15: 1472 | AT15: 3515 | AU15: 1769157 | AV15: 313818 | AW15: 317262 | AX15: 22201 | AY15: 28303 | AZ15: 21714 | BA15: 6260 | BB15: 34588 | BC15: 642830 | BD15: 382181
A16: 新竹縣 | B16: Hsinchu County | C16: 150 | D16: 7705 | E16: 2428 | F16: 5277 | G16: 31 | H16: 55 | I16: 9 | J16: 8 | K16: 33 | L16: 27 | M16: 237 | N16: 346 | O16: 440 | P16: 781 | Q16: 169 | R16: 545 | S16: 520 | T16: 1620 | U16: 1020 | V16: 1950 | W16: 480 | X16: 626 | Y16: 202 | Z16: 235 | AA16: 446 | AB16: 561 | AC16: 53 | AD16: 1833 | AE16: 365 | AF16: 399 | AG16: 882 | AH16: 1623 | AI16: 240 | AJ16: 90 | AK16: 150 | AL16: 2286 | AM16: 784 | AN16: 1502 | AO16: 1812 | AP16: 592 | AQ16: 1220 | AR16: 3367 | AS16: 962 | AT16: 2405 | AU16: 1074200 | AV16: 21992 | AW16: 254378 | AX16: 13845 | AY16: 2 | AZ16: 387 | BA16: 16270 | BB16: 3762 | BC16: 322920 | BD16: 440644
A17: 苗栗縣 | B17: Miaoli County | C17: 226 | D17: 6520 | E17: 2083 | F17: 4437 | G17: 2 | H17: 6 | I17: 17 | J17: 27 | K17: 96 | L17: 156 | M17: 211 | N17: 334 | O17: 222 | P17: 487 | Q17: 312 | R17: 680 | S17: 388 | T17: 1041 | U17: 837 | V17: 1712 | W17: 218 | X17: 450 | Y17: 210 | Z17: 195 | AA17: 489 | AB17: 898 | AC17: 749 | AD17: 2120 | AE17: 244 | AF17: 298 | AG17: 173 | AH17: 476 | AI17: 74 | AJ17: 34 | AK17: 40 | AL17: 995 | AM17: 443 | AN17: 552 | AO17: 2570 | AP17: 856 | AQ17: 1714 | AR17: 2881 | AS17: 750 | AT17: 2131 | AU17: 1170864 | AV17: 34506 | AW17: 641298 | AX17: 19812 | AY17: 8174 | AZ17: 20476 | BA17: 21786 | BB17: 25496 | BC17: 292508 | BD17: 106808
A18: 彰化縣 | B18: Changhua County | C18: 500 | D18: 32155 | E18: 11962 | F18: 20193 | G18: 19 | H18: 35 | I18: 10 | J18: 21 | K18: 2941 | L18: 2846 | M18: 1964 | N18: 2128 | O18: 1206 | P18: 2099 | Q18: 1175 | R18: 2395 | S18: 1698 | T18: 5166 | U18: 2968 | V18: 5538 | W18: 1760 | X18: 2638 | Y18: 520 | Z18: 1248 | AA18: 3196 | AB18: 1940 | AC18: 302 | AD18: 7002 | AE18: 4558 | AF18: 4330 | AG18: 1626 | AH18: 3035 | AI18: 738 | AJ18: 350 | AK18: 388 | AL18: 7595 | AM18: 3161 | AN18: 4434 | AO18: 14950 | AP18: 5885 | AQ18: 9065 | AR18: 8872 | AS18: 2566 | AT18: 6306 | AU18: 661668 | AV18: 13478 | AW18: 299899 | AX18: 6415 | AY18: 2632 | AZ18: 18701 | BA18: 20144 | BB18: 6536 | BC18: 113546 | BD18: 180317
A19: 南投縣 | B19: Nantou County | C19: 363 | D19: 16286 | E19: 5429 | F19: 10857 | G19: 61 | H19: 154 | I19: 7 | J19: 12 | K19: 215 | L19: 450 | M19: 433 | N19: 979 | O19: 1063 | P19: 2575 | Q19: 1397 | R19: 2429 | S19: 921 | T19: 2056 | U19: 1393 | V19: 2356 | W19: 2314 | X19: 2385 | Y19: 982 | Z19: 1331 | AA19: 774 | AB19: 873 | AC19: 111 | AD19: 4090 | AE19: 565 | AF19: 934 | AG19: 683 | AH19: 1244 | AI19: 324 | AJ19: 126 | AK19: 198 | AL19: 3632 | AM19: 1275 | AN19: 2357 | AO19: 6118 | AP19: 1857 | AQ19: 4261 | AR19: 6212 | AS19: 2171 | AT19: 4041 | AU19: 4964696 | AV19: 173761 | AW19: 1674270 | AX19: 690230 | AY19: 99155 | AZ19: 145091 | BA19: 64536 | BB19: 94326 | BC19: 1234276 | BD19: 789051
... A30: 連江縣 | B30: Lienchiang County | C30: 6 | D30: 168 | E30: 30 | F30: 138 | G30: 0 | H30: 0 | I30: 0 | J30: 0 | K30: 0 | L30: 0 | M30: 0 | N30: 0 | O30: 4 | P30: 38 | Q30: 1 | R30: 14 | S30: 9 | T30: 29 | U30: 16 | V30: 57 | W30: 4 | X30: 7 | Y30: 13 | Z30: 19 | AA30: 2 | AB30: 11 | AC30: 0 | AD30: 39 | AE30: 0 | AF30: 0 | AG30: 11 | AH30: 62 | AI30: 5 | AJ30: 2 | AK30: 3 | AL30: 42 | AM30: 9 | AN30: 33 | AO30: 49 | AP30: 8 | AQ30: 41 | AR30: 72 | AS30: 11 | AT30: 61 | AU30: 12796 | AV30: 0 | AW30: 0 | AX30: 0 | AY30: 0 | AZ30: 0 | BA30: 0 | BB30: 0 | BC30: 12796 | BD30: 0
A31: 資料來源：直轄市、縣(市)政府。

Sheet 112
A1: 1.6-01 地方政府社會處(局)所轄志工 Number of Volunteers of Department of Social Welfare of Local Government
A2: 112年,2023
A3: 單位：隊；人；小時 Unit : Teams, Persons, Hours
A4: 地區別 Locality | C4: 總隊數 No. of Team | D4: 隊員總人數 No. of Team Member | G4: 隊員具 原住民身分 Team Members with Indigenous Identity | I4: 隊員按年齡分 By Age | W4: 隊員按身分分 By Identity | AI4: 隊員按教育程度分 By Education | AU4: 志工志願服務時數 (小時)
I5: 未滿12歲 Under 12 Years | K5: 12-17歲 12-17 Years | M5: 18-29歲 18-29 Years | O5: 30-49歲 30-49 Years | Q5: 50-54歲 50-54 Years | S5: 55-64歲 55-64 Years | U5: 65歲以上 65 Years & Over | W5: 工商界人士 Members of Industry & Commerce | Y5: 公教員工 Officers & Teacher | AA5: 退休人員 Retired Members | AC5: 家庭管理 Housekeepers | AE5: 學生 Students | AG5: 其他 Others | AI5: 研究所 Postgraduate | AL5: 大專 University, College | AO5: 高中(職) Senior High School | AR5: 國中及以下 Junior High School & Under | AU5: 合計 | AV5: 身心障礙福利服務 | AW5: 老人福利服務 | AX5: 婦女福利服務 | AY5: .少年福利服務 | AZ5: 兒童福利服務 | BA5: 諮商輔導服務 | BB5: 家庭福利服務 | BC5: 社區福利服務 | BD5: 綜合福利服務
D6: 計 | E6: 男 | F6: 女 | G6: 男 | H6: 女 | I6: 男 | J6: 女 | K6: 男 | L6: 女 | M6: 男 | N6: 女 | O6: 男 | P6: 女 | Q6: 男 | R6: 女 | S6: 男 | T6: 女 | U6: 男 | V6: 女 | W6: 男 | X6: 女 | Y6: 男 | Z6: 女 | AA6: 男 | AB6: 女 | AC6: 男 | AD6: 女 | AE6: 男 | AF6: 女 | AG6: 男 | AH6: 女 | AI6: 計 | AJ6: 男 | AK6: 女 | AL6: 計 | AM6: 男 | AN6: 女 | AO6: 計 | AP6: 男 | AQ6: 女 | AR6: 計 | AS6: 男 | AT6: 女 | AU6: Total | AV6: Welfare Service for the Disabled | AW6: Welfare Service for the Aged | AX6: Welfare Service for the Women | AY6: Welfare Service for the Young | AZ6: Welfare Service for Children | BA6: Service of Consulting | BB6: Welfare Service for Home | BC6: Welfare Service for Communities | BD6: Complex Welfare Service
D7: Total | E7: Male | F7: Female | G7: Male | H7: Female | I7: Male | J7: Female | K7: Male | L7: Female | M7: Male | N7: Female | O7: Male | P7: Female | Q7: Male | R7: Female | S7: Male | T7: Female | U7: Male | V7: Female | W7: Male | X7: Female | Y7: Male | Z7: Female | AA7: Male | AB7: Female | AC7: Male | AD7: Female | AE7: Male | AF7: Female | AG7: Male | AH7: Female | AI7: Total | AJ7: Male | AK7: Female | AL7: Total | AM7: Male | AN7: Female | AO7: Total | AP7: Male | AQ7: Female | AR7: Total | AS7: Male | AT7: Female
A8: 總計 | B8: Total | C8: 7166 | D8: 426108 | E8: 129875 | F8: 296233 | G8: 2485 | H8: 5192 | I8: 752 | J8: 836 | K8: 7830 | L8: 9785 | M8: 14288 | N8: 24124 | O8: 19755 | P8: 45518 | Q8: 15848 | R8: 40574 | S8: 30422 | T8: 81514 | U8: 40980 | V8: 93882 | W8: 34628 | X8: 49855 | Y8: 13649 | Z8: 21316 | AA8: 32163 | AB8: 49878 | AC8: 5824 | AD8: 97456 | AE8: 16297 | AF8: 26624 | AG8: 27314 | AH8: 51104 | AI8: 20657 | AJ8: 8446 | AK8: 12211 | AL8: 130700 | AM8: 43495 | AN8: 87205 | AO8: 152004 | AP8: 45561 | AQ8: 106443 | AR8: 122747 | AS8: 32373 | AT8: 90374 | AU8: 58812832 | AV8: 4356719 | AW8: 24849048 | AX8: 1790262 | AY8: 1230979 | AZ8: 2624910 | BA8: 1044456 | BB8: 970171 | BC8: 9849699 | BD8: 12096588
A9: 新北市 | B9: New Taipei City | C9: 695 | D9: 57733 | E9: 17204 | F9: 40529 | G9: 658 | H9: 1367 | I9: 68 | J9: 83 | K9: 195 | L9: 363 | M9: 727 | N9: 1270 | O9: 1795 | P9: 3651 | Q9: 1938 | R9: 4522 | S9: 6049 | T9: 14964 | U9: 6432 | V9: 15676 | W9: 4361 | X9: 5703 | Y9: 1347 | Z9: 1942 | AA9: 5393 | AB9: 9872 | AC9: 524 | AD9: 15684 | AE9: 714 | AF9: 1166 | AG9: 4865 | AH9: 6162 | AI9: 1764 | AJ9: 749 | AK9: 1015 | AL9: 12548 | AM9: 4375 | AN9: 8173 | AO9: 22840 | AP9: 6485 | AQ9: 16355 | AR9: 20581 | AS9: 5595 | AT9: 14986 | AU9: 11679919 | AV9: 300748 | AW9: 4462134 | AX9: 225856 | AY9: 297958 | AZ9: 366595 | BA9: 88422 | BB9: 76244 | BC9: 2359200 | BD9: 3502762
A10: 臺北市 | B10: Taipei City | C10: 410 | D10: 43022 | E10: 13869 | F10: 29153 | G10: 54 | H10: 73 | I10: 62 | J10: 55 | K10: 259 | L10: 321 | M10: 1403 | N10: 2585 | O10: 3355 | P10: 5713 | Q10: 1635 | R10: 4691 | S10: 3195 | T10: 7158 | U10: 3960 | V10: 8630 | W10: 3711 | X10: 6134 | Y10: 1021 | Z10: 1856 | AA10: 2389 | AB10: 5513 | AC10: 482 | AD10: 5584 | AE10: 862 | AF10: 1822 | AG10: 5404 | AH10: 8244 | AI10: 5848 | AJ10: 2542 | AK10: 3306 | AL10: 20564 | AM10: 6327 | AN10: 14237 | AO10: 11733 | AP10: 3600 | AQ10: 8133 | AR10: 4877 | AS10: 1400 | AT10: 3477 | AU10: 2165971 | AV10: 103343 | AW10: 525856 | AX10: 72694 | AY10: 209723 | AZ10: 242937 | BA10: 67038 | BB10: 25925 | BC10: 191254 | BD10: 727201
A11: 桃園市 | B11: Taoyuan City | C11: 715 | D11: 39861 | E11: 11312 | F11: 28549 | G11: 171 | H11: 542 | I11: 22 | J11: 25 | K11: 142 | L11: 125 | M11: 661 | N11: 988 | O11: 1533 | P11: 3183 | Q11: 1170 | R11: 3399 | S11: 3211 | T11: 9376 | U11: 4573 | V11: 11453 | W11: 3553 | X11: 5542 | Y11: 1265 | Z11: 1755 | AA11: 4029 | AB11: 5783 | AC11: 470 | AD11: 11499 | AE11: 493 | AF11: 1387 | AG11: 1502 | AH11: 2583 | AI11: 1417 | AJ11: 560 | AK11: 857 | AL11: 10711 | AM11: 3538 | AN11: 7173 | AO11: 16049 | AP11: 4073 | AQ11: 11976 | AR11: 11684 | AS11: 3141 | AT11: 8543 | AU11: 2105087 | AV11: 80097 | AW11: 1128540 | AX11: 96027 | AY11: 75168 | AZ11: 67311 | BA11: 32996 | BB11: 39594 | BC11: 131747 | BD11: 453607
A12: 臺中市 | B12: Taichung City | C12: 870 | D12: 43874 | E12: 13085 | F12: 30789 | G12: 129 | H12: 424 | I12: 142 | J12: 141 | K12: 471 | L12: 631 | M12: 2294 | N12: 3463 | O12: 2691 | P12: 5266 | Q12: 1130 | R12: 3021 | S12: 2963 | T12: 9246 | U12: 3394 | V12: 9021 | W12: 5069 | X12: 6618 | Y12: 1007 | Z12: 1551 | AA12: 1542 | AB12: 2323 | AC12: 168 | AD12: 9594 | AE12: 1787 | AF12: 3148 | AG12: 3512 | AH12: 7555 | AI12: 2059 | AJ12: 865 | AK12: 1194 | AL12: 14911 | AM12: 4731 | AN12: 10180 | AO12: 12684 | AP12: 3624 | AQ12: 9060 | AR12: 14220 | AS12: 3865 | AT12: 10355 | AU12: 8502905 | AV12: 396335 | AW12: 5950327 | AX12: 22471 | AY12: 31366 | AZ12: 138555 | BA12: 76379 | BB12: 39344 | BC12: 799696 | BD12: 1048432
A13: 臺南市 | B13: Tainan City | C13: 625 | D13: 45655 | E13: 12874 | F13: 32781 | G13: 46 | H13: 77 | I13: 90 | J13: 119 | K13: 1201 | L13: 1536 | M13: 1750 | N13: 4387 | O13: 1792 | P13: 7811 | Q13: 1975 | R13: 5636 | S13: 1875 | T13: 6167 | U13: 4191 | V13: 7125 | W13: 3177 | X13: 5722 | Y13: 1337 | Z13: 2289 | AA13: 3844 | AB13: 5990 | AC13: 773 | AD13: 10923 | AE13: 2144 | AF13: 4819 | AG13: 1599 | AH13: 3038 | AI13: 1277 | AJ13: 460 | AK13: 817 | AL13: 15463 | AM13: 4608 | AN13: 10855 | AO13: 15295 | AP13: 4584 | AQ13: 10711 | AR13: 13620 | AS13: 3222 | AT13: 10398 | AU13: 10558771 | AV13: 2535267 | AW13: 2937710 | AX13: 396651 | AY13: 236492 | AZ13: 789941 | BA13: 496534 | BB13: 448932 | BC13: 1150127 | BD13: 1567117
A14: 高雄市 | B14: Kaohsiung City | C14: 671 | D14: 40837 | E14: 12890 | F14: 27947 | G14: 59 | H14: 165 | I14: 57 | J14: 57 | K14: 352 | L14: 418 | M14: 2335 | N14: 2631 | O14: 2259 | P14: 4527 | Q14: 1454 | R14: 3247 | S14: 2953 | T14: 8187 | U14: 3480 | V14: 8880 | W14: 3930 | X14: 5284 | Y14: 1278 | Z14: 1813 | AA14: 3237 | AB14: 3423 | AC14: 475 | AD14: 10019 | AE14: 1877 | AF14: 2220 | AG14: 2093 | AH14: 5188 | AI14: 1959 | AJ14: 894 | AK14: 1065 | AL14: 15555 | AM14: 5771 | AN14: 9784 | AO14: 13272 | AP14: 3761 | AQ14: 9511 | AR14: 10051 | AS14: 2464 | AT14: 7587 | AU14: 5018579 | AV14: 278693 | AW14: 2123019 | AX14: 90811 | AY14: 50183 | AZ14: 270580 | BA14: 50216 | BB14: 51535 | BC14: 764744 | BD14: 1338798
A15: 宜蘭縣 | B15: Yilan County | C15: 161 | D15: 12433 | E15: 3798 | F15: 8635 | G15: 60 | H15: 139 | I15: 2 | J15: 7 | K15: 357 | L15: 549 | M15: 356 | N15: 776 | O15: 324 | P15: 927 | Q15: 506 | R15: 1236 | S15: 671 | T15: 1779 | U15: 1582 | V15: 3361 | W15: 875 | X15: 1124 | Y15: 506 | Z15: 1107 | AA15: 1894 | AB15: 4131 | AC15: 106 | AD15: 1197 | AE15: 371 | AF15: 933 | AG15: 46 | AH15: 143 | AI15: 251 | AJ15: 47 | AK15: 204 | AL15: 2982 | AM15: 950 | AN15: 2032 | AO15: 4962 | AP15: 1527 | AQ15: 3435 | AR15: 4238 | AS15: 1274 | AT15: 2964 | AU15: 1335825 | AV15: 244464 | AW15: 286910 | AX15: 18396 | AY15: 18716 | AZ15: 15291 | BA15: 3374 | BB15: 19540 | BC15: 446346 | BD15: 282788
A16: 新竹縣 | B16: Hsinchu County | C16: 144 | D16: 7338 | E16: 2176 | F16: 5162 | G16: 0 | H16: 5 | I16: 0 | J16: 4 | K16: 51 | L16: 30 | M16: 111 | N16: 133 | O16: 274 | P16: 993 | Q16: 107 | R16: 558 | S16: 489 | T16: 1512 | U16: 1144 | V16: 1932 | W16: 480 | X16: 626 | Y16: 202 | Z16: 220 | AA16: 473 | AB16: 500 | AC16: 53 | AD16: 1833 | AE16: 86 | AF16: 112 | AG16: 882 | AH16: 1871 | AI16: 288 | AJ16: 103 | AK16: 185 | AL16: 1981 | AM16: 559 | AN16: 1422 | AO16: 1711 | AP16: 555 | AQ16: 1156 | AR16: 3358 | AS16: 959 | AT16: 2399 | AU16: 1057050 | AV16: 23202 | AW16: 336508 | AX16: 12597 | AY16: 0 | AZ16: 876 | BA16: 13240 | BB16: 2952 | BC16: 299915 | BD16: 367760
A17: 苗栗縣 | B17: Miaoli County | C17: 242 | D17: 6516 | E17: 2068 | F17: 4448 | G17: 3 | H17: 0 | I17: 17 | J17: 27 | K17: 96 | L17: 156 | M17: 206 | N17: 339 | O17: 218 | P17: 492 | Q17: 312 | R17: 680 | S17: 388 | T17: 1041 | U17: 831 | V17: 1713 | W17: 208 | X17: 452 | Y17: 210 | Z17: 195 | AA17: 489 | AB17: 898 | AC17: 749 | AD17: 2130 | AE17: 240 | AF17: 298 | AG17: 172 | AH17: 475 | AI17: 74 | AJ17: 34 | AK17: 40 | AL17: 986 | AM17: 434 | AN17: 552 | AO17: 2577 | AP17: 851 | AQ17: 1726 | AR17: 2879 | AS17: 749 | AT17: 2130 | AU17: 1170855 | AV17: 34506 | AW17: 641295 | AX17: 19812 | AY17: 8174 | AZ17: 20476 | BA17: 21786 | BB17: 25496 | BC17: 292502 | BD17: 106808
A18: 彰化縣 | B18: Changhua County | C18: 495 | D18: 31679 | E18: 11785 | F18: 19894 | G18: 21 | H18: 35 | I18: 12 | J18: 18 | K18: 2898 | L18: 2805 | M18: 1937 | N18: 2099 | O18: 1186 | P18: 2068 | Q18: 1156 | R18: 2520 | S18: 1850 | T18: 5260 | U18: 2746 | V18: 5124 | W18: 1730 | X18: 2599 | Y18: 510 | Z18: 1227 | AA18: 3149 | AB18: 1910 | AC18: 301 | AD18: 6899 | AE18: 4491 | AF18: 4269 | AG18: 1604 | AH18: 2990 | AI18: 727 | AJ18: 347 | AK18: 380 | AL18: 7482 | AM18: 3114 | AN18: 4368 | AO18: 14729 | AP18: 5796 | AQ18: 8933 | AR18: 8741 | AS18: 2528 | AT18: 6213 | AU18: 650171 | AV18: 13249 | AW18: 294727 | AX18: 6285 | AY18: 2588 | AZ18: 18362 | BA18: 19798 | BB18: 6425 | BC18: 111532 | BD18: 177205
A19: 南投縣 | B19: Nantou County | C19: 349 | D19: 15702 | E19: 5233 | F19: 10469 | G19: 61 | H19: 154 | I19: 7 | J19: 12 | K19: 215 | L19: 447 | M19: 430 | N19: 964 | O19: 1062 | P19: 2557 | Q19: 1377 | R19: 2391 | S19: 890 | T19: 1995 | U19: 1252 | V19: 2103 | W19: 2243 | X19: 2289 | Y19: 949 | Z19: 1266 | AA19: 691 | AB19: 828 | AC19: 107 | AD19: 3911 | AE19: 562 | AF19: 931 | AG19: 681 | AH19: 1244 | AI19: 323 | AJ19: 126 | AK19: 197 | AL19: 3575 | AM19: 1257 | AN19: 2318 | AO19: 6010 | AP19: 1820 | AQ19: 4190 | AR19: 5794 | AS19: 2030 | AT19: 3764 | AU19: 4433980 | AV19: 155187 | AW19: 1497154 | AX19: 616322 | AY19: 88676 | AZ19: 129695 | BA19: 57639 | BB19: 84243 | BC19: 1091614 | BD19: 713450
... A30: 連江縣 | B30: Lienchiang County | C30: 8 | D30: 278 | E30: 39 | F30: 239 | G30: 0 | H30: 0 | I30: 0 | J30: 0 | K30: 0 | L30: 0 | M30: 0 | N30: 3 | O30: 8 | P30: 70 | Q30: 3 | R30: 39 | S30: 12 | T30: 70 | U30: 16 | V30: 57 | W30: 6 | X30: 17 | Y30: 12 | Z30: 31 | AA30: 4 | AB30: 3 | AC30: 0 | AD30: 59 | AE30: 0 | AF30: 1 | AG30: 17 | AH30: 128 | AI30: 1 | AJ30: 1 | AK30: 0 | AL30: 72 | AM30: 15 | AN30: 57 | AO30: 81 | AP30: 10 | AQ30: 71 | AR30: 124 | AS30: 13 | AT30: 111 | AU30: 12618 | AV30: 0 | AW30: 0 | AX30: 0 | AY30: 0 | AZ30: 0 | BA30: 0 | BB30: 0 | BC30: 12618 | BD30: 0
A31: 資料來源：直轄市、縣(市)政府。

Sheet 111
A1: 1.6-01 地方政府社會處(局)所轄志工 Number of Volunteers of Department of Social Welfare of Local Government
A2: 111年,2022
A3: 單位：隊；人；小時 Unit : Teams, Persons, Hours
A4: 地區別 Locality | C4: 總隊數 No. of Team | D4: 隊員總人數 No. of Team Member | G4: 隊員具 原住民身分 Team Members with Indigenous Identity | I4: 隊員按年齡分 By Age | W4: 隊員按身分分 By Identity | AI4: 隊員按教育程度分 By Education | AU4: 志工志願服務時數 (小時)
I5: 未滿12歲 Under 12 Years | K5: 12-17歲 12-17 Years | M5: 18-29歲 18-29 Years | O5: 30-49歲 30-49 Years | Q5: 50-54歲 50-54 Years | S5: 55-64歲 55-64 Years | U5: 65歲以上 65 Years & Over | W5: 工商界人士 Members of Industry & Commerce | Y5: 公教員工 Officers & Teacher | AA5: 退休人員 Retired Members | AC5: 家庭管理 Housekeepers | AE5: 學生 Students | AG5: 其他 Others | AI5: 研究所 Postgraduate | AL5: 大專 University, College | AO5: 高中(職) Senior High School | AR5: 國中及以下 Junior High School & Under | AU5: 合計 | AV5: 身心障礙福利服務 | AW5: 老人福利服務 | AX5: 婦女福利服務 | AY5: .少年福利服務 | AZ5: 兒童福利服務 | BA5: 諮商輔導服務 | BB5: 家庭福利服務 | BC5: 社區福利服務 | BD5: 綜合福利服務
D6: 計 | E6: 男 | F6: 女 | G6: 男 | H6: 女 | I6: 男 | J6: 女 | K6: 男 | L6: 女 | M6: 男 | N6: 女 | O6: 男 | P6: 女 | Q6: 男 | R6: 女 | S6: 男 | T6: 女 | U6: 男 | V6: 女 | W6: 男 | X6: 女 | Y6: 男 | Z6: 女 | AA6: 男 | AB6: 女 | AC6: 男 | AD6: 女 | AE6: 男 | AF6: 女 | AG6: 男 | AH6: 女 | AI6: 計 | AJ6: 男 | AK6: 女 | AL6: 計 | AM6: 男 | AN6: 女 | AO6: 計 | AP6: 男 | AQ6: 女 | AR6: 計 | AS6: 男 | AT6: 女 | AU6: Total | AV6: Welfare Service for the Disabled | AW6: Welfare Service for the Aged | AX6: Welfare Service for the Women | AY6: Welfare Service for the Young | AZ6: Welfare Service for Children | BA6: Service of Consulting | BB6: Welfare Service for Home | BC6: Welfare Service for Communities | BD6: Complex Welfare Service
D7: Total | E7: Male | F7: Female | G7: Male | H7: Female | I7: Male | J7: Female | K7: Male | L7: Female | M7: Male | N7: Female | O7: Male | P7: Female | Q7: Male | R7: Female | S7: Male | T7: Female | U7: Male | V7: Female | W7: Male | X7: Female | Y7: Male | Z7: Female | AA7: Male | AB7: Female | AC7: Male | AD7: Female | AE7: Male | AF7: Female | AG7: Male | AH7: Female | AI7: Total | AJ7: Male | AK7: Female | AL7: Total | AM7: Male | AN7: Female | AO7: Total | AP7: Male | AQ7: Female | AR7: Total | AS7: Male | AT7: Female
A8: 總計 | B8: Total | C8: 6691 | D8: 410396 | E8: 130113 | F8: 280283 | G8: 1869 | H8: 4266 | I8: 772 | J8: 879 | K8: 8394 | L8: 10332 | M8: 17184 | N8: 24657 | O8: 20630 | P8: 44470 | Q8: 15853 | R8: 35543 | S8: 28575 | T8: 77039 | U8: 38705 | V8: 87363 | W8: 34752 | X8: 48138 | Y8: 13388 | Z8: 18352 | AA8: 33136 | AB8: 46979 | AC8: 6481 | AD8: 93825 | AE8: 20114 | AF8: 28875 | AG8: 22242 | AH8: 44114 | AI8: 18490 | AJ8: 7319 | AK8: 11171 | AL8: 124775 | AM8: 44518 | AN8: 80257 | AO8: 147403 | AP8: 45896 | AQ8: 101507 | AR8: 119728 | AS8: 32380 | AT8: 87348 | AU8: 51544093 | AV8: 4752921 | AW8: 20626234 | AX8: 1608848 | AY8: 1095265 | AZ8: 2600147 | BA8: 1072957 | BB8: 915193 | BC8: 7546256 | BD8: 11326272
A9: 新北市 | B9: New Taipei City | C9: 667 | D9: 56332 | E9: 15679 | F9: 40653 | G9: 300 | H9: 654 | I9: 73 | J9: 93 | K9: 168 | L9: 340 | M9: 635 | N9: 1161 | O9: 1712 | P9: 3796 | Q9: 1769 | R9: 4138 | S9: 4442 | T9: 13669 | U9: 6880 | V9: 17456 | W9: 4290 | X9: 5554 | Y9: 1354 | Z9: 1903 | AA9: 5436 | AB9: 9628 | AC9: 466 | AD9: 15323 | AE9: 573 | AF9: 1057 | AG9: 3560 | AH9: 7188 | AI9: 1220 | AJ9: 517 | AK9: 703 | AL9: 11040 | AM9: 4101 | AN9: 6939 | AO9: 22345 | AP9: 6087 | AQ9: 16258 | AR9: 21727 | AS9: 4974 | AT9: 16753 | AU9: 9003566 | AV9: 453484 | AW9: 3068870 | AX9: 194931 | AY9: 348889 | AZ9: 438731 | BA9: 93459 | BB9: 94338 | BC9: 1290593 | BD9: 3020271
A10: 臺北市 | B10: Taipei City | C10: 350 | D10: 39165 | E10: 12828 | F10: 26337 | G10: 31 | H10: 65 | I10: 69 | J10: 111 | K10: 323 | L10: 414 | M10: 2323 | N10: 3340 | O10: 3547 | P10: 6509 | Q10: 1791 | R10: 4095 | S10: 2539 | T10: 6205 | U10: 2236 | V10: 5663 | W10: 3626 | X10: 6497 | Y10: 1315 | Z10: 1594 | AA10: 2854 | AB10: 6420 | AC10: 980 | AD10: 4864 | AE10: 1710 | AF10: 2814 | AG10: 2343 | AH10: 4148 | AI10: 4660 | AJ10: 1780 | AK10: 2880 | AL10: 20114 | AM10: 7141 | AN10: 12973 | AO10: 11655 | AP10: 3221 | AQ10: 8434 | AR10: 2736 | AS10: 686 | AT10: 2050 | AU10: 1451222 | AV10: 154982 | AW10: 393016 | AX10: 29942 | AY10: 8601 | AZ10: 106545 | BA10: 55094 | BB10: 4880 | BC10: 71973 | BD10: 626189
A11: 桃園市 | B11: Taoyuan City | C11: 559 | D11: 35840 | E11: 10039 | F11: 25801 | G11: 24 | H11: 57 | I11: 16 | J11: 13 | K11: 123 | L11: 98 | M11: 632 | N11: 783 | O11: 1151 | P11: 2777 | Q11: 1146 | R11: 3308 | S11: 3283 | T11: 8942 | U11: 3688 | V11: 9880 | W11: 3403 | X11: 5312 | Y11: 1008 | Z11: 1039 | AA11: 3413 | AB11: 4647 | AC11: 489 | AD11: 10557 | AE11: 494 | AF11: 1418 | AG11: 1232 | AH11: 2828 | AI11: 1368 | AJ11: 553 | AK11: 815 | AL11: 9539 | AM11: 3138 | AN11: 6401 | AO11: 13132 | AP11: 3032 | AQ11: 10100 | AR11: 11801 | AS11: 3316 | AT11: 8485 | AU11: 1309264 | AV11: 61128 | AW11: 705979 | AX11: 49075 | AY11: 38015 | AZ11: 35522 | BA11: 19873 | BB11: 23695 | BC11: 110512 | BD11: 265465
A12: 臺中市 | B12: Taichung City | C12: 822 | D12: 41923 | E12: 12914 | F12: 29009 | G12: 67 | H12: 196 | I12: 140 | J12: 144 | K12: 415 | L12: 599 | M12: 3069 | N12: 3135 | O12: 2519 | P12: 4763 | Q12: 1044 | R12: 2842 | S12: 2652 | T12: 9684 | U12: 3075 | V12: 7842 | W12: 4725 | X12: 5858 | Y12: 1009 | Z12: 1517 | AA12: 1454 | AB12: 2081 | AC12: 185 | AD12: 9087 | AE12: 1606 | AF12: 2884 | AG12: 3935 | AH12: 7582 | AI12: 1875 | AJ12: 789 | AK12: 1086 | AL12: 13817 | AM12: 4556 | AN12: 9261 | AO12: 11867 | AP12: 3385 | AQ12: 8482 | AR12: 14364 | AS12: 4184 | AT12: 10180 | AU12: 8409454 | AV12: 312790 | AW12: 5653730 | AX12: 61133 | AY12: 51576 | AZ12: 209197 | BA12: 128466 | BB12: 49513 | BC12: 766244 | BD12: 1176805
A13: 臺南市 | B13: Tainan City | C13: 584 | D13: 42950 | E13: 14282 | F13: 28668 | G13: 31 | H13: 47 | I13: 110 | J13: 127 | K13: 1298 | L13: 1492 | M13: 1772 | N13: 3660 | O13: 2858 | P13: 7427 | Q13: 1956 | R13: 2964 | S13: 2599 | T13: 6343 | U13: 3689 | V13: 6655 | W13: 3452 | X13: 4865 | Y13: 1115 | Z13: 1684 | AA13: 3620 | AB13: 4281 | AC13: 756 | AD13: 10663 | AE13: 4136 | AF13: 5145 | AG13: 1203 | AH13: 2030 | AI13: 1199 | AJ13: 406 | AK13: 793 | AL13: 13874 | AM13: 4384 | AN13: 9490 | AO13: 14901 | AP13: 5596 | AQ13: 9305 | AR13: 12976 | AS13: 3896 | AT13: 9080 | AU13: 8837940 | AV13: 2452414 | AW13: 2008481 | AX13: 348678 | AY13: 226369 | AZ13: 782254 | BA13: 473643 | BB13: 385163 | BC13: 840810 | BD13: 1320128
A14: 高雄市 | B14: Kaohsiung City | C14: 631 | D14: 39979 | E14: 13004 | F14: 26975 | G14: 64 | H14: 165 | I14: 62 | J14: 47 | K14: 439 | L14: 637 | M14: 3043 | N14: 3204 | O14: 2160 | P14: 4293 | Q14: 1384 | R14: 3056 | S14: 2767 | T14: 7592 | U14: 3149 | V14: 8146 | W14: 3786 | X14: 5056 | Y14: 1304 | Z14: 1593 | AA14: 3250 | AB14: 3322 | AC14: 511 | AD14: 10038 | AE14: 2369 | AF14: 2912 | AG14: 1784 | AH14: 4054 | AI14: 1843 | AJ14: 879 | AK14: 964 | AL14: 15372 | AM14: 5959 | AN14: 9413 | AO14: 13013 | AP14: 3738 | AQ14: 9275 | AR14: 9751 | AS14: 2428 | AT14: 7323 | AU14: 4981795 | AV14: 381642 | AW14: 2092030 | AX14: 80165 | AY14: 49938 | AZ14: 241217 | BA14: 45315 | BB14: 52432 | BC14: 779696 | BD14: 1259360
A15: 宜蘭縣 | B15: Yilan County | C15: 137 | D15: 19143 | E15: 7354 | F15: 11789 | G15: 143 | H15: 213 | I15: 4 | J15: 19 | K15: 688 | L15: 927 | M15: 706 | N15: 1257 | O15: 761 | P15: 1351 | Q15: 838 | R15: 1461 | S15: 1135 | T15: 1958 | U15: 3222 | V15: 4816 | W15: 1667 | X15: 1924 | Y15: 667 | Z15: 1241 | AA15: 3724 | AB15: 5215 | AC15: 214 | AD15: 1888 | AE15: 790 | AF15: 1253 | AG15: 292 | AH15: 268 | AI15: 365 | AJ15: 120 | AK15: 245 | AL15: 4986 | AM15: 1917 | AN15: 3069 | AO15: 7030 | AP15: 2669 | AQ15: 4361 | AR15: 6762 | AS15: 2648 | AT15: 4114 | AU15: 1826737 | AV15: 202970 | AW15: 411177 | AX15: 24596 | AY15: 20366 | AZ15: 19773 | BA15: 3916 | BB15: 20599 | BC15: 673967 | BD15: 449373
A16: 新竹縣 | B16: Hsinchu County | C16: 143 | D16: 7074 | E16: 2296 | F16: 4778 | G16: 19 | H16: 62 | I16: 7 | J16: 12 | K16: 35 | L16: 26 | M16: 228 | N16: 324 | O16: 433 | P16: 758 | Q16: 119 | R16: 358 | S16: 504 | T16: 1247 | U16: 970 | V16: 2053 | W16: 461 | X16: 622 | Y16: 168 | Z16: 195 | AA16: 411 | AB16: 434 | AC16: 42 | AD16: 1821 | AE16: 382 | AF16: 434 | AG16: 832 | AH16: 1272 | AI16: 238 | AJ16: 100 | AK16: 138 | AL16: 2597 | AM16: 1010 | AN16: 1587 | AO16: 2278 | AP16: 753 | AQ16: 1525 | AR16: 1961 | AS16: 433 | AT16: 1528 | AU16: 1048453 | AV16: 330619 | AW16: 341648 | AX16: 17223 | AY16: 1713 | AZ16: 15752 | BA16: 31477 | BB16: 26924 | BC16: 130710 | BD16: 152387
A17: 苗栗縣 | B17: Miaoli County | C17: 257 | D17: 6520 | E17: 2069 | F17: 4451 | G17: 3 | H17: 0 | I17: 17 | J17: 27 | K17: 96 | L17: 156 | M17: 206 | N17: 339 | O17: 218 | P17: 492 | Q17: 312 | R17: 681 | S17: 388 | T17: 1042 | U17: 832 | V17: 1714 | W17: 206 | X17: 452 | Y17: 212 | Z17: 195 | AA17: 489 | AB17: 900 | AC17: 750 | AD17: 2131 | AE17: 240 | AF17: 298 | AG17: 172 | AH17: 475 | AI17: 74 | AJ17: 34 | AK17: 40 | AL17: 987 | AM17: 434 | AN17: 553 | AO17: 2578 | AP17: 852 | AQ17: 1726 | AR17: 2881 | AS17: 749 | AT17: 2132 | AU17: 1171439 | AV17: 34523 | AW17: 641615 | AX17: 19822 | AY17: 8178 | AZ17: 20486 | BA17: 21797 | BB17: 25509 | BC17: 292648 | BD17: 106861
A18: 彰化縣 | B18: Changhua County | C18: 479 | D18: 30872 | E18: 12246 | F18: 18626 | G18: 22 | H18: 27 | I18: 9 | J18: 10 | K18: 3233 | L18: 3263 | M18: 2084 | N18: 2183 | O18: 1198 | P18: 1965 | Q18: 1154 | R18: 2056 | S18: 1848 | T18: 4523 | U18: 2720 | V18: 4626 | W18: 1829 | X18: 2393 | Y18: 478 | Z18: 734 | AA18: 3146 | AB18: 1625 | AC18: 424 | AD18: 6442 | AE18: 4724 | AF18: 4565 | AG18: 1645 | AH18: 2867 | AI18: 677 | AJ18: 332 | AK18: 345 | AL18: 6549 | AM18: 3035 | AN18: 3514 | AO18: 15158 | AP18: 6402 | AQ18: 8756 | AR18: 8488 | AS18: 2477 | AT18: 6011 | AU18: 648408 | AV18: 8178 | AW18: 302743 | AX18: 6607 | AY18: 2140 | AZ18: 12768 | BA18: 19112 | BB18: 7507 | BC18: 140635 | BD18: 148718
A19: 南投縣 | B19: Nantou County | C19: 342 | D19: 15363 | E19: 5164 | F19: 10199 | G19: 55 | H19: 130 | I19: 7 | J19: 12 | K19: 214 | L19: 445 | M19: 429 | N19: 941 | O19: 1049 | P19: 2547 | Q19: 1362 | R19: 2350 | S19: 879 | T19: 1897 | U19: 1224 | V19: 2007 | W19: 2230 | X19: 2246 | Y19: 939 | Z19: 1249 | AA19: 678 | AB19: 777 | AC19: 90 | AD19: 3775 | AE19: 560 | AF19: 924 | AG19: 667 | AH19: 1228 | AI19: 323 | AJ19: 126 | AK19: 197 | AL19: 3527 | AM19: 1247 | AN19: 2280 | AO19: 5914 | AP19: 1803 | AQ19: 4111 | AR19: 5599 | AS19: 1988 | AT19: 3611 | AU19: 4078302 | AV19: 142995 | AW19: 1435168 | AX19: 570366 | AY19: 84710 | AZ19: 122350 | BA19: 56417 | BB19: 81086 | BC19: 368838 | BD19: 1216372
... A30: 連江縣 | B30: Lienchiang County | C30: 9 | D30: 280 | E30: 65 | F30: 215 | G30: 0 | H30: 0 | I30: 0 | J30: 1 | K30: 0 | L30: 0 | M30: 1 | N30: 3 | O30: 21 | P30: 81 | Q30: 8 | R30: 30 | S30: 18 | T30: 66 | U30: 17 | V30: 34 | W30: 12 | X30: 16 | Y30: 20 | Z30: 27 | AA30: 4 | AB30: 1 | AC30: 0 | AD30: 57 | AE30: 0 | AF30: 0 | AG30: 29 | AH30: 114 | AI30: 2 | AJ30: 1 | AK30: 1 | AL30: 67 | AM30: 21 | AN30: 46 | AO30: 77 | AP30: 24 | AQ30: 53 | AR30: 134 | AS30: 19 | AT30: 115 | AU30: 3567 | AV30: 0 | AW30: 1409 | AX30: 9 | AY30: 0 | AZ30: 0 | BA30: 0 | BB30: 6 | BC30: 604 | BD30: 1539
A31: 資料來源：直轄市、縣(市)政府。

Sheet 110
A1: 1.6-01 地方政府社會處(局)所轄志工 Number of Volunteers of Department of Social Welfare of Local Government
A2: 110年,2021
A3: 單位：隊；人；小時 Unit : Teams, Persons, Hours
A4: 地區別 Locality | C4: 總隊數 No. of Team | D4: 隊員總人數 No. of Team Member | G4: 隊員具 原住民身分 Team Members with Indigenous Identity | I4: 隊員按年齡分 By Age | W4: 隊員按身分分 By Identity | AI4: 隊員按教育程度分 By Education | AU4: 志工志願服務時數 (小時)
I5: 未滿12歲 Under 12 Years | K5: 12-17歲 12-17 Years | M5: 18-29歲 18-29 Years | O5: 30-49歲 30-49 Years | Q5: 50-54歲 50-54 Years | S5: 55-64歲 55-64 Years | U5: 65歲以上 65 Years & Over | W5: 工商界人士 Members of Industry & Commerce | Y5: 公教員工 Officers & Teacher | AA5: 退休人員 Retired Members | AC5: 家庭管理 Housekeepers | AE5: 學生 Students | AG5: 其他 Others | AI5: 研究所 Postgraduate | AL5: 大專 University, College | AO5: 高中(職) Senior High School | AR5: 國中及以下 Junior High School & Under | AU5: 合計 | AV5: 身心障礙福利服務 | AW5: 老人福利服務 | AX5: 婦女福利服務 | AY5: .少年福利服務 | AZ5: 兒童福利服務 | BA5: 諮商輔導服務 | BB5: 家庭福利服務 | BC5: 社區福利服務 | BD5: 綜合福利服務
D6: 計 | E6: 男 | F6: 女 | G6: 男 | H6: 女 | I6: 男 | J6: 女 | K6: 男 | L6: 女 | M6: 男 | N6: 女 | O6: 男 | P6: 女 | Q6: 男 | R6: 女 | S6: 男 | T6: 女 | U6: 男 | V6: 女 | W6: 男 | X6: 女 | Y6: 男 | Z6: 女 | AA6: 男 | AB6: 女 | AC6: 男 | AD6: 女 | AE6: 男 | AF6: 女 | AG6: 男 | AH6: 女 | AI6: 計 | AJ6: 男 | AK6: 女 | AL6: 計 | AM6: 男 | AN6: 女 | AO6: 計 | AP6: 男 | AQ6: 女 | AR6: 計 | AS6: 男 | AT6: 女 | AU6: Total | AV6: Welfare Service for the Disabled | AW6: Welfare Service for the Aged | AX6: Welfare Service for the Women | AY6: Welfare Service for the Young | AZ6: Welfare Service for Children | BA6: Service of Consulting | BB6: Welfare Service for Home | BC6: Welfare Service for Communities | BD6: Complex Welfare Service
D7: Total | E7: Male | F7: Female | G7: Male | H7: Female | I7: Male | J7: Female | K7: Male | L7: Female | M7: Male | N7: Female | O7: Male | P7: Female | Q7: Male | R7: Female | S7: Male | T7: Female | U7: Male | V7: Female | W7: Male | X7: Female | Y7: Male | Z7: Female | AA7: Male | AB7: Female | AC7: Male | AD7: Female | AE7: Male | AF7: Female | AG7: Male | AH7: Female | AI7: Total | AJ7: Male | AK7: Female | AL7: Total | AM7: Male | AN7: Female | AO7: Total | AP7: Male | AQ7: Female | AR7: Total | AS7: Male | AT7: Female
A8: 總計 | B8: Total | C8: 6437 | D8: 372764 | E8: 116972 | F8: 255792 | G8: 1972 | H8: 4078 | I8: 706 | J8: 980 | K8: 8001 | L8: 10091 | M8: 14189 | N8: 22221 | O8: 19240 | P8: 41401 | Q8: 14425 | R8: 33554 | S8: 25751 | T8: 69266 | U8: 34660 | V8: 78279 | W8: 29771 | X8: 42099 | Y8: 11417 | Z8: 16494 | AA8: 27827 | AB8: 40807 | AC8: 5933 | AD8: 88497 | AE8: 19431 | AF8: 26664 | AG8: 22593 | AH8: 41231 | AI8: 15960 | AJ8: 6299 | AK8: 9661 | AL8: 109251 | AM8: 38059 | AN8: 71192 | AO8: 133159 | AP8: 42073 | AQ8: 91086 | AR8: 114394 | AS8: 30541 | AT8: 83853 | AU8: 44638275 | AV8: 3944009 | AW8: 16736889 | AX8: 1284226 | AY8: 991054 | AZ8: 2337753 | BA8: 972094 | BB8: 792535 | BC8: 6918737 | BD8: 10660978
A9: 新北市 | B9: New Taipei City | C9: 649 | D9: 55011 | E9: 15437 | F9: 39574 | G9: 292 | H9: 563 | I9: 84 | J9: 105 | K9: 182 | L9: 343 | M9: 621 | N9: 1091 | O9: 1784 | P9: 3931 | Q9: 1747 | R9: 4091 | S9: 4496 | T9: 13464 | U9: 6523 | V9: 16549 | W9: 3729 | X9: 4957 | Y9: 1238 | Z9: 1682 | AA9: 4991 | AB9: 8907 | AC9: 462 | AD9: 14598 | AE9: 561 | AF9: 1044 | AG9: 4456 | AH9: 8386 | AI9: 2187 | AJ9: 691 | AK9: 1496 | AL9: 10993 | AM9: 3931 | AN9: 7062 | AO9: 21334 | AP9: 6170 | AQ9: 15164 | AR9: 20497 | AS9: 4645 | AT9: 15852 | AU9: 10353478 | AV9: 409657 | AW9: 4214868 | AX9: 257957 | AY9: 147173 | AZ9: 327414 | BA9: 157082 | BB9: 162160 | BC9: 1250986 | BD9: 3426181
A10: 臺北市 | B10: Taipei City | C10: 292 | D10: 31526 | E10: 9785 | F10: 21741 | G10: 167 | H10: 50 | I10: 92 | J10: 201 | K10: 488 | L10: 764 | M10: 1220 | N10: 2352 | O10: 2853 | P10: 5459 | Q10: 1279 | R10: 3128 | S10: 2020 | T10: 5341 | U10: 1833 | V10: 4496 | W10: 3237 | X10: 5775 | Y10: 762 | Z10: 1316 | AA10: 2111 | AB10: 4345 | AC10: 697 | AD10: 4353 | AE10: 1306 | AF10: 2253 | AG10: 1672 | AH10: 3699 | AI10: 3551 | AJ10: 1327 | AK10: 2224 | AL10: 16197 | AM10: 5085 | AN10: 11112 | AO10: 8608 | AP10: 2606 | AQ10: 6002 | AR10: 3170 | AS10: 767 | AT10: 2403 | AU10: 1413549 | AV10: 99106 | AW10: 390681 | AX10: 57163 | AY10: 54855 | AZ10: 219292 | BA10: 75870 | BB10: 12522 | BC10: 165364 | BD10: 338696
A11: 桃園市 | B11: Taoyuan City | C11: 539 | D11: 33071 | E11: 8513 | F11: 24558 | G11: 39 | H11: 125 | I11: 8 | J11: 10 | K11: 265 | L11: 287 | M11: 574 | N11: 658 | O11: 994 | P11: 3235 | Q11: 900 | R11: 3622 | S11: 2664 | T11: 7841 | U11: 3108 | V11: 8905 | W11: 2280 | X11: 4017 | Y11: 902 | Z11: 956 | AA11: 2958 | AB11: 4365 | AC11: 489 | AD11: 11405 | AE11: 591 | AF11: 1622 | AG11: 1293 | AH11: 2193 | AI11: 1021 | AJ11: 423 | AK11: 598 | AL11: 9704 | AM11: 2942 | AN11: 6762 | AO11: 11676 | AP11: 2859 | AQ11: 8817 | AR11: 10670 | AS11: 2289 | AT11: 8381 | AU11: 1037089 | AV11: 67656 | AW11: 451421 | AX11: 54421 | AY11: 7578 | AZ11: 23691 | BA11: 32403 | BB11: 19597 | BC11: 110571 | BD11: 269751
A12: 臺中市 | B12: Taichung City | C12: 815 | D12: 39918 | E12: 13146 | F12: 26772 | G12: 55 | H12: 141 | I12: 140 | J12: 195 | K12: 555 | L12: 615 | M12: 2101 | N12: 3227 | O12: 2489 | P12: 4682 | Q12: 1545 | R12: 2903 | S12: 3215 | T12: 8352 | U12: 3101 | V12: 6798 | W12: 3989 | X12: 5021 | Y12: 723 | Z12: 1683 | AA12: 930 | AB12: 2442 | AC12: 265 | AD12: 8391 | AE12: 2218 | AF12: 2400 | AG12: 5021 | AH12: 6835 | AI12: 1656 | AJ12: 658 | AK12: 998 | AL12: 11367 | AM12: 4000 | AN12: 7367 | AO12: 11331 | AP12: 3743 | AQ12: 7588 | AR12: 15564 | AS12: 4745 | AT12: 10819 | AU12: 6147237 | AV12: 611472 | AW12: 3595042 | AX12: 28266 | AY12: 15819 | AZ12: 104612 | BA12: 82257 | BB12: 25832 | BC12: 538067 | BD12: 1145870
A13: 臺南市 | B13: Tainan City | C13: 576 | D13: 30719 | E13: 10159 | F13: 20560 | G13: 26 | H13: 41 | I13: 67 | J13: 70 | K13: 694 | L13: 870 | M13: 1357 | N13: 2699 | O13: 2270 | P13: 5326 | Q13: 1221 | R13: 2047 | S13: 1534 | T13: 4059 | U13: 3016 | V13: 5489 | W13: 2520 | X13: 3383 | Y13: 747 | Z13: 1155 | AA13: 2555 | AB13: 2986 | AC13: 551 | AD13: 7783 | AE13: 2973 | AF13: 3771 | AG13: 813 | AH13: 1482 | AI13: 813 | AJ13: 271 | AK13: 542 | AL13: 10023 | AM13: 3201 | AN13: 6822 | AO13: 10490 | AP13: 3907 | AQ13: 6583 | AR13: 9393 | AS13: 2780 | AT13: 6613 | AU13: 5811668 | AV13: 1625917 | AW13: 1281049 | AX13: 224458 | AY13: 142878 | AZ13: 559131 | BA13: 323036 | BB13: 265004 | BC13: 562860 | BD13: 827335
A14: 高雄市 | B14: Kaohsiung City | C14: 597 | D14: 36589 | E14: 11932 | F14: 24657 | G14: 63 | H14: 168 | I14: 58 | J14: 49 | K14: 388 | L14: 571 | M14: 2964 | N14: 3047 | O14: 2189 | P14: 4059 | Q14: 1297 | R14: 3045 | S14: 2365 | T14: 7054 | U14: 2671 | V14: 6832 | W14: 3388 | X14: 4481 | Y14: 1182 | Z14: 1491 | AA14: 2428 | AB14: 2714 | AC14: 515 | AD14: 9699 | AE14: 2965 | AF14: 3086 | AG14: 1454 | AH14: 3186 | AI14: 1541 | AJ14: 734 | AK14: 807 | AL14: 14120 | AM14: 5655 | AN14: 8465 | AO14: 11762 | AP14: 3244 | AQ14: 8518 | AR14: 9166 | AS14: 2299 | AT14: 6867 | AU14: 4366144 | AV14: 238901 | AW14: 1794571 | AX14: 71287 | AY14: 54173 | AZ14: 249002 | BA14: 38169 | BB14: 40473 | BC14: 687945 | BD14: 1191623
A15: 宜蘭縣 | B15: Yilan County | C15: 133 | D15: 15337 | E15: 6214 | F15: 9123 | G15: 96 | H15: 121 | I15: 0 | J15: 5 | K15: 591 | L15: 734 | M15: 590 | N15: 1017 | O15: 667 | P15: 989 | Q15: 736 | R15: 1042 | S15: 984 | T15: 1495 | U15: 2646 | V15: 3841 | W15: 1440 | X15: 1496 | Y15: 472 | Z15: 885 | AA15: 3118 | AB15: 4250 | AC15: 176 | AD15: 1108 | AE15: 747 | AF15: 1149 | AG15: 261 | AH15: 235 | AI15: 255 | AJ15: 98 | AK15: 157 | AL15: 4088 | AM15: 1622 | AN15: 2466 | AO15: 5197 | AP15: 2161 | AQ15: 3036 | AR15: 5797 | AS15: 2333 | AT15: 3464 | AU15: 1150845 | AV15: 27242 | AW15: 296802 | AX15: 16034 | AY15: 13691 | AZ15: 11139 | BA15: 2356 | BB15: 11152 | BC15: 428434 | BD15: 343995
A16: 新竹縣 | B16: Hsinchu County | C16: 144 | D16: 6984 | E16: 2049 | F16: 4935 | G16: 13 | H16: 26 | I16: 3 | J16: 10 | K16: 142 | L16: 311 | M16: 182 | N16: 605 | O16: 410 | P16: 1099 | Q16: 403 | R16: 1027 | S16: 504 | T16: 722 | U16: 405 | V16: 1161 | W16: 350 | X16: 600 | Y16: 94 | Z16: 308 | AA16: 469 | AB16: 634 | AC16: 208 | AD16: 1723 | AE16: 287 | AF16: 803 | AG16: 641 | AH16: 867 | AI16: 142 | AJ16: 68 | AK16: 74 | AL16: 2034 | AM16: 696 | AN16: 1338 | AO16: 2655 | AP16: 630 | AQ16: 2025 | AR16: 2153 | AS16: 655 | AT16: 1498 | AU16: 927636 | AV16: 451565 | AW16: 309314 | AX16: 10639 | AY16: 1454 | AZ16: 13571 | BA16: 61202 | BB16: 8340 | BC16: 19729 | BD16: 51822
A17: 苗栗縣 | B17: Miaoli County | C17: 257 | D17: 6528 | E17: 2075 | F17: 4453 | G17: 0 | H17: 0 | I17: 17 | J17: 27 | K17: 96 | L17: 156 | M17: 206 | N17: 339 | O17: 218 | P17: 492 | Q17: 312 | R17: 680 | S17: 388 | T17: 1041 | U17: 838 | V17: 1718 | W17: 208 | X17: 452 | Y17: 210 | Z17: 195 | AA17: 489 | AB17: 898 | AC17: 756 | AD17: 2135 | AE17: 240 | AF17: 298 | AG17: 172 | AH17: 475 | AI17: 74 | AJ17: 34 | AK17: 40 | AL17: 986 | AM17: 434 | AN17: 552 | AO17: 2576 | AP17: 851 | AQ17: 1725 | AR17: 2892 | AS17: 756 | AT17: 2136 | AU17: 1264835 | AV17: 35753 | AW17: 716140 | AX17: 20529 | AY17: 8470 | AZ17: 21216 | BA17: 22573 | BB17: 26418 | BC17: 303069 | BD17: 110667
A18: 彰化縣 | B18: Changhua County | C18: 460 | D18: 30415 | E18: 12065 | F18: 18350 | G18: 22 | H18: 27 | I18: 9 | J18: 10 | K18: 3193 | L18: 3214 | M18: 2045 | N18: 2150 | O18: 1181 | P18: 1936 | Q18: 1137 | R18: 2025 | S18: 1820 | T18: 4458 | U18: 2680 | V18: 4557 | W18: 1794 | X18: 2354 | Y18: 454 | Z18: 703 | AA18: 3110 | AB18: 1596 | AC18: 393 | AD18: 6369 | AE18: 4695 | AF18: 4512 | AG18: 1619 | AH18: 2816 | AI18: 675 | AJ18: 331 | AK18: 344 | AL18: 6473 | AM18: 3002 | AN18: 3471 | AO18: 14943 | AP18: 6315 | AQ18: 8628 | AR18: 8324 | AS18: 2417 | AT18: 5907 | AU18: 787774 | AV18: 10321 | AW18: 344039 | AX18: 8258 | AY18: 2287 | AZ18: 12771 | BA18: 14919 | BB18: 12366 | BC18: 163612 | BD18: 219201
A19: 南投縣 | B19: Nantou County | C19: 334 | D19: 15003 | E19: 5049 | F19: 9954 | G19: 55 | H19: 130 | I19: 7 | J19: 12 | K19: 213 | L19: 430 | M19: 422 | N19: 913 | O19: 1034 | P19: 2499 | Q19: 1341 | R19: 2297 | S19: 849 | T19: 1848 | U19: 1183 | V19: 1955 | W19: 2196 | X19: 2209 | Y19: 915 | Z19: 1203 | AA19: 651 | AB19: 738 | AC19: 77 | AD19: 3681 | AE19: 549 | AF19: 901 | AG19: 661 | AH19: 1222 | AI19: 307 | AJ19: 123 | AK19: 184 | AL19: 3458 | AM19: 1226 | AN19: 2232 | AO19: 5803 | AP19: 1776 | AQ19: 4027 | AR19: 5435 | AS19: 1924 | AT19: 3511 | AU19: 2164275 | AV19: 75792 | AW19: 761305 | AX19: 303324 | AY19: 44019 | AZ19: 64777 | BA19: 29000 | BB19: 43033 | BC19: 194238 | BD19: 648787
... A30: 連江縣 | B30: Lienchiang County | C30: 3 | D30: 98 | E30: 29 | F30: 69 | G30: 0 | H30: 0 | I30: 0 | J30: 0 | K30: 0 | L30: 0 | M30: 1 | N30: 0 | O30: 6 | P30: 12 | Q30: 3 | R30: 15 | S30: 13 | T30: 29 | U30: 6 | V30: 13 | W30: 7 | X30: 5 | Y30: 12 | Z30: 15 | AA30: 0 | AB30: 0 | AC30: 0 | AD30: 22 | AE30: 0 | AF30: 0 | AG30: 10 | AH30: 27 | AI30: 2 | AJ30: 2 | AK30: 0 | AL30: 17 | AM30: 7 | AN30: 10 | AO30: 30 | AP30: 11 | AQ30: 19 | AR30: 49 | AS30: 9 | AT30: 40 | AU30: 4307 | AV30: 0 | AW30: 2727 | AX30: 0 | AY30: 0 | AZ30: 144 | BA30: 0 | BB30: 0 | BC30: 1416 | BD30: 20
A31: 資料來源：直轄市、縣(市)政府。

Sheet 109
A1: 1.6-01 地方政府社會處(局)所轄志工 Number of Volunteers of Department of Social Welfare of Local Government
A2: 109年,2020
A3: 單位：隊；人；小時 Unit : Teams, Persons, Hours
A4: 地區別 Locality | C4: 總隊數 No. of Team | D4: 隊員總人數 No. of Team Member | G4: 隊員具 原住民身分 Team Members with Indigenous Identity | I4: 隊員按年齡分 By Age | W4: 隊員按身分分 By Identity | AI4: 隊員按教育程度分 By Education | AU4: 志工志願服務時數 (小時)
I5: 未滿12歲 Under 12 Years | K5: 12-17歲 12-17 Years | M5: 18-29歲 18-29 Years | O5: 30-49歲 30-49 Years | Q5: 50-54歲 50-54 Years | S5: 55-64歲 55-64 Years | U5: 65歲以上 65 Years & Over | W5: 工商界人士 Members of Industry & Commerce | Y5: 公教員工 Officers & Teacher | AA5: 退休人員 Retired Members | AC5: 家庭管理 Housekeepers | AE5: 學生 Students | AG5: 其他 Others | AI5: 研究所 Postgraduate | AL5: 大專 University, College | AO5: 高中(職) Senior High School | AR5: 國中及以下 Junior High School & Under | AU5: 合計 | AV5: 身心障礙福利服務 | AW5: 老人福利服務 | AX5: 婦女福利服務 | AY5: .少年福利服務 | AZ5: 兒童福利服務 | BA5: 諮商輔導服務 | BB5: 家庭福利服務 | BC5: 社區福利服務 | BD5: 綜合福利服務
D6: 計 | E6: 男 | F6: 女 | G6: 男 | H6: 女 | I6: 男 | J6: 女 | K6: 男 | L6: 女 | M6: 男 | N6: 女 | O6: 男 | P6: 女 | Q6: 男 | R6: 女 | S6: 男 | T6: 女 | U6: 男 | V6: 女 | W6: 男 | X6: 女 | Y6: 男 | Z6: 女 | AA6: 男 | AB6: 女 | AC6: 男 | AD6: 女 | AE6: 男 | AF6: 女 | AG6: 男 | AH6: 女 | AI6: 計 | AJ6: 男 | AK6: 女 | AL6: 計 | AM6: 男 | AN6: 女 | AO6: 計 | AP6: 男 | AQ6: 女 | AR6: 計 | AS6: 男 | AT6: 女 | AU6: Total | AV6: Welfare Service for the Disabled | AW6: Welfare Service for the Aged | AX6: Welfare Service for the Women | AY6: Welfare Service for the Young | AZ6: Welfare Service for Children | BA6: Service of Consulting | BB6: Welfare Service for Home | BC6: Welfare Service for Communities | BD6: Complex Welfare Service
D7: Total | E7: Male | F7: Female | G7: Male | H7: Female | I7: Male | J7: Female | K7: Male | L7: Female | M7: Male | N7: Female | O7: Male | P7: Female | Q7: Male | R7: Female | S7: Male | T7: Female | U7: Male | V7: Female | W7: Male | X7: Female | Y7: Male | Z7: Female | AA7: Male | AB7: Female | AC7: Male | AD7: Female | AE7: Male | AF7: Female | AG7: Male | AH7: Female | AI7: Total | AJ7: Male | AK7: Female | AL7: Total | AM7: Male | AN7: Female | AO7: Total | AP7: Male | AQ7: Female | AR7: Total | AS7: Male | AT7: Female
A8: 總計 | B8: Total | C8: 6310 | D8: 354441 | E8: 112434 | F8: 242007 | G8: 2055 | H8: 4181 | I8: 599 | J8: 799 | K8: 8238 | L8: 10238 | M8: 14567 | N8: 22761 | O8: 19593 | P8: 41838 | Q8: 14337 | R8: 32567 | S8: 24693 | T8: 66134 | U8: 30407 | V8: 67670 | W8: 27931 | X8: 39604 | Y8: 11238 | Z8: 15564 | AA8: 25286 | AB8: 36511 | AC8: 6737 | AD8: 83928 | AE8: 19881 | AF8: 26968 | AG8: 21361 | AH8: 39432 | AI8: 13345 | AJ8: 5459 | AK8: 7886 | AL8: 104177 | AM8: 37194 | AN8: 66983 | AO8: 129922 | AP8: 40733 | AQ8: 89189 | AR8: 106997 | AS8: 29048 | AT8: 77949 | AU8: 45962133 | AV8: 3398236 | AW8: 15364663 | AX8: 1079443 | AY8: 726092 | AZ8: 3097370 | BA8: 1188406 | BB8: 868468 | BC8: 6363829 | BD8: 13875626
A9: 新北市 | B9: New Taipei City | C9: 631 | D9: 50432 | E9: 14234 | F9: 36198 | G9: 161 | H9: 349 | I9: 94 | J9: 182 | K9: 192 | L9: 341 | M9: 804 | N9: 1326 | O9: 1797 | P9: 4064 | Q9: 1645 | R9: 4100 | S9: 4205 | T9: 12607 | U9: 5497 | V9: 13578 | W9: 3228 | X9: 4849 | Y9: 1247 | Z9: 1629 | AA9: 4447 | AB9: 7896 | AC9: 409 | AD9: 13520 | AE9: 503 | AF9: 1094 | AG9: 4400 | AH9: 7210 | AI9: 1176 | AJ9: 523 | AK9: 653 | AL9: 11109 | AM9: 3952 | AN9: 7157 | AO9: 19062 | AP9: 5404 | AQ9: 13658 | AR9: 19085 | AS9: 4355 | AT9: 14730 | AU9: 7867164 | AV9: 327938 | AW9: 2759171 | AX9: 224767 | AY9: 108418 | AZ9: 370972 | BA9: 213581 | BB9: 185735 | BC9: 1213849 | BD9: 2462733
A10: 臺北市 | B10: Taipei City | C10: 252 | D10: 30197 | E10: 9279 | F10: 20918 | G10: 34 | H10: 52 | I10: 32 | J10: 26 | K10: 138 | L10: 250 | M10: 2102 | N10: 3584 | O10: 2567 | P10: 5295 | Q10: 1145 | R10: 2988 | S10: 1876 | T10: 4820 | U10: 1419 | V10: 3955 | W10: 2752 | X10: 5251 | Y10: 665 | Z10: 1086 | AA10: 1852 | AB10: 3896 | AC10: 704 | AD10: 4231 | AE10: 1636 | AF10: 2730 | AG10: 1670 | AH10: 3724 | AI10: 3127 | AJ10: 1164 | AK10: 1963 | AL10: 14658 | AM10: 4782 | AN10: 9876 | AO10: 9755 | AP10: 2730 | AQ10: 7025 | AR10: 2657 | AS10: 603 | AT10: 2054 | AU10: 1136670 | AV10: 65662 | AW10: 330880 | AX10: 22499 | AY10: 9419 | AZ10: 136641 | BA10: 64366 | BB10: 29338 | BC10: 62752 | BD10: 415113
A11: 桃園市 | B11: Taoyuan City | C11: 515 | D11: 32958 | E11: 9787 | F11: 23171 | G11: 87 | H11: 120 | I11: 34 | J11: 52 | K11: 367 | L11: 648 | M11: 727 | N11: 1486 | O11: 2406 | P11: 5211 | Q11: 1577 | R11: 3596 | S11: 2496 | T11: 6784 | U11: 2180 | V11: 5394 | W11: 2656 | X11: 3635 | Y11: 921 | Z11: 1033 | AA11: 3097 | AB11: 4547 | AC11: 1245 | AD11: 11653 | AE11: 1155 | AF11: 1625 | AG11: 713 | AH11: 678 | AI11: 646 | AJ11: 243 | AK11: 403 | AL11: 10021 | AM11: 3244 | AN11: 6777 | AO11: 12341 | AP11: 3590 | AQ11: 8751 | AR11: 9950 | AS11: 2710 | AT11: 7240 | AU11: 1938100 | AV11: 89334 | AW11: 835472 | AX11: 69635 | AY11: 48660 | AZ11: 74306 | BA11: 129944 | BB11: 62636 | BC11: 246722 | BD11: 381391
A12: 臺中市 | B12: Taichung City | C12: 765 | D12: 39130 | E12: 12896 | F12: 26234 | G12: 33 | H12: 57 | I12: 109 | J12: 127 | K12: 523 | L12: 540 | M12: 2054 | N12: 3144 | O12: 2452 | P12: 4599 | Q12: 1508 | R12: 2818 | S12: 3182 | T12: 8278 | U12: 3068 | V12: 6728 | W12: 3951 | X12: 4333 | Y12: 646 | Z12: 1266 | AA12: 897 | AB12: 1057 | AC12: 229 | AD12: 7656 | AE12: 2186 | AF12: 3285 | AG12: 4987 | AH12: 8637 | AI12: 1575 | AJ12: 630 | AK12: 945 | AL12: 11254 | AM12: 3967 | AN12: 7287 | AO12: 10953 | AP12: 3622 | AQ12: 7331 | AR12: 15348 | AS12: 4677 | AT12: 10671 | AU12: 10980245 | AV12: 261168 | AW12: 3808215 | AX12: 67606 | AY12: 59680 | AZ12: 812141 | BA12: 111919 | BB12: 66226 | BC12: 420701 | BD12: 5372589
A13: 臺南市 | B13: Tainan City | C13: 574 | D13: 27254 | E13: 9172 | F13: 18082 | G13: 24 | H13: 37 | I13: 52 | J13: 60 | K13: 570 | L13: 770 | M13: 1125 | N13: 2289 | O13: 2008 | P13: 4454 | Q13: 1103 | R13: 1764 | S13: 1396 | T13: 3414 | U13: 2918 | V13: 5331 | W13: 2273 | X13: 2980 | Y13: 677 | Z13: 1016 | AA13: 2305 | AB13: 2620 | AC13: 500 | AD13: 6839 | AE13: 2681 | AF13: 3316 | AG13: 736 | AH13: 1311 | AI13: 726 | AJ13: 247 | AK13: 479 | AL13: 8898 | AM13: 2887 | AN13: 6011 | AO13: 9316 | AP13: 3529 | AQ13: 5787 | AR13: 8314 | AS13: 2509 | AT13: 5805 | AU13: 5069766 | AV13: 1428960 | AW13: 1101086 | AX13: 199176 | AY13: 125150 | AZ13: 487694 | BA13: 292180 | BB13: 230699 | BC13: 486305 | BD13: 718516
A14: 高雄市 | B14: Kaohsiung City | C14: 541 | D14: 34509 | E14: 11376 | F14: 23133 | G14: 70 | H14: 185 | I14: 61 | J14: 65 | K14: 628 | L14: 711 | M14: 2877 | N14: 3080 | O14: 1936 | P14: 3877 | Q14: 1228 | R14: 2924 | S14: 2246 | T14: 6552 | U14: 2400 | V14: 5924 | W14: 3258 | X14: 4442 | Y14: 1194 | Z14: 1393 | AA14: 2035 | AB14: 2696 | AC14: 559 | AD14: 8787 | AE14: 3125 | AF14: 3302 | AG14: 1205 | AH14: 2513 | AI14: 1631 | AJ14: 728 | AK14: 903 | AL14: 13075 | AM14: 5276 | AN14: 7799 | AO14: 11539 | AP14: 3370 | AQ14: 8169 | AR14: 8264 | AS14: 2002 | AT14: 6262 | AU14: 3443467 | AV14: 203597 | AW14: 1315767 | AX14: 85032 | AY14: 45068 | AZ14: 225206 | BA14: 52858 | BB14: 40536 | BC14: 553293 | BD14: 922110
A15: 宜蘭縣 | B15: Yilan County | C15: 224 | D15: 18516 | E15: 6932 | F15: 11584 | G15: 117 | H15: 168 | I15: 0 | J15: 0 | K15: 787 | L15: 968 | M15: 781 | N15: 1207 | O15: 803 | P15: 1420 | Q15: 1014 | R15: 1928 | S15: 1251 | T15: 2531 | U15: 2296 | V15: 3530 | W15: 1994 | X15: 2256 | Y15: 843 | Z15: 1193 | AA15: 2612 | AB15: 4544 | AC15: 278 | AD15: 1925 | AE15: 930 | AF15: 1284 | AG15: 275 | AH15: 382 | AI15: 259 | AJ15: 154 | AK15: 105 | AL15: 4235 | AM15: 1705 | AN15: 2530 | AO15: 6821 | AP15: 1994 | AQ15: 4827 | AR15: 7201 | AS15: 3079 | AT15: 4122 | AU15: 600773 | AV15: 18845 | AW15: 176227 | AX15: 7545 | AY15: 8027 | AZ15: 5981 | BA15: 1197 | BB15: 3743 | BC15: 204840 | BD15: 174368
A16: 新竹縣 | B16: Hsinchu County | C16: 138 | D16: 6782 | E16: 2003 | F16: 4779 | G16: 13 | H16: 25 | I16: 3 | J16: 10 | K16: 139 | L16: 305 | M16: 178 | N16: 591 | O16: 401 | P16: 1075 | Q16: 395 | R16: 1005 | S16: 494 | T16: 687 | U16: 393 | V16: 1106 | W16: 343 | X16: 586 | Y16: 92 | Z16: 301 | AA16: 457 | AB16: 603 | AC16: 204 | AD16: 1665 | AE16: 281 | AF16: 785 | AG16: 626 | AH16: 839 | AI16: 137 | AJ16: 66 | AK16: 71 | AL16: 1977 | AM16: 680 | AN16: 1297 | AO16: 2569 | AP16: 615 | AQ16: 1954 | AR16: 2099 | AS16: 642 | AT16: 1457 | AU16: 1004964 | AV16: 492980 | AW16: 309290 | AX16: 11434 | AY16: 1577 | AZ16: 14552 | BA16: 117406 | BB16: 16218 | BC16: 19093 | BD16: 22414
A17: 苗栗縣 | B17: Miaoli County | C17: 251 | D17: 6522 | E17: 2073 | F17: 4449 | G17: 0 | H17: 0 | I17: 17 | J17: 27 | K17: 96 | L17: 156 | M17: 206 | N17: 339 | O17: 218 | P17: 492 | Q17: 311 | R17: 679 | S17: 388 | T17: 1040 | U17: 837 | V17: 1716 | W17: 208 | X17: 452 | Y17: 210 | Z17: 195 | AA17: 489 | AB17: 897 | AC17: 754 | AD17: 2132 | AE17: 240 | AF17: 298 | AG17: 172 | AH17: 475 | AI17: 74 | AJ17: 34 | AK17: 40 | AL17: 986 | AM17: 434 | AN17: 552 | AO17: 2573 | AP17: 850 | AQ17: 1723 | AR17: 2889 | AS17: 755 | AT17: 2134 | AU17: 1289889 | AV17: 36462 | AW17: 730325 | AX17: 20936 | AY17: 8638 | AZ17: 21635 | BA17: 23020 | BB17: 26941 | BC17: 309072 | BD17: 112860
A18: 彰化縣 | B18: Changhua County | C18: 434 | D18: 29964 | E18: 11887 | F18: 18077 | G18: 22 | H18: 27 | I18: 9 | J18: 10 | K18: 3514 | L18: 3669 | M18: 1647 | N18: 1615 | O18: 1163 | P18: 1908 | Q18: 1122 | R18: 1995 | S18: 1792 | T18: 4393 | U18: 2640 | V18: 4487 | W18: 1700 | X18: 2321 | Y18: 425 | Z18: 649 | AA18: 3095 | AB18: 1573 | AC18: 392 | AD18: 6280 | AE18: 4664 | AF18: 4478 | AG18: 1611 | AH18: 2776 | AI18: 669 | AJ18: 329 | AK18: 340 | AL18: 6375 | AM18: 2956 | AN18: 3419 | AO18: 14720 | AP18: 6221 | AQ18: 8499 | AR18: 8200 | AS18: 2381 | AT18: 5819 | AU18: 2343328 | AV18: 73983 | AW18: 812077 | AX18: 105524 | AY18: 15141 | AZ18: 113234 | BA18: 53260 | BB18: 34014 | BC18: 551755 | BD18: 584340
A19: 南投縣 | B19: Nantou County | C19: 119 | D19: 6999 | E19: 2636 | F19: 4363 | G19: 16 | H19: 41 | I19: 2 | J19: 4 | K19: 127 | L19: 217 | M19: 254 | N19: 438 | O19: 677 | P19: 1256 | Q19: 648 | R19: 1069 | S19: 396 | T19: 773 | U19: 532 | V19: 606 | W19: 1192 | X19: 1151 | Y19: 435 | Z19: 558 | AA19: 221 | AB19: 258 | AC19: 27 | AD19: 1384 | AE19: 333 | AF19: 490 | AG19: 428 | AH19: 522 | AI19: 176 | AJ19: 69 | AK19: 107 | AL19: 2002 | AM19: 854 | AN19: 1148 | AO19: 3141 | AP19: 1165 | AQ19: 1976 | AR19: 1680 | AS19: 548 | AT19: 1132 | AU19: 336316 | AV19: 11854 | AW19: 125050 | AX19: 47713 | AY19: 4303 | AZ19: 9796 | BA19: 2204 | BB19: 6238 | BC19: 29213 | BD19: 99945
... A30: 連江縣 | B30: Lienchiang County | C30: 8 | D30: 84 | E30: 10 | F30: 74 | G30: 0 | H30: 0 | I30: 0 | J30: 0 | K30: 1 | L30: 0 | M30: 0 | N30: 0 | O30: 6 | P30: 34 | Q30: 1 | R30: 12 | S30: 2 | T30: 22 | U30: 0 | V30: 6 | W30: 2 | X30: 35 | Y30: 3 | Z30: 4 | AA30: 0 | AB30: 14 | AC30: 0 | AD30: 13 | AE30: 1 | AF30: 0 | AG30: 4 | AH30: 8 | AI30: 0 | AJ30: 0 | AK30: 0 | AL30: 18 | AM30: 3 | AN30: 15 | AO30: 40 | AP30: 6 | AQ30: 34 | AR30: 26 | AS30: 1 | AT30: 25 | AU30: 86657 | AV30: 0 | AW30: 9242 | AX30: 0 | AY30: 0 | AZ30: 0 | BA30: 0 | BB30: 0 | BC30: 77415 | BD30: 0
A31: 資料來源：直轄市、縣(市)政府。

Sheet 108
A1: 1.6-01 地方政府社會處(局)所轄志工 Number of Volunteers of Department of Social Welfare of Local Government
A2: 108年,2019
A3: 單位：隊；人；小時 Unit : Teams, Persons, Hours
A4: 地區別 Locality | C4: 總隊數 No. of Team | D4: 隊員總人數 No. of Team Member | G4: 隊員具 原住民身分 Team Members with Indigenous Identity | I4: 隊員按年齡分 By Age | W4: 隊員按身分分 By Identity | AI4: 隊員按教育程度分 By Education | AU4: 志工志願服務時數 (小時)
I5: 未滿12歲 Under 12 Years | K5: 12-17歲 12-17 Years | M5: 18-29歲 18-29 Years | O5: 30-49歲 30-49 Years | Q5: 50-54歲 50-54 Years | S5: 55-64歲 55-64 Years | U5: 65歲以上 65 Years & Over | W5: 工商界人士 Members of Industry & Commerce | Y5: 公教員工 Officers & Teacher | AA5: 退休人員 Retired Members | AC5: 家庭管理 Housekeepers | AE5: 學生 Students | AG5: 其他 Others | AI5: 研究所 Postgraduate | AL5: 大專 University, College | AO5: 高中(職) Senior High School | AR5: 國中及以下 Junior High School & Under | AU5: 合計 | AV5: 身心障礙福利服務 | AW5: 老人福利服務 | AX5: 婦女福利服務 | AY5: .少年福利服務 | AZ5: 兒童福利服務 | BA5: 諮商輔導服務 | BB5: 家庭福利服務 | BC5: 社區福利服務 | BD5: 綜合福利服務
D6: 計 | E6: 男 | F6: 女 | G6: 男 | H6: 女 | I6: 男 | J6: 女 | K6: 男 | L6: 女 | M6: 男 | N6: 女 | O6: 男 | P6: 女 | Q6: 男 | R6: 女 | S6: 男 | T6: 女 | U6: 男 | V6: 女 | W6: 男 | X6: 女 | Y6: 男 | Z6: 女 | AA6: 男 | AB6: 女 | AC6: 男 | AD6: 女 | AE6: 男 | AF6: 女 | AG6: 男 | AH6: 女 | AI6: 計 | AJ6: 男 | AK6: 女 | AL6: 計 | AM6: 男 | AN6: 女 | AO6: 計 | AP6: 男 | AQ6: 女 | AR6: 計 | AS6: 男 | AT6: 女 | AU6: Total | AV6: Welfare Service for the Disabled | AW6: Welfare Service for the Aged | AX6: Welfare Service for the Women | AY6: Welfare Service for the Young | AZ6: Welfare Service for Children | BA6: Service of Consulting | BB6: Welfare Service for Home | BC6: Welfare Service for Communities | BD6: Complex Welfare Service
D7: Total | E7: Male | F7: Female | G7: Male | H7: Female | I7: Male | J7: Female | K7: Male | L7: Female | M7: Male | N7: Female | O7: Male | P7: Female | Q7: Male | R7: Female | S7: Male | T7: Female | U7: Male | V7: Female | W7: Male | X7: Female | Y7: Male | Z7: Female | AA7: Male | AB7: Female | AC7: Male | AD7: Female | AE7: Male | AF7: Female | AG7: Male | AH7: Female | AI7: Total | AJ7: Male | AK7: Female | AL7: Total | AM7: Male | AN7: Female | AO7: Total | AP7: Male | AQ7: Female | AR7: Total | AS7: Male | AT7: Female
A8: 總計 | B8: Total | C8: 5718 | D8: 321743 | E8: 102559 | F8: 219184 | G8: 1801 | H8: 3908 | I8: 583 | J8: 759 | K8: 8293 | L8: 10419 | M8: 12923 | N8: 20492 | O8: 17422 | P8: 38216 | Q8: 13300 | R8: 30546 | S8: 23091 | T8: 59966 | U8: 26947 | V8: 58786 | W8: 26407 | X8: 35960 | Y8: 11776 | Z8: 15863 | AA8: 22404 | AB8: 29758 | AC8: 6121 | AD8: 81491 | AE8: 18786 | AF8: 25073 | AG8: 17065 | AH8: 31039 | AI8: 15970 | AJ8: 6107 | AK8: 9863 | AL8: 98060 | AM8: 35044 | AN8: 63016 | AO8: 119153 | AP8: 37471 | AQ8: 81682 | AR8: 88560 | AS8: 23937 | AT8: 64623 | AU8: 48325929 | AV8: 4418030 | AW8: 15191058 | AX8: 1131375 | AY8: 827939 | AZ8: 3558239 | BA8: 1276327 | BB8: 1216564 | BC8: 7484695 | BD8: 13221702
A9: 新北市 | B9: New Taipei City | C9: 584 | D9: 47340 | E9: 13252 | F9: 34088 | G9: 202 | H9: 512 | I9: 66 | J9: 82 | K9: 189 | L9: 264 | M9: 720 | N9: 1185 | O9: 1707 | P9: 4177 | Q9: 1577 | R9: 4005 | S9: 3990 | T9: 11815 | U9: 5003 | V9: 12560 | W9: 3319 | X9: 4577 | Y9: 1101 | Z9: 1335 | AA9: 3385 | AB9: 4971 | AC9: 387 | AD9: 13380 | AE9: 534 | AF9: 1111 | AG9: 4526 | AH9: 8714 | AI9: 983 | AJ9: 455 | AK9: 528 | AL9: 9854 | AM9: 3582 | AN9: 6272 | AO9: 17337 | AP9: 4820 | AQ9: 12517 | AR9: 19166 | AS9: 4395 | AT9: 14771 | AU9: 7308872 | AV9: 207634 | AW9: 2628040 | AX9: 229819 | AY9: 77564 | AZ9: 394819 | BA9: 236972 | BB9: 59286 | BC9: 1016812 | BD9: 2457926
A10: 臺北市 | B10: Taipei City | C10: 299 | D10: 30524 | E10: 10627 | F10: 19897 | G10: 86 | H10: 133 | I10: 68 | J10: 73 | K10: 676 | L10: 913 | M10: 1863 | N10: 3300 | O10: 2718 | P10: 5174 | Q10: 1884 | R10: 2946 | S10: 2185 | T10: 4177 | U10: 1233 | V10: 3314 | W10: 3435 | X10: 5051 | Y10: 1422 | Z10: 2455 | AA10: 2215 | AB10: 3403 | AC10: 141 | AD10: 3624 | AE10: 1842 | AF10: 2686 | AG10: 1572 | AH10: 2678 | AI10: 2163 | AJ10: 889 | AK10: 1274 | AL10: 16906 | AM10: 6038 | AN10: 10868 | AO10: 8418 | AP10: 2874 | AQ10: 5544 | AR10: 3037 | AS10: 826 | AT10: 2211 | AU10: 4762852 | AV10: 215864 | AW10: 759871 | AX10: 33803 | AY10: 12860 | AZ10: 792502 | BA10: 26742 | BB10: 412760 | BC10: 170329 | BD10: 2338121
A11: 桃園市 | B11: Taoyuan City | C11: 480 | D11: 23843 | E11: 6625 | F11: 17218 | G11: 69 | H11: 97 | I11: 24 | J11: 46 | K11: 281 | L11: 488 | M11: 463 | N11: 936 | O11: 1725 | P11: 4206 | Q11: 860 | R11: 2281 | S11: 1671 | T11: 5119 | U11: 1601 | V11: 4142 | W11: 1820 | X11: 2576 | Y11: 694 | Z11: 870 | AA11: 1746 | AB11: 2993 | AC11: 878 | AD11: 8347 | AE11: 973 | AF11: 1683 | AG11: 514 | AH11: 749 | AI11: 565 | AJ11: 229 | AK11: 336 | AL11: 6404 | AM11: 2081 | AN11: 4323 | AO11: 9641 | AP11: 2394 | AQ11: 7247 | AR11: 7233 | AS11: 1921 | AT11: 5312 | AU11: 2057290 | AV11: 62954 | AW11: 835796 | AX11: 70906 | AY11: 93816 | AZ11: 113980 | BA11: 71068 | BB11: 77795 | BC11: 375770 | BD11: 355205
A12: 臺中市 | B12: Taichung City | C12: 675 | D12: 32997 | E12: 11135 | F12: 21862 | G12: 22 | H12: 75 | I12: 59 | J12: 120 | K12: 414 | L12: 520 | M12: 1112 | N12: 1911 | O12: 1568 | P12: 3107 | Q12: 1139 | R12: 3312 | S12: 3581 | T12: 7880 | U12: 3262 | V12: 5012 | W12: 3912 | X12: 4274 | Y12: 1419 | Z12: 1903 | AA12: 2005 | AB12: 2475 | AC12: 598 | AD12: 8468 | AE12: 1039 | AF12: 1621 | AG12: 2162 | AH12: 3121 | AI12: 4062 | AJ12: 1367 | AK12: 2695 | AL12: 10703 | AM12: 3339 | AN12: 7364 | AO12: 11720 | AP12: 3847 | AQ12: 7873 | AR12: 6512 | AS12: 2582 | AT12: 3930 | AU12: 6640177 | AV12: 262109 | AW12: 2976432 | AX12: 56095 | AY12: 28617 | AZ12: 199235 | BA12: 87150 | BB12: 33752 | BC12: 437497 | BD12: 2559290
A13: 臺南市 | B13: Tainan City | C13: 558 | D13: 26843 | E13: 9035 | F13: 17808 | G13: 19 | H13: 30 | I13: 51 | J13: 57 | K13: 565 | L13: 762 | M13: 1114 | N13: 2268 | O13: 1993 | P13: 4417 | Q13: 1093 | R13: 1749 | S13: 1383 | T13: 3385 | U13: 2836 | V13: 5170 | W13: 2239 | X13: 2935 | Y13: 666 | Z13: 998 | AA13: 2271 | AB13: 2578 | AC13: 492 | AD13: 6740 | AE13: 2641 | AF13: 3266 | AG13: 726 | AH13: 1291 | AI13: 699 | AJ13: 237 | AK13: 462 | AL13: 8764 | AM13: 2844 | AN13: 5920 | AO13: 9182 | AP13: 3481 | AQ13: 5701 | AR13: 8198 | AS13: 2473 | AT13: 5725 | AU13: 6983427 | AV13: 1973118 | AW13: 1515306 | AX13: 274261 | AY13: 171632 | AZ13: 671075 | BA13: 404990 | BB13: 316070 | BC13: 668051 | BD13: 988924
A14: 高雄市 | B14: Kaohsiung City | C14: 436 | D14: 31027 | E14: 10264 | F14: 20763 | G14: 61 | H14: 129 | I14: 79 | J14: 71 | K14: 549 | L14: 704 | M14: 2957 | N14: 3175 | O14: 1733 | P14: 3579 | Q14: 1094 | R14: 2741 | S14: 1949 | T14: 5829 | U14: 1903 | V14: 4664 | W14: 2876 | X14: 3626 | Y14: 1067 | Z14: 1223 | AA14: 1674 | AB14: 2463 | AC14: 357 | AD14: 7920 | AE14: 3177 | AF14: 3353 | AG14: 1113 | AH14: 2178 | AI14: 1255 | AJ14: 570 | AK14: 685 | AL14: 12005 | AM14: 4843 | AN14: 7162 | AO14: 10187 | AP14: 2922 | AQ14: 7265 | AR14: 7580 | AS14: 1929 | AT14: 5651 | AU14: 4869853 | AV14: 285672 | AW14: 1194119 | AX14: 76774 | AY14: 119237 | AZ14: 296305 | BA14: 89705 | BB14: 56361 | BC14: 1646831 | BD14: 1104849
A15: 宜蘭縣 | B15: Yilan County | C15: 201 | D15: 13595 | E15: 4858 | F15: 8737 | G15: 100 | H15: 133 | I15: 0 | J15: 0 | K15: 741 | L15: 882 | M15: 702 | N15: 1102 | O15: 719 | P15: 1256 | Q15: 855 | R15: 1585 | S15: 949 | T15: 2200 | U15: 892 | V15: 1712 | W15: 1602 | X15: 1922 | Y15: 624 | Z15: 847 | AA15: 1403 | AB15: 2711 | AC15: 226 | AD15: 1701 | AE15: 761 | AF15: 1177 | AG15: 242 | AH15: 379 | AI15: 187 | AJ15: 104 | AK15: 83 | AL15: 3874 | AM15: 1481 | AN15: 2393 | AO15: 5886 | AP15: 1648 | AQ15: 4238 | AR15: 3648 | AS15: 1625 | AT15: 2023 | AU15: 352536 | AV15: 13971 | AW15: 94376 | AX15: 5198 | AY15: 3683 | AZ15: 2621 | BA15: 626 | BB15: 1559 | BC15: 116234 | BD15: 114268
A16: 新竹縣 | B16: Hsinchu County | C16: 125 | D16: 6224 | E16: 1973 | F16: 4251 | G16: 5 | H16: 8 | I16: 0 | J16: 4 | K16: 162 | L16: 256 | M16: 171 | N16: 548 | O16: 352 | P16: 883 | Q16: 382 | R16: 919 | S16: 457 | T16: 647 | U16: 449 | V16: 994 | W16: 315 | X16: 549 | Y16: 94 | Z16: 226 | AA16: 474 | AB16: 582 | AC16: 85 | AD16: 1507 | AE16: 298 | AF16: 650 | AG16: 707 | AH16: 737 | AI16: 80 | AJ16: 35 | AK16: 45 | AL16: 1762 | AM16: 637 | AN16: 1125 | AO16: 2386 | AP16: 672 | AQ16: 1714 | AR16: 1996 | AS16: 629 | AT16: 1367 | AU16: 938140 | AV16: 486912 | AW16: 280673 | AX16: 11214 | AY16: 1448 | AZ16: 14124 | BA16: 87235 | BB16: 16108 | BC16: 18414 | BD16: 22012
A17: 苗栗縣 | B17: Miaoli County | C17: 227 | D17: 6318 | E17: 2015 | F17: 4303 | G17: 2 | H17: 4 | I17: 20 | J17: 27 | K17: 94 | L17: 153 | M17: 196 | N17: 334 | O17: 204 | P17: 452 | Q17: 332 | R17: 650 | S17: 410 | T17: 1014 | U17: 759 | V17: 1673 | W17: 222 | X17: 449 | Y17: 199 | Z17: 195 | AA17: 446 | AB17: 881 | AC17: 662 | AD17: 2063 | AE17: 260 | AF17: 312 | AG17: 226 | AH17: 403 | AI17: 49 | AJ17: 27 | AK17: 22 | AL17: 905 | AM17: 406 | AN17: 499 | AO17: 2577 | AP17: 815 | AQ17: 1762 | AR17: 2787 | AS17: 767 | AT17: 2020 | AU17: 1400694 | AV17: 38173 | AW17: 791758 | AX17: 25742 | AY17: 10323 | AZ17: 23677 | BA17: 28622 | BB17: 29487 | BC17: 335073 | BD17: 117839
A18: 彰化縣 | B18: Changhua County | C18: 399 | D18: 29127 | E18: 11179 | F18: 17948 | G18: 22 | H18: 26 | I18: 8 | J18: 4 | K18: 3455 | L18: 3651 | M18: 1555 | N18: 1574 | O18: 901 | P18: 1755 | Q18: 913 | R18: 1953 | S18: 1499 | T18: 3845 | U18: 2848 | V18: 5166 | W18: 1291 | X18: 1968 | Y18: 380 | Z18: 535 | AA18: 3032 | AB18: 1573 | AC18: 1012 | AD18: 7282 | AE18: 4549 | AF18: 4426 | AG18: 915 | AH18: 2164 | AI18: 772 | AJ18: 335 | AK18: 437 | AL18: 5996 | AM18: 2794 | AN18: 3202 | AO18: 13812 | AP18: 5931 | AQ18: 7881 | AR18: 8547 | AS18: 2119 | AT18: 6428 | AU18: 2142235 | AV18: 71737 | AW18: 790101 | AX18: 83131 | AY18: 14781 | AZ18: 116054 | BA18: 51956 | BB18: 34119 | BC18: 413623 | BD18: 566733
A19: 南投縣 | B19: Nantou County | C19: 113 | D19: 6662 | E19: 2536 | F19: 4126 | G19: 0 | H19: 0 | I19: 2 | J19: 4 | K19: 123 | L19: 206 | M19: 245 | N19: 415 | O19: 651 | P19: 1189 | Q19: 624 | R19: 1011 | S19: 382 | T19: 731 | U19: 509 | V19: 570 | W19: 1147 | X19: 1090 | Y19: 420 | Z19: 528 | AA19: 210 | AB19: 245 | AC19: 26 | AD19: 1304 | AE19: 320 | AF19: 464 | AG19: 413 | AH19: 495 | AI19: 167 | AJ19: 66 | AK19: 101 | AL19: 1909 | AM19: 822 | AN19: 1087 | AO19: 2988 | AP19: 1120 | AQ19: 1868 | AR19: 1598 | AS19: 528 | AT19: 1070 | AU19: 320903 | AV19: 11289 | AW19: 119327 | AX19: 45535 | AY19: 4119 | AZ19: 9344 | BA19: 2087 | BB19: 5942 | BC19: 27858 | BD19: 95402
... A30: 連江縣 | B30: Lienchiang County | C30: 7 | D30: 46 | E30: 6 | F30: 40 | G30: 0 | H30: 0 | I30: 0 | J30: 0 | K30: 1 | L30: 0 | M30: 0 | N30: 0 | O30: 2 | P30: 10 | Q30: 1 | R30: 7 | S30: 2 | T30: 18 | U30: 0 | V30: 5 | W30: 0 | X30: 7 | Y30: 1 | Z30: 1 | AA30: 0 | AB30: 12 | AC30: 0 | AD30: 12 | AE30: 1 | AF30: 0 | AG30: 4 | AH30: 8 | AI30: 0 | AJ30: 0 | AK30: 0 | AL30: 14 | AM30: 2 | AN30: 12 | AO30: 13 | AP30: 3 | AQ30: 10 | AR30: 19 | AS30: 1 | AT30: 18 | AU30: 8596 | AV30: 0 | AW30: 0 | AX30: 0 | AY30: 0 | AZ30: 0 | BA30: 0 | BB30: 0 | BC30: 5522 | BD30: 3074
A31: 資料來源：直轄市、縣(市)政府。

Sheet 107
A1: 1.6-01 地方政府社會處(局)所轄志工 Number of Volunteers of Department of Social Welfare of Local Government
A2: 107年,2018
A3: 單位：隊；人；小時 Unit : Teams, Persons, Hours
A4: 地區別 Locality | C4: 總隊數 No. of Team | D4: 隊員總人數 No. of Team Member | G4: 隊員具 原住民身分 Team Members with Indigenous Identity | I4: 隊員按年齡分 By Age | W4: 隊員按身分分 By Identity | AI4: 隊員按教育程度分 By Education | AU4: 志工志願服務時數 (小時)
I5: 未滿12歲 Under 12 Years | K5: 12-17歲 12-17 Years | M5: 18-29歲 18-29 Years | O5: 30-49歲 30-49 Years | Q5: 50-54歲 50-54 Years | S5: 55-64歲 55-64 Years | U5: 65歲以上 65 Years & Over | W5: 工商界人士 Members of Industry & Commerce | Y5: 公教員工 Officers & Teacher | AA5: 退休人員 Retired Members | AC5: 家庭管理 Housekeepers | AE5: 學生 Students | AG5: 其他 Others | AI5: 研究所 Postgraduate | AL5: 大專 University, College | AO5: 高中(職) Senior High School | AR5: 國中及以下 Junior High School & Under | AU5: 合計 | AV5: 身心障礙福利服務 | AW5: 老人福利服務 | AX5: 婦女福利服務 | AY5: .少年福利服務 | AZ5: 兒童福利服務 | BA5: 諮商輔導服務 | BB5: 家庭福利服務 | BC5: 社區福利服務 | BD5: 綜合福利服務
D6: 計 | E6: 男 | F6: 女 | G6: 男 | H6: 女 | I6: 男 | J6: 女 | K6: 男 | L6: 女 | M6: 男 | N6: 女 | O6: 男 | P6: 女 | Q6: 男 | R6: 女 | S6: 男 | T6: 女 | U6: 男 | V6: 女 | W6: 男 | X6: 女 | Y6: 男 | Z6: 女 | AA6: 男 | AB6: 女 | AC6: 男 | AD6: 女 | AE6: 男 | AF6: 女 | AG6: 男 | AH6: 女 | AI6: 計 | AJ6: 男 | AK6: 女 | AL6: 計 | AM6: 男 | AN6: 女 | AO6: 計 | AP6: 男 | AQ6: 女 | AR6: 計 | AS6: 男 | AT6: 女 | AU6: Total | AV6: Welfare Service for the Disabled | AW6: Welfare Service for the Aged | AX6: Welfare Service for the Women | AY6: Welfare Service for the Young | AZ6: Welfare Service for Children | BA6: Service of Consulting | BB6: Welfare Service for Home | BC6: Welfare Service for Communities | BD6: Complex Welfare Service
D7: Total | E7: Male | F7: Female | G7: Male | H7: Female | I7: Male | J7: Female | K7: Male | L7: Female | M7: Male | N7: Female | O7: Male | P7: Female | Q7: Male | R7: Female | S7: Male | T7: Female | U7: Male | V7: Female | W7: Male | X7: Female | Y7: Male | Z7: Female | AA7: Male | AB7: Female | AC7: Male | AD7: Female | AE7: Male | AF7: Female | AG7: Male | AH7: Female | AI7: Total | AJ7: Male | AK7: Female | AL7: Total | AM7: Male | AN7: Female | AO7: Total | AP7: Male | AQ7: Female | AR7: Total | AS7: Male | AT7: Female
A8: 總計 | B8: Total | C8: 5152 | D8: 302398 | E8: 94889 | F8: 207509 | G8: 1920 | H8: 4192 | I8: 601 | J8: 704 | K8: 7652 | L8: 9868 | M8: 12366 | N8: 19568 | O8: 16797 | P8: 37432 | Q8: 12359 | R8: 29760 | S8: 21053 | T8: 56683 | U8: 24061 | V8: 53494 | W8: 24819 | X8: 35476 | Y8: 10711 | Z8: 13470 | AA8: 21241 | AB8: 27336 | AC8: 4897 | AD8: 78795 | AE8: 18258 | AF8: 23794 | AG8: 14963 | AH8: 28638 | AI8: 15181 | AJ8: 5681 | AK8: 9500 | AL8: 90288 | AM8: 31834 | AN8: 58454 | AO8: 113621 | AP8: 35100 | AQ8: 78521 | AR8: 83308 | AS8: 22274 | AT8: 61034 | AU8: 43853842 | AV8: 5052711 | AW8: 11434583 | AX8: 1353197 | AY8: 949182 | AZ8: 3138257 | BA8: 1300899 | BB8: 1202134 | BC8: 6484888 | BD8: 12937991
A9: 新北市 | B9: New Taipei City | C9: 490 | D9: 44981 | E9: 12148 | F9: 32833 | G9: 101 | H9: 225 | I9: 69 | J9: 81 | K9: 140 | L9: 244 | M9: 682 | N9: 1093 | O9: 1686 | P9: 3944 | Q9: 1404 | R9: 4023 | S9: 3570 | T9: 11417 | U9: 4597 | V9: 12031 | W9: 3046 | X9: 4326 | Y9: 1255 | Z9: 1434 | AA9: 3028 | AB9: 4403 | AC9: 482 | AD9: 13386 | AE9: 555 | AF9: 1200 | AG9: 3782 | AH9: 8084 | AI9: 900 | AJ9: 417 | AK9: 483 | AL9: 8651 | AM9: 3128 | AN9: 5523 | AO9: 16090 | AP9: 4323 | AQ9: 11767 | AR9: 19340 | AS9: 4280 | AT9: 15060 | AU9: 6338396 | AV9: 265897 | AW9: 1195164 | AX9: 186548 | AY9: 78256 | AZ9: 328606 | BA9: 168544 | BB9: 60310 | BC9: 499801 | BD9: 3555270
A10: 臺北市 | B10: Taipei City | C10: 307 | D10: 29457 | E10: 9076 | F10: 20381 | G10: 139 | H10: 224 | I10: 80 | J10: 103 | K10: 483 | L10: 705 | M10: 1846 | N10: 3769 | O10: 2746 | P10: 5676 | Q10: 1533 | R10: 2781 | S10: 1383 | T10: 4082 | U10: 1005 | V10: 3265 | W10: 3161 | X10: 6056 | Y10: 1113 | Z10: 1574 | AA10: 1721 | AB10: 3133 | AC10: 232 | AD10: 4022 | AE10: 1884 | AF10: 3255 | AG10: 965 | AH10: 2341 | AI10: 2352 | AJ10: 862 | AK10: 1490 | AL10: 15872 | AM10: 4899 | AN10: 10973 | AO10: 8447 | AP10: 2465 | AQ10: 5982 | AR10: 2786 | AS10: 850 | AT10: 1936 | AU10: 6198615 | AV10: 128364 | AW10: 1458589 | AX10: 72891 | AY10: 19104 | AZ10: 498210 | BA10: 61725 | BB10: 153232 | BC10: 364964 | BD10: 3441536
A11: 桃園市 | B11: Taoyuan City | C11: 431 | D11: 18756 | E11: 5192 | F11: 13564 | G11: 21 | H11: 73 | I11: 8 | J11: 7 | K11: 222 | L11: 429 | M11: 404 | N11: 798 | O11: 1205 | P11: 3836 | Q11: 790 | R11: 2208 | S11: 1522 | T11: 3342 | U11: 1041 | V11: 2944 | W11: 1596 | X11: 1899 | Y11: 436 | Z11: 518 | AA11: 1512 | AB11: 2252 | AC11: 666 | AD11: 7574 | AE11: 813 | AF11: 990 | AG11: 169 | AH11: 331 | AI11: 323 | AJ11: 135 | AK11: 188 | AL11: 4962 | AM11: 1554 | AN11: 3408 | AO11: 7953 | AP11: 1923 | AQ11: 6030 | AR11: 5518 | AS11: 1580 | AT11: 3938 | AU11: 1704832 | AV11: 55399 | AW11: 664989 | AX11: 82216 | AY11: 93751 | AZ11: 109105 | BA11: 50745 | BB11: 68347 | BC11: 272711 | BD11: 307569
A12: 臺中市 | B12: Taichung City | C12: 567 | D12: 32008 | E12: 10505 | F12: 21503 | G12: 22 | H12: 75 | I12: 33 | J12: 45 | K12: 308 | L12: 508 | M12: 922 | N12: 1697 | O12: 1706 | P12: 3111 | Q12: 1189 | R12: 3198 | S12: 3365 | T12: 8296 | U12: 2982 | V12: 4648 | W12: 3917 | X12: 4566 | Y12: 1163 | Z12: 1307 | AA12: 1963 | AB12: 2228 | AC12: 480 | AD12: 8768 | AE12: 867 | AF12: 1565 | AG12: 2115 | AH12: 3069 | AI12: 3698 | AJ12: 1272 | AK12: 2426 | AL12: 10243 | AM12: 3030 | AN12: 7213 | AO12: 11623 | AP12: 3682 | AQ12: 7941 | AR12: 6444 | AS12: 2521 | AT12: 3923 | AU12: 4046196 | AV12: 279185 | AW12: 1524059 | AX12: 182681 | AY12: 175930 | AZ12: 252773 | BA12: 197870 | BB12: 183985 | BC12: 382097 | BD12: 867616
A13: 臺南市 | B13: Tainan City | C13: 547 | D13: 26226 | E13: 9222 | F13: 17004 | G13: 13 | H13: 27 | I13: 37 | J13: 50 | K13: 584 | L13: 700 | M13: 1208 | N13: 2145 | O13: 2132 | P13: 4367 | Q13: 1099 | R13: 1606 | S13: 1431 | T13: 3123 | U13: 2731 | V13: 5013 | W13: 2248 | X13: 2822 | Y13: 691 | Z13: 930 | AA13: 2260 | AB13: 2437 | AC13: 523 | AD13: 6477 | AE13: 2716 | AF13: 3160 | AG13: 784 | AH13: 1178 | AI13: 670 | AJ13: 258 | AK13: 412 | AL13: 8454 | AM13: 2938 | AN13: 5516 | AO13: 9025 | AP13: 3534 | AQ13: 5491 | AR13: 8077 | AS13: 2492 | AT13: 5585 | AU13: 6809384 | AV13: 1982313 | AW13: 1465786 | AX13: 257387 | AY13: 165595 | AZ13: 660548 | BA13: 404613 | BB13: 289642 | BC13: 626658 | BD13: 956842
A14: 高雄市 | B14: Kaohsiung City | C14: 406 | D14: 28915 | E14: 9787 | F14: 19128 | G14: 41 | H14: 102 | I14: 175 | J14: 155 | K14: 532 | L14: 692 | M14: 2793 | N14: 2782 | O14: 1548 | P14: 3326 | Q14: 1055 | R14: 2460 | S14: 1897 | T14: 5511 | U14: 1787 | V14: 4202 | W14: 2542 | X14: 3084 | Y14: 942 | Z14: 1093 | AA14: 1616 | AB14: 2131 | AC14: 334 | AD14: 7400 | AE14: 3102 | AF14: 3141 | AG14: 1251 | AH14: 2279 | AI14: 1079 | AJ14: 507 | AK14: 572 | AL14: 11052 | AM14: 4596 | AN14: 6456 | AO14: 9384 | AP14: 2743 | AQ14: 6641 | AR14: 7400 | AS14: 1941 | AT14: 5459 | AU14: 4919560 | AV14: 248988 | AW14: 1203253 | AX14: 85128 | AY14: 128324 | AZ14: 320954 | BA14: 92547 | BB14: 53119 | BC14: 1543972 | BD14: 1243275
A15: 宜蘭縣 | B15: Yilan County | C15: 165 | D15: 15457 | E15: 5239 | F15: 10218 | G15: 112 | H15: 153 | I15: 0 | J15: 0 | K15: 706 | L15: 895 | M15: 655 | N15: 986 | O15: 752 | P15: 1285 | Q15: 983 | R15: 2309 | S15: 1228 | T15: 3148 | U15: 915 | V15: 1595 | W15: 1583 | X15: 1942 | Y15: 639 | Z15: 899 | AA15: 1843 | AB15: 3402 | AC15: 219 | AD15: 2566 | AE15: 593 | AF15: 760 | AG15: 362 | AH15: 649 | AI15: 231 | AJ15: 130 | AK15: 101 | AL15: 3415 | AM15: 1433 | AN15: 1982 | AO15: 6863 | AP15: 1876 | AQ15: 4987 | AR15: 4948 | AS15: 1800 | AT15: 3148 | AU15: 749507 | AV15: 404894 | AW15: 127913 | AX15: 9967 | AY15: 7905 | AZ15: 5543 | BA15: 9896 | BB15: 3428 | BC15: 66057 | BD15: 113904
A16: 新竹縣 | B16: Hsinchu County | C16: 104 | D16: 5912 | E16: 1875 | F16: 4037 | G16: 5 | H16: 8 | I16: 1 | J16: 5 | K16: 158 | L16: 245 | M16: 160 | N16: 537 | O16: 339 | P16: 852 | Q16: 367 | R16: 875 | S16: 422 | T16: 591 | U16: 428 | V16: 932 | W16: 301 | X16: 526 | Y16: 85 | Z16: 187 | AA16: 453 | AB16: 531 | AC16: 79 | AD16: 1479 | AE16: 281 | AF16: 627 | AG16: 676 | AH16: 687 | AI16: 68 | AJ16: 30 | AK16: 38 | AL16: 1595 | AM16: 563 | AN16: 1032 | AO16: 2292 | AP16: 643 | AQ16: 1649 | AR16: 1957 | AS16: 639 | AT16: 1318 | AU16: 926651 | AV16: 443750 | AW16: 254398 | AX16: 12667 | AY16: 1402 | AZ16: 13628 | BA16: 50424 | BB16: 14979 | BC16: 114468 | BD16: 20935
A17: 苗栗縣 | B17: Miaoli County | C17: 192 | D17: 5830 | E17: 1864 | F17: 3966 | G17: 1 | H17: 5 | I17: 17 | J17: 20 | K17: 85 | L17: 146 | M17: 169 | N17: 300 | O17: 192 | P17: 414 | Q17: 312 | R17: 593 | S17: 390 | T17: 933 | U17: 699 | V17: 1560 | W17: 406 | X17: 784 | Y17: 192 | Z17: 181 | AA17: 672 | AB17: 951 | AC17: 34 | AD17: 1228 | AE17: 255 | AF17: 292 | AG17: 305 | AH17: 530 | AI17: 66 | AJ17: 36 | AK17: 30 | AL17: 1042 | AM17: 462 | AN17: 580 | AO17: 3038 | AP17: 927 | AQ17: 2111 | AR17: 1684 | AS17: 439 | AT17: 1245 | AU17: 1028378 | AV17: 39853 | AW17: 536341 | AX17: 27419 | AY17: 9691 | AZ17: 19919 | BA17: 30114 | BB17: 24273 | BC17: 246730 | BD17: 94038
A18: 彰化縣 | B18: Changhua County | C18: 331 | D18: 28005 | E18: 10749 | F18: 17256 | G18: 22 | H18: 26 | I18: 8 | J18: 4 | K18: 3320 | L18: 3511 | M18: 1494 | N18: 1513 | O18: 866 | P18: 1687 | Q18: 879 | R18: 1879 | S18: 1441 | T18: 3695 | U18: 2741 | V18: 4967 | W18: 1240 | X18: 1893 | Y18: 368 | Z18: 516 | AA18: 2915 | AB18: 1512 | AC18: 972 | AD18: 7000 | AE18: 4374 | AF18: 4254 | AG18: 880 | AH18: 2081 | AI18: 743 | AJ18: 323 | AK18: 420 | AL18: 5765 | AM18: 2686 | AN18: 3079 | AO18: 13279 | AP18: 5703 | AQ18: 7576 | AR18: 8218 | AS18: 2037 | AT18: 6181 | AU18: 2255255 | AV18: 73793 | AW18: 708353 | AX18: 177946 | AY18: 8567 | AZ18: 75172 | BA18: 100381 | BB18: 167083 | BC18: 379882 | BD18: 564078
A19: 南投縣 | B19: Nantou County | C19: 104 | D19: 6319 | E19: 2433 | F19: 3886 | G19: 0 | H19: 0 | I19: 1 | J19: 3 | K19: 118 | L19: 197 | M19: 236 | N19: 398 | O19: 631 | P19: 1140 | Q19: 598 | R19: 949 | S19: 360 | T19: 672 | U19: 489 | V19: 527 | W19: 1118 | X19: 1043 | Y19: 405 | Z19: 493 | AA19: 201 | AB19: 226 | AC19: 23 | AD19: 1246 | AE19: 305 | AF19: 443 | AG19: 381 | AH19: 435 | AI19: 159 | AJ19: 64 | AK19: 95 | AL19: 1818 | AM19: 790 | AN19: 1028 | AO19: 2853 | AP19: 1075 | AQ19: 1778 | AR19: 1489 | AS19: 504 | AT19: 985 | AU19: 302482 | AV19: 10502 | AW19: 112637 | AX19: 43412 | AY19: 3834 | AZ19: 8665 | BA19: 1920 | BB19: 5515 | BC19: 25861 | BD19: 90136
... A30: 連江縣 | B30: Lienchiang County | C30: 6 | D30: 36 | E30: 4 | F30: 32 | G30: 0 | H30: 0 | I30: 0 | J30: 0 | K30: 0 | L30: 0 | M30: 0 | N30: 0 | O30: 0 | P30: 11 | Q30: 1 | R30: 18 | S30: 3 | T30: 3 | U30: 0 | V30: 0 | W30: 1 | X30: 7 | Y30: 0 | Z30: 15 | AA30: 0 | AB30: 2 | AC30: 3 | AD30: 4 | AE30: 0 | AF30: 2 | AG30: 0 | AH30: 2 | AI30: 0 | AJ30: 0 | AK30: 0 | AL30: 6 | AM30: 2 | AN30: 4 | AO30: 25 | AP30: 2 | AQ30: 23 | AR30: 5 | AS30: 0 | AT30: 5 | AU30: 371 | AV30: 0 | AW30: 361 | AX30: 0 | AY30: 0 | AZ30: 0 | BA30: 0 | BB30: 0 | BC30: 0 | BD30: 10
A31: 資料來源：直轄市、縣(市)政府。

Sheet 106
A1: 1.6-01 地方政府社會處(局)所轄志工 Number of Volunteers of Department of Social Welfare of Local Government
A2: 106年,2017
A3: 單位：隊；人；小時 Unit : Teams, Persons, Hours
A4: 地區別 Locality | C4: 總隊數 No. of Team | D4: 隊員總人數 No. of Team Member | G4: 隊員具 原住民身分 Team Members with Indigenous Identity | I4: 隊員按年齡分 By Age | W4: 隊員按身分分 By Identity | AI4: 隊員按教育程度分 By Education | AU4: 志工志願服務時數 (小時)
I5: 未滿12歲 Under 12 Years | K5: 12-17歲 12-17 Years | M5: 18-29歲 18-29 Years | O5: 30-49歲 30-49 Years | Q5: 50-54歲 50-54 Years | S5: 55-64歲 55-64 Years | U5: 65歲以上 65 Years & Over | W5: 工商界人士 Members of Industry & Commerce | Y5: 公教員工 Officers & Teacher | AA5: 退休人員 Retired Members | AC5: 家庭管理 Housekeepers | AE5: 學生 Students | AG5: 其他 Others | AI5: 研究所 Postgraduate | AL5: 大專 University, College | AO5: 高中(職) Senior High School | AR5: 國中及以下 Junior High School & Under | AU5: 合計 | AV5: 身心障礙福利服務 | AW5: 老人福利服務 | AX5: 婦女福利服務 | AY5: .少年福利服務 | AZ5: 兒童福利服務 | BA5: 諮商輔導服務 | BB5: 醫院社會服務 | BC5: 家庭福利服務 | BD5: 社區福利服務 | BE5: 綜合福利服務
D6: 計 | E6: 男 | F6: 女 | G6: 男 | H6: 女 | I6: 男 | J6: 女 | K6: 男 | L6: 女 | M6: 男 | N6: 女 | O6: 男 | P6: 女 | Q6: 男 | R6: 女 | S6: 男 | T6: 女 | U6: 男 | V6: 女 | W6: 男 | X6: 女 | Y6: 男 | Z6: 女 | AA6: 男 | AB6: 女 | AC6: 男 | AD6: 女 | AE6: 男 | AF6: 女 | AG6: 男 | AH6: 女 | AI6: 計 | AJ6: 男 | AK6: 女 | AL6: 計 | AM6: 男 | AN6: 女 | AO6: 計 | AP6: 男 | AQ6: 女 | AR6: 計 | AS6: 男 | AT6: 女 | AU6: Total | AV6: Welfare Service for the Disabled | AW6: Welfare Service for the Aged | AX6: Welfare Service for the Women | AY6: Welfare Service for the Young | AZ6: Welfare Service for Children | BA6: Service of Consulting | BB6: Social Service for Hospital or Dispensary | BC6: Welfare Service for Home | BD6: Welfare Service for Communities | BE6: Complex Welfare Service
D7: Total | E7: Male | F7: Female | G7: Male | H7: Female | I7: Male | J7: Female | K7: Male | L7: Female | M7: Male | N7: Female | O7: Male | P7: Female | Q7: Male | R7: Female | S7: Male | T7: Female | U7: Male | V7: Female | W7: Male | X7: Female | Y7: Male | Z7: Female | AA7: Male | AB7: Female | AC7: Male | AD7: Female | AE7: Male | AF7: Female | AG7: Male | AH7: Female | AI7: Total | AJ7: Male | AK7: Female | AL7: Total | AM7: Male | AN7: Female | AO7: Total | AP7: Male | AQ7: Female | AR7: Total | AS7: Male | AT7: Female
A8: 總計 | B8: Total | C8: 4899 | D8: 288677 | E8: 91789 | F8: 196888 | G8: 4908 | H8: 9744 | I8: 494 | J8: 616 | K8: 7706 | L8: 9807 | M8: 12789 | N8: 19135 | O8: 16751 | P8: 38300 | Q8: 11433 | R8: 27814 | S8: 20093 | T8: 53379 | U8: 22523 | V8: 47837 | W8: 25207 | X8: 33206 | Y8: 10078 | Z8: 13639 | AA8: 19985 | AB8: 23521 | AC8: 4150 | AD8: 76360 | AE8: 18651 | AF8: 23994 | AG8: 13718 | AH8: 26168 | AI8: 13482 | AJ8: 4974 | AK8: 8508 | AL8: 86431 | AM8: 31123 | AN8: 55308 | AO8: 107799 | AP8: 34150 | AQ8: 73649 | AR8: 80965 | AS8: 21542 | AT8: 59423 | AU8: 40938632 | AV8: 6219683 | AW8: 11553556 | AX8: 1338132 | AY8: 889763 | AZ8: 2459265 | BA8: 1158924 | BB8: 0 | BC8: 971039 | BD8: 7289566 | BE8: 9058704
A9: 新北市 | B9: New Taipei City | C9: 444 | D9: 43571 | E9: 11386 | F9: 32185 | G9: 109 | H9: 365 | I9: 66 | J9: 92 | K9: 180 | L9: 347 | M9: 575 | N9: 994 | O9: 1387 | P9: 3915 | Q9: 1353 | R9: 4230 | S9: 3760 | T9: 12373 | U9: 4065 | V9: 10234 | W9: 2382 | X9: 3561 | Y9: 984 | Z9: 1110 | AA9: 2873 | AB9: 3721 | AC9: 308 | AD9: 13317 | AE9: 488 | AF9: 1280 | AG9: 4351 | AH9: 9196 | AI9: 737 | AJ9: 346 | AK9: 391 | AL9: 7719 | AM9: 2763 | AN9: 4956 | AO9: 15233 | AP9: 3979 | AQ9: 11254 | AR9: 19882 | AS9: 4298 | AT9: 15584 | AU9: 5761578 | AV9: 252122 | AW9: 1373744 | AX9: 193867 | AY9: 127837 | AZ9: 334891 | BA9: 68755 | BB9: 0 | BC9: 100716 | BD9: 1256003 | BE9: 2053643
A10: 臺北市 | B10: Taipei City | C10: 463 | D10: 28126 | E10: 8732 | F10: 19394 | G10: 2645 | H10: 4630 | I10: 48 | J10: 72 | K10: 377 | L10: 537 | M10: 2088 | N10: 4175 | O10: 3050 | P10: 5600 | Q10: 1203 | R10: 2386 | S10: 1064 | T10: 3439 | U10: 902 | V10: 3185 | W10: 3269 | X10: 5602 | Y10: 905 | Z10: 1762 | AA10: 1581 | AB10: 2620 | AC10: 170 | AD10: 4138 | AE10: 2114 | AF10: 2963 | AG10: 693 | AH10: 2309 | AI10: 2119 | AJ10: 741 | AK10: 1378 | AL10: 15672 | AM10: 5045 | AN10: 10627 | AO10: 7736 | AP10: 2252 | AQ10: 5484 | AR10: 2599 | AS10: 694 | AT10: 1905 | AU10: 2933302 | AV10: 162616 | AW10: 1234583 | AX10: 30700 | AY10: 75515 | AZ10: 71246 | BA10: 32667 | BB10: 0 | BC10: 5880 | BD10: 50600 | BE10: 1269495
A11: 桃園市 | B11: Taoyuan City | C11: 392 | D11: 17749 | E11: 4985 | F11: 12764 | G11: 27 | H11: 86 | I11: 4 | J11: 10 | K11: 316 | L11: 710 | M11: 411 | N11: 689 | O11: 1088 | P11: 3486 | Q11: 692 | R11: 2048 | S11: 1485 | T11: 3066 | U11: 989 | V11: 2755 | W11: 1665 | X11: 1779 | Y11: 345 | Z11: 407 | AA11: 1375 | AB11: 1958 | AC11: 655 | AD11: 7262 | AE11: 741 | AF11: 943 | AG11: 204 | AH11: 415 | AI11: 414 | AJ11: 165 | AK11: 249 | AL11: 4453 | AM11: 1431 | AN11: 3022 | AO11: 7412 | AP11: 1827 | AQ11: 5585 | AR11: 5470 | AS11: 1562 | AT11: 3908 | AU11: 1611886 | AV11: 52049 | AW11: 608344 | AX11: 70597 | AY11: 85079 | AZ11: 107092 | BA11: 53928 | BB11: 0 | BC11: 52661 | BD11: 244201 | BE11: 337935
A12: 臺中市 | B12: Taichung City | C12: 475 | D12: 30777 | E12: 9431 | F12: 21346 | G12: 11 | H12: 41 | I12: 34 | J12: 40 | K12: 238 | L12: 451 | M12: 826 | N12: 1620 | O12: 1510 | P12: 3478 | Q12: 1029 | R12: 3495 | S12: 3222 | T12: 8023 | U12: 2572 | V12: 4239 | W12: 3581 | X12: 4371 | Y12: 1047 | Z12: 1350 | AA12: 1750 | AB12: 1949 | AC12: 397 | AD12: 9196 | AE12: 808 | AF12: 1584 | AG12: 1848 | AH12: 2896 | AI12: 3209 | AJ12: 853 | AK12: 2356 | AL12: 9581 | AM12: 2836 | AN12: 6745 | AO12: 11268 | AP12: 3471 | AQ12: 7797 | AR12: 6719 | AS12: 2271 | AT12: 4448 | AU12: 4372384 | AV12: 217944 | AW12: 1938927 | AX12: 261354 | AY12: 20689 | AZ12: 168884 | BA12: 37160 | BB12: 0 | BC12: 48018 | BD12: 981670 | BE12: 697738
A13: 臺南市 | B13: Tainan City | C13: 519 | D13: 24977 | E13: 8717 | F13: 16260 | G13: 5 | H13: 19 | I13: 35 | J13: 49 | K13: 552 | L13: 718 | M13: 1146 | N13: 1973 | O13: 1880 | P13: 4559 | Q13: 913 | R13: 1545 | S13: 1194 | T13: 2920 | U13: 2997 | V13: 4496 | W13: 2352 | X13: 2888 | Y13: 384 | Z13: 902 | AA13: 2214 | AB13: 2492 | AC13: 378 | AD13: 6130 | AE13: 2652 | AF13: 2873 | AG13: 737 | AH13: 975 | AI13: 646 | AJ13: 244 | AK13: 402 | AL13: 8005 | AM13: 2711 | AN13: 5294 | AO13: 8696 | AP13: 3396 | AQ13: 5300 | AR13: 7630 | AS13: 2366 | AT13: 5264 | AU13: 6491328 | AV13: 1944959 | AW13: 1389972 | AX13: 236923 | AY13: 156158 | AZ13: 638265 | BA13: 391296 | BB13: 0 | BC13: 257907 | BD13: 571435 | BE13: 904413
A14: 高雄市 | B14: Kaohsiung City | C14: 356 | D14: 27272 | E14: 9276 | F14: 17996 | G14: 40 | H14: 91 | I14: 157 | J14: 143 | K14: 729 | L14: 912 | M14: 2866 | N14: 3093 | O14: 1375 | P14: 3195 | Q14: 998 | R14: 2345 | S14: 1690 | T14: 4991 | U14: 1461 | V14: 3317 | W14: 2304 | X14: 2776 | Y14: 833 | Z14: 1063 | AA14: 1402 | AB14: 1735 | AC14: 291 | AD14: 7013 | AE14: 3456 | AF14: 3523 | AG14: 990 | AH14: 1886 | AI14: 1022 | AJ14: 493 | AK14: 529 | AL14: 10529 | AM14: 4354 | AN14: 6175 | AO14: 8720 | AP14: 2630 | AQ14: 6090 | AR14: 7001 | AS14: 1799 | AT14: 5202 | AU14: 5069843 | AV14: 302053 | AW14: 1200206 | AX14: 114428 | AY14: 181241 | AZ14: 378604 | BA14: 126997 | BB14: 0 | BC14: 58786 | BD14: 1371719 | BE14: 1335809
A15: 宜蘭縣 | B15: Yilan County | C15: 166 | D15: 14296 | E15: 5312 | F15: 8984 | G15: 105 | H15: 144 | I15: 0 | J15: 0 | K15: 699 | L15: 730 | M15: 657 | N15: 913 | O15: 779 | P15: 1204 | Q15: 982 | R15: 2013 | S15: 1266 | T15: 2548 | U15: 929 | V15: 1576 | W15: 1623 | X15: 1567 | Y15: 635 | Z15: 907 | AA15: 1873 | AB15: 2817 | AC15: 227 | AD15: 2281 | AE15: 606 | AF15: 678 | AG15: 348 | AH15: 734 | AI15: 244 | AJ15: 137 | AK15: 107 | AL15: 3288 | AM15: 1418 | AN15: 1870 | AO15: 5933 | AP15: 1939 | AQ15: 3994 | AR15: 4831 | AS15: 1818 | AT15: 3013 | AU15: 2362986 | AV15: 1352018 | AW15: 375884 | AX15: 36241 | AY15: 26320 | AZ15: 19039 | BA15: 38537 | BB15: 0 | BC15: 8672 | BD15: 138682 | BE15: 367593
A16: 新竹縣 | B16: Hsinchu County | C16: 102 | D16: 5962 | E16: 1845 | F16: 4117 | G16: 10 | H16: 16 | I16: 5 | J16: 18 | K16: 156 | L16: 241 | M16: 157 | N16: 531 | O16: 332 | P16: 860 | Q16: 363 | R16: 868 | S16: 411 | T16: 640 | U16: 421 | V16: 959 | W16: 298 | X16: 543 | Y16: 84 | Z16: 198 | AA16: 445 | AB16: 542 | AC16: 77 | AD16: 1493 | AE16: 274 | AF16: 637 | AG16: 667 | AH16: 704 | AI16: 106 | AJ16: 30 | AK16: 76 | AL16: 1600 | AM16: 553 | AN16: 1047 | AO16: 2291 | AP16: 629 | AQ16: 1662 | AR16: 1965 | AS16: 633 | AT16: 1332 | AU16: 1090533 | AV16: 619128 | AW16: 155438 | AX16: 8699 | AY16: 1113 | AZ16: 8902 | BA16: 155798 | BB16: 0 | BC16: 10015 | BD16: 95781 | BE16: 35659
A17: 苗栗縣 | B17: Miaoli County | C17: 171 | D17: 5688 | E17: 1966 | F17: 3722 | G17: 14 | H17: 11 | I17: 11 | J17: 17 | K17: 97 | L17: 160 | M17: 196 | N17: 276 | O17: 264 | P17: 412 | Q17: 341 | R17: 363 | S17: 452 | T17: 916 | U17: 605 | V17: 1578 | W17: 636 | X17: 820 | Y17: 203 | Z17: 197 | AA17: 642 | AB17: 918 | AC17: 55 | AD17: 1131 | AE17: 246 | AF17: 372 | AG17: 184 | AH17: 284 | AI17: 55 | AJ17: 31 | AK17: 24 | AL17: 1054 | AM17: 472 | AN17: 582 | AO17: 2821 | AP17: 971 | AQ17: 1850 | AR17: 1758 | AS17: 492 | AT17: 1266 | AU17: 1331215 | AV17: 76192 | AW17: 713452 | AX17: 57550 | AY17: 11534 | AZ17: 18307 | BA17: 51746 | BB17: 0 | BC17: 19384 | BD17: 290056 | BE17: 92994
A18: 彰化縣 | B18: Changhua County | C18: 298 | D18: 26500 | E18: 10163 | F18: 16337 | G18: 24 | H18: 14 | I18: 20 | J18: 10 | K18: 3244 | L18: 3447 | M18: 1476 | N18: 1507 | O18: 902 | P18: 1577 | Q18: 508 | R18: 1462 | S18: 1424 | T18: 3640 | U18: 2589 | V18: 4694 | W18: 988 | X18: 1579 | Y18: 322 | Z18: 519 | AA18: 2972 | AB18: 1370 | AC18: 753 | AD18: 6292 | AE18: 4687 | AF18: 5059 | AG18: 441 | AH18: 1518 | AI18: 540 | AJ18: 254 | AK18: 286 | AL18: 5261 | AM18: 2556 | AN18: 2705 | AO18: 12700 | AP18: 5495 | AQ18: 7205 | AR18: 7999 | AS18: 1858 | AT18: 6141 | AU18: 2209364 | AV18: 126933 | AW18: 453993 | AX18: 110558 | AY18: 6663 | AZ18: 47666 | BA18: 72420 | BB18: 0 | BC18: 270082 | BD18: 523980 | BE18: 597069
A19: 南投縣 | B19: Nantou County | C19: 97 | D19: 5898 | E19: 2306 | F19: 3592 | G19: 52 | H19: 87 | I19: 1 | J19: 2 | K19: 115 | L19: 189 | M19: 228 | N19: 383 | O19: 612 | P19: 1078 | Q19: 573 | R19: 888 | S19: 331 | T19: 604 | U19: 446 | V19: 448 | W19: 1097 | X19: 981 | Y19: 389 | Z19: 456 | AA19: 144 | AB19: 179 | AC19: 16 | AD19: 1144 | AE19: 289 | AF19: 410 | AG19: 371 | AH19: 422 | AI19: 154 | AJ19: 62 | AK19: 92 | AL19: 1744 | AM19: 761 | AN19: 983 | AO19: 2690 | AP19: 1031 | AQ19: 1659 | AR19: 1310 | AS19: 452 | AT19: 858 | AU19: 285939 | AV19: 9931 | AW19: 106347 | AX19: 42139 | AY19: 3613 | AZ19: 8225 | BA19: 1671 | BB19: 0 | BC19: 5106 | BD19: 22097 | BE19: 86810
... A30: 連江縣 | B30: Lienchiang County | C30: 5 | D30: 109 | E30: 30 | F30: 79 | G30: 0 | H30: 0 | I30: 0 | J30: 0 | K30: 0 | L30: 0 | M30: 0 | N30: 2 | O30: 9 | P30: 33 | Q30: 9 | R30: 13 | S30: 9 | T30: 25 | U30: 3 | V30: 6 | W30: 20 | X30: 22 | Y30: 7 | Z30: 26 | AA30: 3 | AB30: 6 | AC30: 0 | AD30: 25 | AE30: 0 | AF30: 0 | AG30: 0 | AH30: 0 | AI30: 5 | AJ30: 2 | AK30: 3 | AL30: 26 | AM30: 8 | AN30: 18 | AO30: 52 | AP30: 11 | AQ30: 41 | AR30: 26 | AS30: 9 | AT30: 17 | AU30: 243 | AV30: 0 | AW30: 217 | AX30: 4 | AY30: 0 | AZ30: 8 | BA30: 0 | BB30: 0 | BC30: 0 | BD30: 0 | BE30: 14
A31: 資料來源：直轄市、縣(市)政府。

Sheet 105
A1: 1.6-01 地方政府社會處(局)所轄志工 Number of Volunteers of Department of Social Welfare of Local Government
A2: 105年,2016
A3: 單位：隊；人；小時 Unit : Teams, Persons, Hours
A4: 地區別 Locality | C4: 總隊數 No. of Team | D4: 隊員總人數 No. of Team Member | G4: 隊員具 原住民身分 Team Members with Indigenous Identity | I4: 隊員按年齡分 By Age | W4: 隊員按身分分 By Identity | AI4: 隊員按教育程度分 By Education | AU4: 志工志願服務時數 (小時)
I5: 未滿12歲 Under 12 Years | K5: 12-17歲 12-17 Years | M5: 18-29歲 18-29 Years | O5: 30-49歲 30-49 Years | Q5: 50-54歲 50-54 Years | S5: 55-64歲 55-64 Years | U5: 65歲以上 65 Years & Over | W5: 工商界人士 Members of Industry & Commerce | Y5: 公教員工 Officers & Teacher | AA5: 退休人員 Retired Members | AC5: 家庭管理 Housekeepers | AE5: 學生 Students | AG5: 其他 Others | AI5: 研究所 Postgraduate | AL5: 大專 University, College | AO5: 高中(職) Senior High School | AR5: 國中及以下 Junior High School & Under | AU5: 合計 | AV5: 身心障礙福利服務 | AW5: 老人福利服務 | AX5: 婦女福利服務 | AY5: .少年福利服務 | AZ5: 兒童福利服務 | BA5: 諮商輔導服務 | BB5: 醫院社會服務 | BC5: 家庭福利服務 | BD5: 社區福利服務 | BE5: 綜合福利服務
D6: 計 | E6: 男 | F6: 女 | G6: 男 | H6: 女 | I6: 男 | J6: 女 | K6: 男 | L6: 女 | M6: 男 | N6: 女 | O6: 男 | P6: 女 | Q6: 男 | R6: 女 | S6: 男 | T6: 女 | U6: 男 | V6: 女 | W6: 男 | X6: 女 | Y6: 男 | Z6: 女 | AA6: 男 | AB6: 女 | AC6: 男 | AD6: 女 | AE6: 男 | AF6: 女 | AG6: 男 | AH6: 女 | AI6: 計 | AJ6: 男 | AK6: 女 | AL6: 計 | AM6: 男 | AN6: 女 | AO6: 計 | AP6: 男 | AQ6: 女 | AR6: 計 | AS6: 男 | AT6: 女 | AU6: Total | AV6: Welfare Service for the Disabled | AW6: Welfare Service for the Aged | AX6: Welfare Service for the Women | AY6: Welfare Service for the Young | AZ6: Welfare Service for Children | BA6: Service of Consulting | BB6: Social Service for Hospital or Dispensary | BC6: Welfare Service for Home | BD6: Welfare Service for Communities | BE6: Complex Welfare Service
D7: Total | E7: Male | F7: Female | G7: Male | H7: Female | I7: Male | J7: Female | K7: Male | L7: Female | M7: Male | N7: Female | O7: Male | P7: Female | Q7: Male | R7: Female | S7: Male | T7: Female | U7: Male | V7: Female | W7: Male | X7: Female | Y7: Male | Z7: Female | AA7: Male | AB7: Female | AC7: Male | AD7: Female | AE7: Male | AF7: Female | AG7: Male | AH7: Female | AI7: Total | AJ7: Male | AK7: Female | AL7: Total | AM7: Male | AN7: Female | AO7: Total | AP7: Male | AQ7: Female | AR7: Total | AS7: Male | AT7: Female
A8: 總計 | B8: Total | C8: 4426 | D8: 261485 | E8: 81097 | F8: 180388 | G8: 3114 | H8: 7145 | I8: 365 | J8: 562 | K8: 6023 | L8: 7267 | M8: 10895 | N8: 16540 | O8: 14897 | P8: 37213 | Q8: 11192 | R8: 27782 | S8: 20016 | T8: 52077 | U8: 17709 | V8: 38947 | W8: 24447 | X8: 32330 | Y8: 8628 | Z8: 11154 | AA8: 18737 | AB8: 22853 | AC8: 3650 | AD8: 72952 | AE8: 14237 | AF8: 19823 | AG8: 11398 | AH8: 21276 | AI8: 9752 | AJ8: 3661 | AK8: 6091 | AL8: 69328 | AM8: 24707 | AN8: 44621 | AO8: 101175 | AP8: 31073 | AQ8: 70102 | AR8: 81230 | AS8: 21656 | AT8: 59574 | AU8: 36211340 | AV8: 4875530 | AW8: 9076619 | AX8: 1262624 | AY8: 958945 | AZ8: 2778886 | BA8: 1020194 | BB8: 0 | BC8: 861575 | BD8: 6802302 | BE8: 8574665
A9: 新北市 | B9: New Taipei City | C9: 400 | D9: 42590 | E9: 11188 | F9: 31402 | G9: 145 | H9: 265 | I9: 47 | J9: 78 | K9: 188 | L9: 402 | M9: 722 | N9: 1530 | O9: 1586 | P9: 4807 | Q9: 1873 | R9: 5918 | S9: 3790 | T9: 11672 | U9: 2982 | V9: 6995 | W9: 3129 | X9: 3881 | Y9: 1115 | Z9: 1298 | AA9: 3237 | AB9: 4614 | AC9: 745 | AD9: 16811 | AE9: 527 | AF9: 933 | AG9: 2435 | AH9: 3865 | AI9: 703 | AJ9: 316 | AK9: 387 | AL9: 7626 | AM9: 2541 | AN9: 5085 | AO9: 15684 | AP9: 3935 | AQ9: 11749 | AR9: 18577 | AS9: 4396 | AT9: 14181 | AU9: 5575008 | AV9: 236425 | AW9: 1197796 | AX9: 150720 | AY9: 128919 | AZ9: 353608 | BA9: 52868 | BB9: 0 | BC9: 114431 | BD9: 1378770 | BE9: 1961471
A10: 臺北市 | B10: Taipei City | C10: 440 | D10: 23387 | E10: 6634 | F10: 16753 | G10: 851 | H10: 1808 | I10: 110 | J10: 155 | K10: 386 | L10: 336 | M10: 1039 | N10: 2428 | O10: 2320 | P10: 4896 | Q10: 783 | R10: 1768 | S10: 1088 | T10: 3707 | U10: 908 | V10: 3463 | W10: 2575 | X10: 4604 | Y10: 677 | Z10: 1051 | AA10: 1325 | AB10: 2333 | AC10: 165 | AD10: 4062 | AE10: 1147 | AF10: 2102 | AG10: 745 | AH10: 2601 | AI10: 3625 | AJ10: 920 | AK10: 2705 | AL10: 6292 | AM10: 1466 | AN10: 4826 | AO10: 11327 | AP10: 3427 | AQ10: 7900 | AR10: 2143 | AS10: 821 | AT10: 1322 | AU10: 3032648 | AV10: 159333 | AW10: 793269 | AX10: 94523 | AY10: 149654 | AZ10: 126659 | BA10: 93313 | BB10: 0 | BC10: 46240 | BD10: 861865 | BE10: 707792
A11: 桃園市 | B11: Taoyuan City | C11: 460 | D11: 19362 | E11: 5184 | F11: 14178 | G11: 0 | H11: 126 | I11: 9 | J11: 20 | K11: 192 | L11: 159 | M11: 454 | N11: 669 | O11: 1089 | P11: 3498 | Q11: 659 | R11: 2076 | S11: 1554 | T11: 4691 | U11: 1227 | V11: 3065 | W11: 1839 | X11: 2504 | Y11: 347 | Z11: 436 | AA11: 1639 | AB11: 1900 | AC11: 213 | AD11: 6974 | AE11: 899 | AF11: 2113 | AG11: 247 | AH11: 251 | AI11: 707 | AJ11: 201 | AK11: 506 | AL11: 6092 | AM11: 1762 | AN11: 4330 | AO11: 6960 | AP11: 1929 | AQ11: 5031 | AR11: 5603 | AS11: 1292 | AT11: 4311 | AU11: 1760568 | AV11: 45803 | AW11: 464320 | AX11: 43406 | AY11: 128000 | AZ11: 319970 | BA11: 48488 | BB11: 0 | BC11: 35735 | BD11: 158692 | BE11: 516154
A12: 臺中市 | B12: Taichung City | C12: 434 | D12: 29500 | E12: 9036 | F12: 20464 | G12: 18 | H12: 48 | I12: 29 | J12: 48 | K12: 209 | L12: 329 | M12: 676 | N12: 1113 | O12: 1292 | P12: 3432 | Q12: 1271 | R12: 3544 | S12: 3585 | T12: 7538 | U12: 1974 | V12: 4460 | W12: 3982 | X12: 5254 | Y12: 773 | Z12: 954 | AA12: 2195 | AB12: 3664 | AC12: 142 | AD12: 6598 | AE12: 588 | AF12: 991 | AG12: 1356 | AH12: 3003 | AI12: 677 | AJ12: 321 | AK12: 356 | AL12: 6850 | AM12: 2375 | AN12: 4475 | AO12: 10255 | AP12: 2999 | AQ12: 7256 | AR12: 11718 | AS12: 3341 | AT12: 8377 | AU12: 3469026 | AV12: 283910 | AW12: 1464951 | AX12: 132841 | AY12: 31240 | AZ12: 181573 | BA12: 79095 | BB12: 0 | BC12: 32770 | BD12: 444878 | BE12: 817768
A13: 臺南市 | B13: Tainan City | C13: 495 | D13: 20288 | E13: 6725 | F13: 13563 | G13: 4 | H13: 18 | I13: 21 | J13: 32 | K13: 634 | L13: 836 | M13: 1360 | N13: 2153 | O13: 1558 | P13: 4143 | Q13: 750 | R13: 1697 | S13: 1412 | T13: 3230 | U13: 990 | V13: 1472 | W13: 1976 | X13: 2526 | Y13: 308 | Z13: 730 | AA13: 1412 | AB13: 1635 | AC13: 331 | AD13: 5351 | AE13: 1960 | AF13: 2353 | AG13: 738 | AH13: 968 | AI13: 565 | AJ13: 229 | AK13: 336 | AL13: 6497 | AM13: 2209 | AN13: 4288 | AO13: 6745 | AP13: 2442 | AQ13: 4303 | AR13: 6481 | AS13: 1845 | AT13: 4636 | AU13: 5372124 | AV13: 1673598 | AW13: 1101661 | AX13: 206526 | AY13: 127795 | AZ13: 554501 | BA13: 313021 | BB13: 0 | BC13: 188539 | BD13: 469135 | BE13: 737348
A14: 高雄市 | B14: Kaohsiung City | C14: 351 | D14: 26957 | E14: 9252 | F14: 17705 | G14: 29 | H14: 58 | I14: 33 | J14: 33 | K14: 818 | L14: 989 | M14: 2993 | N14: 3239 | O14: 1379 | P14: 3474 | Q14: 934 | R14: 2414 | S14: 1765 | T14: 4795 | U14: 1330 | V14: 2761 | W14: 2340 | X14: 2767 | Y14: 748 | Z14: 934 | AA14: 1385 | AB14: 1618 | AC14: 297 | AD14: 6590 | AE14: 3573 | AF14: 3797 | AG14: 909 | AH14: 1999 | AI14: 836 | AJ14: 449 | AK14: 387 | AL14: 10896 | AM14: 4505 | AN14: 6391 | AO14: 8465 | AP14: 2538 | AQ14: 5927 | AR14: 6760 | AS14: 1760 | AT14: 5000 | AU14: 5153226 | AV14: 264248 | AW14: 989524 | AX14: 90463 | AY14: 152222 | AZ14: 334076 | BA14: 93202 | BB14: 0 | BC14: 42616 | BD14: 1318464 | BE14: 1868411
A15: 宜蘭縣 | B15: Yilan County | C15: 155 | D15: 8948 | E15: 3825 | F15: 5123 | G15: 66 | H15: 74 | I15: 0 | J15: 0 | K15: 621 | L15: 552 | M15: 585 | N15: 762 | O15: 663 | P15: 995 | Q15: 692 | R15: 873 | S15: 769 | T15: 1200 | U15: 495 | V15: 741 | W15: 1492 | X15: 1326 | Y15: 444 | Z15: 531 | AA15: 961 | AB15: 1320 | AC15: 194 | AD15: 1020 | AE15: 499 | AF15: 523 | AG15: 235 | AH15: 403 | AI15: 158 | AJ15: 86 | AK15: 72 | AL15: 2647 | AM15: 1115 | AN15: 1532 | AO15: 3334 | AP15: 1211 | AQ15: 2123 | AR15: 2809 | AS15: 1413 | AT15: 1396 | AU15: 1008368 | AV15: 584369 | AW15: 166260 | AX15: 15770 | AY15: 10770 | AZ15: 8088 | BA15: 16266 | BB15: 0 | BC15: 34505 | BD15: 26526 | BE15: 145814
A16: 新竹縣 | B16: Hsinchu County | C16: 97 | D16: 5332 | E16: 1920 | F16: 3412 | G16: 10 | H16: 16 | I16: 4 | J16: 16 | K16: 164 | L16: 199 | M16: 164 | N16: 441 | O16: 346 | P16: 716 | Q16: 377 | R16: 719 | S16: 427 | T16: 528 | U16: 438 | V16: 793 | W16: 316 | X16: 453 | Y16: 89 | Z16: 169 | AA16: 463 | AB16: 428 | AC16: 80 | AD16: 1228 | AE16: 300 | AF16: 536 | AG16: 672 | AH16: 598 | AI16: 82 | AJ16: 32 | AK16: 50 | AL16: 1372 | AM16: 591 | AN16: 781 | AO16: 1980 | AP16: 640 | AQ16: 1340 | AR16: 1898 | AS16: 657 | AT16: 1241 | AU16: 841573 | AV16: 466077 | AW16: 118099 | AX16: 6537 | AY16: 843 | AZ16: 6749 | BA16: 118101 | BB16: 0 | BC16: 7592 | BD16: 90685 | BE16: 26890
A17: 苗栗縣 | B17: Miaoli County | C17: 167 | D17: 5601 | E17: 2004 | F17: 3597 | G17: 7 | H17: 8 | I17: 13 | J17: 23 | K17: 101 | L17: 148 | M17: 197 | N17: 280 | O17: 290 | P17: 406 | Q17: 342 | R17: 359 | S17: 456 | T17: 690 | U17: 605 | V17: 1691 | W17: 651 | X17: 816 | Y17: 210 | Z17: 178 | AA17: 643 | AB17: 925 | AC17: 55 | AD17: 1036 | AE17: 252 | AF17: 357 | AG17: 193 | AH17: 285 | AI17: 63 | AJ17: 35 | AK17: 28 | AL17: 1004 | AM17: 475 | AN17: 529 | AO17: 2810 | AP17: 983 | AQ17: 1827 | AR17: 1724 | AS17: 511 | AT17: 1213 | AU17: 897966 | AV17: 47973 | AW17: 434496 | AX17: 68976 | AY17: 14489 | AZ17: 40431 | BA17: 21742 | BB17: 0 | BC17: 23748 | BD17: 145655 | BE17: 100456
A18: 彰化縣 | B18: Changhua County | C18: 291 | D18: 21157 | E18: 7640 | F18: 13517 | G18: 18 | H18: 14 | I18: 19 | J18: 10 | K18: 1659 | L18: 1783 | M18: 809 | N18: 942 | O18: 849 | P18: 1457 | Q18: 483 | R18: 1390 | S18: 1355 | T18: 3465 | U18: 2466 | V18: 4470 | W18: 940 | X18: 1623 | Y18: 301 | Z18: 456 | AA18: 2829 | AB18: 1272 | AC18: 717 | AD18: 5897 | AE18: 2437 | AF18: 2828 | AG18: 416 | AH18: 1441 | AI18: 524 | AJ18: 249 | AK18: 275 | AL18: 3900 | AM18: 1838 | AN18: 2062 | AO18: 9310 | AP18: 3795 | AQ18: 5515 | AR18: 7423 | AS18: 1758 | AT18: 5665 | AU18: 1992994 | AV18: 55628 | AW18: 601190 | AX18: 88741 | AY18: 18355 | AZ18: 55440 | BA18: 64302 | BB18: 0 | BC18: 210732 | BD18: 365277 | BE18: 533329
A19: 南投縣 | B19: Nantou County | C19: 86 | D19: 5411 | E19: 2155 | F19: 3256 | G19: 47 | H19: 79 | I19: 0 | J19: 2 | K19: 107 | L19: 185 | M19: 219 | N19: 373 | O19: 588 | P19: 1019 | Q19: 548 | R19: 825 | S19: 293 | T19: 515 | U19: 400 | V19: 337 | W19: 1030 | X19: 890 | Y19: 375 | Z19: 434 | AA19: 124 | AB19: 134 | AC19: 8 | AD19: 1044 | AE19: 277 | AF19: 394 | AG19: 341 | AH19: 360 | AI19: 82 | AJ19: 37 | AK19: 45 | AL19: 1587 | AM19: 723 | AN19: 864 | AO19: 2515 | AP19: 971 | AQ19: 1544 | AR19: 1227 | AS19: 424 | AT19: 803 | AU19: 266840 | AV19: 9227 | AW19: 99203 | AX19: 39486 | AY19: 3350 | AZ19: 7628 | BA19: 1546 | BB19: 0 | BC19: 4653 | BD19: 20520 | BE19: 81227
... A30: 連江縣 | B30: Lienchiang County | C30: 1 | D30: 23 | E30: 3 | F30: 20 | G30: 0 | H30: 0 | I30: 0 | J30: 0 | K30: 0 | L30: 0 | M30: 1 | N30: 6 | O30: 0 | P30: 7 | Q30: 2 | R30: 4 | S30: 0 | T30: 3 | U30: 0 | V30: 0 | W30: 2 | X30: 4 | Y30: 0 | Z30: 0 | AA30: 1 | AB30: 0 | AC30: 0 | AD30: 16 | AE30: 0 | AF30: 0 | AG30: 0 | AH30: 0 | AI30: 0 | AJ30: 0 | AK30: 0 | AL30: 6 | AM30: 2 | AN30: 4 | AO30: 13 | AP30: 1 | AQ30: 12 | AR30: 4 | AS30: 0 | AT30: 4 | AU30: 2298 | AV30: 120 | AW30: 408 | AX30: 210 | AY30: 380 | AZ30: 180 | BA30: 0 | BB30: 0 | BC30: 120 | BD30: 440 | BE30: 440
A31: 資料來源：直轄市、縣(市)政府。

Sheet 104
A1: 1.6-01 地方政府社會處(局)所轄志工 Number of Volunteers of Department of Social Welfare of Local Government
A2: 104年,2015
A3: 單位：隊；人；小時 Unit : Teams, Persons, Hours
A4: 地區別 Locality | C4: 總隊數 No. of Team | D4: 隊員總人數 No. of Team Member | G4: 隊員具 原住民身分 Team Members with Indigenous Identity | I4: 隊員按年齡分 By Age | W4: 隊員按身分分 By Identity | AI4: 隊員按教育程度分 By Education | AU4: 志工志願服務時數 (小時)
I5: 未滿12歲 Under 12 Years | K5: 12-17歲 12-17 Years | M5: 18-29歲 18-29 Years | O5: 30-49歲 30-49 Years | Q5: 50-54歲 50-54 Years | S5: 55-64歲 55-64 Years | U5: 65歲以上 65 Years & Over | W5: 工商界人士 Members of Industry & Commerce | Y5: 公教員工 Officers & Teacher | AA5: 退休人員 Retired Members | AC5: 家庭管理 Housekeepers | AE5: 學生 Students | AG5: 其他 Others | AI5: 研究所 Postgraduate | AL5: 大專 University, College | AO5: 高中(職) Senior High School | AR5: 國中及以下 Junior High School & Under | AU5: 合計 | AV5: 身心障礙福利服務 | AW5: 老人福利服務 | AX5: 婦女福利服務 | AY5: .少年福利服務 | AZ5: 兒童福利服務 | BA5: 諮商輔導服務 | BB5: 醫院社會服務 | BC5: 家庭福利服務 | BD5: 社區福利服務 | BE5: 綜合福利服務
D6: 計 | E6: 男 | F6: 女 | G6: 男 | H6: 女 | I6: 男 | J6: 女 | K6: 男 | L6: 女 | M6: 男 | N6: 女 | O6: 男 | P6: 女 | Q6: 男 | R6: 女 | S6: 男 | T6: 女 | U6: 男 | V6: 女 | W6: 男 | X6: 女 | Y6: 男 | Z6: 女 | AA6: 男 | AB6: 女 | AC6: 男 | AD6: 女 | AE6: 男 | AF6: 女 | AG6: 男 | AH6: 女 | AI6: 計 | AJ6: 男 | AK6: 女 | AL6: 計 | AM6: 男 | AN6: 女 | AO6: 計 | AP6: 男 | AQ6: 女 | AR6: 計 | AS6: 男 | AT6: 女 | AU6: Total | AV6: Welfare Service for the Disabled | AW6: Welfare Service for the Aged | AX6: Welfare Service for the Women | AY6: Welfare Service for the Young | AZ6: Welfare Service for Children | BA6: Service of Consulting | BB6: Social Service for Hospital or Dispensary | BC6: Welfare Service for Home | BD6: Welfare Service for Communities | BE6: Complex Welfare Service
D7: Total | E7: Male | F7: Female | G7: Male | H7: Female | I7: Male | J7: Female | K7: Male | L7: Female | M7: Male | N7: Female | O7: Male | P7: Female | Q7: Male | R7: Female | S7: Male | T7: Female | U7: Male | V7: Female | W7: Male | X7: Female | Y7: Male | Z7: Female | AA7: Male | AB7: Female | AC7: Male | AD7: Female | AE7: Male | AF7: Female | AG7: Male | AH7: Female | AI7: Total | AJ7: Male | AK7: Female | AL7: Total | AM7: Male | AN7: Female | AO7: Total | AP7: Male | AQ7: Female | AR7: Total | AS7: Male | AT7: Female
A8: 總計 | B8: Total | C8: 4078 | D8: 244145 | E8: 76576 | F8: 167569 | G8: 2090 | H8: 4498 | I8: 366 | J8: 645 | K8: 7571 | L8: 9502 | M8: 12674 | N8: 18614 | O8: 14477 | P8: 36302 | Q8: 10489 | R8: 26079 | S8: 17074 | T8: 46422 | U8: 13925 | V8: 30005 | W8: 22176 | X8: 29738 | Y8: 6291 | Z8: 8216 | AA8: 16751 | AB8: 20957 | AC8: 3470 | AD8: 67989 | AE8: 16730 | AF8: 21485 | AG8: 11158 | AH8: 19184 | AI8: 7929 | AJ8: 3431 | AK8: 4498 | AL8: 72731 | AM8: 25831 | AN8: 46900 | AO8: 87853 | AP8: 27007 | AQ8: 60846 | AR8: 75632 | AS8: 20307 | AT8: 55325 | AU8: 35311598 | AV8: 4472513 | AW8: 9490872 | AX8: 992693 | AY8: 1049568 | AZ8: 2681656 | BA8: 1020397 | BB8: 0 | BC8: 783085 | BD8: 6664627 | BE8: 8156187
A9: 新北市 | B9: New Taipei City | C9: 369 | D9: 41155 | E9: 10764 | F9: 30391 | G9: 137 | H9: 267 | I9: 35 | J9: 74 | K9: 194 | L9: 367 | M9: 709 | N9: 1472 | O9: 1584 | P9: 4759 | Q9: 1780 | R9: 5630 | S9: 3675 | T9: 11558 | U9: 2787 | V9: 6531 | W9: 2963 | X9: 3764 | Y9: 797 | Z9: 855 | AA9: 3399 | AB9: 4637 | AC9: 722 | AD9: 16377 | AE9: 521 | AF9: 932 | AG9: 2362 | AH9: 3826 | AI9: 659 | AJ9: 284 | AK9: 375 | AL9: 7341 | AM9: 2466 | AN9: 4875 | AO9: 14969 | AP9: 3720 | AQ9: 11249 | AR9: 18186 | AS9: 4294 | AT9: 13892 | AU9: 5161805 | AV9: 315164 | AW9: 1012079 | AX9: 139344 | AY9: 91511 | AZ9: 343305 | BA9: 43331 | BB9: 0 | BC9: 141952 | BD9: 1515039 | BE9: 1560080
A10: 臺北市 | B10: Taipei City | C10: 327 | D10: 22642 | E10: 6394 | F10: 16248 | G10: 65 | H10: 142 | I10: 61 | J10: 66 | K10: 220 | L10: 291 | M10: 1327 | N10: 2677 | O10: 2023 | P10: 5034 | Q10: 618 | R10: 1810 | S10: 1298 | T10: 3803 | U10: 847 | V10: 2567 | W10: 2314 | X10: 4799 | Y10: 618 | Z10: 845 | AA10: 1270 | AB10: 2287 | AC10: 225 | AD10: 4421 | AE10: 1220 | AF10: 2224 | AG10: 747 | AH10: 1672 | AI10: 2304 | AJ10: 812 | AK10: 1492 | AL10: 11496 | AM10: 3303 | AN10: 8193 | AO10: 5569 | AP10: 1478 | AQ10: 4091 | AR10: 3273 | AS10: 801 | AT10: 2472 | AU10: 2921891 | AV10: 133953 | AW10: 1295072 | AX10: 112519 | AY10: 207596 | AZ10: 257674 | BA10: 122693 | BB10: 0 | BC10: 33023 | BD10: 109381 | BE10: 649980
A11: 桃園市 | B11: Taoyuan City | C11: 444 | D11: 17364 | E11: 4830 | F11: 12534 | G11: 22 | H11: 88 | I11: 52 | J11: 167 | K11: 372 | L11: 1189 | M11: 474 | N11: 914 | O11: 917 | P11: 2245 | Q11: 798 | R11: 2211 | S11: 1232 | T11: 3290 | U11: 985 | V11: 2518 | W11: 1741 | X11: 2274 | Y11: 344 | Z11: 361 | AA11: 1163 | AB11: 1399 | AC11: 213 | AD11: 5961 | AE11: 826 | AF11: 1325 | AG11: 543 | AH11: 1214 | AI11: 526 | AJ11: 166 | AK11: 360 | AL11: 5451 | AM11: 1554 | AN11: 3897 | AO11: 6406 | AP11: 1730 | AQ11: 4676 | AR11: 4981 | AS11: 1380 | AT11: 3601 | AU11: 2066754 | AV11: 76641 | AW11: 788279 | AX11: 56392 | AY11: 53437 | AZ11: 124327 | BA11: 93310 | BB11: 0 | BC11: 93368 | BD11: 103192 | BE11: 677808
A12: 臺中市 | B12: Taichung City | C12: 399 | D12: 28211 | E12: 7189 | F12: 21022 | G12: 24 | H12: 39 | I12: 9 | J12: 23 | K12: 384 | L12: 514 | M12: 768 | N12: 1585 | O12: 1464 | P12: 4704 | Q12: 1235 | R12: 3260 | S12: 2045 | T12: 7103 | U12: 1284 | V12: 3833 | W12: 2755 | X12: 4704 | Y12: 326 | Z12: 543 | AA12: 1701 | AB12: 2585 | AC12: 100 | AD12: 8750 | AE12: 959 | AF12: 1486 | AG12: 1348 | AH12: 2954 | AI12: 674 | AJ12: 279 | AK12: 395 | AL12: 6972 | AM12: 2241 | AN12: 4731 | AO12: 8020 | AP12: 1865 | AQ12: 6155 | AR12: 12545 | AS12: 2804 | AT12: 9741 | AU12: 3381903 | AV12: 142278 | AW12: 1138818 | AX12: 53476 | AY12: 132017 | AZ12: 273591 | BA12: 83566 | BB12: 0 | BC12: 44850 | BD12: 915399 | BE12: 597908
A13: 臺南市 | B13: Tainan City | C13: 484 | D13: 15813 | E13: 5266 | F13: 10547 | G13: 4 | H13: 16 | I13: 15 | J13: 22 | K13: 441 | L13: 540 | M13: 1088 | N13: 1718 | O13: 1246 | P13: 3317 | Q13: 580 | R13: 1321 | S13: 1111 | T13: 2578 | U13: 785 | V13: 1051 | W13: 1860 | X13: 2055 | Y13: 241 | Z13: 572 | AA13: 1098 | AB13: 1242 | AC13: 252 | AD13: 4331 | AE13: 1240 | AF13: 1613 | AG13: 575 | AH13: 734 | AI13: 396 | AJ13: 184 | AK13: 212 | AL13: 5070 | AM13: 1771 | AN13: 3299 | AO13: 5290 | AP13: 1904 | AQ13: 3386 | AR13: 5057 | AS13: 1407 | AT13: 3650 | AU13: 5067561 | AV13: 1505423 | AW13: 1004682 | AX13: 199915 | AY13: 269143 | AZ13: 527442 | BA13: 278090 | BB13: 0 | BC13: 170021 | BD13: 432670 | BE13: 680175
A14: 高雄市 | B14: Kaohsiung City | C14: 325 | D14: 25270 | E14: 8426 | F14: 16844 | G14: 26 | H14: 52 | I14: 21 | J14: 22 | K14: 534 | L14: 773 | M14: 3010 | N14: 3628 | O14: 1390 | P14: 3320 | Q14: 769 | R14: 2244 | S14: 1597 | T14: 4478 | U14: 1105 | V14: 2379 | W14: 2267 | X14: 2925 | Y14: 536 | Z14: 571 | AA14: 1273 | AB14: 1264 | AC14: 211 | AD14: 6124 | AE14: 3255 | AF14: 4055 | AG14: 884 | AH14: 1905 | AI14: 647 | AJ14: 321 | AK14: 326 | AL14: 11051 | AM14: 4187 | AN14: 6864 | AO14: 7592 | AP14: 2240 | AQ14: 5352 | AR14: 5980 | AS14: 1678 | AT14: 4302 | AU14: 5045989 | AV14: 203447 | AW14: 984931 | AX14: 76808 | AY14: 106148 | AZ14: 306710 | BA14: 67800 | BB14: 0 | BC14: 36890 | BD14: 1231569 | BE14: 2031686
A15: 宜蘭縣 | B15: Yilan County | C15: 155 | D15: 7633 | E15: 3460 | F15: 4173 | G15: 52 | H15: 63 | I15: 0 | J15: 0 | K15: 556 | L15: 486 | M15: 564 | N15: 714 | O15: 633 | P15: 906 | Q15: 578 | R15: 557 | S15: 678 | T15: 856 | U15: 451 | V15: 654 | W15: 1401 | X15: 1223 | Y15: 418 | Z15: 457 | AA15: 865 | AB15: 1046 | AC15: 172 | AD15: 853 | AE15: 415 | AF15: 408 | AG15: 189 | AH15: 186 | AI15: 138 | AJ15: 79 | AK15: 59 | AL15: 2178 | AM15: 967 | AN15: 1211 | AO15: 2933 | AP15: 1088 | AQ15: 1845 | AR15: 2384 | AS15: 1326 | AT15: 1058 | AU15: 1048492 | AV15: 549050 | AW15: 152714 | AX15: 15275 | AY15: 8889 | AZ15: 8374 | BA15: 14353 | BB15: 0 | BC15: 25672 | BD15: 170732 | BE15: 103433
A16: 新竹縣 | B16: Hsinchu County | C16: 92 | D16: 5012 | E16: 1804 | F16: 3208 | G16: 5 | H16: 8 | I16: 4 | J16: 18 | K16: 155 | L16: 186 | M16: 155 | N16: 414 | O16: 325 | P16: 674 | Q16: 353 | R16: 676 | S16: 400 | T16: 497 | U16: 412 | V16: 743 | W16: 289 | X16: 420 | Y16: 89 | Z16: 164 | AA16: 434 | AB16: 404 | AC16: 76 | AD16: 1148 | AE16: 283 | AF16: 507 | AG16: 633 | AH16: 565 | AI16: 80 | AJ16: 30 | AK16: 50 | AL16: 1286 | AM16: 554 | AN16: 732 | AO16: 1862 | AP16: 602 | AQ16: 1260 | AR16: 1784 | AS16: 618 | AT16: 1166 | AU16: 792931 | AV16: 439139 | AW16: 111274 | AX16: 6159 | AY16: 795 | AZ16: 6358 | BA16: 111274 | BB16: 0 | BC16: 7153 | BD16: 85444 | BE16: 25335
A17: 苗栗縣 | B17: Miaoli County | C17: 146 | D17: 5544 | E17: 2147 | F17: 3397 | G17: 0 | H17: 0 | I17: 33 | J17: 50 | K17: 167 | L17: 241 | M17: 291 | N17: 370 | O17: 362 | P17: 611 | Q17: 395 | R17: 558 | S17: 431 | T17: 816 | U17: 468 | V17: 751 | W17: 120 | X17: 97 | Y17: 621 | Z17: 959 | AA17: 853 | AB17: 1005 | AC17: 174 | AD17: 810 | AE17: 346 | AF17: 481 | AG17: 33 | AH17: 45 | AI17: 165 | AJ17: 81 | AK17: 84 | AL17: 1966 | AM17: 855 | AN17: 1111 | AO17: 1938 | AP17: 657 | AQ17: 1281 | AR17: 1475 | AS17: 554 | AT17: 921 | AU17: 1155361 | AV17: 104948 | AW17: 551417 | AX17: 22134 | AY17: 4864 | AZ17: 26666 | BA17: 86326 | BB17: 0 | BC17: 10551 | BD17: 239766 | BE17: 108689
A18: 彰化縣 | B18: Changhua County | C18: 283 | D18: 19658 | E18: 8804 | F18: 10854 | G18: 12 | H18: 10 | I18: 45 | J18: 32 | K18: 3248 | L18: 3076 | M18: 2396 | N18: 2060 | O18: 822 | P18: 1299 | Q18: 485 | R18: 1011 | S18: 912 | T18: 2037 | U18: 896 | V18: 1339 | W18: 1374 | X18: 1122 | Y18: 422 | Z18: 371 | AA18: 745 | AB18: 984 | AC18: 787 | AD18: 2938 | AE18: 5129 | AF18: 4725 | AG18: 347 | AH18: 714 | AI18: 808 | AJ18: 449 | AK18: 359 | AL18: 4628 | AM18: 2300 | AN18: 2328 | AO18: 9696 | AP18: 4618 | AQ18: 5078 | AR18: 4526 | AS18: 1437 | AT18: 3089 | AU18: 1946647 | AV18: 107571 | AW18: 617225 | AX18: 44127 | AY18: 21071 | AZ18: 82840 | BA18: 20806 | BB18: 0 | BC18: 109135 | BD18: 436325 | BE18: 507547
A19: 南投縣 | B19: Nantou County | C19: 80 | D19: 5085 | E19: 2057 | F19: 3028 | G19: 20 | H19: 31 | I19: 0 | J19: 0 | K19: 102 | L19: 168 | M19: 207 | N19: 350 | O19: 561 | P19: 947 | Q19: 527 | R19: 772 | S19: 278 | T19: 481 | U19: 382 | V19: 310 | W19: 1012 | X19: 867 | Y19: 220 | Z19: 256 | AA19: 257 | AB19: 272 | AC19: 5 | AD19: 985 | AE19: 192 | AF19: 296 | AG19: 371 | AH19: 352 | AI19: 64 | AJ19: 31 | AK19: 33 | AL19: 1487 | AM19: 692 | AN19: 795 | AO19: 2384 | AP19: 928 | AQ19: 1456 | AR19: 1150 | AS19: 406 | AT19: 744 | AU19: 250470 | AV19: 8931 | AW19: 94640 | AX19: 34428 | AY19: 3607 | AZ19: 7849 | BA19: 1588 | BB19: 0 | BC19: 4473 | BD19: 19161 | BE19: 75793
... A30: 連江縣 | B30: Lienchiang County | C30: 1 | D30: 23 | E30: 3 | F30: 20 | G30: 0 | H30: 0 | I30: 0 | J30: 0 | K30: 0 | L30: 0 | M30: 1 | N30: 6 | O30: 0 | P30: 7 | Q30: 2 | R30: 4 | S30: 0 | T30: 3 | U30: 0 | V30: 0 | W30: 3 | X30: 10 | Y30: 0 | Z30: 1 | AA30: 0 | AB30: 0 | AC30: 0 | AD30: 9 | AE30: 0 | AF30: 0 | AG30: 0 | AH30: 0 | AI30: 0 | AJ30: 0 | AK30: 0 | AL30: 6 | AM30: 2 | AN30: 4 | AO30: 13 | AP30: 1 | AQ30: 12 | AR30: 4 | AS30: 0 | AT30: 4 | AU30: 730 | AV30: 270 | AW30: 300 | AX30: 60 | AY30: 0 | AZ30: 40 | BA30: 0 | BB30: 0 | BC30: 0 | BD30: 0 | BE30: 60
A31: 資料來源：直轄市、縣(市)政府。

Sheet 103
A1: 1.6-01 地方政府社會處(局)所轄志工 Number of Volunteers of Department of Social Welfare of Local Government
A2: 103年,2014
A3: 單位：隊；人；小時 Unit : Teams, Persons, Hours
A4: 地區別 Locality | C4: 總隊數 No. of Team | D4: 隊員總人數 No. of Team Member | G4: 隊員具 原住民身分 Team Members with Indigenous Identity | I4: 隊員按年齡分 By Age | W4: 隊員按身分分 By Identity | AI4: 隊員按教育程度分 By Education | AU4: 志工志願服務時數 (小時)
I5: 未滿12歲 Under 12 Years | K5: 12-17歲 12-17 Years | M5: 18-29歲 18-29 Years | O5: 30-49歲 30-49 Years | Q5: 50-54歲 50-54 Years | S5: 55-64歲 55-64 Years | U5: 65歲以上 65 Years & Over | W5: 工商界人士 Members of Industry & Commerce | Y5: 公教員工 Officers & Teacher | AA5: 退休人員 Retired Members | AC5: 家庭管理 Housekeepers | AE5: 學生 Students | AG5: 其他 Others | AI5: 研究所 Postgraduate | AL5: 大專 University, College | AO5: 高中(職) Senior High School | AR5: 國中及以下 Junior High School & Under | AU5: 合計 | AV5: 身心障礙福利服務 | AW5: 老人福利服務 | AX5: 婦女福利服務 | AY5: .少年福利服務 | AZ5: 兒童福利服務 | BA5: 諮商輔導服務 | BB5: 醫院社會服務 | BC5: 家庭福利服務 | BD5: 社區福利服務 | BE5: 綜合福利服務
D6: 計 | E6: 男 | F6: 女 | G6: 男 | H6: 女 | I6: 男 | J6: 女 | K6: 男 | L6: 女 | M6: 男 | N6: 女 | O6: 男 | P6: 女 | Q6: 男 | R6: 女 | S6: 男 | T6: 女 | U6: 男 | V6: 女 | W6: 男 | X6: 女 | Y6: 男 | Z6: 女 | AA6: 男 | AB6: 女 | AC6: 男 | AD6: 女 | AE6: 男 | AF6: 女 | AG6: 男 | AH6: 女 | AI6: 計 | AJ6: 男 | AK6: 女 | AL6: 計 | AM6: 男 | AN6: 女 | AO6: 計 | AP6: 男 | AQ6: 女 | AR6: 計 | AS6: 男 | AT6: 女 | AU6: Total | AV6: Welfare Service for the Disabled | AW6: Welfare Service for the Aged | AX6: Welfare Service for the Women | AY6: Welfare Service for the Young | AZ6: Welfare Service for Children | BA6: Service of Consulting | BB6: Social Service for Hospital or Dispensary | BC6: Welfare Service for Home | BD6: Welfare Service for Communities | BE6: Complex Welfare Service
D7: Total | E7: Male | F7: Female | G7: Male | H7: Female | I7: Male | J7: Female | K7: Male | L7: Female | M7: Male | N7: Female | O7: Male | P7: Female | Q7: Male | R7: Female | S7: Male | T7: Female | U7: Male | V7: Female | W7: Male | X7: Female | Y7: Male | Z7: Female | AA7: Male | AB7: Female | AC7: Male | AD7: Female | AE7: Male | AF7: Female | AG7: Male | AH7: Female | AI7: Total | AJ7: Male | AK7: Female | AL7: Total | AM7: Male | AN7: Female | AO7: Total | AP7: Male | AQ7: Female | AR7: Total | AS7: Male | AT7: Female
A8: 總計 | B8: Total | C8: 3924 | D8: 240150 | E8: 76883 | F8: 163267 | G8: 2432 | H8: 5082 | I8: 357 | J8: 586 | K8: 6150 | L8: 8470 | M8: 13782 | N8: 19062 | O8: 15730 | P8: 36311 | Q8: 10757 | R8: 27453 | S8: 16915 | T8: 44187 | U8: 13192 | V8: 27198 | W8: 22038 | X8: 26401 | Y8: 7310 | Z8: 9750 | AA8: 15950 | AB8: 20997 | AC8: 2948 | AD8: 65592 | AE8: 16869 | AF8: 22489 | AG8: 11768 | AH8: 18038 | AI8: 7268 | AJ8: 3157 | AK8: 4111 | AL8: 70925 | AM8: 26134 | AN8: 44791 | AO8: 83769 | AP8: 26426 | AQ8: 57343 | AR8: 78188 | AS8: 21166 | AT8: 57022 | AU8: 32685662 | AV8: 4340394 | AW8: 7824658 | AX8: 952982 | AY8: 1104876 | AZ8: 2544083 | BA8: 1207699 | BB8: 0 | BC8: 709096 | BD8: 5639366 | BE8: 8362508
A9: 新北市 | B9: New Taipei City | C9: 351 | D9: 39777 | E9: 10321 | F9: 29456 | G9: 127 | H9: 233 | I9: 21 | J9: 39 | K9: 256 | L9: 503 | M9: 734 | N9: 1430 | O9: 1516 | P9: 4650 | Q9: 1783 | R9: 5627 | S9: 3458 | T9: 11156 | U9: 2553 | V9: 6051 | W9: 2674 | X9: 3426 | Y9: 803 | Z9: 823 | AA9: 3244 | AB9: 4307 | AC9: 670 | AD9: 16084 | AE9: 618 | AF9: 1103 | AG9: 2312 | AH9: 3713 | AI9: 539 | AJ9: 217 | AK9: 322 | AL9: 6760 | AM9: 2264 | AN9: 4496 | AO9: 14560 | AP9: 3636 | AQ9: 10924 | AR9: 17918 | AS9: 4204 | AT9: 13714 | AU9: 4339009 | AV9: 276063 | AW9: 643257 | AX9: 151368 | AY9: 178379 | AZ9: 304190 | BA9: 38341 | BB9: 0 | BC9: 65413 | BD9: 1335537 | BE9: 1346461
A10: 臺北市 | B10: Taipei City | C10: 408 | D10: 20802 | E10: 6001 | F10: 14801 | G10: 99 | H10: 192 | I10: 52 | J10: 74 | K10: 325 | L10: 412 | M10: 1695 | N10: 3089 | O10: 1641 | P10: 3934 | Q10: 506 | R10: 1658 | S10: 1026 | T10: 3308 | U10: 756 | V10: 2326 | W10: 1666 | X10: 3412 | Y10: 589 | Z10: 912 | AA10: 1087 | AB10: 1888 | AC10: 237 | AD10: 4261 | AE10: 1749 | AF10: 2996 | AG10: 673 | AH10: 1332 | AI10: 1941 | AJ10: 704 | AK10: 1237 | AL10: 10411 | AM10: 3114 | AN10: 7297 | AO10: 5577 | AP10: 1519 | AQ10: 4058 | AR10: 2873 | AS10: 664 | AT10: 2209 | AU10: 1680970 | AV10: 147526 | AW10: 313433 | AX10: 81686 | AY10: 86472 | AZ10: 224914 | BA10: 143024 | BB10: 0 | BC10: 18746 | BD10: 88780 | BE10: 576389
A11: 臺中市 | B11: Taichung City | C11: 344 | D11: 27340 | E11: 8599 | F11: 18741 | G11: 22 | H11: 52 | I11: 14 | J11: 22 | K11: 681 | L11: 819 | M11: 1193 | N11: 1810 | O11: 1741 | P11: 3629 | Q11: 1379 | R11: 3584 | S11: 2375 | T11: 6179 | U11: 1216 | V11: 2698 | W11: 2540 | X11: 3233 | Y11: 626 | Z11: 945 | AA11: 1678 | AB11: 3306 | AC11: 303 | AD11: 6036 | AE11: 1503 | AF11: 2219 | AG11: 1949 | AH11: 3002 | AI11: 1036 | AJ11: 435 | AK11: 601 | AL11: 7348 | AM11: 2492 | AN11: 4856 | AO11: 7716 | AP11: 2513 | AQ11: 5203 | AR11: 11240 | AS11: 3159 | AT11: 8081 | AU11: 3232215 | AV11: 182980 | AW11: 1367074 | AX11: 63332 | AY11: 89987 | AZ11: 226650 | BA11: 236233 | BB11: 0 | BC11: 64050 | BD11: 373970 | BE11: 627939
A12: 臺南市 | B12: Tainan City | C12: 500 | D12: 16517 | E12: 5596 | F12: 10921 | G12: 4 | H12: 17 | I12: 19 | J12: 29 | K12: 456 | L12: 571 | M12: 1234 | N12: 1860 | O12: 1389 | P12: 3485 | Q12: 604 | R12: 1311 | S12: 1157 | T12: 2589 | U12: 737 | V12: 1076 | W12: 1950 | X12: 2049 | Y12: 264 | Z12: 565 | AA12: 1098 | AB12: 1317 | AC12: 297 | AD12: 4456 | AE12: 1396 | AF12: 1791 | AG12: 591 | AH12: 743 | AI12: 405 | AJ12: 183 | AK12: 222 | AL12: 5323 | AM12: 1909 | AN12: 3414 | AO12: 5501 | AP12: 1953 | AQ12: 3548 | AR12: 5288 | AS12: 1551 | AT12: 3737 | AU12: 5101856 | AV12: 1474396 | AW12: 989054 | AX12: 198026 | AY12: 414612 | AZ12: 512310 | BA12: 267858 | BB12: 0 | BC12: 158394 | BD12: 424498 | BE12: 662708
A13: 高雄市 | B13: Kaohsiung City | C13: 315 | D13: 23439 | E13: 7933 | F13: 15506 | G13: 31 | H13: 65 | I13: 31 | J13: 77 | K13: 641 | L13: 848 | M13: 2887 | N13: 3128 | O13: 1240 | P13: 3047 | Q13: 686 | R13: 2063 | S13: 1427 | T13: 4106 | U13: 1021 | V13: 2237 | W13: 2038 | X13: 2347 | Y13: 524 | Z13: 570 | AA13: 1138 | AB13: 1147 | AC13: 183 | AD13: 5881 | AE13: 3241 | AF13: 3577 | AG13: 809 | AH13: 1984 | AI13: 631 | AJ13: 299 | AK13: 332 | AL13: 10015 | AM13: 4109 | AN13: 5906 | AO13: 7084 | AP13: 2045 | AQ13: 5039 | AR13: 5709 | AS13: 1480 | AT13: 4229 | AU13: 4618950 | AV13: 203036 | AW13: 818848 | AX13: 67386 | AY13: 101673 | AZ13: 353243 | BA13: 47999 | BB13: 0 | BC13: 27128 | BD13: 1276058 | BE13: 1723579
A14: 宜蘭縣 | B14: Yilan County | C14: 143 | D14: 6404 | E14: 2960 | F14: 3444 | G14: 44 | H14: 52 | I14: 0 | J14: 0 | K14: 520 | L14: 426 | M14: 520 | N14: 645 | O14: 597 | P14: 855 | Q14: 501 | R14: 450 | S14: 489 | T14: 620 | U14: 333 | V14: 448 | W14: 1341 | X14: 1157 | Y14: 350 | Z14: 356 | AA14: 594 | AB14: 751 | AC14: 116 | AD14: 671 | AE14: 382 | AF14: 344 | AG14: 177 | AH14: 165 | AI14: 129 | AJ14: 73 | AK14: 56 | AL14: 1857 | AM14: 820 | AN14: 1037 | AO14: 2325 | AP14: 866 | AQ14: 1459 | AR14: 2093 | AS14: 1201 | AT14: 892 | AU14: 778633 | AV14: 434636 | AW14: 126775 | AX14: 12616 | AY14: 4925 | AZ14: 7441 | BA14: 10975 | BB14: 0 | BC14: 19856 | BD14: 76842 | BE14: 84567
A15: 桃園縣 | B15: Taoyuan County | C15: 411 | D15: 17129 | E15: 4959 | F15: 12170 | G15: 64 | H15: 147 | I15: 41 | J15: 92 | K15: 163 | L15: 606 | M15: 904 | N15: 1204 | O15: 1471 | P15: 3026 | Q15: 731 | R15: 2690 | S15: 886 | T15: 2676 | U15: 763 | V15: 1876 | W15: 1652 | X15: 1944 | Y15: 490 | Z15: 1192 | AA15: 1126 | AB15: 1789 | AC15: 154 | AD15: 4396 | AE15: 1041 | AF15: 1950 | AG15: 496 | AH15: 899 | AI15: 596 | AJ15: 235 | AK15: 361 | AL15: 4435 | AM15: 1459 | AN15: 2976 | AO15: 6742 | AP15: 2210 | AQ15: 4532 | AR15: 5356 | AS15: 1055 | AT15: 4301 | AU15: 2518435 | AV15: 131656 | AW15: 720990 | AX15: 69036 | AY15: 82071 | AZ15: 184204 | BA15: 113437 | BB15: 0 | BC15: 137163 | BD15: 310106 | BE15: 769772
A16: 新竹縣 | B16: Hsinchu County | C16: 82 | D16: 4666 | E16: 1752 | F16: 2914 | G16: 4 | H16: 7 | I16: 4 | J16: 5 | K16: 150 | L16: 155 | M16: 150 | N16: 390 | O16: 315 | P16: 602 | Q16: 343 | R16: 654 | S16: 390 | T16: 420 | U16: 400 | V16: 688 | W16: 288 | X16: 385 | Y16: 82 | Z16: 89 | AA16: 422 | AB16: 379 | AC16: 73 | AD16: 1080 | AE16: 274 | AF16: 471 | AG16: 613 | AH16: 510 | AI16: 54 | AJ16: 29 | AK16: 25 | AL16: 1137 | AM16: 539 | AN16: 598 | AO16: 1777 | AP16: 584 | AQ16: 1193 | AR16: 1698 | AS16: 600 | AT16: 1098 | AU16: 774157 | AV16: 428740 | AW16: 108640 | AX16: 6014 | AY16: 776 | AZ16: 6208 | BA16: 108640 | BB16: 0 | BC16: 6984 | BD16: 83420 | BE16: 24735
A17: 苗栗縣 | B17: Miaoli County | C17: 147 | D17: 5361 | E17: 2084 | F17: 3277 | G17: 0 | H17: 0 | I17: 28 | J17: 45 | K17: 162 | L17: 231 | M17: 280 | N17: 329 | O17: 377 | P17: 622 | Q17: 388 | R17: 545 | S17: 411 | T17: 780 | U17: 438 | V17: 725 | W17: 123 | X17: 98 | Y17: 609 | Z17: 930 | AA17: 830 | AB17: 976 | AC17: 176 | AD17: 784 | AE17: 327 | AF17: 474 | AG17: 19 | AH17: 15 | AI17: 152 | AJ17: 76 | AK17: 76 | AL17: 1892 | AM17: 829 | AN17: 1063 | AO17: 1854 | AP17: 625 | AQ17: 1229 | AR17: 1463 | AS17: 554 | AT17: 909 | AU17: 946056 | AV17: 100122 | AW17: 500320 | AX17: 13561 | AY17: 4750 | AZ17: 25620 | BA17: 65873 | BB17: 0 | BC17: 11975 | BD17: 184702 | BE17: 39133
A18: 彰化縣 | B18: Changhua County | C18: 235 | D18: 19272 | E18: 7772 | F18: 11500 | G18: 16 | H18: 11 | I18: 28 | J18: 19 | K18: 1503 | L18: 1973 | M18: 2096 | N18: 1756 | O18: 1139 | P18: 1719 | Q18: 713 | R18: 1477 | S18: 1367 | T18: 2885 | U18: 926 | V18: 1671 | W18: 2422 | X18: 1683 | Y18: 452 | Z18: 319 | AA18: 796 | AB18: 728 | AC18: 136 | AD18: 4534 | AE18: 3391 | AF18: 3449 | AG18: 575 | AH18: 787 | AI18: 335 | AJ18: 196 | AK18: 139 | AL18: 5412 | AM18: 2612 | AN18: 2800 | AO18: 7589 | AP18: 3255 | AQ18: 4334 | AR18: 5936 | AS18: 1709 | AT18: 4227 | AU18: 1897692 | AV18: 61433 | AW18: 573649 | AX18: 37879 | AY18: 7733 | AZ18: 56261 | BA18: 24292 | BB18: 0 | BC18: 13423 | BD18: 560760 | BE18: 562262
A19: 南投縣 | B19: Nantou County | C19: 80 | D19: 5095 | E19: 2062 | F19: 3033 | G19: 20 | H19: 33 | I19: 0 | J19: 0 | K19: 105 | L19: 173 | M19: 205 | N19: 348 | O19: 564 | P19: 951 | Q19: 526 | R19: 771 | S19: 276 | T19: 481 | U19: 386 | V19: 309 | W19: 897 | X19: 815 | Y19: 330 | Z19: 266 | AA19: 240 | AB19: 270 | AC19: 5 | AD19: 994 | AE19: 208 | AF19: 311 | AG19: 382 | AH19: 377 | AI19: 67 | AJ19: 35 | AK19: 32 | AL19: 1490 | AM19: 691 | AN19: 799 | AO19: 2379 | AP19: 925 | AQ19: 1454 | AR19: 1159 | AS19: 411 | AT19: 748 | AU19: 257086 | AV19: 9728 | AW19: 93604 | AX19: 43285 | AY19: 5233 | AZ19: 9574 | BA19: 2018 | BB19: 0 | BC19: 5067 | BD19: 16266 | BE19: 72311
... A30: 連江縣 | B30: Lienchiang County | C30: 1 | D30: 21 | E30: 3 | F30: 18 | G30: 0 | H30: 0 | I30: 0 | J30: 0 | K30: 0 | L30: 0 | M30: 1 | N30: 6 | O30: 0 | P30: 7 | Q30: 2 | R30: 2 | S30: 0 | T30: 3 | U30: 0 | V30: 0 | W30: 3 | X30: 10 | Y30: 0 | Z30: 1 | AA30: 0 | AB30: 0 | AC30: 0 | AD30: 7 | AE30: 0 | AF30: 0 | AG30: 0 | AH30: 0 | AI30: 0 | AJ30: 0 | AK30: 0 | AL30: 6 | AM30: 2 | AN30: 4 | AO30: 11 | AP30: 1 | AQ30: 10 | AR30: 4 | AS30: 0 | AT30: 4 | AU30: 640 | AV30: 200 | AW30: 300 | AX30: 40 | AY30: 0 | AZ30: 40 | BA30: 0 | BB30: 0 | BC30: 0 | BD30: 0 | BE30: 60
A31: 資料來源：直轄市、縣(市)政府。

Sheet 102
A1: 1.6-01 地方政府社會處(局)所轄志工 Number of Volunteers of Department of Social Welfare of Local Government
A2: 102年,2013
A3: 單位：隊；人；小時 Unit : Teams, Persons, Hours
A4: 地區別 Locality | C4: 總隊數 No. of Team | D4: 隊員總人數 No. of Team Member | G4: 隊員具 原住民身分 Team Members with Indigenous Identity | I4: 隊員按年齡分 By Age | W4: 隊員按身分分 By Identity | AI4: 隊員按教育程度分 By Education | AU4: 志工志願服務時數 (小時)
I5: 未滿12歲 Under 12 Years | K5: 12-17歲 12-17 Years | M5: 18-29歲 18-29 Years | O5: 30-49歲 30-49 Years | Q5: 50-54歲 50-54 Years | S5: 55-64歲 55-64 Years | U5: 65歲以上 65 Years & Over | W5: 工商界人士 Members of Industry & Commerce | Y5: 公教員工 Officers & Teacher | AA5: 退休人員 Retired Members | AC5: 家庭管理 Housekeepers | AE5: 學生 Students | AG5: 其他 Others | AI5: 研究所 Postgraduate | AL5: 大專 University, College | AO5: 高中(職) Senior High School | AR5: 國中及以下 Junior High School & Under | AU5: 合計 | AV5: 身心障礙福利服務 | AW5: 老人福利服務 | AX5: 婦女福利服務 | AY5: .少年福利服務 | AZ5: 兒童福利服務 | BA5: 諮商輔導服務 | BB5: 醫院社會服務 | BC5: 家庭福利服務 | BD5: 社區福利服務 | BE5: 綜合福利服務
D6: 計 | E6: 男 | F6: 女 | G6: 男 | H6: 女 | I6: 男 | J6: 女 | K6: 男 | L6: 女 | M6: 男 | N6: 女 | O6: 男 | P6: 女 | Q6: 男 | R6: 女 | S6: 男 | T6: 女 | U6: 男 | V6: 女 | W6: 男 | X6: 女 | Y6: 男 | Z6: 女 | AA6: 男 | AB6: 女 | AC6: 男 | AD6: 女 | AE6: 男 | AF6: 女 | AG6: 男 | AH6: 女 | AI6: 計 | AJ6: 男 | AK6: 女 | AL6: 計 | AM6: 男 | AN6: 女 | AO6: 計 | AP6: 男 | AQ6: 女 | AR6: 計 | AS6: 男 | AT6: 女 | AU6: Total | AV6: Welfare Service for the Disabled | AW6: Welfare Service for the Aged | AX6: Welfare Service for the Women | AY6: Welfare Service for the Young | AZ6: Welfare Service for Children | BA6: Service of Consulting | BB6: Social Service for Hospital or Dispensary | BC6: Welfare Service for Home | BD6: Welfare Service for Communities | BE6: Complex Welfare Service
D7: Total | E7: Male | F7: Female | G7: Male | H7: Female | I7: Male | J7: Female | K7: Male | L7: Female | M7: Male | N7: Female | O7: Male | P7: Female | Q7: Male | R7: Female | S7: Male | T7: Female | U7: Male | V7: Female | W7: Male | X7: Female | Y7: Male | Z7: Female | AA7: Male | AB7: Female | AC7: Male | AD7: Female | AE7: Male | AF7: Female | AG7: Male | AH7: Female | AI7: Total | AJ7: Male | AK7: Female | AL7: Total | AM7: Male | AN7: Female | AO7: Total | AP7: Male | AQ7: Female | AR7: Total | AS7: Male | AT7: Female
A8: 總計 | B8: Total | C8: 3770 | D8: 202853 | E8: 66926 | F8: 135927 | G8: 2131 | H8: 4252 | I8: 348 | J8: 486 | K8: 6234 | L8: 8017 | M8: 13524 | N8: 17853 | O8: 14165 | P8: 33171 | Q8: 9561 | R8: 23682 | S8: 13355 | T8: 33566 | U8: 9739 | V8: 19152 | W8: 19419 | X8: 23165 | Y8: 6155 | Z8: 8366 | AA8: 12613 | AB8: 16190 | AC8: 1885 | AD8: 51659 | AE8: 16755 | AF8: 20861 | AG8: 10099 | AH8: 15686 | AI8: 5728 | AJ8: 2524 | AK8: 3204 | AL8: 65561 | AM8: 25528 | AN8: 40033 | AO8: 75340 | AP8: 23889 | AQ8: 51451 | AR8: 56224 | AS8: 14985 | AT8: 41239 | AU8: 32303443 | AV8: 5614561 | AW8: 8512439 | AX8: 962093 | AY8: 1026912 | AZ8: 2790189 | BA8: 946461 | BB8: 0 | BC8: 604908 | BD8: 4459677 | BE8: 7386203
A9: 新北市 | B9: New Taipei City | C9: 330 | D9: 30399 | E9: 8370 | F9: 22029 | G9: 93 | H9: 168 | I9: 18 | J9: 34 | K9: 176 | L9: 405 | M9: 1068 | N9: 1909 | O9: 1514 | P9: 4413 | Q9: 1629 | R9: 5043 | S9: 2573 | T9: 7211 | U9: 1392 | V9: 3014 | W9: 2340 | X9: 2504 | Y9: 710 | Z9: 709 | AA9: 2265 | AB9: 2735 | AC9: 189 | AD9: 11081 | AE9: 645 | AF9: 1181 | AG9: 2221 | AH9: 3819 | AI9: 556 | AJ9: 226 | AK9: 330 | AL9: 6841 | AM9: 2287 | AN9: 4554 | AO9: 12504 | AP9: 3546 | AQ9: 8958 | AR9: 10498 | AS9: 2311 | AT9: 8187 | AU9: 4540553 | AV9: 297294 | AW9: 635988 | AX9: 177162 | AY9: 74910 | AZ9: 307649 | BA9: 42569 | BB9: 0 | BC9: 77714 | BD9: 1341522 | BE9: 1585745
A10: 臺北市 | B10: Taipei City | C10: 215 | D10: 18483 | E10: 5261 | F10: 13222 | G10: 39 | H10: 82 | I10: 38 | J10: 36 | K10: 231 | L10: 298 | M10: 1425 | N10: 2360 | O10: 1462 | P10: 3676 | Q10: 635 | R10: 1908 | S10: 956 | T10: 3225 | U10: 514 | V10: 1719 | W10: 1363 | X10: 2641 | Y10: 426 | Z10: 637 | AA10: 844 | AB10: 1809 | AC10: 110 | AD10: 3455 | AE10: 1379 | AF10: 2199 | AG10: 1139 | AH10: 2481 | AI10: 1301 | AJ10: 444 | AK10: 857 | AL10: 9053 | AM10: 2777 | AN10: 6276 | AO10: 5206 | AP10: 1328 | AQ10: 3878 | AR10: 2923 | AS10: 712 | AT10: 2211 | AU10: 2541318 | AV10: 79269 | AW10: 580371 | AX10: 69814 | AY10: 155861 | AZ10: 928811 | BA10: 68253 | BB10: 0 | BC10: 8044 | BD10: 86644 | BE10: 564251
A11: 臺中市 | B11: Taichung City | C11: 259 | D11: 11452 | E11: 3213 | F11: 8239 | G11: 14 | H11: 27 | I11: 25 | J11: 17 | K11: 273 | L11: 373 | M11: 387 | N11: 593 | O11: 782 | P11: 2087 | Q11: 523 | R11: 1425 | S11: 754 | T11: 2507 | U11: 469 | V11: 1237 | W11: 1444 | X11: 2006 | Y11: 201 | Z11: 406 | AA11: 664 | AB11: 811 | AC11: 88 | AD11: 3739 | AE11: 518 | AF11: 688 | AG11: 298 | AH11: 589 | AI11: 369 | AJ11: 191 | AK11: 178 | AL11: 3801 | AM11: 1285 | AN11: 2516 | AO11: 4316 | AP11: 1104 | AQ11: 3212 | AR11: 2966 | AS11: 633 | AT11: 2333 | AU11: 3021826 | AV11: 171686 | AW11: 1418008 | AX11: 51023 | AY11: 34442 | AZ11: 240863 | BA11: 70504 | BB11: 0 | BC11: 137899 | BD11: 459691 | BE11: 437710
A12: 臺南市 | B12: Tainan City | C12: 498 | D12: 16529 | E12: 5607 | F12: 10922 | G12: 4 | H12: 17 | I12: 19 | J12: 29 | K12: 457 | L12: 572 | M12: 1250 | N12: 1868 | O12: 1399 | P12: 3501 | Q12: 600 | R12: 1307 | S12: 1151 | T12: 2581 | U12: 731 | V12: 1064 | W12: 1947 | X12: 2051 | Y12: 264 | Z12: 567 | AA12: 1095 | AB12: 1324 | AC12: 297 | AD12: 4428 | AE12: 1413 | AF12: 1808 | AG12: 591 | AH12: 744 | AI12: 404 | AJ12: 183 | AK12: 221 | AL12: 5366 | AM12: 1924 | AN12: 3442 | AO12: 5520 | AP12: 1957 | AQ12: 3563 | AR12: 5239 | AS12: 1543 | AT12: 3696 | AU12: 3796504 | AV12: 929892 | AW12: 768464 | AX12: 134825 | AY12: 324978 | AZ12: 367927 | BA12: 252293 | BB12: 0 | BC12: 116503 | BD12: 387614 | BE12: 514008
A13: 高雄市 | B13: Kaohsiung City | C13: 285 | D13: 21734 | E13: 7651 | F13: 14083 | G13: 35 | H13: 58 | I13: 62 | J13: 84 | K13: 565 | L13: 737 | M13: 2745 | N13: 2880 | O13: 1352 | P13: 2824 | Q13: 662 | R13: 2038 | S13: 1302 | T13: 3608 | U13: 963 | V13: 1912 | W13: 2027 | X13: 2043 | Y13: 514 | Z13: 483 | AA13: 1043 | AB13: 1090 | AC13: 156 | AD13: 5580 | AE13: 3031 | AF13: 3316 | AG13: 880 | AH13: 1571 | AI13: 562 | AJ13: 277 | AK13: 285 | AL13: 9065 | AM13: 3968 | AN13: 5097 | AO13: 6732 | AP13: 1960 | AQ13: 4772 | AR13: 5375 | AS13: 1446 | AT13: 3929 | AU13: 3636361 | AV13: 170467 | AW13: 736311 | AX13: 127564 | AY13: 53209 | AZ13: 478685 | BA13: 71667 | BB13: 0 | BC13: 29035 | BD13: 755498 | BE13: 1213925
A14: 宜蘭縣 | B14: Yilan County | C14: 112 | D14: 6233 | E14: 2902 | F14: 3331 | G14: 33 | H14: 48 | I14: 0 | J14: 0 | K14: 516 | L14: 419 | M14: 516 | N14: 636 | O14: 593 | P14: 848 | Q14: 488 | R14: 432 | S14: 475 | T14: 598 | U14: 314 | V14: 398 | W14: 1335 | X14: 1143 | Y14: 337 | Z14: 320 | AA14: 570 | AB14: 711 | AC14: 108 | AD14: 659 | AE14: 377 | AF14: 336 | AG14: 175 | AH14: 162 | AI14: 124 | AJ14: 71 | AK14: 53 | AL14: 1819 | AM14: 805 | AN14: 1014 | AO14: 2272 | AP14: 845 | AQ14: 1427 | AR14: 2018 | AS14: 1181 | AT14: 837 | AU14: 751717 | AV14: 420126 | AW14: 123745 | AX14: 11164 | AY14: 10937 | AZ14: 6979 | BA14: 10249 | BB14: 0 | BC14: 19587 | BD14: 65593 | BE14: 83337
A15: 桃園縣 | B15: Taoyuan County | C15: 322 | D15: 15046 | E15: 4448 | F15: 10598 | G15: 123 | H15: 296 | I15: 37 | J15: 67 | K15: 161 | L15: 318 | M15: 814 | N15: 1155 | O15: 1339 | P15: 2921 | Q15: 696 | R15: 2336 | S15: 827 | T15: 2345 | U15: 574 | V15: 1456 | W15: 1471 | X15: 2404 | Y15: 473 | Z15: 1078 | AA15: 979 | AB15: 1667 | AC15: 98 | AD15: 3387 | AE15: 953 | AF15: 1418 | AG15: 474 | AH15: 644 | AI15: 531 | AJ15: 206 | AK15: 325 | AL15: 4168 | AM15: 1360 | AN15: 2808 | AO15: 6017 | AP15: 2024 | AQ15: 3993 | AR15: 4330 | AS15: 858 | AT15: 3472 | AU15: 5214991 | AV15: 2228936 | AW15: 1732346 | AX15: 170981 | AY15: 117958 | AZ15: 168000 | BA15: 84464 | BB15: 0 | BC15: 84766 | BD15: 230521 | BE15: 397019
A16: 新竹縣 | B16: Hsinchu County | C16: 87 | D16: 4882 | E16: 1837 | F16: 3045 | G16: 3 | H16: 8 | I16: 5 | J16: 6 | K16: 154 | L16: 160 | M16: 161 | N16: 420 | O16: 333 | P16: 634 | Q16: 358 | R16: 689 | S16: 408 | T16: 424 | U16: 418 | V16: 712 | W16: 306 | X16: 410 | Y16: 85 | Z16: 90 | AA16: 439 | AB16: 383 | AC16: 78 | AD16: 1123 | AE16: 286 | AF16: 498 | AG16: 643 | AH16: 541 | AI16: 56 | AJ16: 30 | AK16: 26 | AL16: 1185 | AM16: 567 | AN16: 618 | AO16: 1852 | AP16: 610 | AQ16: 1242 | AR16: 1789 | AS16: 630 | AT16: 1159 | AU16: 797300 | AV16: 441000 | AW16: 108410 | AX16: 6600 | AY16: 830 | AZ16: 6250 | BA16: 118000 | BB16: 0 | BC16: 7310 | BD16: 84350 | BE16: 24550
A17: 苗栗縣 | B17: Miaoli County | C17: 145 | D17: 5323 | E17: 2040 | F17: 3283 | G17: 0 | H17: 0 | I17: 26 | J17: 48 | K17: 118 | L17: 228 | M17: 284 | N17: 308 | O17: 385 | P17: 649 | Q17: 384 | R17: 540 | S17: 404 | T17: 780 | U17: 439 | V17: 730 | W17: 129 | X17: 96 | Y17: 616 | Z17: 941 | AA17: 807 | AB17: 975 | AC17: 171 | AD17: 795 | AE17: 300 | AF17: 464 | AG17: 17 | AH17: 12 | AI17: 152 | AJ17: 73 | AK17: 79 | AL17: 1843 | AM17: 796 | AN17: 1047 | AO17: 1801 | AP17: 599 | AQ17: 1202 | AR17: 1527 | AS17: 572 | AT17: 955 | AU17: 888078 | AV17: 96051 | AW17: 448299 | AX17: 16281 | AY17: 5139 | AZ17: 32797 | BA17: 61781 | BB17: 0 | BC17: 12370 | BD17: 165524 | BE17: 49836
A18: 彰化縣 | B18: Changhua County | C18: 225 | D18: 18370 | E18: 7489 | F18: 10881 | G18: 3 | H18: 7 | I18: 34 | J18: 52 | K18: 1995 | L18: 2246 | M18: 2253 | N18: 2020 | O18: 1021 | P18: 2039 | Q18: 802 | R18: 1467 | S18: 939 | T18: 2034 | U18: 445 | V18: 1023 | W18: 2149 | X18: 1740 | Y18: 213 | Z18: 364 | AA18: 440 | AB18: 602 | AC18: 106 | AD18: 3166 | AE18: 4052 | AF18: 3870 | AG18: 529 | AH18: 1139 | AI18: 377 | AJ18: 196 | AK18: 181 | AL18: 5862 | AM18: 2957 | AN18: 2905 | AO18: 7988 | AP18: 3272 | AQ18: 4716 | AR18: 4143 | AS18: 1064 | AT18: 3079 | AU18: 1672928 | AV18: 129144 | AW18: 433647 | AX18: 21376 | AY18: 12573 | AZ18: 48661 | BA18: 64757 | BB18: 0 | BC18: 11951 | BD18: 209493 | BE18: 741326
A19: 南投縣 | B19: Nantou County | C19: 80 | D19: 5072 | E19: 2052 | F19: 3020 | G19: 21 | H19: 35 | I19: 0 | J19: 0 | K19: 104 | L19: 171 | M19: 203 | N19: 347 | O19: 563 | P19: 949 | Q19: 523 | R19: 769 | S19: 275 | T19: 478 | U19: 384 | V19: 306 | W19: 893 | X19: 809 | Y19: 328 | Z19: 264 | AA19: 239 | AB19: 268 | AC19: 5 | AD19: 993 | AE19: 206 | AF19: 310 | AG19: 381 | AH19: 376 | AI19: 66 | AJ19: 34 | AK19: 32 | AL19: 1483 | AM19: 688 | AN19: 795 | AO19: 2368 | AP19: 921 | AQ19: 1447 | AR19: 1155 | AS19: 409 | AT19: 746 | AU19: 244102 | AV19: 9435 | AW19: 85357 | AX19: 48607 | AY19: 4948 | AZ19: 9081 | BA19: 2446 | BB19: 0 | BC19: 4935 | BD19: 10345 | BE19: 68948
... A30: 連江縣 | B30: Lienchiang County | C30: 1 | D30: 21 | E30: 3 | F30: 18 | G30: 0 | H30: 0 | I30: 0 | J30: 0 | K30: 0 | L30: 0 | M30: 1 | N30: 6 | O30: 0 | P30: 7 | Q30: 2 | R30: 2 | S30: 0 | T30: 3 | U30: 0 | V30: 0 | W30: 3 | X30: 10 | Y30: 0 | Z30: 1 | AA30: 0 | AB30: 0 | AC30: 0 | AD30: 7 | AE30: 0 | AF30: 0 | AG30: 0 | AH30: 0 | AI30: 0 | AJ30: 0 | AK30: 0 | AL30: 6 | AM30: 2 | AN30: 4 | AO30: 11 | AP30: 1 | AQ30: 10 | AR30: 4 | AS30: 0 | AT30: 4 | AU30: 2009 | AV30: 270 | AW30: 1300 | AX30: 40 | AY30: 36 | AZ30: 46 | BA30: 0 | BB30: 0 | BC30: 0 | BD30: 182 | BE30: 135
A31: 資料來源：直轄市、縣(市)政府。

Sheet 101
A1: 1.6-01 地方政府社會處(局)所轄志工 Number of Volunteers of Department of Social Welfare of Local Government
A2: 101年,2012
A3: 單位：隊；人；小時 Unit : Teams, Persons, Hours
A4: 地區別 Locality | C4: 總隊數 No. of Team | D4: 隊員總人數 No. of Team Member | G4: 隊員具 原住民身分 Team Members with Indigenous Identity | I4: 隊員按年齡分 By Age | W4: 隊員按身分分 By Identity | AI4: 隊員按教育程度分 By Education | AU4: 志工志願服務時數 (小時)
I5: 未滿12歲 Under 12 Years | K5: 12-17歲 12-17 Years | M5: 18-29歲 18-29 Years | O5: 30-49歲 30-49 Years | Q5: 50-54歲 50-54 Years | S5: 55-64歲 55-64 Years | U5: 65歲以上 65 Years & Over | W5: 工商界人士 Members of Industry & Commerce | Y5: 公教員工 Officers & Teacher | AA5: 退休人員 Retired Members | AC5: 家庭管理 Housekeepers | AE5: 學生 Students | AG5: 其他 Others | AI5: 研究所 Postgraduate | AL5: 大專 University, College | AO5: 高中(職) Senior High School | AR5: 國中及以下 Junior High School & Under | AU5: 合計 | AV5: 身心障礙福利服務 | AW5: 老人福利服務 | AX5: 婦女福利服務 | AY5: .少年福利服務 | AZ5: 兒童福利服務 | BA5: 諮商輔導服務 | BB5: 醫院社會服務 | BC5: 家庭福利服務 | BD5: 社區福利服務 | BE5: 綜合福利服務
D6: 計 | E6: 男 | F6: 女 | G6: 男 | H6: 女 | I6: 男 | J6: 女 | K6: 男 | L6: 女 | M6: 男 | N6: 女 | O6: 男 | P6: 女 | Q6: 男 | R6: 女 | S6: 男 | T6: 女 | U6: 男 | V6: 女 | W6: 男 | X6: 女 | Y6: 男 | Z6: 女 | AA6: 男 | AB6: 女 | AC6: 男 | AD6: 女 | AE6: 男 | AF6: 女 | AG6: 男 | AH6: 女 | AI6: 計 | AJ6: 男 | AK6: 女 | AL6: 計 | AM6: 男 | AN6: 女 | AO6: 計 | AP6: 男 | AQ6: 女 | AR6: 計 | AS6: 男 | AT6: 女 | AU6: Total | AV6: Welfare Service for the Disabled | AW6: Welfare Service for the Aged | AX6: Welfare Service for the Women | AY6: Welfare Service for the Young | AZ6: Welfare Service for Children | BA6: Service of Consulting | BB6: Social Service for Hospital or Dispensary | BC6: Welfare Service for Home | BD6: Welfare Service for Communities | BE6: Complex Welfare Service
D7: Total | E7: Male | F7: Female | G7: Male | H7: Female | I7: Male | J7: Female | K7: Male | L7: Female | M7: Male | N7: Female | O7: Male | P7: Female | Q7: Male | R7: Female | S7: Male | T7: Female | U7: Male | V7: Female | W7: Male | X7: Female | Y7: Male | Z7: Female | AA7: Male | AB7: Female | AC7: Male | AD7: Female | AE7: Male | AF7: Female | AG7: Male | AH7: Female | AI7: Total | AJ7: Male | AK7: Female | AL7: Total | AM7: Male | AN7: Female | AO7: Total | AP7: Male | AQ7: Female | AR7: Total | AS7: Male | AT7: Female
A8: 總計 | B8: Total | C8: 3366 | D8: 182954 | E8: 60245 | F8: 122709 | G8: 1912 | H8: 4094 | I8: 326 | J8: 368 | K8: 8992 | L8: 8944 | M8: 8505 | N8: 13252 | O8: 12789 | P8: 31077 | Q8: 9084 | R8: 21732 | S8: 11298 | T8: 30855 | U8: 9251 | V8: 16481 | W8: 17478 | X8: 21308 | Y8: 6326 | Z8: 8619 | AA8: 10886 | AB8: 13109 | AC8: 1869 | AD8: 46031 | AE8: 15197 | AF8: 17487 | AG8: 8489 | AH8: 16155 | AI8: 5233 | AJ8: 2418 | AK8: 2815 | AL8: 52545 | AM8: 18850 | AN8: 33695 | AO8: 72279 | AP8: 24247 | AQ8: 48032 | AR8: 52897 | AS8: 14730 | AT8: 38167 | AU8: 29298947 | AV8: 5891075 | AW8: 7655543 | AX8: 1063259 | AY8: 931645 | AZ8: 1851502 | BA8: 863961 | BB8: 0 | BC8: 396218 | BD8: 2766567 | BE8: 7879177
A9: 新北市 | B9: New Taipei City | C9: 305 | D9: 29102 | E9: 7438 | F9: 21664 | G9: 46 | H9: 130 | I9: 30 | J9: 42 | K9: 300 | L9: 559 | M9: 880 | N9: 1285 | O9: 1564 | P9: 4932 | Q9: 1427 | R9: 4433 | S9: 1915 | T9: 7924 | U9: 1322 | V9: 2489 | W9: 2152 | X9: 2522 | Y9: 908 | Z9: 1397 | AA9: 2076 | AB9: 2613 | AC9: 183 | AD9: 8436 | AE9: 966 | AF9: 1281 | AG9: 1153 | AH9: 5415 | AI9: 663 | AJ9: 277 | AK9: 386 | AL9: 7216 | AM9: 2250 | AN9: 4966 | AO9: 10778 | AP9: 2261 | AQ9: 8517 | AR9: 10445 | AS9: 2650 | AT9: 7795 | AU9: 3557384 | AV9: 401256 | AW9: 804967 | AX9: 194322 | AY9: 84202 | AZ9: 347167 | BA9: 92195 | BB9: 0 | BC9: 94151 | BD9: 416581 | BE9: 1122543
A10: 臺北市 | B10: Taipei City | C10: 206 | D10: 10378 | E10: 2656 | F10: 7722 | G10: 12 | H10: 23 | I10: 21 | J10: 43 | K10: 265 | L10: 381 | M10: 761 | N10: 1523 | O10: 683 | P10: 2230 | Q10: 263 | R10: 1045 | S10: 389 | T10: 1605 | U10: 274 | V10: 895 | W10: 801 | X10: 2130 | Y10: 214 | Z10: 355 | AA10: 438 | AB10: 1052 | AC10: 16 | AD10: 2036 | AE10: 777 | AF10: 1305 | AG10: 410 | AH10: 844 | AI10: 891 | AJ10: 342 | AK10: 549 | AL10: 5472 | AM10: 1409 | AN10: 4063 | AO10: 2910 | AP10: 626 | AQ10: 2284 | AR10: 1105 | AS10: 279 | AT10: 826 | AU10: 1863005 | AV10: 37093 | AW10: 143890 | AX10: 24099 | AY10: 135797 | AZ10: 288045 | BA10: 78696 | BB10: 0 | BC10: 4792 | BD10: 57595 | BE10: 1092998
A11: 臺中市 | B11: Taichung City | C11: 229 | D11: 9495 | E11: 2610 | F11: 6885 | G11: 9 | H11: 26 | I11: 24 | J11: 15 | K11: 253 | L11: 391 | M11: 357 | N11: 479 | O11: 649 | P11: 1937 | Q11: 420 | R11: 1289 | S11: 582 | T11: 1915 | U11: 325 | V11: 859 | W11: 1123 | X11: 1724 | Y11: 185 | Z11: 341 | AA11: 476 | AB11: 716 | AC11: 101 | AD11: 2908 | AE11: 471 | AF11: 641 | AG11: 254 | AH11: 555 | AI11: 339 | AJ11: 150 | AK11: 189 | AL11: 3127 | AM11: 978 | AN11: 2149 | AO11: 3622 | AP11: 942 | AQ11: 2680 | AR11: 2407 | AS11: 540 | AT11: 1867 | AU11: 2974430 | AV11: 139037 | AW11: 1670361 | AX11: 54971 | AY11: 27452 | AZ11: 190036 | BA11: 59591 | BB11: 0 | BC11: 31808 | BD11: 274162 | BE11: 527012
A12: 臺南市 | B12: Tainan City | C12: 363 | D12: 11832 | E12: 3707 | F12: 8125 | G12: 1 | H12: 5 | I12: 53 | J12: 26 | K12: 237 | L12: 329 | M12: 684 | N12: 1555 | O12: 879 | P12: 2129 | Q12: 587 | R12: 1322 | S12: 732 | T12: 1776 | U12: 535 | V12: 988 | W12: 1283 | X12: 1160 | Y12: 194 | Z12: 325 | AA12: 658 | AB12: 768 | AC12: 151 | AD12: 3688 | AE12: 805 | AF12: 1382 | AG12: 616 | AH12: 802 | AI12: 258 | AJ12: 119 | AK12: 139 | AL12: 3293 | AM12: 1038 | AN12: 2255 | AO12: 3893 | AP12: 1239 | AQ12: 2654 | AR12: 4388 | AS12: 1311 | AT12: 3077 | AU12: 5186926 | AV12: 2583540 | AW12: 737874 | AX12: 319310 | AY12: 233626 | AZ12: 278504 | BA12: 138370 | BB12: 0 | BC12: 84054 | BD12: 331350 | BE12: 480298
A13: 高雄市 | B13: Kaohsiung City | C13: 257 | D13: 18901 | E13: 5892 | F13: 13009 | G13: 16 | H13: 45 | I13: 27 | J13: 21 | K13: 507 | L13: 734 | M13: 1331 | N13: 1753 | O13: 1261 | P13: 3225 | Q13: 711 | R13: 2076 | S13: 1154 | T13: 3519 | U13: 901 | V13: 1681 | W13: 1825 | X13: 2246 | Y13: 475 | Z13: 557 | AA13: 969 | AB13: 972 | AC13: 169 | AD13: 5547 | AE13: 1591 | AF13: 2057 | AG13: 863 | AH13: 1630 | AI13: 672 | AJ13: 301 | AK13: 371 | AL13: 6699 | AM13: 2529 | AN13: 4170 | AO13: 6531 | AP13: 1798 | AQ13: 4733 | AR13: 4999 | AS13: 1264 | AT13: 3735 | AU13: 3507220 | AV13: 124972 | AW13: 607263 | AX13: 128235 | AY13: 186355 | AZ13: 192925 | BA13: 82306 | BB13: 0 | BC13: 39254 | BD13: 398969 | BE13: 1746941
A14: 宜蘭縣 | B14: Yilan County | C14: 112 | D14: 6283 | E14: 2908 | F14: 3375 | G14: 26 | H14: 55 | I14: 0 | J14: 0 | K14: 423 | L14: 414 | M14: 521 | N14: 633 | O14: 604 | P14: 845 | Q14: 452 | R14: 418 | S14: 456 | T14: 593 | U14: 452 | V14: 472 | W14: 1357 | X14: 1135 | Y14: 342 | Z14: 316 | AA14: 562 | AB14: 681 | AC14: 101 | AD14: 632 | AE14: 367 | AF14: 374 | AG14: 179 | AH14: 237 | AI14: 127 | AJ14: 71 | AK14: 56 | AL14: 1794 | AM14: 800 | AN14: 994 | AO14: 2235 | AP14: 832 | AQ14: 1403 | AR14: 2127 | AS14: 1205 | AT14: 922 | AU14: 659091 | AV14: 340979 | AW14: 124752 | AX14: 10299 | AY14: 11550 | AZ14: 7193 | BA14: 10002 | BB14: 0 | BC14: 19710 | BD14: 54531 | BE14: 80075
A15: 桃園縣 | B15: Taoyuan County | C15: 291 | D15: 12808 | E15: 3783 | F15: 9025 | G15: 127 | H15: 332 | I15: 23 | J15: 13 | K15: 146 | L15: 224 | M15: 578 | N15: 988 | O15: 923 | P15: 2358 | Q15: 959 | R15: 2239 | S15: 677 | T15: 2169 | U15: 477 | V15: 1034 | W15: 1439 | X15: 2280 | Y15: 412 | Z15: 809 | AA15: 743 | AB15: 1137 | AC15: 91 | AD15: 3382 | AE15: 728 | AF15: 996 | AG15: 370 | AH15: 421 | AI15: 415 | AJ15: 181 | AK15: 234 | AL15: 3648 | AM15: 1374 | AN15: 2274 | AO15: 4752 | AP15: 1485 | AQ15: 3267 | AR15: 3993 | AS15: 743 | AT15: 3250 | AU15: 3441395 | AV15: 1145616 | AW15: 1423944 | AX15: 120942 | AY15: 87798 | AZ15: 112421 | BA15: 63395 | BB15: 0 | BC15: 49607 | BD15: 123339 | BE15: 314333
A16: 新竹縣 | B16: Hsinchu County | C16: 76 | D16: 4313 | E16: 1611 | F16: 2702 | G16: 3 | H16: 8 | I16: 5 | J16: 6 | K16: 29 | L16: 33 | M16: 154 | N16: 392 | O16: 293 | P16: 583 | Q16: 324 | R16: 583 | S16: 396 | T16: 411 | U16: 410 | V16: 694 | W16: 301 | X16: 395 | Y16: 82 | Z16: 88 | AA16: 430 | AB16: 337 | AC16: 75 | AD16: 1045 | AE16: 203 | AF16: 405 | AG16: 520 | AH16: 432 | AI16: 51 | AJ16: 27 | AK16: 24 | AL16: 1102 | AM16: 531 | AN16: 571 | AO16: 1597 | AP16: 505 | AQ16: 1092 | AR16: 1563 | AS16: 548 | AT16: 1015 | AU16: 933707 | AV16: 442372 | AW16: 107405 | AX16: 6673 | AY16: 786 | AZ16: 6120 | BA16: 119315 | BB16: 0 | BC16: 7181 | BD16: 84305 | BE16: 159550
A17: 苗栗縣 | B17: Miaoli County | C17: 140 | D17: 5363 | E17: 2096 | F17: 3267 | G17: 0 | H17: 0 | I17: 34 | J17: 51 | K17: 129 | L17: 240 | M17: 268 | N17: 287 | O17: 398 | P17: 654 | Q17: 337 | R17: 567 | S17: 433 | T17: 809 | U17: 497 | V17: 659 | W17: 98 | X17: 96 | Y17: 805 | Z17: 1065 | AA17: 615 | AB17: 796 | AC17: 248 | AD17: 770 | AE17: 295 | AF17: 501 | AG17: 35 | AH17: 39 | AI17: 159 | AJ17: 85 | AK17: 74 | AL17: 1823 | AM17: 792 | AN17: 1031 | AO17: 1791 | AP17: 622 | AQ17: 1169 | AR17: 1590 | AS17: 597 | AT17: 993 | AU17: 870812 | AV17: 102414 | AW17: 399938 | AX17: 20175 | AY17: 6492 | AZ17: 37317 | BA17: 46909 | BB17: 0 | BC17: 8495 | BD17: 150381 | BE17: 98691
A18: 彰化縣 | B18: Changhua County | C18: 208 | D18: 20789 | E18: 9501 | F18: 11288 | G18: 0 | H18: 0 | I18: 31 | J18: 49 | K18: 5605 | L18: 3933 | M18: 837 | N18: 1132 | O18: 1052 | P18: 2075 | Q18: 704 | R18: 1448 | S18: 882 | T18: 1836 | U18: 390 | V18: 815 | W18: 2031 | X18: 1748 | Y18: 206 | Z18: 361 | AA18: 411 | AB18: 547 | AC18: 99 | AD18: 2887 | AE18: 6251 | AF18: 4665 | AG18: 503 | AH18: 1080 | AI18: 340 | AJ18: 182 | AK18: 158 | AL18: 3187 | AM18: 1254 | AN18: 1933 | AO18: 13362 | AP18: 6975 | AQ18: 6387 | AR18: 3900 | AS18: 1090 | AT18: 2810 | AU18: 1502285 | AV18: 303022 | AW18: 421862 | AX18: 31559 | AY18: 29062 | AZ18: 61304 | BA18: 73520 | BB18: 0 | BC18: 9342 | BD18: 109909 | BE18: 462705
A19: 南投縣 | B19: Nantou County | C19: 80 | D19: 5028 | E19: 2034 | F19: 2994 | G19: 21 | H19: 35 | I19: 0 | J19: 0 | K19: 102 | L19: 166 | M19: 201 | N19: 342 | O19: 561 | P19: 945 | Q19: 518 | R19: 766 | S19: 271 | T19: 473 | U19: 381 | V19: 302 | W19: 889 | X19: 803 | Y19: 327 | Z19: 261 | AA19: 236 | AB19: 265 | AC19: 5 | AD19: 987 | AE19: 201 | AF19: 305 | AG19: 376 | AH19: 373 | AI19: 59 | AJ19: 31 | AK19: 28 | AL19: 1471 | AM19: 683 | AN19: 788 | AO19: 2354 | AP19: 915 | AQ19: 1439 | AR19: 1144 | AS19: 405 | AT19: 739 | AU19: 227045 | AV19: 8517 | AW19: 78042 | AX19: 57731 | AY19: 4867 | AZ19: 9126 | BA19: 2915 | BB19: 0 | BC19: 4150 | BD19: 7150 | BE19: 54547
... A30: 連江縣 | B30: Lienchiang County | C30: 1 | D30: 21 | E30: 3 | F30: 18 | G30: 0 | H30: 0 | I30: 0 | J30: 0 | K30: 0 | L30: 0 | M30: 1 | N30: 6 | O30: 0 | P30: 7 | Q30: 2 | R30: 2 | S30: 0 | T30: 3 | U30: 0 | V30: 0 | W30: 3 | X30: 10 | Y30: 0 | Z30: 1 | AA30: 0 | AB30: 0 | AC30: 0 | AD30: 7 | AE30: 0 | AF30: 0 | AG30: 0 | AH30: 0 | AI30: 0 | AJ30: 0 | AK30: 0 | AL30: 6 | AM30: 2 | AN30: 4 | AO30: 11 | AP30: 1 | AQ30: 10 | AR30: 4 | AS30: 0 | AT30: 4 | AU30: 1094 | AV30: 120 | AW30: 225 | AX30: 20 | AY30: 36 | AZ30: 26 | BA30: 0 | BB30: 0 | BC30: 0 | BD30: 512 | BE30: 155
A31: 資料來源：直轄市、縣(市)政府。

Sheet 100
A1: 1.6-01 地方政府社會處(局)所轄志工 Number of Volunteers of Department of Social Welfare of Local Government
A2: 100年,2011
A3: 單位：隊；人；小時 Unit : Teams, Persons, Hours
A4: 地區別 Locality | C4: 總隊數 No. of Team | D4: 隊員總人數 No. of Team Member | G4: 隊員具 原住民身分 Team Members with Indigenous Identity | I4: 隊員按年齡分 By Age | W4: 隊員按身分分 By Identity | AI4: 隊員按教育程度分 By Education | AU4: 志工志願服務時數 (小時)
I5: 未滿12歲 Under 12 Years | K5: 12-17歲 12-17 Years | M5: 18-29歲 18-29 Years | O5: 30-49歲 30-49 Years | Q5: 50-54歲 50-54 Years | S5: 55-64歲 55-64 Years | U5: 65歲以上 65 Years & Over | W5: 工商界人士 Members of Industry & Commerce | Y5: 公教員工 Officers & Teacher | AA5: 退休人員 Retired Members | AC5: 家庭管理 Housekeepers | AE5: 學生 Students | AG5: 其他 Others | AI5: 研究所 Postgraduate | AL5: 大專 University, College | AO5: 高中(職) Senior High School | AR5: 國中及以下 Junior High School & Under | AU5: 合計 | AV5: 身心障礙福利服務 | AW5: 老人福利服務 | AX5: 婦女福利服務 | AY5: .少年福利服務 | AZ5: 兒童福利服務 | BA5: 諮商輔導服務 | BB5: 醫院社會服務 | BC5: 家庭福利服務 | BD5: 社區福利服務 | BE5: 綜合福利服務
D6: 計 | E6: 男 | F6: 女 | G6: 男 | H6: 女 | I6: 男 | J6: 女 | K6: 男 | L6: 女 | M6: 男 | N6: 女 | O6: 男 | P6: 女 | Q6: 男 | R6: 女 | S6: 男 | T6: 女 | U6: 男 | V6: 女 | W6: 男 | X6: 女 | Y6: 男 | Z6: 女 | AA6: 男 | AB6: 女 | AC6: 男 | AD6: 女 | AE6: 男 | AF6: 女 | AG6: 男 | AH6: 女 | AI6: 計 | AJ6: 男 | AK6: 女 | AL6: 計 | AM6: 男 | AN6: 女 | AO6: 計 | AP6: 男 | AQ6: 女 | AR6: 計 | AS6: 男 | AT6: 女 | AU6: Total | AV6: Welfare Service for the Disabled | AW6: Welfare Service for the Aged | AX6: Welfare Service for the Women | AY6: Welfare Service for the Young | AZ6: Welfare Service for Children | BA6: Service of Consulting | BB6: Social Service for Hospital or Dispensary | BC6: Welfare Service for Home | BD6: Welfare Service for Communities | BE6: Complex Welfare Service
D7: Total | E7: Male | F7: Female | G7: Male | H7: Female | I7: Male | J7: Female | K7: Male | L7: Female | M7: Male | N7: Female | O7: Male | P7: Female | Q7: Male | R7: Female | S7: Male | T7: Female | U7: Male | V7: Female | W7: Male | X7: Female | Y7: Male | Z7: Female | AA7: Male | AB7: Female | AC7: Male | AD7: Female | AE7: Male | AF7: Female | AG7: Male | AH7: Female | AI7: Total | AJ7: Male | AK7: Female | AL7: Total | AM7: Male | AN7: Female | AO7: Total | AP7: Male | AQ7: Female | AR7: Total | AS7: Male | AT7: Female
A8: 總計 | B8: Total | C8: 3008 | D8: 162457 | E8: 54339 | F8: 108118 | G8: 1075 | H8: 2350 | I8: 264 | J8: 323 | K8: 8383 | L8: 7668 | M8: 8502 | N8: 13937 | O8: 11735 | P8: 29570 | Q8: 8282 | R8: 19327 | S8: 9606 | T8: 23849 | U8: 7567 | V8: 13444 | W8: 15883 | X8: 18888 | Y8: 5181 | Z8: 6698 | AA8: 8930 | AB8: 10657 | AC8: 1744 | AD8: 42618 | AE8: 14237 | AF8: 17195 | AG8: 8364 | AH8: 12062 | AI8: 5052 | AJ8: 2170 | AK8: 2882 | AL8: 47083 | AM8: 17116 | AN8: 29967 | AO8: 65212 | AP8: 22842 | AQ8: 42370 | AR8: 45110 | AS8: 12211 | AT8: 32899 | AU8: 22914705 | AV8: 3553550 | AW8: 5873746 | AX8: 939902 | AY8: 849332 | AZ8: 1786504 | BA8: 957965 | BB8: 0 | BC8: 309176 | BD8: 2364589 | BE8: 6279941
A9: 新北市 | B9: New Taipei City | C9: 269 | D9: 15658 | E9: 4318 | F9: 11340 | G9: 19 | H9: 45 | I9: 10 | J9: 17 | K9: 103 | L9: 259 | M9: 629 | N9: 866 | O9: 996 | P9: 2915 | Q9: 740 | R9: 2384 | S9: 1194 | T9: 3498 | U9: 646 | V9: 1401 | W9: 1545 | X9: 1895 | Y9: 343 | Z9: 450 | AA9: 1066 | AB9: 1178 | AC9: 138 | AD9: 5728 | AE9: 523 | AF9: 904 | AG9: 703 | AH9: 1185 | AI9: 306 | AJ9: 131 | AK9: 175 | AL9: 3825 | AM9: 1392 | AN9: 2433 | AO9: 5888 | AP9: 1486 | AQ9: 4402 | AR9: 5639 | AS9: 1309 | AT9: 4330 | AU9: 2397593 | AV9: 215362 | AW9: 529967 | AX9: 161668 | AY9: 90831 | AZ9: 232700 | BA9: 69050 | BB9: 0 | BC9: 68370 | BD9: 305390 | BE9: 724255
A10: 臺北市 | B10: Taipei City | C10: 178 | D10: 15634 | E10: 4473 | F10: 11161 | G10: 27 | H10: 29 | I10: 4 | J10: 8 | K10: 660 | L10: 681 | M10: 1378 | N10: 2894 | O10: 992 | P10: 2999 | Q10: 438 | R10: 1291 | S10: 640 | T10: 2081 | U10: 361 | V10: 1207 | W10: 1221 | X10: 2300 | Y10: 297 | Z10: 599 | AA10: 499 | AB10: 1165 | AC10: 145 | AD10: 2800 | AE10: 1673 | AF10: 2964 | AG10: 638 | AH10: 1333 | AI10: 1284 | AJ10: 395 | AK10: 889 | AL10: 8066 | AM10: 2300 | AN10: 5766 | AO10: 4479 | AP10: 1409 | AQ10: 3070 | AR10: 1805 | AS10: 369 | AT10: 1436 | AU10: 1600924 | AV10: 35285 | AW10: 139714 | AX10: 33457 | AY10: 36163 | AZ10: 233920 | BA10: 16259 | BB10: 0 | BC10: 8553 | BD10: 34521 | BE10: 1063052
A11: 臺中市 | B11: Taichung City | C11: 291 | D11: 8329 | E11: 2188 | F11: 6141 | G11: 7 | H11: 20 | I11: 7 | J11: 8 | K11: 103 | L11: 154 | M11: 269 | N11: 462 | O11: 497 | P11: 1764 | Q11: 442 | R11: 1385 | S11: 573 | T11: 1690 | U11: 297 | V11: 678 | W11: 918 | X11: 1519 | Y11: 178 | Z11: 308 | AA11: 484 | AB11: 600 | AC11: 27 | AD11: 2758 | AE11: 353 | AF11: 485 | AG11: 228 | AH11: 471 | AI11: 276 | AJ11: 129 | AK11: 147 | AL11: 2858 | AM11: 897 | AN11: 1961 | AO11: 3052 | AP11: 771 | AQ11: 2281 | AR11: 2143 | AS11: 391 | AT11: 1752 | AU11: 1775400 | AV11: 138897 | AW11: 469864 | AX11: 40970 | AY11: 30785 | AZ11: 131686 | BA11: 61107 | BB11: 0 | BC11: 22321 | BD11: 199465 | BE11: 680305
A12: 臺南市 | B12: Tainan City | C12: 292 | D12: 12498 | E12: 3801 | F12: 8697 | G12: 34 | H12: 5 | I12: 56 | J12: 38 | K12: 283 | L12: 359 | M12: 692 | N12: 1594 | O12: 881 | P12: 2308 | Q12: 623 | R12: 1609 | S12: 659 | T12: 1759 | U12: 607 | V12: 1030 | W12: 1199 | X12: 1389 | Y12: 168 | Z12: 331 | AA12: 797 | AB12: 841 | AC12: 155 | AD12: 3851 | AE12: 832 | AF12: 1444 | AG12: 650 | AH12: 841 | AI12: 244 | AJ12: 129 | AK12: 115 | AL12: 3430 | AM12: 1076 | AN12: 2354 | AO12: 4218 | AP12: 1328 | AQ12: 2890 | AR12: 4606 | AS12: 1268 | AT12: 3338 | AU12: 3991980 | AV12: 1664802 | AW12: 658145 | AX12: 294992 | AY12: 186634 | AZ12: 273943 | BA12: 96224 | BB12: 0 | BC12: 63377 | BD12: 331130 | BE12: 422733
A13: 高雄市 | B13: Kaohsiung City | C13: 211 | D13: 15377 | E13: 4296 | F13: 11081 | G13: 0 | H13: 0 | I13: 6 | J13: 4 | K13: 222 | L13: 439 | M13: 995 | N13: 1486 | O13: 1031 | P13: 3096 | Q13: 549 | R13: 1856 | S13: 836 | T13: 2888 | U13: 657 | V13: 1312 | W13: 1375 | X13: 1983 | Y13: 424 | Z13: 518 | AA13: 664 | AB13: 825 | AC13: 131 | AD13: 4882 | AE13: 926 | AF13: 1442 | AG13: 776 | AH13: 1431 | AI13: 576 | AJ13: 250 | AK13: 326 | AL13: 5454 | AM13: 1808 | AN13: 3646 | AO13: 5550 | AP13: 1369 | AQ13: 4181 | AR13: 3797 | AS13: 869 | AT13: 2928 | AU13: 3268951 | AV13: 144360 | AW13: 406981 | AX13: 55841 | AY13: 275657 | AZ13: 385421 | BA13: 261314 | BB13: 0 | BC13: 32167 | BD13: 274098 | BE13: 1433112
A14: 宜蘭縣 | B14: Yilan County | C14: 112 | D14: 5952 | E14: 2772 | F14: 3180 | G14: 22 | H14: 45 | I14: 0 | J14: 0 | K14: 376 | L14: 337 | M14: 602 | N14: 725 | O14: 594 | P14: 856 | Q14: 365 | R14: 353 | S14: 403 | T14: 527 | U14: 432 | V14: 382 | W14: 1299 | X14: 1019 | Y14: 333 | Z14: 309 | AA14: 524 | AB14: 656 | AC14: 94 | AD14: 621 | AE14: 324 | AF14: 330 | AG14: 198 | AH14: 245 | AI14: 123 | AJ14: 69 | AK14: 54 | AL14: 1698 | AM14: 784 | AN14: 914 | AO14: 2151 | AP14: 799 | AQ14: 1352 | AR14: 1980 | AS14: 1120 | AT14: 860 | AU14: 467765 | AV14: 172776 | AW14: 120187 | AX14: 9482 | AY14: 11411 | AZ14: 6438 | BA14: 9321 | BB14: 0 | BC14: 18508 | BD14: 44866 | BE14: 74776
A15: 桃園縣 | B15: Taoyuan County | C15: 242 | D15: 12722 | E15: 3889 | F15: 8833 | G15: 116 | H15: 331 | I15: 12 | J15: 26 | K15: 193 | L15: 247 | M15: 643 | N15: 937 | O15: 881 | P15: 2541 | Q15: 1174 | R15: 2260 | S15: 562 | T15: 1879 | U15: 424 | V15: 943 | W15: 1318 | X15: 1473 | Y15: 349 | Z15: 426 | AA15: 713 | AB15: 958 | AC15: 80 | AD15: 3984 | AE15: 734 | AF15: 1194 | AG15: 695 | AH15: 798 | AI15: 411 | AJ15: 156 | AK15: 255 | AL15: 3334 | AM15: 1356 | AN15: 1978 | AO15: 4924 | AP15: 1558 | AQ15: 3366 | AR15: 4053 | AS15: 819 | AT15: 3234 | AU15: 2410485 | AV15: 55085 | AW15: 1445179 | AX15: 122814 | AY15: 100243 | AZ15: 109561 | BA15: 68449 | BB15: 0 | BC15: 43614 | BD15: 112450 | BE15: 353090
A16: 新竹縣 | B16: Hsinchu County | C16: 76 | D16: 4335 | E16: 1626 | F16: 2709 | G16: 1 | H16: 3 | I16: 5 | J16: 6 | K16: 29 | L16: 33 | M16: 155 | N16: 392 | O16: 294 | P16: 584 | Q16: 321 | R16: 549 | S16: 399 | T16: 425 | U16: 423 | V16: 720 | W16: 302 | X16: 400 | Y16: 82 | Z16: 88 | AA16: 444 | AB16: 334 | AC16: 75 | AD16: 1044 | AE16: 203 | AF16: 405 | AG16: 520 | AH16: 438 | AI16: 51 | AJ16: 27 | AK16: 24 | AL16: 1108 | AM16: 541 | AN16: 567 | AO16: 1567 | AP16: 504 | AQ16: 1063 | AR16: 1609 | AS16: 554 | AT16: 1055 | AU16: 681414 | AV16: 202482 | AW16: 130663 | AX16: 5647 | AY16: 1140 | AZ16: 10222 | BA16: 173703 | BB16: 0 | BC16: 3650 | BD16: 94609 | BE16: 59298
A17: 苗栗縣 | B17: Miaoli County | C17: 134 | D17: 5256 | E17: 2032 | F17: 3224 | G17: 0 | H17: 0 | I17: 35 | J17: 50 | K17: 120 | L17: 237 | M17: 262 | N17: 280 | O17: 388 | P17: 643 | Q17: 318 | R17: 559 | S17: 423 | T17: 803 | U17: 486 | V17: 652 | W17: 78 | X17: 101 | Y17: 808 | Z17: 1052 | AA17: 598 | AB17: 796 | AC17: 254 | AD17: 759 | AE17: 270 | AF17: 485 | AG17: 24 | AH17: 31 | AI17: 152 | AJ17: 84 | AK17: 68 | AL17: 1771 | AM17: 765 | AN17: 1006 | AO17: 1754 | AP17: 596 | AQ17: 1158 | AR17: 1579 | AS17: 587 | AT17: 992 | AU17: 981364 | AV17: 48611 | AW17: 370353 | AX17: 21048 | AY17: 5572 | AZ17: 29861 | BA17: 21465 | BB17: 0 | BC17: 7311 | BD17: 419869 | BE17: 57274
A18: 彰化縣 | B18: Changhua County | C18: 182 | D18: 19484 | E18: 9137 | F18: 10347 | G18: 0 | H18: 2 | I18: 35 | J18: 48 | K18: 5456 | L18: 3740 | M18: 913 | N18: 1092 | O18: 1036 | P18: 2089 | Q18: 696 | R18: 1305 | S18: 690 | T18: 1397 | U18: 311 | V18: 676 | W18: 1960 | X18: 1591 | Y18: 208 | Z18: 324 | AA18: 315 | AB18: 455 | AC18: 80 | AD18: 2440 | AE18: 6184 | AF18: 4483 | AG18: 390 | AH18: 1054 | AI18: 318 | AJ18: 172 | AK18: 146 | AL18: 2949 | AM18: 1120 | AN18: 1829 | AO18: 12856 | AP18: 6863 | AQ18: 5993 | AR18: 3361 | AS18: 982 | AT18: 2379 | AU18: 1573209 | AV18: 624293 | AW18: 467275 | AX18: 29305 | AY18: 29110 | AZ18: 62121 | BA18: 70117 | BB18: 0 | BC18: 7435 | BD18: 81791 | BE18: 201762
A19: 南投縣 | B19: Nantou County | C19: 80 | D19: 5067 | E19: 2041 | F19: 3026 | G19: 22 | H19: 39 | I19: 0 | J19: 0 | K19: 113 | L19: 180 | M19: 212 | N19: 364 | O19: 576 | P19: 951 | Q19: 507 | R19: 770 | S19: 264 | T19: 459 | U19: 369 | V19: 302 | W19: 873 | X19: 790 | Y19: 308 | Z19: 251 | AA19: 229 | AB19: 257 | AC19: 6 | AD19: 986 | AE19: 223 | AF19: 307 | AG19: 402 | AH19: 435 | AI19: 53 | AJ19: 28 | AK19: 25 | AL19: 1455 | AM19: 675 | AN19: 780 | AO19: 2397 | AP19: 920 | AQ19: 1477 | AR19: 1162 | AS19: 418 | AT19: 744 | AU19: 215934 | AV19: 8719 | AW19: 78415 | AX19: 58847 | AY19: 5000 | AZ19: 10194 | BA19: 3056 | BB19: 0 | BC19: 4009 | BD19: 6152 | BE19: 41542
... A30: 連江縣 | B30: Lienchiang County | C30: 1 | D30: 10 | E30: 0 | F30: 10 | G30: 0 | H30: 0 | I30: 0 | J30: 0 | K30: 0 | L30: 0 | M30: 0 | N30: 3 | O30: 0 | P30: 7 | Q30: 0 | R30: 0 | S30: 0 | T30: 0 | U30: 0 | V30: 0 | W30: 0 | X30: 6 | Y30: 0 | Z30: 3 | AA30: 0 | AB30: 0 | AC30: 0 | AD30: 1 | AE30: 0 | AF30: 0 | AG30: 0 | AH30: 0 | AI30: 0 | AJ30: 0 | AK30: 0 | AL30: 3 | AM30: 0 | AN30: 3 | AO30: 7 | AP30: 0 | AQ30: 7 | AR30: 0 | AS30: 0 | AT30: 0 | AU30: 134 | AV30: 0 | AW30: 120 | AX30: 0 | AY30: 0 | AZ30: 4 | BA30: 0 | BB30: 0 | BC30: 0 | BD30: 0 | BE30: 10
A31: 資料來源：直轄市、縣(市)政府。

Sheet 99
A1: 1.6-01 地方政府社會處(局)所轄志工 Number of Volunteers of Department of Social Welfare of Local Government
A2: 99年,2010
A3: 單位：隊；人；小時 Unit : Teams, Persons, Hours
A4: 地區別 Locality | C4: 總隊數 No. of Team | D4: 隊員總人數 No. of Team Member | G4: 隊員按年齡分 By Age | N4: 隊員按身分分 By Identity | Z4: 隊員按教育程度分 By Education | AL4: 志工志願服務時數 (小時)
N5: 工商界人士 Members of Industry & Commerce | P5: 公教員工 Officers & Teacher | R5: 退休人員 Retired Members | T5: 家庭管理 Housekeepers | V5: 學生 Students | X5: 其他 Others | Z5: 研究所 Postgraduate | AC5: 大專 University, College | AF5: 高中(職) Senior High School | AI5: 國中及以下 Junior High School & Under | AL5: 合計 | AM5: 身心障礙福利服務 | AN5: 老人福利服務 | AO5: 婦女福利服務 | AP5: .少年福利服務 | AQ5: 兒童福利服務 | AR5: 諮商輔導服務 | AS5: 醫院社會服務 | AT5: 家庭福利服務 | AU5: 社區福利服務 | AV5: 綜合福利服務
D6: 計 | E6: 男 | F6: 女 | G6: 未滿12歲 | H6: 12-17歲 | I6: 18-29歲 | J6: 30-49歲 | K6: 50-54歲 | L6: 55-64歲 | M6: 65歲以上 | N6: 男 | O6: 女 | P6: 男 | Q6: 女 | R6: 男 | S6: 女 | T6: 男 | U6: 女 | V6: 男 | W6: 女 | X6: 男 | Y6: 女 | Z6: 計 | AA6: 男 | AB6: 女 | AC6: 計 | AD6: 男 | AE6: 女 | AF6: 計 | AG6: 男 | AH6: 女 | AI6: 計 | AJ6: 男 | AK6: 女 | AL6: Total | AM6: Welfare Service for the Disabled | AN6: Welfare Service for the Aged | AO6: Welfare Service for the Women | AP6: Welfare Service for the Young | AQ6: Welfare Service for Children | AR6: Service of Consulting | AS6: Social Service for Hospital or Dispensary | AT6: Welfare Service for Home | AU6: Welfare Service for Communities | AV6: Complex Welfare Service
D7: Total | E7: Male | F7: Female | G7: Under 12 Years | H7: Years | I7: Years | J7: Years | K7: Years | L7: Years | M7: Years & Over | N7: Male | O7: Female | P7: Male | Q7: Female | R7: Male | S7: Female | T7: Male | U7: Female | V7: Male | W7: Female | X7: Male | Y7: Female | Z7: Total | AA7: Male | AB7: Female | AC7: Total | AD7: Male | AE7: Female | AF7: Total | AG7: Male | AH7: Female | AI7: Total | AJ7: Male | AK7: Female
A8: 總計 | B8: Total | C8: 2727 | D8: 160532 | E8: 51319 | F8: 109213 | G8: 1037 | H8: 7912 | I8: 24472 | J8: 44922 | K8: 29005 | L8: 30981 | M8: 22203 | N8: 16240 | O8: 19717 | P8: 5422 | Q8: 7071 | R8: 8560 | S8: 10578 | T8: 2275 | U8: 44274 | V8: 9403 | W8: 13807 | X8: 9419 | Y8: 13766 | Z8: 4869 | AA8: 2114 | AB8: 2755 | AC8: 48184 | AD8: 17403 | AE8: 30781 | AF8: 59245 | AG8: 18778 | AH8: 40467 | AI8: 48234 | AJ8: 13024 | AK8: 35210 | AL8: 27740413 | AM8: 3498781 | AN8: 5822604 | AO8: 1004290 | AP8: 1052070 | AQ8: 1840118 | AR8: 879030 | AS8: 0 | AT8: 1210803 | AU8: 4638467 | AV8: 7794250
A9: 臺北縣 | B9: Taipei County | C9: 231 | D9: 17241 | E9: 4436 | F9: 12805 | G9: 25 | H9: 122 | I9: 1210 | J9: 4893 | K9: 2818 | L9: 5495 | M9: 2678 | N9: 1567 | O9: 1762 | P9: 292 | Q9: 453 | R9: 1058 | S9: 1184 | T9: 124 | U9: 6804 | V9: 470 | W9: 691 | X9: 925 | Y9: 1911 | Z9: 281 | AA9: 119 | AB9: 162 | AC9: 3349 | AD9: 1128 | AE9: 2221 | AF9: 5590 | AG9: 1444 | AH9: 4146 | AI9: 8021 | AJ9: 1745 | AK9: 6276 | AL9: 4081323 | AM9: 191536 | AN9: 602070 | AO9: 75614 | AP9: 67467 | AQ9: 277190 | AR9: 73877 | AS9: 0 | AT9: 22434 | AU9: 305273 | AV9: 2465862
A10: 宜蘭縣 | B10: Yilan County | C10: 112 | D10: 5506 | E10: 2564 | F10: 2942 | G10: 0 | H10: 677 | I10: 1260 | J10: 1366 | K10: 616 | L10: 814 | M10: 773 | N10: 1096 | O10: 976 | P10: 312 | Q10: 374 | R10: 570 | S10: 524 | T10: 82 | U10: 543 | V10: 312 | W10: 306 | X10: 192 | Y10: 219 | Z10: 117 | AA10: 65 | AB10: 52 | AC10: 1638 | AD10: 769 | AE10: 869 | AF10: 1921 | AG10: 692 | AH10: 1229 | AI10: 1830 | AJ10: 1038 | AK10: 792 | AL10: 437159 | AM10: 163289 | AN10: 118088 | AO10: 8767 | AP10: 11138 | AQ10: 5808 | AR10: 8743 | AS10: 0 | AT10: 17719 | AU10: 35262 | AV10: 68345
A11: 桃園縣 | B11: Taoyuan County | C11: 320 | D11: 11097 | E11: 3516 | F11: 7581 | G11: 31 | H11: 284 | I11: 1387 | J11: 2952 | K11: 2719 | L11: 2399 | M11: 1325 | N11: 1261 | O11: 1392 | P11: 328 | Q11: 347 | R11: 632 | S11: 654 | T11: 107 | U11: 3559 | V11: 525 | W11: 707 | X11: 663 | Y11: 922 | Z11: 429 | AA11: 199 | AB11: 230 | AC11: 3100 | AD11: 1170 | AE11: 1930 | AF11: 4190 | AG11: 1364 | AH11: 2826 | AI11: 3378 | AJ11: 783 | AK11: 2595 | AL11: 1747277 | AM11: 40907 | AN11: 845344 | AO11: 91770 | AP11: 100128 | AQ11: 121682 | AR11: 59031 | AS11: 0 | AT11: 104849 | AU11: 97450 | AV11: 286116
A12: 新竹縣 | B12: Hsinchu County | C12: 63 | D12: 3109 | E12: 1097 | F12: 2012 | G12: 10 | H12: 62 | I12: 495 | J12: 698 | K12: 545 | L12: 555 | M12: 744 | N12: 273 | O12: 284 | P12: 77 | Q12: 86 | R12: 277 | S12: 142 | T12: 32 | U12: 830 | V12: 145 | W12: 395 | X12: 293 | Y12: 275 | Z12: 28 | AA12: 17 | AB12: 11 | AC12: 904 | AD12: 425 | AE12: 479 | AF12: 1076 | AG12: 313 | AH12: 763 | AI12: 1101 | AJ12: 342 | AK12: 759 | AL12: 522971 | AM12: 34636 | AN12: 302964 | AO12: 6646 | AP12: 7946 | AQ12: 4270 | AR12: 57189 | AS12: 0 | AT12: 22008 | AU12: 70402 | AV12: 16910
A13: 苗栗縣 | B13: Miaoli County | C13: 41 | D13: 1849 | E13: 593 | F13: 1256 | G13: 15 | H13: 181 | I13: 270 | J13: 512 | K13: 257 | L13: 366 | M13: 248 | N13: 217 | O13: 344 | P13: 41 | Q13: 69 | R13: 109 | S13: 148 | T13: 32 | U13: 373 | V13: 126 | W13: 232 | X13: 68 | Y13: 90 | Z13: 48 | AA13: 22 | AB13: 26 | AC13: 643 | AD13: 231 | AE13: 412 | AF13: 701 | AG13: 214 | AH13: 487 | AI13: 457 | AJ13: 126 | AK13: 331 | AL13: 197264 | AM13: 28361 | AN13: 95721 | AO13: 4978 | AP13: 3878 | AQ13: 17189 | AR13: 12626 | AS13: 0 | AT13: 2773 | AU13: 14504 | AV13: 17234
A14: 臺中縣 | B14: Taichung County | C14: 64 | D14: 4947 | E14: 1594 | F14: 3353 | G14: 24 | H14: 170 | I14: 896 | J14: 1769 | K14: 1369 | L14: 344 | M14: 375 | N14: 592 | O14: 1041 | P14: 139 | Q14: 207 | R14: 206 | S14: 163 | T14: 47 | U14: 1318 | V14: 399 | W14: 375 | X14: 211 | Y14: 249 | Z14: 111 | AA14: 46 | AB14: 65 | AC14: 1332 | AD14: 470 | AE14: 862 | AF14: 1938 | AG14: 645 | AH14: 1293 | AI14: 1566 | AJ14: 433 | AK14: 1133 | AL14: 660490 | AM14: 47913 | AN14: 216950 | AO14: 24238 | AP14: 11644 | AQ14: 126117 | AR14: 14382 | AS14: 0 | AT14: 6418 | AU14: 88176 | AV14: 124652
A15: 彰化縣 | B15: Changhua County | C15: 142 | D15: 9703 | E15: 3653 | F15: 6050 | G15: 60 | H15: 978 | I15: 1888 | J15: 2742 | K15: 1645 | L15: 1604 | M15: 786 | N15: 1652 | O15: 1252 | P15: 197 | Q15: 274 | R15: 275 | S15: 358 | T15: 67 | U15: 1949 | V15: 1111 | W15: 1234 | X15: 351 | Y15: 983 | Z15: 201 | AA15: 108 | AB15: 93 | AC15: 2594 | AD15: 1011 | AE15: 1583 | AF15: 4207 | AG15: 1714 | AH15: 2493 | AI15: 2701 | AJ15: 820 | AK15: 1881 | AL15: 1188775 | AM15: 329020 | AN15: 463592 | AO15: 11998 | AP15: 14621 | AQ15: 46823 | AR15: 57177 | AS15: 0 | AT15: 6453 | AU15: 97248 | AV15: 161843
A16: 南投縣 | B16: Nantou County | C16: 80 | D16: 5027 | E16: 2024 | F16: 3003 | G16: 0 | H16: 301 | I16: 574 | J16: 1506 | K16: 1274 | L16: 711 | M16: 661 | N16: 875 | O16: 767 | P16: 304 | Q16: 252 | R16: 226 | S16: 254 | T16: 8 | U16: 983 | V16: 219 | W16: 311 | X16: 392 | Y16: 436 | Z16: 54 | AA16: 29 | AB16: 25 | AC16: 1446 | AD16: 671 | AE16: 775 | AF16: 2376 | AG16: 911 | AH16: 1465 | AI16: 1151 | AJ16: 413 | AK16: 738 | AL16: 191328 | AM16: 9961 | AN16: 75440 | AO16: 32519 | AP16: 4964 | AQ16: 15918 | AR16: 5253 | AS16: 0 | AT16: 3182 | AU16: 3472 | AV16: 40619
A17: 雲林縣 | B17: Yunlin County | C17: 76 | D17: 5062 | E17: 2178 | F17: 2884 | G17: 81 | H17: 383 | I17: 617 | J17: 1689 | K17: 704 | L17: 858 | M17: 730 | N17: 627 | O17: 478 | P17: 268 | Q17: 323 | R17: 266 | S17: 198 | T17: 14 | U17: 1080 | V17: 363 | W17: 363 | X17: 640 | Y17: 442 | Z17: 92 | AA17: 58 | AB17: 34 | AC17: 1414 | AD17: 690 | AE17: 724 | AF17: 2363 | AG17: 997 | AH17: 1366 | AI17: 1193 | AJ17: 433 | AK17: 760 | AL17: 1405406 | AM17: 13653 | AN17: 244285 | AO17: 2943 | AP17: 186131 | AQ17: 71931 | AR17: 9773 | AS17: 0 | AT17: 722608 | AU17: 108002 | AV17: 46080
A18: 嘉義縣 | B18: Chiayi County | C18: 90 | D18: 3820 | E18: 1506 | F18: 2314 | G18: 16 | H18: 122 | I18: 273 | J18: 892 | K18: 617 | L18: 932 | M18: 968 | N18: 408 | O18: 380 | P18: 86 | Q18: 120 | R18: 245 | S18: 130 | T18: 76 | U18: 1152 | V18: 161 | W18: 160 | X18: 530 | Y18: 372 | Z18: 31 | AA18: 14 | AB18: 17 | AC18: 766 | AD18: 373 | AE18: 393 | AF18: 1069 | AG18: 412 | AH18: 657 | AI18: 1954 | AJ18: 707 | AK18: 1247 | AL18: 504188 | AM18: 99596 | AN18: 218273 | AO18: 3329 | AP18: 1188 | AQ18: 6230 | AR18: 16975 | AS18: 0 | AT18: 1886 | AU18: 121082 | AV18: 35629
A19: 臺南縣 | B19: Tainan County | C19: 45 | D19: 3687 | E19: 1143 | F19: 2544 | G19: 42 | H19: 265 | I19: 1244 | J19: 695 | K19: 435 | L19: 594 | M19: 412 | N19: 236 | O19: 343 | P19: 71 | Q19: 104 | R19: 145 | S19: 87 | T19: 18 | U19: 903 | V19: 467 | W19: 863 | X19: 206 | Y19: 244 | Z19: 106 | AA19: 54 | AB19: 52 | AC19: 1413 | AD19: 443 | AE19: 970 | AF19: 975 | AG19: 309 | AH19: 666 | AI19: 1193 | AJ19: 337 | AK19: 856 | AL19: 689283 | AM19: 185871 | AN19: 278679 | AO19: 97022 | AP19: 2964 | AQ19: 11307 | AR19: 5922 | AS19: 0 | AT19: 5483 | AU19: 54754 | AV19: 47281
... A33: 連江縣 | B33: Lienchiang County | C33: 0 | D33: 0 | E33: 0 | F33: 0 | G33: 0 | H33: 0 | I33: 0 | J33: 0 | K33: 0 | L33: 0 | M33: 0 | N33: 0 | O33: 0 | P33: 0 | Q33: 0 | R33: 0 | S33: 0 | T33: 0 | U33: 0 | V33: 0 | W33: 0 | X33: 0 | Y33: 0 | Z33: 0 | AA33: 0 | AB33: 0 | AC33: 0 | AD33: 0 | AE33: 0 | AF33: 0 | AG33: 0 | AH33: 0 | AI33: 0 | AJ33: 0 | AK33: 0 | AL33: 0 | AM33: 0 | AN33: 0 | AO33: 0 | AP33: 0 | AQ33: 0 | AR33: 0 | AS33: 0 | AT33: 0 | AU33: 0 | AV33: 0
A34: 資料來源：直轄市、縣(市)政府。

Sheet 98
A1: 1.6-01 地方政府社會處(局)所轄志工 Number of Volunteers of Department of Social Welfare of Local Government
A2: 98年,2009
A3: 單位：隊；人；小時 Unit : Teams, Persons, Hours
A4: 地區別 Locality | C4: 總隊數 No. of Team | D4: 隊員總人數 No. of Team Member | G4: 隊員按年齡分 By Age | N4: 隊員按身分分 By Identity | Z4: 隊員按教育程度分 By Education | AL4: 志工志願服務時數 (小時)
N5: 工商界人士 Members of Industry & Commerce | P5: 公教員工 Officers & Teacher | R5: 退休人員 Retired Members | T5: 家庭管理 Housekeepers | V5: 學生 Students | X5: 其他 Others | Z5: 研究所 Postgraduate | AC5: 大專 University, College | AF5: 高中(職) Senior High School | AI5: 國中及以下 Junior High School & Under | AL5: 合計 | AM5: 身心障礙福利服務 | AN5: 老人福利服務 | AO5: 婦女福利服務 | AP5: .少年福利服務 | AQ5: 兒童福利服務 | AR5: 諮商輔導服務 | AS5: 醫院社會服務 | AT5: 家庭福利服務 | AU5: 社區福利服務 | AV5: 綜合福利服務
D6: 計 | E6: 男 | F6: 女 | G6: 未滿12歲 | H6: 12-17歲 | I6: 18-29歲 | J6: 30-49歲 | K6: 50-54歲 | L6: 55-64歲 | M6: 65歲以上 | N6: 男 | O6: 女 | P6: 男 | Q6: 女 | R6: 男 | S6: 女 | T6: 男 | U6: 女 | V6: 男 | W6: 女 | X6: 男 | Y6: 女 | Z6: 計 | AA6: 男 | AB6: 女 | AC6: 計 | AD6: 男 | AE6: 女 | AF6: 計 | AG6: 男 | AH6: 女 | AI6: 計 | AJ6: 男 | AK6: 女 | AL6: Total | AM6: Welfare Service for the Disabled | AN6: Welfare Service for the Aged | AO6: Welfare Service for the Women | AP6: Welfare Service for the Young | AQ6: Welfare Service for Children | AR6: Service of Consulting | AS6: Social Service for Hospital or Dispensary | AT6: Welfare Service for Home | AU6: Welfare Service for Communities | AV6: Complex Welfare Service
D7: Total | E7: Male | F7: Female | G7: Under 12 Years | H7: Years | I7: Years | J7: Years | K7: Years | L7: Years | M7: Years & Over | N7: Male | O7: Female | P7: Male | Q7: Female | R7: Male | S7: Female | T7: Male | U7: Female | V7: Male | W7: Female | X7: Male | Y7: Female | Z7: Total | AA7: Male | AB7: Female | AC7: Total | AD7: Male | AE7: Female | AF7: Total | AG7: Male | AH7: Female | AI7: Total | AJ7: Male | AK7: Female
A8: 總計 | B8: Total | C8: 2711 | D8: 153819 | E8: 48018 | F8: 105801 | G8: 990 | H8: 9438 | I8: 21943 | J8: 45514 | K8: 27714 | L8: 30117 | M8: 18103 | N8: 15273 | O8: 18112 | P8: 4166 | Q8: 6316 | R8: 8342 | S8: 10163 | T8: 2100 | U8: 45825 | V8: 9501 | W8: 13382 | X8: 8636 | Y8: 12003 | Z8: 3693 | AA8: 1586 | AB8: 2107 | AC8: 44446 | AD8: 15286 | AE8: 29160 | AF8: 58485 | AG8: 18884 | AH8: 39601 | AI8: 47195 | AJ8: 12262 | AK8: 34933 | AL8: 20157333 | AM8: 1559573 | AN8: 5057059 | AO8: 977830 | AP8: 699426 | AQ8: 1689629 | AR8: 830796 | AS8: 0 | AT8: 501470 | AU8: 3345264 | AV8: 5496286
A9: 臺北縣 | B9: Taipei County | C9: 259 | D9: 21193 | E9: 4932 | F9: 16261 | G9: 20 | H9: 177 | I9: 1313 | J9: 6423 | K9: 3566 | L9: 7058 | M9: 2636 | N9: 1696 | O9: 2274 | P9: 298 | Q9: 604 | R9: 1211 | S9: 1548 | T9: 190 | U9: 9385 | V9: 396 | W9: 592 | X9: 1141 | Y9: 1858 | Z9: 304 | AA9: 129 | AB9: 175 | AC9: 4478 | AD9: 1461 | AE9: 3017 | AF9: 8562 | AG9: 1884 | AH9: 6678 | AI9: 7849 | AJ9: 1458 | AK9: 6391 | AL9: 4233568 | AM9: 156822 | AN9: 592013 | AO9: 265453 | AP9: 63170 | AQ9: 355062 | AR9: 90932 | AS9: 0 | AT9: 123958 | AU9: 1491148 | AV9: 1095010
A10: 宜蘭縣 | B10: Yilan County | C10: 96 | D10: 4717 | E10: 2205 | F10: 2512 | G10: 0 | H10: 665 | I10: 1114 | J10: 1217 | K10: 505 | L10: 696 | M10: 520 | N10: 985 | O10: 892 | P10: 244 | Q10: 343 | R10: 483 | S10: 382 | T10: 45 | U10: 470 | V10: 306 | W10: 250 | X10: 142 | Y10: 175 | Z10: 74 | AA10: 42 | AB10: 32 | AC10: 1498 | AD10: 716 | AE10: 782 | AF10: 1582 | AG10: 596 | AH10: 986 | AI10: 1563 | AJ10: 851 | AK10: 712 | AL10: 299050 | AM10: 39580 | AN10: 114753 | AO10: 8150 | AP10: 10640 | AQ10: 5365 | AR10: 8210 | AS10: 0 | AT10: 16938 | AU10: 31810 | AV10: 63604
A11: 桃園縣 | B11: Taoyuan County | C11: 270 | D11: 8546 | E11: 2960 | F11: 5586 | G11: 61 | H11: 158 | I11: 924 | J11: 2489 | K11: 1557 | L11: 2293 | M11: 1064 | N11: 1284 | O11: 1109 | P11: 170 | Q11: 209 | R11: 554 | S11: 536 | T11: 91 | U11: 3016 | V11: 494 | W11: 398 | X11: 367 | Y11: 318 | Z11: 219 | AA11: 102 | AB11: 117 | AC11: 2266 | AD11: 878 | AE11: 1388 | AF11: 2681 | AG11: 1157 | AH11: 1524 | AI11: 3380 | AJ11: 823 | AK11: 2557 | AL11: 1284885 | AM11: 66924 | AN11: 612529 | AO11: 54855 | AP11: 61749 | AQ11: 91197 | AR11: 33461 | AS11: 0 | AT11: 29116 | AU11: 153693 | AV11: 181361
A12: 新竹縣 | B12: Hsinchu County | C12: 58 | D12: 2734 | E12: 885 | F12: 1849 | G12: 3 | H12: 39 | I12: 427 | J12: 611 | K12: 491 | L12: 510 | M12: 653 | N12: 215 | O12: 229 | P12: 42 | Q12: 53 | R12: 214 | S12: 113 | T12: 26 | U12: 811 | V12: 125 | W12: 384 | X12: 263 | Y12: 259 | Z12: 23 | AA12: 14 | AB12: 9 | AC12: 810 | AD12: 367 | AE12: 443 | AF12: 961 | AG12: 247 | AH12: 714 | AI12: 940 | AJ12: 257 | AK12: 683 | AL12: 725779 | AM12: 42113 | AN12: 327001 | AO12: 9096 | AP12: 9380 | AQ12: 7081 | AR12: 53864 | AS12: 0 | AT12: 21811 | AU12: 181856 | AV12: 73577
A13: 苗栗縣 | B13: Miaoli County | C13: 48 | D13: 2168 | E13: 822 | F13: 1346 | G13: 18 | H13: 185 | I13: 433 | J13: 538 | K13: 285 | L13: 373 | M13: 336 | N13: 277 | O13: 307 | P13: 61 | Q13: 80 | R13: 149 | S13: 160 | T13: 21 | U13: 409 | V13: 251 | W13: 294 | X13: 63 | Y13: 96 | Z13: 37 | AA13: 19 | AB13: 18 | AC13: 719 | AD13: 347 | AE13: 372 | AF13: 781 | AG13: 271 | AH13: 510 | AI13: 631 | AJ13: 185 | AK13: 446 | AL13: 145807 | AM13: 11102 | AN13: 70204 | AO13: 8958 | AP13: 2342 | AQ13: 12064 | AR13: 13838 | AS13: 0 | AT13: 3000 | AU13: 13288 | AV13: 11011
A14: 臺中縣 | B14: Taichung County | C14: 71 | D14: 5146 | E14: 1601 | F14: 3545 | G14: 27 | H14: 164 | I14: 872 | J14: 1906 | K14: 1402 | L14: 393 | M14: 382 | N14: 613 | O14: 976 | P14: 114 | Q14: 213 | R14: 218 | S14: 227 | T14: 65 | U14: 1538 | V14: 378 | W14: 331 | X14: 213 | Y14: 260 | Z14: 107 | AA14: 56 | AB14: 51 | AC14: 1403 | AD14: 479 | AE14: 924 | AF14: 1904 | AG14: 636 | AH14: 1268 | AI14: 1732 | AJ14: 430 | AK14: 1302 | AL14: 679181 | AM14: 43961 | AN14: 249484 | AO14: 33361 | AP14: 12806 | AQ14: 98333 | AR14: 40075 | AS14: 0 | AT14: 4815 | AU14: 56204 | AV14: 140142
A15: 彰化縣 | B15: Changhua County | C15: 52 | D15: 3860 | E15: 1385 | F15: 2475 | G15: 23 | H15: 210 | I15: 591 | J15: 1360 | K15: 767 | L15: 599 | M15: 310 | N15: 804 | O15: 669 | P15: 94 | Q15: 104 | R15: 125 | S15: 145 | T15: 11 | U15: 869 | V15: 214 | W15: 321 | X15: 137 | Y15: 367 | Z15: 89 | AA15: 52 | AB15: 37 | AC15: 916 | AD15: 309 | AE15: 607 | AF15: 1662 | AG15: 664 | AH15: 998 | AI15: 1193 | AJ15: 360 | AK15: 833 | AL15: 269894 | AM15: 14128 | AN15: 111214 | AO15: 5997 | AP15: 16183 | AQ15: 9988 | AR15: 22517 | AS15: 0 | AT15: 1745 | AU15: 19740 | AV15: 68382
A16: 南投縣 | B16: Nantou County | C16: 78 | D16: 4970 | E16: 1999 | F16: 2971 | G16: 0 | H16: 949 | I16: 561 | J16: 1274 | K16: 1099 | L16: 563 | M16: 524 | N16: 768 | O16: 580 | P16: 198 | Q16: 132 | R16: 122 | S16: 96 | T16: 8 | U16: 875 | V16: 515 | W16: 908 | X16: 388 | Y16: 380 | Z16: 58 | AA16: 31 | AB16: 27 | AC16: 1434 | AD16: 665 | AE16: 769 | AF16: 2336 | AG16: 894 | AH16: 1442 | AI16: 1142 | AJ16: 409 | AK16: 733 | AL16: 165278 | AM16: 10630 | AN16: 55568 | AO16: 6869 | AP16: 3159 | AQ16: 17326 | AR16: 6232 | AS16: 0 | AT16: 3284 | AU16: 22789 | AV16: 39421
A17: 雲林縣 | B17: Yunlin County | C17: 67 | D17: 4844 | E17: 2088 | F17: 2756 | G17: 66 | H17: 161 | I17: 846 | J17: 1697 | K17: 746 | L17: 718 | M17: 610 | N17: 622 | O17: 485 | P17: 259 | Q17: 320 | R17: 151 | S17: 162 | T17: 35 | U17: 909 | V17: 323 | W17: 273 | X17: 698 | Y17: 607 | Z17: 82 | AA17: 48 | AB17: 34 | AC17: 1497 | AD17: 715 | AE17: 782 | AF17: 2160 | AG17: 881 | AH17: 1279 | AI17: 1105 | AJ17: 444 | AK17: 661 | AL17: 375531 | AM17: 17362 | AN17: 219598 | AO17: 5860 | AP17: 11559 | AQ17: 22264 | AR17: 4989 | AS17: 0 | AT17: 3770 | AU17: 50342 | AV17: 39787
A18: 嘉義縣 | B18: Chiayi County | C18: 86 | D18: 3730 | E18: 1474 | F18: 2256 | G18: 19 | H18: 128 | I18: 310 | J18: 990 | K18: 571 | L18: 803 | M18: 909 | N18: 412 | O18: 370 | P18: 86 | Q18: 121 | R18: 244 | S18: 108 | T18: 86 | U18: 1178 | V18: 144 | W18: 191 | X18: 502 | Y18: 288 | Z18: 36 | AA18: 20 | AB18: 16 | AC18: 784 | AD18: 369 | AE18: 415 | AF18: 1031 | AG18: 387 | AH18: 644 | AI18: 1879 | AJ18: 698 | AK18: 1181 | AL18: 421214 | AM18: 50531 | AN18: 234094 | AO18: 2590 | AP18: 2866 | AQ18: 3648 | AR18: 13476 | AS18: 0 | AT18: 1202 | AU18: 82753 | AV18: 30054
A19: 臺南縣 | B19: Tainan County | C19: 40 | D19: 2643 | E19: 768 | F19: 1875 | G19: 11 | H19: 185 | I19: 868 | J19: 616 | K19: 343 | L19: 343 | M19: 277 | N19: 236 | O19: 244 | P19: 60 | Q19: 139 | R19: 110 | S19: 74 | T19: 17 | U19: 584 | V19: 221 | W19: 712 | X19: 124 | Y19: 122 | Z19: 112 | AA19: 49 | AB19: 63 | AC19: 1047 | AD19: 312 | AE19: 735 | AF19: 764 | AG19: 227 | AH19: 537 | AI19: 720 | AJ19: 180 | AK19: 540 | AL19: 304962 | AM19: 57821 | AN19: 94020 | AO19: 2540 | AP19: 4644 | AQ19: 13577 | AR19: 16665 | AS19: 0 | AT19: 10078 | AU19: 29215 | AV19: 76402
... A33: 連江縣 | B33: Lienchiang County | C33: 0 | D33: 0 | E33: 0 | F33: 0 | G33: 0 | H33: 0 | I33: 0 | J33: 0 | K33: 0 | L33: 0 | M33: 0 | N33: 0 | O33: 0 | P33: 0 | Q33: 0 | R33: 0 | S33: 0 | T33: 0 | U33: 0 | V33: 0 | W33: 0 | X33: 0 | Y33: 0 | Z33: 0 | AA33: 0 | AB33: 0 | AC33: 0 | AD33: 0 | AE33: 0 | AF33: 0 | AG33: 0 | AH33: 0 | AI33: 0 | AJ33: 0 | AK33: 0 | AL33: 0 | AM33: 0 | AN33: 0 | AO33: 0 | AP33: 0 | AQ33: 0 | AR33: 0 | AS33: 0 | AT33: 0 | AU33: 0 | AV33: 0
A34: 資料來源：直轄市、縣(市)政府。

Sheet 97
A1: 1.6-01 地方政府社會處(局)所轄志工 Number of Volunteers of Department of Social Welfare of Local Government
A2: 97年,2008
A3: 單位：隊；人；小時 Unit : Teams, Persons, Hours
A4: 地區別 Locality | C4: 總隊數 No. of Team | D4: 隊員總人數 No. of Team Member | G4: 隊員按年齡分 By Age | O4: 隊員按身分分 By Identity | AA4: 隊員按教育程度分 By Education | AM4: 志工志願服務時數 (小時)
O5: 工商界人士 Members of Industry & Commerce | Q5: 公教員工 Officers & Teacher | S5: 退休人員 Retired Members | U5: 家庭管理 Housekeepers | W5: 學生 Students | Y5: 其他 Others | AA5: 研究所 Postgraduate | AD5: 大專 University, College | AG5: 高中(職) Senior High School | AJ5: 國中及以下 Junior High School & Under | AM5: 合計 | AN5: 身心障礙福利服務 | AO5: 老人福利服務 | AP5: 婦女福利服務 | AQ5: .少年福利服務 | AR5: 兒童福利服務 | AS5: 諮商輔導服務 | AT5: 醫院社會服務 | AU5: 家庭福利服務 | AV5: 社區福利服務 | AW5: 綜合福利服務
D6: 計 | E6: 男 | F6: 女 | G6: 未滿12歲 | H6: 12-17歲 | I6: 18-29歲 | J6: 30-49歲 | K6: 50-64歲 | L6: 65歲以上 | O6: 男 | P6: 女 | Q6: 男 | R6: 女 | S6: 男 | T6: 女 | U6: 男 | V6: 女 | W6: 男 | X6: 女 | Y6: 男 | Z6: 女 | AA6: 計 | AB6: 男 | AC6: 女 | AD6: 計 | AE6: 男 | AF6: 女 | AG6: 計 | AH6: 男 | AI6: 女 | AJ6: 計 | AK6: 男 | AL6: 女 | AM6: Total | AN6: Welfare Service for the Disabled | AO6: Welfare Service for the Aged | AP6: Welfare Service for the Women | AQ6: Welfare Service for the Young | AR6: Welfare Service for Children | AS6: Service of Consulting | AT6: Social Service for Hospital or Dispensary | AU6: Welfare Service for Home | AV6: Welfare Service for Communities | AW6: Complex Welfare Service
D7: Total | E7: Male | F7: Female | G7: Under 12 Years | H7: Years | I7: Years | J7: Years | K7: Years | L7: Years & Over | M7: 65 Years & Over | O7: Male | P7: Female | Q7: Male | R7: Female | S7: Male | T7: Female | U7: Male | V7: Female | W7: Male | X7: Female | Y7: Male | Z7: Female | AA7: Total | AB7: Male | AC7: Female | AD7: Total | AE7: Male | AF7: Female | AG7: Total | AH7: Male | AI7: Female | AJ7: Total | AK7: Male | AL7: Female
