Workbook

Sheet 113
A1: 特殊境遇家庭扶助服務 Assistance Service for Families in Hardship
A2: 113年 ,2024 | D2: =IF(D8=SUM(D21,D34,D47,D60,D73,D86,D99,D112,D125,D138,D151,D164,D177,D190,D203,D216,D229,D242,D255,D268,D281,D294),"","*") | E2: =IF(E8=SUM(E21,E34,E47,E60,E73,E86,E99,E112,E125,E138,E151,E164,E177,E190,E203,E216,E229,E242,E255,E268,E281,E294),"","*") | F2: =IF(F8=SUM(F21,F34,F47,F60,F73,F86,F99,F112,F125,F138,F151,F164,F177,F190,F203,F216,F229,F242,F255,F268,F281,F294),"","*") | G2: =IF(G8=SUM(G21,G34,G47,G60,G73,G86,G99,G112,G125,G138,G151,G164,G177,G190,G203,G216,G229,G242,G255,G268,G281,G294),"","*") | H2: =IF(H8=SUM(H21,H34,H47,H60,H73,H86,H99,H112,H125,H138,H151,H164,H177,H190,H203,H216,H229,H242,H255,H268,H281,H294),"","*") | I2: =IF(I8=SUM(I21,I34,I47,I60,I73,I86,I99,I112,I125,I138,I151,I164,I177,I190,I203,I216,I229,I242,I255,I268,I281,I294),"","*") | J2: =IF(J8=SUM(J21,J34,J47,J60,J73,J86,J99,J112,J125,J138,J151,J164,J177,J190,J203,J216,J229,J242,J255,J268,J281,J294),"","*") | K2: =IF(K8=SUM(K21,K34,K47,K60,K73,K86,K99,K112,K125,K138,K151,K164,K177,K190,K203,K216,K229,K242,K255,K268,K281,K294),"","*") | ... U2: =IF(U8=SUM(U21,U34,U47,U60,U73,U86,U99,U112,U125,U138,U151,U164,U177,U190,U203,U216,U229,U242,U255,U268,U281,U294),"","*")
A3: 單位：人;人次;金額 | D3: =IF(D8=SUM(D21,D34,D47,D60,D73,D86,D99,D112,D125,D138,D151,D164,D177,D190,D203,D216,D229,D242,D255,D268,D281,D294),"",SUM(D21,D34,D47,D60,D73,D86,D99,D112,D125,D138,D151,D164,D177,D190,D203,D216,D229,D242,D255,D268,D281,D294)) | E3: =IF(E8=SUM(E21,E34,E47,E60,E73,E86,E99,E112,E125,E138,E151,E164,E177,E190,E203,E216,E229,E242,E255,E268,E281,E294),"",SUM(E21,E34,E47,E60,E73,E86,E99,E112,E125,E138,E151,E164,E177,E190,E203,E216,E229,E242,E255,E268,E281,E294)) | F3: =IF(F8=SUM(F21,F34,F47,F60,F73,F86,F99,F112,F125,F138,F151,F164,F177,F190,F203,F216,F229,F242,F255,F268,F281,F294),"",SUM(F21,F34,F47,F60,F73,F86,F99,F112,F125,F138,F151,F164,F177,F190,F203,F216,F229,F242,F255,F268,F281,F294)) | G3: =IF(G8=SUM(G21,G34,G47,G60,G73,G86,G99,G112,G125,G138,G151,G164,G177,G190,G203,G216,G229,G242,G255,G268,G281,G294),"",SUM(G21,G34,G47,G60,G73,G86,G99,G112,G125,G138,G151,G164,G177,G190,G203,G216,G229,G242,G255,G268,G281,G294)) | H3: =IF(H8=SUM(H21,H34,H47,H60,H73,H86,H99,H112,H125,H138,H151,H164,H177,H190,H203,H216,H229,H242,H255,H268,H281,H294),"",SUM(H21,H34,H47,H60,H73,H86,H99,H112,H125,H138,H151,H164,H177,H190,H203,H216,H229,H242,H255,H268,H281,H294)) | I3: =IF(I8=SUM(I21,I34,I47,I60,I73,I86,I99,I112,I125,I138,I151,I164,I177,I190,I203,I216,I229,I242,I255,I268,I281,I294),"",SUM(I21,I34,I47,I60,I73,I86,I99,I112,I125,I138,I151,I164,I177,I190,I203,I216,I229,I242,I255,I268,I281,I294)) | J3: =IF(J8=SUM(J21,J34,J47,J60,J73,J86,J99,J112,J125,J138,J151,J164,J177,J190,J203,J216,J229,J242,J255,J268,J281,J294),"",SUM(J21,J34,J47,J60,J73,J86,J99,J112,J125,J138,J151,J164,J177,J190,J203,J216,J229,J242,J255,J268,J281,J294)) | K3: =IF(K8=SUM(K21,K34,K47,K60,K73,K86,K99,K112,K125,K138,K151,K164,K177,K190,K203,K216,K229,K242,K255,K268,K281,K294),"",SUM(K21,K34,K47,K60,K73,K86,K99,K112,K125,K138,K151,K164,K177,K190,K203,K216,K229,K242,K255,K268,K281,K294)) | ... U3: =IF(U8=SUM(U21,U34,U47,U60,U73,U86,U99,U112,U125,U138,U151,U164,U177,U190,U203,U216,U229,U242,U255,U268,U281,U294),"",SUM(U21,U34,U47,U60,U73,U86,U99,U112,U125,U138,U151,U164,U177,U190,U203,U216,U229,U242,U255,U268,U281,U294))
A4: 地區、性別及設籍別 Locality, Sex & Identity | D4: 總計 | G4: 緊急生活扶助 | J4: 傷病醫療補助 | M4: 法律訴訟補助 | P4: 子女生活津貼 | S4: 兒童托育津貼
D5: Total | G5: Emergency Assistance for Livelihood | J5: Medical Subsidies | M5: Subsidies of Litigation | P5: Children Living Allowance | S5: Children Nursery Allowance
D6: 人數 | E6: 人次 | F6: 金額(元) | G6: 人數 | H6: 人次 | I6: 金額(元) | J6: 人數 | K6: 人次 | L6: 金額(元) | M6: 人數 | N6: 人次 | O6: 金額(元) | P6: 人數 | Q6: 人次 | R6: 金額(元) | S6: 人數 | T6: 人次 | U6: 金額(元)
D7: Persons | E7: Times of Persons | F7: Amount (NT$) | G7: Persons | H7: Times of Persons | I7: Amount (NT$) | J7: Persons | K7: Times of Persons | L7: Amount (NT$) | M7: Persons | N7: Times of Persons | O7: Amount (NT$) | P7: Persons | Q7: Times of Persons | R7: Amount (NT$) | S7: Persons | T7: Times of Persons | U7: Amount (NT$)
A8: 總計 | C8: Total | D8: 14439 | E8: 127302 | F8: 464818975 | G8: 3791 | H8: 10249 | I8: 144632135 | J8: 75 | K8: 75 | L8: 1392854 | M8: 45 | N8: 45 | O8: 2120000 | P8: 10430 | Q8: 116146 | R8: 315560256 | S8: 98 | T8: 787 | U8: 1113730
A9: 男 Male | B9: 計 | C9: Subtotal | D9: 1935 | E9: 16680 | F9: 59452162 | G9: 439 | H9: 1235 | I9: 17397472 | J9: 24 | K9: 24 | L9: 559804 | M9: 1 | N9: 1 | O9: 10000 | P9: 1451 | Q9: 15243 | R9: 41225685 | S9: 20 | T9: 177 | U9: 259201
B10: 本國籍 | C10: National | D10: 1895 | E10: 16425 | F10: 58515429 | G10: 432 | H10: 1214 | I10: 17090355 | J10: 24 | K10: 24 | L10: 559804 | M10: 1 | N10: 1 | O10: 10000 | P10: 1418 | Q10: 15009 | R10: 40596069 | S10: 20 | T10: 177 | U10: 259201
B11: 一般民眾 | C11: General | D11: 1713 | E11: 15053 | F11: 53770508 | G11: 398 | H11: 1116 | I11: 15892239 | J11: 23 | K11: 23 | L11: 449764 | M11: 1 | N11: 1 | O11: 10000 | P11: 1272 | Q11: 13739 | R11: 37162304 | S11: 19 | T11: 174 | U11: 256201
B12: 原住民 | C12: Abrigines | D12: 182 | E12: 1372 | F12: 4744921 | G12: 34 | H12: 98 | I12: 1198116 | J12: 1 | K12: 1 | L12: 110040 | M12: 0 | N12: 0 | O12: 0 | P12: 146 | Q12: 1270 | R12: 3433765 | S12: 1 | T12: 3 | U12: 3000
B13: 大陸籍(含港澳) | C13: Mainlander | D13: 26 | E13: 149 | F13: 507755 | G13: 3 | H13: 9 | I13: 136357 | J13: 0 | K13: 0 | L13: 0 | M13: 0 | N13: 0 | O13: 0 | P13: 23 | Q13: 140 | R13: 371398 | S13: 0 | T13: 0 | U13: 0
B14: 外國籍 | C14: Foreigner | D14: 14 | E14: 106 | F14: 428978 | G14: 4 | H14: 12 | I14: 170760 | J14: 0 | K14: 0 | L14: 0 | M14: 0 | N14: 0 | O14: 0 | P14: 10 | Q14: 94 | R14: 258218 | S14: 0 | T14: 0 | U14: 0
A15: 女 Female | B15: 計 | C15: Subtotal | D15: 12504 | E15: 110622 | F15: 405366813 | G15: 3352 | H15: 9014 | I15: 127234663 | J15: 51 | K15: 51 | L15: 833050 | M15: 44 | N15: 44 | O15: 2110000 | P15: 8979 | Q15: 100903 | R15: 274334571 | S15: 78 | T15: 610 | U15: 854529
B16: 本國籍 | C16: National | D16: 12387 | E16: 109536 | F16: 400789559 | G16: 3308 | H16: 8899 | I16: 125299845 | J16: 50 | K16: 50 | L16: 814582 | M16: 44 | N16: 44 | O16: 2110000 | P16: 8909 | Q16: 99953 | R16: 271735695 | S16: 76 | T16: 590 | U16: 829437
B17: 一般民眾 | C17: General | D17: 11362 | E17: 101317 | F17: 369546476 | G17: 2965 | H17: 8013 | I17: 113760045 | J17: 50 | K17: 50 | L17: 814582 | M17: 44 | N17: 44 | O17: 2110000 | P17: 8230 | Q17: 92662 | R17: 252087309 | S17: 73 | T17: 548 | U17: 774540
B18: 原住民 | C18: Abrigines | D18: 1025 | E18: 8219 | F18: 31243083 | G18: 343 | H18: 886 | I18: 11539800 | J18: 0 | K18: 0 | L18: 0 | M18: 0 | N18: 0 | O18: 0 | P18: 679 | Q18: 7291 | R18: 19648386 | S18: 3 | T18: 42 | U18: 54897
B19: 大陸籍(含港澳) | C19: Mainlander | D19: 60 | E19: 597 | F19: 2379358 | G19: 20 | H19: 51 | I19: 874549 | J19: 1 | K19: 1 | L19: 18468 | M19: 0 | N19: 0 | O19: 0 | P19: 39 | Q19: 545 | R19: 1486341 | S19: 0 | T19: 0 | U19: 0
B20: 外國籍 | C20: Foreigner | D20: 57 | E20: 489 | F20: 2197896 | G20: 24 | H20: 64 | I20: 1060269 | J20: 0 | K20: 0 | L20: 0 | M20: 0 | N20: 0 | O20: 0 | P20: 31 | Q20: 405 | R20: 1112535 | S20: 2 | T20: 20 | U20: 25092
A21: 新北市 | C21: New Taipei City | D21: 473 | E21: 1955 | F21: 20562548 | G21: 410 | H21: 1189 | I21: 18778607 | J21: 0 | K21: 0 | L21: 0 | M21: 2 | N21: 2 | O21: 100000 | P21: 61 | Q21: 764 | R21: 1683941 | S21: 0 | T21: 0 | U21: 0
A22: 男 Male | B22: 計 | C22: Subtotal | D22: 27 | E22: 104 | F22: 988746 | G22: 21 | H22: 61 | I22: 870625 | J22: 0 | K22: 0 | L22: 0 | M22: 0 | N22: 0 | O22: 0 | P22: 6 | Q22: 43 | R22: 118121 | S22: 0 | T22: 0 | U22: 0
B23: 本國籍 | C23: National | D23: 27 | E23: 104 | F23: 988746 | G23: 21 | H23: 61 | I23: 870625 | J23: 0 | K23: 0 | L23: 0 | M23: 0 | N23: 0 | O23: 0 | P23: 6 | Q23: 43 | R23: 118121 | S23: 0 | T23: 0 | U23: 0
B24: 一般民眾 | C24: General | D24: 27 | E24: 104 | F24: 988746 | G24: 21 | H24: 61 | I24: 870625 | J24: 0 | K24: 0 | L24: 0 | M24: 0 | N24: 0 | O24: 0 | P24: 6 | Q24: 43 | R24: 118121 | S24: 0 | T24: 0 | U24: 0
B25: 原住民 | C25: Abrigines | D25: 0 | E25: 0 | F25: 0 | G25: 0 | H25: 0 | I25: 0 | J25: 0 | K25: 0 | L25: 0 | M25: 0 | N25: 0 | O25: 0 | P25: 0 | Q25: 0 | R25: 0 | S25: 0 | T25: 0 | U25: 0
B26: 大陸籍(含港澳) | C26: Mainlander | D26: 0 | E26: 0 | F26: 0 | G26: 0 | H26: 0 | I26: 0 | J26: 0 | K26: 0 | L26: 0 | M26: 0 | N26: 0 | O26: 0 | P26: 0 | Q26: 0 | R26: 0 | S26: 0 | T26: 0 | U26: 0
B27: 外國籍 | C27: Foreigner | D27: 0 | E27: 0 | F27: 0 | G27: 0 | H27: 0 | I27: 0 | J27: 0 | K27: 0 | L27: 0 | M27: 0 | N27: 0 | O27: 0 | P27: 0 | Q27: 0 | R27: 0 | S27: 0 | T27: 0 | U27: 0
A28: 女 Female | B28: 計 | C28: Subtotal | D28: 446 | E28: 1851 | F28: 19573802 | G28: 389 | H28: 1128 | I28: 17907982 | J28: 0 | K28: 0 | L28: 0 | M28: 2 | N28: 2 | O28: 100000 | P28: 55 | Q28: 721 | R28: 1565820 | S28: 0 | T28: 0 | U28: 0
B29: 本國籍 | C29: National | D29: 442 | E29: 1839 | F29: 19377002 | G29: 385 | H29: 1116 | I29: 17711182 | J29: 0 | K29: 0 | L29: 0 | M29: 2 | N29: 2 | O29: 100000 | P29: 55 | Q29: 721 | R29: 1565820 | S29: 0 | T29: 0 | U29: 0
B30: 一般民眾 | C30: General | D30: 428 | E30: 1792 | F30: 18810513 | G30: 372 | H30: 1081 | I30: 17177657 | J30: 0 | K30: 0 | L30: 0 | M30: 2 | N30: 2 | O30: 100000 | P30: 54 | Q30: 709 | R30: 1532856 | S30: 0 | T30: 0 | U30: 0
B31: 原住民 | C31: Abrigines | D31: 14 | E31: 47 | F31: 566489 | G31: 13 | H31: 35 | I31: 533525 | J31: 0 | K31: 0 | L31: 0 | M31: 0 | N31: 0 | O31: 0 | P31: 1 | Q31: 12 | R31: 32964 | S31: 0 | T31: 0 | U31: 0
B32: 大陸籍(含港澳) | C32: Mainlander | D32: 1 | E32: 3 | F32: 49200 | G32: 1 | H32: 3 | I32: 49200 | J32: 0 | K32: 0 | L32: 0 | M32: 0 | N32: 0 | O32: 0 | P32: 0 | Q32: 0 | R32: 0 | S32: 0 | T32: 0 | U32: 0
B33: 外國籍 | C33: Foreigner | D33: 3 | E33: 9 | F33: 147600 | G33: 3 | H33: 9 | I33: 147600 | J33: 0 | K33: 0 | L33: 0 | M33: 0 | N33: 0 | O33: 0 | P33: 0 | Q33: 0 | R33: 0 | S33: 0 | T33: 0 | U33: 0
A34: 臺北市 | C34: Taipei City | D34: 1332 | E34: 11331 | F34: 50337665 | G34: 416 | H34: 1145 | I34: 21846632 | J34: 28 | K34: 28 | L34: 447995 | M34: 4 | N34: 4 | O34: 150000 | P34: 884 | Q34: 10154 | R34: 27893038 | S34: 0 | T34: 0 | U34: 0
A35: 男 Male | B35: 計 | C35: Subtotal | D35: 140 | E35: 1067 | F35: 4930000 | G35: 45 | H35: 118 | I35: 2122632 | J35: 11 | K35: 11 | L35: 223429 | M35: 1 | N35: 1 | O35: 10000 | P35: 83 | Q35: 937 | R35: 2573939 | S35: 0 | T35: 0 | U35: 0
B36: 本國籍 | C36: National | D36: 140 | E36: 1067 | F36: 4930000 | G36: 45 | H36: 118 | I36: 2122632 | J36: 11 | K36: 11 | L36: 223429 | M36: 1 | N36: 1 | O36: 10000 | P36: 83 | Q36: 937 | R36: 2573939 | S36: 0 | T36: 0 | U36: 0
B37: 一般民眾 | C37: General | D37: 137 | E37: 1031 | F37: 4831108 | G37: 45 | H37: 118 | I37: 2122632 | J37: 11 | K37: 11 | L37: 223429 | M37: 1 | N37: 1 | O37: 10000 | P37: 80 | Q37: 901 | R37: 2475047 | S37: 0 | T37: 0 | U37: 0
B38: 原住民 | C38: Abrigines | D38: 3 | E38: 36 | F38: 98892 | G38: 0 | H38: 0 | I38: 0 | J38: 0 | K38: 0 | L38: 0 | M38: 0 | N38: 0 | O38: 0 | P38: 3 | Q38: 36 | R38: 98892 | S38: 0 | T38: 0 | U38: 0
B39: 大陸籍(含港澳) | C39: Mainlander | D39: 0 | E39: 0 | F39: 0 | G39: 0 | H39: 0 | I39: 0 | J39: 0 | K39: 0 | L39: 0 | M39: 0 | N39: 0 | O39: 0 | P39: 0 | Q39: 0 | R39: 0 | S39: 0 | T39: 0 | U39: 0
B40: 外國籍 | C40: Foreigner | D40: 0 | E40: 0 | F40: 0 | G40: 0 | H40: 0 | I40: 0 | J40: 0 | K40: 0 | L40: 0 | M40: 0 | N40: 0 | O40: 0 | P40: 0 | Q40: 0 | R40: 0 | S40: 0 | T40: 0 | U40: 0
A41: 女 Female | B41: 計 | C41: Subtotal | D41: 1192 | E41: 10264 | F41: 45407665 | G41: 371 | H41: 1027 | I41: 19724000 | J41: 17 | K41: 17 | L41: 224566 | M41: 3 | N41: 3 | O41: 140000 | P41: 801 | Q41: 9217 | R41: 25319099 | S41: 0 | T41: 0 | U41: 0
B42: 本國籍 | C42: National | D42: 1177 | E42: 10220 | F42: 44541649 | G42: 356 | H42: 983 | I42: 18857984 | J42: 17 | K42: 17 | L42: 224566 | M42: 3 | N42: 3 | O42: 140000 | P42: 801 | Q42: 9217 | R42: 25319099 | S42: 0 | T42: 0 | U42: 0
B43: 一般民眾 | C43: General | D43: 1143 | E43: 9886 | F43: 43371202 | G43: 349 | H43: 965 | I43: 18555589 | J43: 17 | K43: 17 | L43: 224566 | M43: 3 | N43: 3 | O43: 140000 | P43: 774 | Q43: 8901 | R43: 24451047 | S43: 0 | T43: 0 | U43: 0
B44: 原住民 | C44: Abrigines | D44: 34 | E44: 334 | F44: 1170447 | G44: 7 | H44: 18 | I44: 302395 | J44: 0 | K44: 0 | L44: 0 | M44: 0 | N44: 0 | O44: 0 | P44: 27 | Q44: 316 | R44: 868052 | S44: 0 | T44: 0 | U44: 0
B45: 大陸籍(含港澳) | C45: Mainlander | D45: 8 | E45: 23 | F45: 453387 | G45: 8 | H45: 23 | I45: 453387 | J45: 0 | K45: 0 | L45: 0 | M45: 0 | N45: 0 | O45: 0 | P45: 0 | Q45: 0 | R45: 0 | S45: 0 | T45: 0 | U45: 0
B46: 外國籍 | C46: Foreigner | D46: 7 | E46: 21 | F46: 412629 | G46: 7 | H46: 21 | I46: 412629 | J46: 0 | K46: 0 | L46: 0 | M46: 0 | N46: 0 | O46: 0 | P46: 0 | Q46: 0 | R46: 0 | S46: 0 | T46: 0 | U46: 0
A47: 桃園市 | C47: Taoyuan City | D47: 963 | E47: 9644 | F47: 29708158 | G47: 153 | H47: 246 | I47: 3934250 | J47: 0 | K47: 0 | L47: 0 | M47: 0 | N47: 0 | O47: 0 | P47: 807 | Q47: 9364 | R47: 25722908 | S47: 3 | T47: 34 | U47: 51000
A48: 男 Male | B48: 計 | C48: Subtotal | D48: 99 | E48: 1160 | F48: 3226210 | G48: 2 | H48: 3 | I48: 47931 | J48: 0 | K48: 0 | L48: 0 | M48: 0 | N48: 0 | O48: 0 | P48: 97 | Q48: 1157 | R48: 3178279 | S48: 0 | T48: 0 | U48: 0
B49: 本國籍 | C49: National | D49: 99 | E49: 1160 | F49: 3226210 | G49: 2 | H49: 3 | I49: 47931 | J49: 0 | K49: 0 | L49: 0 | M49: 0 | N49: 0 | O49: 0 | P49: 97 | Q49: 1157 | R49: 3178279 | S49: 0 | T49: 0 | U49: 0
B50: 一般民眾 | C50: General | D50: 91 | E50: 1072 | F50: 2971244 | G50: 1 | H50: 2 | I50: 31954 | J50: 0 | K50: 0 | L50: 0 | M50: 0 | N50: 0 | O50: 0 | P50: 90 | Q50: 1070 | R50: 2939290 | S50: 0 | T50: 0 | U50: 0
B51: 原住民 | C51: Abrigines | D51: 8 | E51: 88 | F51: 254966 | G51: 1 | H51: 1 | I51: 15977 | J51: 0 | K51: 0 | L51: 0 | M51: 0 | N51: 0 | O51: 0 | P51: 7 | Q51: 87 | R51: 238989 | S51: 0 | T51: 0 | U51: 0
B52: 大陸籍(含港澳) | C52: Mainlander | D52: 0 | E52: 0 | F52: 0 | G52: 0 | H52: 0 | I52: 0 | J52: 0 | K52: 0 | L52: 0 | M52: 0 | N52: 0 | O52: 0 | P52: 0 | Q52: 0 | R52: 0 | S52: 0 | T52: 0 | U52: 0
B53: 外國籍 | C53: Foreigner | D53: 0 | E53: 0 | F53: 0 | G53: 0 | H53: 0 | I53: 0 | J53: 0 | K53: 0 | L53: 0 | M53: 0 | N53: 0 | O53: 0 | P53: 0 | Q53: 0 | R53: 0 | S53: 0 | T53: 0 | U53: 0
A54: 女 Female | B54: 計 | C54: Subtotal | D54: 864 | E54: 8484 | F54: 26481948 | G54: 151 | H54: 243 | I54: 3886319 | J54: 0 | K54: 0 | L54: 0 | M54: 0 | N54: 0 | O54: 0 | P54: 710 | Q54: 8207 | R54: 22544629 | S54: 3 | T54: 34 | U54: 51000
B55: 本國籍 | C55: National | D55: 857 | E55: 8368 | F55: 26136836 | G55: 150 | H55: 241 | I55: 3854365 | J55: 0 | K55: 0 | L55: 0 | M55: 0 | N55: 0 | O55: 0 | P55: 704 | Q55: 8093 | R55: 22231471 | S55: 3 | T55: 34 | U55: 51000
B56: 一般民眾 | C56: General | D56: 795 | E56: 7924 | F56: 24540003 | G56: 129 | H56: 212 | I56: 3390055 | J56: 0 | K56: 0 | L56: 0 | M56: 0 | N56: 0 | O56: 0 | P56: 663 | Q56: 7684 | R56: 21107948 | S56: 3 | T56: 28 | U56: 42000
B57: 原住民 | C57: Abrigines | D57: 62 | E57: 444 | F57: 1596833 | G57: 21 | H57: 29 | I57: 464310 | J57: 0 | K57: 0 | L57: 0 | M57: 0 | N57: 0 | O57: 0 | P57: 41 | Q57: 409 | R57: 1123523 | S57: 0 | T57: 6 | U57: 9000
B58: 大陸籍(含港澳) | C58: Mainlander | D58: 6 | E58: 79 | F58: 217013 | G58: 0 | H58: 0 | I58: 0 | J58: 0 | K58: 0 | L58: 0 | M58: 0 | N58: 0 | O58: 0 | P58: 6 | Q58: 79 | R58: 217013 | S58: 0 | T58: 0 | U58: 0
B59: 外國籍 | C59: Foreigner | D59: 1 | E59: 37 | F59: 128099 | G59: 1 | H59: 2 | I59: 31954 | J59: 0 | K59: 0 | L59: 0 | M59: 0 | N59: 0 | O59: 0 | P59: 0 | Q59: 35 | R59: 96145 | S59: 0 | T59: 0 | U59: 0
A60: 臺中市 | C60: Taichung City | D60: 2496 | E60: 22317 | F60: 81839146 | G60: 633 | H60: 1911 | I60: 25979347 | J60: 2 | K60: 2 | L60: 174367 | M60: 17 | N60: 17 | O60: 805000 | P60: 1821 | Q60: 20286 | R60: 54728932 | S60: 23 | T60: 101 | U60: 151500
A61: 男 Male | B61: 計 | C61: Subtotal | D61: 292 | E61: 2432 | F61: 9387555 | G61: 80 | H61: 243 | I61: 3597526 | J61: 0 | K61: 0 | L61: 0 | M61: 0 | N61: 0 | O61: 0 | P61: 210 | Q61: 2177 | R61: 5772029 | S61: 2 | T61: 12 | U61: 18000
B62: 本國籍 | C62: National | D62: 284 | E62: 2356 | F62: 9101598 | G62: 78 | H62: 237 | I62: 3503859 | J62: 0 | K62: 0 | L62: 0 | M62: 0 | N62: 0 | O62: 0 | P62: 204 | Q62: 2107 | R62: 5579739 | S62: 2 | T62: 12 | U62: 18000
B63: 一般民眾 | C63: General | D63: 269 | E63: 2235 | F63: 8556263 | G63: 72 | H63: 219 | I63: 3241465 | J63: 0 | K63: 0 | L63: 0 | M63: 0 | N63: 0 | O63: 0 | P63: 195 | Q63: 2004 | R63: 5296798 | S63: 2 | T63: 12 | U63: 18000
B64: 原住民 | C64: Abrigines | D64: 15 | E64: 121 | F64: 545335 | G64: 6 | H64: 18 | I64: 262394 | J64: 0 | K64: 0 | L64: 0 | M64: 0 | N64: 0 | O64: 0 | P64: 9 | Q64: 103 | R64: 282941 | S64: 0 | T64: 0 | U64: 0
B65: 大陸籍(含港澳) | C65: Mainlander | D65: 4 | E65: 34 | F65: 170583 | G65: 2 | H65: 6 | I65: 93667 | J65: 0 | K65: 0 | L65: 0 | M65: 0 | N65: 0 | O65: 0 | P65: 2 | Q65: 28 | R65: 76916 | S65: 0 | T65: 0 | U65: 0
B66: 外國籍 | C66: Foreigner | D66: 4 | E66: 42 | F66: 115374 | G66: 0 | H66: 0 | I66: 0 | J66: 0 | K66: 0 | L66: 0 | M66: 0 | N66: 0 | O66: 0 | P66: 4 | Q66: 42 | R66: 115374 | S66: 0 | T66: 0 | U66: 0
A67: 女 Female | B67: 計 | C67: Subtotal | D67: 2204 | E67: 19885 | F67: 72451591 | G67: 553 | H67: 1668 | I67: 22381821 | J67: 2 | K67: 2 | L67: 174367 | M67: 17 | N67: 17 | O67: 805000 | P67: 1611 | Q67: 18109 | R67: 48956903 | S67: 21 | T67: 89 | U67: 133500
B68: 本國籍 | C68: National | D68: 2179 | E68: 19600 | F68: 71411279 | G68: 546 | H68: 1647 | I68: 22055943 | J68: 2 | K68: 2 | L68: 174367 | M68: 17 | N68: 17 | O68: 805000 | P68: 1593 | Q68: 17845 | R68: 48242469 | S68: 21 | T68: 89 | U68: 133500
B69: 一般民眾 | C69: General | D69: 2030 | E69: 18255 | F69: 66535576 | G69: 508 | H69: 1533 | I69: 20513689 | J69: 2 | K69: 2 | L69: 174367 | M69: 17 | N69: 17 | O69: 805000 | P69: 1482 | Q69: 16617 | R69: 44913520 | S69: 21 | T69: 86 | U69: 129000
B70: 原住民 | C70: Abrigines | D70: 149 | E70: 1345 | F70: 4875703 | G70: 38 | H70: 114 | I70: 1542254 | J70: 0 | K70: 0 | L70: 0 | M70: 0 | N70: 0 | O70: 0 | P70: 111 | Q70: 1228 | R70: 3328949 | S70: 0 | T70: 3 | U70: 4500
B71: 大陸籍(含港澳) | C71: Mainlander | D71: 11 | E71: 135 | F71: 513323 | G71: 4 | H71: 12 | I71: 186216 | J71: 0 | K71: 0 | L71: 0 | M71: 0 | N71: 0 | O71: 0 | P71: 7 | Q71: 123 | R71: 327107 | S71: 0 | T71: 0 | U71: 0
B72: 外國籍 | C72: Foreigner | D72: 14 | E72: 150 | F72: 526989 | G72: 3 | H72: 9 | I72: 139662 | J72: 0 | K72: 0 | L72: 0 | M72: 0 | N72: 0 | O72: 0 | P72: 11 | Q72: 141 | R72: 387327 | S72: 0 | T72: 0 | U72: 0
A73: 臺南市 | C73: Tainan City | D73: 726 | E73: 7805 | F73: 23686720 | G73: 75 | H73: 225 | I73: 2864460 | J73: 0 | K73: 0 | L73: 0 | M73: 0 | N73: 0 | O73: 0 | P73: 651 | Q73: 7580 | R73: 20822260 | S73: 0 | T73: 0 | U73: 0
A74: 男 Male | B74: 計 | C74: Subtotal | D74: 94 | E74: 1048 | F74: 2947754 | G74: 2 | H74: 6 | I74: 85380 | J74: 0 | K74: 0 | L74: 0 | M74: 0 | N74: 0 | O74: 0 | P74: 92 | Q74: 1042 | R74: 2862374 | S74: 0 | T74: 0 | U74: 0
B75: 本國籍 | C75: National | D75: 91 | E75: 1009 | F75: 2840621 | G75: 2 | H75: 6 | I75: 85380 | J75: 0 | K75: 0 | L75: 0 | M75: 0 | N75: 0 | O75: 0 | P75: 89 | Q75: 1003 | R75: 2755241 | S75: 0 | T75: 0 | U75: 0
B76: 一般民眾 | C76: General | D76: 90 | E76: 997 | F76: 2807657 | G76: 2 | H76: 6 | I76: 85380 | J76: 0 | K76: 0 | L76: 0 | M76: 0 | N76: 0 | O76: 0 | P76: 88 | Q76: 991 | R76: 2722277 | S76: 0 | T76: 0 | U76: 0
B77: 原住民 | C77: Abrigines | D77: 1 | E77: 12 | F77: 32964 | G77: 0 | H77: 0 | I77: 0 | J77: 0 | K77: 0 | L77: 0 | M77: 0 | N77: 0 | O77: 0 | P77: 1 | Q77: 12 | R77: 32964 | S77: 0 | T77: 0 | U77: 0
B78: 大陸籍(含港澳) | C78: Mainlander | D78: 1 | E78: 15 | F78: 41205 | G78: 0 | H78: 0 | I78: 0 | J78: 0 | K78: 0 | L78: 0 | M78: 0 | N78: 0 | O78: 0 | P78: 1 | Q78: 15 | R78: 41205 | S78: 0 | T78: 0 | U78: 0
B79: 外國籍 | C79: Foreigner | D79: 2 | E79: 24 | F79: 65928 | G79: 0 | H79: 0 | I79: 0 | J79: 0 | K79: 0 | L79: 0 | M79: 0 | N79: 0 | O79: 0 | P79: 2 | Q79: 24 | R79: 65928 | S79: 0 | T79: 0 | U79: 0
A80: 女 Female | B80: 計 | C80: Subtotal | D80: 632 | E80: 6757 | F80: 20738966 | G80: 73 | H80: 219 | I80: 2779080 | J80: 0 | K80: 0 | L80: 0 | M80: 0 | N80: 0 | O80: 0 | P80: 559 | Q80: 6538 | R80: 17959886 | S80: 0 | T80: 0 | U80: 0
B81: 本國籍 | C81: National | D81: 628 | E81: 6697 | F81: 20574146 | G81: 73 | H81: 219 | I81: 2779080 | J81: 0 | K81: 0 | L81: 0 | M81: 0 | N81: 0 | O81: 0 | P81: 555 | Q81: 6478 | R81: 17795066 | S81: 0 | T81: 0 | U81: 0
B82: 一般民眾 | C82: General | D82: 614 | E82: 6575 | F82: 20135665 | G82: 70 | H82: 210 | I82: 2651010 | J82: 0 | K82: 0 | L82: 0 | M82: 0 | N82: 0 | O82: 0 | P82: 544 | Q82: 6365 | R82: 17484655 | S82: 0 | T82: 0 | U82: 0
B83: 原住民 | C83: Abrigines | D83: 14 | E83: 122 | F83: 438481 | G83: 3 | H83: 9 | I83: 128070 | J83: 0 | K83: 0 | L83: 0 | M83: 0 | N83: 0 | O83: 0 | P83: 11 | Q83: 113 | R83: 310411 | S83: 0 | T83: 0 | U83: 0
B84: 大陸籍(含港澳) | C84: Mainlander | D84: 3 | E84: 48 | F84: 131856 | G84: 0 | H84: 0 | I84: 0 | J84: 0 | K84: 0 | L84: 0 | M84: 0 | N84: 0 | O84: 0 | P84: 3 | Q84: 48 | R84: 131856 | S84: 0 | T84: 0 | U84: 0
B85: 外國籍 | C85: Foreigner | D85: 1 | E85: 12 | F85: 32964 | G85: 0 | H85: 0 | I85: 0 | J85: 0 | K85: 0 | L85: 0 | M85: 0 | N85: 0 | O85: 0 | P85: 1 | Q85: 12 | R85: 32964 | S85: 0 | T85: 0 | U85: 0
A86: 高雄市 | C86: Kaohsiung City | D86: 802 | E86: 6426 | F86: 24716176 | G86: 263 | H86: 572 | I86: 8139004 | J86: 14 | K86: 14 | L86: 74724 | M86: 11 | N86: 11 | O86: 525000 | P86: 513 | Q86: 5813 | R86: 15955248 | S86: 1 | T86: 16 | U86: 22200
A87: 男 Male | B87: 計 | C87: Subtotal | D87: 45 | E87: 403 | F87: 1399876 | G87: 11 | H87: 23 | I87: 331637 | J87: 5 | K87: 5 | L87: 38542 | M87: 0 | N87: 0 | O87: 0 | P87: 29 | Q87: 375 | R87: 1029697 | S87: 0 | T87: 0 | U87: 0
B88: 本國籍 | C88: National | D88: 45 | E88: 403 | F88: 1399876 | G88: 11 | H88: 23 | I88: 331637 | J88: 5 | K88: 5 | L88: 38542 | M88: 0 | N88: 0 | O88: 0 | P88: 29 | Q88: 375 | R88: 1029697 | S88: 0 | T88: 0 | U88: 0
B89: 一般民眾 | C89: General | D89: 43 | E89: 377 | F89: 1328454 | G89: 11 | H89: 23 | I89: 331637 | J89: 5 | K89: 5 | L89: 38542 | M89: 0 | N89: 0 | O89: 0 | P89: 27 | Q89: 349 | R89: 958275 | S89: 0 | T89: 0 | U89: 0
B90: 原住民 | C90: Abrigines | D90: 2 | E90: 26 | F90: 71422 | G90: 0 | H90: 0 | I90: 0 | J90: 0 | K90: 0 | L90: 0 | M90: 0 | N90: 0 | O90: 0 | P90: 2 | Q90: 26 | R90: 71422 | S90: 0 | T90: 0 | U90: 0
B91: 大陸籍(含港澳) | C91: Mainlander | D91: 0 | E91: 0 | F91: 0 | G91: 0 | H91: 0 | I91: 0 | J91: 0 | K91: 0 | L91: 0 | M91: 0 | N91: 0 | O91: 0 | P91: 0 | Q91: 0 | R91: 0 | S91: 0 | T91: 0 | U91: 0
B92: 外國籍 | C92: Foreigner | D92: 0 | E92: 0 | F92: 0 | G92: 0 | H92: 0 | I92: 0 | J92: 0 | K92: 0 | L92: 0 | M92: 0 | N92: 0 | O92: 0 | P92: 0 | Q92: 0 | R92: 0 | S92: 0 | T92: 0 | U92: 0
A93: 女 Female | B93: 計 | C93: Subtotal | D93: 757 | E93: 6023 | F93: 23316300 | G93: 252 | H93: 549 | I93: 7807367 | J93: 9 | K93: 9 | L93: 36182 | M93: 11 | N93: 11 | O93: 525000 | P93: 484 | Q93: 5438 | R93: 14925551 | S93: 1 | T93: 16 | U93: 22200
B94: 本國籍 | C94: National | D94: 735 | E94: 5830 | F94: 22653688 | G94: 246 | H94: 539 | I94: 7663177 | J94: 8 | K94: 8 | L94: 17714 | M94: 11 | N94: 11 | O94: 525000 | P94: 469 | Q94: 5256 | R94: 14425597 | S94: 1 | T94: 16 | U94: 22200
B95: 一般民眾 | C95: General | D95: 726 | E95: 5759 | F95: 22330259 | G95: 241 | H95: 528 | I95: 7504568 | J95: 8 | K95: 8 | L95: 17714 | M95: 11 | N95: 11 | O95: 525000 | P95: 465 | Q95: 5196 | R95: 14260777 | S95: 1 | T95: 16 | U95: 22200
B96: 原住民 | C96: Abrigines | D96: 9 | E96: 71 | F96: 323429 | G96: 5 | H96: 11 | I96: 158609 | J96: 0 | K96: 0 | L96: 0 | M96: 0 | N96: 0 | O96: 0 | P96: 4 | Q96: 60 | R96: 164820 | S96: 0 | T96: 0 | U96: 0
B97: 大陸籍(含港澳) | C97: Mainlander | D97: 17 | E97: 163 | F97: 510170 | G97: 3 | H97: 4 | I97: 57676 | J97: 1 | K97: 1 | L97: 18468 | M97: 0 | N97: 0 | O97: 0 | P97: 13 | Q97: 158 | R97: 434026 | S97: 0 | T97: 0 | U97: 0
B98: 外國籍 | C98: Foreigner | D98: 5 | E98: 30 | F98: 152442 | G98: 3 | H98: 6 | I98: 86514 | J98: 0 | K98: 0 | L98: 0 | M98: 0 | N98: 0 | O98: 0 | P98: 2 | Q98: 24 | R98: 65928 | S98: 0 | T98: 0 | U98: 0
A99: 宜蘭縣 | C99: Yilan County | D99: 193 | E99: 2254 | F99: 6301517 | G99: 6 | H99: 10 | I99: 142300 | J99: 1 | K99: 1 | L99: 100 | M99: 0 | N99: 0 | O99: 0 | P99: 186 | Q99: 2243 | R99: 6159117 | S99: 0 | T99: 0 | U99: 0
A100: 男 Male | B100: 計 | C100: Subtotal | D100: 28 | E100: 345 | F100: 947715 | G100: 0 | H100: 0 | I100: 0 | J100: 0 | K100: 0 | L100: 0 | M100: 0 | N100: 0 | O100: 0 | P100: 28 | Q100: 345 | R100: 947715 | S100: 0 | T100: 0 | U100: 0
...

Sheet 112
A1: 特殊境遇家庭扶助服務 Assistance Service for Families in Hardship
A2: 112年 ,2023 | D2: =IF(D8=SUM(D21,D34,D47,D60,D73,D86,D99,D112,D125,D138,D151,D164,D177,D190,D203,D216,D229,D242,D255,D268,D281,D294),"","*") | E2: =IF(E8=SUM(E21,E34,E47,E60,E73,E86,E99,E112,E125,E138,E151,E164,E177,E190,E203,E216,E229,E242,E255,E268,E281,E294),"","*") | F2: =IF(F8=SUM(F21,F34,F47,F60,F73,F86,F99,F112,F125,F138,F151,F164,F177,F190,F203,F216,F229,F242,F255,F268,F281,F294),"","*") | G2: =IF(G8=SUM(G21,G34,G47,G60,G73,G86,G99,G112,G125,G138,G151,G164,G177,G190,G203,G216,G229,G242,G255,G268,G281,G294),"","*") | H2: =IF(H8=SUM(H21,H34,H47,H60,H73,H86,H99,H112,H125,H138,H151,H164,H177,H190,H203,H216,H229,H242,H255,H268,H281,H294),"","*") | I2: =IF(I8=SUM(I21,I34,I47,I60,I73,I86,I99,I112,I125,I138,I151,I164,I177,I190,I203,I216,I229,I242,I255,I268,I281,I294),"","*") | J2: =IF(J8=SUM(J21,J34,J47,J60,J73,J86,J99,J112,J125,J138,J151,J164,J177,J190,J203,J216,J229,J242,J255,J268,J281,J294),"","*") | K2: =IF(K8=SUM(K21,K34,K47,K60,K73,K86,K99,K112,K125,K138,K151,K164,K177,K190,K203,K216,K229,K242,K255,K268,K281,K294),"","*") | ... U2: =IF(U8=SUM(U21,U34,U47,U60,U73,U86,U99,U112,U125,U138,U151,U164,U177,U190,U203,U216,U229,U242,U255,U268,U281,U294),"","*")
A3: 單位：人;人次;金額 | D3: =IF(D8=SUM(D21,D34,D47,D60,D73,D86,D99,D112,D125,D138,D151,D164,D177,D190,D203,D216,D229,D242,D255,D268,D281,D294),"",SUM(D21,D34,D47,D60,D73,D86,D99,D112,D125,D138,D151,D164,D177,D190,D203,D216,D229,D242,D255,D268,D281,D294)) | E3: =IF(E8=SUM(E21,E34,E47,E60,E73,E86,E99,E112,E125,E138,E151,E164,E177,E190,E203,E216,E229,E242,E255,E268,E281,E294),"",SUM(E21,E34,E47,E60,E73,E86,E99,E112,E125,E138,E151,E164,E177,E190,E203,E216,E229,E242,E255,E268,E281,E294)) | F3: =IF(F8=SUM(F21,F34,F47,F60,F73,F86,F99,F112,F125,F138,F151,F164,F177,F190,F203,F216,F229,F242,F255,F268,F281,F294),"",SUM(F21,F34,F47,F60,F73,F86,F99,F112,F125,F138,F151,F164,F177,F190,F203,F216,F229,F242,F255,F268,F281,F294)) | G3: =IF(G8=SUM(G21,G34,G47,G60,G73,G86,G99,G112,G125,G138,G151,G164,G177,G190,G203,G216,G229,G242,G255,G268,G281,G294),"",SUM(G21,G34,G47,G60,G73,G86,G99,G112,G125,G138,G151,G164,G177,G190,G203,G216,G229,G242,G255,G268,G281,G294)) | H3: =IF(H8=SUM(H21,H34,H47,H60,H73,H86,H99,H112,H125,H138,H151,H164,H177,H190,H203,H216,H229,H242,H255,H268,H281,H294),"",SUM(H21,H34,H47,H60,H73,H86,H99,H112,H125,H138,H151,H164,H177,H190,H203,H216,H229,H242,H255,H268,H281,H294)) | I3: =IF(I8=SUM(I21,I34,I47,I60,I73,I86,I99,I112,I125,I138,I151,I164,I177,I190,I203,I216,I229,I242,I255,I268,I281,I294),"",SUM(I21,I34,I47,I60,I73,I86,I99,I112,I125,I138,I151,I164,I177,I190,I203,I216,I229,I242,I255,I268,I281,I294)) | J3: =IF(J8=SUM(J21,J34,J47,J60,J73,J86,J99,J112,J125,J138,J151,J164,J177,J190,J203,J216,J229,J242,J255,J268,J281,J294),"",SUM(J21,J34,J47,J60,J73,J86,J99,J112,J125,J138,J151,J164,J177,J190,J203,J216,J229,J242,J255,J268,J281,J294)) | K3: =IF(K8=SUM(K21,K34,K47,K60,K73,K86,K99,K112,K125,K138,K151,K164,K177,K190,K203,K216,K229,K242,K255,K268,K281,K294),"",SUM(K21,K34,K47,K60,K73,K86,K99,K112,K125,K138,K151,K164,K177,K190,K203,K216,K229,K242,K255,K268,K281,K294)) | ... U3: =IF(U8=SUM(U21,U34,U47,U60,U73,U86,U99,U112,U125,U138,U151,U164,U177,U190,U203,U216,U229,U242,U255,U268,U281,U294),"",SUM(U21,U34,U47,U60,U73,U86,U99,U112,U125,U138,U151,U164,U177,U190,U203,U216,U229,U242,U255,U268,U281,U294))
A4: 地區、性別及設籍別 Locality, Sex & Identity | D4: 總計 | G4: 緊急生活扶助 | J4: 傷病醫療補助 | M4: 法律訴訟補助 | P4: 子女生活津貼 | S4: 兒童托育津貼
D5: Total | G5: Emergency Assistance for Livelihood | J5: Medical Subsidies | M5: Subsidies of Litigation | P5: Children Living Allowance | S5: Children Nursery Allowance
D6: 人數 | E6: 人次 | F6: 金額(元) | G6: 人數 | H6: 人次 | I6: 金額(元) | J6: 人數 | K6: 人次 | L6: 金額(元) | M6: 人數 | N6: 人次 | O6: 金額(元) | P6: 人數 | Q6: 人次 | R6: 金額(元) | S6: 人數 | T6: 人次 | U6: 金額(元)
D7: Persons | E7: Times of Persons | F7: Amount (NT$) | G7: Persons | H7: Times of Persons | I7: Amount (NT$) | J7: Persons | K7: Times of Persons | L7: Amount (NT$) | M7: Persons | N7: Times of Persons | O7: Amount (NT$) | P7: Persons | Q7: Times of Persons | R7: Amount (NT$) | S7: Persons | T7: Times of Persons | U7: Amount (NT$)
A8: 總計 | C8: Total | D8: 14917 | E8: 129100 | F8: 464504731 | G8: 4134 | H8: 10640 | I8: 153089186 | J8: 48 | K8: 50 | L8: 778238 | M8: 44 | N8: 45 | O8: 2150000 | P8: 10593 | Q8: 117615 | R8: 307361954 | S8: 98 | T8: 750 | U8: 1125353
A9: 男 Male | B9: 計 | C9: Subtotal | D9: 1866 | E9: 16750 | F9: 58338800 | G9: 475 | H9: 1280 | I9: 17911430 | J9: 11 | K9: 11 | L9: 341480 | M9: 1 | N9: 1 | O9: 50000 | P9: 1361 | Q9: 15295 | R9: 39799924 | S9: 18 | T9: 163 | U9: 235966
B10: 本國籍 | C10: National | D10: 1818 | E10: 16347 | F10: 56816286 | G10: 455 | H10: 1233 | I10: 17241476 | J10: 11 | K10: 11 | L10: 341480 | M10: 0 | N10: 0 | O10: 0 | P10: 1334 | Q10: 14940 | R10: 38997364 | S10: 18 | T10: 163 | U10: 235966
B11: 一般民眾 | C11: General | D11: 1681 | E11: 14861 | F11: 52327008 | G11: 430 | H11: 1170 | I11: 16386406 | J11: 11 | K11: 11 | L11: 341480 | M11: 0 | N11: 0 | O11: 0 | P11: 1222 | Q11: 13517 | R11: 35363156 | S11: 18 | T11: 163 | U11: 235966
B12: 原住民 | C12: Abrigines | D12: 137 | E12: 1486 | F12: 4489278 | G12: 25 | H12: 63 | I12: 855070 | J12: 0 | K12: 0 | L12: 0 | M12: 0 | N12: 0 | O12: 0 | P12: 112 | Q12: 1423 | R12: 3634208 | S12: 0 | T12: 0 | U12: 0
B13: 大陸籍(含港澳) | C13: Mainlander | D13: 25 | E13: 201 | F13: 737850 | G13: 11 | H13: 23 | I13: 320890 | J13: 0 | K13: 0 | L13: 0 | M13: 1 | N13: 1 | O13: 50000 | P13: 13 | Q13: 177 | R13: 366960 | S13: 0 | T13: 0 | U13: 0
B14: 外國籍 | C14: Foreigner | D14: 23 | E14: 202 | F14: 784664 | G14: 9 | H14: 24 | I14: 349064 | J14: 0 | K14: 0 | L14: 0 | M14: 0 | N14: 0 | O14: 0 | P14: 14 | Q14: 178 | R14: 435600 | S14: 0 | T14: 0 | U14: 0
A15: 女 Female | B15: 計 | C15: Subtotal | D15: 13051 | E15: 112350 | F15: 406165931 | G15: 3659 | H15: 9360 | I15: 135177756 | J15: 37 | K15: 39 | L15: 436758 | M15: 43 | N15: 44 | O15: 2100000 | P15: 9232 | Q15: 102320 | R15: 267562030 | S15: 80 | T15: 587 | U15: 889387
B16: 本國籍 | C16: National | D16: 12863 | E16: 110690 | F16: 400017349 | G16: 3606 | H16: 9228 | I16: 133153178 | J16: 36 | K16: 38 | L16: 319803 | M16: 43 | N16: 44 | O16: 2100000 | P16: 9101 | Q16: 100808 | R16: 263575630 | S16: 77 | T16: 572 | U16: 868738
B17: 一般民眾 | C17: General | D17: 11865 | E17: 102319 | F17: 370537860 | G17: 3321 | H17: 8492 | I17: 123302828 | J17: 33 | K17: 35 | L17: 285569 | M17: 42 | N17: 43 | O17: 2050000 | P17: 8399 | Q17: 93227 | R17: 244097188 | S17: 70 | T17: 522 | U17: 802275
B18: 原住民 | C18: Abrigines | D18: 998 | E18: 8371 | F18: 29479489 | G18: 285 | H18: 736 | I18: 9850350 | J18: 3 | K18: 3 | L18: 34234 | M18: 1 | N18: 1 | O18: 50000 | P18: 702 | Q18: 7581 | R18: 19478442 | S18: 7 | T18: 50 | U18: 66463
B19: 大陸籍(含港澳) | C19: Mainlander | D19: 111 | E19: 929 | F19: 3632863 | G19: 33 | H19: 84 | I19: 1287748 | J19: 1 | K19: 1 | L19: 116955 | M19: 0 | N19: 0 | O19: 0 | P19: 77 | Q19: 844 | R19: 2228160 | S19: 0 | T19: 0 | U19: 0
B20: 外國籍 | C20: Foreigner | D20: 77 | E20: 731 | F20: 2515719 | G20: 20 | H20: 48 | I20: 736830 | J20: 0 | K20: 0 | L20: 0 | M20: 0 | N20: 0 | O20: 0 | P20: 54 | Q20: 668 | R20: 1758240 | S20: 3 | T20: 15 | U20: 20649
A21: 新北市 | C21: New Taipei City | D21: 653 | E21: 1770 | F21: 21540409 | G21: 603 | H21: 1249 | I21: 19854010 | J21: 1 | K21: 1 | L21: 1058 | M21: 7 | N21: 7 | O21: 340000 | P21: 42 | Q21: 513 | R21: 1345341 | S21: 0 | T21: 0 | U21: 0
A22: 男 Male | B22: 計 | C22: Subtotal | D22: 37 | E22: 92 | F22: 1284960 | G22: 34 | H22: 78 | I22: 1248000 | J22: 0 | K22: 0 | L22: 0 | M22: 0 | N22: 0 | O22: 0 | P22: 3 | Q22: 14 | R22: 36960 | S22: 0 | T22: 0 | U22: 0
B23: 本國籍 | C23: National | D23: 37 | E23: 92 | F23: 1284960 | G23: 34 | H23: 78 | I23: 1248000 | J23: 0 | K23: 0 | L23: 0 | M23: 0 | N23: 0 | O23: 0 | P23: 3 | Q23: 14 | R23: 36960 | S23: 0 | T23: 0 | U23: 0
B24: 一般民眾 | C24: General | D24: 37 | E24: 92 | F24: 1284960 | G24: 34 | H24: 78 | I24: 1248000 | J24: 0 | K24: 0 | L24: 0 | M24: 0 | N24: 0 | O24: 0 | P24: 3 | Q24: 14 | R24: 36960 | S24: 0 | T24: 0 | U24: 0
B25: 原住民 | C25: Abrigines | D25: 0 | E25: 0 | F25: 0 | G25: 0 | H25: 0 | I25: 0 | J25: 0 | K25: 0 | L25: 0 | M25: 0 | N25: 0 | O25: 0 | P25: 0 | Q25: 0 | R25: 0 | S25: 0 | T25: 0 | U25: 0
B26: 大陸籍(含港澳) | C26: Mainlander | D26: 0 | E26: 0 | F26: 0 | G26: 0 | H26: 0 | I26: 0 | J26: 0 | K26: 0 | L26: 0 | M26: 0 | N26: 0 | O26: 0 | P26: 0 | Q26: 0 | R26: 0 | S26: 0 | T26: 0 | U26: 0
B27: 外國籍 | C27: Foreigner | D27: 0 | E27: 0 | F27: 0 | G27: 0 | H27: 0 | I27: 0 | J27: 0 | K27: 0 | L27: 0 | M27: 0 | N27: 0 | O27: 0 | P27: 0 | Q27: 0 | R27: 0 | S27: 0 | T27: 0 | U27: 0
A28: 女 Female | B28: 計 | C28: Subtotal | D28: 616 | E28: 1678 | F28: 20255449 | G28: 569 | H28: 1171 | I28: 18606010 | J28: 1 | K28: 1 | L28: 1058 | M28: 7 | N28: 7 | O28: 340000 | P28: 39 | Q28: 499 | R28: 1308381 | S28: 0 | T28: 0 | U28: 0
B29: 本國籍 | C29: National | D29: 610 | E29: 1659 | F29: 20078147 | G29: 564 | H29: 1161 | I29: 18452468 | J29: 1 | K29: 1 | L29: 1058 | M29: 7 | N29: 7 | O29: 340000 | P29: 38 | Q29: 490 | R29: 1284621 | S29: 0 | T29: 0 | U29: 0
B30: 一般民眾 | C30: General | D30: 596 | E30: 1624 | F30: 19598307 | G30: 551 | H30: 1132 | I30: 17988468 | J30: 1 | K30: 1 | L30: 1058 | M30: 7 | N30: 7 | O30: 340000 | P30: 37 | Q30: 484 | R30: 1268781 | S30: 0 | T30: 0 | U30: 0
B31: 原住民 | C31: Abrigines | D31: 14 | E31: 35 | F31: 479840 | G31: 13 | H31: 29 | I31: 464000 | J31: 0 | K31: 0 | L31: 0 | M31: 0 | N31: 0 | O31: 0 | P31: 1 | Q31: 6 | R31: 15840 | S31: 0 | T31: 0 | U31: 0
B32: 大陸籍(含港澳) | C32: Mainlander | D32: 4 | E32: 15 | F32: 113502 | G32: 3 | H32: 6 | I32: 89742 | J32: 0 | K32: 0 | L32: 0 | M32: 0 | N32: 0 | O32: 0 | P32: 1 | Q32: 9 | R32: 23760 | S32: 0 | T32: 0 | U32: 0
B33: 外國籍 | C33: Foreigner | D33: 2 | E33: 4 | F33: 63800 | G33: 2 | H33: 4 | I33: 63800 | J33: 0 | K33: 0 | L33: 0 | M33: 0 | N33: 0 | O33: 0 | P33: 0 | Q33: 0 | R33: 0 | S33: 0 | T33: 0 | U33: 0
A34: 臺北市 | C34: Taipei City | D34: 1636 | E34: 12832 | F34: 61041062 | G34: 605 | H34: 1659 | I34: 30794910 | J34: 17 | K34: 17 | L34: 225417 | M34: 12 | N34: 13 | O34: 650000 | P34: 1002 | Q34: 11143 | R34: 29370735 | S34: 0 | T34: 0 | U34: 0
A35: 男 Male | B35: 計 | C35: Subtotal | D35: 159 | E35: 1122 | F35: 5510356 | G35: 60 | H35: 158 | I35: 2828935 | J35: 3 | K35: 3 | L35: 144381 | M35: 0 | N35: 0 | O35: 0 | P35: 96 | Q35: 961 | R35: 2537040 | S35: 0 | T35: 0 | U35: 0
B36: 本國籍 | C36: National | D36: 159 | E36: 1122 | F36: 5510356 | G36: 60 | H36: 158 | I36: 2828935 | J36: 3 | K36: 3 | L36: 144381 | M36: 0 | N36: 0 | O36: 0 | P36: 96 | Q36: 961 | R36: 2537040 | S36: 0 | T36: 0 | U36: 0
B37: 一般民眾 | C37: General | D37: 159 | E37: 910 | F37: 4950676 | G37: 60 | H37: 158 | I37: 2828935 | J37: 3 | K37: 3 | L37: 144381 | M37: 0 | N37: 0 | O37: 0 | P37: 96 | Q37: 749 | R37: 1977360 | S37: 0 | T37: 0 | U37: 0
B38: 原住民 | C38: Abrigines | D38: 0 | E38: 212 | F38: 559680 | G38: 0 | H38: 0 | I38: 0 | J38: 0 | K38: 0 | L38: 0 | M38: 0 | N38: 0 | O38: 0 | P38: 0 | Q38: 212 | R38: 559680 | S38: 0 | T38: 0 | U38: 0
B39: 大陸籍(含港澳) | C39: Mainlander | D39: 0 | E39: 0 | F39: 0 | G39: 0 | H39: 0 | I39: 0 | J39: 0 | K39: 0 | L39: 0 | M39: 0 | N39: 0 | O39: 0 | P39: 0 | Q39: 0 | R39: 0 | S39: 0 | T39: 0 | U39: 0
B40: 外國籍 | C40: Foreigner | D40: 0 | E40: 0 | F40: 0 | G40: 0 | H40: 0 | I40: 0 | J40: 0 | K40: 0 | L40: 0 | M40: 0 | N40: 0 | O40: 0 | P40: 0 | Q40: 0 | R40: 0 | S40: 0 | T40: 0 | U40: 0
A41: 女 Female | B41: 計 | C41: Subtotal | D41: 1477 | E41: 11710 | F41: 55530706 | G41: 545 | H41: 1501 | I41: 27965975 | J41: 14 | K41: 14 | L41: 81036 | M41: 12 | N41: 13 | O41: 650000 | P41: 906 | Q41: 10182 | R41: 26833695 | S41: 0 | T41: 0 | U41: 0
B42: 本國籍 | C42: National | D42: 1462 | E42: 11669 | F42: 54749265 | G42: 530 | H42: 1460 | I42: 27184534 | J42: 14 | K42: 14 | L42: 81036 | M42: 12 | N42: 13 | O42: 650000 | P42: 906 | Q42: 10182 | R42: 26833695 | S42: 0 | T42: 0 | U42: 0
B43: 一般民眾 | C43: General | D43: 1413 | E43: 11220 | F43: 52946088 | G43: 516 | H43: 1421 | I43: 26463975 | J43: 13 | K43: 13 | L43: 78178 | M43: 12 | N43: 13 | O43: 650000 | P43: 872 | Q43: 9773 | R43: 25753935 | S43: 0 | T43: 0 | U43: 0
B44: 原住民 | C44: Abrigines | D44: 49 | E44: 449 | F44: 1803177 | G44: 14 | H44: 39 | I44: 720559 | J44: 1 | K44: 1 | L44: 2858 | M44: 0 | N44: 0 | O44: 0 | P44: 34 | Q44: 409 | R44: 1079760 | S44: 0 | T44: 0 | U44: 0
B45: 大陸籍(含港澳) | C45: Mainlander | D45: 13 | E45: 35 | F45: 666091 | G45: 13 | H45: 35 | I45: 666091 | J45: 0 | K45: 0 | L45: 0 | M45: 0 | N45: 0 | O45: 0 | P45: 0 | Q45: 0 | R45: 0 | S45: 0 | T45: 0 | U45: 0
B46: 外國籍 | C46: Foreigner | D46: 2 | E46: 6 | F46: 115350 | G46: 2 | H46: 6 | I46: 115350 | J46: 0 | K46: 0 | L46: 0 | M46: 0 | N46: 0 | O46: 0 | P46: 0 | Q46: 0 | R46: 0 | S46: 0 | T46: 0 | U46: 0
A47: 桃園市 | C47: Taoyuan City | D47: 1097 | E47: 11424 | F47: 33490221 | G47: 163 | H47: 257 | I47: 4094001 | J47: 0 | K47: 0 | L47: 0 | M47: 0 | N47: 0 | O47: 0 | P47: 931 | Q47: 11102 | R47: 29298720 | S47: 3 | T47: 65 | U47: 97500
A48: 男 Male | B48: 計 | C48: Subtotal | D48: 108 | E48: 1262 | F48: 3425039 | G48: 4 | H48: 7 | I48: 111839 | J48: 0 | K48: 0 | L48: 0 | M48: 0 | N48: 0 | O48: 0 | P48: 104 | Q48: 1255 | R48: 3313200 | S48: 0 | T48: 0 | U48: 0
B49: 本國籍 | C49: National | D49: 108 | E49: 1262 | F49: 3425039 | G49: 4 | H49: 7 | I49: 111839 | J49: 0 | K49: 0 | L49: 0 | M49: 0 | N49: 0 | O49: 0 | P49: 104 | Q49: 1255 | R49: 3313200 | S49: 0 | T49: 0 | U49: 0
B50: 一般民眾 | C50: General | D50: 98 | E50: 1144 | F50: 3100182 | G50: 3 | H50: 6 | I50: 95862 | J50: 0 | K50: 0 | L50: 0 | M50: 0 | N50: 0 | O50: 0 | P50: 95 | Q50: 1138 | R50: 3004320 | S50: 0 | T50: 0 | U50: 0
B51: 原住民 | C51: Abrigines | D51: 10 | E51: 118 | F51: 324857 | G51: 1 | H51: 1 | I51: 15977 | J51: 0 | K51: 0 | L51: 0 | M51: 0 | N51: 0 | O51: 0 | P51: 9 | Q51: 117 | R51: 308880 | S51: 0 | T51: 0 | U51: 0
B52: 大陸籍(含港澳) | C52: Mainlander | D52: 0 | E52: 0 | F52: 0 | G52: 0 | H52: 0 | I52: 0 | J52: 0 | K52: 0 | L52: 0 | M52: 0 | N52: 0 | O52: 0 | P52: 0 | Q52: 0 | R52: 0 | S52: 0 | T52: 0 | U52: 0
B53: 外國籍 | C53: Foreigner | D53: 0 | E53: 0 | F53: 0 | G53: 0 | H53: 0 | I53: 0 | J53: 0 | K53: 0 | L53: 0 | M53: 0 | N53: 0 | O53: 0 | P53: 0 | Q53: 0 | R53: 0 | S53: 0 | T53: 0 | U53: 0
A54: 女 Female | B54: 計 | C54: Subtotal | D54: 989 | E54: 10162 | F54: 30065182 | G54: 159 | H54: 250 | I54: 3982162 | J54: 0 | K54: 0 | L54: 0 | M54: 0 | N54: 0 | O54: 0 | P54: 827 | Q54: 9847 | R54: 25985520 | S54: 3 | T54: 65 | U54: 97500
B55: 本國籍 | C55: National | D55: 966 | E55: 9885 | F55: 29230626 | G55: 156 | H55: 242 | I55: 3854346 | J55: 0 | K55: 0 | L55: 0 | M55: 0 | N55: 0 | O55: 0 | P55: 808 | Q55: 9581 | R55: 25283280 | S55: 2 | T55: 62 | U55: 93000
B56: 一般民眾 | C56: General | D56: 869 | E56: 9042 | F56: 26500940 | G56: 133 | H56: 204 | I56: 3247220 | J56: 0 | K56: 0 | L56: 0 | M56: 0 | N56: 0 | O56: 0 | P56: 734 | Q56: 8776 | R56: 23160720 | S56: 2 | T56: 62 | U56: 93000
B57: 原住民 | C57: Abrigines | D57: 97 | E57: 843 | F57: 2729686 | G57: 23 | H57: 38 | I57: 607126 | J57: 0 | K57: 0 | L57: 0 | M57: 0 | N57: 0 | O57: 0 | P57: 74 | Q57: 805 | R57: 2122560 | S57: 0 | T57: 0 | U57: 0
B58: 大陸籍(含港澳) | C58: Mainlander | D58: 15 | E58: 158 | F58: 497142 | G58: 2 | H58: 6 | I58: 95862 | J58: 0 | K58: 0 | L58: 0 | M58: 0 | N58: 0 | O58: 0 | P58: 13 | Q58: 152 | R58: 401280 | S58: 0 | T58: 0 | U58: 0
B59: 外國籍 | C59: Foreigner | D59: 8 | E59: 119 | F59: 337414 | G59: 1 | H59: 2 | I59: 31954 | J59: 0 | K59: 0 | L59: 0 | M59: 0 | N59: 0 | O59: 0 | P59: 6 | Q59: 114 | R59: 300960 | S59: 1 | T59: 3 | U59: 4500
A60: 臺中市 | C60: Taichung City | D60: 2378 | E60: 21263 | F60: 74145790 | G60: 589 | H60: 1767 | I60: 23212419 | J60: 0 | K60: 0 | L60: 0 | M60: 13 | N60: 13 | O60: 640000 | P60: 1761 | Q60: 19423 | R60: 50203371 | S60: 15 | T60: 60 | U60: 90000
A61: 男 Male | B61: 計 | C61: Subtotal | D61: 251 | E61: 2166 | F61: 7982931 | G61: 64 | H61: 192 | I61: 2836267 | J61: 0 | K61: 0 | L61: 0 | M61: 1 | N61: 1 | O61: 50000 | P61: 185 | Q61: 1970 | R61: 5092164 | S61: 1 | T61: 3 | U61: 4500
B62: 本國籍 | C62: National | D62: 238 | E62: 2067 | F62: 7533335 | G62: 60 | H62: 180 | I62: 2650511 | J62: 0 | K62: 0 | L62: 0 | M62: 0 | N62: 0 | O62: 0 | P62: 177 | Q62: 1884 | R62: 4878324 | S62: 1 | T62: 3 | U62: 4500
B63: 一般民眾 | C63: General | D63: 230 | E63: 1989 | F63: 7296839 | G63: 59 | H63: 177 | I63: 2604095 | J63: 0 | K63: 0 | L63: 0 | M63: 0 | N63: 0 | O63: 0 | P63: 170 | Q63: 1809 | R63: 4688244 | S63: 1 | T63: 3 | U63: 4500
B64: 原住民 | C64: Abrigines | D64: 8 | E64: 78 | F64: 236496 | G64: 1 | H64: 3 | I64: 46416 | J64: 0 | K64: 0 | L64: 0 | M64: 0 | N64: 0 | O64: 0 | P64: 7 | Q64: 75 | R64: 190080 | S64: 0 | T64: 0 | U64: 0
B65: 大陸籍(含港澳) | C65: Mainlander | D65: 7 | E65: 39 | F65: 219392 | G65: 2 | H65: 6 | I65: 92832 | J65: 0 | K65: 0 | L65: 0 | M65: 1 | N65: 1 | O65: 50000 | P65: 4 | Q65: 32 | R65: 76560 | S65: 0 | T65: 0 | U65: 0
B66: 外國籍 | C66: Foreigner | D66: 6 | E66: 60 | F66: 230204 | G66: 2 | H66: 6 | I66: 92924 | J66: 0 | K66: 0 | L66: 0 | M66: 0 | N66: 0 | O66: 0 | P66: 4 | Q66: 54 | R66: 137280 | S66: 0 | T66: 0 | U66: 0
A67: 女 Female | B67: 計 | C67: Subtotal | D67: 2127 | E67: 19097 | F67: 66162859 | G67: 525 | H67: 1575 | I67: 20376152 | J67: 0 | K67: 0 | L67: 0 | M67: 12 | N67: 12 | O67: 590000 | P67: 1576 | Q67: 17453 | R67: 45111207 | S67: 14 | T67: 57 | U67: 85500
B68: 本國籍 | C68: National | D68: 2098 | E68: 18820 | F68: 65244379 | G68: 520 | H68: 1560 | I68: 20144072 | J68: 0 | K68: 0 | L68: 0 | M68: 12 | N68: 12 | O68: 590000 | P68: 1552 | Q68: 17191 | R68: 44424807 | S68: 14 | T68: 57 | U68: 85500
B69: 一般民眾 | C69: General | D69: 1948 | E69: 17569 | F69: 61055824 | G69: 485 | H69: 1455 | I69: 18878970 | J69: 0 | K69: 0 | L69: 0 | M69: 12 | N69: 12 | O69: 590000 | P69: 1439 | Q69: 16051 | R69: 41510354 | S69: 12 | T69: 51 | U69: 76500
B70: 原住民 | C70: Abrigines | D70: 150 | E70: 1251 | F70: 4188555 | G70: 35 | H70: 105 | I70: 1265102 | J70: 0 | K70: 0 | L70: 0 | M70: 0 | N70: 0 | O70: 0 | P70: 113 | Q70: 1140 | R70: 2914453 | S70: 2 | T70: 6 | U70: 9000
B71: 大陸籍(含港澳) | C71: Mainlander | D71: 12 | E71: 94 | F71: 325152 | G71: 2 | H71: 6 | I71: 92832 | J71: 0 | K71: 0 | L71: 0 | M71: 0 | N71: 0 | O71: 0 | P71: 10 | Q71: 88 | R71: 232320 | S71: 0 | T71: 0 | U71: 0
B72: 外國籍 | C72: Foreigner | D72: 17 | E72: 183 | F72: 593328 | G72: 3 | H72: 9 | I72: 139248 | J72: 0 | K72: 0 | L72: 0 | M72: 0 | N72: 0 | O72: 0 | P72: 14 | Q72: 174 | R72: 454080 | S72: 0 | T72: 0 | U72: 0
A73: 臺南市 | C73: Tainan City | D73: 793 | E73: 8351 | F73: 24809560 | G73: 86 | H73: 261 | I73: 3412580 | J73: 0 | K73: 0 | L73: 0 | M73: 1 | N73: 1 | O73: 50000 | P73: 706 | Q73: 8082 | R73: 21336480 | S73: 0 | T73: 7 | U73: 10500
A74: 男 Male | B74: 計 | C74: Subtotal | D74: 94 | E74: 1119 | F74: 3048470 | G74: 3 | H74: 9 | I74: 118070 | J74: 0 | K74: 0 | L74: 0 | M74: 0 | N74: 0 | O74: 0 | P74: 91 | Q74: 1110 | R74: 2930400 | S74: 0 | T74: 0 | U74: 0
B75: 本國籍 | C75: National | D75: 90 | E75: 1071 | F75: 2921750 | G75: 3 | H75: 9 | I75: 118070 | J75: 0 | K75: 0 | L75: 0 | M75: 0 | N75: 0 | O75: 0 | P75: 87 | Q75: 1062 | R75: 2803680 | S75: 0 | T75: 0 | U75: 0
B76: 一般民眾 | C76: General | D76: 89 | E76: 1063 | F76: 2900630 | G76: 3 | H76: 9 | I76: 118070 | J76: 0 | K76: 0 | L76: 0 | M76: 0 | N76: 0 | O76: 0 | P76: 86 | Q76: 1054 | R76: 2782560 | S76: 0 | T76: 0 | U76: 0
B77: 原住民 | C77: Abrigines | D77: 1 | E77: 8 | F77: 21120 | G77: 0 | H77: 0 | I77: 0 | J77: 0 | K77: 0 | L77: 0 | M77: 0 | N77: 0 | O77: 0 | P77: 1 | Q77: 8 | R77: 21120 | S77: 0 | T77: 0 | U77: 0
B78: 大陸籍(含港澳) | C78: Mainlander | D78: 2 | E78: 24 | F78: 63360 | G78: 0 | H78: 0 | I78: 0 | J78: 0 | K78: 0 | L78: 0 | M78: 0 | N78: 0 | O78: 0 | P78: 2 | Q78: 24 | R78: 63360 | S78: 0 | T78: 0 | U78: 0
B79: 外國籍 | C79: Foreigner | D79: 2 | E79: 24 | F79: 63360 | G79: 0 | H79: 0 | I79: 0 | J79: 0 | K79: 0 | L79: 0 | M79: 0 | N79: 0 | O79: 0 | P79: 2 | Q79: 24 | R79: 63360 | S79: 0 | T79: 0 | U79: 0
A80: 女 Female | B80: 計 | C80: Subtotal | D80: 699 | E80: 7232 | F80: 21761090 | G80: 83 | H80: 252 | I80: 3294510 | J80: 0 | K80: 0 | L80: 0 | M80: 1 | N80: 1 | O80: 50000 | P80: 615 | Q80: 6972 | R80: 18406080 | S80: 0 | T80: 7 | U80: 10500
B81: 本國籍 | C81: National | D81: 692 | E81: 7160 | F81: 21550470 | G81: 82 | H81: 249 | I81: 3266050 | J81: 0 | K81: 0 | L81: 0 | M81: 1 | N81: 1 | O81: 50000 | P81: 609 | Q81: 6903 | R81: 18223920 | S81: 0 | T81: 7 | U81: 10500
B82: 一般民眾 | C82: General | D82: 680 | E82: 7085 | F82: 21282930 | G82: 80 | H82: 243 | I82: 3180670 | J82: 0 | K82: 0 | L82: 0 | M82: 1 | N82: 1 | O82: 50000 | P82: 599 | Q82: 6834 | R82: 18041760 | S82: 0 | T82: 7 | U82: 10500
B83: 原住民 | C83: Abrigines | D83: 12 | E83: 75 | F83: 267540 | G83: 2 | H83: 6 | I83: 85380 | J83: 0 | K83: 0 | L83: 0 | M83: 0 | N83: 0 | O83: 0 | P83: 10 | Q83: 69 | R83: 182160 | S83: 0 | T83: 0 | U83: 0
B84: 大陸籍(含港澳) | C84: Mainlander | D84: 6 | E84: 59 | F84: 176300 | G84: 1 | H84: 3 | I84: 28460 | J84: 0 | K84: 0 | L84: 0 | M84: 0 | N84: 0 | O84: 0 | P84: 5 | Q84: 56 | R84: 147840 | S84: 0 | T84: 0 | U84: 0
B85: 外國籍 | C85: Foreigner | D85: 1 | E85: 13 | F85: 34320 | G85: 0 | H85: 0 | I85: 0 | J85: 0 | K85: 0 | L85: 0 | M85: 0 | N85: 0 | O85: 0 | P85: 1 | Q85: 13 | R85: 34320 | S85: 0 | T85: 0 | U85: 0
A86: 高雄市 | C86: Kaohsiung City | D86: 844 | E86: 6531 | F86: 24834471 | G86: 293 | H86: 640 | I86: 9181023 | J86: 9 | K86: 9 | L86: 71958 | M86: 4 | N86: 4 | O86: 120000 | P86: 535 | Q86: 5837 | R86: 15404540 | S86: 3 | T86: 41 | U86: 56950
A87: 男 Male | B87: 計 | C87: Subtotal | D87: 54 | E87: 412 | F87: 1570581 | G87: 18 | H87: 42 | I87: 590403 | J87: 2 | K87: 2 | L87: 8658 | M87: 0 | N87: 0 | O87: 0 | P87: 34 | Q87: 368 | R87: 971520 | S87: 0 | T87: 0 | U87: 0
B88: 本國籍 | C88: National | D88: 51 | E88: 400 | F88: 1515343 | G88: 16 | H88: 40 | I88: 561565 | J88: 2 | K88: 2 | L88: 8658 | M88: 0 | N88: 0 | O88: 0 | P88: 33 | Q88: 358 | R88: 945120 | S88: 0 | T88: 0 | U88: 0
B89: 一般民眾 | C89: General | D89: 50 | E89: 397 | F89: 1472086 | G89: 15 | H89: 37 | I89: 518308 | J89: 2 | K89: 2 | L89: 8658 | M89: 0 | N89: 0 | O89: 0 | P89: 33 | Q89: 358 | R89: 945120 | S89: 0 | T89: 0 | U89: 0
B90: 原住民 | C90: Abrigines | D90: 1 | E90: 3 | F90: 43257 | G90: 1 | H90: 3 | I90: 43257 | J90: 0 | K90: 0 | L90: 0 | M90: 0 | N90: 0 | O90: 0 | P90: 0 | Q90: 0 | R90: 0 | S90: 0 | T90: 0 | U90: 0
B91: 大陸籍(含港澳) | C91: Mainlander | D91: 2 | E91: 2 | F91: 28838 | G91: 2 | H91: 2 | I91: 28838 | J91: 0 | K91: 0 | L91: 0 | M91: 0 | N91: 0 | O91: 0 | P91: 0 | Q91: 0 | R91: 0 | S91: 0 | T91: 0 | U91: 0
B92: 外國籍 | C92: Foreigner | D92: 1 | E92: 10 | F92: 26400 | G92: 0 | H92: 0 | I92: 0 | J92: 0 | K92: 0 | L92: 0 | M92: 0 | N92: 0 | O92: 0 | P92: 1 | Q92: 10 | R92: 26400 | S92: 0 | T92: 0 | U92: 0
A93: 女 Female | B93: 計 | C93: Subtotal | D93: 790 | E93: 6119 | F93: 23263890 | G93: 275 | H93: 598 | I93: 8590620 | J93: 7 | K93: 7 | L93: 63300 | M93: 4 | N93: 4 | O93: 120000 | P93: 501 | Q93: 5469 | R93: 14433020 | S93: 3 | T93: 41 | U93: 56950
B94: 本國籍 | C94: National | D94: 754 | E94: 5830 | F94: 22253571 | G94: 264 | H94: 577 | I94: 8287821 | J94: 7 | K94: 7 | L94: 63300 | M94: 4 | N94: 4 | O94: 120000 | P94: 476 | Q94: 5201 | R94: 13725500 | S94: 3 | T94: 41 | U94: 56950
B95: 一般民眾 | C95: General | D95: 734 | E95: 5744 | F95: 21640349 | G95: 250 | H95: 544 | I95: 7811994 | J95: 7 | K95: 7 | L95: 63300 | M95: 4 | N95: 4 | O95: 120000 | P95: 470 | Q95: 5148 | R95: 13588105 | S95: 3 | T95: 41 | U95: 56950
B96: 原住民 | C96: Abrigines | D96: 20 | E96: 86 | F96: 613222 | G96: 14 | H96: 33 | I96: 475827 | J96: 0 | K96: 0 | L96: 0 | M96: 0 | N96: 0 | O96: 0 | P96: 6 | Q96: 53 | R96: 137395 | S96: 0 | T96: 0 | U96: 0
B97: 大陸籍(含港澳) | C97: Mainlander | D97: 27 | E97: 231 | F97: 715851 | G97: 6 | H97: 9 | I97: 129771 | J97: 0 | K97: 0 | L97: 0 | M97: 0 | N97: 0 | O97: 0 | P97: 21 | Q97: 222 | R97: 586080 | S97: 0 | T97: 0 | U97: 0
B98: 外國籍 | C98: Foreigner | D98: 9 | E98: 58 | F98: 294468 | G98: 5 | H98: 12 | I98: 173028 | J98: 0 | K98: 0 | L98: 0 | M98: 0 | N98: 0 | O98: 0 | P98: 4 | Q98: 46 | R98: 121440 | S98: 0 | T98: 0 | U98: 0
A99: 宜蘭縣 | C99: Yilan County | D99: 247 | E99: 2453 | F99: 6579135 | G99: 6 | H99: 10 | I99: 142300 | J99: 3 | K99: 5 | L99: 650 | M99: 0 | N99: 0 | O99: 0 | P99: 238 | Q99: 2438 | R99: 6436185 | S99: 0 | T99: 0 | U99: 0
A100: 男 Male | B100: 計 | C100: Subtotal | D100: 32 | E100: 365 | F100: 963600 | G100: 0 | H100: 0 | I100: 0 | J100: 0 | K100: 0 | L100: 0 | M100: 0 | N100: 0 | O100: 0 | P100: 32 | Q100: 365 | R100: 963600 | S100: 0 | T100: 0 | U100: 0
...

Sheet 111
A1: 特殊境遇家庭扶助服務 Assistance Service for Families in Hardship
A2: 111年 ,2022 | D2: =IF(D8=SUM(D21,D34,D47,D60,D73,D86,D99,D112,D125,D138,D151,D164,D177,D190,D203,D216,D229,D242,D255,D268,D281,D294),"","*") | E2: =IF(E8=SUM(E21,E34,E47,E60,E73,E86,E99,E112,E125,E138,E151,E164,E177,E190,E203,E216,E229,E242,E255,E268,E281,E294),"","*") | F2: =IF(F8=SUM(F21,F34,F47,F60,F73,F86,F99,F112,F125,F138,F151,F164,F177,F190,F203,F216,F229,F242,F255,F268,F281,F294),"","*") | G2: =IF(G8=SUM(G21,G34,G47,G60,G73,G86,G99,G112,G125,G138,G151,G164,G177,G190,G203,G216,G229,G242,G255,G268,G281,G294),"","*") | H2: =IF(H8=SUM(H21,H34,H47,H60,H73,H86,H99,H112,H125,H138,H151,H164,H177,H190,H203,H216,H229,H242,H255,H268,H281,H294),"","*") | I2: =IF(I8=SUM(I21,I34,I47,I60,I73,I86,I99,I112,I125,I138,I151,I164,I177,I190,I203,I216,I229,I242,I255,I268,I281,I294),"","*") | J2: =IF(J8=SUM(J21,J34,J47,J60,J73,J86,J99,J112,J125,J138,J151,J164,J177,J190,J203,J216,J229,J242,J255,J268,J281,J294),"","*") | K2: =IF(K8=SUM(K21,K34,K47,K60,K73,K86,K99,K112,K125,K138,K151,K164,K177,K190,K203,K216,K229,K242,K255,K268,K281,K294),"","*") | ... U2: =IF(U8=SUM(U21,U34,U47,U60,U73,U86,U99,U112,U125,U138,U151,U164,U177,U190,U203,U216,U229,U242,U255,U268,U281,U294),"","*")
A3: 單位：人;人次;金額 | D3: =IF(D8=SUM(D21,D34,D47,D60,D73,D86,D99,D112,D125,D138,D151,D164,D177,D190,D203,D216,D229,D242,D255,D268,D281,D294),"",SUM(D21,D34,D47,D60,D73,D86,D99,D112,D125,D138,D151,D164,D177,D190,D203,D216,D229,D242,D255,D268,D281,D294)) | E3: =IF(E8=SUM(E21,E34,E47,E60,E73,E86,E99,E112,E125,E138,E151,E164,E177,E190,E203,E216,E229,E242,E255,E268,E281,E294),"",SUM(E21,E34,E47,E60,E73,E86,E99,E112,E125,E138,E151,E164,E177,E190,E203,E216,E229,E242,E255,E268,E281,E294)) | F3: =IF(F8=SUM(F21,F34,F47,F60,F73,F86,F99,F112,F125,F138,F151,F164,F177,F190,F203,F216,F229,F242,F255,F268,F281,F294),"",SUM(F21,F34,F47,F60,F73,F86,F99,F112,F125,F138,F151,F164,F177,F190,F203,F216,F229,F242,F255,F268,F281,F294)) | G3: =IF(G8=SUM(G21,G34,G47,G60,G73,G86,G99,G112,G125,G138,G151,G164,G177,G190,G203,G216,G229,G242,G255,G268,G281,G294),"",SUM(G21,G34,G47,G60,G73,G86,G99,G112,G125,G138,G151,G164,G177,G190,G203,G216,G229,G242,G255,G268,G281,G294)) | H3: =IF(H8=SUM(H21,H34,H47,H60,H73,H86,H99,H112,H125,H138,H151,H164,H177,H190,H203,H216,H229,H242,H255,H268,H281,H294),"",SUM(H21,H34,H47,H60,H73,H86,H99,H112,H125,H138,H151,H164,H177,H190,H203,H216,H229,H242,H255,H268,H281,H294)) | I3: =IF(I8=SUM(I21,I34,I47,I60,I73,I86,I99,I112,I125,I138,I151,I164,I177,I190,I203,I216,I229,I242,I255,I268,I281,I294),"",SUM(I21,I34,I47,I60,I73,I86,I99,I112,I125,I138,I151,I164,I177,I190,I203,I216,I229,I242,I255,I268,I281,I294)) | J3: =IF(J8=SUM(J21,J34,J47,J60,J73,J86,J99,J112,J125,J138,J151,J164,J177,J190,J203,J216,J229,J242,J255,J268,J281,J294),"",SUM(J21,J34,J47,J60,J73,J86,J99,J112,J125,J138,J151,J164,J177,J190,J203,J216,J229,J242,J255,J268,J281,J294)) | K3: =IF(K8=SUM(K21,K34,K47,K60,K73,K86,K99,K112,K125,K138,K151,K164,K177,K190,K203,K216,K229,K242,K255,K268,K281,K294),"",SUM(K21,K34,K47,K60,K73,K86,K99,K112,K125,K138,K151,K164,K177,K190,K203,K216,K229,K242,K255,K268,K281,K294)) | ... U3: =IF(U8=SUM(U21,U34,U47,U60,U73,U86,U99,U112,U125,U138,U151,U164,U177,U190,U203,U216,U229,U242,U255,U268,U281,U294),"",SUM(U21,U34,U47,U60,U73,U86,U99,U112,U125,U138,U151,U164,U177,U190,U203,U216,U229,U242,U255,U268,U281,U294))
A4: 地區、性別及設籍別 Locality, Sex & Identity | D4: 總計 | G4: 緊急生活扶助 | J4: 傷病醫療補助 | M4: 法律訴訟補助 | P4: 子女生活津貼 | S4: 兒童托育津貼
D5: Total | G5: Emergency Assistance for Livelihood | J5: Medical Subsidies | M5: Subsidies of Litigation | P5: Children Living Allowance | S5: Children Nursery Allowance
D6: 人數 | E6: 人次 | F6: 金額(元) | G6: 人數 | H6: 人次 | I6: 金額(元) | J6: 人數 | K6: 人次 | L6: 金額(元) | M6: 人數 | N6: 人次 | O6: 金額(元) | P6: 人數 | Q6: 人次 | R6: 金額(元) | S6: 人數 | T6: 人次 | U6: 金額(元)
D7: Persons | E7: Times of Persons | F7: Amount (NT$) | G7: Persons | H7: Times of Persons | I7: Amount (NT$) | J7: Persons | K7: Times of Persons | L7: Amount (NT$) | M7: Persons | N7: Times of Persons | O7: Amount (NT$) | P7: Persons | Q7: Times of Persons | R7: Amount (NT$) | S7: Persons | T7: Times of Persons | U7: Amount (NT$)
A8: 總計 | C8: Total | D8: 14533 | E8: 128980 | F8: 449257857 | G8: 3943 | H8: 10507 | I8: 149882474 | J8: 51 | K8: 52 | L8: 879706 | M8: 46 | N8: 46 | O8: 2110000 | P8: 10410 | Q8: 117646 | R8: 295328757 | S8: 83 | T8: 729 | U8: 1056920
A9: 男 Male | B9: 計 | C9: Subtotal | D9: 2429 | E9: 23142 | F9: 72340214 | G9: 443 | H9: 1177 | I9: 16933525 | J9: 4 | K9: 4 | L9: 203596 | M9: 4 | N9: 4 | O9: 165000 | P9: 1961 | Q9: 21771 | R9: 54779959 | S9: 17 | T9: 186 | U9: 258134
B10: 本國籍 | C10: National | D10: 2385 | E10: 22819 | F10: 70999815 | G10: 426 | H10: 1130 | I10: 16290026 | J10: 4 | K10: 4 | L10: 203596 | M10: 4 | N10: 4 | O10: 165000 | P10: 1934 | Q10: 21495 | R10: 54083059 | S10: 17 | T10: 186 | U10: 258134
B11: 一般民眾 | C11: General | D11: 2241 | E11: 21462 | F11: 66757504 | G11: 397 | H11: 1056 | I11: 15254123 | J11: 4 | K11: 4 | L11: 203596 | M11: 4 | N11: 4 | O11: 165000 | P11: 1819 | Q11: 20215 | R11: 50881151 | S11: 17 | T11: 183 | U11: 253634
B12: 原住民 | C12: Abrigines | D12: 144 | E12: 1357 | F12: 4242311 | G12: 29 | H12: 74 | I12: 1035903 | J12: 0 | K12: 0 | L12: 0 | M12: 0 | N12: 0 | O12: 0 | P12: 115 | Q12: 1280 | R12: 3201908 | S12: 0 | T12: 3 | U12: 4500
B13: 大陸籍(含港澳) | C13: Mainlander | D13: 14 | E13: 126 | F13: 482020 | G13: 5 | H13: 14 | I13: 199220 | J13: 0 | K13: 0 | L13: 0 | M13: 0 | N13: 0 | O13: 0 | P13: 9 | Q13: 112 | R13: 282800 | S13: 0 | T13: 0 | U13: 0
B14: 外國籍 | C14: Foreigner | D14: 30 | E14: 197 | F14: 858379 | G14: 12 | H14: 33 | I14: 444279 | J14: 0 | K14: 0 | L14: 0 | M14: 0 | N14: 0 | O14: 0 | P14: 18 | Q14: 164 | R14: 414100 | S14: 0 | T14: 0 | U14: 0
A15: 女 Female | B15: 計 | C15: Subtotal | D15: 12104 | E15: 105838 | F15: 376917643 | G15: 3500 | H15: 9330 | I15: 132948949 | J15: 47 | K15: 48 | L15: 676110 | M15: 42 | N15: 42 | O15: 1945000 | P15: 8449 | Q15: 95875 | R15: 240548798 | S15: 66 | T15: 543 | U15: 798786
B16: 本國籍 | C16: National | D16: 11948 | E16: 104493 | F16: 371797410 | G16: 3444 | H16: 9197 | I16: 130888321 | J16: 45 | K16: 46 | L16: 671755 | M16: 42 | N16: 42 | O16: 1945000 | P16: 8351 | Q16: 94665 | R16: 237493548 | S16: 66 | T16: 543 | U16: 798786
B17: 一般民眾 | C17: General | D17: 11043 | E17: 96963 | F17: 345459610 | G17: 3171 | H17: 8524 | I17: 121644787 | J17: 42 | K17: 43 | L17: 606641 | M17: 42 | N17: 42 | O17: 1945000 | P17: 7728 | Q17: 87842 | R17: 220507944 | S17: 60 | T17: 512 | U17: 755238
B18: 原住民 | C18: Abrigines | D18: 905 | E18: 7530 | F18: 26337800 | G18: 273 | H18: 673 | I18: 9243534 | J18: 3 | K18: 3 | L18: 65114 | M18: 0 | N18: 0 | O18: 0 | P18: 623 | Q18: 6823 | R18: 16985604 | S18: 6 | T18: 31 | U18: 43548
B19: 大陸籍(含港澳) | C19: Mainlander | D19: 84 | E19: 721 | F19: 2894387 | G19: 32 | H19: 79 | I19: 1274032 | J19: 2 | K19: 2 | L19: 4355 | M19: 0 | N19: 0 | O19: 0 | P19: 50 | Q19: 640 | R19: 1616000 | S19: 0 | T19: 0 | U19: 0
B20: 外國籍 | C20: Foreigner | D20: 72 | E20: 624 | F20: 2225846 | G20: 24 | H20: 54 | I20: 786596 | J20: 0 | K20: 0 | L20: 0 | M20: 0 | N20: 0 | O20: 0 | P20: 48 | Q20: 570 | R20: 1439250 | S20: 0 | T20: 0 | U20: 0
A21: 新北市 | C21: New Taipei City | D21: 488 | E21: 1789 | F21: 22102914 | G21: 473 | H21: 1405 | I21: 20706039 | J21: 0 | K21: 0 | L21: 0 | M21: 9 | N21: 9 | O21: 450000 | P21: 6 | Q21: 375 | R21: 946875 | S21: 0 | T21: 0 | U21: 0
A22: 男 Male | B22: 計 | C22: Subtotal | D22: 37 | E22: 122 | F22: 1445391 | G22: 31 | H22: 93 | I22: 1324691 | J22: 0 | K22: 0 | L22: 0 | M22: 1 | N22: 1 | O22: 50000 | P22: 5 | Q22: 28 | R22: 70700 | S22: 0 | T22: 0 | U22: 0
B23: 本國籍 | C23: National | D23: 37 | E23: 122 | F23: 1445391 | G23: 31 | H23: 93 | I23: 1324691 | J23: 0 | K23: 0 | L23: 0 | M23: 1 | N23: 1 | O23: 50000 | P23: 5 | Q23: 28 | R23: 70700 | S23: 0 | T23: 0 | U23: 0
B24: 一般民眾 | C24: General | D24: 32 | E24: 107 | F24: 1226886 | G24: 26 | H24: 78 | I24: 1106186 | J24: 0 | K24: 0 | L24: 0 | M24: 1 | N24: 1 | O24: 50000 | P24: 5 | Q24: 28 | R24: 70700 | S24: 0 | T24: 0 | U24: 0
B25: 原住民 | C25: Abrigines | D25: 5 | E25: 15 | F25: 218505 | G25: 5 | H25: 15 | I25: 218505 | J25: 0 | K25: 0 | L25: 0 | M25: 0 | N25: 0 | O25: 0 | P25: 0 | Q25: 0 | R25: 0 | S25: 0 | T25: 0 | U25: 0
B26: 大陸籍(含港澳) | C26: Mainlander | D26: 0 | E26: 0 | F26: 0 | G26: 0 | H26: 0 | I26: 0 | J26: 0 | K26: 0 | L26: 0 | M26: 0 | N26: 0 | O26: 0 | P26: 0 | Q26: 0 | R26: 0 | S26: 0 | T26: 0 | U26: 0
B27: 外國籍 | C27: Foreigner | D27: 0 | E27: 0 | F27: 0 | G27: 0 | H27: 0 | I27: 0 | J27: 0 | K27: 0 | L27: 0 | M27: 0 | N27: 0 | O27: 0 | P27: 0 | Q27: 0 | R27: 0 | S27: 0 | T27: 0 | U27: 0
A28: 女 Female | B28: 計 | C28: Subtotal | D28: 451 | E28: 1667 | F28: 20657523 | G28: 442 | H28: 1312 | I28: 19381348 | J28: 0 | K28: 0 | L28: 0 | M28: 8 | N28: 8 | O28: 400000 | P28: 1 | Q28: 347 | R28: 876175 | S28: 0 | T28: 0 | U28: 0
B29: 本國籍 | C29: National | D29: 442 | E29: 1634 | F29: 20222847 | G29: 433 | H29: 1285 | I29: 18961822 | J29: 0 | K29: 0 | L29: 0 | M29: 8 | N29: 8 | O29: 400000 | P29: 1 | Q29: 341 | R29: 861025 | S29: 0 | T29: 0 | U29: 0
B30: 一般民眾 | C30: General | D30: 423 | E30: 1573 | F30: 19407908 | G30: 414 | H30: 1228 | I30: 18156983 | J30: 0 | K30: 0 | L30: 0 | M30: 8 | N30: 8 | O30: 400000 | P30: 1 | Q30: 337 | R30: 850925 | S30: 0 | T30: 0 | U30: 0
B31: 原住民 | C31: Abrigines | D31: 19 | E31: 61 | F31: 814939 | G31: 19 | H31: 57 | I31: 804839 | J31: 0 | K31: 0 | L31: 0 | M31: 0 | N31: 0 | O31: 0 | P31: 0 | Q31: 4 | R31: 10100 | S31: 0 | T31: 0 | U31: 0
B32: 大陸籍(含港澳) | C32: Mainlander | D32: 6 | E32: 24 | F32: 292476 | G32: 6 | H32: 18 | I32: 277326 | J32: 0 | K32: 0 | L32: 0 | M32: 0 | N32: 0 | O32: 0 | P32: 0 | Q32: 6 | R32: 15150 | S32: 0 | T32: 0 | U32: 0
B33: 外國籍 | C33: Foreigner | D33: 3 | E33: 9 | F33: 142200 | G33: 3 | H33: 9 | I33: 142200 | J33: 0 | K33: 0 | L33: 0 | M33: 0 | N33: 0 | O33: 0 | P33: 0 | Q33: 0 | R33: 0 | S33: 0 | T33: 0 | U33: 0
A34: 臺北市 | C34: Taipei City | D34: 1751 | E34: 13020 | F34: 61260038 | G34: 649 | H34: 1765 | I34: 31997213 | J34: 30 | K34: 30 | L34: 559625 | M34: 14 | N34: 14 | O34: 625000 | P34: 1057 | Q34: 11207 | R34: 28073600 | S34: 1 | T34: 4 | U34: 4600
A35: 男 Male | B35: 計 | C35: Subtotal | D35: 166 | E35: 1080 | F35: 5478137 | G35: 68 | H35: 173 | I35: 3062912 | J35: 2 | K35: 2 | L35: 75650 | M35: 2 | N35: 2 | O35: 65000 | P35: 93 | Q35: 899 | R35: 2269975 | S35: 1 | T35: 4 | U35: 4600
B36: 本國籍 | C36: National | D36: 166 | E36: 1080 | F36: 5478137 | G36: 68 | H36: 173 | I36: 3062912 | J36: 2 | K36: 2 | L36: 75650 | M36: 2 | N36: 2 | O36: 65000 | P36: 93 | Q36: 899 | R36: 2269975 | S36: 1 | T36: 4 | U36: 4600
B37: 一般民眾 | C37: General | D37: 166 | E37: 1080 | F37: 5478137 | G37: 68 | H37: 173 | I37: 3062912 | J37: 2 | K37: 2 | L37: 75650 | M37: 2 | N37: 2 | O37: 65000 | P37: 93 | Q37: 899 | R37: 2269975 | S37: 1 | T37: 4 | U37: 4600
B38: 原住民 | C38: Abrigines | D38: 0 | E38: 0 | F38: 0 | G38: 0 | H38: 0 | I38: 0 | J38: 0 | K38: 0 | L38: 0 | M38: 0 | N38: 0 | O38: 0 | P38: 0 | Q38: 0 | R38: 0 | S38: 0 | T38: 0 | U38: 0
B39: 大陸籍(含港澳) | C39: Mainlander | D39: 0 | E39: 0 | F39: 0 | G39: 0 | H39: 0 | I39: 0 | J39: 0 | K39: 0 | L39: 0 | M39: 0 | N39: 0 | O39: 0 | P39: 0 | Q39: 0 | R39: 0 | S39: 0 | T39: 0 | U39: 0
B40: 外國籍 | C40: Foreigner | D40: 0 | E40: 0 | F40: 0 | G40: 0 | H40: 0 | I40: 0 | J40: 0 | K40: 0 | L40: 0 | M40: 0 | N40: 0 | O40: 0 | P40: 0 | Q40: 0 | R40: 0 | S40: 0 | T40: 0 | U40: 0
A41: 女 Female | B41: 計 | C41: Subtotal | D41: 1585 | E41: 11940 | F41: 55781901 | G41: 581 | H41: 1592 | I41: 28934301 | J41: 28 | K41: 28 | L41: 483975 | M41: 12 | N41: 12 | O41: 560000 | P41: 964 | Q41: 10308 | R41: 25803625 | S41: 0 | T41: 0 | U41: 0
B42: 本國籍 | C42: National | D42: 1571 | E42: 11900 | F42: 55073361 | G42: 567 | H42: 1552 | I42: 28225761 | J42: 28 | K42: 28 | L42: 483975 | M42: 12 | N42: 12 | O42: 560000 | P42: 964 | Q42: 10308 | R42: 25803625 | S42: 0 | T42: 0 | U42: 0
B43: 一般民眾 | C43: General | D43: 1506 | E43: 11460 | F43: 53039454 | G43: 545 | H43: 1492 | I43: 27193743 | J43: 25 | K43: 25 | L43: 418861 | M43: 12 | N43: 12 | O43: 560000 | P43: 924 | Q43: 9931 | R43: 24866850 | S43: 0 | T43: 0 | U43: 0
B44: 原住民 | C44: Abrigines | D44: 65 | E44: 440 | F44: 2033907 | G44: 22 | H44: 60 | I44: 1032018 | J44: 3 | K44: 3 | L44: 65114 | M44: 0 | N44: 0 | O44: 0 | P44: 40 | Q44: 377 | R44: 936775 | S44: 0 | T44: 0 | U44: 0
B45: 大陸籍(含港澳) | C45: Mainlander | D45: 14 | E45: 40 | F45: 708540 | G45: 14 | H45: 40 | I45: 708540 | J45: 0 | K45: 0 | L45: 0 | M45: 0 | N45: 0 | O45: 0 | P45: 0 | Q45: 0 | R45: 0 | S45: 0 | T45: 0 | U45: 0
B46: 外國籍 | C46: Foreigner | D46: 0 | E46: 0 | F46: 0 | G46: 0 | H46: 0 | I46: 0 | J46: 0 | K46: 0 | L46: 0 | M46: 0 | N46: 0 | O46: 0 | P46: 0 | Q46: 0 | R46: 0 | S46: 0 | T46: 0 | U46: 0
A47: 桃園市 | C47: Taoyuan City | D47: 1143 | E47: 13003 | F47: 37079506 | G47: 203 | H47: 346 | I47: 5199656 | J47: 0 | K47: 0 | L47: 0 | M47: 1 | N47: 1 | O47: 50000 | P47: 925 | Q47: 12535 | R47: 31648350 | S47: 14 | T47: 121 | U47: 181500
A48: 男 Male | B48: 計 | C48: Subtotal | D48: 499 | E48: 6567 | F48: 16776002 | G48: 11 | H48: 17 | I48: 239777 | J48: 0 | K48: 0 | L48: 0 | M48: 0 | N48: 0 | O48: 0 | P48: 488 | Q48: 6550 | R48: 16536225 | S48: 0 | T48: 0 | U48: 0
B49: 本國籍 | C49: National | D49: 499 | E49: 6567 | F49: 16776002 | G49: 11 | H49: 17 | I49: 239777 | J49: 0 | K49: 0 | L49: 0 | M49: 0 | N49: 0 | O49: 0 | P49: 488 | Q49: 6550 | R49: 16536225 | S49: 0 | T49: 0 | U49: 0
B50: 一般民眾 | C50: General | D50: 478 | E50: 6285 | F50: 16040965 | G50: 10 | H50: 15 | I50: 209215 | J50: 0 | K50: 0 | L50: 0 | M50: 0 | N50: 0 | O50: 0 | P50: 468 | Q50: 6270 | R50: 15831750 | S50: 0 | T50: 0 | U50: 0
B51: 原住民 | C51: Abrigines | D51: 21 | E51: 282 | F51: 735037 | G51: 1 | H51: 2 | I51: 30562 | J51: 0 | K51: 0 | L51: 0 | M51: 0 | N51: 0 | O51: 0 | P51: 20 | Q51: 280 | R51: 704475 | S51: 0 | T51: 0 | U51: 0
B52: 大陸籍(含港澳) | C52: Mainlander | D52: 0 | E52: 0 | F52: 0 | G52: 0 | H52: 0 | I52: 0 | J52: 0 | K52: 0 | L52: 0 | M52: 0 | N52: 0 | O52: 0 | P52: 0 | Q52: 0 | R52: 0 | S52: 0 | T52: 0 | U52: 0
B53: 外國籍 | C53: Foreigner | D53: 0 | E53: 0 | F53: 0 | G53: 0 | H53: 0 | I53: 0 | J53: 0 | K53: 0 | L53: 0 | M53: 0 | N53: 0 | O53: 0 | P53: 0 | Q53: 0 | R53: 0 | S53: 0 | T53: 0 | U53: 0
A54: 女 Female | B54: 計 | C54: Subtotal | D54: 644 | E54: 6436 | F54: 20303504 | G54: 192 | H54: 329 | I54: 4959879 | J54: 0 | K54: 0 | L54: 0 | M54: 1 | N54: 1 | O54: 50000 | P54: 437 | Q54: 5985 | R54: 15112125 | S54: 14 | T54: 121 | U54: 181500
B55: 本國籍 | C55: National | D55: 639 | E55: 6427 | F55: 20185975 | G55: 187 | H55: 320 | I55: 4842350 | J55: 0 | K55: 0 | L55: 0 | M55: 1 | N55: 1 | O55: 50000 | P55: 437 | Q55: 5985 | R55: 15112125 | S55: 14 | T55: 121 | U55: 181500
B56: 一般民眾 | C56: General | D56: 593 | E56: 6157 | F56: 18882256 | G56: 159 | H56: 271 | I56: 4093581 | J56: 0 | K56: 0 | L56: 0 | M56: 1 | N56: 1 | O56: 50000 | P56: 420 | Q56: 5767 | R56: 14561675 | S56: 13 | T56: 118 | U56: 177000
B57: 原住民 | C57: Abrigines | D57: 46 | E57: 270 | F57: 1303719 | G57: 28 | H57: 49 | I57: 748769 | J57: 0 | K57: 0 | L57: 0 | M57: 0 | N57: 0 | O57: 0 | P57: 17 | Q57: 218 | R57: 550450 | S57: 1 | T57: 3 | U57: 4500
B58: 大陸籍(含港澳) | C58: Mainlander | D58: 2 | E58: 3 | F58: 25843 | G58: 2 | H58: 3 | I58: 25843 | J58: 0 | K58: 0 | L58: 0 | M58: 0 | N58: 0 | O58: 0 | P58: 0 | Q58: 0 | R58: 0 | S58: 0 | T58: 0 | U58: 0
B59: 外國籍 | C59: Foreigner | D59: 3 | E59: 6 | F59: 91686 | G59: 3 | H59: 6 | I59: 91686 | J59: 0 | K59: 0 | L59: 0 | M59: 0 | N59: 0 | O59: 0 | P59: 0 | Q59: 0 | R59: 0 | S59: 0 | T59: 0 | U59: 0
A60: 臺中市 | C60: Taichung City | D60: 2136 | E60: 18930 | F60: 63879050 | G60: 532 | H60: 1599 | I60: 20139647 | J60: 1 | K60: 1 | L60: 42349 | M60: 16 | N60: 16 | O60: 760000 | P60: 1583 | Q60: 17302 | R60: 42919054 | S60: 4 | T60: 12 | U60: 18000
A61: 男 Male | B61: 計 | C61: Subtotal | D61: 215 | E61: 1923 | F61: 6699870 | G61: 51 | H61: 153 | I61: 2272133 | J61: 0 | K61: 0 | L61: 0 | M61: 1 | N61: 1 | O61: 50000 | P61: 163 | Q61: 1769 | R61: 4377737 | S61: 0 | T61: 0 | U61: 0
B62: 本國籍 | C62: National | D62: 204 | E62: 1851 | F62: 6401547 | G62: 48 | H62: 144 | I62: 2132885 | J62: 0 | K62: 0 | L62: 0 | M62: 1 | N62: 1 | O62: 50000 | P62: 155 | Q62: 1706 | R62: 4218662 | S62: 0 | T62: 0 | U62: 0
B63: 一般民眾 | C63: General | D63: 197 | E63: 1784 | F63: 6212675 | G63: 47 | H63: 141 | I63: 2096469 | J63: 0 | K63: 0 | L63: 0 | M63: 1 | N63: 1 | O63: 50000 | P63: 149 | Q63: 1642 | R63: 4066206 | S63: 0 | T63: 0 | U63: 0
B64: 原住民 | C64: Abrigines | D64: 7 | E64: 67 | F64: 188872 | G64: 1 | H64: 3 | I64: 36416 | J64: 0 | K64: 0 | L64: 0 | M64: 0 | N64: 0 | O64: 0 | P64: 6 | Q64: 64 | R64: 152456 | S64: 0 | T64: 0 | U64: 0
B65: 大陸籍(含港澳) | C65: Mainlander | D65: 1 | E65: 12 | F65: 30300 | G65: 0 | H65: 0 | I65: 0 | J65: 0 | K65: 0 | L65: 0 | M65: 0 | N65: 0 | O65: 0 | P65: 1 | Q65: 12 | R65: 30300 | S65: 0 | T65: 0 | U65: 0
B66: 外國籍 | C66: Foreigner | D66: 10 | E66: 60 | F66: 268023 | G66: 3 | H66: 9 | I66: 139248 | J66: 0 | K66: 0 | L66: 0 | M66: 0 | N66: 0 | O66: 0 | P66: 7 | Q66: 51 | R66: 128775 | S66: 0 | T66: 0 | U66: 0
A67: 女 Female | B67: 計 | C67: Subtotal | D67: 1921 | E67: 17007 | F67: 57179180 | G67: 481 | H67: 1446 | I67: 17867514 | J67: 1 | K67: 1 | L67: 42349 | M67: 15 | N67: 15 | O67: 710000 | P67: 1420 | Q67: 15533 | R67: 38541317 | S67: 4 | T67: 12 | U67: 18000
B68: 本國籍 | C68: National | D68: 1891 | E68: 16690 | F68: 56200022 | G68: 476 | H68: 1431 | I68: 17650906 | J68: 1 | K68: 1 | L68: 42349 | M68: 15 | N68: 15 | O68: 710000 | P68: 1395 | Q68: 15231 | R68: 37778767 | S68: 4 | T68: 12 | U68: 18000
B69: 一般民眾 | C69: General | D69: 1784 | E69: 15799 | F69: 53273225 | G69: 448 | H69: 1347 | I69: 16683374 | J69: 1 | K69: 1 | L69: 42349 | M69: 15 | N69: 15 | O69: 710000 | P69: 1316 | Q69: 14424 | R69: 35819502 | S69: 4 | T69: 12 | U69: 18000
B70: 原住民 | C70: Abrigines | D70: 107 | E70: 891 | F70: 2926797 | G70: 28 | H70: 84 | I70: 967532 | J70: 0 | K70: 0 | L70: 0 | M70: 0 | N70: 0 | O70: 0 | P70: 79 | Q70: 807 | R70: 1959265 | S70: 0 | T70: 0 | U70: 0
B71: 大陸籍(含港澳) | C71: Mainlander | D71: 11 | E71: 117 | F71: 334266 | G71: 1 | H71: 3 | I71: 46416 | J71: 0 | K71: 0 | L71: 0 | M71: 0 | N71: 0 | O71: 0 | P71: 10 | Q71: 114 | R71: 287850 | S71: 0 | T71: 0 | U71: 0
B72: 外國籍 | C72: Foreigner | D72: 19 | E72: 200 | F72: 644892 | G72: 4 | H72: 12 | I72: 170192 | J72: 0 | K72: 0 | L72: 0 | M72: 0 | N72: 0 | O72: 0 | P72: 15 | Q72: 188 | R72: 474700 | S72: 0 | T72: 0 | U72: 0
A73: 臺南市 | C73: Tainan City | D73: 871 | E73: 8695 | F73: 26562821 | G73: 145 | H73: 438 | I73: 5728046 | J73: 0 | K73: 0 | L73: 0 | M73: 0 | N73: 0 | O73: 0 | P73: 725 | Q73: 8248 | R73: 20821275 | S73: 1 | T73: 9 | U73: 13500
A74: 男 Male | B74: 計 | C74: Subtotal | D74: 120 | E74: 1306 | F74: 3658340 | G74: 12 | H74: 36 | I74: 451590 | J74: 0 | K74: 0 | L74: 0 | M74: 0 | N74: 0 | O74: 0 | P74: 108 | Q74: 1270 | R74: 3206750 | S74: 0 | T74: 0 | U74: 0
B75: 本國籍 | C75: National | D75: 116 | E75: 1265 | F75: 3554815 | G75: 12 | H75: 36 | I75: 451590 | J75: 0 | K75: 0 | L75: 0 | M75: 0 | N75: 0 | O75: 0 | P75: 104 | Q75: 1229 | R75: 3103225 | S75: 0 | T75: 0 | U75: 0
B76: 一般民眾 | C76: General | D76: 115 | E76: 1262 | F76: 3530125 | G76: 11 | H76: 33 | I76: 426900 | J76: 0 | K76: 0 | L76: 0 | M76: 0 | N76: 0 | O76: 0 | P76: 104 | Q76: 1229 | R76: 3103225 | S76: 0 | T76: 0 | U76: 0
B77: 原住民 | C77: Abrigines | D77: 1 | E77: 3 | F77: 24690 | G77: 1 | H77: 3 | I77: 24690 | J77: 0 | K77: 0 | L77: 0 | M77: 0 | N77: 0 | O77: 0 | P77: 0 | Q77: 0 | R77: 0 | S77: 0 | T77: 0 | U77: 0
B78: 大陸籍(含港澳) | C78: Mainlander | D78: 2 | E78: 17 | F78: 42925 | G78: 0 | H78: 0 | I78: 0 | J78: 0 | K78: 0 | L78: 0 | M78: 0 | N78: 0 | O78: 0 | P78: 2 | Q78: 17 | R78: 42925 | S78: 0 | T78: 0 | U78: 0
B79: 外國籍 | C79: Foreigner | D79: 2 | E79: 24 | F79: 60600 | G79: 0 | H79: 0 | I79: 0 | J79: 0 | K79: 0 | L79: 0 | M79: 0 | N79: 0 | O79: 0 | P79: 2 | Q79: 24 | R79: 60600 | S79: 0 | T79: 0 | U79: 0
A80: 女 Female | B80: 計 | C80: Subtotal | D80: 751 | E80: 7389 | F80: 22904481 | G80: 133 | H80: 402 | I80: 5276456 | J80: 0 | K80: 0 | L80: 0 | M80: 0 | N80: 0 | O80: 0 | P80: 617 | Q80: 6978 | R80: 17614525 | S80: 1 | T80: 9 | U80: 13500
B81: 本國籍 | C81: National | D81: 743 | E81: 7291 | F81: 22657031 | G81: 133 | H81: 402 | I81: 5276456 | J81: 0 | K81: 0 | L81: 0 | M81: 0 | N81: 0 | O81: 0 | P81: 609 | Q81: 6880 | R81: 17367075 | S81: 1 | T81: 9 | U81: 13500
B82: 一般民眾 | C82: General | D82: 737 | E82: 7228 | F82: 22497956 | G82: 133 | H82: 402 | I82: 5276456 | J82: 0 | K82: 0 | L82: 0 | M82: 0 | N82: 0 | O82: 0 | P82: 603 | Q82: 6817 | R82: 17208000 | S82: 1 | T82: 9 | U82: 13500
B83: 原住民 | C83: Abrigines | D83: 6 | E83: 63 | F83: 159075 | G83: 0 | H83: 0 | I83: 0 | J83: 0 | K83: 0 | L83: 0 | M83: 0 | N83: 0 | O83: 0 | P83: 6 | Q83: 63 | R83: 159075 | S83: 0 | T83: 0 | U83: 0
B84: 大陸籍(含港澳) | C84: Mainlander | D84: 5 | E84: 60 | F84: 151500 | G84: 0 | H84: 0 | I84: 0 | J84: 0 | K84: 0 | L84: 0 | M84: 0 | N84: 0 | O84: 0 | P84: 5 | Q84: 60 | R84: 151500 | S84: 0 | T84: 0 | U84: 0
B85: 外國籍 | C85: Foreigner | D85: 3 | E85: 38 | F85: 95950 | G85: 0 | H85: 0 | I85: 0 | J85: 0 | K85: 0 | L85: 0 | M85: 0 | N85: 0 | O85: 0 | P85: 3 | Q85: 38 | R85: 95950 | S85: 0 | T85: 0 | U85: 0
A86: 高雄市 | C86: Kaohsiung City | D86: 800 | E86: 6347 | F86: 22244272 | G86: 275 | H86: 530 | I86: 7533289 | J86: 9 | K86: 9 | L86: 34740 | M86: 2 | N86: 2 | O86: 60000 | P86: 514 | Q86: 5774 | R86: 14576675 | S86: 0 | T86: 32 | U86: 39568
A87: 男 Male | B87: 計 | C87: Subtotal | D87: 59 | E87: 440 | F87: 1455926 | G87: 17 | H87: 29 | I87: 418151 | J87: 0 | K87: 0 | L87: 0 | M87: 0 | N87: 0 | O87: 0 | P87: 42 | Q87: 411 | R87: 1037775 | S87: 0 | T87: 0 | U87: 0
B88: 本國籍 | C88: National | D88: 56 | E88: 425 | F88: 1382369 | G88: 15 | H88: 26 | I88: 374894 | J88: 0 | K88: 0 | L88: 0 | M88: 0 | N88: 0 | O88: 0 | P88: 41 | Q88: 399 | R88: 1007475 | S88: 0 | T88: 0 | U88: 0
B89: 一般民眾 | C89: General | D89: 56 | E89: 425 | F89: 1382369 | G89: 15 | H89: 26 | I89: 374894 | J89: 0 | K89: 0 | L89: 0 | M89: 0 | N89: 0 | O89: 0 | P89: 41 | Q89: 399 | R89: 1007475 | S89: 0 | T89: 0 | U89: 0
B90: 原住民 | C90: Abrigines | D90: 0 | E90: 0 | F90: 0 | G90: 0 | H90: 0 | I90: 0 | J90: 0 | K90: 0 | L90: 0 | M90: 0 | N90: 0 | O90: 0 | P90: 0 | Q90: 0 | R90: 0 | S90: 0 | T90: 0 | U90: 0
B91: 大陸籍(含港澳) | C91: Mainlander | D91: 0 | E91: 0 | F91: 0 | G91: 0 | H91: 0 | I91: 0 | J91: 0 | K91: 0 | L91: 0 | M91: 0 | N91: 0 | O91: 0 | P91: 0 | Q91: 0 | R91: 0 | S91: 0 | T91: 0 | U91: 0
B92: 外國籍 | C92: Foreigner | D92: 3 | E92: 15 | F92: 73557 | G92: 2 | H92: 3 | I92: 43257 | J92: 0 | K92: 0 | L92: 0 | M92: 0 | N92: 0 | O92: 0 | P92: 1 | Q92: 12 | R92: 30300 | S92: 0 | T92: 0 | U92: 0
A93: 女 Female | B93: 計 | C93: Subtotal | D93: 741 | E93: 5907 | F93: 20788346 | G93: 258 | H93: 501 | I93: 7115138 | J93: 9 | K93: 9 | L93: 34740 | M93: 2 | N93: 2 | O93: 60000 | P93: 472 | Q93: 5363 | R93: 13538900 | S93: 0 | T93: 32 | U93: 39568
B94: 本國籍 | C94: National | D94: 707 | E94: 5639 | F94: 19886355 | G94: 246 | H94: 482 | I94: 6841177 | J94: 7 | K94: 7 | L94: 30385 | M94: 2 | N94: 2 | O94: 60000 | P94: 452 | Q94: 5116 | R94: 12915225 | S94: 0 | T94: 32 | U94: 39568
B95: 一般民眾 | C95: General | D95: 689 | E95: 5552 | F95: 19333648 | G95: 233 | H95: 454 | I95: 6437445 | J95: 7 | K95: 7 | L95: 30385 | M95: 2 | N95: 2 | O95: 60000 | P95: 447 | Q95: 5057 | R95: 12766250 | S95: 0 | T95: 32 | U95: 39568
B96: 原住民 | C96: Abrigines | D96: 18 | E96: 87 | F96: 552707 | G96: 13 | H96: 28 | I96: 403732 | J96: 0 | K96: 0 | L96: 0 | M96: 0 | N96: 0 | O96: 0 | P96: 5 | Q96: 59 | R96: 148975 | S96: 0 | T96: 0 | U96: 0
B97: 大陸籍(含港澳) | C97: Mainlander | D97: 26 | E97: 221 | F97: 711952 | G97: 8 | H97: 13 | I97: 187447 | J97: 2 | K97: 2 | L97: 4355 | M97: 0 | N97: 0 | O97: 0 | P97: 16 | Q97: 206 | R97: 520150 | S97: 0 | T97: 0 | U97: 0
B98: 外國籍 | C98: Foreigner | D98: 8 | E98: 47 | F98: 190039 | G98: 4 | H98: 6 | I98: 86514 | J98: 0 | K98: 0 | L98: 0 | M98: 0 | N98: 0 | O98: 0 | P98: 4 | Q98: 41 | R98: 103525 | S98: 0 | T98: 0 | U98: 0
A99: 宜蘭縣 | C99: Yilan County | D99: 246 | E99: 2532 | F99: 6660305 | G99: 11 | H99: 20 | I99: 284600 | J99: 1 | K99: 2 | L99: 600 | M99: 1 | N99: 1 | O99: 50000 | P99: 233 | Q99: 2509 | R99: 6325105 | S99: 0 | T99: 0 | U99: 0
A100: 男 Male | B100: 計 | C100: Subtotal | D100: 23 | E100: 322 | F100: 813050 | G100: 0 | H100: 0 | I100: 0 | J100: 0 | K100: 0 | L100: 0 | M100: 0 | N100: 0 | O100: 0 | P100: 23 | Q100: 322 | R100: 813050 | S100: 0 | T100: 0 | U100: 0
...

Sheet 110
A1: 特殊境遇家庭扶助服務 Assistance Service for Families in Hardship
A2: 110年,2021
A3: 單位：人;人次;金額 | D3: =IF(D8=SUM(D21,D34,D47,D60,D73,D86,D99,D112,D125,D138,D151,D164,D177,D190,D203,D216,D229,D242,D255,D268,D281,D294),"",SUM(D21,D34,D47,D60,D73,D86,D99,D112,D125,D138,D151,D164,D177,D190,D203,D216,D229,D242,D255,D268,D281,D294)) | E3: =IF(E8=SUM(E21,E34,E47,E60,E73,E86,E99,E112,E125,E138,E151,E164,E177,E190,E203,E216,E229,E242,E255,E268,E281,E294),"",SUM(E21,E34,E47,E60,E73,E86,E99,E112,E125,E138,E151,E164,E177,E190,E203,E216,E229,E242,E255,E268,E281,E294)) | F3: =IF(F8=SUM(F21,F34,F47,F60,F73,F86,F99,F112,F125,F138,F151,F164,F177,F190,F203,F216,F229,F242,F255,F268,F281,F294),"",SUM(F21,F34,F47,F60,F73,F86,F99,F112,F125,F138,F151,F164,F177,F190,F203,F216,F229,F242,F255,F268,F281,F294)) | G3: =IF(G8=SUM(G21,G34,G47,G60,G73,G86,G99,G112,G125,G138,G151,G164,G177,G190,G203,G216,G229,G242,G255,G268,G281,G294),"",SUM(G21,G34,G47,G60,G73,G86,G99,G112,G125,G138,G151,G164,G177,G190,G203,G216,G229,G242,G255,G268,G281,G294)) | H3: =IF(H8=SUM(H21,H34,H47,H60,H73,H86,H99,H112,H125,H138,H151,H164,H177,H190,H203,H216,H229,H242,H255,H268,H281,H294),"",SUM(H21,H34,H47,H60,H73,H86,H99,H112,H125,H138,H151,H164,H177,H190,H203,H216,H229,H242,H255,H268,H281,H294)) | I3: =IF(I8=SUM(I21,I34,I47,I60,I73,I86,I99,I112,I125,I138,I151,I164,I177,I190,I203,I216,I229,I242,I255,I268,I281,I294),"",SUM(I21,I34,I47,I60,I73,I86,I99,I112,I125,I138,I151,I164,I177,I190,I203,I216,I229,I242,I255,I268,I281,I294)) | J3: =IF(J8=SUM(J21,J34,J47,J60,J73,J86,J99,J112,J125,J138,J151,J164,J177,J190,J203,J216,J229,J242,J255,J268,J281,J294),"",SUM(J21,J34,J47,J60,J73,J86,J99,J112,J125,J138,J151,J164,J177,J190,J203,J216,J229,J242,J255,J268,J281,J294)) | K3: =IF(K8=SUM(K21,K34,K47,K60,K73,K86,K99,K112,K125,K138,K151,K164,K177,K190,K203,K216,K229,K242,K255,K268,K281,K294),"",SUM(K21,K34,K47,K60,K73,K86,K99,K112,K125,K138,K151,K164,K177,K190,K203,K216,K229,K242,K255,K268,K281,K294)) | ... U3: =IF(U8=SUM(U21,U34,U47,U60,U73,U86,U99,U112,U125,U138,U151,U164,U177,U190,U203,U216,U229,U242,U255,U268,U281,U294),"",SUM(U21,U34,U47,U60,U73,U86,U99,U112,U125,U138,U151,U164,U177,U190,U203,U216,U229,U242,U255,U268,U281,U294))
A4: 地區、性別及設籍別 Locality, Sex & Identity | D4: 總計 | G4: 緊急生活扶助 | J4: 傷病醫療補助 | M4: 法律訴訟補助 | P4: 子女生活津貼 | S4: 兒童托育津貼
D5: Total | G5: Emergency Assistance for Livelihood | J5: Medical Subsidies | M5: Subsidies of Litigation | P5: Children Living Allowance | S5: Children Nursery Allowance
D6: 人數 | E6: 人次 | F6: 金額(元) | G6: 人數 | H6: 人次 | I6: 金額(元) | J6: 人數 | K6: 人次 | L6: 金額(元) | M6: 人數 | N6: 人次 | O6: 金額(元) | P6: 人數 | Q6: 人次 | R6: 金額(元) | S6: 人數 | T6: 人次 | U6: 金額(元)
D7: Persons | E7: Times of Persons | F7: Amount (NT$) | G7: Persons | H7: Times of Persons | I7: Amount (NT$) | J7: Persons | K7: Times of Persons | L7: Amount (NT$) | M7: Persons | N7: Times of Persons | O7: Amount (NT$) | P7: Persons | Q7: Times of Persons | R7: Amount (NT$) | S7: Persons | T7: Times of Persons | U7: Amount (NT$)
A8: 總計 | C8: Total | D8: 15628 | E8: 127852 | F8: 445164815 | G8: 4781 | H8: 12517 | I8: 167965949 | J8: 72 | K8: 72 | L8: 623883 | M8: 40 | N8: 44 | O8: 1758000 | P8: 10635 | Q8: 114618 | R8: 273931951 | S8: 100 | T8: 601 | U8: 885032
A9: 男 Male | B9: 計 | C9: Subtotal | D9: 2661 | E9: 24654 | F9: 73591141 | G9: 497 | H9: 1334 | I9: 17777368 | J9: 13 | K9: 13 | L9: 139483 | M9: 0 | N9: 0 | O9: 0 | P9: 2127 | Q9: 23148 | R9: 55435990 | S9: 24 | T9: 159 | U9: 238300
B10: 本國籍 | C10: National | D10: 2595 | E10: 24314 | F10: 71739010 | G10: 459 | H10: 1228 | I10: 16486837 | J10: 13 | K10: 13 | L10: 139483 | M10: 0 | N10: 0 | O10: 0 | P10: 2099 | Q10: 22914 | R10: 54874390 | S10: 24 | T10: 159 | U10: 238300
B11: 一般民眾 | C11: General | D11: 2457 | E11: 22920 | F11: 67513852 | G11: 427 | H11: 1142 | I11: 15388597 | J11: 13 | K11: 13 | L11: 139483 | M11: 0 | N11: 0 | O11: 0 | P11: 1993 | Q11: 21606 | R11: 51747472 | S11: 24 | T11: 159 | U11: 238300
B12: 原住民 | C12: Abrigines | D12: 138 | E12: 1394 | F12: 4225158 | G12: 32 | H12: 86 | I12: 1098240 | J12: 0 | K12: 0 | L12: 0 | M12: 0 | N12: 0 | O12: 0 | P12: 106 | Q12: 1308 | R12: 3126918 | S12: 0 | T12: 0 | U12: 0
B13: 大陸籍(含港澳) | C13: Mainlander | D13: 38 | E13: 205 | F13: 1189168 | G13: 25 | H13: 70 | I13: 865168 | J13: 0 | K13: 0 | L13: 0 | M13: 0 | N13: 0 | O13: 0 | P13: 13 | Q13: 135 | R13: 324000 | S13: 0 | T13: 0 | U13: 0
B14: 外國籍 | C14: Foreigner | D14: 28 | E14: 135 | F14: 662963 | G14: 13 | H14: 36 | I14: 425363 | J14: 0 | K14: 0 | L14: 0 | M14: 0 | N14: 0 | O14: 0 | P14: 15 | Q14: 99 | R14: 237600 | S14: 0 | T14: 0 | U14: 0
A15: 女 Female | B15: 計 | C15: Subtotal | D15: 12967 | E15: 103198 | F15: 371573674 | G15: 4284 | H15: 11183 | I15: 150188581 | J15: 59 | K15: 59 | L15: 484400 | M15: 40 | N15: 44 | O15: 1758000 | P15: 8508 | Q15: 91470 | R15: 218495961 | S15: 76 | T15: 442 | U15: 646732
B16: 本國籍 | C16: National | D16: 12709 | E16: 101582 | F16: 363859677 | G16: 4151 | H16: 10874 | I16: 145625022 | J16: 58 | K16: 58 | L16: 483680 | M16: 39 | N16: 43 | O16: 1728000 | P16: 8385 | Q16: 90165 | R16: 215376243 | S16: 76 | T16: 442 | U16: 646732
B17: 一般民眾 | C17: General | D17: 11813 | E17: 95093 | F17: 340236358 | G17: 3819 | H17: 10037 | I17: 135404625 | J17: 54 | K17: 54 | L17: 442570 | M17: 39 | N17: 43 | O17: 1728000 | P17: 7829 | Q17: 84534 | R17: 202036331 | S17: 72 | T17: 425 | U17: 624832
B18: 原住民 | C18: Abrigines | D18: 896 | E18: 6489 | F18: 23623319 | G18: 332 | H18: 837 | I18: 10220397 | J18: 4 | K18: 4 | L18: 41110 | M18: 0 | N18: 0 | O18: 0 | P18: 556 | Q18: 5631 | R18: 13339912 | S18: 4 | T18: 17 | U18: 21900
B19: 大陸籍(含港澳) | C19: Mainlander | D19: 142 | E19: 891 | F19: 4363481 | G19: 78 | H19: 177 | I19: 2651561 | J19: 1 | K19: 1 | L19: 720 | M19: 0 | N19: 0 | O19: 0 | P19: 63 | Q19: 713 | R19: 1711200 | S19: 0 | T19: 0 | U19: 0
B20: 外國籍 | C20: Foreigner | D20: 116 | E20: 725 | F20: 3350516 | G20: 55 | H20: 132 | I20: 1911998 | J20: 0 | K20: 0 | L20: 0 | M20: 1 | N20: 1 | O20: 30000 | P20: 60 | Q20: 592 | R20: 1408518 | S20: 0 | T20: 0 | U20: 0
A21: 新北市 | C21: New Taipei City | D21: 682 | E21: 2485 | F21: 29114780 | G21: 626 | H21: 1836 | I21: 27311180 | J21: 0 | K21: 0 | L21: 0 | M21: 6 | N21: 10 | O21: 270000 | P21: 50 | Q21: 639 | R21: 1533600 | S21: 0 | T21: 0 | U21: 0
A22: 男 Male | B22: 計 | C22: Subtotal | D22: 36 | E22: 133 | F22: 1544873 | G22: 33 | H22: 99 | I22: 1463273 | J22: 0 | K22: 0 | L22: 0 | M22: 0 | N22: 0 | O22: 0 | P22: 3 | Q22: 34 | R22: 81600 | S22: 0 | T22: 0 | U22: 0
B23: 本國籍 | C23: National | D23: 36 | E23: 133 | F23: 1544873 | G23: 33 | H23: 99 | I23: 1463273 | J23: 0 | K23: 0 | L23: 0 | M23: 0 | N23: 0 | O23: 0 | P23: 3 | Q23: 34 | R23: 81600 | S23: 0 | T23: 0 | U23: 0
B24: 一般民眾 | C24: General | D24: 36 | E24: 133 | F24: 1544873 | G24: 33 | H24: 99 | I24: 1463273 | J24: 0 | K24: 0 | L24: 0 | M24: 0 | N24: 0 | O24: 0 | P24: 3 | Q24: 34 | R24: 81600 | S24: 0 | T24: 0 | U24: 0
B25: 原住民 | C25: Abrigines | D25: 0 | E25: 0 | F25: 0 | G25: 0 | H25: 0 | I25: 0 | J25: 0 | K25: 0 | L25: 0 | M25: 0 | N25: 0 | O25: 0 | P25: 0 | Q25: 0 | R25: 0 | S25: 0 | T25: 0 | U25: 0
B26: 大陸籍(含港澳) | C26: Mainlander | D26: 0 | E26: 0 | F26: 0 | G26: 0 | H26: 0 | I26: 0 | J26: 0 | K26: 0 | L26: 0 | M26: 0 | N26: 0 | O26: 0 | P26: 0 | Q26: 0 | R26: 0 | S26: 0 | T26: 0 | U26: 0
B27: 外國籍 | C27: Foreigner | D27: 0 | E27: 0 | F27: 0 | G27: 0 | H27: 0 | I27: 0 | J27: 0 | K27: 0 | L27: 0 | M27: 0 | N27: 0 | O27: 0 | P27: 0 | Q27: 0 | R27: 0 | S27: 0 | T27: 0 | U27: 0
A28: 女 Female | B28: 計 | C28: Subtotal | D28: 646 | E28: 2352 | F28: 27569907 | G28: 593 | H28: 1737 | I28: 25847907 | J28: 0 | K28: 0 | L28: 0 | M28: 6 | N28: 10 | O28: 270000 | P28: 47 | Q28: 605 | R28: 1452000 | S28: 0 | T28: 0 | U28: 0
B29: 本國籍 | C29: National | D29: 628 | E29: 2291 | F29: 26885580 | G29: 578 | H29: 1694 | I29: 25206780 | J29: 0 | K29: 0 | L29: 0 | M29: 6 | N29: 10 | O29: 270000 | P29: 44 | Q29: 587 | R29: 1408800 | S29: 0 | T29: 0 | U29: 0
B30: 一般民眾 | C30: General | D30: 611 | E30: 2240 | F30: 26174179 | G30: 561 | H30: 1643 | I30: 24495379 | J30: 0 | K30: 0 | L30: 0 | M30: 6 | N30: 10 | O30: 270000 | P30: 44 | Q30: 587 | R30: 1408800 | S30: 0 | T30: 0 | U30: 0
B31: 原住民 | C31: Abrigines | D31: 17 | E31: 51 | F31: 711401 | G31: 17 | H31: 51 | I31: 711401 | J31: 0 | K31: 0 | L31: 0 | M31: 0 | N31: 0 | O31: 0 | P31: 0 | Q31: 0 | R31: 0 | S31: 0 | T31: 0 | U31: 0
B32: 大陸籍(含港澳) | C32: Mainlander | D32: 8 | E32: 31 | F32: 325200 | G32: 7 | H32: 19 | I32: 296400 | J32: 0 | K32: 0 | L32: 0 | M32: 0 | N32: 0 | O32: 0 | P32: 1 | Q32: 12 | R32: 28800 | S32: 0 | T32: 0 | U32: 0
B33: 外國籍 | C33: Foreigner | D33: 10 | E33: 30 | F33: 359127 | G33: 8 | H33: 24 | I33: 344727 | J33: 0 | K33: 0 | L33: 0 | M33: 0 | N33: 0 | O33: 0 | P33: 2 | Q33: 6 | R33: 14400 | S33: 0 | T33: 0 | U33: 0
A34: 臺北市 | C34: Taipei City | D34: 1821 | E34: 12672 | F34: 60317503 | G34: 733 | H34: 1983 | I34: 34189046 | J34: 37 | K34: 37 | L34: 183097 | M34: 8 | N34: 8 | O34: 400000 | P34: 1043 | Q34: 10644 | R34: 25545360 | S34: 0 | T34: 0 | U34: 0
A35: 男 Male | B35: 計 | C35: Subtotal | D35: 163 | E35: 1061 | F35: 5390720 | G35: 74 | H35: 195 | I35: 3272183 | J35: 2 | K35: 2 | L35: 44937 | M35: 0 | N35: 0 | O35: 0 | P35: 87 | Q35: 864 | R35: 2073600 | S35: 0 | T35: 0 | U35: 0
B36: 本國籍 | C36: National | D36: 163 | E36: 1061 | F36: 5390720 | G36: 74 | H36: 195 | I36: 3272183 | J36: 2 | K36: 2 | L36: 44937 | M36: 0 | N36: 0 | O36: 0 | P36: 87 | Q36: 864 | R36: 2073600 | S36: 0 | T36: 0 | U36: 0
B37: 一般民眾 | C37: General | D37: 160 | E37: 1049 | F37: 5270312 | G37: 72 | H37: 189 | I37: 3166175 | J37: 2 | K37: 2 | L37: 44937 | M37: 0 | N37: 0 | O37: 0 | P37: 86 | Q37: 858 | R37: 2059200 | S37: 0 | T37: 0 | U37: 0
B38: 原住民 | C38: Abrigines | D38: 3 | E38: 12 | F38: 120408 | G38: 2 | H38: 6 | I38: 106008 | J38: 0 | K38: 0 | L38: 0 | M38: 0 | N38: 0 | O38: 0 | P38: 1 | Q38: 6 | R38: 14400 | S38: 0 | T38: 0 | U38: 0
B39: 大陸籍(含港澳) | C39: Mainlander | D39: 0 | E39: 0 | F39: 0 | G39: 0 | H39: 0 | I39: 0 | J39: 0 | K39: 0 | L39: 0 | M39: 0 | N39: 0 | O39: 0 | P39: 0 | Q39: 0 | R39: 0 | S39: 0 | T39: 0 | U39: 0
B40: 外國籍 | C40: Foreigner | D40: 0 | E40: 0 | F40: 0 | G40: 0 | H40: 0 | I40: 0 | J40: 0 | K40: 0 | L40: 0 | M40: 0 | N40: 0 | O40: 0 | P40: 0 | Q40: 0 | R40: 0 | S40: 0 | T40: 0 | U40: 0
A41: 女 Female | B41: 計 | C41: Subtotal | D41: 1658 | E41: 11611 | F41: 54926783 | G41: 659 | H41: 1788 | I41: 30916863 | J41: 35 | K41: 35 | L41: 138160 | M41: 8 | N41: 8 | O41: 400000 | P41: 956 | Q41: 9780 | R41: 23471760 | S41: 0 | T41: 0 | U41: 0
B42: 本國籍 | C42: National | D42: 1629 | E42: 11532 | F42: 53532646 | G42: 630 | H42: 1709 | I42: 29522726 | J42: 35 | K42: 35 | L42: 138160 | M42: 8 | N42: 8 | O42: 400000 | P42: 956 | Q42: 9780 | R42: 23471760 | S42: 0 | T42: 0 | U42: 0
B43: 一般民眾 | C43: General | D43: 1584 | E43: 11232 | F43: 52176416 | G43: 615 | H43: 1669 | I43: 28822006 | J43: 31 | K43: 31 | L43: 97050 | M43: 8 | N43: 8 | O43: 400000 | P43: 930 | Q43: 9524 | R43: 22857360 | S43: 0 | T43: 0 | U43: 0
B44: 原住民 | C44: Abrigines | D44: 45 | E44: 300 | F44: 1356230 | G44: 15 | H44: 40 | I44: 700720 | J44: 4 | K44: 4 | L44: 41110 | M44: 0 | N44: 0 | O44: 0 | P44: 26 | Q44: 256 | R44: 614400 | S44: 0 | T44: 0 | U44: 0
B45: 大陸籍(含港澳) | C45: Mainlander | D45: 20 | E45: 54 | F45: 952437 | G45: 20 | H45: 54 | I45: 952437 | J45: 0 | K45: 0 | L45: 0 | M45: 0 | N45: 0 | O45: 0 | P45: 0 | Q45: 0 | R45: 0 | S45: 0 | T45: 0 | U45: 0
B46: 外國籍 | C46: Foreigner | D46: 9 | E46: 25 | F46: 441700 | G46: 9 | H46: 25 | I46: 441700 | J46: 0 | K46: 0 | L46: 0 | M46: 0 | N46: 0 | O46: 0 | P46: 0 | Q46: 0 | R46: 0 | S46: 0 | T46: 0 | U46: 0
A47: 桃園市 | C47: Taoyuan City | D47: 1320 | E47: 12697 | F47: 36373585 | G47: 291 | H47: 466 | I47: 7005665 | J47: 0 | K47: 0 | L47: 0 | M47: 2 | N47: 2 | O47: 100000 | P47: 1015 | Q47: 12157 | R47: 29159920 | S47: 12 | T47: 72 | U47: 108000
A48: 男 Male | B48: 計 | C48: Subtotal | D48: 536 | E48: 6203 | F48: 15180046 | G48: 17 | H48: 26 | I48: 367306 | J48: 0 | K48: 0 | L48: 0 | M48: 0 | N48: 0 | O48: 0 | P48: 519 | Q48: 6177 | R48: 14812740 | S48: 0 | T48: 0 | U48: 0
B49: 本國籍 | C49: National | D49: 536 | E49: 6203 | F49: 15180046 | G49: 17 | H49: 26 | I49: 367306 | J49: 0 | K49: 0 | L49: 0 | M49: 0 | N49: 0 | O49: 0 | P49: 519 | Q49: 6177 | R49: 14812740 | S49: 0 | T49: 0 | U49: 0
B50: 一般民眾 | C50: General | D50: 514 | E50: 5921 | F50: 14451722 | G50: 15 | H50: 22 | I50: 306182 | J50: 0 | K50: 0 | L50: 0 | M50: 0 | N50: 0 | O50: 0 | P50: 499 | Q50: 5899 | R50: 14145540 | S50: 0 | T50: 0 | U50: 0
B51: 原住民 | C51: Abrigines | D51: 22 | E51: 282 | F51: 728324 | G51: 2 | H51: 4 | I51: 61124 | J51: 0 | K51: 0 | L51: 0 | M51: 0 | N51: 0 | O51: 0 | P51: 20 | Q51: 278 | R51: 667200 | S51: 0 | T51: 0 | U51: 0
B52: 大陸籍(含港澳) | C52: Mainlander | D52: 0 | E52: 0 | F52: 0 | G52: 0 | H52: 0 | I52: 0 | J52: 0 | K52: 0 | L52: 0 | M52: 0 | N52: 0 | O52: 0 | P52: 0 | Q52: 0 | R52: 0 | S52: 0 | T52: 0 | U52: 0
B53: 外國籍 | C53: Foreigner | D53: 0 | E53: 0 | F53: 0 | G53: 0 | H53: 0 | I53: 0 | J53: 0 | K53: 0 | L53: 0 | M53: 0 | N53: 0 | O53: 0 | P53: 0 | Q53: 0 | R53: 0 | S53: 0 | T53: 0 | U53: 0
A54: 女 Female | B54: 計 | C54: Subtotal | D54: 784 | E54: 6494 | F54: 21193539 | G54: 274 | H54: 440 | I54: 6638359 | J54: 0 | K54: 0 | L54: 0 | M54: 2 | N54: 2 | O54: 100000 | P54: 496 | Q54: 5980 | R54: 14347180 | S54: 12 | T54: 72 | U54: 108000
B55: 本國籍 | C55: National | D55: 780 | E55: 6488 | F55: 21101853 | G55: 270 | H55: 434 | I55: 6546673 | J55: 0 | K55: 0 | L55: 0 | M55: 2 | N55: 2 | O55: 100000 | P55: 496 | Q55: 5980 | R55: 14347180 | S55: 12 | T55: 72 | U55: 108000
B56: 一般民眾 | C56: General | D56: 731 | E56: 6170 | F56: 19743246 | G56: 242 | H56: 387 | I56: 5838466 | J56: 0 | K56: 0 | L56: 0 | M56: 2 | N56: 2 | O56: 100000 | P56: 475 | Q56: 5709 | R56: 13696780 | S56: 12 | T56: 72 | U56: 108000
B57: 原住民 | C57: Abrigines | D57: 49 | E57: 318 | F57: 1358607 | G57: 28 | H57: 47 | I57: 708207 | J57: 0 | K57: 0 | L57: 0 | M57: 0 | N57: 0 | O57: 0 | P57: 21 | Q57: 271 | R57: 650400 | S57: 0 | T57: 0 | U57: 0
B58: 大陸籍(含港澳) | C58: Mainlander | D58: 1 | E58: 2 | F58: 30562 | G58: 1 | H58: 2 | I58: 30562 | J58: 0 | K58: 0 | L58: 0 | M58: 0 | N58: 0 | O58: 0 | P58: 0 | Q58: 0 | R58: 0 | S58: 0 | T58: 0 | U58: 0
B59: 外國籍 | C59: Foreigner | D59: 3 | E59: 4 | F59: 61124 | G59: 3 | H59: 4 | I59: 61124 | J59: 0 | K59: 0 | L59: 0 | M59: 0 | N59: 0 | O59: 0 | P59: 0 | Q59: 0 | R59: 0 | S59: 0 | T59: 0 | U59: 0
A60: 臺中市 | C60: Taichung City | D60: 2053 | E60: 18059 | F60: 59048471 | G60: 539 | H60: 1617 | I60: 19656691 | J60: 1 | K60: 1 | L60: 11760 | M60: 13 | N60: 13 | O60: 608000 | P60: 1500 | Q60: 16426 | R60: 38769020 | S60: 0 | T60: 2 | U60: 3000
A61: 男 Male | B61: 計 | C61: Subtotal | D61: 190 | E61: 1782 | F61: 5573517 | G61: 39 | H61: 117 | I61: 1628905 | J61: 0 | K61: 0 | L61: 0 | M61: 0 | N61: 0 | O61: 0 | P61: 151 | Q61: 1665 | R61: 3944612 | S61: 0 | T61: 0 | U61: 0
B62: 本國籍 | C62: National | D62: 184 | E62: 1696 | F62: 5330529 | G62: 38 | H62: 114 | I62: 1585117 | J62: 0 | K62: 0 | L62: 0 | M62: 0 | N62: 0 | O62: 0 | P62: 146 | Q62: 1582 | R62: 3745412 | S62: 0 | T62: 0 | U62: 0
B63: 一般民眾 | C63: General | D63: 174 | E63: 1612 | F63: 5011769 | G63: 34 | H63: 102 | I63: 1439157 | J63: 0 | K63: 0 | L63: 0 | M63: 0 | N63: 0 | O63: 0 | P63: 140 | Q63: 1510 | R63: 3572612 | S63: 0 | T63: 0 | U63: 0
B64: 原住民 | C64: Abrigines | D64: 10 | E64: 84 | F64: 318760 | G64: 4 | H64: 12 | I64: 145960 | J64: 0 | K64: 0 | L64: 0 | M64: 0 | N64: 0 | O64: 0 | P64: 6 | Q64: 72 | R64: 172800 | S64: 0 | T64: 0 | U64: 0
B65: 大陸籍(含港澳) | C65: Mainlander | D65: 2 | E65: 50 | F65: 156588 | G65: 1 | H65: 3 | I65: 43788 | J65: 0 | K65: 0 | L65: 0 | M65: 0 | N65: 0 | O65: 0 | P65: 1 | Q65: 47 | R65: 112800 | S65: 0 | T65: 0 | U65: 0
B66: 外國籍 | C66: Foreigner | D66: 4 | E66: 36 | F66: 86400 | G66: 0 | H66: 0 | I66: 0 | J66: 0 | K66: 0 | L66: 0 | M66: 0 | N66: 0 | O66: 0 | P66: 4 | Q66: 36 | R66: 86400 | S66: 0 | T66: 0 | U66: 0
A67: 女 Female | B67: 計 | C67: Subtotal | D67: 1863 | E67: 16277 | F67: 53474954 | G67: 500 | H67: 1500 | I67: 18027786 | J67: 1 | K67: 1 | L67: 11760 | M67: 13 | N67: 13 | O67: 608000 | P67: 1349 | Q67: 14761 | R67: 34824408 | S67: 0 | T67: 2 | U67: 3000
B68: 本國籍 | C68: National | D68: 1825 | E68: 15891 | F68: 52230578 | G68: 491 | H68: 1473 | I68: 17645010 | J68: 1 | K68: 1 | L68: 11760 | M68: 13 | N68: 13 | O68: 608000 | P68: 1320 | Q68: 14402 | R68: 33962808 | S68: 0 | T68: 2 | U68: 3000
B69: 一般民眾 | C69: General | D69: 1725 | E69: 15144 | F69: 49531187 | G69: 455 | H69: 1365 | I69: 16453525 | J69: 1 | K69: 1 | L69: 11760 | M69: 13 | N69: 13 | O69: 608000 | P69: 1256 | Q69: 13763 | R69: 32454902 | S69: 0 | T69: 2 | U69: 3000
B70: 原住民 | C70: Abrigines | D70: 100 | E70: 747 | F70: 2699391 | G70: 36 | H70: 108 | I70: 1191485 | J70: 0 | K70: 0 | L70: 0 | M70: 0 | N70: 0 | O70: 0 | P70: 64 | Q70: 639 | R70: 1507906 | S70: 0 | T70: 0 | U70: 0
B71: 大陸籍(含港澳) | C71: Mainlander | D71: 15 | E71: 157 | F71: 486564 | G71: 3 | H71: 9 | I71: 131364 | J71: 0 | K71: 0 | L71: 0 | M71: 0 | N71: 0 | O71: 0 | P71: 12 | Q71: 148 | R71: 355200 | S71: 0 | T71: 0 | U71: 0
B72: 外國籍 | C72: Foreigner | D72: 23 | E72: 229 | F72: 757812 | G72: 6 | H72: 18 | I72: 251412 | J72: 0 | K72: 0 | L72: 0 | M72: 0 | N72: 0 | O72: 0 | P72: 17 | Q72: 211 | R72: 506400 | S72: 0 | T72: 0 | U72: 0
A73: 臺南市 | C73: Tainan City | D73: 909 | E73: 8968 | F73: 26571973 | G73: 170 | H73: 510 | I73: 6291673 | J73: 0 | K73: 0 | L73: 0 | M73: 0 | N73: 0 | O73: 0 | P73: 737 | Q73: 8437 | R73: 20248800 | S73: 2 | T73: 21 | U73: 31500
A74: 男 Male | B74: 計 | C74: Subtotal | D74: 146 | E74: 1397 | F74: 4019152 | G74: 22 | H74: 66 | I74: 830152 | J74: 0 | K74: 0 | L74: 0 | M74: 0 | N74: 0 | O74: 0 | P74: 124 | Q74: 1325 | R74: 3180000 | S74: 0 | T74: 6 | U74: 9000
B75: 本國籍 | C75: National | D75: 140 | E75: 1370 | F75: 3921640 | G75: 21 | H75: 63 | I75: 790240 | J75: 0 | K75: 0 | L75: 0 | M75: 0 | N75: 0 | O75: 0 | P75: 119 | Q75: 1301 | R75: 3122400 | S75: 0 | T75: 6 | U75: 9000
B76: 一般民眾 | C76: General | D76: 140 | E76: 1370 | F76: 3921640 | G76: 21 | H76: 63 | I76: 790240 | J76: 0 | K76: 0 | L76: 0 | M76: 0 | N76: 0 | O76: 0 | P76: 119 | Q76: 1301 | R76: 3122400 | S76: 0 | T76: 6 | U76: 9000
B77: 原住民 | C77: Abrigines | D77: 0 | E77: 0 | F77: 0 | G77: 0 | H77: 0 | I77: 0 | J77: 0 | K77: 0 | L77: 0 | M77: 0 | N77: 0 | O77: 0 | P77: 0 | Q77: 0 | R77: 0 | S77: 0 | T77: 0 | U77: 0
B78: 大陸籍(含港澳) | C78: Mainlander | D78: 4 | E78: 25 | F78: 92712 | G78: 1 | H78: 3 | I78: 39912 | J78: 0 | K78: 0 | L78: 0 | M78: 0 | N78: 0 | O78: 0 | P78: 3 | Q78: 22 | R78: 52800 | S78: 0 | T78: 0 | U78: 0
B79: 外國籍 | C79: Foreigner | D79: 2 | E79: 2 | F79: 4800 | G79: 0 | H79: 0 | I79: 0 | J79: 0 | K79: 0 | L79: 0 | M79: 0 | N79: 0 | O79: 0 | P79: 2 | Q79: 2 | R79: 4800 | S79: 0 | T79: 0 | U79: 0
A80: 女 Female | B80: 計 | C80: Subtotal | D80: 763 | E80: 7571 | F80: 22552821 | G80: 148 | H80: 444 | I80: 5461521 | J80: 0 | K80: 0 | L80: 0 | M80: 0 | N80: 0 | O80: 0 | P80: 613 | Q80: 7112 | R80: 17068800 | S80: 2 | T80: 15 | U80: 22500
B81: 本國籍 | C81: National | D81: 749 | E81: 7398 | F81: 22104909 | G81: 147 | H81: 441 | I81: 5421609 | J81: 0 | K81: 0 | L81: 0 | M81: 0 | N81: 0 | O81: 0 | P81: 600 | Q81: 6942 | R81: 16660800 | S81: 2 | T81: 15 | U81: 22500
B82: 一般民眾 | C82: General | D82: 740 | E82: 7314 | F82: 21805173 | G82: 144 | H82: 432 | I82: 5301873 | J82: 0 | K82: 0 | L82: 0 | M82: 0 | N82: 0 | O82: 0 | P82: 594 | Q82: 6867 | R82: 16480800 | S82: 2 | T82: 15 | U82: 22500
B83: 原住民 | C83: Abrigines | D83: 9 | E83: 84 | F83: 299736 | G83: 3 | H83: 9 | I83: 119736 | J83: 0 | K83: 0 | L83: 0 | M83: 0 | N83: 0 | O83: 0 | P83: 6 | Q83: 75 | R83: 180000 | S83: 0 | T83: 0 | U83: 0
B84: 大陸籍(含港澳) | C84: Mainlander | D84: 8 | E84: 85 | F84: 236712 | G84: 1 | H84: 3 | I84: 39912 | J84: 0 | K84: 0 | L84: 0 | M84: 0 | N84: 0 | O84: 0 | P84: 7 | Q84: 82 | R84: 196800 | S84: 0 | T84: 0 | U84: 0
B85: 外國籍 | C85: Foreigner | D85: 6 | E85: 88 | F85: 211200 | G85: 0 | H85: 0 | I85: 0 | J85: 0 | K85: 0 | L85: 0 | M85: 0 | N85: 0 | O85: 0 | P85: 6 | Q85: 88 | R85: 211200 | S85: 0 | T85: 0 | U85: 0
A86: 高雄市 | C86: Kaohsiung City | D86: 1015 | E86: 6905 | F86: 24618164 | G86: 401 | H86: 727 | I86: 9513279 | J86: 15 | K86: 15 | L86: 88413 | M86: 9 | N86: 9 | O86: 280000 | P86: 587 | Q86: 6126 | R86: 14699722 | S86: 3 | T86: 28 | U86: 36750
A87: 男 Male | B87: 計 | C87: Subtotal | D87: 62 | E87: 493 | F87: 1541974 | G87: 16 | H87: 34 | I87: 423529 | J87: 4 | K87: 4 | L87: 26445 | M87: 0 | N87: 0 | O87: 0 | P87: 42 | Q87: 455 | R87: 1092000 | S87: 0 | T87: 0 | U87: 0
B88: 本國籍 | C88: National | D88: 61 | E88: 481 | F88: 1513174 | G88: 16 | H88: 34 | I88: 423529 | J88: 4 | K88: 4 | L88: 26445 | M88: 0 | N88: 0 | O88: 0 | P88: 41 | Q88: 443 | R88: 1063200 | S88: 0 | T88: 0 | U88: 0
B89: 一般民眾 | C89: General | D89: 61 | E89: 481 | F89: 1513174 | G89: 16 | H89: 34 | I89: 423529 | J89: 4 | K89: 4 | L89: 26445 | M89: 0 | N89: 0 | O89: 0 | P89: 41 | Q89: 443 | R89: 1063200 | S89: 0 | T89: 0 | U89: 0
B90: 原住民 | C90: Abrigines | D90: 0 | E90: 0 | F90: 0 | G90: 0 | H90: 0 | I90: 0 | J90: 0 | K90: 0 | L90: 0 | M90: 0 | N90: 0 | O90: 0 | P90: 0 | Q90: 0 | R90: 0 | S90: 0 | T90: 0 | U90: 0
B91: 大陸籍(含港澳) | C91: Mainlander | D91: 0 | E91: 0 | F91: 0 | G91: 0 | H91: 0 | I91: 0 | J91: 0 | K91: 0 | L91: 0 | M91: 0 | N91: 0 | O91: 0 | P91: 0 | Q91: 0 | R91: 0 | S91: 0 | T91: 0 | U91: 0
B92: 外國籍 | C92: Foreigner | D92: 1 | E92: 12 | F92: 28800 | G92: 0 | H92: 0 | I92: 0 | J92: 0 | K92: 0 | L92: 0 | M92: 0 | N92: 0 | O92: 0 | P92: 1 | Q92: 12 | R92: 28800 | S92: 0 | T92: 0 | U92: 0
A93: 女 Female | B93: 計 | C93: Subtotal | D93: 953 | E93: 6412 | F93: 23076190 | G93: 385 | H93: 693 | I93: 9089750 | J93: 11 | K93: 11 | L93: 61968 | M93: 9 | N93: 9 | O93: 280000 | P93: 545 | Q93: 5671 | R93: 13607722 | S93: 3 | T93: 28 | U93: 36750
B94: 本國籍 | C94: National | D94: 909 | E94: 6192 | F94: 22204981 | G94: 364 | H94: 664 | I94: 8702861 | J94: 10 | K94: 10 | L94: 61248 | M94: 8 | N94: 8 | O94: 250000 | P94: 524 | Q94: 5482 | R94: 13154122 | S94: 3 | T94: 28 | U94: 36750
B95: 一般民眾 | C95: General | D95: 889 | E95: 6104 | F95: 21742138 | G95: 349 | H95: 641 | I95: 8396018 | J95: 10 | K95: 10 | L95: 61248 | M95: 8 | N95: 8 | O95: 250000 | P95: 519 | Q95: 5417 | R95: 12998122 | S95: 3 | T95: 28 | U95: 36750
B96: 原住民 | C96: Abrigines | D96: 20 | E96: 88 | F96: 462843 | G96: 15 | H96: 23 | I96: 306843 | J96: 0 | K96: 0 | L96: 0 | M96: 0 | N96: 0 | O96: 0 | P96: 5 | Q96: 65 | R96: 156000 | S96: 0 | T96: 0 | U96: 0
B97: 大陸籍(含港澳) | C97: Mainlander | D97: 31 | E97: 173 | F97: 610458 | G97: 13 | H97: 18 | I97: 240138 | J97: 1 | K97: 1 | L97: 720 | M97: 0 | N97: 0 | O97: 0 | P97: 17 | Q97: 154 | R97: 369600 | S97: 0 | T97: 0 | U97: 0
B98: 外國籍 | C98: Foreigner | D98: 13 | E98: 47 | F98: 260751 | G98: 8 | H98: 11 | I98: 146751 | J98: 0 | K98: 0 | L98: 0 | M98: 1 | N98: 1 | O98: 30000 | P98: 4 | Q98: 35 | R98: 84000 | S98: 0 | T98: 0 | U98: 0
A99: 宜蘭縣 | C99: Yilan County | D99: 263 | E99: 2627 | F99: 6545789 | G99: 13 | H99: 23 | I99: 297903 | J99: 0 | K99: 0 | L99: 0 | M99: 0 | N99: 0 | O99: 0 | P99: 250 | Q99: 2604 | R99: 6247886 | S99: 0 | T99: 0 | U99: 0
A100: 男 Male | B100: 計 | C100: Subtotal | D100: 43 | E100: 475 | F100: 1138306 | G100: 0 | H100: 0 | I100: 0 | J100: 0 | K100: 0 | L100: 0 | M100: 0 | N100: 0 | O100: 0 | P100: 43 | Q100: 475 | R100: 1138306 | S100: 0 | T100: 0 | U100: 0
...

Sheet 109
A1: 特殊境遇家庭扶助服務 Assistance Service for Families in Hardship
A2: 109年,2020
A3: 單位：人;人次;金額 | D3: =IF(D8=SUM(D21,D34,D47,D60,D73,D86,D99,D112,D125,D138,D151,D164,D177,D190,D203,D216,D229,D242,D255,D268,D281,D294),"","*") | E3: =IF(E8=SUM(E21,E34,E47,E60,E73,E86,E99,E112,E125,E138,E151,E164,E177,E190,E203,E216,E229,E242,E255,E268,E281,E294),"","*") | F3: =IF(F8=SUM(F21,F34,F47,F60,F73,F86,F99,F112,F125,F138,F151,F164,F177,F190,F203,F216,F229,F242,F255,F268,F281,F294),"","*") | G3: =IF(G8=SUM(G21,G34,G47,G60,G73,G86,G99,G112,G125,G138,G151,G164,G177,G190,G203,G216,G229,G242,G255,G268,G281,G294),"","*") | H3: =IF(H8=SUM(H21,H34,H47,H60,H73,H86,H99,H112,H125,H138,H151,H164,H177,H190,H203,H216,H229,H242,H255,H268,H281,H294),"","*") | I3: =IF(I8=SUM(I21,I34,I47,I60,I73,I86,I99,I112,I125,I138,I151,I164,I177,I190,I203,I216,I229,I242,I255,I268,I281,I294),"","*") | J3: =IF(J8=SUM(J21,J34,J47,J60,J73,J86,J99,J112,J125,J138,J151,J164,J177,J190,J203,J216,J229,J242,J255,J268,J281,J294),"","*") | K3: =IF(K8=SUM(K21,K34,K47,K60,K73,K86,K99,K112,K125,K138,K151,K164,K177,K190,K203,K216,K229,K242,K255,K268,K281,K294),"","*") | ... U3: =IF(U8=SUM(U21,U34,U47,U60,U73,U86,U99,U112,U125,U138,U151,U164,U177,U190,U203,U216,U229,U242,U255,U268,U281,U294),"","*")
A4: 地區、性別及設籍別 Locality, Sex & Identity | D4: 總計 | G4: 緊急生活扶助 | J4: 傷病醫療補助 | M4: 法律訴訟補助 | P4: 子女生活津貼 | S4: 兒童托育津貼
D5: Total | G5: Emergency Assistance for Livelihood | J5: Medical Subsidies | M5: Subsidies of Litigation | P5: Children Living Allowance | S5: Children Nursery Allowance
D6: 人數 | E6: 人次 | F6: 金額(元) | G6: 人數 | H6: 人次 | I6: 金額(元) | J6: 人數 | K6: 人次 | L6: 金額(元) | M6: 人數 | N6: 人次 | O6: 金額(元) | P6: 人數 | Q6: 人次 | R6: 金額(元) | S6: 人數 | T6: 人次 | U6: 金額(元)
D7: Persons | E7: Times of Persons | F7: Amount (NT$) | G7: Persons | H7: Times of Persons | I7: Amount (NT$) | J7: Persons | K7: Times of Persons | L7: Amount (NT$) | M7: Persons | N7: Times of Persons | O7: Amount (NT$) | P7: Persons | Q7: Times of Persons | R7: Amount (NT$) | S7: Persons | T7: Times of Persons | U7: Amount (NT$)
A8: 總計 | C8: Total | D8: 15900 | E8: 130532 | F8: 460653706 | G8: 5377 | H8: 13951 | I8: 181605784 | J8: 67 | K8: 67 | L8: 1072812 | M8: 52 | N8: 52 | O8: 2407000 | P8: 10288 | Q8: 115741 | R8: 274492336 | S8: 116 | T8: 721 | U8: 1075774
A9: 男 Male | B9: 計 | C9: Subtotal | D9: 2609 | E9: 27128 | F9: 79111292 | G9: 535 | H9: 1439 | I9: 18190211 | J9: 6 | K9: 6 | L9: 146466 | M9: 1 | N9: 1 | O9: 50000 | P9: 2044 | Q9: 25495 | R9: 60450115 | S9: 23 | T9: 187 | U9: 274500
B10: 本國籍 | C10: National | D10: 2580 | E10: 26869 | F10: 78328029 | G10: 527 | H10: 1417 | I10: 17956728 | J10: 6 | K10: 6 | L10: 146466 | M10: 1 | N10: 1 | O10: 50000 | P10: 2023 | Q10: 25258 | R10: 59900335 | S10: 23 | T10: 187 | U10: 274500
B11: 一般民眾 | C11: General | D11: 2438 | E11: 25451 | F11: 74313382 | G11: 495 | H11: 1327 | I11: 17027261 | J11: 6 | K11: 6 | L11: 146466 | M11: 1 | N11: 1 | O11: 50000 | P11: 1913 | Q11: 23930 | R11: 56815155 | S11: 23 | T11: 187 | U11: 274500
B12: 原住民 | C12: Abrigines | D12: 142 | E12: 1418 | F12: 4014647 | G12: 32 | H12: 90 | I12: 929467 | J12: 0 | K12: 0 | L12: 0 | M12: 0 | N12: 0 | O12: 0 | P12: 110 | Q12: 1328 | R12: 3085180 | S12: 0 | T12: 0 | U12: 0
B13: 大陸籍(含港澳) | C13: Mainlander | D13: 16 | E13: 145 | F13: 408504 | G13: 3 | H13: 9 | I13: 99104 | J13: 0 | K13: 0 | L13: 0 | M13: 0 | N13: 0 | O13: 0 | P13: 13 | Q13: 136 | R13: 309400 | S13: 0 | T13: 0 | U13: 0
B14: 外國籍 | C14: Foreigner | D14: 13 | E14: 114 | F14: 374759 | G14: 5 | H14: 13 | I14: 134379 | J14: 0 | K14: 0 | L14: 0 | M14: 0 | N14: 0 | O14: 0 | P14: 8 | Q14: 101 | R14: 240380 | S14: 0 | T14: 0 | U14: 0
A15: 女 Female | B15: 計 | C15: Subtotal | D15: 13291 | E15: 103404 | F15: 381542414 | G15: 4842 | H15: 12512 | I15: 163415573 | J15: 61 | K15: 61 | L15: 926346 | M15: 51 | N15: 51 | O15: 2357000 | P15: 8244 | Q15: 90246 | R15: 214042221 | S15: 93 | T15: 534 | U15: 801274
B16: 本國籍 | C16: National | D16: 13031 | E16: 101570 | F16: 372632810 | G16: 4707 | H16: 12154 | I16: 158094089 | J16: 61 | K16: 61 | L16: 926346 | M16: 49 | N16: 49 | O16: 2277000 | P16: 8121 | Q16: 88772 | R16: 210534101 | S16: 93 | T16: 534 | U16: 801274
B17: 一般民眾 | C17: General | D17: 12160 | E17: 95138 | F17: 348850781 | G17: 4345 | H17: 11267 | I17: 147630351 | J17: 54 | K17: 54 | L17: 728275 | M17: 49 | N17: 49 | O17: 2277000 | P17: 7622 | Q17: 83243 | R17: 197427381 | S17: 90 | T17: 525 | U17: 787774
B18: 原住民 | C18: Abrigines | D18: 871 | E18: 6432 | F18: 23782029 | G18: 362 | H18: 887 | I18: 10463738 | J18: 7 | K18: 7 | L18: 198071 | M18: 0 | N18: 0 | O18: 0 | P18: 499 | Q18: 5529 | R18: 13106720 | S18: 3 | T18: 9 | U18: 13500
B19: 大陸籍(含港澳) | C19: Mainlander | D19: 132 | E19: 897 | F19: 4511213 | G19: 72 | H19: 183 | I19: 2736653 | J19: 0 | K19: 0 | L19: 0 | M19: 2 | N19: 2 | O19: 80000 | P19: 58 | Q19: 712 | R19: 1694560 | S19: 0 | T19: 0 | U19: 0
B20: 外國籍 | C20: Foreigner | D20: 128 | E20: 937 | F20: 4398391 | G20: 63 | H20: 175 | I20: 2584831 | J20: 0 | K20: 0 | L20: 0 | M20: 0 | N20: 0 | O20: 0 | P20: 65 | Q20: 762 | R20: 1813560 | S20: 0 | T20: 0 | U20: 0
A21: 新北市 | C21: New Taipei City | D21: 731 | E21: 2504 | F21: 31321720 | G21: 690 | H21: 2070 | I21: 30003080 | J21: 0 | K21: 0 | L21: 0 | M21: 6 | N21: 6 | O21: 300000 | P21: 35 | Q21: 428 | R21: 1018640 | S21: 0 | T21: 0 | U21: 0
A22: 男 Male | B22: 計 | C22: Subtotal | D22: 54 | E22: 216 | F22: 2250628 | G22: 49 | H22: 147 | I22: 2086408 | J22: 0 | K22: 0 | L22: 0 | M22: 0 | N22: 0 | O22: 0 | P22: 5 | Q22: 69 | R22: 164220 | S22: 0 | T22: 0 | U22: 0
B23: 本國籍 | C23: National | D23: 54 | E23: 216 | F23: 2250628 | G23: 49 | H23: 147 | I23: 2086408 | J23: 0 | K23: 0 | L23: 0 | M23: 0 | N23: 0 | O23: 0 | P23: 5 | Q23: 69 | R23: 164220 | S23: 0 | T23: 0 | U23: 0
B24: 一般民眾 | C24: General | D24: 52 | E24: 210 | F24: 2157628 | G24: 47 | H24: 141 | I24: 1993408 | J24: 0 | K24: 0 | L24: 0 | M24: 0 | N24: 0 | O24: 0 | P24: 5 | Q24: 69 | R24: 164220 | S24: 0 | T24: 0 | U24: 0
B25: 原住民 | C25: Abrigines | D25: 2 | E25: 6 | F25: 93000 | G25: 2 | H25: 6 | I25: 93000 | J25: 0 | K25: 0 | L25: 0 | M25: 0 | N25: 0 | O25: 0 | P25: 0 | Q25: 0 | R25: 0 | S25: 0 | T25: 0 | U25: 0
B26: 大陸籍(含港澳) | C26: Mainlander | D26: 0 | E26: 0 | F26: 0 | G26: 0 | H26: 0 | I26: 0 | J26: 0 | K26: 0 | L26: 0 | M26: 0 | N26: 0 | O26: 0 | P26: 0 | Q26: 0 | R26: 0 | S26: 0 | T26: 0 | U26: 0
B27: 外國籍 | C27: Foreigner | D27: 0 | E27: 0 | F27: 0 | G27: 0 | H27: 0 | I27: 0 | J27: 0 | K27: 0 | L27: 0 | M27: 0 | N27: 0 | O27: 0 | P27: 0 | Q27: 0 | R27: 0 | S27: 0 | T27: 0 | U27: 0
A28: 女 Female | B28: 計 | C28: Subtotal | D28: 677 | E28: 2288 | F28: 29071092 | G28: 641 | H28: 1923 | I28: 27916672 | J28: 0 | K28: 0 | L28: 0 | M28: 6 | N28: 6 | O28: 300000 | P28: 30 | Q28: 359 | R28: 854420 | S28: 0 | T28: 0 | U28: 0
B29: 本國籍 | C29: National | D29: 664 | E29: 2251 | F29: 28513426 | G29: 629 | H29: 1887 | I29: 27409006 | J29: 0 | K29: 0 | L29: 0 | M29: 5 | N29: 5 | O29: 250000 | P29: 30 | Q29: 359 | R29: 854420 | S29: 0 | T29: 0 | U29: 0
B30: 一般民眾 | C30: General | D30: 648 | E30: 2203 | F30: 27824286 | G30: 614 | H30: 1842 | I30: 26727006 | J30: 0 | K30: 0 | L30: 0 | M30: 5 | N30: 5 | O30: 250000 | P30: 29 | Q30: 356 | R30: 847280 | S30: 0 | T30: 0 | U30: 0
B31: 原住民 | C31: Abrigines | D31: 16 | E31: 48 | F31: 689140 | G31: 15 | H31: 45 | I31: 682000 | J31: 0 | K31: 0 | L31: 0 | M31: 0 | N31: 0 | O31: 0 | P31: 1 | Q31: 3 | R31: 7140 | S31: 0 | T31: 0 | U31: 0
B32: 大陸籍(含港澳) | C32: Mainlander | D32: 9 | E32: 25 | F32: 390740 | G32: 8 | H32: 24 | I32: 340740 | J32: 0 | K32: 0 | L32: 0 | M32: 1 | N32: 1 | O32: 50000 | P32: 0 | Q32: 0 | R32: 0 | S32: 0 | T32: 0 | U32: 0
B33: 外國籍 | C33: Foreigner | D33: 4 | E33: 12 | F33: 166926 | G33: 4 | H33: 12 | I33: 166926 | J33: 0 | K33: 0 | L33: 0 | M33: 0 | N33: 0 | O33: 0 | P33: 0 | Q33: 0 | R33: 0 | S33: 0 | T33: 0 | U33: 0
A34: 臺北市 | C34: Taipei City | D34: 1979 | E34: 12353 | F34: 67593042 | G34: 952 | H34: 2609 | I34: 43319517 | J34: 55 | K34: 55 | L34: 535025 | M34: 16 | N34: 16 | O34: 730000 | P34: 956 | Q34: 9673 | R34: 23008500 | S34: 0 | T34: 0 | U34: 0
A35: 男 Male | B35: 計 | C35: Subtotal | D35: 205 | E35: 3150 | F35: 11402855 | G35: 108 | H35: 277 | I35: 4432929 | J35: 6 | K35: 6 | L35: 146466 | M35: 0 | N35: 0 | O35: 0 | P35: 91 | Q35: 2867 | R35: 6823460 | S35: 0 | T35: 0 | U35: 0
B36: 本國籍 | C36: National | D36: 205 | E36: 3150 | F36: 11402855 | G36: 108 | H36: 277 | I36: 4432929 | J36: 6 | K36: 6 | L36: 146466 | M36: 0 | N36: 0 | O36: 0 | P36: 91 | Q36: 2867 | R36: 6823460 | S36: 0 | T36: 0 | U36: 0
B37: 一般民眾 | C37: General | D37: 205 | E37: 3150 | F37: 11402855 | G37: 108 | H37: 277 | I37: 4432929 | J37: 6 | K37: 6 | L37: 146466 | M37: 0 | N37: 0 | O37: 0 | P37: 91 | Q37: 2867 | R37: 6823460 | S37: 0 | T37: 0 | U37: 0
B38: 原住民 | C38: Abrigines | D38: 0 | E38: 0 | F38: 0 | G38: 0 | H38: 0 | I38: 0 | J38: 0 | K38: 0 | L38: 0 | M38: 0 | N38: 0 | O38: 0 | P38: 0 | Q38: 0 | R38: 0 | S38: 0 | T38: 0 | U38: 0
B39: 大陸籍(含港澳) | C39: Mainlander | D39: 0 | E39: 0 | F39: 0 | G39: 0 | H39: 0 | I39: 0 | J39: 0 | K39: 0 | L39: 0 | M39: 0 | N39: 0 | O39: 0 | P39: 0 | Q39: 0 | R39: 0 | S39: 0 | T39: 0 | U39: 0
B40: 外國籍 | C40: Foreigner | D40: 0 | E40: 0 | F40: 0 | G40: 0 | H40: 0 | I40: 0 | J40: 0 | K40: 0 | L40: 0 | M40: 0 | N40: 0 | O40: 0 | P40: 0 | Q40: 0 | R40: 0 | S40: 0 | T40: 0 | U40: 0
A41: 女 Female | B41: 計 | C41: Subtotal | D41: 1774 | E41: 9203 | F41: 56190187 | G41: 844 | H41: 2332 | I41: 38886588 | J41: 49 | K41: 49 | L41: 388559 | M41: 16 | N41: 16 | O41: 730000 | P41: 865 | Q41: 6806 | R41: 16185040 | S41: 0 | T41: 0 | U41: 0
B42: 本國籍 | C42: National | D42: 1713 | E42: 9029 | F42: 53371458 | G42: 785 | H42: 2164 | I42: 36082139 | J42: 49 | K42: 49 | L42: 388559 | M42: 16 | N42: 16 | O42: 730000 | P42: 863 | Q42: 6800 | R42: 16170760 | S42: 0 | T42: 0 | U42: 0
B43: 一般民眾 | C43: General | D43: 1664 | E43: 8806 | F43: 51805575 | G43: 756 | H43: 2095 | I43: 34931327 | J43: 45 | K43: 45 | L43: 330488 | M43: 16 | N43: 16 | O43: 730000 | P43: 847 | Q43: 6650 | R43: 15813760 | S43: 0 | T43: 0 | U43: 0
B44: 原住民 | C44: Abrigines | D44: 49 | E44: 223 | F44: 1565883 | G44: 29 | H44: 69 | I44: 1150812 | J44: 4 | K44: 4 | L44: 58071 | M44: 0 | N44: 0 | O44: 0 | P44: 16 | Q44: 150 | R44: 357000 | S44: 0 | T44: 0 | U44: 0
B45: 大陸籍(含港澳) | C45: Mainlander | D45: 32 | E45: 92 | F45: 1520842 | G45: 32 | H45: 92 | I45: 1520842 | J45: 0 | K45: 0 | L45: 0 | M45: 0 | N45: 0 | O45: 0 | P45: 0 | Q45: 0 | R45: 0 | S45: 0 | T45: 0 | U45: 0
B46: 外國籍 | C46: Foreigner | D46: 29 | E46: 82 | F46: 1297887 | G46: 27 | H46: 76 | I46: 1283607 | J46: 0 | K46: 0 | L46: 0 | M46: 0 | N46: 0 | O46: 0 | P46: 2 | Q46: 6 | R46: 14280 | S46: 0 | T46: 0 | U46: 0
A47: 桃園市 | C47: Taoyuan City | D47: 1487 | E47: 14718 | F47: 43150845 | G47: 394 | H47: 647 | I47: 9669245 | J47: 0 | K47: 0 | L47: 0 | M47: 4 | N47: 4 | O47: 200000 | P47: 1075 | Q47: 13954 | R47: 33112100 | S47: 14 | T47: 113 | U47: 169500
A48: 男 Male | B48: 計 | C48: Subtotal | D48: 556 | E48: 6938 | F48: 16790178 | G48: 15 | H48: 30 | I48: 382868 | J48: 0 | K48: 0 | L48: 0 | M48: 1 | N48: 1 | O48: 50000 | P48: 538 | Q48: 6891 | R48: 16333310 | S48: 2 | T48: 16 | U48: 24000
B49: 本國籍 | C49: National | D49: 556 | E49: 6938 | F49: 16790178 | G49: 15 | H49: 30 | I49: 382868 | J49: 0 | K49: 0 | L49: 0 | M49: 1 | N49: 1 | O49: 50000 | P49: 538 | Q49: 6891 | R49: 16333310 | S49: 2 | T49: 16 | U49: 24000
B50: 一般民眾 | C50: General | D50: 531 | E50: 6613 | F50: 16000396 | G50: 14 | H50: 28 | I50: 352306 | J50: 0 | K50: 0 | L50: 0 | M50: 1 | N50: 1 | O50: 50000 | P50: 514 | Q50: 6568 | R50: 15574090 | S50: 2 | T50: 16 | U50: 24000
B51: 原住民 | C51: Abrigines | D51: 25 | E51: 325 | F51: 789782 | G51: 1 | H51: 2 | I51: 30562 | J51: 0 | K51: 0 | L51: 0 | M51: 0 | N51: 0 | O51: 0 | P51: 24 | Q51: 323 | R51: 759220 | S51: 0 | T51: 0 | U51: 0
B52: 大陸籍(含港澳) | C52: Mainlander | D52: 0 | E52: 0 | F52: 0 | G52: 0 | H52: 0 | I52: 0 | J52: 0 | K52: 0 | L52: 0 | M52: 0 | N52: 0 | O52: 0 | P52: 0 | Q52: 0 | R52: 0 | S52: 0 | T52: 0 | U52: 0
B53: 外國籍 | C53: Foreigner | D53: 0 | E53: 0 | F53: 0 | G53: 0 | H53: 0 | I53: 0 | J53: 0 | K53: 0 | L53: 0 | M53: 0 | N53: 0 | O53: 0 | P53: 0 | Q53: 0 | R53: 0 | S53: 0 | T53: 0 | U53: 0
A54: 女 Female | B54: 計 | C54: Subtotal | D54: 931 | E54: 7780 | F54: 26360667 | G54: 379 | H54: 617 | I54: 9286377 | J54: 0 | K54: 0 | L54: 0 | M54: 3 | N54: 3 | O54: 150000 | P54: 537 | Q54: 7063 | R54: 16778790 | S54: 12 | T54: 97 | U54: 145500
B55: 本國籍 | C55: National | D55: 923 | E55: 7761 | F55: 26080328 | G55: 371 | H55: 598 | I55: 9006038 | J55: 0 | K55: 0 | L55: 0 | M55: 3 | N55: 3 | O55: 150000 | P55: 537 | Q55: 7063 | R55: 16778790 | S55: 12 | T55: 97 | U55: 145500
B56: 一般民眾 | C56: General | D56: 851 | E56: 7340 | F56: 24182377 | G56: 326 | H56: 527 | I56: 7941087 | J56: 0 | K56: 0 | L56: 0 | M56: 3 | N56: 3 | O56: 150000 | P56: 510 | Q56: 6713 | R56: 15945790 | S56: 12 | T56: 97 | U56: 145500
B57: 原住民 | C57: Abrigines | D57: 72 | E57: 421 | F57: 1897951 | G57: 45 | H57: 71 | I57: 1064951 | J57: 0 | K57: 0 | L57: 0 | M57: 0 | N57: 0 | O57: 0 | P57: 27 | Q57: 350 | R57: 833000 | S57: 0 | T57: 0 | U57: 0
B58: 大陸籍(含港澳) | C58: Mainlander | D58: 2 | E58: 5 | F58: 76405 | G58: 2 | H58: 5 | I58: 76405 | J58: 0 | K58: 0 | L58: 0 | M58: 0 | N58: 0 | O58: 0 | P58: 0 | Q58: 0 | R58: 0 | S58: 0 | T58: 0 | U58: 0
B59: 外國籍 | C59: Foreigner | D59: 6 | E59: 14 | F59: 203934 | G59: 6 | H59: 14 | I59: 203934 | J59: 0 | K59: 0 | L59: 0 | M59: 0 | N59: 0 | O59: 0 | P59: 0 | Q59: 0 | R59: 0 | S59: 0 | T59: 0 | U59: 0
A60: 臺中市 | C60: Taichung City | D60: 2171 | E60: 18844 | F60: 64785341 | G60: 687 | H60: 2061 | I60: 24440633 | J60: 2 | K60: 2 | L60: 20105 | M60: 19 | N60: 19 | O60: 887000 | P60: 1461 | Q60: 16757 | R60: 39430103 | S60: 2 | T60: 5 | U60: 7500
A61: 男 Male | B61: 計 | C61: Subtotal | D61: 207 | E61: 1939 | F61: 6283650 | G61: 50 | H61: 150 | I61: 2096837 | J61: 0 | K61: 0 | L61: 0 | M61: 0 | N61: 0 | O61: 0 | P61: 157 | Q61: 1789 | R61: 4186813 | S61: 0 | T61: 0 | U61: 0
B62: 本國籍 | C62: National | D62: 198 | E62: 1838 | F62: 6020902 | G62: 49 | H62: 147 | I62: 2053049 | J62: 0 | K62: 0 | L62: 0 | M62: 0 | N62: 0 | O62: 0 | P62: 149 | Q62: 1691 | R62: 3967853 | S62: 0 | T62: 0 | U62: 0
B63: 一般民眾 | C63: General | D63: 191 | E63: 1760 | F63: 5835262 | G63: 49 | H63: 147 | I63: 2053049 | J63: 0 | K63: 0 | L63: 0 | M63: 0 | N63: 0 | O63: 0 | P63: 142 | Q63: 1613 | R63: 3782213 | S63: 0 | T63: 0 | U63: 0
B64: 原住民 | C64: Abrigines | D64: 7 | E64: 78 | F64: 185640 | G64: 0 | H64: 0 | I64: 0 | J64: 0 | K64: 0 | L64: 0 | M64: 0 | N64: 0 | O64: 0 | P64: 7 | Q64: 78 | R64: 185640 | S64: 0 | T64: 0 | U64: 0
B65: 大陸籍(含港澳) | C65: Mainlander | D65: 5 | E65: 48 | F65: 99960 | G65: 0 | H65: 0 | I65: 0 | J65: 0 | K65: 0 | L65: 0 | M65: 0 | N65: 0 | O65: 0 | P65: 5 | Q65: 48 | R65: 99960 | S65: 0 | T65: 0 | U65: 0
B66: 外國籍 | C66: Foreigner | D66: 4 | E66: 53 | F66: 162788 | G66: 1 | H66: 3 | I66: 43788 | J66: 0 | K66: 0 | L66: 0 | M66: 0 | N66: 0 | O66: 0 | P66: 3 | Q66: 50 | R66: 119000 | S66: 0 | T66: 0 | U66: 0
A67: 女 Female | B67: 計 | C67: Subtotal | D67: 1964 | E67: 16905 | F67: 58501691 | G67: 637 | H67: 1911 | I67: 22343796 | J67: 2 | K67: 2 | L67: 20105 | M67: 19 | N67: 19 | O67: 887000 | P67: 1304 | Q67: 14968 | R67: 35243290 | S67: 2 | T67: 5 | U67: 7500
B68: 本國籍 | C68: National | D68: 1908 | E68: 16406 | F68: 56654407 | G68: 619 | H68: 1857 | I68: 21555612 | J68: 2 | K68: 2 | L68: 20105 | M68: 19 | N68: 19 | O68: 887000 | P68: 1266 | Q68: 14523 | R68: 34184190 | S68: 2 | T68: 5 | U68: 7500
B69: 一般民眾 | C69: General | D69: 1811 | E69: 15675 | F69: 53658111 | G69: 572 | H69: 1716 | I69: 19963576 | J69: 2 | K69: 2 | L69: 20105 | M69: 19 | N69: 19 | O69: 887000 | P69: 1216 | Q69: 13933 | R69: 32779930 | S69: 2 | T69: 5 | U69: 7500
B70: 原住民 | C70: Abrigines | D70: 97 | E70: 731 | F70: 2996296 | G70: 47 | H70: 141 | I70: 1592036 | J70: 0 | K70: 0 | L70: 0 | M70: 0 | N70: 0 | O70: 0 | P70: 50 | Q70: 590 | R70: 1404260 | S70: 0 | T70: 0 | U70: 0
B71: 大陸籍(含港澳) | C71: Mainlander | D71: 20 | E71: 191 | F71: 674468 | G71: 6 | H71: 18 | I71: 262728 | J71: 0 | K71: 0 | L71: 0 | M71: 0 | N71: 0 | O71: 0 | P71: 14 | Q71: 173 | R71: 411740 | S71: 0 | T71: 0 | U71: 0
B72: 外國籍 | C72: Foreigner | D72: 36 | E72: 308 | F72: 1172816 | G72: 12 | H72: 36 | I72: 525456 | J72: 0 | K72: 0 | L72: 0 | M72: 0 | N72: 0 | O72: 0 | P72: 24 | Q72: 272 | R72: 647360 | S72: 0 | T72: 0 | U72: 0
A73: 臺南市 | C73: Tainan City | D73: 990 | E73: 10057 | F73: 28870096 | G73: 187 | H73: 564 | I73: 6383996 | J73: 0 | K73: 0 | L73: 0 | M73: 0 | N73: 0 | O73: 0 | P73: 798 | Q73: 9444 | R73: 22412600 | S73: 5 | T73: 49 | U73: 73500
A74: 男 Male | B74: 計 | C74: Subtotal | D74: 143 | E74: 1503 | F74: 4233488 | G74: 24 | H74: 72 | I74: 843548 | J74: 0 | K74: 0 | L74: 0 | M74: 0 | N74: 0 | O74: 0 | P74: 118 | Q74: 1413 | R74: 3362940 | S74: 1 | T74: 18 | U74: 27000
B75: 本國籍 | C75: National | D75: 138 | E75: 1471 | F75: 4109668 | G75: 22 | H75: 66 | I75: 781608 | J75: 0 | K75: 0 | L75: 0 | M75: 0 | N75: 0 | O75: 0 | P75: 115 | Q75: 1387 | R75: 3301060 | S75: 1 | T75: 18 | U75: 27000
B76: 一般民眾 | C76: General | D76: 138 | E76: 1471 | F76: 4109668 | G76: 22 | H76: 66 | I76: 781608 | J76: 0 | K76: 0 | L76: 0 | M76: 0 | N76: 0 | O76: 0 | P76: 115 | Q76: 1387 | R76: 3301060 | S76: 1 | T76: 18 | U76: 27000
B77: 原住民 | C77: Abrigines | D77: 0 | E77: 0 | F77: 0 | G77: 0 | H77: 0 | I77: 0 | J77: 0 | K77: 0 | L77: 0 | M77: 0 | N77: 0 | O77: 0 | P77: 0 | Q77: 0 | R77: 0 | S77: 0 | T77: 0 | U77: 0
B78: 大陸籍(含港澳) | C78: Mainlander | D78: 5 | E78: 32 | F78: 123820 | G78: 2 | H78: 6 | I78: 61940 | J78: 0 | K78: 0 | L78: 0 | M78: 0 | N78: 0 | O78: 0 | P78: 3 | Q78: 26 | R78: 61880 | S78: 0 | T78: 0 | U78: 0
B79: 外國籍 | C79: Foreigner | D79: 0 | E79: 0 | F79: 0 | G79: 0 | H79: 0 | I79: 0 | J79: 0 | K79: 0 | L79: 0 | M79: 0 | N79: 0 | O79: 0 | P79: 0 | Q79: 0 | R79: 0 | S79: 0 | T79: 0 | U79: 0
A80: 女 Female | B80: 計 | C80: Subtotal | D80: 847 | E80: 8554 | F80: 24636608 | G80: 163 | H80: 492 | I80: 5540448 | J80: 0 | K80: 0 | L80: 0 | M80: 0 | N80: 0 | O80: 0 | P80: 680 | Q80: 8031 | R80: 19049660 | S80: 4 | T80: 31 | U80: 46500
B81: 本國籍 | C81: National | D81: 827 | E81: 8330 | F81: 24103488 | G81: 163 | H81: 492 | I81: 5540448 | J81: 0 | K81: 0 | L81: 0 | M81: 0 | N81: 0 | O81: 0 | P81: 660 | Q81: 7807 | R81: 18516540 | S81: 4 | T81: 31 | U81: 46500
B82: 一般民眾 | C82: General | D82: 812 | E82: 8182 | F82: 23613516 | G82: 158 | H82: 477 | I82: 5367016 | J82: 0 | K82: 0 | L82: 0 | M82: 0 | N82: 0 | O82: 0 | P82: 650 | Q82: 7674 | R82: 18200000 | S82: 4 | T82: 31 | U82: 46500
B83: 原住民 | C83: Abrigines | D83: 15 | E83: 148 | F83: 489972 | G83: 5 | H83: 15 | I83: 173432 | J83: 0 | K83: 0 | L83: 0 | M83: 0 | N83: 0 | O83: 0 | P83: 10 | Q83: 133 | R83: 316540 | S83: 0 | T83: 0 | U83: 0
B84: 大陸籍(含港澳) | C84: Mainlander | D84: 9 | E84: 97 | F84: 230860 | G84: 0 | H84: 0 | I84: 0 | J84: 0 | K84: 0 | L84: 0 | M84: 0 | N84: 0 | O84: 0 | P84: 9 | Q84: 97 | R84: 230860 | S84: 0 | T84: 0 | U84: 0
B85: 外國籍 | C85: Foreigner | D85: 11 | E85: 127 | F85: 302260 | G85: 0 | H85: 0 | I85: 0 | J85: 0 | K85: 0 | L85: 0 | M85: 0 | N85: 0 | O85: 0 | P85: 11 | Q85: 127 | R85: 302260 | S85: 0 | T85: 0 | U85: 0
A86: 高雄市 | C86: Kaohsiung City | D86: 961 | E86: 6629 | F86: 23604616 | G86: 424 | H86: 733 | I86: 9506036 | J86: 0 | K86: 0 | L86: 0 | M86: 3 | N86: 3 | O86: 110000 | P86: 526 | Q86: 5841 | R86: 13901580 | S86: 8 | T86: 52 | U86: 87000
A87: 男 Male | B87: 計 | C87: Subtotal | D87: 56 | E87: 515 | F87: 1432964 | G87: 10 | H87: 21 | I87: 259884 | J87: 0 | K87: 0 | L87: 0 | M87: 0 | N87: 0 | O87: 0 | P87: 46 | Q87: 491 | R87: 1168580 | S87: 0 | T87: 3 | U87: 4500
B88: 本國籍 | C88: National | D88: 54 | E88: 502 | F88: 1391305 | G88: 9 | H88: 20 | I88: 246785 | J88: 0 | K88: 0 | L88: 0 | M88: 0 | N88: 0 | O88: 0 | P88: 45 | Q88: 479 | R88: 1140020 | S88: 0 | T88: 3 | U88: 4500
B89: 一般民眾 | C89: General | D89: 54 | E89: 502 | F89: 1391305 | G89: 9 | H89: 20 | I89: 246785 | J89: 0 | K89: 0 | L89: 0 | M89: 0 | N89: 0 | O89: 0 | P89: 45 | Q89: 479 | R89: 1140020 | S89: 0 | T89: 3 | U89: 4500
B90: 原住民 | C90: Abrigines | D90: 0 | E90: 0 | F90: 0 | G90: 0 | H90: 0 | I90: 0 | J90: 0 | K90: 0 | L90: 0 | M90: 0 | N90: 0 | O90: 0 | P90: 0 | Q90: 0 | R90: 0 | S90: 0 | T90: 0 | U90: 0
B91: 大陸籍(含港澳) | C91: Mainlander | D91: 0 | E91: 0 | F91: 0 | G91: 0 | H91: 0 | I91: 0 | J91: 0 | K91: 0 | L91: 0 | M91: 0 | N91: 0 | O91: 0 | P91: 0 | Q91: 0 | R91: 0 | S91: 0 | T91: 0 | U91: 0
B92: 外國籍 | C92: Foreigner | D92: 2 | E92: 13 | F92: 41659 | G92: 1 | H92: 1 | I92: 13099 | J92: 0 | K92: 0 | L92: 0 | M92: 0 | N92: 0 | O92: 0 | P92: 1 | Q92: 12 | R92: 28560 | S92: 0 | T92: 0 | U92: 0
A93: 女 Female | B93: 計 | C93: Subtotal | D93: 905 | E93: 6114 | F93: 22171652 | G93: 414 | H93: 712 | I93: 9246152 | J93: 0 | K93: 0 | L93: 0 | M93: 3 | N93: 3 | O93: 110000 | P93: 480 | Q93: 5350 | R93: 12733000 | S93: 8 | T93: 49 | U93: 82500
B94: 本國籍 | C94: National | D94: 872 | E94: 5916 | F94: 21308346 | G94: 394 | H94: 678 | I94: 8800786 | J94: 0 | K94: 0 | L94: 0 | M94: 2 | N94: 2 | O94: 80000 | P94: 468 | Q94: 5187 | R94: 12345060 | S94: 8 | T94: 49 | U94: 82500
B95: 一般民眾 | C95: General | D95: 850 | E95: 5810 | F95: 20830967 | G95: 380 | H95: 657 | I95: 8525707 | J95: 0 | K95: 0 | L95: 0 | M95: 2 | N95: 2 | O95: 80000 | P95: 460 | Q95: 5102 | R95: 12142760 | S95: 8 | T95: 49 | U95: 82500
B96: 原住民 | C96: Abrigines | D96: 22 | E96: 106 | F96: 477379 | G96: 14 | H96: 21 | I96: 275079 | J96: 0 | K96: 0 | L96: 0 | M96: 0 | N96: 0 | O96: 0 | P96: 8 | Q96: 85 | R96: 202300 | S96: 0 | T96: 0 | U96: 0
B97: 大陸籍(含港澳) | C97: Mainlander | D97: 24 | E97: 137 | F97: 589498 | G97: 14 | H97: 22 | I97: 288178 | J97: 0 | K97: 0 | L97: 0 | M97: 1 | N97: 1 | O97: 30000 | P97: 9 | Q97: 114 | R97: 271320 | S97: 0 | T97: 0 | U97: 0
B98: 外國籍 | C98: Foreigner | D98: 9 | E98: 61 | F98: 273808 | G98: 6 | H98: 12 | I98: 157188 | J98: 0 | K98: 0 | L98: 0 | M98: 0 | N98: 0 | O98: 0 | P98: 3 | Q98: 49 | R98: 116620 | S98: 0 | T98: 0 | U98: 0
A99: 宜蘭縣 | C99: Yilan County | D99: 247 | E99: 2826 | F99: 6965932 | G99: 12 | H99: 24 | I99: 297312 | J99: 0 | K99: 0 | L99: 0 | M99: 0 | N99: 0 | O99: 0 | P99: 235 | Q99: 2802 | R99: 6668620 | S99: 0 | T99: 0 | U99: 0
A100: 男 Male | B100: 計 | C100: Subtotal | D100: 52 | E100: 535 | F100: 1273300 | G100: 0 | H100: 0 | I100: 0 | J100: 0 | K100: 0 | L100: 0 | M100: 0 | N100: 0 | O100: 0 | P100: 52 | Q100: 535 | R100: 1273300 | S100: 0 | T100: 0 | U100: 0
...

Sheet 108
A1: 特殊境遇家庭扶助服務 Assistance Service for Families in Hardship
A2: 108年,2019
A3: 單位：人;人次;金額
A4: 地區、性別及設籍別 Locality, Sex & Identity | D4: 總計 | G4: 緊急生活扶助 | J4: 傷病醫療補助 | M4: 法律訴訟補助 | P4: 子女生活津貼 | S4: 兒童托育津貼
D5: Total | G5: Emergency Assistance for Livelihood | J5: Medical Subsidies | M5: Subsidies of Litigation | P5: Children Living Allowance | S5: Children Nursery Allowance
D6: 人數 | E6: 人次 | F6: 金額(元) | G6: 人數 | H6: 人次 | I6: 金額(元) | J6: 人數 | K6: 人次 | L6: 金額(元) | M6: 人數 | N6: 人次 | O6: 金額(元) | P6: 人數 | Q6: 人次 | R6: 金額(元) | S6: 人數 | T6: 人次 | U6: 金額(元)
D7: Persons | E7: Times of Persons | F7: Amount (NT$) | G7: Persons | H7: Times of Persons | I7: Amount (NT$) | J7: Persons | K7: Times of Persons | L7: Amount (NT$) | M7: Persons | N7: Times of Persons | O7: Amount (NT$) | P7: Persons | Q7: Times of Persons | R7: Amount (NT$) | S7: Persons | T7: Times of Persons | U7: Amount (NT$)
A8: 總計 | C8: Total | D8: 16232 | E8: 130701 | F8: 458950291 | G8: 5733 | H8: 15196 | I8: 190762494 | J8: 72 | K8: 73 | L8: 1131471 | M8: 52 | N8: 52 | O8: 2370000 | P8: 10254 | Q8: 114095 | R8: 262912843 | S8: 121 | T8: 1285 | U8: 1773483
A9: 男 Male | B9: 計 | C9: Subtotal | D9: 2706 | E9: 24737 | F9: 74285243 | G9: 627 | H9: 1760 | I9: 21064746 | J9: 9 | K9: 9 | L9: 437076 | M9: 2 | N9: 2 | O9: 100000 | P9: 2028 | Q9: 22643 | R9: 52227065 | S9: 40 | T9: 323 | U9: 456356
B10: 本國籍 | C10: National | D10: 2671 | E10: 24393 | F10: 73085074 | G10: 617 | H10: 1731 | I10: 20705057 | J10: 8 | K10: 8 | L10: 317076 | M10: 2 | N10: 2 | O10: 100000 | P10: 2004 | Q10: 22335 | R10: 51515585 | S10: 40 | T10: 317 | U10: 447356
B11: 一般民眾 | C11: General | D11: 2517 | E11: 23061 | F11: 69105209 | G11: 581 | H11: 1626 | I11: 19539820 | J11: 7 | K11: 7 | L11: 307478 | M11: 2 | N11: 2 | O11: 100000 | P11: 1888 | Q11: 21112 | R11: 48713555 | S11: 39 | T11: 314 | U11: 444356
B12: 原住民 | C12: Abrigines | D12: 154 | E12: 1332 | F12: 3979865 | G12: 36 | H12: 105 | I12: 1165237 | J12: 1 | K12: 1 | L12: 9598 | M12: 0 | N12: 0 | O12: 0 | P12: 116 | Q12: 1223 | R12: 2802030 | S12: 1 | T12: 3 | U12: 3000
B13: 大陸籍(含港澳) | C13: Mainlander | D13: 14 | E13: 124 | F13: 450435 | G13: 5 | H13: 15 | I13: 198645 | J13: 0 | K13: 0 | L13: 0 | M13: 0 | N13: 0 | O13: 0 | P13: 9 | Q13: 109 | R13: 251790 | S13: 0 | T13: 0 | U13: 0
B14: 外國籍 | C14: Foreigner | D14: 21 | E14: 220 | F14: 749734 | G14: 5 | H14: 14 | I14: 161044 | J14: 1 | K14: 1 | L14: 120000 | M14: 0 | N14: 0 | O14: 0 | P14: 15 | Q14: 199 | R14: 459690 | S14: 0 | T14: 6 | U14: 9000
A15: 女 Female | B15: 計 | C15: Subtotal | D15: 13526 | E15: 105964 | F15: 384665048 | G15: 5106 | H15: 13436 | I15: 169697748 | J15: 63 | K15: 64 | L15: 694395 | M15: 50 | N15: 50 | O15: 2270000 | P15: 8226 | Q15: 91452 | R15: 210685778 | S15: 81 | T15: 962 | U15: 1317127
B16: 本國籍 | C16: National | D16: 13260 | E16: 104092 | F16: 376295029 | G16: 4973 | H16: 13094 | I16: 164844879 | J16: 62 | K16: 62 | L16: 693325 | M16: 50 | N16: 50 | O16: 2270000 | P16: 8096 | Q16: 89934 | R16: 207184698 | S16: 79 | T16: 952 | U16: 1302127
B17: 一般民眾 | C17: General | D17: 12409 | E17: 97971 | F17: 353285591 | G17: 4597 | H17: 12162 | I17: 153841471 | J17: 62 | K17: 62 | L17: 693325 | M17: 49 | N17: 49 | O17: 2220000 | P17: 7622 | Q17: 84751 | R17: 195236168 | S17: 79 | T17: 947 | U17: 1294627
B18: 原住民 | C18: Abrigines | D18: 851 | E18: 6121 | F18: 23009438 | G18: 376 | H18: 932 | I18: 11003408 | J18: 0 | K18: 0 | L18: 0 | M18: 1 | N18: 1 | O18: 50000 | P18: 474 | Q18: 5183 | R18: 11948530 | S18: 0 | T18: 5 | U18: 7500
B19: 大陸籍(含港澳) | C19: Mainlander | D19: 146 | E19: 931 | F19: 4579846 | G19: 80 | H19: 199 | I19: 2905196 | J19: 1 | K19: 2 | L19: 1070 | M19: 0 | N19: 0 | O19: 0 | P19: 63 | Q19: 720 | R19: 1658580 | S19: 2 | T19: 10 | U19: 15000
B20: 外國籍 | C20: Foreigner | D20: 120 | E20: 941 | F20: 3790173 | G20: 53 | H20: 143 | I20: 1947673 | J20: 0 | K20: 0 | L20: 0 | M20: 0 | N20: 0 | O20: 0 | P20: 67 | Q20: 798 | R20: 1842500 | S20: 0 | T20: 0 | U20: 0
A21: 新北市 | C21: New Taipei City | D21: 859 | E21: 2867 | F21: 34215130 | G21: 814 | H21: 2442 | I21: 32780136 | J21: 2 | K21: 2 | L21: 28654 | M21: 9 | N21: 9 | O21: 450000 | P21: 34 | Q21: 414 | R21: 956340 | S21: 0 | T21: 0 | U21: 0
A22: 男 Male | B22: 計 | C22: Subtotal | D22: 62 | E22: 237 | F22: 2337871 | G22: 53 | H22: 159 | I22: 2083917 | J22: 1 | K22: 1 | L22: 28394 | M22: 1 | N22: 1 | O22: 50000 | P22: 7 | Q22: 76 | R22: 175560 | S22: 0 | T22: 0 | U22: 0
B23: 本國籍 | C23: National | D23: 62 | E23: 237 | F23: 2337871 | G23: 53 | H23: 159 | I23: 2083917 | J23: 1 | K23: 1 | L23: 28394 | M23: 1 | N23: 1 | O23: 50000 | P23: 7 | Q23: 76 | R23: 175560 | S23: 0 | T23: 0 | U23: 0
B24: 一般民眾 | C24: General | D24: 62 | E24: 237 | F24: 2337871 | G24: 53 | H24: 159 | I24: 2083917 | J24: 1 | K24: 1 | L24: 28394 | M24: 1 | N24: 1 | O24: 50000 | P24: 7 | Q24: 76 | R24: 175560 | S24: 0 | T24: 0 | U24: 0
B25: 原住民 | C25: Abrigines | D25: 0 | E25: 0 | F25: 0 | G25: 0 | H25: 0 | I25: 0 | J25: 0 | K25: 0 | L25: 0 | M25: 0 | N25: 0 | O25: 0 | P25: 0 | Q25: 0 | R25: 0 | S25: 0 | T25: 0 | U25: 0
B26: 大陸籍(含港澳) | C26: Mainlander | D26: 0 | E26: 0 | F26: 0 | G26: 0 | H26: 0 | I26: 0 | J26: 0 | K26: 0 | L26: 0 | M26: 0 | N26: 0 | O26: 0 | P26: 0 | Q26: 0 | R26: 0 | S26: 0 | T26: 0 | U26: 0
B27: 外國籍 | C27: Foreigner | D27: 0 | E27: 0 | F27: 0 | G27: 0 | H27: 0 | I27: 0 | J27: 0 | K27: 0 | L27: 0 | M27: 0 | N27: 0 | O27: 0 | P27: 0 | Q27: 0 | R27: 0 | S27: 0 | T27: 0 | U27: 0
A28: 女 Female | B28: 計 | C28: Subtotal | D28: 797 | E28: 2630 | F28: 31877259 | G28: 761 | H28: 2283 | I28: 30696219 | J28: 1 | K28: 1 | L28: 260 | M28: 8 | N28: 8 | O28: 400000 | P28: 27 | Q28: 338 | R28: 780780 | S28: 0 | T28: 0 | U28: 0
B29: 本國籍 | C29: National | D29: 782 | E29: 2576 | F29: 31201941 | G29: 746 | H29: 2238 | I29: 30041691 | J29: 1 | K29: 1 | L29: 260 | M29: 8 | N29: 8 | O29: 400000 | P29: 27 | Q29: 329 | R29: 759990 | S29: 0 | T29: 0 | U29: 0
B30: 一般民眾 | C30: General | D30: 765 | E30: 2525 | F30: 30488641 | G30: 729 | H30: 2187 | I30: 29328391 | J30: 1 | K30: 1 | L30: 260 | M30: 8 | N30: 8 | O30: 400000 | P30: 27 | Q30: 329 | R30: 759990 | S30: 0 | T30: 0 | U30: 0
B31: 原住民 | C31: Abrigines | D31: 17 | E31: 51 | F31: 713300 | G31: 17 | H31: 51 | I31: 713300 | J31: 0 | K31: 0 | L31: 0 | M31: 0 | N31: 0 | O31: 0 | P31: 0 | Q31: 0 | R31: 0 | S31: 0 | T31: 0 | U31: 0
B32: 大陸籍(含港澳) | C32: Mainlander | D32: 10 | E32: 39 | F32: 460770 | G32: 10 | H32: 30 | I32: 439980 | J32: 0 | K32: 0 | L32: 0 | M32: 0 | N32: 0 | O32: 0 | P32: 0 | Q32: 9 | R32: 20790 | S32: 0 | T32: 0 | U32: 0
B33: 外國籍 | C33: Foreigner | D33: 5 | E33: 15 | F33: 214548 | G33: 5 | H33: 15 | I33: 214548 | J33: 0 | K33: 0 | L33: 0 | M33: 0 | N33: 0 | O33: 0 | P33: 0 | Q33: 0 | R33: 0 | S33: 0 | T33: 0 | U33: 0
A34: 臺北市 | C34: Taipei City | D34: 1827 | E34: 9856 | F34: 57780213 | G34: 915 | H34: 2493 | I34: 40136995 | J34: 54 | K34: 54 | L34: 266998 | M34: 16 | N34: 16 | O34: 760000 | P34: 810 | Q34: 7011 | R34: 16193670 | S34: 32 | T34: 282 | U34: 422550
A35: 男 Male | B35: 計 | C35: Subtotal | D35: 173 | E35: 898 | F35: 5003497 | G35: 89 | H35: 236 | I35: 3583423 | J35: 3 | K35: 3 | L35: 3084 | M35: 0 | N35: 0 | O35: 0 | P35: 65 | Q35: 529 | R35: 1221990 | S35: 16 | T35: 130 | U35: 195000
B36: 本國籍 | C36: National | D36: 173 | E36: 898 | F36: 5003497 | G36: 89 | H36: 236 | I36: 3583423 | J36: 3 | K36: 3 | L36: 3084 | M36: 0 | N36: 0 | O36: 0 | P36: 65 | Q36: 529 | R36: 1221990 | S36: 16 | T36: 130 | U36: 195000
B37: 一般民眾 | C37: General | D37: 173 | E37: 898 | F37: 5003497 | G37: 89 | H37: 236 | I37: 3583423 | J37: 3 | K37: 3 | L37: 3084 | M37: 0 | N37: 0 | O37: 0 | P37: 65 | Q37: 529 | R37: 1221990 | S37: 16 | T37: 130 | U37: 195000
B38: 原住民 | C38: Abrigines | D38: 0 | E38: 0 | F38: 0 | G38: 0 | H38: 0 | I38: 0 | J38: 0 | K38: 0 | L38: 0 | M38: 0 | N38: 0 | O38: 0 | P38: 0 | Q38: 0 | R38: 0 | S38: 0 | T38: 0 | U38: 0
B39: 大陸籍(含港澳) | C39: Mainlander | D39: 0 | E39: 0 | F39: 0 | G39: 0 | H39: 0 | I39: 0 | J39: 0 | K39: 0 | L39: 0 | M39: 0 | N39: 0 | O39: 0 | P39: 0 | Q39: 0 | R39: 0 | S39: 0 | T39: 0 | U39: 0
B40: 外國籍 | C40: Foreigner | D40: 0 | E40: 0 | F40: 0 | G40: 0 | H40: 0 | I40: 0 | J40: 0 | K40: 0 | L40: 0 | M40: 0 | N40: 0 | O40: 0 | P40: 0 | Q40: 0 | R40: 0 | S40: 0 | T40: 0 | U40: 0
A41: 女 Female | B41: 計 | C41: Subtotal | D41: 1654 | E41: 8958 | F41: 52776716 | G41: 826 | H41: 2257 | I41: 36553572 | J41: 51 | K41: 51 | L41: 263914 | M41: 16 | N41: 16 | O41: 760000 | P41: 745 | Q41: 6482 | R41: 14971680 | S41: 16 | T41: 152 | U41: 227550
B42: 本國籍 | C42: National | D42: 1601 | E42: 8808 | F42: 50432130 | G42: 773 | H42: 2113 | I42: 34222846 | J42: 51 | K42: 51 | L42: 263914 | M42: 16 | N42: 16 | O42: 760000 | P42: 745 | Q42: 6476 | R42: 14957820 | S42: 16 | T42: 152 | U42: 227550
B43: 一般民眾 | C43: General | D43: 1565 | E43: 8656 | F43: 49252500 | G43: 752 | H43: 2055 | I43: 33260356 | J43: 51 | K43: 51 | L43: 263914 | M43: 16 | N43: 16 | O43: 760000 | P43: 730 | Q43: 6382 | R43: 14740680 | S43: 16 | T43: 152 | U43: 227550
B44: 原住民 | C44: Abrigines | D44: 36 | E44: 152 | F44: 1179630 | G44: 21 | H44: 58 | I44: 962490 | J44: 0 | K44: 0 | L44: 0 | M44: 0 | N44: 0 | O44: 0 | P44: 15 | Q44: 94 | R44: 217140 | S44: 0 | T44: 0 | U44: 0
B45: 大陸籍(含港澳) | C45: Mainlander | D45: 39 | E45: 102 | F45: 1669937 | G45: 39 | H45: 102 | I45: 1669937 | J45: 0 | K45: 0 | L45: 0 | M45: 0 | N45: 0 | O45: 0 | P45: 0 | Q45: 0 | R45: 0 | S45: 0 | T45: 0 | U45: 0
B46: 外國籍 | C46: Foreigner | D46: 14 | E46: 48 | F46: 674649 | G46: 14 | H46: 42 | I46: 660789 | J46: 0 | K46: 0 | L46: 0 | M46: 0 | N46: 0 | O46: 0 | P46: 0 | Q46: 6 | R46: 13860 | S46: 0 | T46: 0 | U46: 0
A47: 桃園市 | C47: Taoyuan City | D47: 1397 | E47: 13857 | F47: 39382345 | G47: 329 | H47: 607 | I47: 8755625 | J47: 1 | K47: 1 | L47: 6480 | M47: 4 | N47: 4 | O47: 110000 | P47: 1053 | Q47: 13140 | R47: 30352740 | S47: 10 | T47: 105 | U47: 157500
A48: 男 Male | B48: 計 | C48: Subtotal | D48: 534 | E48: 6470 | F48: 15176900 | G48: 10 | H48: 20 | I48: 281560 | J48: 0 | K48: 0 | L48: 0 | M48: 0 | N48: 0 | O48: 0 | P48: 523 | Q48: 6445 | R48: 14887840 | S48: 1 | T48: 5 | U48: 7500
B49: 本國籍 | C49: National | D49: 534 | E49: 6470 | F49: 15176900 | G49: 10 | H49: 20 | I49: 281560 | J49: 0 | K49: 0 | L49: 0 | M49: 0 | N49: 0 | O49: 0 | P49: 523 | Q49: 6445 | R49: 14887840 | S49: 1 | T49: 5 | U49: 7500
B50: 一般民眾 | C50: General | D50: 510 | E50: 6147 | F50: 14406234 | G50: 9 | H50: 18 | I50: 252404 | J50: 0 | K50: 0 | L50: 0 | M50: 0 | N50: 0 | O50: 0 | P50: 500 | Q50: 6124 | R50: 14146330 | S50: 1 | T50: 5 | U50: 7500
B51: 原住民 | C51: Abrigines | D51: 24 | E51: 323 | F51: 770666 | G51: 1 | H51: 2 | I51: 29156 | J51: 0 | K51: 0 | L51: 0 | M51: 0 | N51: 0 | O51: 0 | P51: 23 | Q51: 321 | R51: 741510 | S51: 0 | T51: 0 | U51: 0
B52: 大陸籍(含港澳) | C52: Mainlander | D52: 0 | E52: 0 | F52: 0 | G52: 0 | H52: 0 | I52: 0 | J52: 0 | K52: 0 | L52: 0 | M52: 0 | N52: 0 | O52: 0 | P52: 0 | Q52: 0 | R52: 0 | S52: 0 | T52: 0 | U52: 0
B53: 外國籍 | C53: Foreigner | D53: 0 | E53: 0 | F53: 0 | G53: 0 | H53: 0 | I53: 0 | J53: 0 | K53: 0 | L53: 0 | M53: 0 | N53: 0 | O53: 0 | P53: 0 | Q53: 0 | R53: 0 | S53: 0 | T53: 0 | U53: 0
A54: 女 Female | B54: 計 | C54: Subtotal | D54: 863 | E54: 7387 | F54: 24205445 | G54: 319 | H54: 587 | I54: 8474065 | J54: 1 | K54: 1 | L54: 6480 | M54: 4 | N54: 4 | O54: 110000 | P54: 530 | Q54: 6695 | R54: 15464900 | S54: 9 | T54: 100 | U54: 150000
B55: 本國籍 | C55: National | D55: 860 | E55: 7380 | F55: 24103399 | G55: 316 | H55: 580 | I55: 8372019 | J55: 1 | K55: 1 | L55: 6480 | M55: 4 | N55: 4 | O55: 110000 | P55: 530 | Q55: 6695 | R55: 15464900 | S55: 9 | T55: 100 | U55: 150000
B56: 一般民眾 | C56: General | D56: 794 | E56: 6971 | F56: 22233973 | G56: 272 | H56: 503 | I56: 7269513 | J56: 1 | K56: 1 | L56: 6480 | M56: 4 | N56: 4 | O56: 110000 | P56: 508 | Q56: 6363 | R56: 14697980 | S56: 9 | T56: 100 | U56: 150000
B57: 原住民 | C57: Abrigines | D57: 66 | E57: 409 | F57: 1869426 | G57: 44 | H57: 77 | I57: 1102506 | J57: 0 | K57: 0 | L57: 0 | M57: 0 | N57: 0 | O57: 0 | P57: 22 | Q57: 332 | R57: 766920 | S57: 0 | T57: 0 | U57: 0
B58: 大陸籍(含港澳) | C58: Mainlander | D58: 1 | E58: 2 | F58: 29156 | G58: 1 | H58: 2 | I58: 29156 | J58: 0 | K58: 0 | L58: 0 | M58: 0 | N58: 0 | O58: 0 | P58: 0 | Q58: 0 | R58: 0 | S58: 0 | T58: 0 | U58: 0
B59: 外國籍 | C59: Foreigner | D59: 2 | E59: 5 | F59: 72890 | G59: 2 | H59: 5 | I59: 72890 | J59: 0 | K59: 0 | L59: 0 | M59: 0 | N59: 0 | O59: 0 | P59: 0 | Q59: 0 | R59: 0 | S59: 0 | T59: 0 | U59: 0
A60: 臺中市 | C60: Taichung City | D60: 2287 | E60: 19800 | F60: 65761510 | G60: 745 | H60: 2233 | I60: 24756073 | J60: 2 | K60: 2 | L60: 5589 | M60: 15 | N60: 15 | O60: 750000 | P60: 1524 | Q60: 17547 | R60: 40245348 | S60: 1 | T60: 3 | U60: 4500
A61: 男 Male | B61: 計 | C61: Subtotal | D61: 216 | E61: 2005 | F61: 6258105 | G61: 50 | H61: 150 | I61: 1936233 | J61: 0 | K61: 0 | L61: 0 | M61: 1 | N61: 1 | O61: 50000 | P61: 165 | Q61: 1854 | R61: 4271872 | S61: 0 | T61: 0 | U61: 0
B62: 本國籍 | C62: National | D62: 205 | E62: 1878 | F62: 5861208 | G62: 47 | H62: 141 | I62: 1811916 | J62: 0 | K62: 0 | L62: 0 | M62: 1 | N62: 1 | O62: 50000 | P62: 157 | Q62: 1736 | R62: 3999292 | S62: 0 | T62: 0 | U62: 0
B63: 一般民眾 | C63: General | D63: 194 | E63: 1784 | F63: 5480841 | G63: 42 | H63: 126 | I63: 1614039 | J63: 0 | K63: 0 | L63: 0 | M63: 1 | N63: 1 | O63: 50000 | P63: 151 | Q63: 1657 | R63: 3816802 | S63: 0 | T63: 0 | U63: 0
B64: 原住民 | C64: Abrigines | D64: 11 | E64: 94 | F64: 380367 | G64: 5 | H64: 15 | I64: 197877 | J64: 0 | K64: 0 | L64: 0 | M64: 0 | N64: 0 | O64: 0 | P64: 6 | Q64: 79 | R64: 182490 | S64: 0 | T64: 0 | U64: 0
B65: 大陸籍(含港澳) | C65: Mainlander | D65: 6 | E65: 62 | F65: 246747 | G65: 3 | H65: 9 | I65: 124317 | J65: 0 | K65: 0 | L65: 0 | M65: 0 | N65: 0 | O65: 0 | P65: 3 | Q65: 53 | R65: 122430 | S65: 0 | T65: 0 | U65: 0
B66: 外國籍 | C66: Foreigner | D66: 5 | E66: 65 | F66: 150150 | G66: 0 | H66: 0 | I66: 0 | J66: 0 | K66: 0 | L66: 0 | M66: 0 | N66: 0 | O66: 0 | P66: 5 | Q66: 65 | R66: 150150 | S66: 0 | T66: 0 | U66: 0
A67: 女 Female | B67: 計 | C67: Subtotal | D67: 2071 | E67: 17795 | F67: 59503405 | G67: 695 | H67: 2083 | I67: 22819840 | J67: 2 | K67: 2 | L67: 5589 | M67: 14 | N67: 14 | O67: 700000 | P67: 1359 | Q67: 15693 | R67: 35973476 | S67: 1 | T67: 3 | U67: 4500
B68: 本國籍 | C68: National | D68: 2014 | E68: 17260 | F68: 57873284 | G68: 682 | H68: 2044 | I68: 22334819 | J68: 2 | K68: 2 | L68: 5589 | M68: 14 | N68: 14 | O68: 700000 | P68: 1315 | Q68: 15197 | R68: 34828376 | S68: 1 | T68: 3 | U68: 4500
B69: 一般民眾 | C69: General | D69: 1927 | E69: 16492 | F69: 55367792 | G69: 652 | H69: 1955 | I69: 21440777 | J69: 2 | K69: 2 | L69: 5589 | M69: 13 | N69: 13 | O69: 650000 | P69: 1259 | Q69: 14519 | R69: 33266926 | S69: 1 | T69: 3 | U69: 4500
B70: 原住民 | C70: Abrigines | D70: 87 | E70: 768 | F70: 2505492 | G70: 30 | H70: 89 | I70: 894042 | J70: 0 | K70: 0 | L70: 0 | M70: 1 | N70: 1 | O70: 50000 | P70: 56 | Q70: 678 | R70: 1561450 | S70: 0 | T70: 0 | U70: 0
B71: 大陸籍(含港澳) | C71: Mainlander | D71: 24 | E71: 225 | F71: 666235 | G71: 5 | H71: 15 | I71: 181135 | J71: 0 | K71: 0 | L71: 0 | M71: 0 | N71: 0 | O71: 0 | P71: 19 | Q71: 210 | R71: 485100 | S71: 0 | T71: 0 | U71: 0
B72: 外國籍 | C72: Foreigner | D72: 33 | E72: 310 | F72: 963886 | G72: 8 | H72: 24 | I72: 303886 | J72: 0 | K72: 0 | L72: 0 | M72: 0 | N72: 0 | O72: 0 | P72: 25 | Q72: 286 | R72: 660000 | S72: 0 | T72: 0 | U72: 0
A73: 臺南市 | C73: Tainan City | D73: 1105 | E73: 10697 | F73: 30955888 | G73: 239 | H73: 720 | I73: 7897528 | J73: 0 | K73: 0 | L73: 0 | M73: 1 | N73: 1 | O73: 50000 | P73: 862 | Q73: 9964 | R73: 22990360 | S73: 3 | T73: 12 | U73: 18000
A74: 男 Male | B74: 計 | C74: Subtotal | D74: 166 | E74: 1600 | F74: 4660942 | G74: 37 | H74: 111 | I74: 1221352 | J74: 0 | K74: 0 | L74: 0 | M74: 0 | N74: 0 | O74: 0 | P74: 129 | Q74: 1489 | R74: 3439590 | S74: 0 | T74: 0 | U74: 0
B75: 本國籍 | C75: National | D75: 161 | E75: 1537 | F75: 4515412 | G75: 37 | H75: 111 | I75: 1221352 | J75: 0 | K75: 0 | L75: 0 | M75: 0 | N75: 0 | O75: 0 | P75: 124 | Q75: 1426 | R75: 3294060 | S75: 0 | T75: 0 | U75: 0
B76: 一般民眾 | C76: General | D76: 161 | E76: 1537 | F76: 4515412 | G76: 37 | H76: 111 | I76: 1221352 | J76: 0 | K76: 0 | L76: 0 | M76: 0 | N76: 0 | O76: 0 | P76: 124 | Q76: 1426 | R76: 3294060 | S76: 0 | T76: 0 | U76: 0
B77: 原住民 | C77: Abrigines | D77: 0 | E77: 0 | F77: 0 | G77: 0 | H77: 0 | I77: 0 | J77: 0 | K77: 0 | L77: 0 | M77: 0 | N77: 0 | O77: 0 | P77: 0 | Q77: 0 | R77: 0 | S77: 0 | T77: 0 | U77: 0
B78: 大陸籍(含港澳) | C78: Mainlander | D78: 2 | E78: 28 | F78: 64680 | G78: 0 | H78: 0 | I78: 0 | J78: 0 | K78: 0 | L78: 0 | M78: 0 | N78: 0 | O78: 0 | P78: 2 | Q78: 28 | R78: 64680 | S78: 0 | T78: 0 | U78: 0
B79: 外國籍 | C79: Foreigner | D79: 3 | E79: 35 | F79: 80850 | G79: 0 | H79: 0 | I79: 0 | J79: 0 | K79: 0 | L79: 0 | M79: 0 | N79: 0 | O79: 0 | P79: 3 | Q79: 35 | R79: 80850 | S79: 0 | T79: 0 | U79: 0
A80: 女 Female | B80: 計 | C80: Subtotal | D80: 939 | E80: 9097 | F80: 26294946 | G80: 202 | H80: 609 | I80: 6676176 | J80: 0 | K80: 0 | L80: 0 | M80: 1 | N80: 1 | O80: 50000 | P80: 733 | Q80: 8475 | R80: 19550770 | S80: 3 | T80: 12 | U80: 18000
B81: 本國籍 | C81: National | D81: 914 | E81: 8799 | F81: 25528252 | G81: 199 | H81: 600 | I81: 6577072 | J81: 0 | K81: 0 | L81: 0 | M81: 1 | N81: 1 | O81: 50000 | P81: 711 | Q81: 8186 | R81: 18883180 | S81: 3 | T81: 12 | U81: 18000
B82: 一般民眾 | C82: General | D82: 900 | E82: 8668 | F82: 25074472 | G82: 194 | H82: 585 | I82: 6391252 | J82: 0 | K82: 0 | L82: 0 | M82: 1 | N82: 1 | O82: 50000 | P82: 702 | Q82: 8070 | R82: 18615220 | S82: 3 | T82: 12 | U82: 18000
B83: 原住民 | C83: Abrigines | D83: 14 | E83: 131 | F83: 453780 | G83: 5 | H83: 15 | I83: 185820 | J83: 0 | K83: 0 | L83: 0 | M83: 0 | N83: 0 | O83: 0 | P83: 9 | Q83: 116 | R83: 267960 | S83: 0 | T83: 0 | U83: 0
B84: 大陸籍(含港澳) | C84: Mainlander | D84: 10 | E84: 134 | F84: 309540 | G84: 0 | H84: 0 | I84: 0 | J84: 0 | K84: 0 | L84: 0 | M84: 0 | N84: 0 | O84: 0 | P84: 10 | Q84: 134 | R84: 309540 | S84: 0 | T84: 0 | U84: 0
B85: 外國籍 | C85: Foreigner | D85: 15 | E85: 164 | F85: 457154 | G85: 3 | H85: 9 | I85: 99104 | J85: 0 | K85: 0 | L85: 0 | M85: 0 | N85: 0 | O85: 0 | P85: 12 | Q85: 155 | R85: 358050 | S85: 0 | T85: 0 | U85: 0
A86: 高雄市 | C86: Kaohsiung City | D86: 987 | E86: 6952 | F86: 23833548 | G86: 428 | H86: 747 | I86: 9602557 | J86: 0 | K86: 0 | L86: 0 | M86: 4 | N86: 4 | O86: 120000 | P86: 546 | Q86: 6045 | R86: 13956818 | S86: 9 | T86: 156 | U86: 154173
A87: 男 Male | B87: 計 | C87: Subtotal | D87: 61 | E87: 514 | F87: 1568463 | G87: 19 | H87: 45 | I87: 509967 | J87: 0 | K87: 0 | L87: 0 | M87: 0 | N87: 0 | O87: 0 | P87: 41 | Q87: 450 | R87: 1039500 | S87: 1 | T87: 19 | U87: 18996
B88: 本國籍 | C88: National | D88: 60 | E88: 496 | F88: 1531743 | G88: 19 | H88: 45 | I88: 509967 | J88: 0 | K88: 0 | L88: 0 | M88: 0 | N88: 0 | O88: 0 | P88: 40 | Q88: 438 | R88: 1011780 | S88: 1 | T88: 13 | U88: 9996
B89: 一般民眾 | C89: General | D89: 60 | E89: 496 | F89: 1531743 | G89: 19 | H89: 45 | I89: 509967 | J89: 0 | K89: 0 | L89: 0 | M89: 0 | N89: 0 | O89: 0 | P89: 40 | Q89: 438 | R89: 1011780 | S89: 1 | T89: 13 | U89: 9996
B90: 原住民 | C90: Abrigines | D90: 0 | E90: 0 | F90: 0 | G90: 0 | H90: 0 | I90: 0 | J90: 0 | K90: 0 | L90: 0 | M90: 0 | N90: 0 | O90: 0 | P90: 0 | Q90: 0 | R90: 0 | S90: 0 | T90: 0 | U90: 0
B91: 大陸籍(含港澳) | C91: Mainlander | D91: 0 | E91: 0 | F91: 0 | G91: 0 | H91: 0 | I91: 0 | J91: 0 | K91: 0 | L91: 0 | M91: 0 | N91: 0 | O91: 0 | P91: 0 | Q91: 0 | R91: 0 | S91: 0 | T91: 0 | U91: 0
B92: 外國籍 | C92: Foreigner | D92: 1 | E92: 18 | F92: 36720 | G92: 0 | H92: 0 | I92: 0 | J92: 0 | K92: 0 | L92: 0 | M92: 0 | N92: 0 | O92: 0 | P92: 1 | Q92: 12 | R92: 27720 | S92: 0 | T92: 6 | U92: 9000
A93: 女 Female | B93: 計 | C93: Subtotal | D93: 926 | E93: 6438 | F93: 22265085 | G93: 409 | H93: 702 | I93: 9092590 | J93: 0 | K93: 0 | L93: 0 | M93: 4 | N93: 4 | O93: 120000 | P93: 505 | Q93: 5595 | R93: 12917318 | S93: 8 | T93: 137 | U93: 135177
B94: 本國籍 | C94: National | D94: 883 | E94: 6227 | F94: 21224747 | G94: 382 | H94: 650 | I94: 8411442 | J94: 0 | K94: 0 | L94: 0 | M94: 4 | N94: 4 | O94: 120000 | P94: 491 | Q94: 5446 | R94: 12573128 | S94: 6 | T94: 127 | U94: 120177
B95: 一般民眾 | C95: General | D95: 854 | E95: 6072 | F95: 20424348 | G95: 360 | H95: 609 | I95: 7874383 | J95: 0 | K95: 0 | L95: 0 | M95: 4 | N95: 4 | O95: 120000 | P95: 484 | Q95: 5332 | R95: 12309788 | S95: 6 | T95: 127 | U95: 120177
B96: 原住民 | C96: Abrigines | D96: 29 | E96: 155 | F96: 800399 | G96: 22 | H96: 41 | I96: 537059 | J96: 0 | K96: 0 | L96: 0 | M96: 0 | N96: 0 | O96: 0 | P96: 7 | Q96: 114 | R96: 263340 | S96: 0 | T96: 0 | U96: 0
B97: 大陸籍(含港澳) | C97: Mainlander | D97: 29 | E97: 163 | F97: 713678 | G97: 17 | H97: 32 | I97: 419168 | J97: 0 | K97: 0 | L97: 0 | M97: 0 | N97: 0 | O97: 0 | P97: 10 | Q97: 121 | R97: 279510 | S97: 2 | T97: 10 | U97: 15000
B98: 外國籍 | C98: Foreigner | D98: 14 | E98: 48 | F98: 326660 | G98: 10 | H98: 20 | I98: 261980 | J98: 0 | K98: 0 | L98: 0 | M98: 0 | N98: 0 | O98: 0 | P98: 4 | Q98: 28 | R98: 64680 | S98: 0 | T98: 0 | U98: 0
A99: 宜蘭縣 | C99: Yilan County | D99: 302 | E99: 3286 | F99: 7863720 | G99: 19 | H99: 32 | I99: 396416 | J99: 1 | K99: 2 | L99: 1070 | M99: 0 | N99: 0 | O99: 0 | P99: 282 | Q99: 3245 | R99: 7455734 | S99: 0 | T99: 7 | U99: 10500
A100: 男 Male | B100: 計 | C100: Subtotal | D100: 46 | E100: 508 | F100: 1150380 | G100: 0 | H100: 0 | I100: 0 | J100: 0 | K100: 0 | L100: 0 | M100: 0 | N100: 0 | O100: 0 | P100: 46 | Q100: 508 | R100: 1150380 | S100: 0 | T100: 0 | U100: 0
...

Sheet 107
A1: 特殊境遇家庭扶助服務 Assistance Service for Families in Hardship
A2: 107年,2018
A3: 單位：人;人次;金額
A4: 地區、性別及設籍別 Locality, Sex & Identity | D4: 總計 | G4: 緊急生活扶助 | J4: 傷病醫療補助 | M4: 法律訴訟補助 | P4: 子女生活津貼 | S4: 兒童托育津貼
D5: Total | G5: Emergency Assistance for Livelihood | J5: Medical Subsidies | M5: Subsidies of Litigation | P5: Children Living Allowance | S5: Children Nursery Allowance
D6: 人數 | E6: 人次 | F6: 金額(元) | G6: 人數 | H6: 人次 | I6: 金額(元) | J6: 人數 | K6: 人次 | L6: 金額(元) | M6: 人數 | N6: 人次 | O6: 金額(元) | P6: 人數 | Q6: 人次 | R6: 金額(元) | S6: 人數 | T6: 人次 | U6: 金額(元)
D7: Persons | E7: Times of Persons | F7: Amount (NT$) | G7: Persons | H7: Times of Persons | I7: Amount (NT$) | J7: Persons | K7: Times of Persons | L7: Amount (NT$) | M7: Persons | N7: Times of Persons | O7: Amount (NT$) | P7: Persons | Q7: Times of Persons | R7: Amount (NT$) | S7: Persons | T7: Times of Persons | U7: Amount (NT$)
A8: 總計 | C8: Total | D8: 16590 | E8: 131434 | F8: 467661363 | G8: 6415 | H8: 17100 | I8: 215126795 | J8: 71 | K8: 92 | L8: 1072348 | M8: 74 | N8: 74 | O8: 3248500 | P8: 9790 | Q8: 111209 | R8: 244091106 | S8: 240 | T8: 2959 | U8: 4122614
A9: 男 Male | B9: 計 | C9: Subtotal | D9: 2383 | E9: 22883 | F9: 66536981 | G9: 598 | H9: 1696 | I9: 20091420 | J9: 7 | K9: 7 | L9: 385616 | M9: 1 | N9: 1 | O9: 4000 | P9: 1714 | Q9: 20561 | R9: 45161281 | S9: 63 | T9: 618 | U9: 894664
B10: 本國籍 | C10: National | D10: 2330 | E10: 22471 | F10: 64880236 | G10: 575 | H10: 1634 | I10: 19195879 | J10: 7 | K10: 7 | L10: 385616 | M10: 1 | N10: 1 | O10: 4000 | P10: 1685 | Q10: 20223 | R10: 44418077 | S10: 62 | T10: 606 | U10: 876664
B11: 一般民眾 | C11: General | D11: 2204 | E11: 21326 | F11: 61531062 | G11: 541 | H11: 1539 | I11: 18143307 | J11: 7 | K11: 7 | L11: 385616 | M11: 1 | N11: 1 | O11: 4000 | P11: 1593 | Q11: 19173 | R11: 42121475 | S11: 62 | T11: 606 | U11: 876664
B12: 原住民 | C12: Abrigines | D12: 126 | E12: 1145 | F12: 3349174 | G12: 34 | H12: 95 | I12: 1052572 | J12: 0 | K12: 0 | L12: 0 | M12: 0 | N12: 0 | O12: 0 | P12: 92 | Q12: 1050 | R12: 2296602 | S12: 0 | T12: 0 | U12: 0
B13: 大陸籍(含港澳) | C13: Mainlander | D13: 30 | E13: 175 | F13: 922887 | G13: 16 | H13: 42 | I13: 630386 | J13: 0 | K13: 0 | L13: 0 | M13: 0 | N13: 0 | O13: 0 | P13: 14 | Q13: 133 | R13: 292501 | S13: 0 | T13: 0 | U13: 0
B14: 外國籍 | C14: Foreigner | D14: 23 | E14: 237 | F14: 733858 | G14: 7 | H14: 20 | I14: 265155 | J14: 0 | K14: 0 | L14: 0 | M14: 0 | N14: 0 | O14: 0 | P14: 15 | Q14: 205 | R14: 450703 | S14: 1 | T14: 12 | U14: 18000
A15: 女 Female | B15: 計 | C15: Subtotal | D15: 14207 | E15: 108551 | F15: 401124382 | G15: 5817 | H15: 15404 | I15: 195035375 | J15: 64 | K15: 85 | L15: 686732 | M15: 73 | N15: 73 | O15: 3244500 | P15: 8076 | Q15: 90648 | R15: 198929825 | S15: 177 | T15: 2341 | U15: 3227950
B16: 本國籍 | C16: National | D16: 13892 | E16: 106126 | F16: 391633888 | G16: 5681 | H16: 15053 | I16: 190300979 | J16: 63 | K16: 84 | L16: 566732 | M16: 70 | N16: 70 | O16: 3114500 | P16: 7902 | Q16: 88609 | R16: 194470227 | S16: 176 | T16: 2310 | U16: 3181450
B17: 一般民眾 | C17: General | D17: 13074 | E17: 100293 | F17: 370245516 | G17: 5322 | H17: 14156 | I17: 179732294 | J17: 63 | K17: 84 | L17: 566732 | M17: 69 | N17: 69 | O17: 3064500 | P17: 7444 | Q17: 83711 | R17: 183756040 | S17: 176 | T17: 2273 | U17: 3125950
B18: 原住民 | C18: Abrigines | D18: 818 | E18: 5833 | F18: 21388372 | G18: 359 | H18: 897 | I18: 10568685 | J18: 0 | K18: 0 | L18: 0 | M18: 1 | N18: 1 | O18: 50000 | P18: 458 | Q18: 4898 | R18: 10714187 | S18: 0 | T18: 37 | U18: 55500
B19: 大陸籍(含港澳) | C19: Mainlander | D19: 157 | E19: 1048 | F19: 4570026 | G19: 75 | H19: 189 | I19: 2556726 | J19: 1 | K19: 1 | L19: 120000 | M19: 1 | N19: 1 | O19: 30000 | P19: 80 | Q19: 838 | R19: 1834800 | S19: 0 | T19: 19 | U19: 28500
B20: 外國籍 | C20: Foreigner | D20: 158 | E20: 1377 | F20: 4920468 | G20: 61 | H20: 162 | I20: 2177670 | J20: 0 | K20: 0 | L20: 0 | M20: 2 | N20: 2 | O20: 100000 | P20: 94 | Q20: 1201 | R20: 2624798 | S20: 1 | T20: 12 | U20: 18000
A21: 新北市 | C21: New Taipei City | D21: 1154 | E21: 3831 | F21: 46514452 | G21: 1136 | H21: 3408 | I21: 45376892 | J21: 1 | K21: 1 | L21: 160 | M21: 5 | N21: 5 | O21: 220000 | P21: 12 | Q21: 417 | R21: 917400 | S21: 0 | T21: 0 | U21: 0
A22: 男 Male | B22: 計 | C22: Subtotal | D22: 57 | E22: 212 | F22: 2144711 | G22: 51 | H22: 153 | I22: 2014911 | J22: 0 | K22: 0 | L22: 0 | M22: 0 | N22: 0 | O22: 0 | P22: 6 | Q22: 59 | R22: 129800 | S22: 0 | T22: 0 | U22: 0
B23: 本國籍 | C23: National | D23: 57 | E23: 212 | F23: 2144711 | G23: 51 | H23: 153 | I23: 2014911 | J23: 0 | K23: 0 | L23: 0 | M23: 0 | N23: 0 | O23: 0 | P23: 6 | Q23: 59 | R23: 129800 | S23: 0 | T23: 0 | U23: 0
B24: 一般民眾 | C24: General | D24: 57 | E24: 212 | F24: 2144711 | G24: 51 | H24: 153 | I24: 2014911 | J24: 0 | K24: 0 | L24: 0 | M24: 0 | N24: 0 | O24: 0 | P24: 6 | Q24: 59 | R24: 129800 | S24: 0 | T24: 0 | U24: 0
B25: 原住民 | C25: Abrigines | D25: 0 | E25: 0 | F25: 0 | G25: 0 | H25: 0 | I25: 0 | J25: 0 | K25: 0 | L25: 0 | M25: 0 | N25: 0 | O25: 0 | P25: 0 | Q25: 0 | R25: 0 | S25: 0 | T25: 0 | U25: 0
B26: 大陸籍(含港澳) | C26: Mainlander | D26: 0 | E26: 0 | F26: 0 | G26: 0 | H26: 0 | I26: 0 | J26: 0 | K26: 0 | L26: 0 | M26: 0 | N26: 0 | O26: 0 | P26: 0 | Q26: 0 | R26: 0 | S26: 0 | T26: 0 | U26: 0
B27: 外國籍 | C27: Foreigner | D27: 0 | E27: 0 | F27: 0 | G27: 0 | H27: 0 | I27: 0 | J27: 0 | K27: 0 | L27: 0 | M27: 0 | N27: 0 | O27: 0 | P27: 0 | Q27: 0 | R27: 0 | S27: 0 | T27: 0 | U27: 0
A28: 女 Female | B28: 計 | C28: Subtotal | D28: 1097 | E28: 3619 | F28: 44369741 | G28: 1085 | H28: 3255 | I28: 43361981 | J28: 1 | K28: 1 | L28: 160 | M28: 5 | N28: 5 | O28: 220000 | P28: 6 | Q28: 358 | R28: 787600 | S28: 0 | T28: 0 | U28: 0
B29: 本國籍 | C29: National | D29: 1080 | E29: 3559 | F29: 43665275 | G29: 1069 | H29: 3207 | I29: 42683915 | J29: 1 | K29: 1 | L29: 160 | M29: 5 | N29: 5 | O29: 220000 | P29: 5 | Q29: 346 | R29: 761200 | S29: 0 | T29: 0 | U29: 0
B30: 一般民眾 | C30: General | D30: 1070 | E30: 3529 | F30: 43238725 | G30: 1059 | H30: 3177 | I30: 42257365 | J30: 1 | K30: 1 | L30: 160 | M30: 5 | N30: 5 | O30: 220000 | P30: 5 | Q30: 346 | R30: 761200 | S30: 0 | T30: 0 | U30: 0
B31: 原住民 | C31: Abrigines | D31: 10 | E31: 30 | F31: 426550 | G31: 10 | H31: 30 | I31: 426550 | J31: 0 | K31: 0 | L31: 0 | M31: 0 | N31: 0 | O31: 0 | P31: 0 | Q31: 0 | R31: 0 | S31: 0 | T31: 0 | U31: 0
B32: 大陸籍(含港澳) | C32: Mainlander | D32: 10 | E32: 39 | F32: 402381 | G32: 9 | H32: 27 | I32: 375981 | J32: 0 | K32: 0 | L32: 0 | M32: 0 | N32: 0 | O32: 0 | P32: 1 | Q32: 12 | R32: 26400 | S32: 0 | T32: 0 | U32: 0
B33: 外國籍 | C33: Foreigner | D33: 7 | E33: 21 | F33: 302085 | G33: 7 | H33: 21 | I33: 302085 | J33: 0 | K33: 0 | L33: 0 | M33: 0 | N33: 0 | O33: 0 | P33: 0 | Q33: 0 | R33: 0 | S33: 0 | T33: 0 | U33: 0
A34: 臺北市 | C34: Taipei City | D34: 1773 | E34: 9224 | F34: 59097660 | G34: 1010 | H34: 2722 | I34: 42988508 | J34: 43 | K34: 43 | L34: 361921 | M34: 42 | N34: 42 | O34: 1917000 | P34: 613 | Q34: 6080 | R34: 13353131 | S34: 65 | T34: 337 | U34: 477100
A35: 男 Male | B35: 計 | C35: Subtotal | D35: 170 | E35: 782 | F35: 4755251 | G35: 91 | H35: 242 | I35: 3701898 | J35: 2 | K35: 2 | L35: 1353 | M35: 0 | N35: 0 | O35: 0 | P35: 42 | Q35: 350 | R35: 770000 | S35: 35 | T35: 188 | U35: 282000
B36: 本國籍 | C36: National | D36: 158 | E36: 751 | F36: 4254384 | G36: 79 | H36: 211 | I36: 3201031 | J36: 2 | K36: 2 | L36: 1353 | M36: 0 | N36: 0 | O36: 0 | P36: 42 | Q36: 350 | R36: 770000 | S36: 35 | T36: 188 | U36: 282000
B37: 一般民眾 | C37: General | D37: 155 | E37: 731 | F37: 4084771 | G37: 76 | H37: 202 | I37: 3055618 | J37: 2 | K37: 2 | L37: 1353 | M37: 0 | N37: 0 | O37: 0 | P37: 42 | Q37: 339 | R37: 745800 | S37: 35 | T37: 188 | U37: 282000
B38: 原住民 | C38: Abrigines | D38: 3 | E38: 20 | F38: 169613 | G38: 3 | H38: 9 | I38: 145413 | J38: 0 | K38: 0 | L38: 0 | M38: 0 | N38: 0 | O38: 0 | P38: 0 | Q38: 11 | R38: 24200 | S38: 0 | T38: 0 | U38: 0
B39: 大陸籍(含港澳) | C39: Mainlander | D39: 10 | E39: 26 | F39: 420082 | G39: 10 | H39: 26 | I39: 420082 | J39: 0 | K39: 0 | L39: 0 | M39: 0 | N39: 0 | O39: 0 | P39: 0 | Q39: 0 | R39: 0 | S39: 0 | T39: 0 | U39: 0
B40: 外國籍 | C40: Foreigner | D40: 2 | E40: 5 | F40: 80785 | G40: 2 | H40: 5 | I40: 80785 | J40: 0 | K40: 0 | L40: 0 | M40: 0 | N40: 0 | O40: 0 | P40: 0 | Q40: 0 | R40: 0 | S40: 0 | T40: 0 | U40: 0
A41: 女 Female | B41: 計 | C41: Subtotal | D41: 1603 | E41: 8442 | F41: 54342409 | G41: 919 | H41: 2480 | I41: 39286610 | J41: 41 | K41: 41 | L41: 360568 | M41: 42 | N41: 42 | O41: 1917000 | P41: 571 | Q41: 5730 | R41: 12583131 | S41: 30 | T41: 149 | U41: 195100
B42: 本國籍 | C42: National | D42: 1566 | E42: 8347 | F42: 52664512 | G42: 885 | H42: 2388 | I42: 37828713 | J42: 40 | K42: 40 | L42: 240568 | M42: 40 | N42: 40 | O42: 1817000 | P42: 571 | Q42: 5730 | R42: 12583131 | S42: 30 | T42: 149 | U42: 195100
B43: 一般民眾 | C43: General | D43: 1551 | E43: 8290 | F43: 52259972 | G43: 877 | H43: 2368 | I43: 37505573 | J43: 40 | K43: 40 | L43: 240568 | M43: 40 | N43: 40 | O43: 1817000 | P43: 564 | Q43: 5693 | R43: 12501731 | S43: 30 | T43: 149 | U43: 195100
B44: 原住民 | C44: Abrigines | D44: 15 | E44: 57 | F44: 404540 | G44: 8 | H44: 20 | I44: 323140 | J44: 0 | K44: 0 | L44: 0 | M44: 0 | N44: 0 | O44: 0 | P44: 7 | Q44: 37 | R44: 81400 | S44: 0 | T44: 0 | U44: 0
B45: 大陸籍(含港澳) | C45: Mainlander | D45: 24 | E45: 62 | F45: 1077220 | G45: 23 | H45: 61 | I45: 957220 | J45: 1 | K45: 1 | L45: 120000 | M45: 0 | N45: 0 | O45: 0 | P45: 0 | Q45: 0 | R45: 0 | S45: 0 | T45: 0 | U45: 0
B46: 外國籍 | C46: Foreigner | D46: 13 | E46: 33 | F46: 600677 | G46: 11 | H46: 31 | I46: 500677 | J46: 0 | K46: 0 | L46: 0 | M46: 2 | N46: 2 | O46: 100000 | P46: 0 | Q46: 0 | R46: 0 | S46: 0 | T46: 0 | U46: 0
A47: 桃園市 | C47: Taoyuan City | D47: 1223 | E47: 12694 | F47: 34025312 | G47: 272 | H47: 538 | I47: 7283628 | J47: 1 | K47: 1 | L47: 2055 | M47: 4 | N47: 4 | O47: 155000 | P47: 931 | Q47: 11938 | R47: 26265129 | S47: 15 | T47: 213 | U47: 319500
A48: 男 Male | B48: 計 | C48: Subtotal | D48: 482 | E48: 6051 | F48: 13621247 | G48: 12 | H48: 28 | I48: 370940 | J48: 0 | K48: 0 | L48: 0 | M48: 0 | N48: 0 | O48: 0 | P48: 469 | Q48: 6011 | R48: 13232307 | S48: 1 | T48: 12 | U48: 18000
B49: 本國籍 | C49: National | D49: 482 | E49: 6051 | F49: 13621247 | G49: 12 | H49: 28 | I49: 370940 | J49: 0 | K49: 0 | L49: 0 | M49: 0 | N49: 0 | O49: 0 | P49: 469 | Q49: 6011 | R49: 13232307 | S49: 1 | T49: 12 | U49: 18000
B50: 一般民眾 | C50: General | D50: 459 | E50: 5726 | F50: 12883263 | G50: 11 | H50: 26 | I50: 343556 | J50: 0 | K50: 0 | L50: 0 | M50: 0 | N50: 0 | O50: 0 | P50: 447 | Q50: 5688 | R50: 12521707 | S50: 1 | T50: 12 | U50: 18000
B51: 原住民 | C51: Abrigines | D51: 23 | E51: 325 | F51: 737984 | G51: 1 | H51: 2 | I51: 27384 | J51: 0 | K51: 0 | L51: 0 | M51: 0 | N51: 0 | O51: 0 | P51: 22 | Q51: 323 | R51: 710600 | S51: 0 | T51: 0 | U51: 0
B52: 大陸籍(含港澳) | C52: Mainlander | D52: 0 | E52: 0 | F52: 0 | G52: 0 | H52: 0 | I52: 0 | J52: 0 | K52: 0 | L52: 0 | M52: 0 | N52: 0 | O52: 0 | P52: 0 | Q52: 0 | R52: 0 | S52: 0 | T52: 0 | U52: 0
B53: 外國籍 | C53: Foreigner | D53: 0 | E53: 0 | F53: 0 | G53: 0 | H53: 0 | I53: 0 | J53: 0 | K53: 0 | L53: 0 | M53: 0 | N53: 0 | O53: 0 | P53: 0 | Q53: 0 | R53: 0 | S53: 0 | T53: 0 | U53: 0
A54: 女 Female | B54: 計 | C54: Subtotal | D54: 741 | E54: 6643 | F54: 20404065 | G54: 260 | H54: 510 | I54: 6912688 | J54: 1 | K54: 1 | L54: 2055 | M54: 4 | N54: 4 | O54: 155000 | P54: 462 | Q54: 5927 | R54: 13032822 | S54: 14 | T54: 201 | U54: 301500
B55: 本國籍 | C55: National | D55: 740 | E55: 6627 | F55: 20355681 | G55: 259 | H55: 508 | I55: 6885304 | J55: 1 | K55: 1 | L55: 2055 | M55: 4 | N55: 4 | O55: 155000 | P55: 462 | Q55: 5927 | R55: 13032822 | S55: 14 | T55: 187 | U55: 280500
B56: 一般民眾 | C56: General | D56: 682 | E56: 6182 | F56: 18699559 | G56: 227 | H56: 448 | I56: 6073784 | J56: 1 | K56: 1 | L56: 2055 | M56: 4 | N56: 4 | O56: 155000 | P56: 436 | Q56: 5542 | R56: 12188220 | S56: 14 | T56: 187 | U56: 280500
B57: 原住民 | C57: Abrigines | D57: 58 | E57: 445 | F57: 1656122 | G57: 32 | H57: 60 | I57: 811520 | J57: 0 | K57: 0 | L57: 0 | M57: 0 | N57: 0 | O57: 0 | P57: 26 | Q57: 385 | R57: 844602 | S57: 0 | T57: 0 | U57: 0
B58: 大陸籍(含港澳) | C58: Mainlander | D58: 0 | E58: 7 | F58: 10500 | G58: 0 | H58: 0 | I58: 0 | J58: 0 | K58: 0 | L58: 0 | M58: 0 | N58: 0 | O58: 0 | P58: 0 | Q58: 0 | R58: 0 | S58: 0 | T58: 7 | U58: 10500
B59: 外國籍 | C59: Foreigner | D59: 1 | E59: 9 | F59: 37884 | G59: 1 | H59: 2 | I59: 27384 | J59: 0 | K59: 0 | L59: 0 | M59: 0 | N59: 0 | O59: 0 | P59: 0 | Q59: 0 | R59: 0 | S59: 0 | T59: 7 | U59: 10500
A60: 臺中市 | C60: Taichung City | D60: 2357 | E60: 19738 | F60: 66530068 | G60: 847 | H60: 2541 | I60: 28199038 | J60: 1 | K60: 1 | L60: 8282 | M60: 14 | N60: 14 | O60: 645000 | P60: 1494 | Q60: 17177 | R60: 37670248 | S60: 1 | T60: 5 | U60: 7500
A61: 男 Male | B61: 計 | C61: Subtotal | D61: 205 | E61: 1935 | F61: 6006886 | G61: 53 | H61: 159 | I61: 2112425 | J61: 1 | K61: 1 | L61: 8282 | M61: 0 | N61: 0 | O61: 0 | P61: 151 | Q61: 1775 | R61: 3886179 | S61: 0 | T61: 0 | U61: 0
B62: 本國籍 | C62: National | D62: 190 | E62: 1793 | F62: 5521416 | G62: 48 | H62: 144 | I62: 1905959 | J62: 1 | K62: 1 | L62: 8282 | M62: 0 | N62: 0 | O62: 0 | P62: 141 | Q62: 1648 | R62: 3607175 | S62: 0 | T62: 0 | U62: 0
B63: 一般民眾 | C63: General | D63: 181 | E63: 1724 | F63: 5273899 | G63: 45 | H63: 135 | I63: 1781642 | J63: 1 | K63: 1 | L63: 8282 | M63: 0 | N63: 0 | O63: 0 | P63: 135 | Q63: 1588 | R63: 3483975 | S63: 0 | T63: 0 | U63: 0
B64: 原住民 | C64: Abrigines | D64: 9 | E64: 69 | F64: 247517 | G64: 3 | H64: 9 | I64: 124317 | J64: 0 | K64: 0 | L64: 0 | M64: 0 | N64: 0 | O64: 0 | P64: 6 | Q64: 60 | R64: 123200 | S64: 0 | T64: 0 | U64: 0
B65: 大陸籍(含港澳) | C65: Mainlander | D65: 9 | E65: 63 | F65: 242289 | G65: 3 | H65: 9 | I65: 123588 | J65: 0 | K65: 0 | L65: 0 | M65: 0 | N65: 0 | O65: 0 | P65: 6 | Q65: 54 | R65: 118701 | S65: 0 | T65: 0 | U65: 0
B66: 外國籍 | C66: Foreigner | D66: 6 | E66: 79 | F66: 243181 | G66: 2 | H66: 6 | I66: 82878 | J66: 0 | K66: 0 | L66: 0 | M66: 0 | N66: 0 | O66: 0 | P66: 4 | Q66: 73 | R66: 160303 | S66: 0 | T66: 0 | U66: 0
A67: 女 Female | B67: 計 | C67: Subtotal | D67: 2152 | E67: 17803 | F67: 60523182 | G67: 794 | H67: 2382 | I67: 26086613 | J67: 0 | K67: 0 | L67: 0 | M67: 14 | N67: 14 | O67: 645000 | P67: 1343 | Q67: 15402 | R67: 33784069 | S67: 1 | T67: 5 | U67: 7500
B68: 本國籍 | C68: National | D68: 2080 | E68: 17212 | F68: 58508261 | G68: 771 | H68: 2313 | I68: 25216394 | J68: 0 | K68: 0 | L68: 0 | M68: 14 | N68: 14 | O68: 645000 | P68: 1295 | Q68: 14885 | R68: 32646867 | S68: 0 | T68: 0 | U68: 0
B69: 一般民眾 | C69: General | D69: 1975 | E69: 16372 | F69: 55417150 | G69: 727 | H69: 2181 | I69: 23729693 | J69: 0 | K69: 0 | L69: 0 | M69: 13 | N69: 13 | O69: 595000 | P69: 1235 | Q69: 14178 | R69: 31092457 | S69: 0 | T69: 0 | U69: 0
B70: 原住民 | C70: Abrigines | D70: 105 | E70: 840 | F70: 3091111 | G70: 44 | H70: 132 | I70: 1486701 | J70: 0 | K70: 0 | L70: 0 | M70: 1 | N70: 1 | O70: 50000 | P70: 60 | Q70: 707 | R70: 1554410 | S70: 0 | T70: 0 | U70: 0
B71: 大陸籍(含港澳) | C71: Mainlander | D71: 32 | E71: 285 | F71: 933951 | G71: 10 | H71: 30 | I71: 372951 | J71: 0 | K71: 0 | L71: 0 | M71: 0 | N71: 0 | O71: 0 | P71: 22 | Q71: 255 | R71: 561000 | S71: 0 | T71: 0 | U71: 0
B72: 外國籍 | C72: Foreigner | D72: 40 | E72: 306 | F72: 1080970 | G72: 13 | H72: 39 | I72: 497268 | J72: 0 | K72: 0 | L72: 0 | M72: 0 | N72: 0 | O72: 0 | P72: 26 | Q72: 262 | R72: 576202 | S72: 1 | T72: 5 | U72: 7500
A73: 臺南市 | C73: Tainan City | D73: 1195 | E73: 11049 | F73: 32649809 | G73: 300 | H73: 906 | I73: 10390813 | J73: 0 | K73: 0 | L73: 0 | M73: 0 | N73: 0 | O73: 0 | P73: 895 | Q73: 10143 | R73: 22258996 | S73: 0 | T73: 0 | U73: 0
A74: 男 Male | B74: 計 | C74: Subtotal | D74: 174 | E74: 1658 | F74: 4406648 | G74: 29 | H74: 90 | I74: 957048 | J74: 0 | K74: 0 | L74: 0 | M74: 0 | N74: 0 | O74: 0 | P74: 145 | Q74: 1568 | R74: 3449600 | S74: 0 | T74: 0 | U74: 0
B75: 本國籍 | C75: National | D75: 168 | E75: 1582 | F75: 4239448 | G75: 29 | H75: 90 | I75: 957048 | J75: 0 | K75: 0 | L75: 0 | M75: 0 | N75: 0 | O75: 0 | P75: 139 | Q75: 1492 | R75: 3282400 | S75: 0 | T75: 0 | U75: 0
B76: 一般民眾 | C76: General | D76: 168 | E76: 1582 | F76: 4239448 | G76: 29 | H76: 90 | I76: 957048 | J76: 0 | K76: 0 | L76: 0 | M76: 0 | N76: 0 | O76: 0 | P76: 139 | Q76: 1492 | R76: 3282400 | S76: 0 | T76: 0 | U76: 0
B77: 原住民 | C77: Abrigines | D77: 0 | E77: 0 | F77: 0 | G77: 0 | H77: 0 | I77: 0 | J77: 0 | K77: 0 | L77: 0 | M77: 0 | N77: 0 | O77: 0 | P77: 0 | Q77: 0 | R77: 0 | S77: 0 | T77: 0 | U77: 0
B78: 大陸籍(含港澳) | C78: Mainlander | D78: 4 | E78: 52 | F78: 114400 | G78: 0 | H78: 0 | I78: 0 | J78: 0 | K78: 0 | L78: 0 | M78: 0 | N78: 0 | O78: 0 | P78: 4 | Q78: 52 | R78: 114400 | S78: 0 | T78: 0 | U78: 0
B79: 外國籍 | C79: Foreigner | D79: 2 | E79: 24 | F79: 52800 | G79: 0 | H79: 0 | I79: 0 | J79: 0 | K79: 0 | L79: 0 | M79: 0 | N79: 0 | O79: 0 | P79: 2 | Q79: 24 | R79: 52800 | S79: 0 | T79: 0 | U79: 0
A80: 女 Female | B80: 計 | C80: Subtotal | D80: 1021 | E80: 9391 | F80: 28243161 | G80: 271 | H80: 816 | I80: 9433765 | J80: 0 | K80: 0 | L80: 0 | M80: 0 | N80: 0 | O80: 0 | P80: 750 | Q80: 8575 | R80: 18809396 | S80: 0 | T80: 0 | U80: 0
B81: 本國籍 | C81: National | D81: 989 | E81: 9009 | F81: 27325097 | G81: 267 | H81: 804 | I81: 9312497 | J81: 0 | K81: 0 | L81: 0 | M81: 0 | N81: 0 | O81: 0 | P81: 722 | Q81: 8205 | R81: 18012600 | S81: 0 | T81: 0 | U81: 0
B82: 一般民眾 | C82: General | D82: 971 | E82: 8847 | F82: 26779525 | G82: 260 | H82: 783 | I82: 9077125 | J82: 0 | K82: 0 | L82: 0 | M82: 0 | N82: 0 | O82: 0 | P82: 711 | Q82: 8064 | R82: 17702400 | S82: 0 | T82: 0 | U82: 0
B83: 原住民 | C83: Abrigines | D83: 18 | E83: 162 | F83: 545572 | G83: 7 | H83: 21 | I83: 235372 | J83: 0 | K83: 0 | L83: 0 | M83: 0 | N83: 0 | O83: 0 | P83: 11 | Q83: 141 | R83: 310200 | S83: 0 | T83: 0 | U83: 0
B84: 大陸籍(含港澳) | C84: Mainlander | D84: 16 | E84: 171 | F84: 440504 | G84: 3 | H84: 9 | I84: 84104 | J84: 0 | K84: 0 | L84: 0 | M84: 0 | N84: 0 | O84: 0 | P84: 13 | Q84: 162 | R84: 356400 | S84: 0 | T84: 0 | U84: 0
B85: 外國籍 | C85: Foreigner | D85: 16 | E85: 211 | F85: 477560 | G85: 1 | H85: 3 | I85: 37164 | J85: 0 | K85: 0 | L85: 0 | M85: 0 | N85: 0 | O85: 0 | P85: 15 | Q85: 208 | R85: 440396 | S85: 0 | T85: 0 | U85: 0
A86: 高雄市 | C86: Kaohsiung City | D86: 1066 | E86: 7205 | F86: 24756856 | G86: 492 | H86: 866 | I86: 10962990 | J86: 1 | K86: 2 | L86: 1000 | M86: 4 | N86: 4 | O86: 66500 | P86: 559 | Q86: 6162 | R86: 13547902 | S86: 10 | T86: 171 | U86: 178464
A87: 男 Male | B87: 計 | C87: Subtotal | D87: 75 | E87: 554 | F87: 1874920 | G87: 33 | H87: 68 | I87: 829756 | J87: 0 | K87: 0 | L87: 0 | M87: 1 | N87: 1 | O87: 4000 | P87: 40 | Q87: 460 | R87: 1012000 | S87: 1 | T87: 25 | U87: 29164
B88: 本國籍 | C88: National | D88: 73 | E88: 525 | F88: 1819520 | G88: 33 | H88: 68 | I88: 829756 | J88: 0 | K88: 0 | L88: 0 | M88: 1 | N88: 1 | O88: 4000 | P88: 39 | Q88: 443 | R88: 974600 | S88: 0 | T88: 13 | U88: 11164
B89: 一般民眾 | C89: General | D89: 72 | E89: 522 | F89: 1780697 | G89: 32 | H89: 65 | I89: 790933 | J89: 0 | K89: 0 | L89: 0 | M89: 1 | N89: 1 | O89: 4000 | P89: 39 | Q89: 443 | R89: 974600 | S89: 0 | T89: 13 | U89: 11164
B90: 原住民 | C90: Abrigines | D90: 1 | E90: 3 | F90: 38823 | G90: 1 | H90: 3 | I90: 38823 | J90: 0 | K90: 0 | L90: 0 | M90: 0 | N90: 0 | O90: 0 | P90: 0 | Q90: 0 | R90: 0 | S90: 0 | T90: 0 | U90: 0
B91: 大陸籍(含港澳) | C91: Mainlander | D91: 0 | E91: 5 | F91: 11000 | G91: 0 | H91: 0 | I91: 0 | J91: 0 | K91: 0 | L91: 0 | M91: 0 | N91: 0 | O91: 0 | P91: 0 | Q91: 5 | R91: 11000 | S91: 0 | T91: 0 | U91: 0
B92: 外國籍 | C92: Foreigner | D92: 2 | E92: 24 | F92: 44400 | G92: 0 | H92: 0 | I92: 0 | J92: 0 | K92: 0 | L92: 0 | M92: 0 | N92: 0 | O92: 0 | P92: 1 | Q92: 12 | R92: 26400 | S92: 1 | T92: 12 | U92: 18000
A93: 女 Female | B93: 計 | C93: Subtotal | D93: 991 | E93: 6651 | F93: 22881936 | G93: 459 | H93: 798 | I93: 10133234 | J93: 1 | K93: 2 | L93: 1000 | M93: 3 | N93: 3 | O93: 62500 | P93: 519 | Q93: 5702 | R93: 12535902 | S93: 9 | T93: 146 | U93: 149300
B94: 本國籍 | C94: National | D94: 936 | E94: 6349 | F94: 21572358 | G94: 429 | H94: 740 | I94: 9382656 | J94: 1 | K94: 2 | L94: 1000 | M94: 2 | N94: 2 | O94: 32500 | P94: 495 | Q94: 5467 | R94: 12018902 | S94: 9 | T94: 138 | U94: 137300
B95: 一般民眾 | C95: General | D95: 895 | E95: 6211 | F95: 20828377 | G95: 404 | H95: 699 | I95: 8852075 | J95: 1 | K95: 2 | L95: 1000 | M95: 2 | N95: 2 | O95: 32500 | P95: 479 | Q95: 5370 | R95: 11805502 | S95: 9 | T95: 138 | U95: 137300
B96: 原住民 | C96: Abrigines | D96: 41 | E96: 138 | F96: 743981 | G96: 25 | H96: 41 | I96: 530581 | J96: 0 | K96: 0 | L96: 0 | M96: 0 | N96: 0 | O96: 0 | P96: 16 | Q96: 97 | R96: 213400 | S96: 0 | T96: 0 | U96: 0
B97: 大陸籍(含港澳) | C97: Mainlander | D97: 38 | E97: 176 | F97: 731630 | G97: 17 | H97: 30 | I97: 388230 | J97: 0 | K97: 0 | L97: 0 | M97: 1 | N97: 1 | O97: 30000 | P97: 20 | Q97: 137 | R97: 301400 | S97: 0 | T97: 8 | U97: 12000
B98: 外國籍 | C98: Foreigner | D98: 17 | E98: 126 | F98: 577948 | G98: 13 | H98: 28 | I98: 362348 | J98: 0 | K98: 0 | L98: 0 | M98: 0 | N98: 0 | O98: 0 | P98: 4 | Q98: 98 | R98: 215600 | S98: 0 | T98: 0 | U98: 0
A99: 宜蘭縣 | C99: Yilan County | D99: 340 | E99: 3625 | F99: 8140564 | G99: 19 | H99: 25 | I99: 309700 | J99: 12 | K99: 32 | L99: 22262 | M99: 1 | N99: 1 | O99: 50000 | P99: 307 | Q99: 3552 | R99: 7736102 | S99: 1 | T99: 15 | U99: 22500
A100: 男 Male | B100: 計 | C100: Subtotal | D100: 39 | E100: 460 | F100: 1004390 | G100: 1 | H100: 1 | I100: 12388 | J100: 0 | K100: 0 | L100: 0 | M100: 0 | N100: 0 | O100: 0 | P100: 38 | Q100: 459 | R100: 992002 | S100: 0 | T100: 0 | U100: 0
...

Sheet 106
A1: 特殊境遇家庭扶助服務 Assistance Service for Families in Hardship
A2: 106年, 2017
A3: 單位：人;人次;金額
A4: 地區、性別及設籍別 Locality, Sex & Identity | D4: 總計 | G4: 緊急生活扶助 | J4: 傷病醫療補助 | M4: 法律訴訟補助 | P4: 子女生活津貼 | S4: 兒童托育津貼
D5: Total | G5: Emergency Assistance for Livelihood | J5: Medical Subsidies | M5: Subsidies of Litigation | P5: Children Living Allowance | S5: Children Nursery Allowance
D6: 人數 | E6: 人次 | F6: 金額(元) | G6: 人數 | H6: 人次 | I6: 金額(元) | J6: 人數 | K6: 人次 | L6: 金額(元) | M6: 人數 | N6: 人次 | O6: 金額(元) | P6: 人數 | Q6: 人次 | R6: 金額(元) | S6: 人數 | T6: 人次 | U6: 金額(元)
D7: Persons | E7: Times of Persons | F7: Amount (NT$) | G7: Persons | H7: Times of Persons | I7: Amount (NT$) | J7: Persons | K7: Times of Persons | L7: Amount (NT$) | M7: Persons | N7: Times of Persons | O7: Amount (NT$) | P7: Persons | Q7: Times of Persons | R7: Amount (NT$) | S7: Persons | T7: Times of Persons | U7: Amount (NT$)
A8: 總計 | C8: Total | D8: 16124 | E8: 127947 | F8: 439866632 | G8: 6347 | H8: 16968 | I8: 204615084 | J8: 76 | K8: 101 | L8: 868175 | M8: 60 | N8: 60 | O8: 2930000 | P8: 9490 | Q8: 109349 | R8: 229352748 | S8: 151 | T8: 1469 | U8: 2100625
A9: 男 Male | B9: 計 | C9: Subtotal | D9: 2287 | E9: 21435 | F9: 59527230 | G9: 571 | H9: 1638 | I9: 18014755 | J9: 14 | K9: 17 | L9: 159463 | M9: 1 | N9: 1 | O9: 50000 | P9: 1666 | Q9: 19477 | R9: 40864530 | S9: 35 | T9: 302 | U9: 438482
B10: 本國籍 | C10: National | D10: 2243 | E10: 21127 | F10: 58393600 | G10: 552 | H10: 1581 | I10: 17407274 | J10: 14 | K10: 17 | L10: 159463 | M10: 1 | N10: 1 | O10: 50000 | P10: 1642 | Q10: 19228 | R10: 40341381 | S10: 34 | T10: 300 | U10: 435482
B11: 一般民眾 | C11: General | D11: 2132 | E11: 20212 | F11: 55695543 | G11: 513 | H11: 1474 | I11: 16392778 | J11: 14 | K11: 17 | L11: 159463 | M11: 1 | N11: 1 | O11: 50000 | P11: 1570 | Q11: 18420 | R11: 38657820 | S11: 34 | T11: 300 | U11: 435482
B12: 原住民 | C12: Abrigines | D12: 111 | E12: 915 | F12: 2698057 | G12: 39 | H12: 107 | I12: 1014496 | J12: 0 | K12: 0 | L12: 0 | M12: 0 | N12: 0 | O12: 0 | P12: 72 | Q12: 808 | R12: 1683561 | S12: 0 | T12: 0 | U12: 0
B13: 大陸籍(含港澳) | C13: Mainlander | D13: 13 | E13: 75 | F13: 375604 | G13: 9 | H13: 27 | I13: 274756 | J13: 0 | K13: 0 | L13: 0 | M13: 0 | N13: 0 | O13: 0 | P13: 4 | Q13: 48 | R13: 100848 | S13: 0 | T13: 0 | U13: 0
B14: 外國籍 | C14: Foreigner | D14: 31 | E14: 233 | F14: 758026 | G14: 10 | H14: 30 | I14: 332725 | J14: 0 | K14: 0 | L14: 0 | M14: 0 | N14: 0 | O14: 0 | P14: 20 | Q14: 201 | R14: 422301 | S14: 1 | T14: 2 | U14: 3000
A15: 女 Female | B15: 計 | C15: Subtotal | D15: 13837 | E15: 106512 | F15: 380339402 | G15: 5776 | H15: 15330 | I15: 186600329 | J15: 62 | K15: 84 | L15: 708712 | M15: 59 | N15: 59 | O15: 2880000 | P15: 7824 | Q15: 89872 | R15: 188488218 | S15: 116 | T15: 1167 | U15: 1662143
B16: 本國籍 | C16: National | D16: 13506 | E16: 104073 | F16: 371167934 | G16: 5635 | H16: 14983 | I16: 182024301 | J16: 62 | K16: 84 | L16: 708712 | M16: 54 | N16: 54 | O16: 2630000 | P16: 7644 | Q16: 87829 | R16: 184208278 | S16: 111 | T16: 1123 | U16: 1596643
B17: 一般民眾 | C17: General | D17: 12656 | E17: 98100 | F17: 349175744 | G17: 5226 | H17: 13961 | I17: 170494209 | J17: 60 | K17: 82 | L17: 707380 | M17: 54 | N17: 54 | O17: 2630000 | P17: 7209 | Q17: 82896 | R17: 173769012 | S17: 107 | T17: 1107 | U17: 1575143
B18: 原住民 | C18: Abrigines | D18: 850 | E18: 5973 | F18: 21992190 | G18: 409 | H18: 1022 | I18: 11530092 | J18: 2 | K18: 2 | L18: 1332 | M18: 0 | N18: 0 | O18: 0 | P18: 435 | Q18: 4933 | R18: 10439266 | S18: 4 | T18: 16 | U18: 21500
B19: 大陸籍(含港澳) | C19: Mainlander | D19: 157 | E19: 1129 | F19: 4414700 | G19: 68 | H19: 171 | I19: 2272068 | J19: 0 | K19: 0 | L19: 0 | M19: 3 | N19: 3 | O19: 150000 | P19: 84 | Q19: 932 | R19: 1958132 | S19: 2 | T19: 23 | U19: 34500
B20: 外國籍 | C20: Foreigner | D20: 174 | E20: 1310 | F20: 4756768 | G20: 73 | H20: 176 | I20: 2303960 | J20: 0 | K20: 0 | L20: 0 | M20: 2 | N20: 2 | O20: 100000 | P20: 96 | Q20: 1111 | R20: 2321808 | S20: 3 | T20: 21 | U20: 31000
A21: 新北市 | C21: New Taipei City | D21: 1232 | E21: 4055 | F21: 48097866 | G21: 1193 | H21: 3579 | I21: 46864840 | J21: 1 | K21: 1 | L21: 556 | M21: 5 | N21: 5 | O21: 245000 | P21: 33 | Q21: 470 | R21: 987470 | S21: 0 | T21: 0 | U21: 0
A22: 男 Male | B22: 計 | C22: Subtotal | D22: 68 | E22: 234 | F22: 2435427 | G22: 64 | H22: 192 | I22: 2347185 | J22: 0 | K22: 0 | L22: 0 | M22: 0 | N22: 0 | O22: 0 | P22: 4 | Q22: 42 | R22: 88242 | S22: 0 | T22: 0 | U22: 0
B23: 本國籍 | C23: National | D23: 68 | E23: 234 | F23: 2435427 | G23: 64 | H23: 192 | I23: 2347185 | J23: 0 | K23: 0 | L23: 0 | M23: 0 | N23: 0 | O23: 0 | P23: 4 | Q23: 42 | R23: 88242 | S23: 0 | T23: 0 | U23: 0
B24: 一般民眾 | C24: General | D24: 68 | E24: 234 | F24: 2435427 | G24: 64 | H24: 192 | I24: 2347185 | J24: 0 | K24: 0 | L24: 0 | M24: 0 | N24: 0 | O24: 0 | P24: 4 | Q24: 42 | R24: 88242 | S24: 0 | T24: 0 | U24: 0
B25: 原住民 | C25: Abrigines | D25: 0 | E25: 0 | F25: 0 | G25: 0 | H25: 0 | I25: 0 | J25: 0 | K25: 0 | L25: 0 | M25: 0 | N25: 0 | O25: 0 | P25: 0 | Q25: 0 | R25: 0 | S25: 0 | T25: 0 | U25: 0
B26: 大陸籍(含港澳) | C26: Mainlander | D26: 0 | E26: 0 | F26: 0 | G26: 0 | H26: 0 | I26: 0 | J26: 0 | K26: 0 | L26: 0 | M26: 0 | N26: 0 | O26: 0 | P26: 0 | Q26: 0 | R26: 0 | S26: 0 | T26: 0 | U26: 0
B27: 外國籍 | C27: Foreigner | D27: 0 | E27: 0 | F27: 0 | G27: 0 | H27: 0 | I27: 0 | J27: 0 | K27: 0 | L27: 0 | M27: 0 | N27: 0 | O27: 0 | P27: 0 | Q27: 0 | R27: 0 | S27: 0 | T27: 0 | U27: 0
A28: 女 Female | B28: 計 | C28: Subtotal | D28: 1164 | E28: 3821 | F28: 45662439 | G28: 1129 | H28: 3387 | I28: 44517655 | J28: 1 | K28: 1 | L28: 556 | M28: 5 | N28: 5 | O28: 245000 | P28: 29 | Q28: 428 | R28: 899228 | S28: 0 | T28: 0 | U28: 0
B29: 本國籍 | C29: National | D29: 1138 | E29: 3719 | F29: 44723614 | G29: 1107 | H29: 3321 | I29: 43654466 | J29: 1 | K29: 1 | L29: 556 | M29: 5 | N29: 5 | O29: 245000 | P29: 25 | Q29: 392 | R29: 823592 | S29: 0 | T29: 0 | U29: 0
B30: 一般民眾 | C30: General | D30: 1118 | E30: 3659 | F30: 43942660 | G30: 1087 | H30: 3261 | I30: 42873512 | J30: 1 | K30: 1 | L30: 556 | M30: 5 | N30: 5 | O30: 245000 | P30: 25 | Q30: 392 | R30: 823592 | S30: 0 | T30: 0 | U30: 0
B31: 原住民 | C31: Abrigines | D31: 20 | E31: 60 | F31: 780954 | G31: 20 | H31: 60 | I31: 780954 | J31: 0 | K31: 0 | L31: 0 | M31: 0 | N31: 0 | O31: 0 | P31: 0 | Q31: 0 | R31: 0 | S31: 0 | T31: 0 | U31: 0
B32: 大陸籍(含港澳) | C32: Mainlander | D32: 15 | E32: 69 | F32: 489305 | G32: 11 | H32: 33 | I32: 413669 | J32: 0 | K32: 0 | L32: 0 | M32: 0 | N32: 0 | O32: 0 | P32: 4 | Q32: 36 | R32: 75636 | S32: 0 | T32: 0 | U32: 0
B33: 外國籍 | C33: Foreigner | D33: 11 | E33: 33 | F33: 449520 | G33: 11 | H33: 33 | I33: 449520 | J33: 0 | K33: 0 | L33: 0 | M33: 0 | N33: 0 | O33: 0 | P33: 0 | Q33: 0 | R33: 0 | S33: 0 | T33: 0 | U33: 0
A34: 臺北市 | C34: Taipei City | D34: 1711 | E34: 8566 | F34: 56925797 | G34: 1074 | H34: 2862 | I34: 43645266 | J34: 44 | K34: 44 | L34: 206313 | M34: 30 | N34: 30 | O34: 1495000 | P34: 528 | Q34: 5363 | R34: 11184925 | S34: 35 | T34: 267 | U34: 394293
A35: 男 Male | B35: 計 | C35: Subtotal | D35: 93 | E35: 458 | F35: 2473210 | G35: 49 | H35: 128 | I35: 1887784 | J35: 7 | K35: 7 | L35: 2603 | M35: 0 | N35: 0 | O35: 0 | P35: 23 | Q35: 173 | R35: 363473 | S35: 14 | T35: 150 | U35: 219350
B36: 本國籍 | C36: National | D36: 93 | E36: 458 | F36: 2473210 | G36: 49 | H36: 128 | I36: 1887784 | J36: 7 | K36: 7 | L36: 2603 | M36: 0 | N36: 0 | O36: 0 | P36: 23 | Q36: 173 | R36: 363473 | S36: 14 | T36: 150 | U36: 219350
B37: 一般民眾 | C37: General | D37: 93 | E37: 458 | F37: 2473210 | G37: 49 | H37: 128 | I37: 1887784 | J37: 7 | K37: 7 | L37: 2603 | M37: 0 | N37: 0 | O37: 0 | P37: 23 | Q37: 173 | R37: 363473 | S37: 14 | T37: 150 | U37: 219350
B38: 原住民 | C38: Abrigines | D38: 0 | E38: 0 | F38: 0 | G38: 0 | H38: 0 | I38: 0 | J38: 0 | K38: 0 | L38: 0 | M38: 0 | N38: 0 | O38: 0 | P38: 0 | Q38: 0 | R38: 0 | S38: 0 | T38: 0 | U38: 0
B39: 大陸籍(含港澳) | C39: Mainlander | D39: 0 | E39: 0 | F39: 0 | G39: 0 | H39: 0 | I39: 0 | J39: 0 | K39: 0 | L39: 0 | M39: 0 | N39: 0 | O39: 0 | P39: 0 | Q39: 0 | R39: 0 | S39: 0 | T39: 0 | U39: 0
B40: 外國籍 | C40: Foreigner | D40: 0 | E40: 0 | F40: 0 | G40: 0 | H40: 0 | I40: 0 | J40: 0 | K40: 0 | L40: 0 | M40: 0 | N40: 0 | O40: 0 | P40: 0 | Q40: 0 | R40: 0 | S40: 0 | T40: 0 | U40: 0
A41: 女 Female | B41: 計 | C41: Subtotal | D41: 1618 | E41: 8108 | F41: 54452587 | G41: 1025 | H41: 2734 | I41: 41757482 | J41: 37 | K41: 37 | L41: 203710 | M41: 30 | N41: 30 | O41: 1495000 | P41: 505 | Q41: 5190 | R41: 10821452 | S41: 21 | T41: 117 | U41: 174943
B42: 本國籍 | C42: National | D42: 1573 | E42: 8000 | F42: 52632494 | G42: 985 | H42: 2631 | I42: 40187389 | J42: 37 | K42: 37 | L42: 203710 | M42: 25 | N42: 25 | O42: 1245000 | P42: 505 | Q42: 5190 | R42: 10821452 | S42: 21 | T42: 117 | U42: 174943
B43: 一般民眾 | C43: General | D43: 1549 | E43: 7890 | F43: 51786092 | G43: 968 | H43: 2586 | I43: 39498562 | J43: 37 | K43: 37 | L43: 203710 | M43: 25 | N43: 25 | O43: 1245000 | P43: 498 | Q43: 5125 | R43: 10663877 | S43: 21 | T43: 117 | U43: 174943
B44: 原住民 | C44: Abrigines | D44: 24 | E44: 110 | F44: 846402 | G44: 17 | H44: 45 | I44: 688827 | J44: 0 | K44: 0 | L44: 0 | M44: 0 | N44: 0 | O44: 0 | P44: 7 | Q44: 65 | R44: 157575 | S44: 0 | T44: 0 | U44: 0
B45: 大陸籍(含港澳) | C45: Mainlander | D45: 26 | E45: 65 | F45: 1114421 | G45: 23 | H45: 62 | I45: 964421 | J45: 0 | K45: 0 | L45: 0 | M45: 3 | N45: 3 | O45: 150000 | P45: 0 | Q45: 0 | R45: 0 | S45: 0 | T45: 0 | U45: 0
B46: 外國籍 | C46: Foreigner | D46: 19 | E46: 43 | F46: 705672 | G46: 17 | H46: 41 | I46: 605672 | J46: 0 | K46: 0 | L46: 0 | M46: 2 | N46: 2 | O46: 100000 | P46: 0 | Q46: 0 | R46: 0 | S46: 0 | T46: 0 | U46: 0
A47: 桃園市 | C47: Taoyuan City | D47: 1146 | E47: 11208 | F47: 29148285 | G47: 309 | H47: 481 | I47: 6629983 | J47: 0 | K47: 0 | L47: 0 | M47: 1 | N47: 1 | O47: 50000 | P47: 824 | Q47: 10603 | R47: 22274802 | S47: 12 | T47: 123 | U47: 193500
A48: 男 Male | B48: 計 | C48: Subtotal | D48: 454 | E48: 5334 | F48: 11722077 | G48: 25 | H48: 42 | I48: 622216 | J48: 0 | K48: 0 | L48: 0 | M48: 0 | N48: 0 | O48: 0 | P48: 422 | Q48: 5261 | R48: 11053361 | S48: 7 | T48: 31 | U48: 46500
B49: 本國籍 | C49: National | D49: 454 | E49: 5334 | F49: 11722077 | G49: 25 | H49: 42 | I49: 622216 | J49: 0 | K49: 0 | L49: 0 | M49: 0 | N49: 0 | O49: 0 | P49: 422 | Q49: 5261 | R49: 11053361 | S49: 7 | T49: 31 | U49: 46500
B50: 一般民眾 | C50: General | D50: 436 | E50: 5081 | F50: 11155751 | G50: 24 | H50: 39 | I50: 581140 | J50: 0 | K50: 0 | L50: 0 | M50: 0 | N50: 0 | O50: 0 | P50: 405 | Q50: 5011 | R50: 10528111 | S50: 7 | T50: 31 | U50: 46500
B51: 原住民 | C51: Abrigines | D51: 18 | E51: 253 | F51: 566326 | G51: 1 | H51: 3 | I51: 41076 | J51: 0 | K51: 0 | L51: 0 | M51: 0 | N51: 0 | O51: 0 | P51: 17 | Q51: 250 | R51: 525250 | S51: 0 | T51: 0 | U51: 0
B52: 大陸籍(含港澳) | C52: Mainlander | D52: 0 | E52: 0 | F52: 0 | G52: 0 | H52: 0 | I52: 0 | J52: 0 | K52: 0 | L52: 0 | M52: 0 | N52: 0 | O52: 0 | P52: 0 | Q52: 0 | R52: 0 | S52: 0 | T52: 0 | U52: 0
B53: 外國籍 | C53: Foreigner | D53: 0 | E53: 0 | F53: 0 | G53: 0 | H53: 0 | I53: 0 | J53: 0 | K53: 0 | L53: 0 | M53: 0 | N53: 0 | O53: 0 | P53: 0 | Q53: 0 | R53: 0 | S53: 0 | T53: 0 | U53: 0
A54: 女 Female | B54: 計 | C54: Subtotal | D54: 692 | E54: 5874 | F54: 17426208 | G54: 284 | H54: 439 | I54: 6007767 | J54: 0 | K54: 0 | L54: 0 | M54: 1 | N54: 1 | O54: 50000 | P54: 402 | Q54: 5342 | R54: 11221441 | S54: 5 | T54: 92 | U54: 147000
B55: 本國籍 | C55: National | D55: 687 | E55: 5867 | F55: 17289288 | G55: 279 | H55: 432 | I55: 5870847 | J55: 0 | K55: 0 | L55: 0 | M55: 1 | N55: 1 | O55: 50000 | P55: 402 | Q55: 5342 | R55: 11221441 | S55: 5 | T55: 92 | U55: 147000
B56: 一般民眾 | C56: General | D56: 641 | E56: 5527 | F56: 16047050 | G56: 253 | H56: 390 | I56: 5254707 | J56: 0 | K56: 0 | L56: 0 | M56: 1 | N56: 1 | O56: 50000 | P56: 382 | Q56: 5044 | R56: 10595343 | S56: 5 | T56: 92 | U56: 147000
B57: 原住民 | C57: Abrigines | D57: 46 | E57: 340 | F57: 1242238 | G57: 26 | H57: 42 | I57: 616140 | J57: 0 | K57: 0 | L57: 0 | M57: 0 | N57: 0 | O57: 0 | P57: 20 | Q57: 298 | R57: 626098 | S57: 0 | T57: 0 | U57: 0
B58: 大陸籍(含港澳) | C58: Mainlander | D58: 1 | E58: 3 | F58: 41076 | G58: 1 | H58: 3 | I58: 41076 | J58: 0 | K58: 0 | L58: 0 | M58: 0 | N58: 0 | O58: 0 | P58: 0 | Q58: 0 | R58: 0 | S58: 0 | T58: 0 | U58: 0
B59: 外國籍 | C59: Foreigner | D59: 4 | E59: 4 | F59: 95844 | G59: 4 | H59: 4 | I59: 95844 | J59: 0 | K59: 0 | L59: 0 | M59: 0 | N59: 0 | O59: 0 | P59: 0 | Q59: 0 | R59: 0 | S59: 0 | T59: 0 | U59: 0
A60: 臺中市 | C60: Taichung City | D60: 2283 | E60: 19602 | F60: 60498030 | G60: 753 | H60: 2265 | I60: 23494988 | J60: 1 | K60: 1 | L60: 21800 | M60: 14 | N60: 14 | O60: 700000 | P60: 1512 | Q60: 17301 | R60: 36249742 | S60: 3 | T60: 21 | U60: 31500
A61: 男 Male | B61: 計 | C61: Subtotal | D61: 206 | E61: 1823 | F61: 5563080 | G61: 56 | H61: 168 | I61: 2046166 | J61: 0 | K61: 0 | L61: 0 | M61: 1 | N61: 1 | O61: 50000 | P61: 149 | Q61: 1654 | R61: 3466914 | S61: 0 | T61: 0 | U61: 0
B62: 本國籍 | C62: National | D62: 197 | E62: 1766 | F62: 5297236 | G62: 50 | H62: 150 | I62: 1862261 | J62: 0 | K62: 0 | L62: 0 | M62: 1 | N62: 1 | O62: 50000 | P62: 146 | Q62: 1615 | R62: 3384975 | S62: 0 | T62: 0 | U62: 0
B63: 一般民眾 | C63: General | D63: 188 | E63: 1696 | F63: 5061319 | G63: 47 | H63: 141 | I63: 1754505 | J63: 0 | K63: 0 | L63: 0 | M63: 1 | N63: 1 | O63: 50000 | P63: 140 | Q63: 1554 | R63: 3256814 | S63: 0 | T63: 0 | U63: 0
B64: 原住民 | C64: Abrigines | D64: 9 | E64: 70 | F64: 235917 | G64: 3 | H64: 9 | I64: 107756 | J64: 0 | K64: 0 | L64: 0 | M64: 0 | N64: 0 | O64: 0 | P64: 6 | Q64: 61 | R64: 128161 | S64: 0 | T64: 0 | U64: 0
B65: 大陸籍(含港澳) | C65: Mainlander | D65: 4 | E65: 21 | F65: 116800 | G65: 3 | H65: 9 | I65: 91588 | J65: 0 | K65: 0 | L65: 0 | M65: 0 | N65: 0 | O65: 0 | P65: 1 | Q65: 12 | R65: 25212 | S65: 0 | T65: 0 | U65: 0
B66: 外國籍 | C66: Foreigner | D66: 5 | E66: 36 | F66: 149044 | G66: 3 | H66: 9 | I66: 92317 | J66: 0 | K66: 0 | L66: 0 | M66: 0 | N66: 0 | O66: 0 | P66: 2 | Q66: 27 | R66: 56727 | S66: 0 | T66: 0 | U66: 0
A67: 女 Female | B67: 計 | C67: Subtotal | D67: 2077 | E67: 17779 | F67: 54934950 | G67: 697 | H67: 2097 | I67: 21448822 | J67: 1 | K67: 1 | L67: 21800 | M67: 13 | N67: 13 | O67: 650000 | P67: 1363 | Q67: 15647 | R67: 32782828 | S67: 3 | T67: 21 | U67: 31500
B68: 本國籍 | C68: National | D68: 2013 | E68: 17117 | F68: 53206866 | G68: 685 | H68: 2061 | I68: 21025747 | J68: 1 | K68: 1 | L68: 21800 | M68: 13 | N68: 13 | O68: 650000 | P68: 1314 | Q68: 15038 | R68: 31503319 | S68: 0 | T68: 4 | U68: 6000
B69: 一般民眾 | C69: General | D69: 1905 | E69: 16261 | F69: 50375859 | G69: 644 | H69: 1938 | I69: 19734773 | J69: 1 | K69: 1 | L69: 21800 | M69: 13 | N69: 13 | O69: 650000 | P69: 1247 | Q69: 14305 | R69: 29963286 | S69: 0 | T69: 4 | U69: 6000
B70: 原住民 | C70: Abrigines | D70: 108 | E70: 856 | F70: 2831007 | G70: 41 | H70: 123 | I70: 1290974 | J70: 0 | K70: 0 | L70: 0 | M70: 0 | N70: 0 | O70: 0 | P70: 67 | Q70: 733 | R70: 1540033 | S70: 0 | T70: 0 | U70: 0
B71: 大陸籍(含港澳) | C71: Mainlander | D71: 32 | E71: 340 | F71: 846306 | G71: 5 | H71: 15 | I71: 170092 | J71: 0 | K71: 0 | L71: 0 | M71: 0 | N71: 0 | O71: 0 | P71: 26 | Q71: 314 | R71: 659714 | S71: 1 | T71: 11 | U71: 16500
B72: 外國籍 | C72: Foreigner | D72: 32 | E72: 322 | F72: 881778 | G72: 7 | H72: 21 | I72: 252983 | J72: 0 | K72: 0 | L72: 0 | M72: 0 | N72: 0 | O72: 0 | P72: 23 | Q72: 295 | R72: 619795 | S72: 2 | T72: 6 | U72: 9000
A73: 臺南市 | C73: Tainan City | D73: 1188 | E73: 11236 | F73: 30779432 | G73: 280 | H73: 846 | I73: 8899264 | J73: 0 | K73: 0 | L73: 0 | M73: 2 | N73: 2 | O73: 100000 | P73: 906 | Q73: 10382 | R73: 21771168 | S73: 0 | T73: 6 | U73: 9000
A74: 男 Male | B74: 計 | C74: Subtotal | D74: 159 | E74: 1691 | F74: 4155920 | G74: 25 | H74: 75 | I74: 760704 | J74: 0 | K74: 0 | L74: 0 | M74: 0 | N74: 0 | O74: 0 | P74: 134 | Q74: 1616 | R74: 3395216 | S74: 0 | T74: 0 | U74: 0
B75: 本國籍 | C75: National | D75: 149 | E75: 1577 | F75: 3916406 | G75: 25 | H75: 75 | I75: 760704 | J75: 0 | K75: 0 | L75: 0 | M75: 0 | N75: 0 | O75: 0 | P75: 124 | Q75: 1502 | R75: 3155702 | S75: 0 | T75: 0 | U75: 0
B76: 一般民眾 | C76: General | D76: 148 | E76: 1574 | F76: 3892062 | G76: 24 | H76: 72 | I76: 736360 | J76: 0 | K76: 0 | L76: 0 | M76: 0 | N76: 0 | O76: 0 | P76: 124 | Q76: 1502 | R76: 3155702 | S76: 0 | T76: 0 | U76: 0
B77: 原住民 | C77: Abrigines | D77: 1 | E77: 3 | F77: 24344 | G77: 1 | H77: 3 | I77: 24344 | J77: 0 | K77: 0 | L77: 0 | M77: 0 | N77: 0 | O77: 0 | P77: 0 | Q77: 0 | R77: 0 | S77: 0 | T77: 0 | U77: 0
B78: 大陸籍(含港澳) | C78: Mainlander | D78: 3 | E78: 36 | F78: 75636 | G78: 0 | H78: 0 | I78: 0 | J78: 0 | K78: 0 | L78: 0 | M78: 0 | N78: 0 | O78: 0 | P78: 3 | Q78: 36 | R78: 75636 | S78: 0 | T78: 0 | U78: 0
B79: 外國籍 | C79: Foreigner | D79: 7 | E79: 78 | F79: 163878 | G79: 0 | H79: 0 | I79: 0 | J79: 0 | K79: 0 | L79: 0 | M79: 0 | N79: 0 | O79: 0 | P79: 7 | Q79: 78 | R79: 163878 | S79: 0 | T79: 0 | U79: 0
A80: 女 Female | B80: 計 | C80: Subtotal | D80: 1029 | E80: 9545 | F80: 26623512 | G80: 255 | H80: 771 | I80: 8138560 | J80: 0 | K80: 0 | L80: 0 | M80: 2 | N80: 2 | O80: 100000 | P80: 772 | Q80: 8766 | R80: 18375952 | S80: 0 | T80: 6 | U80: 9000
B81: 本國籍 | C81: National | D81: 991 | E81: 9171 | F81: 25692039 | G81: 249 | H81: 753 | I81: 7950841 | J81: 0 | K81: 0 | L81: 0 | M81: 2 | N81: 2 | O81: 100000 | P81: 740 | Q81: 8410 | R81: 17632198 | S81: 0 | T81: 6 | U81: 9000
B82: 一般民眾 | C82: General | D82: 970 | E82: 8970 | F82: 25111347 | G82: 242 | H82: 732 | I82: 7748329 | J82: 0 | K82: 0 | L82: 0 | M82: 2 | N82: 2 | O82: 100000 | P82: 726 | Q82: 8230 | R82: 17254018 | S82: 0 | T82: 6 | U82: 9000
B83: 原住民 | C83: Abrigines | D83: 21 | E83: 201 | F83: 580692 | G83: 7 | H83: 21 | I83: 202512 | J83: 0 | K83: 0 | L83: 0 | M83: 0 | N83: 0 | O83: 0 | P83: 14 | Q83: 180 | R83: 378180 | S83: 0 | T83: 0 | U83: 0
B84: 大陸籍(含港澳) | C84: Mainlander | D84: 15 | E84: 133 | F84: 363556 | G84: 3 | H84: 9 | I84: 103032 | J84: 0 | K84: 0 | L84: 0 | M84: 0 | N84: 0 | O84: 0 | P84: 12 | Q84: 124 | R84: 260524 | S84: 0 | T84: 0 | U84: 0
B85: 外國籍 | C85: Foreigner | D85: 23 | E85: 241 | F85: 567917 | G85: 3 | H85: 9 | I85: 84687 | J85: 0 | K85: 0 | L85: 0 | M85: 0 | N85: 0 | O85: 0 | P85: 20 | Q85: 232 | R85: 483230 | S85: 0 | T85: 0 | U85: 0
A86: 高雄市 | C86: Kaohsiung City | D86: 1097 | E86: 7591 | F86: 24682972 | G86: 481 | H86: 832 | I86: 10606224 | J86: 0 | K86: 0 | L86: 0 | M86: 4 | N86: 4 | O86: 140000 | P86: 585 | Q86: 6495 | R86: 13644216 | S86: 27 | T86: 260 | U86: 292532
A87: 男 Male | B87: 計 | C87: Subtotal | D87: 60 | E87: 504 | F87: 1390475 | G87: 15 | H87: 36 | I87: 429495 | J87: 0 | K87: 0 | L87: 0 | M87: 0 | N87: 0 | O87: 0 | P87: 42 | Q87: 447 | R87: 938648 | S87: 3 | T87: 21 | U87: 22332
B88: 本國籍 | C88: National | D88: 58 | E88: 490 | F88: 1362263 | G88: 15 | H88: 36 | I88: 429495 | J88: 0 | K88: 0 | L88: 0 | M88: 0 | N88: 0 | O88: 0 | P88: 41 | Q88: 435 | R88: 913436 | S88: 2 | T88: 19 | U88: 19332
B89: 一般民眾 | C89: General | D89: 58 | E89: 490 | F89: 1362263 | G89: 15 | H89: 36 | I89: 429495 | J89: 0 | K89: 0 | L89: 0 | M89: 0 | N89: 0 | O89: 0 | P89: 41 | Q89: 435 | R89: 913436 | S89: 2 | T89: 19 | U89: 19332
B90: 原住民 | C90: Abrigines | D90: 0 | E90: 0 | F90: 0 | G90: 0 | H90: 0 | I90: 0 | J90: 0 | K90: 0 | L90: 0 | M90: 0 | N90: 0 | O90: 0 | P90: 0 | Q90: 0 | R90: 0 | S90: 0 | T90: 0 | U90: 0
B91: 大陸籍(含港澳) | C91: Mainlander | D91: 0 | E91: 0 | F91: 0 | G91: 0 | H91: 0 | I91: 0 | J91: 0 | K91: 0 | L91: 0 | M91: 0 | N91: 0 | O91: 0 | P91: 0 | Q91: 0 | R91: 0 | S91: 0 | T91: 0 | U91: 0
B92: 外國籍 | C92: Foreigner | D92: 2 | E92: 14 | F92: 28212 | G92: 0 | H92: 0 | I92: 0 | J92: 0 | K92: 0 | L92: 0 | M92: 0 | N92: 0 | O92: 0 | P92: 1 | Q92: 12 | R92: 25212 | S92: 1 | T92: 2 | U92: 3000
A93: 女 Female | B93: 計 | C93: Subtotal | D93: 1037 | E93: 7087 | F93: 23292497 | G93: 466 | H93: 796 | I93: 10176729 | J93: 0 | K93: 0 | L93: 0 | M93: 4 | N93: 4 | O93: 140000 | P93: 543 | Q93: 6048 | R93: 12705568 | S93: 24 | T93: 239 | U93: 270200
B94: 本國籍 | C94: National | D94: 976 | E94: 6690 | F94: 21754879 | G94: 431 | H94: 730 | I94: 9322623 | J94: 0 | K94: 0 | L94: 0 | M94: 4 | N94: 4 | O94: 140000 | P94: 518 | Q94: 5736 | R94: 12050056 | S94: 23 | T94: 220 | U94: 242200
B95: 一般民眾 | C95: General | D95: 953 | E95: 6551 | F95: 21137640 | G95: 415 | H95: 700 | I95: 8934393 | J95: 0 | K95: 0 | L95: 0 | M95: 4 | N95: 4 | O95: 140000 | P95: 511 | Q95: 5627 | R95: 11821047 | S95: 23 | T95: 220 | U95: 242200
B96: 原住民 | C96: Abrigines | D96: 23 | E96: 139 | F96: 617239 | G96: 16 | H96: 30 | I96: 388230 | J96: 0 | K96: 0 | L96: 0 | M96: 0 | N96: 0 | O96: 0 | P96: 7 | Q96: 109 | R96: 229009 | S96: 0 | T96: 0 | U96: 0
B97: 大陸籍(含港澳) | C97: Mainlander | D97: 34 | E97: 211 | F97: 826339 | G97: 19 | H97: 36 | I97: 465876 | J97: 0 | K97: 0 | L97: 0 | M97: 0 | N97: 0 | O97: 0 | P97: 14 | Q97: 163 | R97: 342463 | S97: 1 | T97: 12 | U97: 18000
B98: 外國籍 | C98: Foreigner | D98: 27 | E98: 186 | F98: 711279 | G98: 16 | H98: 30 | I98: 388230 | J98: 0 | K98: 0 | L98: 0 | M98: 0 | N98: 0 | O98: 0 | P98: 11 | Q98: 149 | R98: 313049 | S98: 0 | T98: 7 | U98: 10000
A99: 宜蘭縣 | C99: Yilan County | D99: 332 | E99: 3674 | F99: 7942787 | G99: 18 | H99: 21 | I99: 240408 | J99: 13 | K99: 20 | L99: 14816 | M99: 0 | N99: 0 | O99: 0 | P99: 299 | Q99: 3589 | R99: 7621563 | S99: 2 | T99: 44 | U99: 66000
A100: 男 Male | B100: 計 | C100: Subtotal | D100: 57 | E100: 855 | F100: 1785248 | G100: 0 | H100: 0 | I100: 0 | J100: 4 | K100: 7 | L100: 3600 | M100: 0 | N100: 0 | O100: 0 | P100: 53 | Q100: 848 | R100: 1781648 | S100: 0 | T100: 0 | U100: 0
...

Sheet 105
A1: 特殊境遇家庭扶助服務 Assistance Service for Families in Hardship
A3: 民國105年,2016
A4: 地區、性別及設籍別 Locality, Sex & Identity | D4: 總計 | G4: 緊急生活扶助 | J4: 傷病醫療補助 | M4: 法律訴訟補助 | P4: 子女生活津貼 | S4: 兒童托育津貼
D5: Total | G5: Emergency Assistance for Livelihood | J5: Medical Subsidies | M5: Subsidies of Litigation | P5: Children Living Allowance | S5: Children Nursery Allowance
D6: 人數 | E6: 人次 | F6: 金額(元) | G6: 人數 | H6: 人次 | I6: 金額(元) | J6: 人數 | K6: 人次 | L6: 金額(元) | M6: 人數 | N6: 人次 | O6: 金額(元) | P6: 人數 | Q6: 人次 | R6: 金額(元) | S6: 人數 | T6: 人次 | U6: 金額(元)
D7: Persons | E7: Times of Persons | F7: Amount (NT$) | G7: Persons | H7: Times of Persons | I7: Amount (NT$) | J7: Persons | K7: Times of Persons | L7: Amount (NT$) | M7: Persons | N7: Times of Persons | O7: Amount (NT$) | P7: Persons | Q7: Times of Persons | R7: Amount (NT$) | S7: Persons | T7: Times of Persons | U7: Amount (NT$)
A8: 總計 | C8: Total | D8: 16223 | E8: 127966 | F8: 430747456 | G8: 6235 | H8: 16881 | I8: 205781479 | J8: 98 | K8: 132 | L8: 820634 | M8: 80 | N8: 80 | O8: 3697000 | P8: 9687 | Q8: 109394 | R8: 218347923 | S8: 123 | T8: 1479 | U8: 2100420
A9: 男 Male | B9: 計 | C9: Subtotal | D9: 2230 | E9: 21243 | F9: 56807115 | G9: 560 | H9: 1604 | I9: 17638607 | J9: 15 | K9: 15 | L9: 124780 | M9: 0 | N9: 0 | O9: 0 | P9: 1623 | Q9: 19339 | R9: 38641788 | S9: 32 | T9: 285 | U9: 401940
B10: 本國籍 | C10: National | D10: 2195 | E10: 20936 | F10: 55846374 | G10: 548 | H10: 1568 | I10: 17220137 | J10: 15 | K10: 15 | L10: 124780 | M10: 0 | N10: 0 | O10: 0 | P10: 1600 | Q10: 19068 | R10: 38099517 | S10: 32 | T10: 285 | U10: 401940
B11: 一般民眾 | C11: General | D11: 2062 | E11: 19761 | F11: 52493737 | G11: 502 | H11: 1442 | I11: 15966549 | J11: 15 | K11: 15 | L11: 124780 | M11: 0 | N11: 0 | O11: 0 | P11: 1513 | Q11: 18019 | R11: 36000468 | S11: 32 | T11: 285 | U11: 401940
B12: 原住民 | C12: Abrigines | D12: 133 | E12: 1175 | F12: 3352637 | G12: 46 | H12: 126 | I12: 1253588 | J12: 0 | K12: 0 | L12: 0 | M12: 0 | N12: 0 | O12: 0 | P12: 87 | Q12: 1049 | R12: 2099049 | S12: 0 | T12: 0 | U12: 0
B13: 大陸籍(含港澳) | C13: Mainlander | D13: 17 | E13: 134 | F13: 524637 | G13: 9 | H13: 27 | I13: 310530 | J13: 0 | K13: 0 | L13: 0 | M13: 0 | N13: 0 | O13: 0 | P13: 8 | Q13: 107 | R13: 214107 | S13: 0 | T13: 0 | U13: 0
B14: 外國籍 | C14: Foreigner | D14: 18 | E14: 173 | F14: 436104 | G14: 3 | H14: 9 | I14: 107940 | J14: 0 | K14: 0 | L14: 0 | M14: 0 | N14: 0 | O14: 0 | P14: 15 | Q14: 164 | R14: 328164 | S14: 0 | T14: 0 | U14: 0
A15: 女 Female | B15: 計 | C15: Subtotal | D15: 13993 | E15: 106723 | F15: 373940341 | G15: 5675 | H15: 15277 | I15: 188142872 | J15: 83 | K15: 117 | L15: 695854 | M15: 80 | N15: 80 | O15: 3697000 | P15: 8064 | Q15: 90055 | R15: 179706135 | S15: 91 | T15: 1194 | U15: 1698480
B16: 本國籍 | C16: National | D16: 13616 | E16: 103909 | F16: 363904522 | G16: 5520 | H16: 14880 | I16: 183049387 | J16: 82 | K16: 116 | L16: 684553 | M16: 77 | N16: 77 | O16: 3547000 | P16: 7852 | Q16: 87701 | R16: 175022602 | S16: 85 | T16: 1135 | U16: 1600980
B17: 一般民眾 | C17: General | D17: 12723 | E17: 97751 | F17: 341528979 | G17: 5105 | H17: 13791 | I17: 170777080 | J17: 82 | K17: 116 | L17: 684553 | M17: 77 | N17: 77 | O17: 3547000 | P17: 7375 | Q17: 82638 | R17: 164928366 | S17: 84 | T17: 1129 | U17: 1591980
B18: 原住民 | C18: Abrigines | D18: 893 | E18: 6158 | F18: 22375543 | G18: 415 | H18: 1089 | I18: 12272307 | J18: 0 | K18: 0 | L18: 0 | M18: 0 | N18: 0 | O18: 0 | P18: 477 | Q18: 5063 | R18: 10094236 | S18: 1 | T18: 6 | U18: 9000
B19: 大陸籍(含港澳) | C19: Mainlander | D19: 180 | E19: 1236 | F19: 5047212 | G19: 87 | H19: 226 | I19: 2912263 | J19: 1 | K19: 1 | L19: 11301 | M19: 3 | N19: 3 | O19: 150000 | P19: 85 | Q19: 963 | R19: 1900148 | S19: 4 | T19: 43 | U19: 73500
B20: 外國籍 | C20: Foreigner | D20: 197 | E20: 1578 | F20: 4988607 | G20: 68 | H20: 171 | I20: 2181222 | J20: 0 | K20: 0 | L20: 0 | M20: 0 | N20: 0 | O20: 0 | P20: 127 | Q20: 1391 | R20: 2783385 | S20: 2 | T20: 16 | U20: 24000
A21: 新北市 | C21: New Taipei City | D21: 1269 | E21: 3971 | F21: 47279364 | G21: 1239 | H21: 3717 | I21: 46413947 | J21: 2 | K21: 2 | L21: 121170 | M21: 5 | N21: 5 | O21: 250000 | P21: 23 | Q21: 247 | R21: 494247 | S21: 0 | T21: 0 | U21: 0
A22: 男 Male | B22: 計 | C22: Subtotal | D22: 109 | E22: 340 | F22: 3909913 | G22: 107 | H22: 321 | I22: 3871894 | J22: 0 | K22: 0 | L22: 0 | M22: 0 | N22: 0 | O22: 0 | P22: 2 | Q22: 19 | R22: 38019 | S22: 0 | T22: 0 | U22: 0
B23: 本國籍 | C23: National | D23: 109 | E23: 340 | F23: 3909913 | G23: 107 | H23: 321 | I23: 3871894 | J23: 0 | K23: 0 | L23: 0 | M23: 0 | N23: 0 | O23: 0 | P23: 2 | Q23: 19 | R23: 38019 | S23: 0 | T23: 0 | U23: 0
B24: 一般民眾 | C24: General | D24: 109 | E24: 340 | F24: 3909913 | G24: 107 | H24: 321 | I24: 3871894 | J24: 0 | K24: 0 | L24: 0 | M24: 0 | N24: 0 | O24: 0 | P24: 2 | Q24: 19 | R24: 38019 | S24: 0 | T24: 0 | U24: 0
B25: 原住民 | C25: Abrigines | D25: 0 | E25: 0 | F25: 0 | G25: 0 | H25: 0 | I25: 0 | J25: 0 | K25: 0 | L25: 0 | M25: 0 | N25: 0 | O25: 0 | P25: 0 | Q25: 0 | R25: 0 | S25: 0 | T25: 0 | U25: 0
B26: 大陸籍(含港澳) | C26: Mainlander | D26: 0 | E26: 0 | F26: 0 | G26: 0 | H26: 0 | I26: 0 | J26: 0 | K26: 0 | L26: 0 | M26: 0 | N26: 0 | O26: 0 | P26: 0 | Q26: 0 | R26: 0 | S26: 0 | T26: 0 | U26: 0
B27: 外國籍 | C27: Foreigner | D27: 0 | E27: 0 | F27: 0 | G27: 0 | H27: 0 | I27: 0 | J27: 0 | K27: 0 | L27: 0 | M27: 0 | N27: 0 | O27: 0 | P27: 0 | Q27: 0 | R27: 0 | S27: 0 | T27: 0 | U27: 0
A28: 女 Female | B28: 計 | C28: Subtotal | D28: 1160 | E28: 3631 | F28: 43369451 | G28: 1132 | H28: 3396 | I28: 42542053 | J28: 2 | K28: 2 | L28: 121170 | M28: 5 | N28: 5 | O28: 250000 | P28: 21 | Q28: 228 | R28: 456228 | S28: 0 | T28: 0 | U28: 0
B29: 本國籍 | C29: National | D29: 1138 | E29: 3562 | F29: 42581042 | G29: 1112 | H29: 3336 | I29: 41771653 | J29: 2 | K29: 2 | L29: 121170 | M29: 5 | N29: 5 | O29: 250000 | P29: 19 | Q29: 219 | R29: 438219 | S29: 0 | T29: 0 | U29: 0
B30: 一般民眾 | C30: General | D30: 1102 | E30: 3454 | F30: 41196322 | G30: 1076 | H30: 3228 | I30: 40386933 | J30: 2 | K30: 2 | L30: 121170 | M30: 5 | N30: 5 | O30: 250000 | P30: 19 | Q30: 219 | R30: 438219 | S30: 0 | T30: 0 | U30: 0
B31: 原住民 | C31: Abrigines | D31: 36 | E31: 108 | F31: 1384720 | G31: 36 | H31: 108 | I31: 1384720 | J31: 0 | K31: 0 | L31: 0 | M31: 0 | N31: 0 | O31: 0 | P31: 0 | Q31: 0 | R31: 0 | S31: 0 | T31: 0 | U31: 0
B32: 大陸籍(含港澳) | C32: Mainlander | D32: 16 | E32: 51 | F32: 557289 | G32: 14 | H32: 42 | I32: 539280 | J32: 0 | K32: 0 | L32: 0 | M32: 0 | N32: 0 | O32: 0 | P32: 2 | Q32: 9 | R32: 18009 | S32: 0 | T32: 0 | U32: 0
B33: 外國籍 | C33: Foreigner | D33: 6 | E33: 18 | F33: 231120 | G33: 6 | H33: 18 | I33: 231120 | J33: 0 | K33: 0 | L33: 0 | M33: 0 | N33: 0 | O33: 0 | P33: 0 | Q33: 0 | R33: 0 | S33: 0 | T33: 0 | U33: 0
A34: 臺北市 | C34: Taipei City | D34: 1592 | E34: 8260 | F34: 51264574 | G34: 957 | H34: 2602 | I34: 38285530 | J34: 54 | K34: 54 | L34: 167892 | M34: 39 | N34: 39 | O34: 1833000 | P34: 529 | Q34: 5311 | R34: 10609302 | S34: 13 | T34: 254 | U34: 368850
A35: 男 Male | B35: 計 | C35: Subtotal | D35: 86 | E35: 492 | F35: 2509451 | G35: 50 | H35: 138 | I35: 1884582 | J35: 5 | K35: 5 | L35: 800 | M35: 0 | N35: 0 | O35: 0 | P35: 22 | Q35: 219 | R35: 438219 | S35: 9 | T35: 130 | U35: 185850
B36: 本國籍 | C36: National | D36: 86 | E36: 492 | F36: 2509451 | G36: 50 | H36: 138 | I36: 1884582 | J36: 5 | K36: 5 | L36: 800 | M36: 0 | N36: 0 | O36: 0 | P36: 22 | Q36: 219 | R36: 438219 | S36: 9 | T36: 130 | U36: 185850
B37: 一般民眾 | C37: General | D37: 86 | E37: 492 | F37: 2509451 | G37: 50 | H37: 138 | I37: 1884582 | J37: 5 | K37: 5 | L37: 800 | M37: 0 | N37: 0 | O37: 0 | P37: 22 | Q37: 219 | R37: 438219 | S37: 9 | T37: 130 | U37: 185850
B38: 原住民 | C38: Abrigines | D38: 0 | E38: 0 | F38: 0 | G38: 0 | H38: 0 | I38: 0 | J38: 0 | K38: 0 | L38: 0 | M38: 0 | N38: 0 | O38: 0 | P38: 0 | Q38: 0 | R38: 0 | S38: 0 | T38: 0 | U38: 0
B39: 大陸籍(含港澳) | C39: Mainlander | D39: 0 | E39: 0 | F39: 0 | G39: 0 | H39: 0 | I39: 0 | J39: 0 | K39: 0 | L39: 0 | M39: 0 | N39: 0 | O39: 0 | P39: 0 | Q39: 0 | R39: 0 | S39: 0 | T39: 0 | U39: 0
B40: 外國籍 | C40: Foreigner | D40: 0 | E40: 0 | F40: 0 | G40: 0 | H40: 0 | I40: 0 | J40: 0 | K40: 0 | L40: 0 | M40: 0 | N40: 0 | O40: 0 | P40: 0 | Q40: 0 | R40: 0 | S40: 0 | T40: 0 | U40: 0
A41: 女 Female | B41: 計 | C41: Subtotal | D41: 1506 | E41: 7768 | F41: 48755123 | G41: 907 | H41: 2464 | I41: 36400948 | J41: 49 | K41: 49 | L41: 167092 | M41: 39 | N41: 39 | O41: 1833000 | P41: 507 | Q41: 5092 | R41: 10171083 | S41: 4 | T41: 124 | U41: 183000
B42: 本國籍 | C42: National | D42: 1463 | E42: 7656 | F42: 46980562 | G42: 868 | H42: 2356 | I42: 34787688 | J42: 48 | K42: 48 | L42: 155791 | M42: 36 | N42: 36 | O42: 1683000 | P42: 507 | Q42: 5092 | R42: 10171083 | S42: 4 | T42: 124 | U42: 183000
B43: 一般民眾 | C43: General | D43: 1444 | E43: 7534 | F43: 46287820 | G43: 855 | H43: 2322 | I43: 34271034 | J43: 48 | K43: 48 | L43: 155791 | M43: 36 | N43: 36 | O43: 1683000 | P43: 501 | Q43: 5004 | R43: 9994995 | S43: 4 | T43: 124 | U43: 183000
B44: 原住民 | C44: Abrigines | D44: 19 | E44: 122 | F44: 692742 | G44: 13 | H44: 34 | I44: 516654 | J44: 0 | K44: 0 | L44: 0 | M44: 0 | N44: 0 | O44: 0 | P44: 6 | Q44: 88 | R44: 176088 | S44: 0 | T44: 0 | U44: 0
B45: 大陸籍(含港澳) | C45: Mainlander | D45: 27 | E45: 70 | F45: 1140757 | G45: 23 | H45: 66 | I45: 979456 | J45: 1 | K45: 1 | L45: 11301 | M45: 3 | N45: 3 | O45: 150000 | P45: 0 | Q45: 0 | R45: 0 | S45: 0 | T45: 0 | U45: 0
B46: 外國籍 | C46: Foreigner | D46: 16 | E46: 42 | F46: 633804 | G46: 16 | H46: 42 | I46: 633804 | J46: 0 | K46: 0 | L46: 0 | M46: 0 | N46: 0 | O46: 0 | P46: 0 | Q46: 0 | R46: 0 | S46: 0 | T46: 0 | U46: 0
A47: 桃園市 | C47: Taoyuan City | D47: 1079 | E47: 10261 | F47: 26363367 | G47: 308 | H47: 499 | I47: 6824916 | J47: 2 | K47: 2 | L47: 5281 | M47: 1 | N47: 1 | O47: 50000 | P47: 767 | Q47: 9670 | R47: 19349670 | S47: 1 | T47: 89 | U47: 133500
A48: 男 Male | B48: 計 | C48: Subtotal | D48: 396 | E48: 4696 | F48: 9710062 | G48: 21 | H48: 29 | I48: 379912 | J48: 0 | K48: 0 | L48: 0 | M48: 0 | N48: 0 | O48: 0 | P48: 375 | Q48: 4650 | R48: 9304650 | S48: 0 | T48: 17 | U48: 25500
B49: 本國籍 | C49: National | D49: 396 | E49: 4696 | F49: 9710062 | G49: 21 | H49: 29 | I49: 379912 | J49: 0 | K49: 0 | L49: 0 | M49: 0 | N49: 0 | O49: 0 | P49: 375 | Q49: 4650 | R49: 9304650 | S49: 0 | T49: 17 | U49: 25500
B50: 一般民眾 | C50: General | D50: 376 | E50: 4464 | F50: 9228756 | G50: 20 | H50: 27 | I50: 358836 | J50: 0 | K50: 0 | L50: 0 | M50: 0 | N50: 0 | O50: 0 | P50: 356 | Q50: 4420 | R50: 8844420 | S50: 0 | T50: 17 | U50: 25500
B51: 原住民 | C51: Abrigines | D51: 20 | E51: 232 | F51: 481306 | G51: 1 | H51: 2 | I51: 21076 | J51: 0 | K51: 0 | L51: 0 | M51: 0 | N51: 0 | O51: 0 | P51: 19 | Q51: 230 | R51: 460230 | S51: 0 | T51: 0 | U51: 0
B52: 大陸籍(含港澳) | C52: Mainlander | D52: 0 | E52: 0 | F52: 0 | G52: 0 | H52: 0 | I52: 0 | J52: 0 | K52: 0 | L52: 0 | M52: 0 | N52: 0 | O52: 0 | P52: 0 | Q52: 0 | R52: 0 | S52: 0 | T52: 0 | U52: 0
B53: 外國籍 | C53: Foreigner | D53: 0 | E53: 0 | F53: 0 | G53: 0 | H53: 0 | I53: 0 | J53: 0 | K53: 0 | L53: 0 | M53: 0 | N53: 0 | O53: 0 | P53: 0 | Q53: 0 | R53: 0 | S53: 0 | T53: 0 | U53: 0
A54: 女 Female | B54: 計 | C54: Subtotal | D54: 683 | E54: 5565 | F54: 16653305 | G54: 287 | H54: 470 | I54: 6445004 | J54: 2 | K54: 2 | L54: 5281 | M54: 1 | N54: 1 | O54: 50000 | P54: 392 | Q54: 5020 | R54: 10045020 | S54: 1 | T54: 72 | U54: 108000
B55: 本國籍 | C55: National | D55: 680 | E55: 5555 | F55: 16565153 | G55: 284 | H55: 464 | I55: 6362852 | J55: 2 | K55: 2 | L55: 5281 | M55: 1 | N55: 1 | O55: 50000 | P55: 392 | Q55: 5020 | R55: 10045020 | S55: 1 | T55: 68 | U55: 102000
B56: 一般民眾 | C56: General | D56: 630 | E56: 5203 | F56: 15264560 | G56: 256 | H56: 413 | I56: 5664560 | J56: 2 | K56: 2 | L56: 5281 | M56: 1 | N56: 1 | O56: 50000 | P56: 370 | Q56: 4719 | R56: 9442719 | S56: 1 | T56: 68 | U56: 102000
B57: 原住民 | C57: Abrigines | D57: 50 | E57: 352 | F57: 1300593 | G57: 28 | H57: 51 | I57: 698292 | J57: 0 | K57: 0 | L57: 0 | M57: 0 | N57: 0 | O57: 0 | P57: 22 | Q57: 301 | R57: 602301 | S57: 0 | T57: 0 | U57: 0
B58: 大陸籍(含港澳) | C58: Mainlander | D58: 0 | E58: 4 | F58: 6000 | G58: 0 | H58: 0 | I58: 0 | J58: 0 | K58: 0 | L58: 0 | M58: 0 | N58: 0 | O58: 0 | P58: 0 | Q58: 0 | R58: 0 | S58: 0 | T58: 4 | U58: 6000
B59: 外國籍 | C59: Foreigner | D59: 3 | E59: 6 | F59: 82152 | G59: 3 | H59: 6 | I59: 82152 | J59: 0 | K59: 0 | L59: 0 | M59: 0 | N59: 0 | O59: 0 | P59: 0 | Q59: 0 | R59: 0 | S59: 0 | T59: 0 | U59: 0
A60: 臺中市 | C60: Taichung City | D60: 2425 | E60: 19734 | F60: 64720319 | G60: 830 | H60: 2496 | I60: 29102694 | J60: 4 | K60: 5 | L60: 280472 | M60: 24 | N60: 24 | O60: 1200000 | P60: 1566 | Q60: 17208 | R60: 34135653 | S60: 1 | T60: 1 | U60: 1500
A61: 男 Male | B61: 計 | C61: Subtotal | D61: 198 | E61: 1931 | F61: 5300847 | G61: 48 | H61: 144 | I61: 1753074 | J61: 0 | K61: 0 | L61: 0 | M61: 0 | N61: 0 | O61: 0 | P61: 150 | Q61: 1787 | R61: 3547773 | S61: 0 | T61: 0 | U61: 0
B62: 本國籍 | C62: National | D62: 194 | E62: 1894 | F62: 5160312 | G62: 46 | H62: 138 | I62: 1674570 | J62: 0 | K62: 0 | L62: 0 | M62: 0 | N62: 0 | O62: 0 | P62: 148 | Q62: 1756 | R62: 3485742 | S62: 0 | T62: 0 | U62: 0
B63: 一般民眾 | C63: General | D63: 187 | E63: 1821 | F63: 4990990 | G63: 45 | H63: 135 | I63: 1645318 | J63: 0 | K63: 0 | L63: 0 | M63: 0 | N63: 0 | O63: 0 | P63: 142 | Q63: 1686 | R63: 3345672 | S63: 0 | T63: 0 | U63: 0
B64: 原住民 | C64: Abrigines | D64: 7 | E64: 73 | F64: 169322 | G64: 1 | H64: 3 | I64: 29252 | J64: 0 | K64: 0 | L64: 0 | M64: 0 | N64: 0 | O64: 0 | P64: 6 | Q64: 70 | R64: 140070 | S64: 0 | T64: 0 | U64: 0
B65: 大陸籍(含港澳) | C65: Mainlander | D65: 2 | E65: 18 | F65: 69267 | G65: 1 | H65: 3 | I65: 39252 | J65: 0 | K65: 0 | L65: 0 | M65: 0 | N65: 0 | O65: 0 | P65: 1 | Q65: 15 | R65: 30015 | S65: 0 | T65: 0 | U65: 0
B66: 外國籍 | C66: Foreigner | D66: 2 | E66: 19 | F66: 71268 | G66: 1 | H66: 3 | I66: 39252 | J66: 0 | K66: 0 | L66: 0 | M66: 0 | N66: 0 | O66: 0 | P66: 1 | Q66: 16 | R66: 32016 | S66: 0 | T66: 0 | U66: 0
A67: 女 Female | B67: 計 | C67: Subtotal | D67: 2227 | E67: 17803 | F67: 59419472 | G67: 782 | H67: 2352 | I67: 27349620 | J67: 4 | K67: 5 | L67: 280472 | M67: 24 | N67: 24 | O67: 1200000 | P67: 1416 | Q67: 15421 | R67: 30587880 | S67: 1 | T67: 1 | U67: 1500
B68: 本國籍 | C68: National | D68: 2143 | E68: 17004 | F68: 57224026 | G68: 763 | H68: 2295 | I68: 26638916 | J68: 4 | K68: 5 | L68: 280472 | M68: 24 | N68: 24 | O68: 1200000 | P68: 1351 | Q68: 14679 | R68: 29103138 | S68: 1 | T68: 1 | U68: 1500
B69: 一般民眾 | C69: General | D69: 2039 | E69: 16093 | F69: 54414088 | G69: 728 | H69: 2190 | I69: 25425776 | J69: 4 | K69: 5 | L69: 280472 | M69: 24 | N69: 24 | O69: 1200000 | P69: 1282 | Q69: 13873 | R69: 27506340 | S69: 1 | T69: 1 | U69: 1500
B70: 原住民 | C70: Abrigines | D70: 104 | E70: 911 | F70: 2809938 | G70: 35 | H70: 105 | I70: 1213140 | J70: 0 | K70: 0 | L70: 0 | M70: 0 | N70: 0 | O70: 0 | P70: 69 | Q70: 806 | R70: 1596798 | S70: 0 | T70: 0 | U70: 0
B71: 大陸籍(含港澳) | C71: Mainlander | D71: 43 | E71: 396 | F71: 1084637 | G71: 9 | H71: 27 | I71: 346268 | J71: 0 | K71: 0 | L71: 0 | M71: 0 | N71: 0 | O71: 0 | P71: 34 | Q71: 369 | R71: 738369 | S71: 0 | T71: 0 | U71: 0
B72: 外國籍 | C72: Foreigner | D72: 41 | E72: 403 | F72: 1110809 | G72: 10 | H72: 30 | I72: 364436 | J72: 0 | K72: 0 | L72: 0 | M72: 0 | N72: 0 | O72: 0 | P72: 31 | Q72: 373 | R72: 746373 | S72: 0 | T72: 0 | U72: 0
