Workbook

Sheet 113
A1: 特殊境遇家庭扶助服務 Assistance Service for Families in Hardship
A2: 113年 ,2024 | D2: =IF(D8=SUM(D21,D34,D47,D60,D73,D86,D99,D112,D125,D138,D151,D164,D177,D190,D203,D216,D229,D242,D255,D268,D281,D294),"","*") | E2: =IF(E8=SUM(E21,E34,E47,E60,E73,E86,E99,E112,E125,E138,E151,E164,E177,E190,E203,E216,E229,E242,E255,E268,E281,E294),"","*") | F2: =IF(F8=SUM(F21,F34,F47,F60,F73,F86,F99,F112,F125,F138,F151,F164,F177,F190,F203,F216,F229,F242,F255,F268,F281,F294),"","*") | G2: =IF(G8=SUM(G21,G34,G47,G60,G73,G86,G99,G112,G125,G138,G151,G164,G177,G190,G203,G216,G229,G242,G255,G268,G281,G294),"","*") | H2: =IF(H8=SUM(H21,H34,H47,H60,H73,H86,H99,H112,H125,H138,H151,H164,H177,H190,H203,H216,H229,H242,H255,H268,H281,H294),"","*") | I2: =IF(I8=SUM(I21,I34,I47,I60,I73,I86,I99,I112,I125,I138,I151,I164,I177,I190,I203,I216,I229,I242,I255,I268,I281,I294),"","*") | J2: =IF(J8=SUM(J21,J34,J47,J60,J73,J86,J99,J112,J125,J138,J151,J164,J177,J190,J203,J216,J229,J242,J255,J268,J281,J294),"","*") | K2: =IF(K8=SUM(K21,K34,K47,K60,K73,K86,K99,K112,K125,K138,K151,K164,K177,K190,K203,K216,K229,K242,K255,K268,K281,K294),"","*") | ... U2: =IF(U8=SUM(U21,U34,U47,U60,U73,U86,U99,U112,U125,U138,U151,U164,U177,U190,U203,U216,U229,U242,U255,U268,U281,U294),"","*")
A3: 單位：人;人次;金額 | D3: =IF(D8=SUM(D21,D34,D47,D60,D73,D86,D99,D112,D125,D138,D151,D164,D177,D190,D203,D216,D229,D242,D255,D268,D281,D294),"",SUM(D21,D34,D47,D60,D73,D86,D99,D112,D125,D138,D151,D164,D177,D190,D203,D216,D229,D242,D255,D268,D281,D294)) | E3: =IF(E8=SUM(E21,E34,E47,E60,E73,E86,E99,E112,E125,E138,E151,E164,E177,E190,E203,E216,E229,E242,E255,E268,E281,E294),"",SUM(E21,E34,E47,E60,E73,E86,E99,E112,E125,E138,E151,E164,E177,E190,E203,E216,E229,E242,E255,E268,E281,E294)) | F3: =IF(F8=SUM(F21,F34,F47,F60,F73,F86,F99,F112,F125,F138,F151,F164,F177,F190,F203,F216,F229,F242,F255,F268,F281,F294),"",SUM(F21,F34,F47,F60,F73,F86,F99,F112,F125,F138,F151,F164,F177,F190,F203,F216,F229,F242,F255,F268,F281,F294)) | G3: =IF(G8=SUM(G21,G34,G47,G60,G73,G86,G99,G112,G125,G138,G151,G164,G177,G190,G203,G216,G229,G242,G255,G268,G281,G294),"",SUM(G21,G34,G47,G60,G73,G86,G99,G112,G125,G138,G151,G164,G177,G190,G203,G216,G229,G242,G255,G268,G281,G294)) | H3: =IF(H8=SUM(H21,H34,H47,H60,H73,H86,H99,H112,H125,H138,H151,H164,H177,H190,H203,H216,H229,H242,H255,H268,H281,H294),"",SUM(H21,H34,H47,H60,H73,H86,H99,H112,H125,H138,H151,H164,H177,H190,H203,H216,H229,H242,H255,H268,H281,H294)) | I3: =IF(I8=SUM(I21,I34,I47,I60,I73,I86,I99,I112,I125,I138,I151,I164,I177,I190,I203,I216,I229,I242,I255,I268,I281,I294),"",SUM(I21,I34,I47,I60,I73,I86,I99,I112,I125,I138,I151,I164,I177,I190,I203,I216,I229,I242,I255,I268,I281,I294)) | J3: =IF(J8=SUM(J21,J34,J47,J60,J73,J86,J99,J112,J125,J138,J151,J164,J177,J190,J203,J216,J229,J242,J255,J268,J281,J294),"",SUM(J21,J34,J47,J60,J73,J86,J99,J112,J125,J138,J151,J164,J177,J190,J203,J216,J229,J242,J255,J268,J281,J294)) | K3: =IF(K8=SUM(K21,K34,K47,K60,K73,K86,K99,K112,K125,K138,K151,K164,K177,K190,K203,K216,K229,K242,K255,K268,K281,K294),"",SUM(K21,K34,K47,K60,K73,K86,K99,K112,K125,K138,K151,K164,K177,K190,K203,K216,K229,K242,K255,K268,K281,K294)) | ... U3: =IF(U8=SUM(U21,U34,U47,U60,U73,U86,U99,U112,U125,U138,U151,U164,U177,U190,U203,U216,U229,U242,U255,U268,U281,U294),"",SUM(U21,U34,U47,U60,U73,U86,U99,U112,U125,U138,U151,U164,U177,U190,U203,U216,U229,U242,U255,U268,U281,U294))
A4: 地區、性別及設籍別 Locality, Sex & Identity | D4: 總計 | G4: 緊急生活扶助 | J4: 傷病醫療補助 | M4: 法律訴訟補助 | P4: 子女生活津貼 | S4: 兒童托育津貼
D5: Total | G5: Emergency Assistance for Livelihood | J5: Medical Subsidies | M5: Subsidies of Litigation | P5: Children Living Allowance | S5: Children Nursery Allowance
D6: 人數 | E6: 人次 | F6: 金額(元) | G6: 人數 | H6: 人次 | I6: 金額(元) | J6: 人數 | K6: 人次 | L6: 金額(元) | M6: 人數 | N6: 人次 | O6: 金額(元) | P6: 人數 | Q6: 人次 | R6: 金額(元) | S6: 人數 | T6: 人次 | U6: 金額(元)
D7: Persons | E7: Times of Persons | F7: Amount (NT$) | G7: Persons | H7: Times of Persons | I7: Amount (NT$) | J7: Persons | K7: Times of Persons | L7: Amount (NT$) | M7: Persons | N7: Times of Persons | O7: Amount (NT$) | P7: Persons | Q7: Times of Persons | R7: Amount (NT$) | S7: Persons | T7: Times of Persons | U7: Amount (NT$)
A8: 總計 | C8: Total | D8: 14439 | E8: 127302 | F8: 464818975 | G8: 3791 | H8: 10249 | I8: 144632135 | J8: 75 | K8: 75 | L8: 1392854 | M8: 45 | N8: 45 | O8: 2120000 | P8: 10430 | Q8: 116146 | R8: 315560256 | S8: 98 | T8: 787 | U8: 1113730
A9: 男 Male | B9: 計 | C9: Subtotal | D9: 1935 | E9: 16680 | F9: 59452162 | G9: 439 | H9: 1235 | I9: 17397472 | J9: 24 | K9: 24 | L9: 559804 | M9: 1 | N9: 1 | O9: 10000 | P9: 1451 | Q9: 15243 | R9: 41225685 | S9: 20 | T9: 177 | U9: 259201
B10: 本國籍 | C10: National | D10: 1895 | E10: 16425 | F10: 58515429 | G10: 432 | H10: 1214 | I10: 17090355 | J10: 24 | K10: 24 | L10: 559804 | M10: 1 | N10: 1 | O10: 10000 | P10: 1418 | Q10: 15009 | R10: 40596069 | S10: 20 | T10: 177 | U10: 259201
B11: 一般民眾 | C11: General | D11: 1713 | E11: 15053 | F11: 53770508 | G11: 398 | H11: 1116 | I11: 15892239 | J11: 23 | K11: 23 | L11: 449764 | M11: 1 | N11: 1 | O11: 10000 | P11: 1272 | Q11: 13739 | R11: 37162304 | S11: 19 | T11: 174 | U11: 256201
B12: 原住民 | C12: Abrigines | D12: 182 | E12: 1372 | F12: 4744921 | G12: 34 | H12: 98 | I12: 1198116 | J12: 1 | K12: 1 | L12: 110040 | M12: 0 | N12: 0 | O12: 0 | P12: 146 | Q12: 1270 | R12: 3433765 | S12: 1 | T12: 3 | U12: 3000
B13: 大陸籍(含港澳) | C13: Mainlander | D13: 26 | E13: 149 | F13: 507755 | G13: 3 | H13: 9 | I13: 136357 | J13: 0 | K13: 0 | L13: 0 | M13: 0 | N13: 0 | O13: 0 | P13: 23 | Q13: 140 | R13: 371398 | S13: 0 | T13: 0 | U13: 0
B14: 外國籍 | C14: Foreigner | D14: 14 | E14: 106 | F14: 428978 | G14: 4 | H14: 12 | I14: 170760 | J14: 0 | K14: 0 | L14: 0 | M14: 0 | N14: 0 | O14: 0 | P14: 10 | Q14: 94 | R14: 258218 | S14: 0 | T14: 0 | U14: 0
A15: 女 Female | B15: 計 | C15: Subtotal | D15: 12504 | E15: 110622 | F15: 405366813 | G15: 3352 | H15: 9014 | I15: 127234663 | J15: 51 | K15: 51 | L15: 833050 | M15: 44 | N15: 44 | O15: 2110000 | P15: 8979 | Q15: 100903 | R15: 274334571 | S15: 78 | T15: 610 | U15: 854529
B16: 本國籍 | C16: National | D16: 12387 | E16: 109536 | F16: 400789559 | G16: 3308 | H16: 8899 | I16: 125299845 | J16: 50 | K16: 50 | L16: 814582 | M16: 44 | N16: 44 | O16: 2110000 | P16: 8909 | Q16: 99953 | R16: 271735695 | S16: 76 | T16: 590 | U16: 829437
B17: 一般民眾 | C17: General | D17: 11362 | E17: 101317 | F17: 369546476 | G17: 2965 | H17: 8013 | I17: 113760045 | J17: 50 | K17: 50 | L17: 814582 | M17: 44 | N17: 44 | O17: 2110000 | P17: 8230 | Q17: 92662 | R17: 252087309 | S17: 73 | T17: 548 | U17: 774540
B18: 原住民 | C18: Abrigines | D18: 1025 | E18: 8219 | F18: 31243083 | G18: 343 | H18: 886 | I18: 11539800 | J18: 0 | K18: 0 | L18: 0 | M18: 0 | N18: 0 | O18: 0 | P18: 679 | Q18: 7291 | R18: 19648386 | S18: 3 | T18: 42 | U18: 54897
B19: 大陸籍(含港澳) | C19: Mainlander | D19: 60 | E19: 597 | F19: 2379358 | G19: 20 | H19: 51 | I19: 874549 | J19: 1 | K19: 1 | L19: 18468 | M19: 0 | N19: 0 | O19: 0 | P19: 39 | Q19: 545 | R19: 1486341 | S19: 0 | T19: 0 | U19: 0
B20: 外國籍 | C20: Foreigner | D20: 57 | E20: 489 | F20: 2197896 | G20: 24 | H20: 64 | I20: 1060269 | J20: 0 | K20: 0 | L20: 0 | M20: 0 | N20: 0 | O20: 0 | P20: 31 | Q20: 405 | R20: 1112535 | S20: 2 | T20: 20 | U20: 25092
A21: 新北市 | C21: New Taipei City | D21: 473 | E21: 1955 | F21: 20562548 | G21: 410 | H21: 1189 | I21: 18778607 | J21: 0 | K21: 0 | L21: 0 | M21: 2 | N21: 2 | O21: 100000 | P21: 61 | Q21: 764 | R21: 1683941 | S21: 0 | T21: 0 | U21: 0
A22: 男 Male | B22: 計 | C22: Subtotal | D22: 27 | E22: 104 | F22: 988746 | G22: 21 | H22: 61 | I22: 870625 | J22: 0 | K22: 0 | L22: 0 | M22: 0 | N22: 0 | O22: 0 | P22: 6 | Q22: 43 | R22: 118121 | S22: 0 | T22: 0 | U22: 0
B23: 本國籍 | C23: National | D23: 27 | E23: 104 | F23: 988746 | G23: 21 | H23: 61 | I23: 870625 | J23: 0 | K23: 0 | L23: 0 | M23: 0 | N23: 0 | O23: 0 | P23: 6 | Q23: 43 | R23: 118121 | S23: 0 | T23: 0 | U23: 0
B24: 一般民眾 | C24: General | D24: 27 | E24: 104 | F24: 988746 | G24: 21 | H24: 61 | I24: 870625 | J24: 0 | K24: 0 | L24: 0 | M24: 0 | N24: 0 | O24: 0 | P24: 6 | Q24: 43 | R24: 118121 | S24: 0 | T24: 0 | U24: 0
B25: 原住民 | C25: Abrigines | D25: 0 | E25: 0 | F25: 0 | G25: 0 | H25: 0 | I25: 0 | J25: 0 | K25: 0 | L25: 0 | M25: 0 | N25: 0 | O25: 0 | P25: 0 | Q25: 0 | R25: 0 | S25: 0 | T25: 0 | U25: 0
B26: 大陸籍(含港澳) | C26: Mainlander | D26: 0 | E26: 0 | F26: 0 | G26: 0 | H26: 0 | I26: 0 | J26: 0 | K26: 0 | L26: 0 | M26: 0 | N26: 0 | O26: 0 | P26: 0 | Q26: 0 | R26: 0 | S26: 0 | T26: 0 | U26: 0
B27: 外國籍 | C27: Foreigner | D27: 0 | E27: 0 | F27: 0 | G27: 0 | H27: 0 | I27: 0 | J27: 0 | K27: 0 | L27: 0 | M27: 0 | N27: 0 | O27: 0 | P27: 0 | Q27: 0 | R27: 0 | S27: 0 | T27: 0 | U27: 0
A28: 女 Female | B28: 計 | C28: Subtotal | D28: 446 | E28: 1851 | F28: 19573802 | G28: 389 | H28: 1128 | I28: 17907982 | J28: 0 | K28: 0 | L28: 0 | M28: 2 | N28: 2 | O28: 100000 | P28: 55 | Q28: 721 | R28: 1565820 | S28: 0 | T28: 0 | U28: 0
B29: 本國籍 | C29: National | D29: 442 | E29: 1839 | F29: 19377002 | G29: 385 | H29: 1116 | I29: 17711182 | J29: 0 | K29: 0 | L29: 0 | M29: 2 | N29: 2 | O29: 100000 | P29: 55 | Q29: 721 | R29: 1565820 | S29: 0 | T29: 0 | U29: 0
B30: 一般民眾 | C30: General | D30: 428 | E30: 1792 | F30: 18810513 | G30: 372 | H30: 1081 | I30: 17177657 | J30: 0 | K30: 0 | L30: 0 | M30: 2 | N30: 2 | O30: 100000 | P30: 54 | Q30: 709 | R30: 1532856 | S30: 0 | T30: 0 | U30: 0
B31: 原住民 | C31: Abrigines | D31: 14 | E31: 47 | F31: 566489 | G31: 13 | H31: 35 | I31: 533525 | J31: 0 | K31: 0 | L31: 0 | M31: 0 | N31: 0 | O31: 0 | P31: 1 | Q31: 12 | R31: 32964 | S31: 0 | T31: 0 | U31: 0
B32: 大陸籍(含港澳) | C32: Mainlander | D32: 1 | E32: 3 | F32: 49200 | G32: 1 | H32: 3 | I32: 49200 | J32: 0 | K32: 0 | L32: 0 | M32: 0 | N32: 0 | O32: 0 | P32: 0 | Q32: 0 | R32: 0 | S32: 0 | T32: 0 | U32: 0
B33: 外國籍 | C33: Foreigner | D33: 3 | E33: 9 | F33: 147600 | G33: 3 | H33: 9 | I33: 147600 | J33: 0 | K33: 0 | L33: 0 | M33: 0 | N33: 0 | O33: 0 | P33: 0 | Q33: 0 | R33: 0 | S33: 0 | T33: 0 | U33: 0
A34: 臺北市 | C34: Taipei City | D34: 1332 | E34: 11331 | F34: 50337665 | G34: 416 | H34: 1145 | I34: 21846632 | J34: 28 | K34: 28 | L34: 447995 | M34: 4 | N34: 4 | O34: 150000 | P34: 884 | Q34: 10154 | R34: 27893038 | S34: 0 | T34: 0 | U34: 0
A35: 男 Male | B35: 計 | C35: Subtotal | D35: 140 | E35: 1067 | F35: 4930000 | G35: 45 | H35: 118 | I35: 2122632 | J35: 11 | K35: 11 | L35: 223429 | M35: 1 | N35: 1 | O35: 10000 | P35: 83 | Q35: 937 | R35: 2573939 | S35: 0 | T35: 0 | U35: 0
B36: 本國籍 | C36: National | D36: 140 | E36: 1067 | F36: 4930000 | G36: 45 | H36: 118 | I36: 2122632 | J36: 11 | K36: 11 | L36: 223429 | M36: 1 | N36: 1 | O36: 10000 | P36: 83 | Q36: 937 | R36: 2573939 | S36: 0 | T36: 0 | U36: 0
B37: 一般民眾 | C37: General | D37: 137 | E37: 1031 | F37: 4831108 | G37: 45 | H37: 118 | I37: 2122632 | J37: 11 | K37: 11 | L37: 223429 | M37: 1 | N37: 1 | O37: 10000 | P37: 80 | Q37: 901 | R37: 2475047 | S37: 0 | T37: 0 | U37: 0
B38: 原住民 | C38: Abrigines | D38: 3 | E38: 36 | F38: 98892 | G38: 0 | H38: 0 | I38: 0 | J38: 0 | K38: 0 | L38: 0 | M38: 0 | N38: 0 | O38: 0 | P38: 3 | Q38: 36 | R38: 98892 | S38: 0 | T38: 0 | U38: 0
B39: 大陸籍(含港澳) | C39: Mainlander | D39: 0 | E39: 0 | F39: 0 | G39: 0 | H39: 0 | I39: 0 | J39: 0 | K39: 0 | L39: 0 | M39: 0 | N39: 0 | O39: 0 | P39: 0 | Q39: 0 | R39: 0 | S39: 0 | T39: 0 | U39: 0
B40: 外國籍 | C40: Foreigner | D40: 0 | E40: 0 | F40: 0 | G40: 0 | H40: 0 | I40: 0 | J40: 0 | K40: 0 | L40: 0 | M40: 0 | N40: 0 | O40: 0 | P40: 0 | Q40: 0 | R40: 0 | S40: 0 | T40: 0 | U40: 0
...

Sheet 112
A1: 特殊境遇家庭扶助服務 Assistance Service for Families in Hardship
A2: 112年 ,2023 | D2: =IF(D8=SUM(D21,D34,D47,D60,D73,D86,D99,D112,D125,D138,D151,D164,D177,D190,D203,D216,D229,D242,D255,D268,D281,D294),"","*") | E2: =IF(E8=SUM(E21,E34,E47,E60,E73,E86,E99,E112,E125,E138,E151,E164,E177,E190,E203,E216,E229,E242,E255,E268,E281,E294),"","*") | F2: =IF(F8=SUM(F21,F34,F47,F60,F73,F86,F99,F112,F125,F138,F151,F164,F177,F190,F203,F216,F229,F242,F255,F268,F281,F294),"","*") | G2: =IF(G8=SUM(G21,G34,G47,G60,G73,G86,G99,G112,G125,G138,G151,G164,G177,G190,G203,G216,G229,G242,G255,G268,G281,G294),"","*") | H2: =IF(H8=SUM(H21,H34,H47,H60,H73,H86,H99,H112,H125,H138,H151,H164,H177,H190,H203,H216,H229,H242,H255,H268,H281,H294),"","*") | I2: =IF(I8=SUM(I21,I34,I47,I60,I73,I86,I99,I112,I125,I138,I151,I164,I177,I190,I203,I216,I229,I242,I255,I268,I281,I294),"","*") | J2: =IF(J8=SUM(J21,J34,J47,J60,J73,J86,J99,J112,J125,J138,J151,J164,J177,J190,J203,J216,J229,J242,J255,J268,J281,J294),"","*") | K2: =IF(K8=SUM(K21,K34,K47,K60,K73,K86,K99,K112,K125,K138,K151,K164,K177,K190,K203,K216,K229,K242,K255,K268,K281,K294),"","*") | ... U2: =IF(U8=SUM(U21,U34,U47,U60,U73,U86,U99,U112,U125,U138,U151,U164,U177,U190,U203,U216,U229,U242,U255,U268,U281,U294),"","*")
A3: 單位：人;人次;金額 | D3: =IF(D8=SUM(D21,D34,D47,D60,D73,D86,D99,D112,D125,D138,D151,D164,D177,D190,D203,D216,D229,D242,D255,D268,D281,D294),"",SUM(D21,D34,D47,D60,D73,D86,D99,D112,D125,D138,D151,D164,D177,D190,D203,D216,D229,D242,D255,D268,D281,D294)) | E3: =IF(E8=SUM(E21,E34,E47,E60,E73,E86,E99,E112,E125,E138,E151,E164,E177,E190,E203,E216,E229,E242,E255,E268,E281,E294),"",SUM(E21,E34,E47,E60,E73,E86,E99,E112,E125,E138,E151,E164,E177,E190,E203,E216,E229,E242,E255,E268,E281,E294)) | F3: =IF(F8=SUM(F21,F34,F47,F60,F73,F86,F99,F112,F125,F138,F151,F164,F177,F190,F203,F216,F229,F242,F255,F268,F281,F294),"",SUM(F21,F34,F47,F60,F73,F86,F99,F112,F125,F138,F151,F164,F177,F190,F203,F216,F229,F242,F255,F268,F281,F294)) | G3: =IF(G8=SUM(G21,G34,G47,G60,G73,G86,G99,G112,G125,G138,G151,G164,G177,G190,G203,G216,G229,G242,G255,G268,G281,G294),"",SUM(G21,G34,G47,G60,G73,G86,G99,G112,G125,G138,G151,G164,G177,G190,G203,G216,G229,G242,G255,G268,G281,G294)) | H3: =IF(H8=SUM(H21,H34,H47,H60,H73,H86,H99,H112,H125,H138,H151,H164,H177,H190,H203,H216,H229,H242,H255,H268,H281,H294),"",SUM(H21,H34,H47,H60,H73,H86,H99,H112,H125,H138,H151,H164,H177,H190,H203,H216,H229,H242,H255,H268,H281,H294)) | I3: =IF(I8=SUM(I21,I34,I47,I60,I73,I86,I99,I112,I125,I138,I151,I164,I177,I190,I203,I216,I229,I242,I255,I268,I281,I294),"",SUM(I21,I34,I47,I60,I73,I86,I99,I112,I125,I138,I151,I164,I177,I190,I203,I216,I229,I242,I255,I268,I281,I294)) | J3: =IF(J8=SUM(J21,J34,J47,J60,J73,J86,J99,J112,J125,J138,J151,J164,J177,J190,J203,J216,J229,J242,J255,J268,J281,J294),"",SUM(J21,J34,J47,J60,J73,J86,J99,J112,J125,J138,J151,J164,J177,J190,J203,J216,J229,J242,J255,J268,J281,J294)) | K3: =IF(K8=SUM(K21,K34,K47,K60,K73,K86,K99,K112,K125,K138,K151,K164,K177,K190,K203,K216,K229,K242,K255,K268,K281,K294),"",SUM(K21,K34,K47,K60,K73,K86,K99,K112,K125,K138,K151,K164,K177,K190,K203,K216,K229,K242,K255,K268,K281,K294)) | ... U3: =IF(U8=SUM(U21,U34,U47,U60,U73,U86,U99,U112,U125,U138,U151,U164,U177,U190,U203,U216,U229,U242,U255,U268,U281,U294),"",SUM(U21,U34,U47,U60,U73,U86,U99,U112,U125,U138,U151,U164,U177,U190,U203,U216,U229,U242,U255,U268,U281,U294))
A4: 地區、性別及設籍別 Locality, Sex & Identity | D4: 總計 | G4: 緊急生活扶助 | J4: 傷病醫療補助 | M4: 法律訴訟補助 | P4: 子女生活津貼 | S4: 兒童托育津貼
D5: Total | G5: Emergency Assistance for Livelihood | J5: Medical Subsidies | M5: Subsidies of Litigation | P5: Children Living Allowance | S5: Children Nursery Allowance
D6: 人數 | E6: 人次 | F6: 金額(元) | G6: 人數 | H6: 人次 | I6: 金額(元) | J6: 人數 | K6: 人次 | L6: 金額(元) | M6: 人數 | N6: 人次 | O6: 金額(元) | P6: 人數 | Q6: 人次 | R6: 金額(元) | S6: 人數 | T6: 人次 | U6: 金額(元)
D7: Persons | E7: Times of Persons | F7: Amount (NT$) | G7: Persons | H7: Times of Persons | I7: Amount (NT$) | J7: Persons | K7: Times of Persons | L7: Amount (NT$) | M7: Persons | N7: Times of Persons | O7: Amount (NT$) | P7: Persons | Q7: Times of Persons | R7: Amount (NT$) | S7: Persons | T7: Times of Persons | U7: Amount (NT$)
A8: 總計 | C8: Total | D8: 14917 | E8: 129100 | F8: 464504731 | G8: 4134 | H8: 10640 | I8: 153089186 | J8: 48 | K8: 50 | L8: 778238 | M8: 44 | N8: 45 | O8: 2150000 | P8: 10593 | Q8: 117615 | R8: 307361954 | S8: 98 | T8: 750 | U8: 1125353
A9: 男 Male | B9: 計 | C9: Subtotal | D9: 1866 | E9: 16750 | F9: 58338800 | G9: 475 | H9: 1280 | I9: 17911430 | J9: 11 | K9: 11 | L9: 341480 | M9: 1 | N9: 1 | O9: 50000 | P9: 1361 | Q9: 15295 | R9: 39799924 | S9: 18 | T9: 163 | U9: 235966
B10: 本國籍 | C10: National | D10: 1818 | E10: 16347 | F10: 56816286 | G10: 455 | H10: 1233 | I10: 17241476 | J10: 11 | K10: 11 | L10: 341480 | M10: 0 | N10: 0 | O10: 0 | P10: 1334 | Q10: 14940 | R10: 38997364 | S10: 18 | T10: 163 | U10: 235966
B11: 一般民眾 | C11: General | D11: 1681 | E11: 14861 | F11: 52327008 | G11: 430 | H11: 1170 | I11: 16386406 | J11: 11 | K11: 11 | L11: 341480 | M11: 0 | N11: 0 | O11: 0 | P11: 1222 | Q11: 13517 | R11: 35363156 | S11: 18 | T11: 163 | U11: 235966
B12: 原住民 | C12: Abrigines | D12: 137 | E12: 1486 | F12: 4489278 | G12: 25 | H12: 63 | I12: 855070 | J12: 0 | K12: 0 | L12: 0 | M12: 0 | N12: 0 | O12: 0 | P12: 112 | Q12: 1423 | R12: 3634208 | S12: 0 | T12: 0 | U12: 0
B13: 大陸籍(含港澳) | C13: Mainlander | D13: 25 | E13: 201 | F13: 737850 | G13: 11 | H13: 23 | I13: 320890 | J13: 0 | K13: 0 | L13: 0 | M13: 1 | N13: 1 | O13: 50000 | P13: 13 | Q13: 177 | R13: 366960 | S13: 0 | T13: 0 | U13: 0
B14: 外國籍 | C14: Foreigner | D14: 23 | E14: 202 | F14: 784664 | G14: 9 | H14: 24 | I14: 349064 | J14: 0 | K14: 0 | L14: 0 | M14: 0 | N14: 0 | O14: 0 | P14: 14 | Q14: 178 | R14: 435600 | S14: 0 | T14: 0 | U14: 0
A15: 女 Female | B15: 計 | C15: Subtotal | D15: 13051 | E15: 112350 | F15: 406165931 | G15: 3659 | H15: 9360 | I15: 135177756 | J15: 37 | K15: 39 | L15: 436758 | M15: 43 | N15: 44 | O15: 2100000 | P15: 9232 | Q15: 102320 | R15: 267562030 | S15: 80 | T15: 587 | U15: 889387
B16: 本國籍 | C16: National | D16: 12863 | E16: 110690 | F16: 400017349 | G16: 3606 | H16: 9228 | I16: 133153178 | J16: 36 | K16: 38 | L16: 319803 | M16: 43 | N16: 44 | O16: 2100000 | P16: 9101 | Q16: 100808 | R16: 263575630 | S16: 77 | T16: 572 | U16: 868738
B17: 一般民眾 | C17: General | D17: 11865 | E17: 102319 | F17: 370537860 | G17: 3321 | H17: 8492 | I17: 123302828 | J17: 33 | K17: 35 | L17: 285569 | M17: 42 | N17: 43 | O17: 2050000 | P17: 8399 | Q17: 93227 | R17: 244097188 | S17: 70 | T17: 522 | U17: 802275
B18: 原住民 | C18: Abrigines | D18: 998 | E18: 8371 | F18: 29479489 | G18: 285 | H18: 736 | I18: 9850350 | J18: 3 | K18: 3 | L18: 34234 | M18: 1 | N18: 1 | O18: 50000 | P18: 702 | Q18: 7581 | R18: 19478442 | S18: 7 | T18: 50 | U18: 66463
B19: 大陸籍(含港澳) | C19: Mainlander | D19: 111 | E19: 929 | F19: 3632863 | G19: 33 | H19: 84 | I19: 1287748 | J19: 1 | K19: 1 | L19: 116955 | M19: 0 | N19: 0 | O19: 0 | P19: 77 | Q19: 844 | R19: 2228160 | S19: 0 | T19: 0 | U19: 0
B20: 外國籍 | C20: Foreigner | D20: 77 | E20: 731 | F20: 2515719 | G20: 20 | H20: 48 | I20: 736830 | J20: 0 | K20: 0 | L20: 0 | M20: 0 | N20: 0 | O20: 0 | P20: 54 | Q20: 668 | R20: 1758240 | S20: 3 | T20: 15 | U20: 20649
A21: 新北市 | C21: New Taipei City | D21: 653 | E21: 1770 | F21: 21540409 | G21: 603 | H21: 1249 | I21: 19854010 | J21: 1 | K21: 1 | L21: 1058 | M21: 7 | N21: 7 | O21: 340000 | P21: 42 | Q21: 513 | R21: 1345341 | S21: 0 | T21: 0 | U21: 0
A22: 男 Male | B22: 計 | C22: Subtotal | D22: 37 | E22: 92 | F22: 1284960 | G22: 34 | H22: 78 | I22: 1248000 | J22: 0 | K22: 0 | L22: 0 | M22: 0 | N22: 0 | O22: 0 | P22: 3 | Q22: 14 | R22: 36960 | S22: 0 | T22: 0 | U22: 0
B23: 本國籍 | C23: National | D23: 37 | E23: 92 | F23: 1284960 | G23: 34 | H23: 78 | I23: 1248000 | J23: 0 | K23: 0 | L23: 0 | M23: 0 | N23: 0 | O23: 0 | P23: 3 | Q23: 14 | R23: 36960 | S23: 0 | T23: 0 | U23: 0
B24: 一般民眾 | C24: General | D24: 37 | E24: 92 | F24: 1284960 | G24: 34 | H24: 78 | I24: 1248000 | J24: 0 | K24: 0 | L24: 0 | M24: 0 | N24: 0 | O24: 0 | P24: 3 | Q24: 14 | R24: 36960 | S24: 0 | T24: 0 | U24: 0
B25: 原住民 | C25: Abrigines | D25: 0 | E25: 0 | F25: 0 | G25: 0 | H25: 0 | I25: 0 | J25: 0 | K25: 0 | L25: 0 | M25: 0 | N25: 0 | O25: 0 | P25: 0 | Q25: 0 | R25: 0 | S25: 0 | T25: 0 | U25: 0
B26: 大陸籍(含港澳) | C26: Mainlander | D26: 0 | E26: 0 | F26: 0 | G26: 0 | H26: 0 | I26: 0 | J26: 0 | K26: 0 | L26: 0 | M26: 0 | N26: 0 | O26: 0 | P26: 0 | Q26: 0 | R26: 0 | S26: 0 | T26: 0 | U26: 0
B27: 外國籍 | C27: Foreigner | D27: 0 | E27: 0 | F27: 0 | G27: 0 | H27: 0 | I27: 0 | J27: 0 | K27: 0 | L27: 0 | M27: 0 | N27: 0 | O27: 0 | P27: 0 | Q27: 0 | R27: 0 | S27: 0 | T27: 0 | U27: 0
A28: 女 Female | B28: 計 | C28: Subtotal | D28: 616 | E28: 1678 | F28: 20255449 | G28: 569 | H28: 1171 | I28: 18606010 | J28: 1 | K28: 1 | L28: 1058 | M28: 7 | N28: 7 | O28: 340000 | P28: 39 | Q28: 499 | R28: 1308381 | S28: 0 | T28: 0 | U28: 0
B29: 本國籍 | C29: National | D29: 610 | E29: 1659 | F29: 20078147 | G29: 564 | H29: 1161 | I29: 18452468 | J29: 1 | K29: 1 | L29: 1058 | M29: 7 | N29: 7 | O29: 340000 | P29: 38 | Q29: 490 | R29: 1284621 | S29: 0 | T29: 0 | U29: 0
B30: 一般民眾 | C30: General | D30: 596 | E30: 1624 | F30: 19598307 | G30: 551 | H30: 1132 | I30: 17988468 | J30: 1 | K30: 1 | L30: 1058 | M30: 7 | N30: 7 | O30: 340000 | P30: 37 | Q30: 484 | R30: 1268781 | S30: 0 | T30: 0 | U30: 0
B31: 原住民 | C31: Abrigines | D31: 14 | E31: 35 | F31: 479840 | G31: 13 | H31: 29 | I31: 464000 | J31: 0 | K31: 0 | L31: 0 | M31: 0 | N31: 0 | O31: 0 | P31: 1 | Q31: 6 | R31: 15840 | S31: 0 | T31: 0 | U31: 0
B32: 大陸籍(含港澳) | C32: Mainlander | D32: 4 | E32: 15 | F32: 113502 | G32: 3 | H32: 6 | I32: 89742 | J32: 0 | K32: 0 | L32: 0 | M32: 0 | N32: 0 | O32: 0 | P32: 1 | Q32: 9 | R32: 23760 | S32: 0 | T32: 0 | U32: 0
B33: 外國籍 | C33: Foreigner | D33: 2 | E33: 4 | F33: 63800 | G33: 2 | H33: 4 | I33: 63800 | J33: 0 | K33: 0 | L33: 0 | M33: 0 | N33: 0 | O33: 0 | P33: 0 | Q33: 0 | R33: 0 | S33: 0 | T33: 0 | U33: 0
A34: 臺北市 | C34: Taipei City | D34: 1636 | E34: 12832 | F34: 61041062 | G34: 605 | H34: 1659 | I34: 30794910 | J34: 17 | K34: 17 | L34: 225417 | M34: 12 | N34: 13 | O34: 650000 | P34: 1002 | Q34: 11143 | R34: 29370735 | S34: 0 | T34: 0 | U34: 0
A35: 男 Male | B35: 計 | C35: Subtotal | D35: 159 | E35: 1122 | F35: 5510356 | G35: 60 | H35: 158 | I35: 2828935 | J35: 3 | K35: 3 | L35: 144381 | M35: 0 | N35: 0 | O35: 0 | P35: 96 | Q35: 961 | R35: 2537040 | S35: 0 | T35: 0 | U35: 0
B36: 本國籍 | C36: National | D36: 159 | E36: 1122 | F36: 5510356 | G36: 60 | H36: 158 | I36: 2828935 | J36: 3 | K36: 3 | L36: 144381 | M36: 0 | N36: 0 | O36: 0 | P36: 96 | Q36: 961 | R36: 2537040 | S36: 0 | T36: 0 | U36: 0
B37: 一般民眾 | C37: General | D37: 159 | E37: 910 | F37: 4950676 | G37: 60 | H37: 158 | I37: 2828935 | J37: 3 | K37: 3 | L37: 144381 | M37: 0 | N37: 0 | O37: 0 | P37: 96 | Q37: 749 | R37: 1977360 | S37: 0 | T37: 0 | U37: 0
B38: 原住民 | C38: Abrigines | D38: 0 | E38: 212 | F38: 559680 | G38: 0 | H38: 0 | I38: 0 | J38: 0 | K38: 0 | L38: 0 | M38: 0 | N38: 0 | O38: 0 | P38: 0 | Q38: 212 | R38: 559680 | S38: 0 | T38: 0 | U38: 0
B39: 大陸籍(含港澳) | C39: Mainlander | D39: 0 | E39: 0 | F39: 0 | G39: 0 | H39: 0 | I39: 0 | J39: 0 | K39: 0 | L39: 0 | M39: 0 | N39: 0 | O39: 0 | P39: 0 | Q39: 0 | R39: 0 | S39: 0 | T39: 0 | U39: 0
B40: 外國籍 | C40: Foreigner | D40: 0 | E40: 0 | F40: 0 | G40: 0 | H40: 0 | I40: 0 | J40: 0 | K40: 0 | L40: 0 | M40: 0 | N40: 0 | O40: 0 | P40: 0 | Q40: 0 | R40: 0 | S40: 0 | T40: 0 | U40: 0
...

Sheet 111
A1: 特殊境遇家庭扶助服務 Assistance Service for Families in Hardship
A2: 111年 ,2022 | D2: =IF(D8=SUM(D21,D34,D47,D60,D73,D86,D99,D112,D125,D138,D151,D164,D177,D190,D203,D216,D229,D242,D255,D268,D281,D294),"","*") | E2: =IF(E8=SUM(E21,E34,E47,E60,E73,E86,E99,E112,E125,E138,E151,E164,E177,E190,E203,E216,E229,E242,E255,E268,E281,E294),"","*") | F2: =IF(F8=SUM(F21,F34,F47,F60,F73,F86,F99,F112,F125,F138,F151,F164,F177,F190,F203,F216,F229,F242,F255,F268,F281,F294),"","*") | G2: =IF(G8=SUM(G21,G34,G47,G60,G73,G86,G99,G112,G125,G138,G151,G164,G177,G190,G203,G216,G229,G242,G255,G268,G281,G294),"","*") | H2: =IF(H8=SUM(H21,H34,H47,H60,H73,H86,H99,H112,H125,H138,H151,H164,H177,H190,H203,H216,H229,H242,H255,H268,H281,H294),"","*") | I2: =IF(I8=SUM(I21,I34,I47,I60,I73,I86,I99,I112,I125,I138,I151,I164,I177,I190,I203,I216,I229,I242,I255,I268,I281,I294),"","*") | J2: =IF(J8=SUM(J21,J34,J47,J60,J73,J86,J99,J112,J125,J138,J151,J164,J177,J190,J203,J216,J229,J242,J255,J268,J281,J294),"","*") | K2: =IF(K8=SUM(K21,K34,K47,K60,K73,K86,K99,K112,K125,K138,K151,K164,K177,K190,K203,K216,K229,K242,K255,K268,K281,K294),"","*") | ... U2: =IF(U8=SUM(U21,U34,U47,U60,U73,U86,U99,U112,U125,U138,U151,U164,U177,U190,U203,U216,U229,U242,U255,U268,U281,U294),"","*")
A3: 單位：人;人次;金額 | D3: =IF(D8=SUM(D21,D34,D47,D60,D73,D86,D99,D112,D125,D138,D151,D164,D177,D190,D203,D216,D229,D242,D255,D268,D281,D294),"",SUM(D21,D34,D47,D60,D73,D86,D99,D112,D125,D138,D151,D164,D177,D190,D203,D216,D229,D242,D255,D268,D281,D294)) | E3: =IF(E8=SUM(E21,E34,E47,E60,E73,E86,E99,E112,E125,E138,E151,E164,E177,E190,E203,E216,E229,E242,E255,E268,E281,E294),"",SUM(E21,E34,E47,E60,E73,E86,E99,E112,E125,E138,E151,E164,E177,E190,E203,E216,E229,E242,E255,E268,E281,E294)) | F3: =IF(F8=SUM(F21,F34,F47,F60,F73,F86,F99,F112,F125,F138,F151,F164,F177,F190,F203,F216,F229,F242,F255,F268,F281,F294),"",SUM(F21,F34,F47,F60,F73,F86,F99,F112,F125,F138,F151,F164,F177,F190,F203,F216,F229,F242,F255,F268,F281,F294)) | G3: =IF(G8=SUM(G21,G34,G47,G60,G73,G86,G99,G112,G125,G138,G151,G164,G177,G190,G203,G216,G229,G242,G255,G268,G281,G294),"",SUM(G21,G34,G47,G60,G73,G86,G99,G112,G125,G138,G151,G164,G177,G190,G203,G216,G229,G242,G255,G268,G281,G294)) | H3: =IF(H8=SUM(H21,H34,H47,H60,H73,H86,H99,H112,H125,H138,H151,H164,H177,H190,H203,H216,H229,H242,H255,H268,H281,H294),"",SUM(H21,H34,H47,H60,H73,H86,H99,H112,H125,H138,H151,H164,H177,H190,H203,H216,H229,H242,H255,H268,H281,H294)) | I3: =IF(I8=SUM(I21,I34,I47,I60,I73,I86,I99,I112,I125,I138,I151,I164,I177,I190,I203,I216,I229,I242,I255,I268,I281,I294),"",SUM(I21,I34,I47,I60,I73,I86,I99,I112,I125,I138,I151,I164,I177,I190,I203,I216,I229,I242,I255,I268,I281,I294)) | J3: =IF(J8=SUM(J21,J34,J47,J60,J73,J86,J99,J112,J125,J138,J151,J164,J177,J190,J203,J216,J229,J242,J255,J268,J281,J294),"",SUM(J21,J34,J47,J60,J73,J86,J99,J112,J125,J138,J151,J164,J177,J190,J203,J216,J229,J242,J255,J268,J281,J294)) | K3: =IF(K8=SUM(K21,K34,K47,K60,K73,K86,K99,K112,K125,K138,K151,K164,K177,K190,K203,K216,K229,K242,K255,K268,K281,K294),"",SUM(K21,K34,K47,K60,K73,K86,K99,K112,K125,K138,K151,K164,K177,K190,K203,K216,K229,K242,K255,K268,K281,K294)) | ... U3: =IF(U8=SUM(U21,U34,U47,U60,U73,U86,U99,U112,U125,U138,U151,U164,U177,U190,U203,U216,U229,U242,U255,U268,U281,U294),"",SUM(U21,U34,U47,U60,U73,U86,U99,U112,U125,U138,U151,U164,U177,U190,U203,U216,U229,U242,U255,U268,U281,U294))
A4: 地區、性別及設籍別 Locality, Sex & Identity | D4: 總計 | G4: 緊急生活扶助 | J4: 傷病醫療補助 | M4: 法律訴訟補助 | P4: 子女生活津貼 | S4: 兒童托育津貼
D5: Total | G5: Emergency Assistance for Livelihood | J5: Medical Subsidies | M5: Subsidies of Litigation | P5: Children Living Allowance | S5: Children Nursery Allowance
D6: 人數 | E6: 人次 | F6: 金額(元) | G6: 人數 | H6: 人次 | I6: 金額(元) | J6: 人數 | K6: 人次 | L6: 金額(元) | M6: 人數 | N6: 人次 | O6: 金額(元) | P6: 人數 | Q6: 人次 | R6: 金額(元) | S6: 人數 | T6: 人次 | U6: 金額(元)
D7: Persons | E7: Times of Persons | F7: Amount (NT$) | G7: Persons | H7: Times of Persons | I7: Amount (NT$) | J7: Persons | K7: Times of Persons | L7: Amount (NT$) | M7: Persons | N7: Times of Persons | O7: Amount (NT$) | P7: Persons | Q7: Times of Persons | R7: Amount (NT$) | S7: Persons | T7: Times of Persons | U7: Amount (NT$)
A8: 總計 | C8: Total | D8: 14533 | E8: 128980 | F8: 449257857 | G8: 3943 | H8: 10507 | I8: 149882474 | J8: 51 | K8: 52 | L8: 879706 | M8: 46 | N8: 46 | O8: 2110000 | P8: 10410 | Q8: 117646 | R8: 295328757 | S8: 83 | T8: 729 | U8: 1056920
A9: 男 Male | B9: 計 | C9: Subtotal | D9: 2429 | E9: 23142 | F9: 72340214 | G9: 443 | H9: 1177 | I9: 16933525 | J9: 4 | K9: 4 | L9: 203596 | M9: 4 | N9: 4 | O9: 165000 | P9: 1961 | Q9: 21771 | R9: 54779959 | S9: 17 | T9: 186 | U9: 258134
B10: 本國籍 | C10: National | D10: 2385 | E10: 22819 | F10: 70999815 | G10: 426 | H10: 1130 | I10: 16290026 | J10: 4 | K10: 4 | L10: 203596 | M10: 4 | N10: 4 | O10: 165000 | P10: 1934 | Q10: 21495 | R10: 54083059 | S10: 17 | T10: 186 | U10: 258134
B11: 一般民眾 | C11: General | D11: 2241 | E11: 21462 | F11: 66757504 | G11: 397 | H11: 1056 | I11: 15254123 | J11: 4 | K11: 4 | L11: 203596 | M11: 4 | N11: 4 | O11: 165000 | P11: 1819 | Q11: 20215 | R11: 50881151 | S11: 17 | T11: 183 | U11: 253634
B12: 原住民 | C12: Abrigines | D12: 144 | E12: 1357 | F12: 4242311 | G12: 29 | H12: 74 | I12: 1035903 | J12: 0 | K12: 0 | L12: 0 | M12: 0 | N12: 0 | O12: 0 | P12: 115 | Q12: 1280 | R12: 3201908 | S12: 0 | T12: 3 | U12: 4500
B13: 大陸籍(含港澳) | C13: Mainlander | D13: 14 | E13: 126 | F13: 482020 | G13: 5 | H13: 14 | I13: 199220 | J13: 0 | K13: 0 | L13: 0 | M13: 0 | N13: 0 | O13: 0 | P13: 9 | Q13: 112 | R13: 282800 | S13: 0 | T13: 0 | U13: 0
B14: 外國籍 | C14: Foreigner | D14: 30 | E14: 197 | F14: 858379 | G14: 12 | H14: 33 | I14: 444279 | J14: 0 | K14: 0 | L14: 0 | M14: 0 | N14: 0 | O14: 0 | P14: 18 | Q14: 164 | R14: 414100 | S14: 0 | T14: 0 | U14: 0
A15: 女 Female | B15: 計 | C15: Subtotal | D15: 12104 | E15: 105838 | F15: 376917643 | G15: 3500 | H15: 9330 | I15: 132948949 | J15: 47 | K15: 48 | L15: 676110 | M15: 42 | N15: 42 | O15: 1945000 | P15: 8449 | Q15: 95875 | R15: 240548798 | S15: 66 | T15: 543 | U15: 798786
B16: 本國籍 | C16: National | D16: 11948 | E16: 104493 | F16: 371797410 | G16: 3444 | H16: 9197 | I16: 130888321 | J16: 45 | K16: 46 | L16: 671755 | M16: 42 | N16: 42 | O16: 1945000 | P16: 8351 | Q16: 94665 | R16: 237493548 | S16: 66 | T16: 543 | U16: 798786
B17: 一般民眾 | C17: General | D17: 11043 | E17: 96963 | F17: 345459610 | G17: 3171 | H17: 8524 | I17: 121644787 | J17: 42 | K17: 43 | L17: 606641 | M17: 42 | N17: 42 | O17: 1945000 | P17: 7728 | Q17: 87842 | R17: 220507944 | S17: 60 | T17: 512 | U17: 755238
B18: 原住民 | C18: Abrigines | D18: 905 | E18: 7530 | F18: 26337800 | G18: 273 | H18: 673 | I18: 9243534 | J18: 3 | K18: 3 | L18: 65114 | M18: 0 | N18: 0 | O18: 0 | P18: 623 | Q18: 6823 | R18: 16985604 | S18: 6 | T18: 31 | U18: 43548
B19: 大陸籍(含港澳) | C19: Mainlander | D19: 84 | E19: 721 | F19: 2894387 | G19: 32 | H19: 79 | I19: 1274032 | J19: 2 | K19: 2 | L19: 4355 | M19: 0 | N19: 0 | O19: 0 | P19: 50 | Q19: 640 | R19: 1616000 | S19: 0 | T19: 0 | U19: 0
B20: 外國籍 | C20: Foreigner | D20: 72 | E20: 624 | F20: 2225846 | G20: 24 | H20: 54 | I20: 786596 | J20: 0 | K20: 0 | L20: 0 | M20: 0 | N20: 0 | O20: 0 | P20: 48 | Q20: 570 | R20: 1439250 | S20: 0 | T20: 0 | U20: 0
A21: 新北市 | C21: New Taipei City | D21: 488 | E21: 1789 | F21: 22102914 | G21: 473 | H21: 1405 | I21: 20706039 | J21: 0 | K21: 0 | L21: 0 | M21: 9 | N21: 9 | O21: 450000 | P21: 6 | Q21: 375 | R21: 946875 | S21: 0 | T21: 0 | U21: 0
A22: 男 Male | B22: 計 | C22: Subtotal | D22: 37 | E22: 122 | F22: 1445391 | G22: 31 | H22: 93 | I22: 1324691 | J22: 0 | K22: 0 | L22: 0 | M22: 1 | N22: 1 | O22: 50000 | P22: 5 | Q22: 28 | R22: 70700 | S22: 0 | T22: 0 | U22: 0
B23: 本國籍 | C23: National | D23: 37 | E23: 122 | F23: 1445391 | G23: 31 | H23: 93 | I23: 1324691 | J23: 0 | K23: 0 | L23: 0 | M23: 1 | N23: 1 | O23: 50000 | P23: 5 | Q23: 28 | R23: 70700 | S23: 0 | T23: 0 | U23: 0
B24: 一般民眾 | C24: General | D24: 32 | E24: 107 | F24: 1226886 | G24: 26 | H24: 78 | I24: 1106186 | J24: 0 | K24: 0 | L24: 0 | M24: 1 | N24: 1 | O24: 50000 | P24: 5 | Q24: 28 | R24: 70700 | S24: 0 | T24: 0 | U24: 0
B25: 原住民 | C25: Abrigines | D25: 5 | E25: 15 | F25: 218505 | G25: 5 | H25: 15 | I25: 218505 | J25: 0 | K25: 0 | L25: 0 | M25: 0 | N25: 0 | O25: 0 | P25: 0 | Q25: 0 | R25: 0 | S25: 0 | T25: 0 | U25: 0
B26: 大陸籍(含港澳) | C26: Mainlander | D26: 0 | E26: 0 | F26: 0 | G26: 0 | H26: 0 | I26: 0 | J26: 0 | K26: 0 | L26: 0 | M26: 0 | N26: 0 | O26: 0 | P26: 0 | Q26: 0 | R26: 0 | S26: 0 | T26: 0 | U26: 0
B27: 外國籍 | C27: Foreigner | D27: 0 | E27: 0 | F27: 0 | G27: 0 | H27: 0 | I27: 0 | J27: 0 | K27: 0 | L27: 0 | M27: 0 | N27: 0 | O27: 0 | P27: 0 | Q27: 0 | R27: 0 | S27: 0 | T27: 0 | U27: 0
A28: 女 Female | B28: 計 | C28: Subtotal | D28: 451 | E28: 1667 | F28: 20657523 | G28: 442 | H28: 1312 | I28: 19381348 | J28: 0 | K28: 0 | L28: 0 | M28: 8 | N28: 8 | O28: 400000 | P28: 1 | Q28: 347 | R28: 876175 | S28: 0 | T28: 0 | U28: 0
B29: 本國籍 | C29: National | D29: 442 | E29: 1634 | F29: 20222847 | G29: 433 | H29: 1285 | I29: 18961822 | J29: 0 | K29: 0 | L29: 0 | M29: 8 | N29: 8 | O29: 400000 | P29: 1 | Q29: 341 | R29: 861025 | S29: 0 | T29: 0 | U29: 0
B30: 一般民眾 | C30: General | D30: 423 | E30: 1573 | F30: 19407908 | G30: 414 | H30: 1228 | I30: 18156983 | J30: 0 | K30: 0 | L30: 0 | M30: 8 | N30: 8 | O30: 400000 | P30: 1 | Q30: 337 | R30: 850925 | S30: 0 | T30: 0 | U30: 0
B31: 原住民 | C31: Abrigines | D31: 19 | E31: 61 | F31: 814939 | G31: 19 | H31: 57 | I31: 804839 | J31: 0 | K31: 0 | L31: 0 | M31: 0 | N31: 0 | O31: 0 | P31: 0 | Q31: 4 | R31: 10100 | S31: 0 | T31: 0 | U31: 0
B32: 大陸籍(含港澳) | C32: Mainlander | D32: 6 | E32: 24 | F32: 292476 | G32: 6 | H32: 18 | I32: 277326 | J32: 0 | K32: 0 | L32: 0 | M32: 0 | N32: 0 | O32: 0 | P32: 0 | Q32: 6 | R32: 15150 | S32: 0 | T32: 0 | U32: 0
B33: 外國籍 | C33: Foreigner | D33: 3 | E33: 9 | F33: 142200 | G33: 3 | H33: 9 | I33: 142200 | J33: 0 | K33: 0 | L33: 0 | M33: 0 | N33: 0 | O33: 0 | P33: 0 | Q33: 0 | R33: 0 | S33: 0 | T33: 0 | U33: 0
A34: 臺北市 | C34: Taipei City | D34: 1751 | E34: 13020 | F34: 61260038 | G34: 649 | H34: 1765 | I34: 31997213 | J34: 30 | K34: 30 | L34: 559625 | M34: 14 | N34: 14 | O34: 625000 | P34: 1057 | Q34: 11207 | R34: 28073600 | S34: 1 | T34: 4 | U34: 4600
A35: 男 Male | B35: 計 | C35: Subtotal | D35: 166 | E35: 1080 | F35: 5478137 | G35: 68 | H35: 173 | I35: 3062912 | J35: 2 | K35: 2 | L35: 75650 | M35: 2 | N35: 2 | O35: 65000 | P35: 93 | Q35: 899 | R35: 2269975 | S35: 1 | T35: 4 | U35: 4600
B36: 本國籍 | C36: National | D36: 166 | E36: 1080 | F36: 5478137 | G36: 68 | H36: 173 | I36: 3062912 | J36: 2 | K36: 2 | L36: 75650 | M36: 2 | N36: 2 | O36: 65000 | P36: 93 | Q36: 899 | R36: 2269975 | S36: 1 | T36: 4 | U36: 4600
B37: 一般民眾 | C37: General | D37: 166 | E37: 1080 | F37: 5478137 | G37: 68 | H37: 173 | I37: 3062912 | J37: 2 | K37: 2 | L37: 75650 | M37: 2 | N37: 2 | O37: 65000 | P37: 93 | Q37: 899 | R37: 2269975 | S37: 1 | T37: 4 | U37: 4600
B38: 原住民 | C38: Abrigines | D38: 0 | E38: 0 | F38: 0 | G38: 0 | H38: 0 | I38: 0 | J38: 0 | K38: 0 | L38: 0 | M38: 0 | N38: 0 | O38: 0 | P38: 0 | Q38: 0 | R38: 0 | S38: 0 | T38: 0 | U38: 0
B39: 大陸籍(含港澳) | C39: Mainlander | D39: 0 | E39: 0 | F39: 0 | G39: 0 | H39: 0 | I39: 0 | J39: 0 | K39: 0 | L39: 0 | M39: 0 | N39: 0 | O39: 0 | P39: 0 | Q39: 0 | R39: 0 | S39: 0 | T39: 0 | U39: 0
B40: 外國籍 | C40: Foreigner | D40: 0 | E40: 0 | F40: 0 | G40: 0 | H40: 0 | I40: 0 | J40: 0 | K40: 0 | L40: 0 | M40: 0 | N40: 0 | O40: 0 | P40: 0 | Q40: 0 | R40: 0 | S40: 0 | T40: 0 | U40: 0
...

Sheet 110
A1: 特殊境遇家庭扶助服務 Assistance Service for Families in Hardship
A2: 110年,2021
A3: 單位：人;人次;金額 | D3: =IF(D8=SUM(D21,D34,D47,D60,D73,D86,D99,D112,D125,D138,D151,D164,D177,D190,D203,D216,D229,D242,D255,D268,D281,D294),"",SUM(D21,D34,D47,D60,D73,D86,D99,D112,D125,D138,D151,D164,D177,D190,D203,D216,D229,D242,D255,D268,D281,D294)) | E3: =IF(E8=SUM(E21,E34,E47,E60,E73,E86,E99,E112,E125,E138,E151,E164,E177,E190,E203,E216,E229,E242,E255,E268,E281,E294),"",SUM(E21,E34,E47,E60,E73,E86,E99,E112,E125,E138,E151,E164,E177,E190,E203,E216,E229,E242,E255,E268,E281,E294)) | F3: =IF(F8=SUM(F21,F34,F47,F60,F73,F86,F99,F112,F125,F138,F151,F164,F177,F190,F203,F216,F229,F242,F255,F268,F281,F294),"",SUM(F21,F34,F47,F60,F73,F86,F99,F112,F125,F138,F151,F164,F177,F190,F203,F216,F229,F242,F255,F268,F281,F294)) | G3: =IF(G8=SUM(G21,G34,G47,G60,G73,G86,G99,G112,G125,G138,G151,G164,G177,G190,G203,G216,G229,G242,G255,G268,G281,G294),"",SUM(G21,G34,G47,G60,G73,G86,G99,G112,G125,G138,G151,G164,G177,G190,G203,G216,G229,G242,G255,G268,G281,G294)) | H3: =IF(H8=SUM(H21,H34,H47,H60,H73,H86,H99,H112,H125,H138,H151,H164,H177,H190,H203,H216,H229,H242,H255,H268,H281,H294),"",SUM(H21,H34,H47,H60,H73,H86,H99,H112,H125,H138,H151,H164,H177,H190,H203,H216,H229,H242,H255,H268,H281,H294)) | I3: =IF(I8=SUM(I21,I34,I47,I60,I73,I86,I99,I112,I125,I138,I151,I164,I177,I190,I203,I216,I229,I242,I255,I268,I281,I294),"",SUM(I21,I34,I47,I60,I73,I86,I99,I112,I125,I138,I151,I164,I177,I190,I203,I216,I229,I242,I255,I268,I281,I294)) | J3: =IF(J8=SUM(J21,J34,J47,J60,J73,J86,J99,J112,J125,J138,J151,J164,J177,J190,J203,J216,J229,J242,J255,J268,J281,J294),"",SUM(J21,J34,J47,J60,J73,J86,J99,J112,J125,J138,J151,J164,J177,J190,J203,J216,J229,J242,J255,J268,J281,J294)) | K3: =IF(K8=SUM(K21,K34,K47,K60,K73,K86,K99,K112,K125,K138,K151,K164,K177,K190,K203,K216,K229,K242,K255,K268,K281,K294),"",SUM(K21,K34,K47,K60,K73,K86,K99,K112,K125,K138,K151,K164,K177,K190,K203,K216,K229,K242,K255,K268,K281,K294)) | ... U3: =IF(U8=SUM(U21,U34,U47,U60,U73,U86,U99,U112,U125,U138,U151,U164,U177,U190,U203,U216,U229,U242,U255,U268,U281,U294),"",SUM(U21,U34,U47,U60,U73,U86,U99,U112,U125,U138,U151,U164,U177,U190,U203,U216,U229,U242,U255,U268,U281,U294))
A4: 地區、性別及設籍別 Locality, Sex & Identity | D4: 總計 | G4: 緊急生活扶助 | J4: 傷病醫療補助 | M4: 法律訴訟補助 | P4: 子女生活津貼 | S4: 兒童托育津貼
D5: Total | G5: Emergency Assistance for Livelihood | J5: Medical Subsidies | M5: Subsidies of Litigation | P5: Children Living Allowance | S5: Children Nursery Allowance
D6: 人數 | E6: 人次 | F6: 金額(元) | G6: 人數 | H6: 人次 | I6: 金額(元) | J6: 人數 | K6: 人次 | L6: 金額(元) | M6: 人數 | N6: 人次 | O6: 金額(元) | P6: 人數 | Q6: 人次 | R6: 金額(元) | S6: 人數 | T6: 人次 | U6: 金額(元)
D7: Persons | E7: Times of Persons | F7: Amount (NT$) | G7: Persons | H7: Times of Persons | I7: Amount (NT$) | J7: Persons | K7: Times of Persons | L7: Amount (NT$) | M7: Persons | N7: Times of Persons | O7: Amount (NT$) | P7: Persons | Q7: Times of Persons | R7: Amount (NT$) | S7: Persons | T7: Times of Persons | U7: Amount (NT$)
A8: 總計 | C8: Total | D8: 15628 | E8: 127852 | F8: 445164815 | G8: 4781 | H8: 12517 | I8: 167965949 | J8: 72 | K8: 72 | L8: 623883 | M8: 40 | N8: 44 | O8: 1758000 | P8: 10635 | Q8: 114618 | R8: 273931951 | S8: 100 | T8: 601 | U8: 885032
A9: 男 Male | B9: 計 | C9: Subtotal | D9: 2661 | E9: 24654 | F9: 73591141 | G9: 497 | H9: 1334 | I9: 17777368 | J9: 13 | K9: 13 | L9: 139483 | M9: 0 | N9: 0 | O9: 0 | P9: 2127 | Q9: 23148 | R9: 55435990 | S9: 24 | T9: 159 | U9: 238300
B10: 本國籍 | C10: National | D10: 2595 | E10: 24314 | F10: 71739010 | G10: 459 | H10: 1228 | I10: 16486837 | J10: 13 | K10: 13 | L10: 139483 | M10: 0 | N10: 0 | O10: 0 | P10: 2099 | Q10: 22914 | R10: 54874390 | S10: 24 | T10: 159 | U10: 238300
B11: 一般民眾 | C11: General | D11: 2457 | E11: 22920 | F11: 67513852 | G11: 427 | H11: 1142 | I11: 15388597 | J11: 13 | K11: 13 | L11: 139483 | M11: 0 | N11: 0 | O11: 0 | P11: 1993 | Q11: 21606 | R11: 51747472 | S11: 24 | T11: 159 | U11: 238300
B12: 原住民 | C12: Abrigines | D12: 138 | E12: 1394 | F12: 4225158 | G12: 32 | H12: 86 | I12: 1098240 | J12: 0 | K12: 0 | L12: 0 | M12: 0 | N12: 0 | O12: 0 | P12: 106 | Q12: 1308 | R12: 3126918 | S12: 0 | T12: 0 | U12: 0
B13: 大陸籍(含港澳) | C13: Mainlander | D13: 38 | E13: 205 | F13: 1189168 | G13: 25 | H13: 70 | I13: 865168 | J13: 0 | K13: 0 | L13: 0 | M13: 0 | N13: 0 | O13: 0 | P13: 13 | Q13: 135 | R13: 324000 | S13: 0 | T13: 0 | U13: 0
B14: 外國籍 | C14: Foreigner | D14: 28 | E14: 135 | F14: 662963 | G14: 13 | H14: 36 | I14: 425363 | J14: 0 | K14: 0 | L14: 0 | M14: 0 | N14: 0 | O14: 0 | P14: 15 | Q14: 99 | R14: 237600 | S14: 0 | T14: 0 | U14: 0
A15: 女 Female | B15: 計 | C15: Subtotal | D15: 12967 | E15: 103198 | F15: 371573674 | G15: 4284 | H15: 11183 | I15: 150188581 | J15: 59 | K15: 59 | L15: 484400 | M15: 40 | N15: 44 | O15: 1758000 | P15: 8508 | Q15: 91470 | R15: 218495961 | S15: 76 | T15: 442 | U15: 646732
B16: 本國籍 | C16: National | D16: 12709 | E16: 101582 | F16: 363859677 | G16: 4151 | H16: 10874 | I16: 145625022 | J16: 58 | K16: 58 | L16: 483680 | M16: 39 | N16: 43 | O16: 1728000 | P16: 8385 | Q16: 90165 | R16: 215376243 | S16: 76 | T16: 442 | U16: 646732
B17: 一般民眾 | C17: General | D17: 11813 | E17: 95093 | F17: 340236358 | G17: 3819 | H17: 10037 | I17: 135404625 | J17: 54 | K17: 54 | L17: 442570 | M17: 39 | N17: 43 | O17: 1728000 | P17: 7829 | Q17: 84534 | R17: 202036331 | S17: 72 | T17: 425 | U17: 624832
B18: 原住民 | C18: Abrigines | D18: 896 | E18: 6489 | F18: 23623319 | G18: 332 | H18: 837 | I18: 10220397 | J18: 4 | K18: 4 | L18: 41110 | M18: 0 | N18: 0 | O18: 0 | P18: 556 | Q18: 5631 | R18: 13339912 | S18: 4 | T18: 17 | U18: 21900
B19: 大陸籍(含港澳) | C19: Mainlander | D19: 142 | E19: 891 | F19: 4363481 | G19: 78 | H19: 177 | I19: 2651561 | J19: 1 | K19: 1 | L19: 720 | M19: 0 | N19: 0 | O19: 0 | P19: 63 | Q19: 713 | R19: 1711200 | S19: 0 | T19: 0 | U19: 0
B20: 外國籍 | C20: Foreigner | D20: 116 | E20: 725 | F20: 3350516 | G20: 55 | H20: 132 | I20: 1911998 | J20: 0 | K20: 0 | L20: 0 | M20: 1 | N20: 1 | O20: 30000 | P20: 60 | Q20: 592 | R20: 1408518 | S20: 0 | T20: 0 | U20: 0
A21: 新北市 | C21: New Taipei City | D21: 682 | E21: 2485 | F21: 29114780 | G21: 626 | H21: 1836 | I21: 27311180 | J21: 0 | K21: 0 | L21: 0 | M21: 6 | N21: 10 | O21: 270000 | P21: 50 | Q21: 639 | R21: 1533600 | S21: 0 | T21: 0 | U21: 0
A22: 男 Male | B22: 計 | C22: Subtotal | D22: 36 | E22: 133 | F22: 1544873 | G22: 33 | H22: 99 | I22: 1463273 | J22: 0 | K22: 0 | L22: 0 | M22: 0 | N22: 0 | O22: 0 | P22: 3 | Q22: 34 | R22: 81600 | S22: 0 | T22: 0 | U22: 0
B23: 本國籍 | C23: National | D23: 36 | E23: 133 | F23: 1544873 | G23: 33 | H23: 99 | I23: 1463273 | J23: 0 | K23: 0 | L23: 0 | M23: 0 | N23: 0 | O23: 0 | P23: 3 | Q23: 34 | R23: 81600 | S23: 0 | T23: 0 | U23: 0
B24: 一般民眾 | C24: General | D24: 36 | E24: 133 | F24: 1544873 | G24: 33 | H24: 99 | I24: 1463273 | J24: 0 | K24: 0 | L24: 0 | M24: 0 | N24: 0 | O24: 0 | P24: 3 | Q24: 34 | R24: 81600 | S24: 0 | T24: 0 | U24: 0
B25: 原住民 | C25: Abrigines | D25: 0 | E25: 0 | F25: 0 | G25: 0 | H25: 0 | I25: 0 | J25: 0 | K25: 0 | L25: 0 | M25: 0 | N25: 0 | O25: 0 | P25: 0 | Q25: 0 | R25: 0 | S25: 0 | T25: 0 | U25: 0
B26: 大陸籍(含港澳) | C26: Mainlander | D26: 0 | E26: 0 | F26: 0 | G26: 0 | H26: 0 | I26: 0 | J26: 0 | K26: 0 | L26: 0 | M26: 0 | N26: 0 | O26: 0 | P26: 0 | Q26: 0 | R26: 0 | S26: 0 | T26: 0 | U26: 0
B27: 外國籍 | C27: Foreigner | D27: 0 | E27: 0 | F27: 0 | G27: 0 | H27: 0 | I27: 0 | J27: 0 | K27: 0 | L27: 0 | M27: 0 | N27: 0 | O27: 0 | P27: 0 | Q27: 0 | R27: 0 | S27: 0 | T27: 0 | U27: 0
A28: 女 Female | B28: 計 | C28: Subtotal | D28: 646 | E28: 2352 | F28: 27569907 | G28: 593 | H28: 1737 | I28: 25847907 | J28: 0 | K28: 0 | L28: 0 | M28: 6 | N28: 10 | O28: 270000 | P28: 47 | Q28: 605 | R28: 1452000 | S28: 0 | T28: 0 | U28: 0
B29: 本國籍 | C29: National | D29: 628 | E29: 2291 | F29: 26885580 | G29: 578 | H29: 1694 | I29: 25206780 | J29: 0 | K29: 0 | L29: 0 | M29: 6 | N29: 10 | O29: 270000 | P29: 44 | Q29: 587 | R29: 1408800 | S29: 0 | T29: 0 | U29: 0
B30: 一般民眾 | C30: General | D30: 611 | E30: 2240 | F30: 26174179 | G30: 561 | H30: 1643 | I30: 24495379 | J30: 0 | K30: 0 | L30: 0 | M30: 6 | N30: 10 | O30: 270000 | P30: 44 | Q30: 587 | R30: 1408800 | S30: 0 | T30: 0 | U30: 0
B31: 原住民 | C31: Abrigines | D31: 17 | E31: 51 | F31: 711401 | G31: 17 | H31: 51 | I31: 711401 | J31: 0 | K31: 0 | L31: 0 | M31: 0 | N31: 0 | O31: 0 | P31: 0 | Q31: 0 | R31: 0 | S31: 0 | T31: 0 | U31: 0
B32: 大陸籍(含港澳) | C32: Mainlander | D32: 8 | E32: 31 | F32: 325200 | G32: 7 | H32: 19 | I32: 296400 | J32: 0 | K32: 0 | L32: 0 | M32: 0 | N32: 0 | O32: 0 | P32: 1 | Q32: 12 | R32: 28800 | S32: 0 | T32: 0 | U32: 0
B33: 外國籍 | C33: Foreigner | D33: 10 | E33: 30 | F33: 359127 | G33: 8 | H33: 24 | I33: 344727 | J33: 0 | K33: 0 | L33: 0 | M33: 0 | N33: 0 | O33: 0 | P33: 2 | Q33: 6 | R33: 14400 | S33: 0 | T33: 0 | U33: 0
A34: 臺北市 | C34: Taipei City | D34: 1821 | E34: 12672 | F34: 60317503 | G34: 733 | H34: 1983 | I34: 34189046 | J34: 37 | K34: 37 | L34: 183097 | M34: 8 | N34: 8 | O34: 400000 | P34: 1043 | Q34: 10644 | R34: 25545360 | S34: 0 | T34: 0 | U34: 0
A35: 男 Male | B35: 計 | C35: Subtotal | D35: 163 | E35: 1061 | F35: 5390720 | G35: 74 | H35: 195 | I35: 3272183 | J35: 2 | K35: 2 | L35: 44937 | M35: 0 | N35: 0 | O35: 0 | P35: 87 | Q35: 864 | R35: 2073600 | S35: 0 | T35: 0 | U35: 0
B36: 本國籍 | C36: National | D36: 163 | E36: 1061 | F36: 5390720 | G36: 74 | H36: 195 | I36: 3272183 | J36: 2 | K36: 2 | L36: 44937 | M36: 0 | N36: 0 | O36: 0 | P36: 87 | Q36: 864 | R36: 2073600 | S36: 0 | T36: 0 | U36: 0
B37: 一般民眾 | C37: General | D37: 160 | E37: 1049 | F37: 5270312 | G37: 72 | H37: 189 | I37: 3166175 | J37: 2 | K37: 2 | L37: 44937 | M37: 0 | N37: 0 | O37: 0 | P37: 86 | Q37: 858 | R37: 2059200 | S37: 0 | T37: 0 | U37: 0
B38: 原住民 | C38: Abrigines | D38: 3 | E38: 12 | F38: 120408 | G38: 2 | H38: 6 | I38: 106008 | J38: 0 | K38: 0 | L38: 0 | M38: 0 | N38: 0 | O38: 0 | P38: 1 | Q38: 6 | R38: 14400 | S38: 0 | T38: 0 | U38: 0
B39: 大陸籍(含港澳) | C39: Mainlander | D39: 0 | E39: 0 | F39: 0 | G39: 0 | H39: 0 | I39: 0 | J39: 0 | K39: 0 | L39: 0 | M39: 0 | N39: 0 | O39: 0 | P39: 0 | Q39: 0 | R39: 0 | S39: 0 | T39: 0 | U39: 0
B40: 外國籍 | C40: Foreigner | D40: 0 | E40: 0 | F40: 0 | G40: 0 | H40: 0 | I40: 0 | J40: 0 | K40: 0 | L40: 0 | M40: 0 | N40: 0 | O40: 0 | P40: 0 | Q40: 0 | R40: 0 | S40: 0 | T40: 0 | U40: 0
...

Sheet 109
A1: 特殊境遇家庭扶助服務 Assistance Service for Families in Hardship
A2: 109年,2020
A3: 單位：人;人次;金額 | D3: =IF(D8=SUM(D21,D34,D47,D60,D73,D86,D99,D112,D125,D138,D151,D164,D177,D190,D203,D216,D229,D242,D255,D268,D281,D294),"","*") | E3: =IF(E8=SUM(E21,E34,E47,E60,E73,E86,E99,E112,E125,E138,E151,E164,E177,E190,E203,E216,E229,E242,E255,E268,E281,E294),"","*") | F3: =IF(F8=SUM(F21,F34,F47,F60,F73,F86,F99,F112,F125,F138,F151,F164,F177,F190,F203,F216,F229,F242,F255,F268,F281,F294),"","*") | G3: =IF(G8=SUM(G21,G34,G47,G60,G73,G86,G99,G112,G125,G138,G151,G164,G177,G190,G203,G216,G229,G242,G255,G268,G281,G294),"","*") | H3: =IF(H8=SUM(H21,H34,H47,H60,H73,H86,H99,H112,H125,H138,H151,H164,H177,H190,H203,H216,H229,H242,H255,H268,H281,H294),"","*") | I3: =IF(I8=SUM(I21,I34,I47,I60,I73,I86,I99,I112,I125,I138,I151,I164,I177,I190,I203,I216,I229,I242,I255,I268,I281,I294),"","*") | J3: =IF(J8=SUM(J21,J34,J47,J60,J73,J86,J99,J112,J125,J138,J151,J164,J177,J190,J203,J216,J229,J242,J255,J268,J281,J294),"","*") | K3: =IF(K8=SUM(K21,K34,K47,K60,K73,K86,K99,K112,K125,K138,K151,K164,K177,K190,K203,K216,K229,K242,K255,K268,K281,K294),"","*") | ... U3: =IF(U8=SUM(U21,U34,U47,U60,U73,U86,U99,U112,U125,U138,U151,U164,U177,U190,U203,U216,U229,U242,U255,U268,U281,U294),"","*")
A4: 地區、性別及設籍別 Locality, Sex & Identity | D4: 總計 | G4: 緊急生活扶助 | J4: 傷病醫療補助 | M4: 法律訴訟補助 | P4: 子女生活津貼 | S4: 兒童托育津貼
D5: Total | G5: Emergency Assistance for Livelihood | J5: Medical Subsidies | M5: Subsidies of Litigation | P5: Children Living Allowance | S5: Children Nursery Allowance
D6: 人數 | E6: 人次 | F6: 金額(元) | G6: 人數 | H6: 人次 | I6: 金額(元) | J6: 人數 | K6: 人次 | L6: 金額(元) | M6: 人數 | N6: 人次 | O6: 金額(元) | P6: 人數 | Q6: 人次 | R6: 金額(元) | S6: 人數 | T6: 人次 | U6: 金額(元)
D7: Persons | E7: Times of Persons | F7: Amount (NT$) | G7: Persons | H7: Times of Persons | I7: Amount (NT$) | J7: Persons | K7: Times of Persons | L7: Amount (NT$) | M7: Persons | N7: Times of Persons | O7: Amount (NT$) | P7: Persons | Q7: Times of Persons | R7: Amount (NT$) | S7: Persons | T7: Times of Persons | U7: Amount (NT$)
A8: 總計 | C8: Total | D8: 15900 | E8: 130532 | F8: 460653706 | G8: 5377 | H8: 13951 | I8: 181605784 | J8: 67 | K8: 67 | L8: 1072812 | M8: 52 | N8: 52 | O8: 2407000 | P8: 10288 | Q8: 115741 | R8: 274492336 | S8: 116 | T8: 721 | U8: 1075774
A9: 男 Male | B9: 計 | C9: Subtotal | D9: 2609 | E9: 27128 | F9: 79111292 | G9: 535 | H9: 1439 | I9: 18190211 | J9: 6 | K9: 6 | L9: 146466 | M9: 1 | N9: 1 | O9: 50000 | P9: 2044 | Q9: 25495 | R9: 60450115 | S9: 23 | T9: 187 | U9: 274500
B10: 本國籍 | C10: National | D10: 2580 | E10: 26869 | F10: 78328029 | G10: 527 | H10: 1417 | I10: 17956728 | J10: 6 | K10: 6 | L10: 146466 | M10: 1 | N10: 1 | O10: 50000 | P10: 2023 | Q10: 25258 | R10: 59900335 | S10: 23 | T10: 187 | U10: 274500
B11: 一般民眾 | C11: General | D11: 2438 | E11: 25451 | F11: 74313382 | G11: 495 | H11: 1327 | I11: 17027261 | J11: 6 | K11: 6 | L11: 146466 | M11: 1 | N11: 1 | O11: 50000 | P11: 1913 | Q11: 23930 | R11: 56815155 | S11: 23 | T11: 187 | U11: 274500
B12: 原住民 | C12: Abrigines | D12: 142 | E12: 1418 | F12: 4014647 | G12: 32 | H12: 90 | I12: 929467 | J12: 0 | K12: 0 | L12: 0 | M12: 0 | N12: 0 | O12: 0 | P12: 110 | Q12: 1328 | R12: 3085180 | S12: 0 | T12: 0 | U12: 0
B13: 大陸籍(含港澳) | C13: Mainlander | D13: 16 | E13: 145 | F13: 408504 | G13: 3 | H13: 9 | I13: 99104 | J13: 0 | K13: 0 | L13: 0 | M13: 0 | N13: 0 | O13: 0 | P13: 13 | Q13: 136 | R13: 309400 | S13: 0 | T13: 0 | U13: 0
B14: 外國籍 | C14: Foreigner | D14: 13 | E14: 114 | F14: 374759 | G14: 5 | H14: 13 | I14: 134379 | J14: 0 | K14: 0 | L14: 0 | M14: 0 | N14: 0 | O14: 0 | P14: 8 | Q14: 101 | R14: 240380 | S14: 0 | T14: 0 | U14: 0
A15: 女 Female | B15: 計 | C15: Subtotal | D15: 13291 | E15: 103404 | F15: 381542414 | G15: 4842 | H15: 12512 | I15: 163415573 | J15: 61 | K15: 61 | L15: 926346 | M15: 51 | N15: 51 | O15: 2357000 | P15: 8244 | Q15: 90246 | R15: 214042221 | S15: 93 | T15: 534 | U15: 801274
B16: 本國籍 | C16: National | D16: 13031 | E16: 101570 | F16: 372632810 | G16: 4707 | H16: 12154 | I16: 158094089 | J16: 61 | K16: 61 | L16: 926346 | M16: 49 | N16: 49 | O16: 2277000 | P16: 8121 | Q16: 88772 | R16: 210534101 | S16: 93 | T16: 534 | U16: 801274
B17: 一般民眾 | C17: General | D17: 12160 | E17: 95138 | F17: 348850781 | G17: 4345 | H17: 11267 | I17: 147630351 | J17: 54 | K17: 54 | L17: 728275 | M17: 49 | N17: 49 | O17: 2277000 | P17: 7622 | Q17: 83243 | R17: 197427381 | S17: 90 | T17: 525 | U17: 787774
B18: 原住民 | C18: Abrigines | D18: 871 | E18: 6432 | F18: 23782029 | G18: 362 | H18: 887 | I18: 10463738 | J18: 7 | K18: 7 | L18: 198071 | M18: 0 | N18: 0 | O18: 0 | P18: 499 | Q18: 5529 | R18: 13106720 | S18: 3 | T18: 9 | U18: 13500
B19: 大陸籍(含港澳) | C19: Mainlander | D19: 132 | E19: 897 | F19: 4511213 | G19: 72 | H19: 183 | I19: 2736653 | J19: 0 | K19: 0 | L19: 0 | M19: 2 | N19: 2 | O19: 80000 | P19: 58 | Q19: 712 | R19: 1694560 | S19: 0 | T19: 0 | U19: 0
B20: 外國籍 | C20: Foreigner | D20: 128 | E20: 937 | F20: 4398391 | G20: 63 | H20: 175 | I20: 2584831 | J20: 0 | K20: 0 | L20: 0 | M20: 0 | N20: 0 | O20: 0 | P20: 65 | Q20: 762 | R20: 1813560 | S20: 0 | T20: 0 | U20: 0
A21: 新北市 | C21: New Taipei City | D21: 731 | E21: 2504 | F21: 31321720 | G21: 690 | H21: 2070 | I21: 30003080 | J21: 0 | K21: 0 | L21: 0 | M21: 6 | N21: 6 | O21: 300000 | P21: 35 | Q21: 428 | R21: 1018640 | S21: 0 | T21: 0 | U21: 0
A22: 男 Male | B22: 計 | C22: Subtotal | D22: 54 | E22: 216 | F22: 2250628 | G22: 49 | H22: 147 | I22: 2086408 | J22: 0 | K22: 0 | L22: 0 | M22: 0 | N22: 0 | O22: 0 | P22: 5 | Q22: 69 | R22: 164220 | S22: 0 | T22: 0 | U22: 0
B23: 本國籍 | C23: National | D23: 54 | E23: 216 | F23: 2250628 | G23: 49 | H23: 147 | I23: 2086408 | J23: 0 | K23: 0 | L23: 0 | M23: 0 | N23: 0 | O23: 0 | P23: 5 | Q23: 69 | R23: 164220 | S23: 0 | T23: 0 | U23: 0
B24: 一般民眾 | C24: General | D24: 52 | E24: 210 | F24: 2157628 | G24: 47 | H24: 141 | I24: 1993408 | J24: 0 | K24: 0 | L24: 0 | M24: 0 | N24: 0 | O24: 0 | P24: 5 | Q24: 69 | R24: 164220 | S24: 0 | T24: 0 | U24: 0
B25: 原住民 | C25: Abrigines | D25: 2 | E25: 6 | F25: 93000 | G25: 2 | H25: 6 | I25: 93000 | J25: 0 | K25: 0 | L25: 0 | M25: 0 | N25: 0 | O25: 0 | P25: 0 | Q25: 0 | R25: 0 | S25: 0 | T25: 0 | U25: 0
B26: 大陸籍(含港澳) | C26: Mainlander | D26: 0 | E26: 0 | F26: 0 | G26: 0 | H26: 0 | I26: 0 | J26: 0 | K26: 0 | L26: 0 | M26: 0 | N26: 0 | O26: 0 | P26: 0 | Q26: 0 | R26: 0 | S26: 0 | T26: 0 | U26: 0
B27: 外國籍 | C27: Foreigner | D27: 0 | E27: 0 | F27: 0 | G27: 0 | H27: 0 | I27: 0 | J27: 0 | K27: 0 | L27: 0 | M27: 0 | N27: 0 | O27: 0 | P27: 0 | Q27: 0 | R27: 0 | S27: 0 | T27: 0 | U27: 0
A28: 女 Female | B28: 計 | C28: Subtotal | D28: 677 | E28: 2288 | F28: 29071092 | G28: 641 | H28: 1923 | I28: 27916672 | J28: 0 | K28: 0 | L28: 0 | M28: 6 | N28: 6 | O28: 300000 | P28: 30 | Q28: 359 | R28: 854420 | S28: 0 | T28: 0 | U28: 0
B29: 本國籍 | C29: National | D29: 664 | E29: 2251 | F29: 28513426 | G29: 629 | H29: 1887 | I29: 27409006 | J29: 0 | K29: 0 | L29: 0 | M29: 5 | N29: 5 | O29: 250000 | P29: 30 | Q29: 359 | R29: 854420 | S29: 0 | T29: 0 | U29: 0
B30: 一般民眾 | C30: General | D30: 648 | E30: 2203 | F30: 27824286 | G30: 614 | H30: 1842 | I30: 26727006 | J30: 0 | K30: 0 | L30: 0 | M30: 5 | N30: 5 | O30: 250000 | P30: 29 | Q30: 356 | R30: 847280 | S30: 0 | T30: 0 | U30: 0
B31: 原住民 | C31: Abrigines | D31: 16 | E31: 48 | F31: 689140 | G31: 15 | H31: 45 | I31: 682000 | J31: 0 | K31: 0 | L31: 0 | M31: 0 | N31: 0 | O31: 0 | P31: 1 | Q31: 3 | R31: 7140 | S31: 0 | T31: 0 | U31: 0
B32: 大陸籍(含港澳) | C32: Mainlander | D32: 9 | E32: 25 | F32: 390740 | G32: 8 | H32: 24 | I32: 340740 | J32: 0 | K32: 0 | L32: 0 | M32: 1 | N32: 1 | O32: 50000 | P32: 0 | Q32: 0 | R32: 0 | S32: 0 | T32: 0 | U32: 0
B33: 外國籍 | C33: Foreigner | D33: 4 | E33: 12 | F33: 166926 | G33: 4 | H33: 12 | I33: 166926 | J33: 0 | K33: 0 | L33: 0 | M33: 0 | N33: 0 | O33: 0 | P33: 0 | Q33: 0 | R33: 0 | S33: 0 | T33: 0 | U33: 0
A34: 臺北市 | C34: Taipei City | D34: 1979 | E34: 12353 | F34: 67593042 | G34: 952 | H34: 2609 | I34: 43319517 | J34: 55 | K34: 55 | L34: 535025 | M34: 16 | N34: 16 | O34: 730000 | P34: 956 | Q34: 9673 | R34: 23008500 | S34: 0 | T34: 0 | U34: 0
A35: 男 Male | B35: 計 | C35: Subtotal | D35: 205 | E35: 3150 | F35: 11402855 | G35: 108 | H35: 277 | I35: 4432929 | J35: 6 | K35: 6 | L35: 146466 | M35: 0 | N35: 0 | O35: 0 | P35: 91 | Q35: 2867 | R35: 6823460 | S35: 0 | T35: 0 | U35: 0
B36: 本國籍 | C36: National | D36: 205 | E36: 3150 | F36: 11402855 | G36: 108 | H36: 277 | I36: 4432929 | J36: 6 | K36: 6 | L36: 146466 | M36: 0 | N36: 0 | O36: 0 | P36: 91 | Q36: 2867 | R36: 6823460 | S36: 0 | T36: 0 | U36: 0
B37: 一般民眾 | C37: General | D37: 205 | E37: 3150 | F37: 11402855 | G37: 108 | H37: 277 | I37: 4432929 | J37: 6 | K37: 6 | L37: 146466 | M37: 0 | N37: 0 | O37: 0 | P37: 91 | Q37: 2867 | R37: 6823460 | S37: 0 | T37: 0 | U37: 0
B38: 原住民 | C38: Abrigines | D38: 0 | E38: 0 | F38: 0 | G38: 0 | H38: 0 | I38: 0 | J38: 0 | K38: 0 | L38: 0 | M38: 0 | N38: 0 | O38: 0 | P38: 0 | Q38: 0 | R38: 0 | S38: 0 | T38: 0 | U38: 0
B39: 大陸籍(含港澳) | C39: Mainlander | D39: 0 | E39: 0 | F39: 0 | G39: 0 | H39: 0 | I39: 0 | J39: 0 | K39: 0 | L39: 0 | M39: 0 | N39: 0 | O39: 0 | P39: 0 | Q39: 0 | R39: 0 | S39: 0 | T39: 0 | U39: 0
B40: 外國籍 | C40: Foreigner | D40: 0 | E40: 0 | F40: 0 | G40: 0 | H40: 0 | I40: 0 | J40: 0 | K40: 0 | L40: 0 | M40: 0 | N40: 0 | O40: 0 | P40: 0 | Q40: 0 | R40: 0 | S40: 0 | T40: 0 | U40: 0
...

Sheet 108
A1: 特殊境遇家庭扶助服務 Assistance Service for Families in Hardship
A2: 108年,2019
A3: 單位：人;人次;金額
A4: 地區、性別及設籍別 Locality, Sex & Identity | D4: 總計 | G4: 緊急生活扶助 | J4: 傷病醫療補助 | M4: 法律訴訟補助 | P4: 子女生活津貼 | S4: 兒童托育津貼
D5: Total | G5: Emergency Assistance for Livelihood | J5: Medical Subsidies | M5: Subsidies of Litigation | P5: Children Living Allowance | S5: Children Nursery Allowance
D6: 人數 | E6: 人次 | F6: 金額(元) | G6: 人數 | H6: 人次 | I6: 金額(元) | J6: 人數 | K6: 人次 | L6: 金額(元) | M6: 人數 | N6: 人次 | O6: 金額(元) | P6: 人數 | Q6: 人次 | R6: 金額(元) | S6: 人數 | T6: 人次 | U6: 金額(元)
D7: Persons | E7: Times of Persons | F7: Amount (NT$) | G7: Persons | H7: Times of Persons | I7: Amount (NT$) | J7: Persons | K7: Times of Persons | L7: Amount (NT$) | M7: Persons | N7: Times of Persons | O7: Amount (NT$) | P7: Persons | Q7: Times of Persons | R7: Amount (NT$) | S7: Persons | T7: Times of Persons | U7: Amount (NT$)
A8: 總計 | C8: Total | D8: 16232 | E8: 130701 | F8: 458950291 | G8: 5733 | H8: 15196 | I8: 190762494 | J8: 72 | K8: 73 | L8: 1131471 | M8: 52 | N8: 52 | O8: 2370000 | P8: 10254 | Q8: 114095 | R8: 262912843 | S8: 121 | T8: 1285 | U8: 1773483
A9: 男 Male | B9: 計 | C9: Subtotal | D9: 2706 | E9: 24737 | F9: 74285243 | G9: 627 | H9: 1760 | I9: 21064746 | J9: 9 | K9: 9 | L9: 437076 | M9: 2 | N9: 2 | O9: 100000 | P9: 2028 | Q9: 22643 | R9: 52227065 | S9: 40 | T9: 323 | U9: 456356
B10: 本國籍 | C10: National | D10: 2671 | E10: 24393 | F10: 73085074 | G10: 617 | H10: 1731 | I10: 20705057 | J10: 8 | K10: 8 | L10: 317076 | M10: 2 | N10: 2 | O10: 100000 | P10: 2004 | Q10: 22335 | R10: 51515585 | S10: 40 | T10: 317 | U10: 447356
B11: 一般民眾 | C11: General | D11: 2517 | E11: 23061 | F11: 69105209 | G11: 581 | H11: 1626 | I11: 19539820 | J11: 7 | K11: 7 | L11: 307478 | M11: 2 | N11: 2 | O11: 100000 | P11: 1888 | Q11: 21112 | R11: 48713555 | S11: 39 | T11: 314 | U11: 444356
B12: 原住民 | C12: Abrigines | D12: 154 | E12: 1332 | F12: 3979865 | G12: 36 | H12: 105 | I12: 1165237 | J12: 1 | K12: 1 | L12: 9598 | M12: 0 | N12: 0 | O12: 0 | P12: 116 | Q12: 1223 | R12: 2802030 | S12: 1 | T12: 3 | U12: 3000
B13: 大陸籍(含港澳) | C13: Mainlander | D13: 14 | E13: 124 | F13: 450435 | G13: 5 | H13: 15 | I13: 198645 | J13: 0 | K13: 0 | L13: 0 | M13: 0 | N13: 0 | O13: 0 | P13: 9 | Q13: 109 | R13: 251790 | S13: 0 | T13: 0 | U13: 0
B14: 外國籍 | C14: Foreigner | D14: 21 | E14: 220 | F14: 749734 | G14: 5 | H14: 14 | I14: 161044 | J14: 1 | K14: 1 | L14: 120000 | M14: 0 | N14: 0 | O14: 0 | P14: 15 | Q14: 199 | R14: 459690 | S14: 0 | T14: 6 | U14: 9000
A15: 女 Female | B15: 計 | C15: Subtotal | D15: 13526 | E15: 105964 | F15: 384665048 | G15: 5106 | H15: 13436 | I15: 169697748 | J15: 63 | K15: 64 | L15: 694395 | M15: 50 | N15: 50 | O15: 2270000 | P15: 8226 | Q15: 91452 | R15: 210685778 | S15: 81 | T15: 962 | U15: 1317127
B16: 本國籍 | C16: National | D16: 13260 | E16: 104092 | F16: 376295029 | G16: 4973 | H16: 13094 | I16: 164844879 | J16: 62 | K16: 62 | L16: 693325 | M16: 50 | N16: 50 | O16: 2270000 | P16: 8096 | Q16: 89934 | R16: 207184698 | S16: 79 | T16: 952 | U16: 1302127
B17: 一般民眾 | C17: General | D17: 12409 | E17: 97971 | F17: 353285591 | G17: 4597 | H17: 12162 | I17: 153841471 | J17: 62 | K17: 62 | L17: 693325 | M17: 49 | N17: 49 | O17: 2220000 | P17: 7622 | Q17: 84751 | R17: 195236168 | S17: 79 | T17: 947 | U17: 1294627
B18: 原住民 | C18: Abrigines | D18: 851 | E18: 6121 | F18: 23009438 | G18: 376 | H18: 932 | I18: 11003408 | J18: 0 | K18: 0 | L18: 0 | M18: 1 | N18: 1 | O18: 50000 | P18: 474 | Q18: 5183 | R18: 11948530 | S18: 0 | T18: 5 | U18: 7500
B19: 大陸籍(含港澳) | C19: Mainlander | D19: 146 | E19: 931 | F19: 4579846 | G19: 80 | H19: 199 | I19: 2905196 | J19: 1 | K19: 2 | L19: 1070 | M19: 0 | N19: 0 | O19: 0 | P19: 63 | Q19: 720 | R19: 1658580 | S19: 2 | T19: 10 | U19: 15000
B20: 外國籍 | C20: Foreigner | D20: 120 | E20: 941 | F20: 3790173 | G20: 53 | H20: 143 | I20: 1947673 | J20: 0 | K20: 0 | L20: 0 | M20: 0 | N20: 0 | O20: 0 | P20: 67 | Q20: 798 | R20: 1842500 | S20: 0 | T20: 0 | U20: 0
A21: 新北市 | C21: New Taipei City | D21: 859 | E21: 2867 | F21: 34215130 | G21: 814 | H21: 2442 | I21: 32780136 | J21: 2 | K21: 2 | L21: 28654 | M21: 9 | N21: 9 | O21: 450000 | P21: 34 | Q21: 414 | R21: 956340 | S21: 0 | T21: 0 | U21: 0
A22: 男 Male | B22: 計 | C22: Subtotal | D22: 62 | E22: 237 | F22: 2337871 | G22: 53 | H22: 159 | I22: 2083917 | J22: 1 | K22: 1 | L22: 28394 | M22: 1 | N22: 1 | O22: 50000 | P22: 7 | Q22: 76 | R22: 175560 | S22: 0 | T22: 0 | U22: 0
B23: 本國籍 | C23: National | D23: 62 | E23: 237 | F23: 2337871 | G23: 53 | H23: 159 | I23: 2083917 | J23: 1 | K23: 1 | L23: 28394 | M23: 1 | N23: 1 | O23: 50000 | P23: 7 | Q23: 76 | R23: 175560 | S23: 0 | T23: 0 | U23: 0
B24: 一般民眾 | C24: General | D24: 62 | E24: 237 | F24: 2337871 | G24: 53 | H24: 159 | I24: 2083917 | J24: 1 | K24: 1 | L24: 28394 | M24: 1 | N24: 1 | O24: 50000 | P24: 7 | Q24: 76 | R24: 175560 | S24: 0 | T24: 0 | U24: 0
B25: 原住民 | C25: Abrigines | D25: 0 | E25: 0 | F25: 0 | G25: 0 | H25: 0 | I25: 0 | J25: 0 | K25: 0 | L25: 0 | M25: 0 | N25: 0 | O25: 0 | P25: 0 | Q25: 0 | R25: 0 | S25: 0 | T25: 0 | U25: 0
B26: 大陸籍(含港澳) | C26: Mainlander | D26: 0 | E26: 0 | F26: 0 | G26: 0 | H26: 0 | I26: 0 | J26: 0 | K26: 0 | L26: 0 | M26: 0 | N26: 0 | O26: 0 | P26: 0 | Q26: 0 | R26: 0 | S26: 0 | T26: 0 | U26: 0
B27: 外國籍 | C27: Foreigner | D27: 0 | E27: 0 | F27: 0 | G27: 0 | H27: 0 | I27: 0 | J27: 0 | K27: 0 | L27: 0 | M27: 0 | N27: 0 | O27: 0 | P27: 0 | Q27: 0 | R27: 0 | S27: 0 | T27: 0 | U27: 0
A28: 女 Female | B28: 計 | C28: Subtotal | D28: 797 | E28: 2630 | F28: 31877259 | G28: 761 | H28: 2283 | I28: 30696219 | J28: 1 | K28: 1 | L28: 260 | M28: 8 | N28: 8 | O28: 400000 | P28: 27 | Q28: 338 | R28: 780780 | S28: 0 | T28: 0 | U28: 0
