Workbook

Sheet 歷年
A1: 老人長期照顧、安養機構工作人員 Number of Workers in Elderly Long-term Care, Nursing and Caring Institutions
A2: 單位：人 Unit : Persons
A3: 年底別 End of Year | C3: 總計 Grand Total | F3: 業務負責人 Dean | I3: 行政人員(含主任) Administrators | L3: 護理人員 Nursing Staff | O3: 社會工作人員 Social Workers | R3: 服務人員 Serviceman | AE3: 其他人員 Others | AH3: 本國籍 R.O.C. Citizens | AJ3: 外國籍 Aliens
R4: 合計 Total | U4: 照顧服務員 Care Attendants | AB4: 服務相關之專業人員 Service Related Professionals
X5: 本國籍 R.O.C. Citizens | Z5: 外籍看護工 Foreign Care Workers
C6: 計 | D6: 男 | E6: 女 | F6: 計 | G6: 男 | H6: 女 | I6: 計 | J6: 男 | K6: 女 | L6: 計 | M6: 男 | N6: 女 | O6: 計 | P6: 男 | Q6: 女 | R6: 計 | S6: 男 | T6: 女 | U6: 計 | V6: 男 | W6: 女 | X6: 男 | Y6: 女 | Z6: 男 | AA6: 女 | AB6: 計 | AC6: 男 | AD6: 女 | AE6: 計 | AF6: 男 | AG6: 女 | AH6: 男 | AI6: 女 | AJ6: 男 | AK6: 女
C7: Total | D7: Male | E7: Female | F7: Total | G7: Male | H7: Female | I7: Total | J7: Male | K7: Female | L7: Total | M7: Male | N7: Female | O7: Total | P7: Male | Q7: Female | R7: Total | S7: Male | T7: Female | U7: Total | V7: Male | W7: Female | X7: Male | Y7: Female | Z7: Male | AA7: Female | AB7: Total | AC7: Male | AD7: Female | AE7: Total | AF7: Male | AG7: Female | AH7: Male | AI7: Female | AJ7: Male | AK7: Female
A8: 104年底 End of 2015 | C8: ='104'!C7 -> 24093 | D8: ='104'!D7+'104'!F7 -> 3731 | E8: ='104'!E7+'104'!G7 -> 20362 | F8: ='104'!H7 -> 1503 | G8: ='104'!I7+'104'!K7 -> 562 | H8: ='104'!J7+'104'!L7 -> 941 | I8: … | J8: … | K8: … | L8: ='104'!M7 -> 4645 | M8: ='104'!N7+'104'!P7 -> 52 | N8: ='104'!O7+'104'!Q7 -> 4593 | O8: ='104'!R7 -> 1147 | P8: ='104'!S7+'104'!U7 -> 267 | Q8: ='104'!T7+'104'!V7 -> 880 | R8: =SUM(S8:T8) -> 15097 | S8: =V8+AC8 -> 2229 | T8: =W8+AD8 -> 12868 | U8: =SUM(V8:W8) -> 13806 | V8: =X8+Z8 -> 1834 | W8: =Y8+AA8 -> 11972 | X8: 1689 | Y8: 6668 | Z8: 145 | AA8: 5304 | AB8: ='104'!AC7 -> 1291 | AC8: ='104'!AD7+'104'!AF7 -> 395 | AD8: ='104'!AE7+'104'!AG7 -> 896 | AE8: ='104'!AH7 -> 1701 | AF8: ='104'!AI7+'104'!AK7 -> 621 | AG8: ='104'!AJ7+'104'!AL7 -> 1080 | AH8: ='104'!D7 -> 3585 | AI8: ='104'!E7 -> 14993 | AJ8: ='104'!F7 -> 146 | AK8: ='104'!G7 -> 5369
A9: 105年底 End of 2016 | C9: ='105'!C7 -> 25878 | D9: ='105'!D7+'105'!F7 -> 4377 | E9: ='105'!E7+'105'!G7 -> 21501 | F9: ='105'!H7 -> 1468 | G9: ='105'!I7+'105'!K7 -> 555 | H9: ='105'!J7+'105'!L7 -> 913 | I9: … | J9: … | K9: … | L9: ='105'!M7 -> 4977 | M9: ='105'!N7+'105'!P7 -> 73 | N9: ='105'!O7+'105'!Q7 -> 4904 | O9: ='105'!R7 -> 1241 | P9: ='105'!S7+'105'!U7 -> 335 | Q9: ='105'!T7+'105'!V7 -> 906 | R9: =SUM(S9:T9) -> 16236 | S9: =V9+AC9 -> 2676 | T9: =W9+AD9 -> 13560 | U9: =SUM(V9:W9) -> 14613 | V9: =X9+Z9 -> 2120 | W9: =Y9+AA9 -> 12493 | X9: 1944 | Y9: 6973 | Z9: 176 | AA9: 5520 | AB9: ='105'!AC7 -> 1623 | AC9: ='105'!AD7+'105'!AF7 -> 556 | AD9: ='105'!AE7+'105'!AG7 -> 1067 | AE9: ='105'!AH7 -> 1956 | AF9: ='105'!AI7+'105'!AK7 -> 738 | AG9: ='105'!AJ7+'105'!AL7 -> 1218 | AH9: ='104'!D8 -> 374 | AI9: ='104'!E8 -> 1240 | AJ9: ='104'!F8 -> 18 | AK9: ='104'!G8 -> 189
A10: 106年6月底 End of June, 2017 | AH10: ='104'!D9 -> 592 | AI10: ='104'!E9 -> 2579 | AJ10: ='104'!F9 -> 18 | AK10: ='104'!G9 -> 959
A11: 106年底 End of 2017 | C11: 26732 | D11: 4370 | E11: 22362 | F11: 1300 | G11: 510 | H11: 790 | I11: … | J11: … | K11: … | L11: 5210 | M11: 113 | N11: 5097 | O11: 1355 | P11: 351 | Q11: 1004 | R11: 16618 | S11: 2645 | T11: 13973 | U11: 15201 | V11: 2122 | W11: 13079 | X11: 1956 | Y11: 7269 | Z11: 166 | AA11: 5810 | AB11: 1417 | AC11: 523 | AD11: 894 | AE11: 2249 | AF11: 751 | AG11: 1498
A12: 107年底 End of 2018 | C12: 27424 | D12: 4468 | E12: 22956 | F12: 1252 | G12: 485 | H12: 767 | I12: … | J12: … | K12: … | L12: 5286 | M12: 130 | N12: 5156 | O12: 1185 | P12: 276 | Q12: 909 | R12: 17632 | S12: 2882 | T12: 14750 | U12: 15730 | V12: 2217 | W12: 13513 | X12: 2065 | Y12: 7238 | Z12: 152 | AA12: 6275 | AB12: 1902 | AC12: 665 | AD12: 1237 | AE12: 2069 | AF12: 695 | AG12: 1374
A13: 108年底 End of 2019 | C13: 28286 | D13: 4711 | E13: 23575 | F13: 1206 | G13: 472 | H13: 734 | I13: … | J13: … | K13: … | L13: 5399 | M13: 141 | N13: 5258 | O13: 1209 | P13: 294 | Q13: 915 | R13: 18056 | S13: 3023 | T13: 15033 | U13: 16001 | V13: 2231 | W13: 13770 | X13: 2069 | Y13: 7362 | Z13: 162 | AA13: 6408 | AB13: 2055 | AC13: 792 | AD13: 1263 | AE13: 2416 | AF13: 781 | AG13: 1635
A14: 109年底 End of 2020 | C14: 28434 | D14: 4925 | E14: 23509 | F14: 1150 | G14: 451 | H14: 699 | I14: … | J14: … | K14: … | L14: 5400 | M14: 198 | N14: 5202 | O14: 1188 | P14: 288 | Q14: 900 | R14: 18185 | S14: 3174 | T14: 15011 | U14: 15874 | V14: 2231 | W14: 13643 | X14: 2082 | Y14: 7311 | Z14: 149 | AA14: 6332 | AB14: 2311 | AC14: 943 | AD14: 1368 | AE14: 2511 | AF14: 814 | AG14: 1697
A15: 110年底 End of 2021 | C15: 28628 | D15: 5179 | E15: 23449 | F15: 1166 | G15: 449 | H15: 717 | I15: … | J15: … | K15: … | L15: 5559 | M15: 215 | N15: 5344 | O15: 1273 | P15: 301 | Q15: 972 | R15: 17900 | S15: 3309 | T15: 14591 | U15: 15462 | V15: 2281 | W15: 13181 | X15: 2148 | Y15: 7272 | Z15: 133 | AA15: 5909 | AB15: 2438 | AC15: 1028 | AD15: 1410 | AE15: 2730 | AF15: 905 | AG15: 1825
A16: 111年底 End of 2022 | C16: 28628 | D16: 5311 | E16: 23317 | F16: 1059 | G16: 431 | H16: 628 | I16: … | J16: … | K16: … | L16: 5396 | M16: 226 | N16: 5170 | O16: 1302 | P16: 323 | Q16: 979 | R16: 17994 | S16: 3319 | T16: 14675 | U16: 15710 | V16: 2373 | W16: 13337 | X16: 2255 | Y16: 7230 | Z16: 118 | AA16: 6107 | AB16: 2284 | AC16: 946 | AD16: 1338 | AE16: 2877 | AF16: 1012 | AG16: 1865
A17: 112年底 End of 2023 | C17: 29205 | D17: 5658 | E17: 23547 | F17: 1055 | G17: 417 | H17: 638 | I17: … | J17: … | K17: … | L17: 5410 | M17: 228 | N17: 5182 | O17: 1308 | P17: 313 | Q17: 995 | R17: 18752 | S17: 3659 | T17: 15093 | U17: 15709 | V17: 2289 | W17: 13420 | X17: 2152 | Y17: 6689 | Z17: 137 | AA17: 6731 | AB17: 3043 | AC17: 1370 | AD17: 1673 | AE17: 2680 | AF17: 1041 | AG17: 1639
A18: 113年底 End of 2024 | C18: 28739 | D18: 5492 | E18: 23247 | F18: 1043 | G18: 418 | H18: 625 | I18: … | J18: … | K18: … | L18: 5364 | M18: 274 | N18: 5090 | O18: 1274 | P18: 304 | Q18: 970 | R18: 18492 | S18: 3483 | T18: 15009 | U18: 15581 | V18: 2207 | W18: 13374 | X18: 2059 | Y18: 6327 | Z18: 148 | AA18: 7047 | AB18: 2911 | AC18: 1276 | AD18: 1635 | AE18: 2566 | AF18: 1013 | AG18: 1553
A19: 114年底 End of 2025 | C19: 28264 | D19: 5402 | E19: 22862 | F19: 1039 | G19: 401 | H19: 638 | I19: … | J19: … | K19: … | L19: 5325 | M19: 288 | N19: 5037 | O19: 1265 | P19: 321 | Q19: 944 | R19: 18119 | S19: 3413 | T19: 14706 | U19: 15286 | V19: 2160 | W19: 13126 | X19: 1999 | Y19: 6049 | Z19: 161 | AA19: 7077 | AB19: 2833 | AC19: 1253 | AD19: 1580 | AE19: 2516 | AF19: 979 | AG19: 1537
A21: 資料來源：衛生福利部社會及家庭署及直轄市、縣(市)政府。
A22: Source : Social and Family Affairs Administration, Mohw and County and City Government.
A23: 說 明：1.自100年起服務人員區分為照顧服務員(含外籍看護工)、服務相關之專業人員統計。 2.原行政人員 (含主任) 自104年起改為僅填報院長(主任)。
A24: Note : 1.Service personnel divided into care attendants (Including foreign care workers), service related professionals since 2011. 2.Former administrator from 2015 years to only fill Dean (Director).

Sheet 114
A1: 老人長期照顧、安養機構工作人員 Number of Workers in Elderly Long-term Care, Nursing and Caring Institutions
A2: 114年底 End of 2025 | AL2: 單位：人
A3: 區域別 Locality | C3: 總計 Grand Total | H3: 院長(主任) Dean | M3: 護理人員 Nursing Staff | R3: 社會工作人員 Social Workers | W3: 照顧服務員 Care Attendants | Z3: 外籍看護工 Foreign Care Workers | AC3: 服務相關之專業人員 Service Related Professionals | AH3: 其他人員 Others
C4: 計 Total | D4: 本國籍 R.O.C. Citizens | F4: 外國籍 Aliens | H4: 計 Total | I4: 本國籍 R.O.C. Citizens | K4: 外國籍 Aliens | M4: 計 Total | N4: 本國籍 R.O.C. Citizens | P4: 外國籍 Aliens | R4: 計 Total | S4: 本國籍 R.O.C. Citizens | U4: 外國籍 Aliens | W4: 計 Total | X4: 本國籍 R.O.C. Citizens | Z4: 計 Total | AA4: 外國籍 Aliens | AC4: 計 Total | AD4: 本國籍 R.O.C. Citizens | AF4: 外國籍 Aliens | AH4: 計 Total | AI4: 本國籍 R.O.C. Citizens | AK4: 外國籍 Aliens
D5: 男 | E5: 女 | F5: 男 | G5: 女 | I5: 男 | J5: 女 | K5: 男 | L5: 女 | N5: 男 | O5: 女 | P5: 男 | Q5: 女 | S5: 男 | T5: 女 | U5: 男 | V5: 女 | X5: 男 | Y5: 女 | AA5: 男 | AB5: 女 | AD5: 男 | AE5: 女 | AF5: 男 | AG5: 女 | AI5: 男 | AJ5: 女 | AK5: 男 | AL5: 女
D6: Male | E6: Female | F6: Male | G6: Female | I6: Male | J6: Female | K6: Male | L6: Female | N6: Male | O6: Female | P6: Male | Q6: Female | S6: Male | T6: Female | U6: Male | V6: Female | X6: Male | Y6: Female | AA6: Male | AB6: Female | AD6: Male | AE6: Female | AF6: Male | AG6: Female | AI6: Male | AJ6: Female | AK6: Male | AL6: Female
A7: 總計 | B7: Total | C7: 28264 | D7: 5236 | E7: 15760 | F7: 166 | G7: 7102 | H7: 1039 | I7: 401 | J7: 638 | K7: 0 | L7: 0 | M7: 5325 | N7: 286 | O7: 5034 | P7: 2 | Q7: 3 | R7: 1265 | S7: 321 | T7: 943 | U7: 0 | V7: 1 | W7: 8048 | X7: 1999 | Y7: 6049 | Z7: 7238 | AA7: 161 | AB7: 7077 | AC7: 2833 | AD7: 1251 | AE7: 1574 | AF7: 2 | AG7: 6 | AH7: 2516 | AI7: 978 | AJ7: 1522 | AK7: 1 | AL7: 15
A8: 部直轄 | B8: Institution under Mohw | C8: 1903 | D8: 420 | E8: 1194 | F8: 11 | G8: 278 | H8: 24 | I8: 8 | J8: 16 | K8: 0 | L8: 0 | M8: 331 | N8: 17 | O8: 314 | P8: 0 | Q8: 0 | R8: 75 | S8: 21 | T8: 53 | U8: 0 | V8: 1 | W8: 675 | X8: 165 | Y8: 510 | Z8: 287 | AA8: 11 | AB8: 276 | AC8: 117 | AD8: 35 | AE8: 82 | AF8: 0 | AG8: 0 | AH8: 394 | AI8: 174 | AJ8: 219 | AK8: 0 | AL8: 1
A9: 新北市 | B9: New Taipei City | C9: 5158 | D9: 940 | E9: 2826 | F9: 39 | G9: 1353 | H9: 208 | I9: 81 | J9: 127 | K9: 0 | L9: 0 | M9: 983 | N9: 46 | O9: 934 | P9: 2 | Q9: 1 | R9: 230 | S9: 81 | T9: 149 | U9: 0 | V9: 0 | W9: 1489 | X9: 359 | Y9: 1130 | Z9: 1385 | AA9: 36 | AB9: 1349 | AC9: 458 | AD9: 219 | AE9: 236 | AF9: 1 | AG9: 2 | AH9: 405 | AI9: 154 | AJ9: 250 | AK9: 0 | AL9: 1
A10: 臺北市 | B10: Taipei City | C10: 2669 | D10: 522 | E10: 1503 | F10: 12 | G10: 632 | H10: 92 | I10: 41 | J10: 51 | K10: 0 | L10: 0 | M10: 492 | N10: 26 | O10: 466 | P10: 0 | Q10: 0 | R10: 130 | S10: 30 | T10: 100 | U10: 0 | V10: 0 | W10: 737 | X10: 190 | Y10: 547 | Z10: 644 | AA10: 12 | AB10: 632 | AC10: 293 | AD10: 134 | AE10: 159 | AF10: 0 | AG10: 0 | AH10: 281 | AI10: 101 | AJ10: 180 | AK10: 0 | AL10: 0
A11: 桃園市 | B11: Taoyuan City | C11: 1753 | D11: 342 | E11: 932 | F11: 6 | G11: 473 | H11: 64 | I11: 25 | J11: 39 | K11: 0 | L11: 0 | M11: 314 | N11: 17 | O11: 297 | P11: 0 | Q11: 0 | R11: 72 | S11: 23 | T11: 49 | U11: 0 | V11: 0 | W11: 473 | X11: 119 | Y11: 354 | Z11: 479 | AA11: 6 | AB11: 473 | AC11: 297 | AD11: 139 | AE11: 158 | AF11: 0 | AG11: 0 | AH11: 54 | AI11: 19 | AJ11: 35 | AK11: 0 | AL11: 0
A12: 臺中市 | B12: Taichung City | C12: 1670 | D12: 297 | E12: 929 | F12: 5 | G12: 439 | H12: 61 | I12: 22 | J12: 39 | K12: 0 | L12: 0 | M12: 328 | N12: 21 | O12: 307 | P12: 0 | Q12: 0 | R12: 78 | S12: 16 | T12: 62 | U12: 0 | V12: 0 | W12: 481 | X12: 119 | Y12: 362 | Z12: 444 | AA12: 5 | AB12: 439 | AC12: 149 | AD12: 70 | AE12: 79 | AF12: 0 | AG12: 0 | AH12: 129 | AI12: 49 | AJ12: 80 | AK12: 0 | AL12: 0
A13: 臺南市 | B13: Tainan City | C13: 2456 | D13: 416 | E13: 1417 | F13: 3 | G13: 620 | H13: 105 | I13: 28 | J13: 77 | K13: 0 | L13: 0 | M13: 492 | N13: 31 | O13: 461 | P13: 0 | Q13: 0 | R13: 117 | S13: 26 | T13: 91 | U13: 0 | V13: 0 | W13: 806 | X13: 197 | Y13: 609 | Z13: 622 | AA13: 2 | AB13: 620 | AC13: 214 | AD13: 96 | AE13: 117 | AF13: 1 | AG13: 0 | AH13: 100 | AI13: 38 | AJ13: 62 | AK13: 0 | AL13: 0
A14: 高雄市 | B14: Kaohsiung City | C14: 3953 | D14: 802 | E14: 2180 | F14: 24 | G14: 947 | H14: 148 | I14: 47 | J14: 101 | K14: 0 | L14: 0 | M14: 719 | N14: 37 | O14: 682 | P14: 0 | Q14: 0 | R14: 165 | S14: 34 | T14: 131 | U14: 0 | V14: 0 | W14: 937 | X14: 239 | Y14: 698 | Z14: 969 | AA14: 24 | AB14: 945 | AC14: 516 | AD14: 230 | AE14: 286 | AF14: 0 | AG14: 0 | AH14: 499 | AI14: 215 | AJ14: 282 | AK14: 0 | AL14: 2
A15: 宜蘭縣 | B15: Yilan County | C15: 1146 | D15: 207 | E15: 621 | F15: 17 | G15: 301 | H15: 38 | I15: 14 | J15: 24 | K15: 0 | L15: 0 | M15: 209 | N15: 12 | O15: 196 | P15: 0 | Q15: 1 | R15: 52 | S15: 9 | T15: 43 | U15: 0 | V15: 0 | W15: 288 | X15: 60 | Y15: 228 | Z15: 313 | AA15: 16 | AB15: 297 | AC15: 107 | AD15: 56 | AE15: 51 | AF15: 0 | AG15: 0 | AH15: 139 | AI15: 56 | AJ15: 79 | AK15: 1 | AL15: 3
A16: 新竹縣 | B16: Hsinchu County | C16: 516 | D16: 87 | E16: 262 | F16: 8 | G16: 159 | H16: 18 | I16: 12 | J16: 6 | K16: 0 | L16: 0 | M16: 90 | N16: 4 | O16: 86 | P16: 0 | Q16: 0 | R16: 23 | S16: 6 | T16: 17 | U16: 0 | V16: 0 | W16: 161 | X16: 44 | Y16: 117 | Z16: 166 | AA16: 8 | AB16: 158 | AC16: 17 | AD16: 2 | AE16: 15 | AF16: 0 | AG16: 0 | AH16: 41 | AI16: 19 | AJ16: 21 | AK16: 0 | AL16: 1
A17: 苗栗縣 | B17: Miaoli County | C17: 333 | D17: 56 | E17: 180 | F17: 11 | G17: 86 | H17: 13 | I17: 5 | J17: 8 | K17: 0 | L17: 0 | M17: 62 | N17: 4 | O17: 58 | P17: 0 | Q17: 0 | R17: 15 | S17: 8 | T17: 7 | U17: 0 | V17: 0 | W17: 94 | X17: 23 | Y17: 71 | Z17: 97 | AA17: 11 | AB17: 86 | AC17: 34 | AD17: 14 | AE17: 20 | AF17: 0 | AG17: 0 | AH17: 18 | AI17: 2 | AJ17: 16 | AK17: 0 | AL17: 0
A18: 彰化縣 | B18: Changhua County | C18: 1193 | D18: 193 | E18: 647 | F18: 5 | G18: 348 | H18: 50 | I18: 20 | J18: 30 | K18: 0 | L18: 0 | M18: 248 | N18: 12 | O18: 236 | P18: 0 | Q18: 0 | R18: 53 | S18: 10 | T18: 43 | U18: 0 | V18: 0 | W18: 330 | X18: 100 | Y18: 230 | Z18: 349 | AA18: 5 | AB18: 344 | AC18: 80 | AD18: 21 | AE18: 58 | AF18: 0 | AG18: 1 | AH18: 83 | AI18: 30 | AJ18: 50 | AK18: 0 | AL18: 3
... A30: 連江縣 | B30: Lienchiang County | C30: 32 | D30: 4 | E30: 26 | F30: 0 | G30: 2 | H30: 1 | I30: 0 | J30: 1 | K30: 0 | L30: 0 | M30: 7 | N30: 0 | O30: 7 | P30: 0 | Q30: 0 | R30: 2 | S30: 0 | T30: 2 | U30: 0 | V30: 0 | W30: 10 | X30: 0 | Y30: 10 | Z30: 2 | AA30: 0 | AB30: 2 | AC30: 4 | AD30: 2 | AE30: 2 | AF30: 0 | AG30: 0 | AH30: 6 | AI30: 2 | AJ30: 4 | AK30: 0 | AL30: 0
A31: 資料來源：衛生福利部社會及家庭署及直轄市、縣(市)政府。
A32: Source : Social and Family Affairs Administration, Mohw and County and City Government.

Sheet 113
A1: 老人長期照顧、安養機構工作人員 Number of Workers in Elderly Long-term Care, Nursing and Caring Institutions
A2: 113年底 End of 2024 | AL2: 單位：人
A3: 區域別 Locality | C3: 總計 Grand Total | H3: 院長(主任) Dean | M3: 護理人員 Nursing Staff | R3: 社會工作人員 Social Workers | W3: 照顧服務員 Care Attendants | Z3: 外籍看護工 Foreign Care Workers | AC3: 服務相關之專業人員 Service Related Professionals | AH3: 其他人員 Others
C4: 計 Total | D4: 本國籍 R.O.C. Citizens | F4: 外國籍 Aliens | H4: 計 Total | I4: 本國籍 R.O.C. Citizens | K4: 外國籍 Aliens | M4: 計 Total | N4: 本國籍 R.O.C. Citizens | P4: 外國籍 Aliens | R4: 計 Total | S4: 本國籍 R.O.C. Citizens | U4: 外國籍 Aliens | W4: 計 Total | X4: 本國籍 R.O.C. Citizens | Z4: 計 Total | AA4: 外國籍 Aliens | AC4: 計 Total | AD4: 本國籍 R.O.C. Citizens | AF4: 外國籍 Aliens | AH4: 計 Total | AI4: 本國籍 R.O.C. Citizens | AK4: 外國籍 Aliens
D5: 男 | E5: 女 | F5: 男 | G5: 女 | I5: 男 | J5: 女 | K5: 男 | L5: 女 | N5: 男 | O5: 女 | P5: 男 | Q5: 女 | S5: 男 | T5: 女 | U5: 男 | V5: 女 | X5: 男 | Y5: 女 | AA5: 男 | AB5: 女 | AD5: 男 | AE5: 女 | AF5: 男 | AG5: 女 | AI5: 男 | AJ5: 女 | AK5: 男 | AL5: 女
D6: Male | E6: Female | F6: Male | G6: Female | I6: Male | J6: Female | K6: Male | L6: Female | N6: Male | O6: Female | P6: Male | Q6: Female | S6: Male | T6: Female | U6: Male | V6: Female | X6: Male | Y6: Female | AA6: Male | AB6: Female | AD6: Male | AE6: Female | AF6: Male | AG6: Female | AI6: Male | AJ6: Female | AK6: Male | AL6: Female
A7: 總計 | B7: Total | C7: 28739 | D7: 5333 | E7: 16176 | F7: 159 | G7: 7071 | H7: 1043 | I7: 418 | J7: 625 | K7: 0 | L7: 0 | M7: 5364 | N7: 272 | O7: 5088 | P7: 2 | Q7: 2 | R7: 1274 | S7: 304 | T7: 969 | U7: 0 | V7: 1 | W7: 8386 | X7: 2059 | Y7: 6327 | Z7: 7195 | AA7: 148 | AB7: 7047 | AC7: 2911 | AD7: 1271 | AE7: 1633 | AF7: 5 | AG7: 2 | AH7: 2566 | AI7: 1009 | AJ7: 1534 | AK7: 4 | AL7: 19
A8: 部直轄 | B8: Institution under Mohw | C8: 1914 | D8: 433 | E8: 1212 | F8: 12 | G8: 257 | H8: 25 | I8: 10 | J8: 15 | K8: 0 | L8: 0 | M8: 346 | N8: 20 | O8: 325 | P8: 0 | Q8: 1 | R8: 75 | S8: 17 | T8: 57 | U8: 0 | V8: 1 | W8: 698 | X8: 175 | Y8: 523 | Z8: 267 | AA8: 12 | AB8: 255 | AC8: 114 | AD8: 34 | AE8: 80 | AF8: 0 | AG8: 0 | AH8: 389 | AI8: 177 | AJ8: 212 | AK8: 0 | AL8: 0
A9: 新北市 | B9: New Taipei City | C9: 5240 | D9: 967 | E9: 2894 | F9: 39 | G9: 1340 | H9: 208 | I9: 85 | J9: 123 | K9: 0 | L9: 0 | M9: 975 | N9: 35 | O9: 938 | P9: 2 | Q9: 0 | R9: 226 | S9: 84 | T9: 142 | U9: 0 | V9: 0 | W9: 1539 | X9: 376 | Y9: 1163 | Z9: 1368 | AA9: 34 | AB9: 1334 | AC9: 493 | AD9: 210 | AE9: 280 | AF9: 2 | AG9: 1 | AH9: 431 | AI9: 177 | AJ9: 248 | AK9: 1 | AL9: 5
A10: 臺北市 | B10: Taipei City | C10: 2727 | D10: 538 | E10: 1538 | F10: 13 | G10: 638 | H10: 94 | I10: 42 | J10: 52 | K10: 0 | L10: 0 | M10: 504 | N10: 26 | O10: 478 | P10: 0 | Q10: 0 | R10: 135 | S10: 30 | T10: 105 | U10: 0 | V10: 0 | W10: 768 | X10: 204 | Y10: 564 | Z10: 651 | AA10: 13 | AB10: 638 | AC10: 299 | AD10: 139 | AE10: 160 | AF10: 0 | AG10: 0 | AH10: 276 | AI10: 97 | AJ10: 179 | AK10: 0 | AL10: 0
A11: 桃園市 | B11: Taoyuan City | C11: 1784 | D11: 347 | E11: 947 | F11: 3 | G11: 487 | H11: 64 | I11: 26 | J11: 38 | K11: 0 | L11: 0 | M11: 312 | N11: 20 | O11: 292 | P11: 0 | Q11: 0 | R11: 77 | S11: 22 | T11: 55 | U11: 0 | V11: 0 | W11: 483 | X11: 120 | Y11: 363 | Z11: 490 | AA11: 3 | AB11: 487 | AC11: 301 | AD11: 143 | AE11: 158 | AF11: 0 | AG11: 0 | AH11: 57 | AI11: 16 | AJ11: 41 | AK11: 0 | AL11: 0
A12: 臺中市 | B12: Taichung City | C12: 1726 | D12: 310 | E12: 970 | F12: 4 | G12: 442 | H12: 63 | I12: 21 | J12: 42 | K12: 0 | L12: 0 | M12: 333 | N12: 23 | O12: 310 | P12: 0 | Q12: 0 | R12: 80 | S12: 16 | T12: 64 | U12: 0 | V12: 0 | W12: 513 | X12: 123 | Y12: 390 | Z12: 445 | AA12: 4 | AB12: 441 | AC12: 156 | AD12: 76 | AE12: 80 | AF12: 0 | AG12: 0 | AH12: 136 | AI12: 51 | AJ12: 84 | AK12: 0 | AL12: 1
A13: 臺南市 | B13: Tainan City | C13: 2486 | D13: 440 | E13: 1423 | F13: 6 | G13: 617 | H13: 106 | I13: 36 | J13: 70 | K13: 0 | L13: 0 | M13: 493 | N13: 27 | O13: 466 | P13: 0 | Q13: 0 | R13: 114 | S13: 26 | T13: 88 | U13: 0 | V13: 0 | W13: 837 | X13: 209 | Y13: 628 | Z13: 614 | AA13: 3 | AB13: 611 | AC13: 223 | AD13: 107 | AE13: 115 | AF13: 1 | AG13: 0 | AH13: 99 | AI13: 35 | AJ13: 56 | AK13: 2 | AL13: 6
A14: 高雄市 | B14: Kaohsiung City | C14: 4015 | D14: 799 | E14: 2241 | F14: 23 | G14: 952 | H14: 151 | I14: 47 | J14: 104 | K14: 0 | L14: 0 | M14: 716 | N14: 31 | O14: 685 | P14: 0 | Q14: 0 | R14: 168 | S14: 33 | T14: 135 | U14: 0 | V14: 0 | W14: 993 | X14: 238 | Y14: 755 | Z14: 972 | AA14: 21 | AB14: 951 | AC14: 522 | AD14: 238 | AE14: 283 | AF14: 1 | AG14: 0 | AH14: 493 | AI14: 212 | AJ14: 279 | AK14: 1 | AL14: 1
A15: 宜蘭縣 | B15: Yilan County | C15: 1149 | D15: 190 | E15: 643 | F15: 14 | G15: 302 | H15: 37 | I15: 13 | J15: 24 | K15: 0 | L15: 0 | M15: 208 | N15: 12 | O15: 196 | P15: 0 | Q15: 0 | R15: 49 | S15: 8 | T15: 41 | U15: 0 | V15: 0 | W15: 294 | X15: 63 | Y15: 231 | Z15: 315 | AA15: 14 | AB15: 301 | AC15: 145 | AD15: 66 | AE15: 79 | AF15: 0 | AG15: 0 | AH15: 101 | AI15: 28 | AJ15: 72 | AK15: 0 | AL15: 1
A16: 新竹縣 | B16: Hsinchu County | C16: 516 | D16: 84 | E16: 267 | F16: 11 | G16: 154 | H16: 19 | I16: 12 | J16: 7 | K16: 0 | L16: 0 | M16: 92 | N16: 4 | O16: 88 | P16: 0 | Q16: 0 | R16: 22 | S16: 4 | T16: 18 | U16: 0 | V16: 0 | W16: 159 | X16: 43 | Y16: 116 | Z16: 165 | AA16: 11 | AB16: 154 | AC16: 19 | AD16: 3 | AE16: 16 | AF16: 0 | AG16: 0 | AH16: 40 | AI16: 18 | AJ16: 22 | AK16: 0 | AL16: 0
A17: 苗栗縣 | B17: Miaoli County | C17: 385 | D17: 68 | E17: 221 | F17: 11 | G17: 85 | H17: 13 | I17: 6 | J17: 7 | K17: 0 | L17: 0 | M17: 59 | N17: 3 | O17: 56 | P17: 0 | Q17: 0 | R17: 17 | S17: 8 | T17: 9 | U17: 0 | V17: 0 | W17: 146 | X17: 34 | Y17: 112 | Z17: 96 | AA17: 11 | AB17: 85 | AC17: 37 | AD17: 12 | AE17: 25 | AF17: 0 | AG17: 0 | AH17: 17 | AI17: 5 | AJ17: 12 | AK17: 0 | AL17: 0
A18: 彰化縣 | B18: Changhua County | C18: 1156 | D18: 175 | E18: 651 | F18: 5 | G18: 325 | H18: 48 | I18: 18 | J18: 30 | K18: 0 | L18: 0 | M18: 238 | N18: 12 | O18: 226 | P18: 0 | Q18: 0 | R18: 53 | S18: 8 | T18: 45 | U18: 0 | V18: 0 | W18: 326 | X18: 88 | Y18: 238 | Z18: 327 | AA18: 5 | AB18: 322 | AC18: 82 | AD18: 20 | AE18: 61 | AF18: 0 | AG18: 1 | AH18: 82 | AI18: 29 | AJ18: 51 | AK18: 0 | AL18: 2
... A30: 連江縣 | B30: Lienchiang County | C30: 31 | D30: 5 | E30: 26 | F30: 0 | G30: 0 | H30: 1 | I30: 0 | J30: 1 | K30: 0 | L30: 0 | M30: 8 | N30: 0 | O30: 8 | P30: 0 | Q30: 0 | R30: 2 | S30: 0 | T30: 2 | U30: 0 | V30: 0 | W30: 10 | X30: 2 | Y30: 8 | Z30: 0 | AA30: 0 | AB30: 0 | AC30: 0 | AD30: 0 | AE30: 0 | AF30: 0 | AG30: 0 | AH30: 10 | AI30: 3 | AJ30: 7 | AK30: 0 | AL30: 0
A31: 資料來源：衛生福利部社會及家庭署及直轄市、縣(市)政府。
A32: Source : Social and Family Affairs Administration, Mohw and County and City Government.

Sheet 112
A1: 老人長期照顧、安養機構工作人員 Number of Workers in Elderly Long-term Care, Nursing and Caring Institutions
A2: 112年底 End of 2023 | AL2: 單位：人
A3: 區域別 Locality | C3: 總計 Grand Total | H3: 院長(主任) Dean | M3: 護理人員 Nursing Staff | R3: 社會工作人員 Social Workers | W3: 照顧服務員 Care Attendants | Z3: 外籍看護工 Foreign Care Workers | AC3: 服務相關之專業人員 Service Related Professionals | AH3: 其他人員 Others
C4: 計 Total | D4: 本國籍 R.O.C. Citizens | F4: 外國籍 Aliens | H4: 計 Total | I4: 本國籍 R.O.C. Citizens | K4: 外國籍 Aliens | M4: 計 Total | N4: 本國籍 R.O.C. Citizens | P4: 外國籍 Aliens | R4: 計 Total | S4: 本國籍 R.O.C. Citizens | U4: 外國籍 Aliens | W4: 計 Total | X4: 本國籍 R.O.C. Citizens | Z4: 計 Total | AA4: 外國籍 Aliens | AC4: 計 Total | AD4: 本國籍 R.O.C. Citizens | AF4: 外國籍 Aliens | AH4: 計 Total | AI4: 本國籍 R.O.C. Citizens | AK4: 外國籍 Aliens
D5: 男 | E5: 女 | F5: 男 | G5: 女 | I5: 男 | J5: 女 | K5: 男 | L5: 女 | N5: 男 | O5: 女 | P5: 男 | Q5: 女 | S5: 男 | T5: 女 | U5: 男 | V5: 女 | X5: 男 | Y5: 女 | AA5: 男 | AB5: 女 | AD5: 男 | AE5: 女 | AF5: 男 | AG5: 女 | AI5: 男 | AJ5: 女 | AK5: 男 | AL5: 女
D6: Male | E6: Female | F6: Male | G6: Female | I6: Male | J6: Female | K6: Male | L6: Female | N6: Male | O6: Female | P6: Male | Q6: Female | S6: Male | T6: Female | U6: Male | V6: Female | X6: Male | Y6: Female | AA6: Male | AB6: Female | AD6: Male | AE6: Female | AF6: Male | AG6: Female | AI6: Male | AJ6: Female | AK6: Male | AL6: Female
A7: 總計 | B7: Total | C7: 29205 | D7: 5516 | E7: 16795 | F7: 142 | G7: 6752 | H7: 1055 | I7: 417 | J7: 638 | K7: 0 | L7: 0 | M7: 5410 | N7: 227 | O7: 5181 | P7: 1 | Q7: 1 | R7: 1308 | S7: 313 | T7: 993 | U7: 0 | V7: 2 | W7: 8841 | X7: 2152 | Y7: 6689 | Z7: 6868 | AA7: 137 | AB7: 6731 | AC7: 3043 | AD7: 1367 | AE7: 1665 | AF7: 3 | AG7: 8 | AH7: 2680 | AI7: 1040 | AJ7: 1629 | AK7: 1 | AL7: 10
A8: 部直轄 | B8: Institution under Mohw | C8: 1892 | D8: 423 | E8: 1225 | F8: 11 | G8: 233 | H8: 25 | I8: 11 | J8: 14 | K8: 0 | L8: 0 | M8: 338 | N8: 18 | O8: 320 | P8: 0 | Q8: 0 | R8: 77 | S8: 18 | T8: 58 | U8: 0 | V8: 1 | W8: 717 | X8: 170 | Y8: 547 | Z8: 243 | AA8: 11 | AB8: 232 | AC8: 112 | AD8: 36 | AE8: 76 | AF8: 0 | AG8: 0 | AH8: 380 | AI8: 170 | AJ8: 210 | AK8: 0 | AL8: 0
A9: 新北市 | B9: New Taipei City | C9: 5473 | D9: 1060 | E9: 3064 | F9: 34 | G9: 1315 | H9: 209 | I9: 86 | J9: 123 | K9: 0 | L9: 0 | M9: 990 | N9: 35 | O9: 955 | P9: 0 | Q9: 0 | R9: 260 | S9: 87 | T9: 173 | U9: 0 | V9: 0 | W9: 1667 | X9: 411 | Y9: 1256 | Z9: 1349 | AA9: 34 | AB9: 1315 | AC9: 546 | AD9: 241 | AE9: 305 | AF9: 0 | AG9: 0 | AH9: 452 | AI9: 200 | AJ9: 252 | AK9: 0 | AL9: 0
A10: 臺北市 | B10: Taipei City | C10: 2800 | D10: 565 | E10: 1625 | F10: 8 | G10: 602 | H10: 96 | I10: 38 | J10: 58 | K10: 0 | L10: 0 | M10: 522 | N10: 27 | O10: 495 | P10: 0 | Q10: 0 | R10: 128 | S10: 30 | T10: 98 | U10: 0 | V10: 0 | W10: 817 | X10: 219 | Y10: 598 | Z10: 610 | AA10: 8 | AB10: 602 | AC10: 300 | AD10: 140 | AE10: 160 | AF10: 0 | AG10: 0 | AH10: 327 | AI10: 111 | AJ10: 216 | AK10: 0 | AL10: 0
A11: 桃園市 | B11: Taoyuan City | C11: 1776 | D11: 361 | E11: 945 | F11: 4 | G11: 466 | H11: 65 | I11: 25 | J11: 40 | K11: 0 | L11: 0 | M11: 296 | N11: 13 | O11: 283 | P11: 0 | Q11: 0 | R11: 76 | S11: 21 | T11: 55 | U11: 0 | V11: 0 | W11: 511 | X11: 137 | Y11: 374 | Z11: 470 | AA11: 4 | AB11: 466 | AC11: 295 | AD11: 142 | AE11: 153 | AF11: 0 | AG11: 0 | AH11: 63 | AI11: 23 | AJ11: 40 | AK11: 0 | AL11: 0
A12: 臺中市 | B12: Taichung City | C12: 1773 | D12: 309 | E12: 1028 | F12: 5 | G12: 431 | H12: 64 | I12: 21 | J12: 43 | K12: 0 | L12: 0 | M12: 348 | N12: 19 | O12: 329 | P12: 0 | Q12: 0 | R12: 80 | S12: 15 | T12: 65 | U12: 0 | V12: 0 | W12: 574 | X12: 136 | Y12: 438 | Z12: 436 | AA12: 5 | AB12: 431 | AC12: 158 | AD12: 78 | AE12: 80 | AF12: 0 | AG12: 0 | AH12: 113 | AI12: 40 | AJ12: 73 | AK12: 0 | AL12: 0
A13: 臺南市 | B13: Tainan City | C13: 2644 | D13: 544 | E13: 1506 | F13: 4 | G13: 590 | H13: 106 | I13: 34 | J13: 72 | K13: 0 | L13: 0 | M13: 492 | N13: 23 | O13: 469 | P13: 0 | Q13: 0 | R13: 120 | S13: 25 | T13: 95 | U13: 0 | V13: 0 | W13: 805 | X13: 200 | Y13: 605 | Z13: 592 | AA13: 3 | AB13: 589 | AC13: 342 | AD13: 184 | AE13: 157 | AF13: 1 | AG13: 0 | AH13: 187 | AI13: 78 | AJ13: 108 | AK13: 0 | AL13: 1
A14: 高雄市 | B14: Kaohsiung City | C14: 3969 | D14: 783 | E14: 2279 | F14: 19 | G14: 888 | H14: 153 | I14: 45 | J14: 108 | K14: 0 | L14: 0 | M14: 734 | N14: 22 | O14: 711 | P14: 1 | Q14: 0 | R14: 172 | S14: 39 | T14: 133 | U14: 0 | V14: 0 | W14: 1032 | X14: 249 | Y14: 783 | Z14: 902 | AA14: 17 | AB14: 885 | AC14: 519 | AD14: 249 | AE14: 269 | AF14: 0 | AG14: 1 | AH14: 457 | AI14: 179 | AJ14: 275 | AK14: 1 | AL14: 2
A15: 宜蘭縣 | B15: Yilan County | C15: 1234 | D15: 201 | E15: 711 | F15: 16 | G15: 306 | H15: 38 | I15: 17 | J15: 21 | K15: 0 | L15: 0 | M15: 218 | N15: 7 | O15: 211 | P15: 0 | Q15: 0 | R15: 47 | S15: 7 | T15: 40 | U15: 0 | V15: 0 | W15: 346 | X15: 68 | Y15: 278 | Z15: 319 | AA15: 16 | AB15: 303 | AC15: 139 | AD15: 53 | AE15: 85 | AF15: 0 | AG15: 1 | AH15: 127 | AI15: 49 | AJ15: 76 | AK15: 0 | AL15: 2
A16: 新竹縣 | B16: Hsinchu County | C16: 494 | D16: 75 | E16: 271 | F16: 6 | G16: 142 | H16: 19 | I16: 12 | J16: 7 | K16: 0 | L16: 0 | M16: 93 | N16: 3 | O16: 90 | P16: 0 | Q16: 0 | R16: 22 | S16: 4 | T16: 18 | U16: 0 | V16: 0 | W16: 164 | X16: 41 | Y16: 123 | Z16: 148 | AA16: 6 | AB16: 142 | AC16: 17 | AD16: 3 | AE16: 14 | AF16: 0 | AG16: 0 | AH16: 31 | AI16: 12 | AJ16: 19 | AK16: 0 | AL16: 0
A17: 苗栗縣 | B17: Miaoli County | C17: 359 | D17: 68 | E17: 199 | F17: 10 | G17: 82 | H17: 13 | I17: 5 | J17: 8 | K17: 0 | L17: 0 | M17: 60 | N17: 3 | O17: 57 | P17: 0 | Q17: 0 | R17: 11 | S17: 4 | T17: 7 | U17: 0 | V17: 0 | W17: 102 | X17: 27 | Y17: 75 | Z17: 92 | AA17: 10 | AB17: 82 | AC17: 57 | AD17: 25 | AE17: 32 | AF17: 0 | AG17: 0 | AH17: 24 | AI17: 4 | AJ17: 20 | AK17: 0 | AL17: 0
A18: 彰化縣 | B18: Changhua County | C18: 1203 | D18: 187 | E18: 685 | F18: 6 | G18: 325 | H18: 49 | I18: 20 | J18: 29 | K18: 0 | L18: 0 | M18: 244 | N18: 10 | O18: 234 | P18: 0 | Q18: 0 | R18: 61 | S18: 11 | T18: 50 | U18: 0 | V18: 0 | W18: 360 | X18: 96 | Y18: 264 | Z18: 328 | AA18: 6 | AB18: 322 | AC18: 80 | AD18: 20 | AE18: 58 | AF18: 0 | AG18: 2 | AH18: 81 | AI18: 30 | AJ18: 50 | AK18: 0 | AL18: 1
... A30: 連江縣 | B30: Lienchiang County | C30: 31 | D30: 3 | E30: 28 | F30: 0 | G30: 0 | H30: 1 | I30: 0 | J30: 1 | K30: 0 | L30: 0 | M30: 8 | N30: 0 | O30: 8 | P30: 0 | Q30: 0 | R30: 2 | S30: 0 | T30: 2 | U30: 0 | V30: 0 | W30: 9 | X30: 1 | Y30: 8 | Z30: 0 | AA30: 0 | AB30: 0 | AC30: 0 | AD30: 0 | AE30: 0 | AF30: 0 | AG30: 0 | AH30: 11 | AI30: 2 | AJ30: 9 | AK30: 0 | AL30: 0
A31: 資料來源：衛生福利部社會及家庭署及直轄市、縣(市)政府。
A32: Source : Social and Family Affairs Administration, Mohw and County and City Government.

Sheet 111
A1: 老人長期照顧、安養機構工作人員 Number of Workers in Elderly Long-term Care, Nursing and Caring Institutions
A2: 111年底 End of 2022 | AL2: 單位：人
A3: 區域別 Locality | C3: 總計 Grand Total | H3: 院長(主任) Dean | M3: 護理人員 Nursing Staff | R3: 社會工作人員 Social Workers | W3: 照顧服務員 Care Attendants | Z3: 外籍看護工 Foreign Care Workers | AC3: 服務相關之專業人員 Service Related Professionals | AH3: 其他人員 Others
C4: 計 Total | D4: 本國籍 R.O.C. Citizens | F4: 外國籍 Aliens | H4: 計 Total | I4: 本國籍 R.O.C. Citizens | K4: 外國籍 Aliens | M4: 計 Total | N4: 本國籍 R.O.C. Citizens | P4: 外國籍 Aliens | R4: 計 Total | S4: 本國籍 R.O.C. Citizens | U4: 外國籍 Aliens | W4: 計 Total | X4: 本國籍 R.O.C. Citizens | Z4: 計 Total | AA4: 外國籍 Aliens | AC4: 計 Total | AD4: 本國籍 R.O.C. Citizens | AF4: 外國籍 Aliens | AH4: 計 Total | AI4: 本國籍 R.O.C. Citizens | AK4: 外國籍 Aliens
D5: 男 | E5: 女 | F5: 男 | G5: 女 | I5: 男 | J5: 女 | K5: 男 | L5: 女 | N5: 男 | O5: 女 | P5: 男 | Q5: 女 | S5: 男 | T5: 女 | U5: 男 | V5: 女 | X5: 男 | Y5: 女 | AA5: 男 | AB5: 女 | AD5: 男 | AE5: 女 | AF5: 男 | AG5: 女 | AI5: 男 | AJ5: 女 | AK5: 男 | AL5: 女
D6: Male | E6: Female | F6: Male | G6: Female | I6: Male | J6: Female | K6: Male | L6: Female | N6: Male | O6: Female | P6: Male | Q6: Female | S6: Male | T6: Female | U6: Male | V6: Female | X6: Male | Y6: Female | AA6: Male | AB6: Female | AD6: Male | AE6: Female | AF6: Male | AG6: Female | AI6: Male | AJ6: Female | AK6: Male | AL6: Female
A7: 總計 | B7: Total | C7: 28628 | D7: 5186 | E7: 17182 | F7: 125 | G7: 6135 | H7: 1059 | I7: 431 | J7: 628 | K7: 0 | L7: 0 | M7: 5396 | N7: 225 | O7: 5169 | P7: 1 | Q7: 1 | R7: 1302 | S7: 322 | T7: 978 | U7: 1 | V7: 1 | W7: 9485 | X7: 2255 | Y7: 7230 | Z7: 6225 | AA7: 118 | AB7: 6107 | AC7: 2284 | AD7: 945 | AE7: 1321 | AF7: 1 | AG7: 17 | AH7: 2877 | AI7: 1008 | AJ7: 1856 | AK7: 4 | AL7: 9
A8: 部直轄 | B8: Institution under Mohw | C8: 1822 | D8: 382 | E8: 1223 | F8: 16 | G8: 201 | H8: 25 | I8: 11 | J8: 14 | K8: 0 | L8: 0 | M8: 344 | N8: 19 | O8: 325 | P8: 0 | Q8: 0 | R8: 78 | S8: 20 | T8: 57 | U8: 0 | V8: 1 | W8: 721 | X8: 166 | Y8: 555 | Z8: 214 | AA8: 15 | AB8: 199 | AC8: 100 | AD8: 26 | AE8: 73 | AF8: 1 | AG8: 0 | AH8: 340 | AI8: 140 | AJ8: 199 | AK8: 0 | AL8: 1
A9: 新北市 | B9: New Taipei City | C9: 5447 | D9: 1017 | E9: 3212 | F9: 28 | G9: 1190 | H9: 211 | I9: 86 | J9: 125 | K9: 0 | L9: 0 | M9: 990 | N9: 45 | O9: 945 | P9: 0 | Q9: 0 | R9: 263 | S9: 87 | T9: 176 | U9: 0 | V9: 0 | W9: 1765 | X9: 403 | Y9: 1362 | Z9: 1218 | AA9: 28 | AB9: 1190 | AC9: 511 | AD9: 207 | AE9: 304 | AF9: 0 | AG9: 0 | AH9: 489 | AI9: 189 | AJ9: 300 | AK9: 0 | AL9: 0
A10: 臺北市 | B10: Taipei City | C10: 2771 | D10: 574 | E10: 1641 | F10: 9 | G10: 547 | H10: 97 | I10: 37 | J10: 60 | K10: 0 | L10: 0 | M10: 507 | N10: 23 | O10: 484 | P10: 0 | Q10: 0 | R10: 132 | S10: 32 | T10: 100 | U10: 0 | V10: 0 | W10: 878 | X10: 235 | Y10: 643 | Z10: 550 | AA10: 9 | AB10: 541 | AC10: 297 | AD10: 129 | AE10: 162 | AF10: 0 | AG10: 6 | AH10: 310 | AI10: 118 | AJ10: 192 | AK10: 0 | AL10: 0
A11: 桃園市 | B11: Taoyuan City | C11: 1510 | D11: 245 | E11: 862 | F11: 5 | G11: 398 | H11: 65 | I11: 29 | J11: 36 | K11: 0 | L11: 0 | M11: 299 | N11: 8 | O11: 291 | P11: 0 | Q11: 0 | R11: 76 | S11: 23 | T11: 53 | U11: 0 | V11: 0 | W11: 564 | X11: 154 | Y11: 410 | Z11: 403 | AA11: 5 | AB11: 398 | AC11: 27 | AD11: 10 | AE11: 17 | AF11: 0 | AG11: 0 | AH11: 76 | AI11: 21 | AJ11: 55 | AK11: 0 | AL11: 0
A12: 臺中市 | B12: Taichung City | C12: 1783 | D12: 315 | E12: 1071 | F12: 3 | G12: 394 | H12: 64 | I12: 27 | J12: 37 | K12: 0 | L12: 0 | M12: 360 | N12: 19 | O12: 341 | P12: 0 | Q12: 0 | R12: 79 | S12: 13 | T12: 66 | U12: 0 | V12: 0 | W12: 641 | X12: 160 | Y12: 481 | Z12: 397 | AA12: 3 | AB12: 394 | AC12: 118 | AD12: 52 | AE12: 66 | AF12: 0 | AG12: 0 | AH12: 124 | AI12: 44 | AJ12: 80 | AK12: 0 | AL12: 0
A13: 臺南市 | B13: Tainan City | C13: 2667 | D13: 497 | E13: 1600 | F13: 6 | G13: 564 | H13: 107 | I13: 35 | J13: 72 | K13: 0 | L13: 0 | M13: 511 | N13: 17 | O13: 494 | P13: 0 | Q13: 0 | R13: 117 | S13: 27 | T13: 90 | U13: 0 | V13: 0 | W13: 871 | X13: 217 | Y13: 654 | Z13: 557 | AA13: 3 | AB13: 554 | AC13: 292 | AD13: 124 | AE13: 158 | AF13: 0 | AG13: 10 | AH13: 212 | AI13: 77 | AJ13: 132 | AK13: 3 | AL13: 0
A14: 高雄市 | B14: Kaohsiung City | C14: 3804 | D14: 675 | E14: 2323 | F14: 14 | G14: 792 | H14: 152 | I14: 50 | J14: 102 | K14: 0 | L14: 0 | M14: 713 | N14: 29 | O14: 684 | P14: 0 | Q14: 0 | R14: 171 | S14: 36 | T14: 135 | U14: 0 | V14: 0 | W14: 1130 | X14: 253 | Y14: 877 | Z14: 804 | AA14: 13 | AB14: 791 | AC14: 363 | AD14: 157 | AE14: 206 | AF14: 0 | AG14: 0 | AH14: 471 | AI14: 150 | AJ14: 319 | AK14: 1 | AL14: 1
A15: 宜蘭縣 | B15: Yilan County | C15: 1183 | D15: 176 | E15: 706 | F15: 12 | G15: 289 | H15: 38 | I15: 14 | J15: 24 | K15: 0 | L15: 0 | M15: 226 | N15: 5 | O15: 221 | P15: 0 | Q15: 0 | R15: 51 | S15: 13 | T15: 38 | U15: 0 | V15: 0 | W15: 381 | X15: 73 | Y15: 308 | Z15: 299 | AA15: 12 | AB15: 287 | AC15: 58 | AD15: 24 | AE15: 34 | AF15: 0 | AG15: 0 | AH15: 130 | AI15: 47 | AJ15: 81 | AK15: 0 | AL15: 2
A16: 新竹縣 | B16: Hsinchu County | C16: 506 | D16: 83 | E16: 284 | F16: 5 | G16: 134 | H16: 18 | I16: 12 | J16: 6 | K16: 0 | L16: 0 | M16: 83 | N16: 2 | O16: 81 | P16: 0 | Q16: 0 | R16: 20 | S16: 3 | T16: 17 | U16: 0 | V16: 0 | W16: 183 | X16: 43 | Y16: 140 | Z16: 139 | AA16: 5 | AB16: 134 | AC16: 28 | AD16: 10 | AE16: 18 | AF16: 0 | AG16: 0 | AH16: 35 | AI16: 13 | AJ16: 22 | AK16: 0 | AL16: 0
A17: 苗栗縣 | B17: Miaoli County | C17: 345 | D17: 67 | E17: 197 | F17: 8 | G17: 73 | H17: 13 | I17: 4 | J17: 9 | K17: 0 | L17: 0 | M17: 58 | N17: 3 | O17: 55 | P17: 0 | Q17: 0 | R17: 10 | S17: 4 | T17: 6 | U17: 0 | V17: 0 | W17: 113 | X17: 29 | Y17: 84 | Z17: 81 | AA17: 8 | AB17: 73 | AC17: 50 | AD17: 23 | AE17: 27 | AF17: 0 | AG17: 0 | AH17: 20 | AI17: 4 | AJ17: 16 | AK17: 0 | AL17: 0
A18: 彰化縣 | B18: Changhua County | C18: 1176 | D18: 179 | E18: 702 | F18: 5 | G18: 290 | H18: 50 | I18: 21 | J18: 29 | K18: 0 | L18: 0 | M18: 232 | N18: 9 | O18: 223 | P18: 0 | Q18: 0 | R18: 50 | S18: 10 | T18: 40 | U18: 0 | V18: 0 | W18: 402 | X18: 102 | Y18: 300 | Z18: 294 | AA18: 5 | AB18: 289 | AC18: 56 | AD18: 13 | AE18: 43 | AF18: 0 | AG18: 0 | AH18: 92 | AI18: 24 | AJ18: 67 | AK18: 0 | AL18: 1
... A30: 連江縣 | B30: Lienchiang County | C30: 32 | D30: 3 | E30: 29 | F30: 0 | G30: 0 | H30: 1 | I30: 0 | J30: 1 | K30: 0 | L30: 0 | M30: 8 | N30: 0 | O30: 8 | P30: 0 | Q30: 0 | R30: 2 | S30: 0 | T30: 2 | U30: 0 | V30: 0 | W30: 10 | X30: 1 | Y30: 9 | Z30: 0 | AA30: 0 | AB30: 0 | AC30: 1 | AD30: 0 | AE30: 1 | AF30: 0 | AG30: 0 | AH30: 10 | AI30: 2 | AJ30: 8 | AK30: 0 | AL30: 0
A31: 資料來源：衛生福利部社會及家庭署及直轄市、縣(市)政府。
A32: Source : Social and Family Affairs Administration, Mohw and County and City Government.

Sheet 110
A1: 老人長期照顧、安養機構工作人員 Number of Workers in Elderly Long-term Care, Nursing and Caring Institutions
A2: 110年底 End of 2021 | AL2: 單位：人
A3: 區域別 Locality | C3: 總計 Grand Total | H3: 院長(主任) Dean | M3: 護理人員 Nursing Staff | R3: 社會工作人員 Social Workers | W3: 照顧服務員 Care Attendants | Z3: 外籍看護工 Foreign Care Workers | AC3: 服務相關之專業人員 Service Related Professionals | AH3: 其他人員 Others
C4: 計 Total | D4: 本國籍 R.O.C. Citizens | F4: 外國籍 Aliens | H4: 計 Total | I4: 本國籍 R.O.C. Citizens | K4: 外國籍 Aliens | M4: 計 Total | N4: 本國籍 R.O.C. Citizens | P4: 外國籍 Aliens | R4: 計 Total | S4: 本國籍 R.O.C. Citizens | U4: 外國籍 Aliens | W4: 計 Total | X4: 本國籍 R.O.C. Citizens | Z4: 計 Total | AA4: 外國籍 Aliens | AC4: 計 Total | AD4: 本國籍 R.O.C. Citizens | AF4: 外國籍 Aliens | AH4: 計 Total | AI4: 本國籍 R.O.C. Citizens | AK4: 外國籍 Aliens
D5: 男 | E5: 女 | F5: 男 | G5: 女 | I5: 男 | J5: 女 | K5: 男 | L5: 女 | N5: 男 | O5: 女 | P5: 男 | Q5: 女 | S5: 男 | T5: 女 | U5: 男 | V5: 女 | X5: 男 | Y5: 女 | AA5: 男 | AB5: 女 | AD5: 男 | AE5: 女 | AF5: 男 | AG5: 女 | AI5: 男 | AJ5: 女 | AK5: 男 | AL5: 女
D6: Male | E6: Female | F6: Male | G6: Female | I6: Male | J6: Female | K6: Male | L6: Female | N6: Male | O6: Female | P6: Male | Q6: Female | S6: Male | T6: Female | U6: Male | V6: Female | X6: Male | Y6: Female | AA6: Male | AB6: Female | AD6: Male | AE6: Female | AF6: Male | AG6: Female | AI6: Male | AJ6: Female | AK6: Male | AL6: Female
A7: 總計 | B7: Total | C7: 28628 | D7: 5043 | E7: 17523 | F7: 136 | G7: 5926 | H7: 1166 | I7: 449 | J7: 716 | K7: 0 | L7: 1 | M7: 5559 | N7: 214 | O7: 5343 | P7: 1 | Q7: 1 | R7: 1273 | S7: 300 | T7: 971 | U7: 1 | V7: 1 | W7: 9420 | X7: 2148 | Y7: 7272 | Z7: 6042 | AA7: 133 | AB7: 5909 | AC7: 2438 | AD7: 1028 | AE7: 1405 | AF7: 0 | AG7: 5 | AH7: 2730 | AI7: 904 | AJ7: 1816 | AK7: 1 | AL7: 9
A8: 部直轄 | B8: Institution under Mohw | C8: 1913 | D8: 398 | E8: 1301 | F8: 18 | G8: 196 | H8: 25 | I8: 11 | J8: 14 | K8: 0 | L8: 0 | M8: 339 | N8: 11 | O8: 328 | P8: 0 | Q8: 0 | R8: 81 | S8: 20 | T8: 60 | U8: 0 | V8: 1 | W8: 761 | X8: 178 | Y8: 583 | Z8: 213 | AA8: 18 | AB8: 195 | AC8: 85 | AD8: 28 | AE8: 57 | AF8: 0 | AG8: 0 | AH8: 409 | AI8: 150 | AJ8: 259 | AK8: 0 | AL8: 0
A9: 新北市 | B9: New Taipei City | C9: 5419 | D9: 945 | E9: 3271 | F9: 28 | G9: 1175 | H9: 210 | I9: 85 | J9: 125 | K9: 0 | L9: 0 | M9: 1087 | N9: 34 | O9: 1053 | P9: 0 | Q9: 0 | R9: 231 | S9: 70 | T9: 161 | U9: 0 | V9: 0 | W9: 1717 | X9: 364 | Y9: 1353 | Z9: 1200 | AA9: 28 | AB9: 1172 | AC9: 527 | AD9: 235 | AE9: 289 | AF9: 0 | AG9: 3 | AH9: 447 | AI9: 157 | AJ9: 290 | AK9: 0 | AL9: 0
A10: 臺北市 | B10: Taipei City | C10: 2672 | D10: 533 | E10: 1571 | F10: 12 | G10: 556 | H10: 96 | I10: 34 | J10: 62 | K10: 0 | L10: 0 | M10: 505 | N10: 23 | O10: 482 | P10: 0 | Q10: 0 | R10: 131 | S10: 32 | T10: 99 | U10: 0 | V10: 0 | W10: 850 | X10: 245 | Y10: 605 | Z10: 568 | AA10: 12 | AB10: 556 | AC10: 266 | AD10: 106 | AE10: 160 | AF10: 0 | AG10: 0 | AH10: 256 | AI10: 93 | AJ10: 163 | AK10: 0 | AL10: 0
A11: 桃園市 | B11: Taoyuan City | C11: 1433 | D11: 193 | E11: 830 | F11: 2 | G11: 408 | H11: 65 | I11: 29 | J11: 36 | K11: 0 | L11: 0 | M11: 287 | N11: 8 | O11: 279 | P11: 0 | Q11: 0 | R11: 60 | S11: 14 | T11: 46 | U11: 0 | V11: 0 | W11: 515 | X11: 112 | Y11: 403 | Z11: 410 | AA11: 2 | AB11: 408 | AC11: 35 | AD11: 12 | AE11: 23 | AF11: 0 | AG11: 0 | AH11: 61 | AI11: 18 | AJ11: 43 | AK11: 0 | AL11: 0
A12: 臺中市 | B12: Taichung City | C12: 1827 | D12: 330 | E12: 1131 | F12: 2 | G12: 364 | H12: 64 | I12: 23 | J12: 41 | K12: 0 | L12: 0 | M12: 344 | N12: 13 | O12: 331 | P12: 0 | Q12: 0 | R12: 72 | S12: 10 | T12: 62 | U12: 0 | V12: 0 | W12: 644 | X12: 148 | Y12: 496 | Z12: 366 | AA12: 2 | AB12: 364 | AC12: 258 | AD12: 118 | AE12: 140 | AF12: 0 | AG12: 0 | AH12: 79 | AI12: 18 | AJ12: 61 | AK12: 0 | AL12: 0
A13: 臺南市 | B13: Tainan City | C13: 2653 | D13: 483 | E13: 1659 | F13: 10 | G13: 501 | H13: 110 | I13: 37 | J13: 73 | K13: 0 | L13: 0 | M13: 519 | N13: 28 | O13: 491 | P13: 0 | Q13: 0 | R13: 127 | S13: 26 | T13: 101 | U13: 0 | V13: 0 | W13: 858 | X13: 190 | Y13: 668 | Z13: 510 | AA13: 10 | AB13: 500 | AC13: 274 | AD13: 120 | AE13: 154 | AF13: 0 | AG13: 0 | AH13: 255 | AI13: 82 | AJ13: 172 | AK13: 0 | AL13: 1
A14: 高雄市 | B14: Kaohsiung City | C14: 3704 | D14: 636 | E14: 2308 | F14: 16 | G14: 744 | H14: 156 | I14: 50 | J14: 106 | K14: 0 | L14: 0 | M14: 763 | N14: 32 | O14: 731 | P14: 0 | Q14: 0 | R14: 173 | S14: 34 | T14: 139 | U14: 0 | V14: 0 | W14: 1125 | X14: 245 | Y14: 880 | Z14: 759 | AA14: 16 | AB14: 743 | AC14: 355 | AD14: 158 | AE14: 197 | AF14: 0 | AG14: 0 | AH14: 373 | AI14: 117 | AJ14: 255 | AK14: 0 | AL14: 1
A15: 宜蘭縣 | B15: Yilan County | C15: 1164 | D15: 178 | E15: 706 | F15: 11 | G15: 269 | H15: 40 | I15: 13 | J15: 27 | K15: 0 | L15: 0 | M15: 225 | N15: 4 | O15: 221 | P15: 0 | Q15: 0 | R15: 53 | S15: 11 | T15: 42 | U15: 0 | V15: 0 | W15: 367 | X15: 74 | Y15: 293 | Z15: 277 | AA15: 11 | AB15: 266 | AC15: 57 | AD15: 22 | AE15: 35 | AF15: 0 | AG15: 0 | AH15: 145 | AI15: 54 | AJ15: 88 | AK15: 0 | AL15: 3
A16: 新竹縣 | B16: Hsinchu County | C16: 513 | D16: 100 | E16: 283 | F16: 6 | G16: 124 | H16: 19 | I16: 14 | J16: 5 | K16: 0 | L16: 0 | M16: 88 | N16: 3 | O16: 85 | P16: 0 | Q16: 0 | R16: 22 | S16: 6 | T16: 16 | U16: 0 | V16: 0 | W16: 191 | X16: 54 | Y16: 137 | Z16: 130 | AA16: 6 | AB16: 124 | AC16: 28 | AD16: 11 | AE16: 17 | AF16: 0 | AG16: 0 | AH16: 35 | AI16: 12 | AJ16: 23 | AK16: 0 | AL16: 0
A17: 苗栗縣 | B17: Miaoli County | C17: 378 | D17: 78 | E17: 216 | F17: 8 | G17: 76 | H17: 14 | I17: 3 | J17: 11 | K17: 0 | L17: 0 | M17: 62 | N17: 2 | O17: 60 | P17: 0 | Q17: 0 | R17: 17 | S17: 8 | T17: 9 | U17: 0 | V17: 0 | W17: 120 | X17: 32 | Y17: 88 | Z17: 84 | AA17: 8 | AB17: 76 | AC17: 49 | AD17: 26 | AE17: 23 | AF17: 0 | AG17: 0 | AH17: 32 | AI17: 7 | AJ17: 25 | AK17: 0 | AL17: 0
A18: 彰化縣 | B18: Changhua County | C18: 1241 | D18: 183 | E18: 752 | F18: 8 | G18: 298 | H18: 96 | I18: 33 | J18: 63 | K18: 0 | L18: 0 | M18: 241 | N18: 7 | O18: 234 | P18: 0 | Q18: 0 | R18: 53 | S18: 9 | T18: 44 | U18: 0 | V18: 0 | W18: 420 | X18: 100 | Y18: 320 | Z18: 303 | AA18: 7 | AB18: 296 | AC18: 73 | AD18: 14 | AE18: 58 | AF18: 0 | AG18: 1 | AH18: 55 | AI18: 20 | AJ18: 33 | AK18: 1 | AL18: 1
... A30: 連江縣 | B30: Lienchiang County | C30: 32 | D30: 4 | E30: 28 | F30: 0 | G30: 0 | H30: 1 | I30: 0 | J30: 1 | K30: 0 | L30: 0 | M30: 6 | N30: 0 | O30: 6 | P30: 0 | Q30: 0 | R30: 2 | S30: 0 | T30: 2 | U30: 0 | V30: 0 | W30: 11 | X30: 1 | Y30: 10 | Z30: 0 | AA30: 0 | AB30: 0 | AC30: 8 | AD30: 3 | AE30: 5 | AF30: 0 | AG30: 0 | AH30: 4 | AI30: 0 | AJ30: 4 | AK30: 0 | AL30: 0
A31: 資料來源：衛生福利部社會及家庭署及直轄市、縣(市)政府。
A32: Source : Social and Family Affairs Administration, Mohw and County and City Government.

Sheet 109
A1: 老人長期照顧、安養機構工作人員 Number of Workers in Elderly Long-term Care, Nursing and Caring Institutions
A2: 109年底 End of 2020 | AL2: 單位：人
A3: 區域別 Locality | C3: 總計 Grand Total | H3: 院長(主任) Dean | M3: 護理人員 Nursing Staff | R3: 社會工作人員 Social Workers | W3: 照顧服務員 Care Attendants | Z3: 外籍看護工 Foreign Care Workers | AC3: 服務相關之專業人員 Service Related Professionals | AH3: 其他人員 Others
C4: 計 Total | D4: 本國籍 R.O.C. Citizens | F4: 外國籍 Aliens | H4: 計 Total | I4: 本國籍 R.O.C. Citizens | K4: 外國籍 Aliens | M4: 計 Total | N4: 本國籍 R.O.C. Citizens | P4: 外國籍 Aliens | R4: 計 Total | S4: 本國籍 R.O.C. Citizens | U4: 外國籍 Aliens | W4: 計 Total | X4: 本國籍 R.O.C. Citizens | Z4: 計 Total | AA4: 外國籍 Aliens | AC4: 計 Total | AD4: 本國籍 R.O.C. Citizens | AF4: 外國籍 Aliens | AH4: 計 Total | AI4: 本國籍 R.O.C. Citizens | AK4: 外國籍 Aliens
D5: 男 | E5: 女 | F5: 男 | G5: 女 | I5: 男 | J5: 女 | K5: 男 | L5: 女 | N5: 男 | O5: 女 | P5: 男 | Q5: 女 | S5: 男 | T5: 女 | U5: 男 | V5: 女 | X5: 男 | Y5: 女 | AA5: 男 | AB5: 女 | AD5: 男 | AE5: 女 | AF5: 男 | AG5: 女 | AI5: 男 | AJ5: 女 | AK5: 男 | AL5: 女
D6: Male | E6: Female | F6: Male | G6: Female | I6: Male | J6: Female | K6: Male | L6: Female | N6: Male | O6: Female | P6: Male | Q6: Female | S6: Male | T6: Female | U6: Male | V6: Female | X6: Male | Y6: Female | AA6: Male | AB6: Female | AD6: Male | AE6: Female | AF6: Male | AG6: Female | AI6: Male | AJ6: Female | AK6: Male | AL6: Female
A7: 總計 | B7: Total | C7: 28434 | D7: 4774 | E7: 17153 | F7: 151 | G7: 6356 | H7: 1150 | I7: 451 | J7: 698 | K7: 0 | L7: 1 | M7: 5400 | N7: 198 | O7: 5201 | P7: 0 | Q7: 1 | R7: 1188 | S7: 288 | T7: 899 | U7: 0 | V7: 1 | W7: 9393 | X7: 2082 | Y7: 7311 | Z7: 6481 | AA7: 149 | AB7: 6332 | AC7: 2311 | AD7: 942 | AE7: 1365 | AF7: 1 | AG7: 3 | AH7: 2511 | AI7: 813 | AJ7: 1679 | AK7: 1 | AL7: 18
A8: 部直轄 | B8: Institution under Mohw | C8: 1955 | D8: 402 | E8: 1325 | F8: 19 | G8: 209 | H8: 25 | I8: 11 | J8: 14 | K8: 0 | L8: 0 | M8: 332 | N8: 26 | O8: 306 | P8: 0 | Q8: 0 | R8: 90 | S8: 19 | T8: 70 | U8: 0 | V8: 1 | W8: 775 | X8: 181 | Y8: 594 | Z8: 227 | AA8: 19 | AB8: 208 | AC8: 111 | AD8: 35 | AE8: 76 | AF8: 0 | AG8: 0 | AH8: 395 | AI8: 130 | AJ8: 265 | AK8: 0 | AL8: 0
A9: 新北市 | B9: New Taipei City | C9: 5369 | D9: 893 | E9: 3201 | F9: 41 | G9: 1234 | H9: 212 | I9: 88 | J9: 124 | K9: 0 | L9: 0 | M9: 1011 | N9: 22 | O9: 989 | P9: 0 | Q9: 0 | R9: 202 | S9: 55 | T9: 147 | U9: 0 | V9: 0 | W9: 1684 | X9: 346 | Y9: 1338 | Z9: 1272 | AA9: 41 | AB9: 1231 | AC9: 530 | AD9: 219 | AE9: 308 | AF9: 0 | AG9: 3 | AH9: 458 | AI9: 163 | AJ9: 295 | AK9: 0 | AL9: 0
A10: 臺北市 | B10: Taipei City | C10: 2840 | D10: 564 | E10: 1661 | F10: 12 | G10: 603 | H10: 103 | I10: 34 | J10: 69 | K10: 0 | L10: 0 | M10: 509 | N10: 32 | O10: 477 | P10: 0 | Q10: 0 | R10: 141 | S10: 36 | T10: 105 | U10: 0 | V10: 0 | W10: 923 | X10: 245 | Y10: 678 | Z10: 615 | AA10: 12 | AB10: 603 | AC10: 268 | AD10: 107 | AE10: 161 | AF10: 0 | AG10: 0 | AH10: 281 | AI10: 110 | AJ10: 171 | AK10: 0 | AL10: 0
A11: 桃園市 | B11: Taoyuan City | C11: 1441 | D11: 196 | E11: 828 | F11: 4 | G11: 413 | H11: 66 | I11: 30 | J11: 36 | K11: 0 | L11: 0 | M11: 288 | N11: 10 | O11: 278 | P11: 0 | Q11: 0 | R11: 61 | S11: 16 | T11: 45 | U11: 0 | V11: 0 | W11: 514 | X11: 111 | Y11: 403 | Z11: 417 | AA11: 4 | AB11: 413 | AC11: 37 | AD11: 12 | AE11: 25 | AF11: 0 | AG11: 0 | AH11: 58 | AI11: 17 | AJ11: 41 | AK11: 0 | AL11: 0
A12: 臺中市 | B12: Taichung City | C12: 1845 | D12: 337 | E12: 1103 | F12: 2 | G12: 403 | H12: 65 | I12: 27 | J12: 38 | K12: 0 | L12: 0 | M12: 339 | N12: 11 | O12: 328 | P12: 0 | Q12: 0 | R12: 71 | S12: 11 | T12: 60 | U12: 0 | V12: 0 | W12: 641 | X12: 156 | Y12: 485 | Z12: 405 | AA12: 2 | AB12: 403 | AC12: 246 | AD12: 108 | AE12: 138 | AF12: 0 | AG12: 0 | AH12: 78 | AI12: 24 | AJ12: 54 | AK12: 0 | AL12: 0
A13: 臺南市 | B13: Tainan City | C13: 2466 | D13: 405 | E13: 1522 | F13: 9 | G13: 530 | H13: 107 | I13: 36 | J13: 71 | K13: 0 | L13: 0 | M13: 489 | N13: 15 | O13: 474 | P13: 0 | Q13: 0 | R13: 112 | S13: 23 | T13: 89 | U13: 0 | V13: 0 | W13: 806 | X13: 180 | Y13: 626 | Z13: 533 | AA13: 8 | AB13: 525 | AC13: 227 | AD13: 94 | AE13: 133 | AF13: 0 | AG13: 0 | AH13: 192 | AI13: 57 | AJ13: 129 | AK13: 1 | AL13: 5
A14: 高雄市 | B14: Kaohsiung City | C14: 3553 | D14: 560 | E14: 2154 | F14: 17 | G14: 822 | H14: 158 | I14: 52 | J14: 106 | K14: 0 | L14: 0 | M14: 763 | N14: 27 | O14: 736 | P14: 0 | Q14: 0 | R14: 133 | S14: 34 | T14: 99 | U14: 0 | V14: 0 | W14: 1146 | X14: 254 | Y14: 892 | Z14: 839 | AA14: 17 | AB14: 822 | AC14: 249 | AD14: 108 | AE14: 141 | AF14: 0 | AG14: 0 | AH14: 265 | AI14: 85 | AJ14: 180 | AK14: 0 | AL14: 0
A15: 宜蘭縣 | B15: Yilan County | C15: 1154 | D15: 180 | E15: 684 | F15: 7 | G15: 283 | H15: 41 | I15: 16 | J15: 25 | K15: 0 | L15: 0 | M15: 215 | N15: 4 | O15: 211 | P15: 0 | Q15: 0 | R15: 50 | S15: 12 | T15: 38 | U15: 0 | V15: 0 | W15: 368 | X15: 70 | Y15: 298 | Z15: 286 | AA15: 7 | AB15: 279 | AC15: 84 | AD15: 42 | AE15: 42 | AF15: 0 | AG15: 0 | AH15: 110 | AI15: 36 | AJ15: 70 | AK15: 0 | AL15: 4
A16: 新竹縣 | B16: Hsinchu County | C16: 546 | D16: 99 | E16: 295 | F16: 6 | G16: 146 | H16: 18 | I16: 12 | J16: 6 | K16: 0 | L16: 0 | M16: 88 | N16: 2 | O16: 86 | P16: 0 | Q16: 0 | R16: 23 | S16: 6 | T16: 17 | U16: 0 | V16: 0 | W16: 190 | X16: 49 | Y16: 141 | Z16: 152 | AA16: 6 | AB16: 146 | AC16: 41 | AD16: 20 | AE16: 21 | AF16: 0 | AG16: 0 | AH16: 34 | AI16: 10 | AJ16: 24 | AK16: 0 | AL16: 0
A17: 苗栗縣 | B17: Miaoli County | C17: 372 | D17: 71 | E17: 214 | F17: 8 | G17: 79 | H17: 14 | I17: 4 | J17: 10 | K17: 0 | L17: 0 | M17: 62 | N17: 3 | O17: 59 | P17: 0 | Q17: 0 | R17: 12 | S17: 5 | T17: 7 | U17: 0 | V17: 0 | W17: 121 | X17: 28 | Y17: 93 | Z17: 87 | AA17: 8 | AB17: 79 | AC17: 43 | AD17: 23 | AE17: 20 | AF17: 0 | AG17: 0 | AH17: 33 | AI17: 8 | AJ17: 25 | AK17: 0 | AL17: 0
A18: 彰化縣 | B18: Changhua County | C18: 1209 | D18: 177 | E18: 715 | F18: 7 | G18: 310 | H18: 83 | I18: 28 | J18: 55 | K18: 0 | L18: 0 | M18: 230 | N18: 5 | O18: 225 | P18: 0 | Q18: 0 | R18: 55 | S18: 12 | T18: 43 | U18: 0 | V18: 0 | W18: 404 | X18: 100 | Y18: 304 | Z18: 317 | AA18: 7 | AB18: 310 | AC18: 67 | AD18: 16 | AE18: 51 | AF18: 0 | AG18: 0 | AH18: 53 | AI18: 16 | AJ18: 37 | AK18: 0 | AL18: 0
... A30: 連江縣 | B30: Lienchiang County | C30: 32 | D30: 5 | E30: 27 | F30: 0 | G30: 0 | H30: 1 | I30: 0 | J30: 1 | K30: 0 | L30: 0 | M30: 6 | N30: 1 | O30: 5 | P30: 0 | Q30: 0 | R30: 2 | S30: 0 | T30: 2 | U30: 0 | V30: 0 | W30: 11 | X30: 1 | Y30: 10 | Z30: 0 | AA30: 0 | AB30: 0 | AC30: 3 | AD30: 1 | AE30: 2 | AF30: 0 | AG30: 0 | AH30: 9 | AI30: 2 | AJ30: 7 | AK30: 0 | AL30: 0
A31: 資料來源：衛生福利部社會及家庭署及直轄市、縣(市)政府。
A32: Source : Social and Family Affairs Administration, Mohw and County and City Government.

Sheet 108
A1: 老人長期照顧、安養機構工作人員 Number of Workers in Elderly Long-term Care, Nursing and Caring Institutions
A2: 108年底 End of 2019 | AL2: 單位：人
A3: 區域別 Locality | C3: 總計 Grand Total | H3: 院長(主任) Dean | M3: 護理人員 Nursing Staff | R3: 社會工作人員 Social Workers | W3: 照顧服務員 Care Attendants | Z3: 外籍看護工 Foreign Care Workers | AC3: 服務相關之專業人員 Service Related Professionals | AH3: 其他人員 Others
C4: 計 Total | D4: 本國籍 R.O.C. Citizens | F4: 外國籍 Aliens | H4: 計 Total | I4: 本國籍 R.O.C. Citizens | K4: 外國籍 Aliens | M4: 計 Total | N4: 本國籍 R.O.C. Citizens | P4: 外國籍 Aliens | R4: 計 Total | S4: 本國籍 R.O.C. Citizens | U4: 外國籍 Aliens | W4: 計 Total | X4: 本國籍 R.O.C. Citizens | Z4: 計 Total | AA4: 外國籍 Aliens | AC4: 計 Total | AD4: 本國籍 R.O.C. Citizens | AF4: 外國籍 Aliens | AH4: 計 Total | AI4: 本國籍 R.O.C. Citizens | AK4: 外國籍 Aliens
D5: 男 | E5: 女 | F5: 男 | G5: 女 | I5: 男 | J5: 女 | K5: 男 | L5: 女 | N5: 男 | O5: 女 | P5: 男 | Q5: 女 | S5: 男 | T5: 女 | U5: 男 | V5: 女 | X5: 男 | Y5: 女 | AA5: 男 | AB5: 女 | AD5: 男 | AE5: 女 | AF5: 男 | AG5: 女 | AI5: 男 | AJ5: 女 | AK5: 男 | AL5: 女
D6: Male | E6: Female | F6: Male | G6: Female | I6: Male | J6: Female | K6: Male | L6: Female | N6: Male | O6: Female | P6: Male | Q6: Female | S6: Male | T6: Female | U6: Male | V6: Female | X6: Male | Y6: Female | AA6: Male | AB6: Female | AD6: Male | AE6: Female | AF6: Male | AG6: Female | AI6: Male | AJ6: Female | AK6: Male | AL6: Female
A7: 總計 | B7: Total | C7: 28286 | D7: 4548 | E7: 17143 | F7: 163 | G7: 6432 | H7: 1206 | I7: 472 | J7: 732 | K7: 0 | L7: 2 | M7: 5399 | N7: 141 | O7: 5257 | P7: 0 | Q7: 1 | R7: 1209 | S7: 294 | T7: 914 | U7: 0 | V7: 1 | W7: 9431 | X7: 2069 | Y7: 7362 | Z7: 6570 | AA7: 162 | AB7: 6408 | AC7: 2055 | AD7: 792 | AE7: 1260 | AF7: 0 | AG7: 3 | AH7: 2416 | AI7: 780 | AJ7: 1618 | AK7: 1 | AL7: 17
A8: 部直轄 | B8: Institution under Mohw | C8: 2095 | D8: 445 | E8: 1426 | F8: 18 | G8: 206 | H8: 32 | I8: 15 | J8: 17 | K8: 0 | L8: 0 | M8: 371 | N8: 10 | O8: 361 | P8: 0 | Q8: 0 | R8: 100 | S8: 22 | T8: 77 | U8: 0 | V8: 1 | W8: 839 | X8: 216 | Y8: 623 | Z8: 223 | AA8: 18 | AB8: 205 | AC8: 118 | AD8: 38 | AE8: 80 | AF8: 0 | AG8: 0 | AH8: 412 | AI8: 144 | AJ8: 268 | AK8: 0 | AL8: 0
A9: 新北市 | B9: New Taipei City | C9: 5424 | D9: 913 | E9: 3254 | F9: 41 | G9: 1216 | H9: 215 | I9: 88 | J9: 127 | K9: 0 | L9: 0 | M9: 1027 | N9: 20 | O9: 1007 | P9: 0 | Q9: 0 | R9: 236 | S9: 67 | T9: 169 | U9: 0 | V9: 0 | W9: 1720 | X9: 365 | Y9: 1355 | Z9: 1257 | AA9: 41 | AB9: 1216 | AC9: 524 | AD9: 217 | AE9: 307 | AF9: 0 | AG9: 0 | AH9: 445 | AI9: 156 | AJ9: 289 | AK9: 0 | AL9: 0
A10: 臺北市 | B10: Taipei City | C10: 2913 | D10: 526 | E10: 1745 | F10: 14 | G10: 628 | H10: 106 | I10: 34 | J10: 72 | K10: 0 | L10: 0 | M10: 528 | N10: 22 | O10: 506 | P10: 0 | Q10: 0 | R10: 152 | S10: 32 | T10: 120 | U10: 0 | V10: 0 | W10: 971 | X10: 244 | Y10: 727 | Z10: 642 | AA10: 14 | AB10: 628 | AC10: 241 | AD10: 95 | AE10: 146 | AF10: 0 | AG10: 0 | AH10: 273 | AI10: 99 | AJ10: 174 | AK10: 0 | AL10: 0
A11: 桃園市 | B11: Taoyuan City | C11: 1411 | D11: 192 | E11: 809 | F11: 4 | G11: 406 | H11: 65 | I11: 32 | J11: 33 | K11: 0 | L11: 0 | M11: 275 | N11: 8 | O11: 267 | P11: 0 | Q11: 0 | R11: 52 | S11: 15 | T11: 37 | U11: 0 | V11: 0 | W11: 521 | X11: 109 | Y11: 412 | Z11: 410 | AA11: 4 | AB11: 406 | AC11: 32 | AD11: 10 | AE11: 22 | AF11: 0 | AG11: 0 | AH11: 56 | AI11: 18 | AJ11: 38 | AK11: 0 | AL11: 0
A12: 臺中市 | B12: Taichung City | C12: 1663 | D12: 234 | E12: 1020 | F12: 5 | G12: 404 | H12: 65 | I12: 30 | J12: 35 | K12: 0 | L12: 0 | M12: 316 | N12: 10 | O12: 306 | P12: 0 | Q12: 0 | R12: 62 | S12: 11 | T12: 51 | U12: 0 | V12: 0 | W12: 617 | X12: 128 | Y12: 489 | Z12: 403 | AA12: 5 | AB12: 398 | AC12: 65 | AD12: 17 | AE12: 48 | AF12: 0 | AG12: 0 | AH12: 135 | AI12: 38 | AJ12: 91 | AK12: 0 | AL12: 6
A13: 臺南市 | B13: Tainan City | C13: 2428 | D13: 357 | E13: 1518 | F13: 13 | G13: 540 | H13: 108 | I13: 37 | J13: 71 | K13: 0 | L13: 0 | M13: 481 | N13: 11 | O13: 470 | P13: 0 | Q13: 0 | R13: 106 | S13: 19 | T13: 87 | U13: 0 | V13: 0 | W13: 788 | X13: 168 | Y13: 620 | Z13: 552 | AA13: 12 | AB13: 540 | AC13: 220 | AD13: 71 | AE13: 149 | AF13: 0 | AG13: 0 | AH13: 173 | AI13: 51 | AJ13: 121 | AK13: 1 | AL13: 0
A14: 高雄市 | B14: Kaohsiung City | C14: 3530 | D14: 544 | E14: 2129 | F14: 19 | G14: 838 | H14: 161 | I14: 55 | J14: 106 | K14: 0 | L14: 0 | M14: 742 | N14: 15 | O14: 727 | P14: 0 | Q14: 0 | R14: 143 | S14: 45 | T14: 98 | U14: 0 | V14: 0 | W14: 1119 | X14: 243 | Y14: 876 | Z14: 855 | AA14: 19 | AB14: 836 | AC14: 255 | AD14: 106 | AE14: 147 | AF14: 0 | AG14: 2 | AH14: 255 | AI14: 80 | AJ14: 175 | AK14: 0 | AL14: 0
A15: 宜蘭縣 | B15: Yilan County | C15: 1173 | D15: 164 | E15: 703 | F15: 9 | G15: 297 | H15: 43 | I15: 17 | J15: 26 | K15: 0 | L15: 0 | M15: 225 | N15: 3 | O15: 222 | P15: 0 | Q15: 0 | R15: 44 | S15: 10 | T15: 34 | U15: 0 | V15: 0 | W15: 365 | X15: 67 | Y15: 298 | Z15: 302 | AA15: 9 | AB15: 293 | AC15: 83 | AD15: 34 | AE15: 49 | AF15: 0 | AG15: 0 | AH15: 111 | AI15: 33 | AJ15: 74 | AK15: 0 | AL15: 4
A16: 新竹縣 | B16: Hsinchu County | C16: 532 | D16: 89 | E16: 285 | F16: 5 | G16: 153 | H16: 41 | I16: 18 | J16: 23 | K16: 0 | L16: 0 | M16: 95 | N16: 2 | O16: 93 | P16: 0 | Q16: 0 | R16: 20 | S16: 5 | T16: 15 | U16: 0 | V16: 0 | W16: 189 | X16: 51 | Y16: 138 | Z16: 158 | AA16: 5 | AB16: 153 | AC16: 11 | AD16: 2 | AE16: 9 | AF16: 0 | AG16: 0 | AH16: 18 | AI16: 11 | AJ16: 7 | AK16: 0 | AL16: 0
A17: 苗栗縣 | B17: Miaoli County | C17: 391 | D17: 67 | E17: 235 | F17: 9 | G17: 80 | H17: 14 | I17: 3 | J17: 11 | K17: 0 | L17: 0 | M17: 61 | N17: 2 | O17: 59 | P17: 0 | Q17: 0 | R17: 13 | S17: 3 | T17: 10 | U17: 0 | V17: 0 | W17: 114 | X17: 20 | Y17: 94 | Z17: 89 | AA17: 9 | AB17: 80 | AC17: 53 | AD17: 23 | AE17: 30 | AF17: 0 | AG17: 0 | AH17: 47 | AI17: 16 | AJ17: 31 | AK17: 0 | AL17: 0
A18: 彰化縣 | B18: Changhua County | C18: 1199 | D18: 179 | E18: 704 | F18: 6 | G18: 310 | H18: 88 | I18: 30 | J18: 58 | K18: 0 | L18: 0 | M18: 229 | N18: 4 | O18: 225 | P18: 0 | Q18: 0 | R18: 54 | S18: 11 | T18: 43 | U18: 0 | V18: 0 | W18: 393 | X18: 102 | Y18: 291 | Z18: 316 | AA18: 6 | AB18: 310 | AC18: 68 | AD18: 16 | AE18: 52 | AF18: 0 | AG18: 0 | AH18: 51 | AI18: 16 | AJ18: 35 | AK18: 0 | AL18: 0
... A30: 連江縣 | B30: Lienchiang County | C30: 25 | D30: 3 | E30: 22 | F30: 0 | G30: 0 | H30: 1 | I30: 0 | J30: 1 | K30: 0 | L30: 0 | M30: 5 | N30: 0 | O30: 5 | P30: 0 | Q30: 0 | R30: 1 | S30: 0 | T30: 1 | U30: 0 | V30: 0 | W30: 9 | X30: 1 | Y30: 8 | Z30: 0 | AA30: 0 | AB30: 0 | AC30: 3 | AD30: 1 | AE30: 2 | AF30: 0 | AG30: 0 | AH30: 6 | AI30: 1 | AJ30: 5 | AK30: 0 | AL30: 0
A31: 資料來源：衛生福利部社會及家庭署及直轄市、縣(市)政府。
A32: Source : Social and Family Affairs Administration, Mohw and County and City Government.

Sheet 107
A1: 老人長期照顧、安養機構工作人員 Number of Workers in Elderly Long-term Care, Nursing and Caring Institutions
A2: 107年底 End of 2018 | AL2: 單位：人
A3: 區域別 Locality | C3: 總計 Grand Total | H3: 院長(主任) Dean | M3: 護理人員 Nursing Staff | R3: 社會工作人員 Social Workers | W3: 照顧服務員 Care Attendants | Z3: 外籍看護工 Foreign Care Workers | AC3: 服務相關之專業人員 Service Related Professionals | AH3: 其他人員 Others
C4: 計 Total | D4: 本國籍 R.O.C. Citizens | F4: 外國籍 Aliens | H4: 計 Total | I4: 本國籍 R.O.C. Citizens | K4: 外國籍 Aliens | M4: 計 Total | N4: 本國籍 R.O.C. Citizens | P4: 外國籍 Aliens | R4: 計 Total | S4: 本國籍 R.O.C. Citizens | U4: 外國籍 Aliens | W4: 計 Total | X4: 本國籍 R.O.C. Citizens | Z4: 計 Total | AA4: 外國籍 Aliens | AC4: 計 Total | AD4: 本國籍 R.O.C. Citizens | AF4: 外國籍 Aliens | AH4: 計 Total | AI4: 本國籍 R.O.C. Citizens | AK4: 外國籍 Aliens
D5: 男 | E5: 女 | F5: 男 | G5: 女 | I5: 男 | J5: 女 | K5: 男 | L5: 女 | N5: 男 | O5: 女 | P5: 男 | Q5: 女 | S5: 男 | T5: 女 | U5: 男 | V5: 女 | X5: 男 | Y5: 女 | AA5: 男 | AB5: 女 | AD5: 男 | AE5: 女 | AF5: 男 | AG5: 女 | AI5: 男 | AJ5: 女 | AK5: 男 | AL5: 女
D6: Male | E6: Female | F6: Male | G6: Female | I6: Male | J6: Female | K6: Male | L6: Female | N6: Male | O6: Female | P6: Male | Q6: Female | S6: Male | T6: Female | U6: Male | V6: Female | X6: Male | Y6: Female | AA6: Male | AB6: Female | AD6: Male | AE6: Female | AF6: Male | AG6: Female | AI6: Male | AJ6: Female | AK6: Male | AL6: Female
A7: 總計 | B7: Total | C7: 27424 | D7: 4305 | E7: 16639 | F7: 163 | G7: 6317 | H7: 1252 | I7: 475 | J7: 764 | K7: 10 | L7: 3 | M7: 5286 | N7: 130 | O7: 5155 | P7: 0 | Q7: 1 | R7: 1185 | S7: 276 | T7: 907 | U7: 0 | V7: 2 | W7: 9303 | X7: 2065 | Y7: 7238 | Z7: 6427 | AA7: 152 | AB7: 6275 | AC7: 1902 | AD7: 664 | AE7: 1220 | AF7: 1 | AG7: 17 | AH7: 2069 | AI7: 695 | AJ7: 1355 | AK7: 0 | AL7: 19
A8: 部直轄 | B8: Institution under Mohw | C8: 2087 | D8: 463 | E8: 1396 | F8: 16 | G8: 212 | H8: 32 | I8: 14 | J8: 18 | K8: 0 | L8: 0 | M8: 357 | N8: 11 | O8: 346 | P8: 0 | Q8: 0 | R8: 96 | S8: 18 | T8: 77 | U8: 0 | V8: 1 | W8: 829 | X8: 226 | Y8: 603 | Z8: 227 | AA8: 16 | AB8: 211 | AC8: 122 | AD8: 35 | AE8: 87 | AF8: 0 | AG8: 0 | AH8: 424 | AI8: 159 | AJ8: 265 | AK8: 0 | AL8: 0
A9: 新北市 | B9: New Taipei City | C9: 4680 | D9: 664 | E9: 2824 | F9: 33 | G9: 1159 | H9: 208 | I9: 85 | J9: 123 | K9: 0 | L9: 0 | M9: 973 | N9: 15 | O9: 958 | P9: 0 | Q9: 0 | R9: 201 | S9: 51 | T9: 150 | U9: 0 | V9: 0 | W9: 1638 | X9: 364 | Y9: 1274 | Z9: 1192 | AA9: 33 | AB9: 1159 | AC9: 234 | AD9: 65 | AE9: 169 | AF9: 0 | AG9: 0 | AH9: 234 | AI9: 84 | AJ9: 150 | AK9: 0 | AL9: 0
A10: 臺北市 | B10: Taipei City | C10: 2883 | D10: 515 | E10: 1725 | F10: 15 | G10: 628 | H10: 108 | I10: 35 | J10: 73 | K10: 0 | L10: 0 | M10: 534 | N10: 19 | O10: 515 | P10: 0 | Q10: 0 | R10: 150 | S10: 33 | T10: 117 | U10: 0 | V10: 0 | W10: 981 | X10: 251 | Y10: 730 | Z10: 643 | AA10: 15 | AB10: 628 | AC10: 228 | AD10: 98 | AE10: 130 | AF10: 0 | AG10: 0 | AH10: 239 | AI10: 79 | AJ10: 160 | AK10: 0 | AL10: 0
A11: 桃園市 | B11: Taoyuan City | C11: 1382 | D11: 183 | E11: 798 | F11: 4 | G11: 397 | H11: 65 | I11: 29 | J11: 36 | K11: 0 | L11: 0 | M11: 276 | N11: 6 | O11: 270 | P11: 0 | Q11: 0 | R11: 51 | S11: 11 | T11: 40 | U11: 0 | V11: 0 | W11: 501 | X11: 107 | Y11: 394 | Z11: 401 | AA11: 4 | AB11: 397 | AC11: 30 | AD11: 11 | AE11: 19 | AF11: 0 | AG11: 0 | AH11: 58 | AI11: 19 | AJ11: 39 | AK11: 0 | AL11: 0
A12: 臺中市 | B12: Taichung City | C12: 1671 | D12: 239 | E12: 1026 | F12: 5 | G12: 401 | H12: 68 | I12: 25 | J12: 43 | K12: 0 | L12: 0 | M12: 317 | N12: 7 | O12: 310 | P12: 0 | Q12: 0 | R12: 64 | S12: 13 | T12: 51 | U12: 0 | V12: 0 | W12: 623 | X12: 138 | Y12: 485 | Z12: 400 | AA12: 5 | AB12: 395 | AC12: 199 | AD12: 56 | AE12: 137 | AF12: 0 | AG12: 6 | AH12: 0 | AI12: 0 | AJ12: 0 | AK12: 0 | AL12: 0
A13: 臺南市 | B13: Tainan City | C13: 2444 | D13: 386 | E13: 1514 | F13: 7 | G13: 537 | H13: 108 | I13: 38 | J13: 70 | K13: 0 | L13: 0 | M13: 468 | N13: 8 | O13: 460 | P13: 0 | Q13: 0 | R13: 114 | S13: 18 | T13: 96 | U13: 0 | V13: 0 | W13: 770 | X13: 183 | Y13: 587 | Z13: 544 | AA13: 7 | AB13: 537 | AC13: 208 | AD13: 71 | AE13: 137 | AF13: 0 | AG13: 0 | AH13: 232 | AI13: 68 | AJ13: 164 | AK13: 0 | AL13: 0
A14: 高雄市 | B14: Kaohsiung City | C14: 3521 | D14: 543 | E14: 2137 | F14: 35 | G14: 806 | H14: 169 | I14: 57 | J14: 102 | K14: 10 | L14: 0 | M14: 729 | N14: 12 | O14: 717 | P14: 0 | Q14: 0 | R14: 136 | S14: 38 | T14: 97 | U14: 0 | V14: 1 | W14: 1133 | X14: 251 | Y14: 882 | Z14: 824 | AA14: 25 | AB14: 799 | AC14: 276 | AD14: 102 | AE14: 170 | AF14: 0 | AG14: 4 | AH14: 254 | AI14: 83 | AJ14: 169 | AK14: 0 | AL14: 2
A15: 宜蘭縣 | B15: Yilan County | C15: 1161 | D15: 171 | E15: 679 | F15: 10 | G15: 301 | H15: 45 | I15: 19 | J15: 25 | K15: 0 | L15: 1 | M15: 219 | N15: 3 | O15: 216 | P15: 0 | Q15: 0 | R15: 52 | S15: 11 | T15: 41 | U15: 0 | V15: 0 | W15: 383 | X15: 74 | Y15: 309 | Z15: 307 | AA15: 10 | AB15: 297 | AC15: 71 | AD15: 33 | AE15: 38 | AF15: 0 | AG15: 0 | AH15: 84 | AI15: 31 | AJ15: 50 | AK15: 0 | AL15: 3
A16: 新竹縣 | B16: Hsinchu County | C16: 577 | D16: 85 | E16: 325 | F16: 4 | G16: 163 | H16: 45 | I16: 20 | J16: 25 | K16: 0 | L16: 0 | M16: 97 | N16: 2 | O16: 95 | P16: 0 | Q16: 0 | R16: 24 | S16: 5 | T16: 19 | U16: 0 | V16: 0 | W16: 210 | X16: 48 | Y16: 162 | Z16: 167 | AA16: 4 | AB16: 163 | AC16: 16 | AD16: 4 | AE16: 12 | AF16: 0 | AG16: 0 | AH16: 18 | AI16: 6 | AJ16: 12 | AK16: 0 | AL16: 0
A17: 苗栗縣 | B17: Miaoli County | C17: 392 | D17: 66 | E17: 237 | F17: 7 | G17: 82 | H17: 15 | I17: 3 | J17: 12 | K17: 0 | L17: 0 | M17: 66 | N17: 2 | O17: 64 | P17: 0 | Q17: 0 | R17: 17 | S17: 5 | T17: 12 | U17: 0 | V17: 0 | W17: 112 | X17: 16 | Y17: 96 | Z17: 89 | AA17: 7 | AB17: 82 | AC17: 40 | AD17: 20 | AE17: 20 | AF17: 0 | AG17: 0 | AH17: 53 | AI17: 20 | AJ17: 33 | AK17: 0 | AL17: 0
A18: 彰化縣 | B18: Changhua County | C18: 1145 | D18: 162 | E18: 671 | F18: 8 | G18: 304 | H18: 84 | I18: 30 | J18: 54 | K18: 0 | L18: 0 | M18: 208 | N18: 5 | O18: 203 | P18: 0 | Q18: 0 | R18: 55 | S18: 8 | T18: 47 | U18: 0 | V18: 0 | W18: 365 | X18: 87 | Y18: 278 | Z18: 310 | AA18: 8 | AB18: 302 | AC18: 76 | AD18: 19 | AE18: 55 | AF18: 0 | AG18: 2 | AH18: 47 | AI18: 13 | AJ18: 34 | AK18: 0 | AL18: 0
