Workbook

Sheet 歷年
A1: 老人長期照顧、安養機構工作人員 Number of Workers in Elderly Long-term Care, Nursing and Caring Institutions
A2: 單位：人 Unit : Persons
A3: 年底別 End of Year | C3: 總計 Grand Total | F3: 業務負責人 Dean | I3: 行政人員(含主任) Administrators | L3: 護理人員 Nursing Staff | O3: 社會工作人員 Social Workers | R3: 服務人員 Serviceman | AE3: 其他人員 Others | AH3: 本國籍 R.O.C. Citizens | AJ3: 外國籍 Aliens
R4: 合計 Total | U4: 照顧服務員 Care Attendants | AB4: 服務相關之專業人員 Service Related Professionals
X5: 本國籍 R.O.C. Citizens | Z5: 外籍看護工 Foreign Care Workers
C6: 計 | D6: 男 | E6: 女 | F6: 計 | G6: 男 | H6: 女 | I6: 計 | J6: 男 | K6: 女 | L6: 計 | M6: 男 | N6: 女 | O6: 計 | P6: 男 | Q6: 女 | R6: 計 | S6: 男 | T6: 女 | U6: 計 | V6: 男 | W6: 女 | X6: 男 | Y6: 女 | Z6: 男 | AA6: 女 | AB6: 計 | AC6: 男 | AD6: 女 | AE6: 計 | AF6: 男 | AG6: 女 | AH6: 男 | AI6: 女 | AJ6: 男 | AK6: 女
C7: Total | D7: Male | E7: Female | F7: Total | G7: Male | H7: Female | I7: Total | J7: Male | K7: Female | L7: Total | M7: Male | N7: Female | O7: Total | P7: Male | Q7: Female | R7: Total | S7: Male | T7: Female | U7: Total | V7: Male | W7: Female | X7: Male | Y7: Female | Z7: Male | AA7: Female | AB7: Total | AC7: Male | AD7: Female | AE7: Total | AF7: Male | AG7: Female | AH7: Male | AI7: Female | AJ7: Male | AK7: Female
A8: 91年底 End of 2002 | C8: ='91'!C6 -> 10380 | D8: ='91'!D6 -> 1860 | E8: ='91'!E6 -> 8520 | F8: … | G8: … | H8: … | I8: ='91'!F6 -> 1561 | J8: ='91'!G6 -> 625 | K8: ='91'!H6 -> 936 | L8: ='91'!I6 -> 1871 | M8: ='91'!J6 -> 19 | N8: ='91'!K6 -> 1852 | O8: ='91'!L6 -> 202 | P8: ='91'!M6 -> 57 | ... T8: ='91'!Q6 -> 4668 | U8: … | V8: … | W8: … | X8: … | Y8: … | Z8: … | AA8: … | AB8: … | AC8: … | AD8: … | AE8: ='91'!R6 -> 1455 | AF8: ='91'!S6 -> 536 | AG8: ='91'!T6 -> 919 | AH8: ='91'!$U$6 -> 8692 | AJ8: ='91'!$V$6 -> 1688
A9: 92年底 End of 2003 | C9: ='92'!C6 -> 11355 | D9: ='92'!D6 -> 1951 | E9: ='92'!E6 -> 9404 | F9: … | G9: … | H9: … | I9: ='92'!F6 -> 1650 | J9: ='92'!G6 -> 633 | K9: ='92'!H6 -> 1017 | L9: ='92'!I6 -> 2004 | M9: ='92'!J6 -> 24 | N9: ='92'!K6 -> 1980 | O9: ='92'!L6 -> 217 | P9: ='92'!M6 -> 61 | ... T9: ='92'!Q6 -> 5266 | U9: … | V9: … | W9: … | X9: … | Y9: … | Z9: … | AA9: … | AB9: … | AC9: … | AD9: … | AE9: ='92'!R6 -> 1529 | AF9: ='92'!S6 -> 544 | AG9: ='92'!T6 -> 985 | AH9: ='92'!$U$6 -> 9462 | AJ9: ='92'!$V$6 -> 1893
A10: 93年底 End of 2004 | C10: ='93'!C6 -> 12689 | D10: ='93'!D6 -> 2061 | E10: ='93'!E6 -> 10628 | F10: … | G10: … | H10: … | I10: ='93'!F6 -> 1805 | J10: ='93'!G6 -> 676 | K10: ='93'!H6 -> 1129 | L10: ='93'!I6 -> 2216 | M10: ='93'!J6 -> 13 | N10: ='93'!K6 -> 2203 | O10: ='93'!L6 -> 303 | P10: ='93'!M6 -> 89 | ... T10: ='93'!Q6 -> 5902 | U10: … | V10: … | W10: … | X10: … | Y10: … | Z10: … | AA10: … | AB10: … | AC10: … | AD10: … | AE10: ='93'!R6 -> 1716 | AF10: ='93'!S6 -> 536 | AG10: ='93'!T6 -> 1180 | AH10: ='93'!$U$6 -> 10317 | AJ10: ='93'!$V$6 -> 2372
A11: 94年底 End of 2005 | C11: ='94'!C6 -> 13538 | D11: ='94'!D6 -> 2139 | E11: ='94'!E6 -> 11399 | F11: … | G11: … | H11: … | I11: ='94'!F6 -> 1842 | J11: ='94'!G6 -> 673 | K11: ='94'!H6 -> 1169 | L11: ='94'!I6 -> 2429 | M11: ='94'!J6 -> 17 | N11: ='94'!K6 -> 2412 | O11: ='94'!L6 -> 336 | P11: ='94'!M6 -> 90 | ... T11: ='94'!Q6 -> 6368 | U11: … | V11: … | W11: … | X11: … | Y11: … | Z11: … | AA11: … | AB11: … | AC11: … | AD11: … | AE11: ='94'!R6 -> 1762 | AF11: ='94'!S6 -> 558 | AG11: ='94'!T6 -> 1204 | AH11: ='94'!$U$6 -> 10848 | AJ11: ='94'!$V$6 -> 2690
A12: 95年底 End of 2006 | C12: ='95'!C6 -> 14919 | D12: ='95'!D6 -> 2310 | E12: ='95'!E6 -> 12609 | F12: … | G12: … | H12: … | I12: ='95'!F6 -> 1862 | J12: ='95'!G6 -> 670 | K12: ='95'!H6 -> 1192 | L12: ='95'!I6 -> 2632 | M12: ='95'!J6 -> 18 | N12: ='95'!K6 -> 2614 | O12: ='95'!L6 -> 390 | P12: ='95'!M6 -> 88 | ... T12: ='95'!Q6 -> 7124 | U12: … | V12: … | W12: … | X12: … | Y12: … | Z12: … | AA12: … | AB12: … | AC12: … | AD12: … | AE12: ='95'!R6 -> 1960 | AF12: ='95'!S6 -> 583 | AG12: ='95'!T6 -> 1377 | AH12: ='95'!$U$6 -> 11832 | AJ12: ='95'!$V$6 -> 3087
A13: 96年底 End of 2007 | C13: ='96'!C6 -> 16909 | D13: ='96'!D6 -> 2819 | E13: ='96'!E6 -> 14090 | F13: … | G13: … | H13: … | I13: ='96'!F6 -> 2024 | J13: ='96'!G6 -> 728 | K13: ='96'!H6 -> 1296 | L13: ='96'!I6 -> 3036 | M13: ='96'!J6 -> 36 | N13: ='96'!K6 -> 3000 | O13: ='96'!L6 -> 536 | P13: ='96'!M6 -> 143 | ... T13: ='96'!Q6 -> 7791 | U13: … | V13: … | W13: … | X13: … | Y13: … | Z13: … | AA13: … | AB13: … | AC13: … | AD13: … | AE13: ='96'!R6 -> 2355 | AF13: ='96'!S6 -> 745 | AG13: ='96'!T6 -> 1610 | AH13: ='96'!$U$6 -> 13689 | AJ13: ='96'!$V$6 -> 3220
A14: 97年底 End of 2008 | C14: ='97'!C6 -> 17633 | D14: ='97'!D6 -> 2486 | E14: ='97'!E6 -> 15147 | F14: … | G14: … | H14: … | I14: ='97'!F6 -> 2010 | J14: ='97'!G6 -> 705 | K14: ='97'!H6 -> 1305 | L14: ='97'!I6 -> 3205 | M14: ='97'!J6 -> 14 | N14: ='97'!K6 -> 3191 | O14: ='97'!L6 -> 550 | P14: ='97'!M6 -> 118 | ... T14: ='97'!Q6 -> 8811 | U14: … | V14: … | W14: … | X14: … | Y14: … | Z14: … | AA14: … | AB14: … | AC14: … | AD14: … | AE14: ='97'!R6 -> 1965 | AF14: ='97'!S6 -> 557 | AG14: ='97'!T6 -> 1408 | AH14: ='97'!$U$6 -> 13769 | AJ14: ='97'!$V$6 -> 3864
A15: 98年底 End of 2009 | C15: ='98'!C6 -> 18904 | D15: ='98'!D6 -> 2667 | E15: ='98'!E6 -> 16237 | F15: … | G15: … | H15: … | I15: ='98'!F6 -> 2098 | J15: ='98'!G6 -> 728 | K15: ='98'!H6 -> 1370 | L15: ='98'!I6 -> 3535 | M15: ='98'!J6 -> 15 | N15: ='98'!K6 -> 3520 | O15: ='98'!L6 -> 662 | P15: ='98'!M6 -> 152 | ... T15: ='98'!Q6 -> 9484 | U15: … | V15: … | W15: … | X15: … | Y15: … | Z15: … | AA15: … | AB15: … | AC15: … | AD15: … | AE15: ='98'!R6 -> 1902 | AF15: ='98'!S6 -> 549 | AG15: ='98'!T6 -> 1353 | AH15: ='98'!U6 -> 2540 | AI15: ='98'!V6 -> 12546 | AJ15: ='98'!W6 -> 127 | AK15: ='98'!X6 -> 3691
A16: 99年底 End of 2010 | C16: ='99'!C6 -> 19664 | D16: ='99'!D6 -> 2832 | E16: ='99'!E6 -> 16832 | F16: … | G16: … | H16: … | I16: ='99'!F6 -> 2094 | J16: ='99'!G6 -> 707 | K16: ='99'!H6 -> 1387 | L16: ='99'!I6 -> 3771 | M16: ='99'!J6 -> 21 | N16: ='99'!K6 -> 3750 | O16: ='99'!L6 -> 755 | P16: ='99'!M6 -> 160 | ... T16: ='99'!Q6 -> 9683 | U16: … | V16: … | W16: … | X16: … | Y16: … | Z16: … | AA16: … | AB16: … | AC16: … | AD16: … | AE16: ='99'!R6 -> 2003 | AF16: ='99'!S6 -> 586 | AG16: ='99'!T6 -> 1417 | AH16: ='99'!U6 -> 2704 | AI16: ='99'!V6 -> 12978 | AJ16: ='99'!W6 -> 128 | AK16: ='99'!X6 -> 3854
A17: 100年底 End of 2011 | C17: ='100'!C7 -> 20936 | D17: ='100'!D7 -> 3139 | E17: ='100'!E7 -> 17797 | F17: … | G17: … | H17: … | I17: ='100'!F7 -> 2133 | J17: ='100'!G7 -> 726 | K17: ='100'!H7 -> 1407 | L17: ='100'!I7 -> 3981 | M17: ='100'!J7 -> 23 | N17: ='100'!K7 -> 3958 | O17: ='100'!L7 -> 857 | P17: ='100'!M7 -> 185 | ... W17: ='100'!T7 -> 10105 | X17: … | Y17: … | Z17: … | AA17: … | AB17: ='100'!U7 -> 663 | AC17: ='100'!V7 -> 214 | AD17: ='100'!W7 -> 449 | AE17: ='100'!X7 -> 1753 | AF17: ='100'!Y7 -> 547 | AG17: ='100'!Z7 -> 1206 | AH17: ='100'!AA7 -> 3017 | AI17: ='100'!AB7 -> 13714 | ... AK17: ='100'!AD7 -> 4083
A18: 101年底 End of 2012 | C18: 21506 | D18: 3297 | E18: 18209 | F18: … | G18: … | H18: … | I18: 2016 | J18: 704 | K18: 1312 | L18: 4198 | M18: 32 | N18: 4166 | O18: 931 | P18: 214 | Q18: 717 | R18: 12711 | S18: 1832 | T18: 10879 | U18: 11961 | V18: 1595 | W18: 10366 | X18: … | Y18: … | Z18: … | AA18: … | AB18: 750 | AC18: 237 | AD18: 513 | AE18: 1650 | AF18: 515 | AG18: 1135 | AH18: 3166 | AI18: 13943 | AJ18: 131 | AK18: 4266
A19: 102年底 End of 2013 | C19: 21996 | D19: 3324 | E19: 18672 | F19: … | G19: … | H19: … | I19: 2011 | J19: 720 | K19: 1291 | L19: 4360 | M19: 45 | N19: 4315 | O19: 950 | P19: 193 | Q19: 757 | R19: 13069 | S19: 1865 | T19: 11204 | U19: 12242 | V19: 1603 | W19: 10639 | X19: … | Y19: … | Z19: … | AA19: … | AB19: 827 | AC19: 262 | AD19: 565 | AE19: 1606 | AF19: 501 | AG19: 1105 | AH19: 3203 | AI19: 14132 | AJ19: 121 | AK19: 4540
A20: 103年底End of 2014 | C20: ='103'!$C$8 -> 23572 | D20: ='103'!$D$8+'103'!$F$8 -> 3695 | E20: ='103'!$E$8+'103'!$G$8 -> 19877 | F20: … | G20: … | H20: … | I20: ='103'!$H$8 -> 2067 | J20: ='103'!$I$8+'103'!$K$8 -> 745 | K20: ='103'!$J$8+'103'!$L$8 -> 1322 | L20: ='103'!$M$8 -> 4533 | M20: ='103'!$N$8+'103'!$P$8 -> 59 | N20: ='103'!$O$8+'103'!$Q$8 -> 4474 | O20: ='103'!$R$8 -> 1092 | P20: ='103'!$S$8+'103'!$U$8 -> 236 | Q20: ='103'!$T$8+'103'!$V$8 -> 856 | R20: =U20+AB20 -> 14522 | S20: =V20+AC20 -> 2155 | T20: =W20+AD20 -> 12367 | U20: ='103'!AB8 -> 13343 | V20: ='103'!AC8+'103'!AE8 -> 1791 | W20: ='103'!AD8+'103'!AF8 -> 11552 | X20: … | Y20: … | Z20: … | AA20: … | AB20: ='103'!AG8 -> 1179 | AC20: ='103'!AH8+'103'!AJ8 -> 364 | AD20: ='103'!AI8+'103'!AK8 -> 815 | AE20: ='103'!AL8 -> 1358 | AF20: ='103'!AM8+'103'!AO8 -> 500 | AG20: ='103'!AN8+'103'!AP8 -> 858 | AH20: ='103'!D8 -> 3562 | AI20: ='103'!E8 -> 14814 | AJ20: ='103'!F8 -> 133 | AK20: ='103'!G8 -> 5063
A21: 104年底 End of 2015 | C21: ='104'!C7 -> 24093 | D21: ='104'!D7+'104'!F7 -> 3731 | E21: ='104'!E7+'104'!G7 -> 20362 | F21: ='104'!H7 -> 1503 | G21: ='104'!I7+'104'!K7 -> 562 | H21: ='104'!J7+'104'!L7 -> 941 | I21: … | J21: … | K21: … | L21: ='104'!M7 -> 4645 | M21: ='104'!N7+'104'!P7 -> 52 | N21: ='104'!O7+'104'!Q7 -> 4593 | O21: ='104'!R7 -> 1147 | P21: ='104'!S7+'104'!U7 -> 267 | Q21: ='104'!T7+'104'!V7 -> 880 | R21: =SUM(S21:T21) -> 15097 | S21: =V21+AC21 -> 2229 | T21: =W21+AD21 -> 12868 | U21: =SUM(V21:W21) -> 13806 | V21: =X21+Z21 -> 1834 | W21: =Y21+AA21 -> 11972 | X21: 1689 | Y21: 6668 | Z21: 145 | AA21: 5304 | AB21: ='104'!AC7 -> 1291 | AC21: ='104'!AD7+'104'!AF7 -> 395 | AD21: ='104'!AE7+'104'!AG7 -> 896 | AE21: ='104'!AH7 -> 1701 | AF21: ='104'!AI7+'104'!AK7 -> 621 | AG21: ='104'!AJ7+'104'!AL7 -> 1080 | AH21: ='104'!D7 -> 3585 | AI21: ='104'!E7 -> 14993 | AJ21: ='104'!F7 -> 146 | AK21: ='104'!G7 -> 5369
A22: 105年底 End of 2016 | C22: ='105'!C7 -> 25878 | D22: ='105'!D7+'105'!F7 -> 4377 | E22: ='105'!E7+'105'!G7 -> 21501 | F22: ='105'!H7 -> 1468 | G22: ='105'!I7+'105'!K7 -> 555 | H22: ='105'!J7+'105'!L7 -> 913 | I22: … | J22: … | K22: … | L22: ='105'!M7 -> 4977 | M22: ='105'!N7+'105'!P7 -> 73 | N22: ='105'!O7+'105'!Q7 -> 4904 | O22: ='105'!R7 -> 1241 | P22: ='105'!S7+'105'!U7 -> 335 | Q22: ='105'!T7+'105'!V7 -> 906 | R22: =SUM(S22:T22) -> 16236 | S22: =V22+AC22 -> 2676 | T22: =W22+AD22 -> 13560 | U22: =SUM(V22:W22) -> 14613 | V22: =X22+Z22 -> 2120 | W22: =Y22+AA22 -> 12493 | X22: 1944 | Y22: 6973 | Z22: 176 | AA22: 5520 | AB22: ='105'!AC7 -> 1623 | AC22: ='105'!AD7+'105'!AF7 -> 556 | AD22: ='105'!AE7+'105'!AG7 -> 1067 | AE22: ='105'!AH7 -> 1956 | AF22: ='105'!AI7+'105'!AK7 -> 738 | AG22: ='105'!AJ7+'105'!AL7 -> 1218 | AH22: ='104'!D8 -> 374 | AI22: ='104'!E8 -> 1240 | AJ22: ='104'!F8 -> 18 | AK22: ='104'!G8 -> 189
A23: 106年6月底 End of June, 2017 | AH23: ='104'!D9 -> 592 | AI23: ='104'!E9 -> 2579 | AJ23: ='104'!F9 -> 18 | AK23: ='104'!G9 -> 959
A24: 106年底 End of 2017 | C24: 26732 | D24: 4370 | E24: 22362 | F24: 1300 | G24: 510 | H24: 790 | I24: … | J24: … | K24: … | L24: 5210 | M24: 113 | N24: 5097 | O24: 1355 | P24: 351 | Q24: 1004 | R24: 16618 | S24: 2645 | T24: 13973 | U24: 15201 | V24: 2122 | W24: 13079 | X24: 1956 | Y24: 7269 | Z24: 166 | AA24: 5810 | AB24: 1417 | AC24: 523 | AD24: 894 | AE24: 2249 | AF24: 751 | AG24: 1498
A25: 107年底 End of 2018 | C25: 27424 | D25: 4468 | E25: 22956 | F25: 1252 | G25: 485 | H25: 767 | I25: … | J25: … | K25: … | L25: 5286 | M25: 130 | N25: 5156 | O25: 1185 | P25: 276 | Q25: 909 | R25: 17632 | S25: 2882 | T25: 14750 | U25: 15730 | V25: 2217 | W25: 13513 | X25: 2065 | Y25: 7238 | Z25: 152 | AA25: 6275 | AB25: 1902 | AC25: 665 | AD25: 1237 | AE25: 2069 | AF25: 695 | AG25: 1374
A26: 108年底 End of 2019 | C26: 28286 | D26: 4711 | E26: 23575 | F26: 1206 | G26: 472 | H26: 734 | I26: … | J26: … | K26: … | L26: 5399 | M26: 141 | N26: 5258 | O26: 1209 | P26: 294 | Q26: 915 | R26: 18056 | S26: 3023 | T26: 15033 | U26: 16001 | V26: 2231 | W26: 13770 | X26: 2069 | Y26: 7362 | Z26: 162 | AA26: 6408 | AB26: 2055 | AC26: 792 | AD26: 1263 | AE26: 2416 | AF26: 781 | AG26: 1635
A27: 109年底 End of 2020 | C27: 28434 | D27: 4925 | E27: 23509 | F27: 1150 | G27: 451 | H27: 699 | I27: … | J27: … | K27: … | L27: 5400 | M27: 198 | N27: 5202 | O27: 1188 | P27: 288 | Q27: 900 | R27: 18185 | S27: 3174 | T27: 15011 | U27: 15874 | V27: 2231 | W27: 13643 | X27: 2082 | Y27: 7311 | Z27: 149 | AA27: 6332 | AB27: 2311 | AC27: 943 | AD27: 1368 | AE27: 2511 | AF27: 814 | AG27: 1697
A28: 110年底 End of 2021 | C28: 28628 | D28: 5179 | E28: 23449 | F28: 1166 | G28: 449 | H28: 717 | I28: … | J28: … | K28: … | L28: 5559 | M28: 215 | N28: 5344 | O28: 1273 | P28: 301 | Q28: 972 | R28: 17900 | S28: 3309 | T28: 14591 | U28: 15462 | V28: 2281 | W28: 13181 | X28: 2148 | Y28: 7272 | Z28: 133 | AA28: 5909 | AB28: 2438 | AC28: 1028 | AD28: 1410 | AE28: 2730 | AF28: 905 | AG28: 1825
A29: 111年底 End of 2022 | C29: 28628 | D29: 5311 | E29: 23317 | F29: 1059 | G29: 431 | H29: 628 | I29: … | J29: … | K29: … | L29: 5396 | M29: 226 | N29: 5170 | O29: 1302 | P29: 323 | Q29: 979 | R29: 17994 | S29: 3319 | T29: 14675 | U29: 15710 | V29: 2373 | W29: 13337 | X29: 2255 | Y29: 7230 | Z29: 118 | AA29: 6107 | AB29: 2284 | AC29: 946 | AD29: 1338 | AE29: 2877 | AF29: 1012 | AG29: 1865
A30: 112年底 End of 2023 | C30: 29205 | D30: 5658 | E30: 23547 | F30: 1055 | G30: 417 | H30: 638 | I30: … | J30: … | K30: … | L30: 5410 | M30: 228 | N30: 5182 | O30: 1308 | P30: 313 | Q30: 995 | R30: 18752 | S30: 3659 | T30: 15093 | U30: 15709 | V30: 2289 | W30: 13420 | X30: 2152 | Y30: 6689 | Z30: 137 | AA30: 6731 | AB30: 3043 | AC30: 1370 | AD30: 1673 | AE30: 2680 | AF30: 1041 | AG30: 1639
A31: 113年底 End of 2024 | C31: 28739 | D31: 5492 | E31: 23247 | F31: 1043 | G31: 418 | H31: 625 | I31: 0 | J31: 0 | K31: 5364 | L31: 272 | M31: 5088 | N31: 2 | O31: 2 | P31: 1274 | Q31: 304 | R31: 969 | S31: 0 | T31: 1 | U31: 8386 | V31: 2059 | W31: 6327 | X31: 7195 | Y31: 148 | Z31: 7047 | AA31: 2911 | AB31: 1271 | AC31: 1633 | AD31: 5 | AE31: 2 | AF31: 2566 | AG31: 1009 | AH31: 1534 | AI31: 4 | AJ31: 19
A33: 資料來源：衛生福利部社會及家庭署及直轄市、縣(市)政府。
A34: Source : Social and Family Affairs Administration, Mohw and County and City Government.
A35: 說 明：1.自100年起服務人員區分為照顧服務員(含外籍看護工)、服務相關之專業人員統計。 2.原行政人員 (含主任) 自104年起改為僅填報院長(主任)。
A36: Note : 1.Service personnel divided into care attendants (Including foreign care workers), service related professionals since 2011. 2.Former administrator from 2015 years to only fill Dean (Director).

Sheet 113
A1: 老人長期照顧、安養機構工作人員 Number of Workers in Elderly Long-term Care, Nursing and Caring Institutions
A2: 113年底 End of 2024 | AL2: 單位：人
A3: 區域別 Locality | C3: 總計 Grand Total | H3: 院長(主任) Dean | M3: 護理人員 Nursing Staff | R3: 社會工作人員 Social Workers | W3: 照顧服務員 Care Attendants | Z3: 外籍看護工 Foreign Care Workers | AC3: 服務相關之專業人員 Service Related Professionals | AH3: 其他人員 Others
C4: 計 Total | D4: 本國籍 R.O.C. Citizens | F4: 外國籍 Aliens | H4: 計 Total | I4: 本國籍 R.O.C. Citizens | K4: 外國籍 Aliens | M4: 計 Total | N4: 本國籍 R.O.C. Citizens | P4: 外國籍 Aliens | R4: 計 Total | S4: 本國籍 R.O.C. Citizens | U4: 外國籍 Aliens | W4: 計 Total | X4: 本國籍 R.O.C. Citizens | Z4: 計 Total | AA4: 外國籍 Aliens | AC4: 計 Total | AD4: 本國籍 R.O.C. Citizens | AF4: 外國籍 Aliens | AH4: 計 Total | AI4: 本國籍 R.O.C. Citizens | AK4: 外國籍 Aliens
D5: 男 | E5: 女 | F5: 男 | G5: 女 | I5: 男 | J5: 女 | K5: 男 | L5: 女 | N5: 男 | O5: 女 | P5: 男 | Q5: 女 | S5: 男 | T5: 女 | U5: 男 | V5: 女 | X5: 男 | Y5: 女 | AA5: 男 | AB5: 女 | AD5: 男 | AE5: 女 | AF5: 男 | AG5: 女 | AI5: 男 | AJ5: 女 | AK5: 男 | AL5: 女
D6: Male | E6: Female | F6: Male | G6: Female | I6: Male | J6: Female | K6: Male | L6: Female | N6: Male | O6: Female | P6: Male | Q6: Female | S6: Male | T6: Female | U6: Male | V6: Female | X6: Male | Y6: Female | AA6: Male | AB6: Female | AD6: Male | AE6: Female | AF6: Male | AG6: Female | AI6: Male | AJ6: Female | AK6: Male | AL6: Female
A7: 總計 | B7: Total | C7: 28739 | D7: 5333 | E7: 16176 | F7: 159 | G7: 7071 | H7: 1043 | I7: 418 | J7: 625 | K7: 0 | L7: 0 | M7: 5364 | N7: 272 | O7: 5088 | P7: 2 | Q7: 2 | R7: 1274 | S7: 304 | T7: 969 | U7: 0 | V7: 1 | W7: 8386 | X7: 2059 | Y7: 6327 | Z7: 7195 | AA7: 148 | AB7: 7047 | AC7: 2911 | AD7: 1271 | AE7: 1633 | AF7: 5 | AG7: 2 | AH7: 2566 | AI7: 1009 | AJ7: 1534 | AK7: 4 | AL7: 19
A8: 部直轄 | B8: Institution under Mohw | C8: 1914 | D8: 433 | E8: 1212 | F8: 12 | G8: 257 | H8: 25 | I8: 10 | J8: 15 | K8: 0 | L8: 0 | M8: 346 | N8: 20 | O8: 325 | P8: 0 | Q8: 1 | R8: 75 | S8: 17 | T8: 57 | U8: 0 | V8: 1 | W8: 698 | X8: 175 | Y8: 523 | Z8: 267 | AA8: 12 | AB8: 255 | AC8: 114 | AD8: 34 | AE8: 80 | AF8: 0 | AG8: 0 | AH8: 389 | AI8: 177 | AJ8: 212 | AK8: 0 | AL8: 0
A9: 新北市 | B9: New Taipei City | C9: 5240 | D9: 967 | E9: 2894 | F9: 39 | G9: 1340 | H9: 208 | I9: 85 | J9: 123 | K9: 0 | L9: 0 | M9: 975 | N9: 35 | O9: 938 | P9: 2 | Q9: 0 | R9: 226 | S9: 84 | T9: 142 | U9: 0 | V9: 0 | W9: 1539 | X9: 376 | Y9: 1163 | Z9: 1368 | AA9: 34 | AB9: 1334 | AC9: 493 | AD9: 210 | AE9: 280 | AF9: 2 | AG9: 1 | AH9: 431 | AI9: 177 | AJ9: 248 | AK9: 1 | AL9: 5
A10: 臺北市 | B10: Taipei City | C10: 2727 | D10: 538 | E10: 1538 | F10: 13 | G10: 638 | H10: 94 | I10: 42 | J10: 52 | K10: 0 | L10: 0 | M10: 504 | N10: 26 | O10: 478 | P10: 0 | Q10: 0 | R10: 135 | S10: 30 | T10: 105 | U10: 0 | V10: 0 | W10: 768 | X10: 204 | Y10: 564 | Z10: 651 | AA10: 13 | AB10: 638 | AC10: 299 | AD10: 139 | AE10: 160 | AF10: 0 | AG10: 0 | AH10: 276 | AI10: 97 | AJ10: 179 | AK10: 0 | AL10: 0
A11: 桃園市 | B11: Taoyuan City | C11: 1784 | D11: 347 | E11: 947 | F11: 3 | G11: 487 | H11: 64 | I11: 26 | J11: 38 | K11: 0 | L11: 0 | M11: 312 | N11: 20 | O11: 292 | P11: 0 | Q11: 0 | R11: 77 | S11: 22 | T11: 55 | U11: 0 | V11: 0 | W11: 483 | X11: 120 | Y11: 363 | Z11: 490 | AA11: 3 | AB11: 487 | AC11: 301 | AD11: 143 | AE11: 158 | AF11: 0 | AG11: 0 | AH11: 57 | AI11: 16 | AJ11: 41 | AK11: 0 | AL11: 0
A12: 臺中市 | B12: Taichung City | C12: 1726 | D12: 310 | E12: 970 | F12: 4 | G12: 442 | H12: 63 | I12: 21 | J12: 42 | K12: 0 | L12: 0 | M12: 333 | N12: 23 | O12: 310 | P12: 0 | Q12: 0 | R12: 80 | S12: 16 | T12: 64 | U12: 0 | V12: 0 | W12: 513 | X12: 123 | Y12: 390 | Z12: 445 | AA12: 4 | AB12: 441 | AC12: 156 | AD12: 76 | AE12: 80 | AF12: 0 | AG12: 0 | AH12: 136 | AI12: 51 | AJ12: 84 | AK12: 0 | AL12: 1
A13: 臺南市 | B13: Tainan City | C13: 2486 | D13: 440 | E13: 1423 | F13: 6 | G13: 617 | H13: 106 | I13: 36 | J13: 70 | K13: 0 | L13: 0 | M13: 493 | N13: 27 | O13: 466 | P13: 0 | Q13: 0 | R13: 114 | S13: 26 | T13: 88 | U13: 0 | V13: 0 | W13: 837 | X13: 209 | Y13: 628 | Z13: 614 | AA13: 3 | AB13: 611 | AC13: 223 | AD13: 107 | AE13: 115 | AF13: 1 | AG13: 0 | AH13: 99 | AI13: 35 | AJ13: 56 | AK13: 2 | AL13: 6
A14: 高雄市 | B14: Kaohsiung City | C14: 4015 | D14: 799 | E14: 2241 | F14: 23 | G14: 952 | H14: 151 | I14: 47 | J14: 104 | K14: 0 | L14: 0 | M14: 716 | N14: 31 | O14: 685 | P14: 0 | Q14: 0 | R14: 168 | S14: 33 | T14: 135 | U14: 0 | V14: 0 | W14: 993 | X14: 238 | Y14: 755 | Z14: 972 | AA14: 21 | AB14: 951 | AC14: 522 | AD14: 238 | AE14: 283 | AF14: 1 | AG14: 0 | AH14: 493 | AI14: 212 | AJ14: 279 | AK14: 1 | AL14: 1
A15: 宜蘭縣 | B15: Yilan County | C15: 1149 | D15: 190 | E15: 643 | F15: 14 | G15: 302 | H15: 37 | I15: 13 | J15: 24 | K15: 0 | L15: 0 | M15: 208 | N15: 12 | O15: 196 | P15: 0 | Q15: 0 | R15: 49 | S15: 8 | T15: 41 | U15: 0 | V15: 0 | W15: 294 | X15: 63 | Y15: 231 | Z15: 315 | AA15: 14 | AB15: 301 | AC15: 145 | AD15: 66 | AE15: 79 | AF15: 0 | AG15: 0 | AH15: 101 | AI15: 28 | AJ15: 72 | AK15: 0 | AL15: 1
A16: 新竹縣 | B16: Hsinchu County | C16: 516 | D16: 84 | E16: 267 | F16: 11 | G16: 154 | H16: 19 | I16: 12 | J16: 7 | K16: 0 | L16: 0 | M16: 92 | N16: 4 | O16: 88 | P16: 0 | Q16: 0 | R16: 22 | S16: 4 | T16: 18 | U16: 0 | V16: 0 | W16: 159 | X16: 43 | Y16: 116 | Z16: 165 | AA16: 11 | AB16: 154 | AC16: 19 | AD16: 3 | AE16: 16 | AF16: 0 | AG16: 0 | AH16: 40 | AI16: 18 | AJ16: 22 | AK16: 0 | AL16: 0
A17: 苗栗縣 | B17: Miaoli County | C17: 385 | D17: 68 | E17: 221 | F17: 11 | G17: 85 | H17: 13 | I17: 6 | J17: 7 | K17: 0 | L17: 0 | M17: 59 | N17: 3 | O17: 56 | P17: 0 | Q17: 0 | R17: 17 | S17: 8 | T17: 9 | U17: 0 | V17: 0 | W17: 146 | X17: 34 | Y17: 112 | Z17: 96 | AA17: 11 | AB17: 85 | AC17: 37 | AD17: 12 | AE17: 25 | AF17: 0 | AG17: 0 | AH17: 17 | AI17: 5 | AJ17: 12 | AK17: 0 | AL17: 0
A18: 彰化縣 | B18: Changhua County | C18: 1156 | D18: 175 | E18: 651 | F18: 5 | G18: 325 | H18: 48 | I18: 18 | J18: 30 | K18: 0 | L18: 0 | M18: 238 | N18: 12 | O18: 226 | P18: 0 | Q18: 0 | R18: 53 | S18: 8 | T18: 45 | U18: 0 | V18: 0 | W18: 326 | X18: 88 | Y18: 238 | Z18: 327 | AA18: 5 | AB18: 322 | AC18: 82 | AD18: 20 | AE18: 61 | AF18: 0 | AG18: 1 | AH18: 82 | AI18: 29 | AJ18: 51 | AK18: 0 | AL18: 2
... A30: 連江縣 | B30: Lienchiang County | C30: 31 | D30: 5 | E30: 26 | F30: 0 | G30: 0 | H30: 1 | I30: 0 | J30: 1 | K30: 0 | L30: 0 | M30: 8 | N30: 0 | O30: 8 | P30: 0 | Q30: 0 | R30: 2 | S30: 0 | T30: 2 | U30: 0 | V30: 0 | W30: 10 | X30: 2 | Y30: 8 | Z30: 0 | AA30: 0 | AB30: 0 | AC30: 0 | AD30: 0 | AE30: 0 | AF30: 0 | AG30: 0 | AH30: 10 | AI30: 3 | AJ30: 7 | AK30: 0 | AL30: 0
A31: 資料來源：衛生福利部社會及家庭署及直轄市、縣(市)政府。
A32: Source : Social and Family Affairs Administration, Mohw and County and City Government.

Sheet 112
A1: 老人長期照顧、安養機構工作人員 Number of Workers in Elderly Long-term Care, Nursing and Caring Institutions
A2: 112年底 End of 2023 | AL2: 單位：人
A3: 區域別 Locality | C3: 總計 Grand Total | H3: 院長(主任) Dean | M3: 護理人員 Nursing Staff | R3: 社會工作人員 Social Workers | W3: 照顧服務員 Care Attendants | Z3: 外籍看護工 Foreign Care Workers | AC3: 服務相關之專業人員 Service Related Professionals | AH3: 其他人員 Others
C4: 計 Total | D4: 本國籍 R.O.C. Citizens | F4: 外國籍 Aliens | H4: 計 Total | I4: 本國籍 R.O.C. Citizens | K4: 外國籍 Aliens | M4: 計 Total | N4: 本國籍 R.O.C. Citizens | P4: 外國籍 Aliens | R4: 計 Total | S4: 本國籍 R.O.C. Citizens | U4: 外國籍 Aliens | W4: 計 Total | X4: 本國籍 R.O.C. Citizens | Z4: 計 Total | AA4: 外國籍 Aliens | AC4: 計 Total | AD4: 本國籍 R.O.C. Citizens | AF4: 外國籍 Aliens | AH4: 計 Total | AI4: 本國籍 R.O.C. Citizens | AK4: 外國籍 Aliens
D5: 男 | E5: 女 | F5: 男 | G5: 女 | I5: 男 | J5: 女 | K5: 男 | L5: 女 | N5: 男 | O5: 女 | P5: 男 | Q5: 女 | S5: 男 | T5: 女 | U5: 男 | V5: 女 | X5: 男 | Y5: 女 | AA5: 男 | AB5: 女 | AD5: 男 | AE5: 女 | AF5: 男 | AG5: 女 | AI5: 男 | AJ5: 女 | AK5: 男 | AL5: 女
D6: Male | E6: Female | F6: Male | G6: Female | I6: Male | J6: Female | K6: Male | L6: Female | N6: Male | O6: Female | P6: Male | Q6: Female | S6: Male | T6: Female | U6: Male | V6: Female | X6: Male | Y6: Female | AA6: Male | AB6: Female | AD6: Male | AE6: Female | AF6: Male | AG6: Female | AI6: Male | AJ6: Female | AK6: Male | AL6: Female
A7: 總計 | B7: Total | C7: 29205 | D7: 5516 | E7: 16795 | F7: 142 | G7: 6752 | H7: 1055 | I7: 417 | J7: 638 | K7: 0 | L7: 0 | M7: 5410 | N7: 227 | O7: 5181 | P7: 1 | Q7: 1 | R7: 1308 | S7: 313 | T7: 993 | U7: 0 | V7: 2 | W7: 8841 | X7: 2152 | Y7: 6689 | Z7: 6868 | AA7: 137 | AB7: 6731 | AC7: 3043 | AD7: 1367 | AE7: 1665 | AF7: 3 | AG7: 8 | AH7: 2680 | AI7: 1040 | AJ7: 1629 | AK7: 1 | AL7: 10
A8: 部直轄 | B8: Institution under Mohw | C8: 1892 | D8: 423 | E8: 1225 | F8: 11 | G8: 233 | H8: 25 | I8: 11 | J8: 14 | K8: 0 | L8: 0 | M8: 338 | N8: 18 | O8: 320 | P8: 0 | Q8: 0 | R8: 77 | S8: 18 | T8: 58 | U8: 0 | V8: 1 | W8: 717 | X8: 170 | Y8: 547 | Z8: 243 | AA8: 11 | AB8: 232 | AC8: 112 | AD8: 36 | AE8: 76 | AF8: 0 | AG8: 0 | AH8: 380 | AI8: 170 | AJ8: 210 | AK8: 0 | AL8: 0
A9: 新北市 | B9: New Taipei City | C9: 5473 | D9: 1060 | E9: 3064 | F9: 34 | G9: 1315 | H9: 209 | I9: 86 | J9: 123 | K9: 0 | L9: 0 | M9: 990 | N9: 35 | O9: 955 | P9: 0 | Q9: 0 | R9: 260 | S9: 87 | T9: 173 | U9: 0 | V9: 0 | W9: 1667 | X9: 411 | Y9: 1256 | Z9: 1349 | AA9: 34 | AB9: 1315 | AC9: 546 | AD9: 241 | AE9: 305 | AF9: 0 | AG9: 0 | AH9: 452 | AI9: 200 | AJ9: 252 | AK9: 0 | AL9: 0
A10: 臺北市 | B10: Taipei City | C10: 2800 | D10: 565 | E10: 1625 | F10: 8 | G10: 602 | H10: 96 | I10: 38 | J10: 58 | K10: 0 | L10: 0 | M10: 522 | N10: 27 | O10: 495 | P10: 0 | Q10: 0 | R10: 128 | S10: 30 | T10: 98 | U10: 0 | V10: 0 | W10: 817 | X10: 219 | Y10: 598 | Z10: 610 | AA10: 8 | AB10: 602 | AC10: 300 | AD10: 140 | AE10: 160 | AF10: 0 | AG10: 0 | AH10: 327 | AI10: 111 | AJ10: 216 | AK10: 0 | AL10: 0
A11: 桃園市 | B11: Taoyuan City | C11: 1776 | D11: 361 | E11: 945 | F11: 4 | G11: 466 | H11: 65 | I11: 25 | J11: 40 | K11: 0 | L11: 0 | M11: 296 | N11: 13 | O11: 283 | P11: 0 | Q11: 0 | R11: 76 | S11: 21 | T11: 55 | U11: 0 | V11: 0 | W11: 511 | X11: 137 | Y11: 374 | Z11: 470 | AA11: 4 | AB11: 466 | AC11: 295 | AD11: 142 | AE11: 153 | AF11: 0 | AG11: 0 | AH11: 63 | AI11: 23 | AJ11: 40 | AK11: 0 | AL11: 0
A12: 臺中市 | B12: Taichung City | C12: 1773 | D12: 309 | E12: 1028 | F12: 5 | G12: 431 | H12: 64 | I12: 21 | J12: 43 | K12: 0 | L12: 0 | M12: 348 | N12: 19 | O12: 329 | P12: 0 | Q12: 0 | R12: 80 | S12: 15 | T12: 65 | U12: 0 | V12: 0 | W12: 574 | X12: 136 | Y12: 438 | Z12: 436 | AA12: 5 | AB12: 431 | AC12: 158 | AD12: 78 | AE12: 80 | AF12: 0 | AG12: 0 | AH12: 113 | AI12: 40 | AJ12: 73 | AK12: 0 | AL12: 0
A13: 臺南市 | B13: Tainan City | C13: 2644 | D13: 544 | E13: 1506 | F13: 4 | G13: 590 | H13: 106 | I13: 34 | J13: 72 | K13: 0 | L13: 0 | M13: 492 | N13: 23 | O13: 469 | P13: 0 | Q13: 0 | R13: 120 | S13: 25 | T13: 95 | U13: 0 | V13: 0 | W13: 805 | X13: 200 | Y13: 605 | Z13: 592 | AA13: 3 | AB13: 589 | AC13: 342 | AD13: 184 | AE13: 157 | AF13: 1 | AG13: 0 | AH13: 187 | AI13: 78 | AJ13: 108 | AK13: 0 | AL13: 1
A14: 高雄市 | B14: Kaohsiung City | C14: 3969 | D14: 783 | E14: 2279 | F14: 19 | G14: 888 | H14: 153 | I14: 45 | J14: 108 | K14: 0 | L14: 0 | M14: 734 | N14: 22 | O14: 711 | P14: 1 | Q14: 0 | R14: 172 | S14: 39 | T14: 133 | U14: 0 | V14: 0 | W14: 1032 | X14: 249 | Y14: 783 | Z14: 902 | AA14: 17 | AB14: 885 | AC14: 519 | AD14: 249 | AE14: 269 | AF14: 0 | AG14: 1 | AH14: 457 | AI14: 179 | AJ14: 275 | AK14: 1 | AL14: 2
A15: 宜蘭縣 | B15: Yilan County | C15: 1234 | D15: 201 | E15: 711 | F15: 16 | G15: 306 | H15: 38 | I15: 17 | J15: 21 | K15: 0 | L15: 0 | M15: 218 | N15: 7 | O15: 211 | P15: 0 | Q15: 0 | R15: 47 | S15: 7 | T15: 40 | U15: 0 | V15: 0 | W15: 346 | X15: 68 | Y15: 278 | Z15: 319 | AA15: 16 | AB15: 303 | AC15: 139 | AD15: 53 | AE15: 85 | AF15: 0 | AG15: 1 | AH15: 127 | AI15: 49 | AJ15: 76 | AK15: 0 | AL15: 2
A16: 新竹縣 | B16: Hsinchu County | C16: 494 | D16: 75 | E16: 271 | F16: 6 | G16: 142 | H16: 19 | I16: 12 | J16: 7 | K16: 0 | L16: 0 | M16: 93 | N16: 3 | O16: 90 | P16: 0 | Q16: 0 | R16: 22 | S16: 4 | T16: 18 | U16: 0 | V16: 0 | W16: 164 | X16: 41 | Y16: 123 | Z16: 148 | AA16: 6 | AB16: 142 | AC16: 17 | AD16: 3 | AE16: 14 | AF16: 0 | AG16: 0 | AH16: 31 | AI16: 12 | AJ16: 19 | AK16: 0 | AL16: 0
A17: 苗栗縣 | B17: Miaoli County | C17: 359 | D17: 68 | E17: 199 | F17: 10 | G17: 82 | H17: 13 | I17: 5 | J17: 8 | K17: 0 | L17: 0 | M17: 60 | N17: 3 | O17: 57 | P17: 0 | Q17: 0 | R17: 11 | S17: 4 | T17: 7 | U17: 0 | V17: 0 | W17: 102 | X17: 27 | Y17: 75 | Z17: 92 | AA17: 10 | AB17: 82 | AC17: 57 | AD17: 25 | AE17: 32 | AF17: 0 | AG17: 0 | AH17: 24 | AI17: 4 | AJ17: 20 | AK17: 0 | AL17: 0
A18: 彰化縣 | B18: Changhua County | C18: 1203 | D18: 187 | E18: 685 | F18: 6 | G18: 325 | H18: 49 | I18: 20 | J18: 29 | K18: 0 | L18: 0 | M18: 244 | N18: 10 | O18: 234 | P18: 0 | Q18: 0 | R18: 61 | S18: 11 | T18: 50 | U18: 0 | V18: 0 | W18: 360 | X18: 96 | Y18: 264 | Z18: 328 | AA18: 6 | AB18: 322 | AC18: 80 | AD18: 20 | AE18: 58 | AF18: 0 | AG18: 2 | AH18: 81 | AI18: 30 | AJ18: 50 | AK18: 0 | AL18: 1
... A30: 連江縣 | B30: Lienchiang County | C30: 31 | D30: 3 | E30: 28 | F30: 0 | G30: 0 | H30: 1 | I30: 0 | J30: 1 | K30: 0 | L30: 0 | M30: 8 | N30: 0 | O30: 8 | P30: 0 | Q30: 0 | R30: 2 | S30: 0 | T30: 2 | U30: 0 | V30: 0 | W30: 9 | X30: 1 | Y30: 8 | Z30: 0 | AA30: 0 | AB30: 0 | AC30: 0 | AD30: 0 | AE30: 0 | AF30: 0 | AG30: 0 | AH30: 11 | AI30: 2 | AJ30: 9 | AK30: 0 | AL30: 0
A31: 資料來源：衛生福利部社會及家庭署及直轄市、縣(市)政府。
A32: Source : Social and Family Affairs Administration, Mohw and County and City Government.

Sheet 111
A1: 老人長期照顧、安養機構工作人員 Number of Workers in Elderly Long-term Care, Nursing and Caring Institutions
A2: 111年底 End of 2022 | AL2: 單位：人
A3: 區域別 Locality | C3: 總計 Grand Total | H3: 院長(主任) Dean | M3: 護理人員 Nursing Staff | R3: 社會工作人員 Social Workers | W3: 照顧服務員 Care Attendants | Z3: 外籍看護工 Foreign Care Workers | AC3: 服務相關之專業人員 Service Related Professionals | AH3: 其他人員 Others
C4: 計 Total | D4: 本國籍 R.O.C. Citizens | F4: 外國籍 Aliens | H4: 計 Total | I4: 本國籍 R.O.C. Citizens | K4: 外國籍 Aliens | M4: 計 Total | N4: 本國籍 R.O.C. Citizens | P4: 外國籍 Aliens | R4: 計 Total | S4: 本國籍 R.O.C. Citizens | U4: 外國籍 Aliens | W4: 計 Total | X4: 本國籍 R.O.C. Citizens | Z4: 計 Total | AA4: 外國籍 Aliens | AC4: 計 Total | AD4: 本國籍 R.O.C. Citizens | AF4: 外國籍 Aliens | AH4: 計 Total | AI4: 本國籍 R.O.C. Citizens | AK4: 外國籍 Aliens
D5: 男 | E5: 女 | F5: 男 | G5: 女 | I5: 男 | J5: 女 | K5: 男 | L5: 女 | N5: 男 | O5: 女 | P5: 男 | Q5: 女 | S5: 男 | T5: 女 | U5: 男 | V5: 女 | X5: 男 | Y5: 女 | AA5: 男 | AB5: 女 | AD5: 男 | AE5: 女 | AF5: 男 | AG5: 女 | AI5: 男 | AJ5: 女 | AK5: 男 | AL5: 女
D6: Male | E6: Female | F6: Male | G6: Female | I6: Male | J6: Female | K6: Male | L6: Female | N6: Male | O6: Female | P6: Male | Q6: Female | S6: Male | T6: Female | U6: Male | V6: Female | X6: Male | Y6: Female | AA6: Male | AB6: Female | AD6: Male | AE6: Female | AF6: Male | AG6: Female | AI6: Male | AJ6: Female | AK6: Male | AL6: Female
A7: 總計 | B7: Total | C7: 28628 | D7: 5186 | E7: 17182 | F7: 125 | G7: 6135 | H7: 1059 | I7: 431 | J7: 628 | K7: 0 | L7: 0 | M7: 5396 | N7: 225 | O7: 5169 | P7: 1 | Q7: 1 | R7: 1302 | S7: 322 | T7: 978 | U7: 1 | V7: 1 | W7: 9485 | X7: 2255 | Y7: 7230 | Z7: 6225 | AA7: 118 | AB7: 6107 | AC7: 2284 | AD7: 945 | AE7: 1321 | AF7: 1 | AG7: 17 | AH7: 2877 | AI7: 1008 | AJ7: 1856 | AK7: 4 | AL7: 9
A8: 部直轄 | B8: Institution under Mohw | C8: 1822 | D8: 382 | E8: 1223 | F8: 16 | G8: 201 | H8: 25 | I8: 11 | J8: 14 | K8: 0 | L8: 0 | M8: 344 | N8: 19 | O8: 325 | P8: 0 | Q8: 0 | R8: 78 | S8: 20 | T8: 57 | U8: 0 | V8: 1 | W8: 721 | X8: 166 | Y8: 555 | Z8: 214 | AA8: 15 | AB8: 199 | AC8: 100 | AD8: 26 | AE8: 73 | AF8: 1 | AG8: 0 | AH8: 340 | AI8: 140 | AJ8: 199 | AK8: 0 | AL8: 1
A9: 新北市 | B9: New Taipei City | C9: 5447 | D9: 1017 | E9: 3212 | F9: 28 | G9: 1190 | H9: 211 | I9: 86 | J9: 125 | K9: 0 | L9: 0 | M9: 990 | N9: 45 | O9: 945 | P9: 0 | Q9: 0 | R9: 263 | S9: 87 | T9: 176 | U9: 0 | V9: 0 | W9: 1765 | X9: 403 | Y9: 1362 | Z9: 1218 | AA9: 28 | AB9: 1190 | AC9: 511 | AD9: 207 | AE9: 304 | AF9: 0 | AG9: 0 | AH9: 489 | AI9: 189 | AJ9: 300 | AK9: 0 | AL9: 0
A10: 臺北市 | B10: Taipei City | C10: 2771 | D10: 574 | E10: 1641 | F10: 9 | G10: 547 | H10: 97 | I10: 37 | J10: 60 | K10: 0 | L10: 0 | M10: 507 | N10: 23 | O10: 484 | P10: 0 | Q10: 0 | R10: 132 | S10: 32 | T10: 100 | U10: 0 | V10: 0 | W10: 878 | X10: 235 | Y10: 643 | Z10: 550 | AA10: 9 | AB10: 541 | AC10: 297 | AD10: 129 | AE10: 162 | AF10: 0 | AG10: 6 | AH10: 310 | AI10: 118 | AJ10: 192 | AK10: 0 | AL10: 0
A11: 桃園市 | B11: Taoyuan City | C11: 1510 | D11: 245 | E11: 862 | F11: 5 | G11: 398 | H11: 65 | I11: 29 | J11: 36 | K11: 0 | L11: 0 | M11: 299 | N11: 8 | O11: 291 | P11: 0 | Q11: 0 | R11: 76 | S11: 23 | T11: 53 | U11: 0 | V11: 0 | W11: 564 | X11: 154 | Y11: 410 | Z11: 403 | AA11: 5 | AB11: 398 | AC11: 27 | AD11: 10 | AE11: 17 | AF11: 0 | AG11: 0 | AH11: 76 | AI11: 21 | AJ11: 55 | AK11: 0 | AL11: 0
A12: 臺中市 | B12: Taichung City | C12: 1783 | D12: 315 | E12: 1071 | F12: 3 | G12: 394 | H12: 64 | I12: 27 | J12: 37 | K12: 0 | L12: 0 | M12: 360 | N12: 19 | O12: 341 | P12: 0 | Q12: 0 | R12: 79 | S12: 13 | T12: 66 | U12: 0 | V12: 0 | W12: 641 | X12: 160 | Y12: 481 | Z12: 397 | AA12: 3 | AB12: 394 | AC12: 118 | AD12: 52 | AE12: 66 | AF12: 0 | AG12: 0 | AH12: 124 | AI12: 44 | AJ12: 80 | AK12: 0 | AL12: 0
A13: 臺南市 | B13: Tainan City | C13: 2667 | D13: 497 | E13: 1600 | F13: 6 | G13: 564 | H13: 107 | I13: 35 | J13: 72 | K13: 0 | L13: 0 | M13: 511 | N13: 17 | O13: 494 | P13: 0 | Q13: 0 | R13: 117 | S13: 27 | T13: 90 | U13: 0 | V13: 0 | W13: 871 | X13: 217 | Y13: 654 | Z13: 557 | AA13: 3 | AB13: 554 | AC13: 292 | AD13: 124 | AE13: 158 | AF13: 0 | AG13: 10 | AH13: 212 | AI13: 77 | AJ13: 132 | AK13: 3 | AL13: 0
A14: 高雄市 | B14: Kaohsiung City | C14: 3804 | D14: 675 | E14: 2323 | F14: 14 | G14: 792 | H14: 152 | I14: 50 | J14: 102 | K14: 0 | L14: 0 | M14: 713 | N14: 29 | O14: 684 | P14: 0 | Q14: 0 | R14: 171 | S14: 36 | T14: 135 | U14: 0 | V14: 0 | W14: 1130 | X14: 253 | Y14: 877 | Z14: 804 | AA14: 13 | AB14: 791 | AC14: 363 | AD14: 157 | AE14: 206 | AF14: 0 | AG14: 0 | AH14: 471 | AI14: 150 | AJ14: 319 | AK14: 1 | AL14: 1
A15: 宜蘭縣 | B15: Yilan County | C15: 1183 | D15: 176 | E15: 706 | F15: 12 | G15: 289 | H15: 38 | I15: 14 | J15: 24 | K15: 0 | L15: 0 | M15: 226 | N15: 5 | O15: 221 | P15: 0 | Q15: 0 | R15: 51 | S15: 13 | T15: 38 | U15: 0 | V15: 0 | W15: 381 | X15: 73 | Y15: 308 | Z15: 299 | AA15: 12 | AB15: 287 | AC15: 58 | AD15: 24 | AE15: 34 | AF15: 0 | AG15: 0 | AH15: 130 | AI15: 47 | AJ15: 81 | AK15: 0 | AL15: 2
A16: 新竹縣 | B16: Hsinchu County | C16: 506 | D16: 83 | E16: 284 | F16: 5 | G16: 134 | H16: 18 | I16: 12 | J16: 6 | K16: 0 | L16: 0 | M16: 83 | N16: 2 | O16: 81 | P16: 0 | Q16: 0 | R16: 20 | S16: 3 | T16: 17 | U16: 0 | V16: 0 | W16: 183 | X16: 43 | Y16: 140 | Z16: 139 | AA16: 5 | AB16: 134 | AC16: 28 | AD16: 10 | AE16: 18 | AF16: 0 | AG16: 0 | AH16: 35 | AI16: 13 | AJ16: 22 | AK16: 0 | AL16: 0
A17: 苗栗縣 | B17: Miaoli County | C17: 345 | D17: 67 | E17: 197 | F17: 8 | G17: 73 | H17: 13 | I17: 4 | J17: 9 | K17: 0 | L17: 0 | M17: 58 | N17: 3 | O17: 55 | P17: 0 | Q17: 0 | R17: 10 | S17: 4 | T17: 6 | U17: 0 | V17: 0 | W17: 113 | X17: 29 | Y17: 84 | Z17: 81 | AA17: 8 | AB17: 73 | AC17: 50 | AD17: 23 | AE17: 27 | AF17: 0 | AG17: 0 | AH17: 20 | AI17: 4 | AJ17: 16 | AK17: 0 | AL17: 0
A18: 彰化縣 | B18: Changhua County | C18: 1176 | D18: 179 | E18: 702 | F18: 5 | G18: 290 | H18: 50 | I18: 21 | J18: 29 | K18: 0 | L18: 0 | M18: 232 | N18: 9 | O18: 223 | P18: 0 | Q18: 0 | R18: 50 | S18: 10 | T18: 40 | U18: 0 | V18: 0 | W18: 402 | X18: 102 | Y18: 300 | Z18: 294 | AA18: 5 | AB18: 289 | AC18: 56 | AD18: 13 | AE18: 43 | AF18: 0 | AG18: 0 | AH18: 92 | AI18: 24 | AJ18: 67 | AK18: 0 | AL18: 1
... A30: 連江縣 | B30: Lienchiang County | C30: 32 | D30: 3 | E30: 29 | F30: 0 | G30: 0 | H30: 1 | I30: 0 | J30: 1 | K30: 0 | L30: 0 | M30: 8 | N30: 0 | O30: 8 | P30: 0 | Q30: 0 | R30: 2 | S30: 0 | T30: 2 | U30: 0 | V30: 0 | W30: 10 | X30: 1 | Y30: 9 | Z30: 0 | AA30: 0 | AB30: 0 | AC30: 1 | AD30: 0 | AE30: 1 | AF30: 0 | AG30: 0 | AH30: 10 | AI30: 2 | AJ30: 8 | AK30: 0 | AL30: 0
A31: 資料來源：衛生福利部社會及家庭署及直轄市、縣(市)政府。
A32: Source : Social and Family Affairs Administration, Mohw and County and City Government.

Sheet 110
A1: 老人長期照顧、安養機構工作人員 Number of Workers in Elderly Long-term Care, Nursing and Caring Institutions
A2: 110年底 End of 2021 | AL2: 單位：人
A3: 區域別 Locality | C3: 總計 Grand Total | H3: 院長(主任) Dean | M3: 護理人員 Nursing Staff | R3: 社會工作人員 Social Workers | W3: 照顧服務員 Care Attendants | Z3: 外籍看護工 Foreign Care Workers | AC3: 服務相關之專業人員 Service Related Professionals | AH3: 其他人員 Others
C4: 計 Total | D4: 本國籍 R.O.C. Citizens | F4: 外國籍 Aliens | H4: 計 Total | I4: 本國籍 R.O.C. Citizens | K4: 外國籍 Aliens | M4: 計 Total | N4: 本國籍 R.O.C. Citizens | P4: 外國籍 Aliens | R4: 計 Total | S4: 本國籍 R.O.C. Citizens | U4: 外國籍 Aliens | W4: 計 Total | X4: 本國籍 R.O.C. Citizens | Z4: 計 Total | AA4: 外國籍 Aliens | AC4: 計 Total | AD4: 本國籍 R.O.C. Citizens | AF4: 外國籍 Aliens | AH4: 計 Total | AI4: 本國籍 R.O.C. Citizens | AK4: 外國籍 Aliens
D5: 男 | E5: 女 | F5: 男 | G5: 女 | I5: 男 | J5: 女 | K5: 男 | L5: 女 | N5: 男 | O5: 女 | P5: 男 | Q5: 女 | S5: 男 | T5: 女 | U5: 男 | V5: 女 | X5: 男 | Y5: 女 | AA5: 男 | AB5: 女 | AD5: 男 | AE5: 女 | AF5: 男 | AG5: 女 | AI5: 男 | AJ5: 女 | AK5: 男 | AL5: 女
D6: Male | E6: Female | F6: Male | G6: Female | I6: Male | J6: Female | K6: Male | L6: Female | N6: Male | O6: Female | P6: Male | Q6: Female | S6: Male | T6: Female | U6: Male | V6: Female | X6: Male | Y6: Female | AA6: Male | AB6: Female | AD6: Male | AE6: Female | AF6: Male | AG6: Female | AI6: Male | AJ6: Female | AK6: Male | AL6: Female
A7: 總計 | B7: Total | C7: 28628 | D7: 5043 | E7: 17523 | F7: 136 | G7: 5926 | H7: 1166 | I7: 449 | J7: 716 | K7: 0 | L7: 1 | M7: 5559 | N7: 214 | O7: 5343 | P7: 1 | Q7: 1 | R7: 1273 | S7: 300 | T7: 971 | U7: 1 | V7: 1 | W7: 9420 | X7: 2148 | Y7: 7272 | Z7: 6042 | AA7: 133 | AB7: 5909 | AC7: 2438 | AD7: 1028 | AE7: 1405 | AF7: 0 | AG7: 5 | AH7: 2730 | AI7: 904 | AJ7: 1816 | AK7: 1 | AL7: 9
A8: 部直轄 | B8: Institution under Mohw | C8: 1913 | D8: 398 | E8: 1301 | F8: 18 | G8: 196 | H8: 25 | I8: 11 | J8: 14 | K8: 0 | L8: 0 | M8: 339 | N8: 11 | O8: 328 | P8: 0 | Q8: 0 | R8: 81 | S8: 20 | T8: 60 | U8: 0 | V8: 1 | W8: 761 | X8: 178 | Y8: 583 | Z8: 213 | AA8: 18 | AB8: 195 | AC8: 85 | AD8: 28 | AE8: 57 | AF8: 0 | AG8: 0 | AH8: 409 | AI8: 150 | AJ8: 259 | AK8: 0 | AL8: 0
A9: 新北市 | B9: New Taipei City | C9: 5419 | D9: 945 | E9: 3271 | F9: 28 | G9: 1175 | H9: 210 | I9: 85 | J9: 125 | K9: 0 | L9: 0 | M9: 1087 | N9: 34 | O9: 1053 | P9: 0 | Q9: 0 | R9: 231 | S9: 70 | T9: 161 | U9: 0 | V9: 0 | W9: 1717 | X9: 364 | Y9: 1353 | Z9: 1200 | AA9: 28 | AB9: 1172 | AC9: 527 | AD9: 235 | AE9: 289 | AF9: 0 | AG9: 3 | AH9: 447 | AI9: 157 | AJ9: 290 | AK9: 0 | AL9: 0
A10: 臺北市 | B10: Taipei City | C10: 2672 | D10: 533 | E10: 1571 | F10: 12 | G10: 556 | H10: 96 | I10: 34 | J10: 62 | K10: 0 | L10: 0 | M10: 505 | N10: 23 | O10: 482 | P10: 0 | Q10: 0 | R10: 131 | S10: 32 | T10: 99 | U10: 0 | V10: 0 | W10: 850 | X10: 245 | Y10: 605 | Z10: 568 | AA10: 12 | AB10: 556 | AC10: 266 | AD10: 106 | AE10: 160 | AF10: 0 | AG10: 0 | AH10: 256 | AI10: 93 | AJ10: 163 | AK10: 0 | AL10: 0
A11: 桃園市 | B11: Taoyuan City | C11: 1433 | D11: 193 | E11: 830 | F11: 2 | G11: 408 | H11: 65 | I11: 29 | J11: 36 | K11: 0 | L11: 0 | M11: 287 | N11: 8 | O11: 279 | P11: 0 | Q11: 0 | R11: 60 | S11: 14 | T11: 46 | U11: 0 | V11: 0 | W11: 515 | X11: 112 | Y11: 403 | Z11: 410 | AA11: 2 | AB11: 408 | AC11: 35 | AD11: 12 | AE11: 23 | AF11: 0 | AG11: 0 | AH11: 61 | AI11: 18 | AJ11: 43 | AK11: 0 | AL11: 0
A12: 臺中市 | B12: Taichung City | C12: 1827 | D12: 330 | E12: 1131 | F12: 2 | G12: 364 | H12: 64 | I12: 23 | J12: 41 | K12: 0 | L12: 0 | M12: 344 | N12: 13 | O12: 331 | P12: 0 | Q12: 0 | R12: 72 | S12: 10 | T12: 62 | U12: 0 | V12: 0 | W12: 644 | X12: 148 | Y12: 496 | Z12: 366 | AA12: 2 | AB12: 364 | AC12: 258 | AD12: 118 | AE12: 140 | AF12: 0 | AG12: 0 | AH12: 79 | AI12: 18 | AJ12: 61 | AK12: 0 | AL12: 0
A13: 臺南市 | B13: Tainan City | C13: 2653 | D13: 483 | E13: 1659 | F13: 10 | G13: 501 | H13: 110 | I13: 37 | J13: 73 | K13: 0 | L13: 0 | M13: 519 | N13: 28 | O13: 491 | P13: 0 | Q13: 0 | R13: 127 | S13: 26 | T13: 101 | U13: 0 | V13: 0 | W13: 858 | X13: 190 | Y13: 668 | Z13: 510 | AA13: 10 | AB13: 500 | AC13: 274 | AD13: 120 | AE13: 154 | AF13: 0 | AG13: 0 | AH13: 255 | AI13: 82 | AJ13: 172 | AK13: 0 | AL13: 1
A14: 高雄市 | B14: Kaohsiung City | C14: 3704 | D14: 636 | E14: 2308 | F14: 16 | G14: 744 | H14: 156 | I14: 50 | J14: 106 | K14: 0 | L14: 0 | M14: 763 | N14: 32 | O14: 731 | P14: 0 | Q14: 0 | R14: 173 | S14: 34 | T14: 139 | U14: 0 | V14: 0 | W14: 1125 | X14: 245 | Y14: 880 | Z14: 759 | AA14: 16 | AB14: 743 | AC14: 355 | AD14: 158 | AE14: 197 | AF14: 0 | AG14: 0 | AH14: 373 | AI14: 117 | AJ14: 255 | AK14: 0 | AL14: 1
A15: 宜蘭縣 | B15: Yilan County | C15: 1164 | D15: 178 | E15: 706 | F15: 11 | G15: 269 | H15: 40 | I15: 13 | J15: 27 | K15: 0 | L15: 0 | M15: 225 | N15: 4 | O15: 221 | P15: 0 | Q15: 0 | R15: 53 | S15: 11 | T15: 42 | U15: 0 | V15: 0 | W15: 367 | X15: 74 | Y15: 293 | Z15: 277 | AA15: 11 | AB15: 266 | AC15: 57 | AD15: 22 | AE15: 35 | AF15: 0 | AG15: 0 | AH15: 145 | AI15: 54 | AJ15: 88 | AK15: 0 | AL15: 3
A16: 新竹縣 | B16: Hsinchu County | C16: 513 | D16: 100 | E16: 283 | F16: 6 | G16: 124 | H16: 19 | I16: 14 | J16: 5 | K16: 0 | L16: 0 | M16: 88 | N16: 3 | O16: 85 | P16: 0 | Q16: 0 | R16: 22 | S16: 6 | T16: 16 | U16: 0 | V16: 0 | W16: 191 | X16: 54 | Y16: 137 | Z16: 130 | AA16: 6 | AB16: 124 | AC16: 28 | AD16: 11 | AE16: 17 | AF16: 0 | AG16: 0 | AH16: 35 | AI16: 12 | AJ16: 23 | AK16: 0 | AL16: 0
A17: 苗栗縣 | B17: Miaoli County | C17: 378 | D17: 78 | E17: 216 | F17: 8 | G17: 76 | H17: 14 | I17: 3 | J17: 11 | K17: 0 | L17: 0 | M17: 62 | N17: 2 | O17: 60 | P17: 0 | Q17: 0 | R17: 17 | S17: 8 | T17: 9 | U17: 0 | V17: 0 | W17: 120 | X17: 32 | Y17: 88 | Z17: 84 | AA17: 8 | AB17: 76 | AC17: 49 | AD17: 26 | AE17: 23 | AF17: 0 | AG17: 0 | AH17: 32 | AI17: 7 | AJ17: 25 | AK17: 0 | AL17: 0
A18: 彰化縣 | B18: Changhua County | C18: 1241 | D18: 183 | E18: 752 | F18: 8 | G18: 298 | H18: 96 | I18: 33 | J18: 63 | K18: 0 | L18: 0 | M18: 241 | N18: 7 | O18: 234 | P18: 0 | Q18: 0 | R18: 53 | S18: 9 | T18: 44 | U18: 0 | V18: 0 | W18: 420 | X18: 100 | Y18: 320 | Z18: 303 | AA18: 7 | AB18: 296 | AC18: 73 | AD18: 14 | AE18: 58 | AF18: 0 | AG18: 1 | AH18: 55 | AI18: 20 | AJ18: 33 | AK18: 1 | AL18: 1
... A30: 連江縣 | B30: Lienchiang County | C30: 32 | D30: 4 | E30: 28 | F30: 0 | G30: 0 | H30: 1 | I30: 0 | J30: 1 | K30: 0 | L30: 0 | M30: 6 | N30: 0 | O30: 6 | P30: 0 | Q30: 0 | R30: 2 | S30: 0 | T30: 2 | U30: 0 | V30: 0 | W30: 11 | X30: 1 | Y30: 10 | Z30: 0 | AA30: 0 | AB30: 0 | AC30: 8 | AD30: 3 | AE30: 5 | AF30: 0 | AG30: 0 | AH30: 4 | AI30: 0 | AJ30: 4 | AK30: 0 | AL30: 0
A31: 資料來源：衛生福利部社會及家庭署及直轄市、縣(市)政府。
A32: Source : Social and Family Affairs Administration, Mohw and County and City Government.

Sheet 109
A1: 老人長期照顧、安養機構工作人員 Number of Workers in Elderly Long-term Care, Nursing and Caring Institutions
A2: 109年底 End of 2020 | AL2: 單位：人
A3: 區域別 Locality | C3: 總計 Grand Total | H3: 院長(主任) Dean | M3: 護理人員 Nursing Staff | R3: 社會工作人員 Social Workers | W3: 照顧服務員 Care Attendants | Z3: 外籍看護工 Foreign Care Workers | AC3: 服務相關之專業人員 Service Related Professionals | AH3: 其他人員 Others
C4: 計 Total | D4: 本國籍 R.O.C. Citizens | F4: 外國籍 Aliens | H4: 計 Total | I4: 本國籍 R.O.C. Citizens | K4: 外國籍 Aliens | M4: 計 Total | N4: 本國籍 R.O.C. Citizens | P4: 外國籍 Aliens | R4: 計 Total | S4: 本國籍 R.O.C. Citizens | U4: 外國籍 Aliens | W4: 計 Total | X4: 本國籍 R.O.C. Citizens | Z4: 計 Total | AA4: 外國籍 Aliens | AC4: 計 Total | AD4: 本國籍 R.O.C. Citizens | AF4: 外國籍 Aliens | AH4: 計 Total | AI4: 本國籍 R.O.C. Citizens | AK4: 外國籍 Aliens
D5: 男 | E5: 女 | F5: 男 | G5: 女 | I5: 男 | J5: 女 | K5: 男 | L5: 女 | N5: 男 | O5: 女 | P5: 男 | Q5: 女 | S5: 男 | T5: 女 | U5: 男 | V5: 女 | X5: 男 | Y5: 女 | AA5: 男 | AB5: 女 | AD5: 男 | AE5: 女 | AF5: 男 | AG5: 女 | AI5: 男 | AJ5: 女 | AK5: 男 | AL5: 女
D6: Male | E6: Female | F6: Male | G6: Female | I6: Male | J6: Female | K6: Male | L6: Female | N6: Male | O6: Female | P6: Male | Q6: Female | S6: Male | T6: Female | U6: Male | V6: Female | X6: Male | Y6: Female | AA6: Male | AB6: Female | AD6: Male | AE6: Female | AF6: Male | AG6: Female | AI6: Male | AJ6: Female | AK6: Male | AL6: Female
A7: 總計 | B7: Total | C7: 28434 | D7: 4774 | E7: 17153 | F7: 151 | G7: 6356 | H7: 1150 | I7: 451 | J7: 698 | K7: 0 | L7: 1 | M7: 5400 | N7: 198 | O7: 5201 | P7: 0 | Q7: 1 | R7: 1188 | S7: 288 | T7: 899 | U7: 0 | V7: 1 | W7: 9393 | X7: 2082 | Y7: 7311 | Z7: 6481 | AA7: 149 | AB7: 6332 | AC7: 2311 | AD7: 942 | AE7: 1365 | AF7: 1 | AG7: 3 | AH7: 2511 | AI7: 813 | AJ7: 1679 | AK7: 1 | AL7: 18
A8: 部直轄 | B8: Institution under Mohw | C8: 1955 | D8: 402 | E8: 1325 | F8: 19 | G8: 209 | H8: 25 | I8: 11 | J8: 14 | K8: 0 | L8: 0 | M8: 332 | N8: 26 | O8: 306 | P8: 0 | Q8: 0 | R8: 90 | S8: 19 | T8: 70 | U8: 0 | V8: 1 | W8: 775 | X8: 181 | Y8: 594 | Z8: 227 | AA8: 19 | AB8: 208 | AC8: 111 | AD8: 35 | AE8: 76 | AF8: 0 | AG8: 0 | AH8: 395 | AI8: 130 | AJ8: 265 | AK8: 0 | AL8: 0
A9: 新北市 | B9: New Taipei City | C9: 5369 | D9: 893 | E9: 3201 | F9: 41 | G9: 1234 | H9: 212 | I9: 88 | J9: 124 | K9: 0 | L9: 0 | M9: 1011 | N9: 22 | O9: 989 | P9: 0 | Q9: 0 | R9: 202 | S9: 55 | T9: 147 | U9: 0 | V9: 0 | W9: 1684 | X9: 346 | Y9: 1338 | Z9: 1272 | AA9: 41 | AB9: 1231 | AC9: 530 | AD9: 219 | AE9: 308 | AF9: 0 | AG9: 3 | AH9: 458 | AI9: 163 | AJ9: 295 | AK9: 0 | AL9: 0
A10: 臺北市 | B10: Taipei City | C10: 2840 | D10: 564 | E10: 1661 | F10: 12 | G10: 603 | H10: 103 | I10: 34 | J10: 69 | K10: 0 | L10: 0 | M10: 509 | N10: 32 | O10: 477 | P10: 0 | Q10: 0 | R10: 141 | S10: 36 | T10: 105 | U10: 0 | V10: 0 | W10: 923 | X10: 245 | Y10: 678 | Z10: 615 | AA10: 12 | AB10: 603 | AC10: 268 | AD10: 107 | AE10: 161 | AF10: 0 | AG10: 0 | AH10: 281 | AI10: 110 | AJ10: 171 | AK10: 0 | AL10: 0
A11: 桃園市 | B11: Taoyuan City | C11: 1441 | D11: 196 | E11: 828 | F11: 4 | G11: 413 | H11: 66 | I11: 30 | J11: 36 | K11: 0 | L11: 0 | M11: 288 | N11: 10 | O11: 278 | P11: 0 | Q11: 0 | R11: 61 | S11: 16 | T11: 45 | U11: 0 | V11: 0 | W11: 514 | X11: 111 | Y11: 403 | Z11: 417 | AA11: 4 | AB11: 413 | AC11: 37 | AD11: 12 | AE11: 25 | AF11: 0 | AG11: 0 | AH11: 58 | AI11: 17 | AJ11: 41 | AK11: 0 | AL11: 0
A12: 臺中市 | B12: Taichung City | C12: 1845 | D12: 337 | E12: 1103 | F12: 2 | G12: 403 | H12: 65 | I12: 27 | J12: 38 | K12: 0 | L12: 0 | M12: 339 | N12: 11 | O12: 328 | P12: 0 | Q12: 0 | R12: 71 | S12: 11 | T12: 60 | U12: 0 | V12: 0 | W12: 641 | X12: 156 | Y12: 485 | Z12: 405 | AA12: 2 | AB12: 403 | AC12: 246 | AD12: 108 | AE12: 138 | AF12: 0 | AG12: 0 | AH12: 78 | AI12: 24 | AJ12: 54 | AK12: 0 | AL12: 0
A13: 臺南市 | B13: Tainan City | C13: 2466 | D13: 405 | E13: 1522 | F13: 9 | G13: 530 | H13: 107 | I13: 36 | J13: 71 | K13: 0 | L13: 0 | M13: 489 | N13: 15 | O13: 474 | P13: 0 | Q13: 0 | R13: 112 | S13: 23 | T13: 89 | U13: 0 | V13: 0 | W13: 806 | X13: 180 | Y13: 626 | Z13: 533 | AA13: 8 | AB13: 525 | AC13: 227 | AD13: 94 | AE13: 133 | AF13: 0 | AG13: 0 | AH13: 192 | AI13: 57 | AJ13: 129 | AK13: 1 | AL13: 5
A14: 高雄市 | B14: Kaohsiung City | C14: 3553 | D14: 560 | E14: 2154 | F14: 17 | G14: 822 | H14: 158 | I14: 52 | J14: 106 | K14: 0 | L14: 0 | M14: 763 | N14: 27 | O14: 736 | P14: 0 | Q14: 0 | R14: 133 | S14: 34 | T14: 99 | U14: 0 | V14: 0 | W14: 1146 | X14: 254 | Y14: 892 | Z14: 839 | AA14: 17 | AB14: 822 | AC14: 249 | AD14: 108 | AE14: 141 | AF14: 0 | AG14: 0 | AH14: 265 | AI14: 85 | AJ14: 180 | AK14: 0 | AL14: 0
A15: 宜蘭縣 | B15: Yilan County | C15: 1154 | D15: 180 | E15: 684 | F15: 7 | G15: 283 | H15: 41 | I15: 16 | J15: 25 | K15: 0 | L15: 0 | M15: 215 | N15: 4 | O15: 211 | P15: 0 | Q15: 0 | R15: 50 | S15: 12 | T15: 38 | U15: 0 | V15: 0 | W15: 368 | X15: 70 | Y15: 298 | Z15: 286 | AA15: 7 | AB15: 279 | AC15: 84 | AD15: 42 | AE15: 42 | AF15: 0 | AG15: 0 | AH15: 110 | AI15: 36 | AJ15: 70 | AK15: 0 | AL15: 4
A16: 新竹縣 | B16: Hsinchu County | C16: 546 | D16: 99 | E16: 295 | F16: 6 | G16: 146 | H16: 18 | I16: 12 | J16: 6 | K16: 0 | L16: 0 | M16: 88 | N16: 2 | O16: 86 | P16: 0 | Q16: 0 | R16: 23 | S16: 6 | T16: 17 | U16: 0 | V16: 0 | W16: 190 | X16: 49 | Y16: 141 | Z16: 152 | AA16: 6 | AB16: 146 | AC16: 41 | AD16: 20 | AE16: 21 | AF16: 0 | AG16: 0 | AH16: 34 | AI16: 10 | AJ16: 24 | AK16: 0 | AL16: 0
A17: 苗栗縣 | B17: Miaoli County | C17: 372 | D17: 71 | E17: 214 | F17: 8 | G17: 79 | H17: 14 | I17: 4 | J17: 10 | K17: 0 | L17: 0 | M17: 62 | N17: 3 | O17: 59 | P17: 0 | Q17: 0 | R17: 12 | S17: 5 | T17: 7 | U17: 0 | V17: 0 | W17: 121 | X17: 28 | Y17: 93 | Z17: 87 | AA17: 8 | AB17: 79 | AC17: 43 | AD17: 23 | AE17: 20 | AF17: 0 | AG17: 0 | AH17: 33 | AI17: 8 | AJ17: 25 | AK17: 0 | AL17: 0
A18: 彰化縣 | B18: Changhua County | C18: 1209 | D18: 177 | E18: 715 | F18: 7 | G18: 310 | H18: 83 | I18: 28 | J18: 55 | K18: 0 | L18: 0 | M18: 230 | N18: 5 | O18: 225 | P18: 0 | Q18: 0 | R18: 55 | S18: 12 | T18: 43 | U18: 0 | V18: 0 | W18: 404 | X18: 100 | Y18: 304 | Z18: 317 | AA18: 7 | AB18: 310 | AC18: 67 | AD18: 16 | AE18: 51 | AF18: 0 | AG18: 0 | AH18: 53 | AI18: 16 | AJ18: 37 | AK18: 0 | AL18: 0
... A30: 連江縣 | B30: Lienchiang County | C30: 32 | D30: 5 | E30: 27 | F30: 0 | G30: 0 | H30: 1 | I30: 0 | J30: 1 | K30: 0 | L30: 0 | M30: 6 | N30: 1 | O30: 5 | P30: 0 | Q30: 0 | R30: 2 | S30: 0 | T30: 2 | U30: 0 | V30: 0 | W30: 11 | X30: 1 | Y30: 10 | Z30: 0 | AA30: 0 | AB30: 0 | AC30: 3 | AD30: 1 | AE30: 2 | AF30: 0 | AG30: 0 | AH30: 9 | AI30: 2 | AJ30: 7 | AK30: 0 | AL30: 0
A31: 資料來源：衛生福利部社會及家庭署及直轄市、縣(市)政府。
A32: Source : Social and Family Affairs Administration, Mohw and County and City Government.

Sheet 108
A1: 老人長期照顧、安養機構工作人員 Number of Workers in Elderly Long-term Care, Nursing and Caring Institutions
A2: 108年底 End of 2019 | AL2: 單位：人
A3: 區域別 Locality | C3: 總計 Grand Total | H3: 院長(主任) Dean | M3: 護理人員 Nursing Staff | R3: 社會工作人員 Social Workers | W3: 照顧服務員 Care Attendants | Z3: 外籍看護工 Foreign Care Workers | AC3: 服務相關之專業人員 Service Related Professionals | AH3: 其他人員 Others
C4: 計 Total | D4: 本國籍 R.O.C. Citizens | F4: 外國籍 Aliens | H4: 計 Total | I4: 本國籍 R.O.C. Citizens | K4: 外國籍 Aliens | M4: 計 Total | N4: 本國籍 R.O.C. Citizens | P4: 外國籍 Aliens | R4: 計 Total | S4: 本國籍 R.O.C. Citizens | U4: 外國籍 Aliens | W4: 計 Total | X4: 本國籍 R.O.C. Citizens | Z4: 計 Total | AA4: 外國籍 Aliens | AC4: 計 Total | AD4: 本國籍 R.O.C. Citizens | AF4: 外國籍 Aliens | AH4: 計 Total | AI4: 本國籍 R.O.C. Citizens | AK4: 外國籍 Aliens
D5: 男 | E5: 女 | F5: 男 | G5: 女 | I5: 男 | J5: 女 | K5: 男 | L5: 女 | N5: 男 | O5: 女 | P5: 男 | Q5: 女 | S5: 男 | T5: 女 | U5: 男 | V5: 女 | X5: 男 | Y5: 女 | AA5: 男 | AB5: 女 | AD5: 男 | AE5: 女 | AF5: 男 | AG5: 女 | AI5: 男 | AJ5: 女 | AK5: 男 | AL5: 女
D6: Male | E6: Female | F6: Male | G6: Female | I6: Male | J6: Female | K6: Male | L6: Female | N6: Male | O6: Female | P6: Male | Q6: Female | S6: Male | T6: Female | U6: Male | V6: Female | X6: Male | Y6: Female | AA6: Male | AB6: Female | AD6: Male | AE6: Female | AF6: Male | AG6: Female | AI6: Male | AJ6: Female | AK6: Male | AL6: Female
A7: 總計 | B7: Total | C7: 28286 | D7: 4548 | E7: 17143 | F7: 163 | G7: 6432 | H7: 1206 | I7: 472 | J7: 732 | K7: 0 | L7: 2 | M7: 5399 | N7: 141 | O7: 5257 | P7: 0 | Q7: 1 | R7: 1209 | S7: 294 | T7: 914 | U7: 0 | V7: 1 | W7: 9431 | X7: 2069 | Y7: 7362 | Z7: 6570 | AA7: 162 | AB7: 6408 | AC7: 2055 | AD7: 792 | AE7: 1260 | AF7: 0 | AG7: 3 | AH7: 2416 | AI7: 780 | AJ7: 1618 | AK7: 1 | AL7: 17
A8: 部直轄 | B8: Institution under Mohw | C8: 2095 | D8: 445 | E8: 1426 | F8: 18 | G8: 206 | H8: 32 | I8: 15 | J8: 17 | K8: 0 | L8: 0 | M8: 371 | N8: 10 | O8: 361 | P8: 0 | Q8: 0 | R8: 100 | S8: 22 | T8: 77 | U8: 0 | V8: 1 | W8: 839 | X8: 216 | Y8: 623 | Z8: 223 | AA8: 18 | AB8: 205 | AC8: 118 | AD8: 38 | AE8: 80 | AF8: 0 | AG8: 0 | AH8: 412 | AI8: 144 | AJ8: 268 | AK8: 0 | AL8: 0
A9: 新北市 | B9: New Taipei City | C9: 5424 | D9: 913 | E9: 3254 | F9: 41 | G9: 1216 | H9: 215 | I9: 88 | J9: 127 | K9: 0 | L9: 0 | M9: 1027 | N9: 20 | O9: 1007 | P9: 0 | Q9: 0 | R9: 236 | S9: 67 | T9: 169 | U9: 0 | V9: 0 | W9: 1720 | X9: 365 | Y9: 1355 | Z9: 1257 | AA9: 41 | AB9: 1216 | AC9: 524 | AD9: 217 | AE9: 307 | AF9: 0 | AG9: 0 | AH9: 445 | AI9: 156 | AJ9: 289 | AK9: 0 | AL9: 0
A10: 臺北市 | B10: Taipei City | C10: 2913 | D10: 526 | E10: 1745 | F10: 14 | G10: 628 | H10: 106 | I10: 34 | J10: 72 | K10: 0 | L10: 0 | M10: 528 | N10: 22 | O10: 506 | P10: 0 | Q10: 0 | R10: 152 | S10: 32 | T10: 120 | U10: 0 | V10: 0 | W10: 971 | X10: 244 | Y10: 727 | Z10: 642 | AA10: 14 | AB10: 628 | AC10: 241 | AD10: 95 | AE10: 146 | AF10: 0 | AG10: 0 | AH10: 273 | AI10: 99 | AJ10: 174 | AK10: 0 | AL10: 0
A11: 桃園市 | B11: Taoyuan City | C11: 1411 | D11: 192 | E11: 809 | F11: 4 | G11: 406 | H11: 65 | I11: 32 | J11: 33 | K11: 0 | L11: 0 | M11: 275 | N11: 8 | O11: 267 | P11: 0 | Q11: 0 | R11: 52 | S11: 15 | T11: 37 | U11: 0 | V11: 0 | W11: 521 | X11: 109 | Y11: 412 | Z11: 410 | AA11: 4 | AB11: 406 | AC11: 32 | AD11: 10 | AE11: 22 | AF11: 0 | AG11: 0 | AH11: 56 | AI11: 18 | AJ11: 38 | AK11: 0 | AL11: 0
A12: 臺中市 | B12: Taichung City | C12: 1663 | D12: 234 | E12: 1020 | F12: 5 | G12: 404 | H12: 65 | I12: 30 | J12: 35 | K12: 0 | L12: 0 | M12: 316 | N12: 10 | O12: 306 | P12: 0 | Q12: 0 | R12: 62 | S12: 11 | T12: 51 | U12: 0 | V12: 0 | W12: 617 | X12: 128 | Y12: 489 | Z12: 403 | AA12: 5 | AB12: 398 | AC12: 65 | AD12: 17 | AE12: 48 | AF12: 0 | AG12: 0 | AH12: 135 | AI12: 38 | AJ12: 91 | AK12: 0 | AL12: 6
A13: 臺南市 | B13: Tainan City | C13: 2428 | D13: 357 | E13: 1518 | F13: 13 | G13: 540 | H13: 108 | I13: 37 | J13: 71 | K13: 0 | L13: 0 | M13: 481 | N13: 11 | O13: 470 | P13: 0 | Q13: 0 | R13: 106 | S13: 19 | T13: 87 | U13: 0 | V13: 0 | W13: 788 | X13: 168 | Y13: 620 | Z13: 552 | AA13: 12 | AB13: 540 | AC13: 220 | AD13: 71 | AE13: 149 | AF13: 0 | AG13: 0 | AH13: 173 | AI13: 51 | AJ13: 121 | AK13: 1 | AL13: 0
A14: 高雄市 | B14: Kaohsiung City | C14: 3530 | D14: 544 | E14: 2129 | F14: 19 | G14: 838 | H14: 161 | I14: 55 | J14: 106 | K14: 0 | L14: 0 | M14: 742 | N14: 15 | O14: 727 | P14: 0 | Q14: 0 | R14: 143 | S14: 45 | T14: 98 | U14: 0 | V14: 0 | W14: 1119 | X14: 243 | Y14: 876 | Z14: 855 | AA14: 19 | AB14: 836 | AC14: 255 | AD14: 106 | AE14: 147 | AF14: 0 | AG14: 2 | AH14: 255 | AI14: 80 | AJ14: 175 | AK14: 0 | AL14: 0
A15: 宜蘭縣 | B15: Yilan County | C15: 1173 | D15: 164 | E15: 703 | F15: 9 | G15: 297 | H15: 43 | I15: 17 | J15: 26 | K15: 0 | L15: 0 | M15: 225 | N15: 3 | O15: 222 | P15: 0 | Q15: 0 | R15: 44 | S15: 10 | T15: 34 | U15: 0 | V15: 0 | W15: 365 | X15: 67 | Y15: 298 | Z15: 302 | AA15: 9 | AB15: 293 | AC15: 83 | AD15: 34 | AE15: 49 | AF15: 0 | AG15: 0 | AH15: 111 | AI15: 33 | AJ15: 74 | AK15: 0 | AL15: 4
A16: 新竹縣 | B16: Hsinchu County | C16: 532 | D16: 89 | E16: 285 | F16: 5 | G16: 153 | H16: 41 | I16: 18 | J16: 23 | K16: 0 | L16: 0 | M16: 95 | N16: 2 | O16: 93 | P16: 0 | Q16: 0 | R16: 20 | S16: 5 | T16: 15 | U16: 0 | V16: 0 | W16: 189 | X16: 51 | Y16: 138 | Z16: 158 | AA16: 5 | AB16: 153 | AC16: 11 | AD16: 2 | AE16: 9 | AF16: 0 | AG16: 0 | AH16: 18 | AI16: 11 | AJ16: 7 | AK16: 0 | AL16: 0
A17: 苗栗縣 | B17: Miaoli County | C17: 391 | D17: 67 | E17: 235 | F17: 9 | G17: 80 | H17: 14 | I17: 3 | J17: 11 | K17: 0 | L17: 0 | M17: 61 | N17: 2 | O17: 59 | P17: 0 | Q17: 0 | R17: 13 | S17: 3 | T17: 10 | U17: 0 | V17: 0 | W17: 114 | X17: 20 | Y17: 94 | Z17: 89 | AA17: 9 | AB17: 80 | AC17: 53 | AD17: 23 | AE17: 30 | AF17: 0 | AG17: 0 | AH17: 47 | AI17: 16 | AJ17: 31 | AK17: 0 | AL17: 0
A18: 彰化縣 | B18: Changhua County | C18: 1199 | D18: 179 | E18: 704 | F18: 6 | G18: 310 | H18: 88 | I18: 30 | J18: 58 | K18: 0 | L18: 0 | M18: 229 | N18: 4 | O18: 225 | P18: 0 | Q18: 0 | R18: 54 | S18: 11 | T18: 43 | U18: 0 | V18: 0 | W18: 393 | X18: 102 | Y18: 291 | Z18: 316 | AA18: 6 | AB18: 310 | AC18: 68 | AD18: 16 | AE18: 52 | AF18: 0 | AG18: 0 | AH18: 51 | AI18: 16 | AJ18: 35 | AK18: 0 | AL18: 0
... A30: 連江縣 | B30: Lienchiang County | C30: 25 | D30: 3 | E30: 22 | F30: 0 | G30: 0 | H30: 1 | I30: 0 | J30: 1 | K30: 0 | L30: 0 | M30: 5 | N30: 0 | O30: 5 | P30: 0 | Q30: 0 | R30: 1 | S30: 0 | T30: 1 | U30: 0 | V30: 0 | W30: 9 | X30: 1 | Y30: 8 | Z30: 0 | AA30: 0 | AB30: 0 | AC30: 3 | AD30: 1 | AE30: 2 | AF30: 0 | AG30: 0 | AH30: 6 | AI30: 1 | AJ30: 5 | AK30: 0 | AL30: 0
A31: 資料來源：衛生福利部社會及家庭署及直轄市、縣(市)政府。
A32: Source : Social and Family Affairs Administration, Mohw and County and City Government.

Sheet 107
A1: 老人長期照顧、安養機構工作人員 Number of Workers in Elderly Long-term Care, Nursing and Caring Institutions
A2: 107年底 End of 2018 | AL2: 單位：人
A3: 區域別 Locality | C3: 總計 Grand Total | H3: 院長(主任) Dean | M3: 護理人員 Nursing Staff | R3: 社會工作人員 Social Workers | W3: 照顧服務員 Care Attendants | Z3: 外籍看護工 Foreign Care Workers | AC3: 服務相關之專業人員 Service Related Professionals | AH3: 其他人員 Others
C4: 計 Total | D4: 本國籍 R.O.C. Citizens | F4: 外國籍 Aliens | H4: 計 Total | I4: 本國籍 R.O.C. Citizens | K4: 外國籍 Aliens | M4: 計 Total | N4: 本國籍 R.O.C. Citizens | P4: 外國籍 Aliens | R4: 計 Total | S4: 本國籍 R.O.C. Citizens | U4: 外國籍 Aliens | W4: 計 Total | X4: 本國籍 R.O.C. Citizens | Z4: 計 Total | AA4: 外國籍 Aliens | AC4: 計 Total | AD4: 本國籍 R.O.C. Citizens | AF4: 外國籍 Aliens | AH4: 計 Total | AI4: 本國籍 R.O.C. Citizens | AK4: 外國籍 Aliens
D5: 男 | E5: 女 | F5: 男 | G5: 女 | I5: 男 | J5: 女 | K5: 男 | L5: 女 | N5: 男 | O5: 女 | P5: 男 | Q5: 女 | S5: 男 | T5: 女 | U5: 男 | V5: 女 | X5: 男 | Y5: 女 | AA5: 男 | AB5: 女 | AD5: 男 | AE5: 女 | AF5: 男 | AG5: 女 | AI5: 男 | AJ5: 女 | AK5: 男 | AL5: 女
D6: Male | E6: Female | F6: Male | G6: Female | I6: Male | J6: Female | K6: Male | L6: Female | N6: Male | O6: Female | P6: Male | Q6: Female | S6: Male | T6: Female | U6: Male | V6: Female | X6: Male | Y6: Female | AA6: Male | AB6: Female | AD6: Male | AE6: Female | AF6: Male | AG6: Female | AI6: Male | AJ6: Female | AK6: Male | AL6: Female
A7: 總計 | B7: Total | C7: 27424 | D7: 4305 | E7: 16639 | F7: 163 | G7: 6317 | H7: 1252 | I7: 475 | J7: 764 | K7: 10 | L7: 3 | M7: 5286 | N7: 130 | O7: 5155 | P7: 0 | Q7: 1 | R7: 1185 | S7: 276 | T7: 907 | U7: 0 | V7: 2 | W7: 9303 | X7: 2065 | Y7: 7238 | Z7: 6427 | AA7: 152 | AB7: 6275 | AC7: 1902 | AD7: 664 | AE7: 1220 | AF7: 1 | AG7: 17 | AH7: 2069 | AI7: 695 | AJ7: 1355 | AK7: 0 | AL7: 19
A8: 部直轄 | B8: Institution under Mohw | C8: 2087 | D8: 463 | E8: 1396 | F8: 16 | G8: 212 | H8: 32 | I8: 14 | J8: 18 | K8: 0 | L8: 0 | M8: 357 | N8: 11 | O8: 346 | P8: 0 | Q8: 0 | R8: 96 | S8: 18 | T8: 77 | U8: 0 | V8: 1 | W8: 829 | X8: 226 | Y8: 603 | Z8: 227 | AA8: 16 | AB8: 211 | AC8: 122 | AD8: 35 | AE8: 87 | AF8: 0 | AG8: 0 | AH8: 424 | AI8: 159 | AJ8: 265 | AK8: 0 | AL8: 0
A9: 新北市 | B9: New Taipei City | C9: 4680 | D9: 664 | E9: 2824 | F9: 33 | G9: 1159 | H9: 208 | I9: 85 | J9: 123 | K9: 0 | L9: 0 | M9: 973 | N9: 15 | O9: 958 | P9: 0 | Q9: 0 | R9: 201 | S9: 51 | T9: 150 | U9: 0 | V9: 0 | W9: 1638 | X9: 364 | Y9: 1274 | Z9: 1192 | AA9: 33 | AB9: 1159 | AC9: 234 | AD9: 65 | AE9: 169 | AF9: 0 | AG9: 0 | AH9: 234 | AI9: 84 | AJ9: 150 | AK9: 0 | AL9: 0
A10: 臺北市 | B10: Taipei City | C10: 2883 | D10: 515 | E10: 1725 | F10: 15 | G10: 628 | H10: 108 | I10: 35 | J10: 73 | K10: 0 | L10: 0 | M10: 534 | N10: 19 | O10: 515 | P10: 0 | Q10: 0 | R10: 150 | S10: 33 | T10: 117 | U10: 0 | V10: 0 | W10: 981 | X10: 251 | Y10: 730 | Z10: 643 | AA10: 15 | AB10: 628 | AC10: 228 | AD10: 98 | AE10: 130 | AF10: 0 | AG10: 0 | AH10: 239 | AI10: 79 | AJ10: 160 | AK10: 0 | AL10: 0
A11: 桃園市 | B11: Taoyuan City | C11: 1382 | D11: 183 | E11: 798 | F11: 4 | G11: 397 | H11: 65 | I11: 29 | J11: 36 | K11: 0 | L11: 0 | M11: 276 | N11: 6 | O11: 270 | P11: 0 | Q11: 0 | R11: 51 | S11: 11 | T11: 40 | U11: 0 | V11: 0 | W11: 501 | X11: 107 | Y11: 394 | Z11: 401 | AA11: 4 | AB11: 397 | AC11: 30 | AD11: 11 | AE11: 19 | AF11: 0 | AG11: 0 | AH11: 58 | AI11: 19 | AJ11: 39 | AK11: 0 | AL11: 0
A12: 臺中市 | B12: Taichung City | C12: 1671 | D12: 239 | E12: 1026 | F12: 5 | G12: 401 | H12: 68 | I12: 25 | J12: 43 | K12: 0 | L12: 0 | M12: 317 | N12: 7 | O12: 310 | P12: 0 | Q12: 0 | R12: 64 | S12: 13 | T12: 51 | U12: 0 | V12: 0 | W12: 623 | X12: 138 | Y12: 485 | Z12: 400 | AA12: 5 | AB12: 395 | AC12: 199 | AD12: 56 | AE12: 137 | AF12: 0 | AG12: 6 | AH12: 0 | AI12: 0 | AJ12: 0 | AK12: 0 | AL12: 0
A13: 臺南市 | B13: Tainan City | C13: 2444 | D13: 386 | E13: 1514 | F13: 7 | G13: 537 | H13: 108 | I13: 38 | J13: 70 | K13: 0 | L13: 0 | M13: 468 | N13: 8 | O13: 460 | P13: 0 | Q13: 0 | R13: 114 | S13: 18 | T13: 96 | U13: 0 | V13: 0 | W13: 770 | X13: 183 | Y13: 587 | Z13: 544 | AA13: 7 | AB13: 537 | AC13: 208 | AD13: 71 | AE13: 137 | AF13: 0 | AG13: 0 | AH13: 232 | AI13: 68 | AJ13: 164 | AK13: 0 | AL13: 0
A14: 高雄市 | B14: Kaohsiung City | C14: 3521 | D14: 543 | E14: 2137 | F14: 35 | G14: 806 | H14: 169 | I14: 57 | J14: 102 | K14: 10 | L14: 0 | M14: 729 | N14: 12 | O14: 717 | P14: 0 | Q14: 0 | R14: 136 | S14: 38 | T14: 97 | U14: 0 | V14: 1 | W14: 1133 | X14: 251 | Y14: 882 | Z14: 824 | AA14: 25 | AB14: 799 | AC14: 276 | AD14: 102 | AE14: 170 | AF14: 0 | AG14: 4 | AH14: 254 | AI14: 83 | AJ14: 169 | AK14: 0 | AL14: 2
A15: 宜蘭縣 | B15: Yilan County | C15: 1161 | D15: 171 | E15: 679 | F15: 10 | G15: 301 | H15: 45 | I15: 19 | J15: 25 | K15: 0 | L15: 1 | M15: 219 | N15: 3 | O15: 216 | P15: 0 | Q15: 0 | R15: 52 | S15: 11 | T15: 41 | U15: 0 | V15: 0 | W15: 383 | X15: 74 | Y15: 309 | Z15: 307 | AA15: 10 | AB15: 297 | AC15: 71 | AD15: 33 | AE15: 38 | AF15: 0 | AG15: 0 | AH15: 84 | AI15: 31 | AJ15: 50 | AK15: 0 | AL15: 3
A16: 新竹縣 | B16: Hsinchu County | C16: 577 | D16: 85 | E16: 325 | F16: 4 | G16: 163 | H16: 45 | I16: 20 | J16: 25 | K16: 0 | L16: 0 | M16: 97 | N16: 2 | O16: 95 | P16: 0 | Q16: 0 | R16: 24 | S16: 5 | T16: 19 | U16: 0 | V16: 0 | W16: 210 | X16: 48 | Y16: 162 | Z16: 167 | AA16: 4 | AB16: 163 | AC16: 16 | AD16: 4 | AE16: 12 | AF16: 0 | AG16: 0 | AH16: 18 | AI16: 6 | AJ16: 12 | AK16: 0 | AL16: 0
