Workbook

Sheet 歷年
A1: 老人長期照顧、安養機構工作人員 Number of Workers in Elderly Long-term Care, Nursing and Caring Institutions
A2: 單位：人 Unit : Persons
A3: 年底別 End of Year | C3: 總計 Grand Total | F3: 業務負責人 Dean | I3: 行政人員(含主任) Administrators | L3: 護理人員 Nursing Staff | O3: 社會工作人員 Social Workers | R3: 服務人員 Serviceman | AE3: 其他人員 Others | AH3: 本國籍 R.O.C. Citizens | AJ3: 外國籍 Aliens
R4: 合計 Total | U4: 照顧服務員 Care Attendants | AB4: 服務相關之專業人員 Service Related Professionals
X5: 本國籍 R.O.C. Citizens | Z5: 外籍看護工 Foreign Care Workers
C6: 計 | D6: 男 | E6: 女 | F6: 計 | G6: 男 | H6: 女 | I6: 計 | J6: 男 | K6: 女 | L6: 計 | M6: 男 | N6: 女 | O6: 計 | P6: 男 | Q6: 女 | R6: 計 | S6: 男 | T6: 女 | U6: 計 | V6: 男 | W6: 女 | X6: 男 | Y6: 女 | Z6: 男 | AA6: 女 | AB6: 計 | AC6: 男 | AD6: 女 | AE6: 計 | AF6: 男 | AG6: 女 | AH6: 男 | AI6: 女 | AJ6: 男 | AK6: 女
C7: Total | D7: Male | E7: Female | F7: Total | G7: Male | H7: Female | I7: Total | J7: Male | K7: Female | L7: Total | M7: Male | N7: Female | O7: Total | P7: Male | Q7: Female | R7: Total | S7: Male | T7: Female | U7: Total | V7: Male | W7: Female | X7: Male | Y7: Female | Z7: Male | AA7: Female | AB7: Total | AC7: Male | AD7: Female | AE7: Total | AF7: Male | AG7: Female | AH7: Male | AI7: Female | AJ7: Male | AK7: Female
A8: 91年底 End of 2002 | C8: ='91'!C6 -> 10380 | D8: ='91'!D6 -> 1860 | E8: ='91'!E6 -> 8520 | F8: … | G8: … | H8: … | I8: ='91'!F6 -> 1561 | J8: ='91'!G6 -> 625 | K8: ='91'!H6 -> 936 | L8: ='91'!I6 -> 1871 | M8: ='91'!J6 -> 19 | N8: ='91'!K6 -> 1852 | O8: ='91'!L6 -> 202 | P8: ='91'!M6 -> 57 | ... T8: ='91'!Q6 -> 4668 | U8: … | V8: … | W8: … | X8: … | Y8: … | Z8: … | AA8: … | AB8: … | AC8: … | AD8: … | AE8: ='91'!R6 -> 1455 | AF8: ='91'!S6 -> 536 | AG8: ='91'!T6 -> 919 | AH8: ='91'!$U$6 -> 8692 | AJ8: ='91'!$V$6 -> 1688
A9: 92年底 End of 2003 | C9: ='92'!C6 -> 11355 | D9: ='92'!D6 -> 1951 | E9: ='92'!E6 -> 9404 | F9: … | G9: … | H9: … | I9: ='92'!F6 -> 1650 | J9: ='92'!G6 -> 633 | K9: ='92'!H6 -> 1017 | L9: ='92'!I6 -> 2004 | M9: ='92'!J6 -> 24 | N9: ='92'!K6 -> 1980 | O9: ='92'!L6 -> 217 | P9: ='92'!M6 -> 61 | ... T9: ='92'!Q6 -> 5266 | U9: … | V9: … | W9: … | X9: … | Y9: … | Z9: … | AA9: … | AB9: … | AC9: … | AD9: … | AE9: ='92'!R6 -> 1529 | AF9: ='92'!S6 -> 544 | AG9: ='92'!T6 -> 985 | AH9: ='92'!$U$6 -> 9462 | AJ9: ='92'!$V$6 -> 1893
A10: 93年底 End of 2004 | C10: ='93'!C6 -> 12689 | D10: ='93'!D6 -> 2061 | E10: ='93'!E6 -> 10628 | F10: … | G10: … | H10: … | I10: ='93'!F6 -> 1805 | J10: ='93'!G6 -> 676 | K10: ='93'!H6 -> 1129 | L10: ='93'!I6 -> 2216 | M10: ='93'!J6 -> 13 | N10: ='93'!K6 -> 2203 | O10: ='93'!L6 -> 303 | P10: ='93'!M6 -> 89 | ... T10: ='93'!Q6 -> 5902 | U10: … | V10: … | W10: … | X10: … | Y10: … | Z10: … | AA10: … | AB10: … | AC10: … | AD10: … | AE10: ='93'!R6 -> 1716 | AF10: ='93'!S6 -> 536 | AG10: ='93'!T6 -> 1180 | AH10: ='93'!$U$6 -> 10317 | AJ10: ='93'!$V$6 -> 2372
A11: 94年底 End of 2005 | C11: ='94'!C6 -> 13538 | D11: ='94'!D6 -> 2139 | E11: ='94'!E6 -> 11399 | F11: … | G11: … | H11: … | I11: ='94'!F6 -> 1842 | J11: ='94'!G6 -> 673 | K11: ='94'!H6 -> 1169 | L11: ='94'!I6 -> 2429 | M11: ='94'!J6 -> 17 | N11: ='94'!K6 -> 2412 | O11: ='94'!L6 -> 336 | P11: ='94'!M6 -> 90 | ... T11: ='94'!Q6 -> 6368 | U11: … | V11: … | W11: … | X11: … | Y11: … | Z11: … | AA11: … | AB11: … | AC11: … | AD11: … | AE11: ='94'!R6 -> 1762 | AF11: ='94'!S6 -> 558 | AG11: ='94'!T6 -> 1204 | AH11: ='94'!$U$6 -> 10848 | AJ11: ='94'!$V$6 -> 2690
A12: 95年底 End of 2006 | C12: ='95'!C6 -> 14919 | D12: ='95'!D6 -> 2310 | E12: ='95'!E6 -> 12609 | F12: … | G12: … | H12: … | I12: ='95'!F6 -> 1862 | J12: ='95'!G6 -> 670 | K12: ='95'!H6 -> 1192 | L12: ='95'!I6 -> 2632 | M12: ='95'!J6 -> 18 | N12: ='95'!K6 -> 2614 | O12: ='95'!L6 -> 390 | P12: ='95'!M6 -> 88 | ... T12: ='95'!Q6 -> 7124 | U12: … | V12: … | W12: … | X12: … | Y12: … | Z12: … | AA12: … | AB12: … | AC12: … | AD12: … | AE12: ='95'!R6 -> 1960 | AF12: ='95'!S6 -> 583 | AG12: ='95'!T6 -> 1377 | AH12: ='95'!$U$6 -> 11832 | AJ12: ='95'!$V$6 -> 3087
A13: 96年底 End of 2007 | C13: ='96'!C6 -> 16909 | D13: ='96'!D6 -> 2819 | E13: ='96'!E6 -> 14090 | F13: … | G13: … | H13: … | I13: ='96'!F6 -> 2024 | J13: ='96'!G6 -> 728 | K13: ='96'!H6 -> 1296 | L13: ='96'!I6 -> 3036 | M13: ='96'!J6 -> 36 | N13: ='96'!K6 -> 3000 | O13: ='96'!L6 -> 536 | P13: ='96'!M6 -> 143 | ... T13: ='96'!Q6 -> 7791 | U13: … | V13: … | W13: … | X13: … | Y13: … | Z13: … | AA13: … | AB13: … | AC13: … | AD13: … | AE13: ='96'!R6 -> 2355 | AF13: ='96'!S6 -> 745 | AG13: ='96'!T6 -> 1610 | AH13: ='96'!$U$6 -> 13689 | AJ13: ='96'!$V$6 -> 3220
A14: 97年底 End of 2008 | C14: ='97'!C6 -> 17633 | D14: ='97'!D6 -> 2486 | E14: ='97'!E6 -> 15147 | F14: … | G14: … | H14: … | I14: ='97'!F6 -> 2010 | J14: ='97'!G6 -> 705 | K14: ='97'!H6 -> 1305 | L14: ='97'!I6 -> 3205 | M14: ='97'!J6 -> 14 | N14: ='97'!K6 -> 3191 | O14: ='97'!L6 -> 550 | P14: ='97'!M6 -> 118 | ... T14: ='97'!Q6 -> 8811 | U14: … | V14: … | W14: … | X14: … | Y14: … | Z14: … | AA14: … | AB14: … | AC14: … | AD14: … | AE14: ='97'!R6 -> 1965 | AF14: ='97'!S6 -> 557 | AG14: ='97'!T6 -> 1408 | AH14: ='97'!$U$6 -> 13769 | AJ14: ='97'!$V$6 -> 3864
A15: 98年底 End of 2009 | C15: ='98'!C6 -> 18904 | D15: ='98'!D6 -> 2667 | E15: ='98'!E6 -> 16237 | F15: … | G15: … | H15: … | I15: ='98'!F6 -> 2098 | J15: ='98'!G6 -> 728 | K15: ='98'!H6 -> 1370 | L15: ='98'!I6 -> 3535 | M15: ='98'!J6 -> 15 | N15: ='98'!K6 -> 3520 | O15: ='98'!L6 -> 662 | P15: ='98'!M6 -> 152 | ... T15: ='98'!Q6 -> 9484 | U15: … | V15: … | W15: … | X15: … | Y15: … | Z15: … | AA15: … | AB15: … | AC15: … | AD15: … | AE15: ='98'!R6 -> 1902 | AF15: ='98'!S6 -> 549 | AG15: ='98'!T6 -> 1353 | AH15: ='98'!U6 -> 2540 | AI15: ='98'!V6 -> 12546 | AJ15: ='98'!W6 -> 127 | AK15: ='98'!X6 -> 3691
A16: 99年底 End of 2010 | C16: ='99'!C6 -> 19664 | D16: ='99'!D6 -> 2832 | E16: ='99'!E6 -> 16832 | F16: … | G16: … | H16: … | I16: ='99'!F6 -> 2094 | J16: ='99'!G6 -> 707 | K16: ='99'!H6 -> 1387 | L16: ='99'!I6 -> 3771 | M16: ='99'!J6 -> 21 | N16: ='99'!K6 -> 3750 | O16: ='99'!L6 -> 755 | P16: ='99'!M6 -> 160 | ... T16: ='99'!Q6 -> 9683 | U16: … | V16: … | W16: … | X16: … | Y16: … | Z16: … | AA16: … | AB16: … | AC16: … | AD16: … | AE16: ='99'!R6 -> 2003 | AF16: ='99'!S6 -> 586 | AG16: ='99'!T6 -> 1417 | AH16: ='99'!U6 -> 2704 | AI16: ='99'!V6 -> 12978 | AJ16: ='99'!W6 -> 128 | AK16: ='99'!X6 -> 3854
A17: 100年底 End of 2011 | C17: ='100'!C7 -> 20936 | D17: ='100'!D7 -> 3139 | E17: ='100'!E7 -> 17797 | F17: … | G17: … | H17: … | I17: ='100'!F7 -> 2133 | J17: ='100'!G7 -> 726 | K17: ='100'!H7 -> 1407 | L17: ='100'!I7 -> 3981 | M17: ='100'!J7 -> 23 | N17: ='100'!K7 -> 3958 | O17: ='100'!L7 -> 857 | P17: ='100'!M7 -> 185 | ... W17: ='100'!T7 -> 10105 | X17: … | Y17: … | Z17: … | AA17: … | AB17: ='100'!U7 -> 663 | AC17: ='100'!V7 -> 214 | AD17: ='100'!W7 -> 449 | AE17: ='100'!X7 -> 1753 | AF17: ='100'!Y7 -> 547 | AG17: ='100'!Z7 -> 1206 | AH17: ='100'!AA7 -> 3017 | AI17: ='100'!AB7 -> 13714 | ... AK17: ='100'!AD7 -> 4083
A18: 101年底 End of 2012 | C18: 21506 | D18: 3297 | E18: 18209 | F18: … | G18: … | H18: … | I18: 2016 | J18: 704 | K18: 1312 | L18: 4198 | M18: 32 | N18: 4166 | O18: 931 | P18: 214 | Q18: 717 | R18: 12711 | S18: 1832 | T18: 10879 | U18: 11961 | V18: 1595 | W18: 10366 | X18: … | Y18: … | Z18: … | AA18: … | AB18: 750 | AC18: 237 | AD18: 513 | AE18: 1650 | AF18: 515 | AG18: 1135 | AH18: 3166 | AI18: 13943 | AJ18: 131 | AK18: 4266
A19: 102年底 End of 2013 | C19: 21996 | D19: 3324 | E19: 18672 | F19: … | G19: … | H19: … | I19: 2011 | J19: 720 | K19: 1291 | L19: 4360 | M19: 45 | N19: 4315 | O19: 950 | P19: 193 | Q19: 757 | R19: 13069 | S19: 1865 | T19: 11204 | U19: 12242 | V19: 1603 | W19: 10639 | X19: … | Y19: … | Z19: … | AA19: … | AB19: 827 | AC19: 262 | AD19: 565 | AE19: 1606 | AF19: 501 | AG19: 1105 | AH19: 3203 | AI19: 14132 | AJ19: 121 | AK19: 4540
A20: 103年底End of 2014 | C20: ='103'!$C$8 -> 23572 | D20: ='103'!$D$8+'103'!$F$8 -> 3695 | E20: ='103'!$E$8+'103'!$G$8 -> 19877 | F20: … | G20: … | H20: … | I20: ='103'!$H$8 -> 2067 | J20: ='103'!$I$8+'103'!$K$8 -> 745 | K20: ='103'!$J$8+'103'!$L$8 -> 1322 | L20: ='103'!$M$8 -> 4533 | M20: ='103'!$N$8+'103'!$P$8 -> 59 | N20: ='103'!$O$8+'103'!$Q$8 -> 4474 | O20: ='103'!$R$8 -> 1092 | P20: ='103'!$S$8+'103'!$U$8 -> 236 | Q20: ='103'!$T$8+'103'!$V$8 -> 856 | R20: =U20+AB20 -> 14522 | S20: =V20+AC20 -> 2155 | T20: =W20+AD20 -> 12367 | U20: ='103'!AB8 -> 13343 | V20: ='103'!AC8+'103'!AE8 -> 1791 | W20: ='103'!AD8+'103'!AF8 -> 11552 | X20: … | Y20: … | Z20: … | AA20: … | AB20: ='103'!AG8 -> 1179 | AC20: ='103'!AH8+'103'!AJ8 -> 364 | AD20: ='103'!AI8+'103'!AK8 -> 815 | AE20: ='103'!AL8 -> 1358 | AF20: ='103'!AM8+'103'!AO8 -> 500 | AG20: ='103'!AN8+'103'!AP8 -> 858 | AH20: ='103'!D8 -> 3562 | AI20: ='103'!E8 -> 14814 | AJ20: ='103'!F8 -> 133 | AK20: ='103'!G8 -> 5063
A21: 104年底 End of 2015 | C21: ='104'!C7 -> 24093 | D21: ='104'!D7+'104'!F7 -> 3731 | E21: ='104'!E7+'104'!G7 -> 20362 | F21: ='104'!H7 -> 1503 | G21: ='104'!I7+'104'!K7 -> 562 | H21: ='104'!J7+'104'!L7 -> 941 | I21: … | J21: … | K21: … | L21: ='104'!M7 -> 4645 | M21: ='104'!N7+'104'!P7 -> 52 | N21: ='104'!O7+'104'!Q7 -> 4593 | O21: ='104'!R7 -> 1147 | P21: ='104'!S7+'104'!U7 -> 267 | Q21: ='104'!T7+'104'!V7 -> 880 | R21: =SUM(S21:T21) -> 15097 | S21: =V21+AC21 -> 2229 | T21: =W21+AD21 -> 12868 | U21: =SUM(V21:W21) -> 13806 | V21: =X21+Z21 -> 1834 | W21: =Y21+AA21 -> 11972 | X21: 1689 | Y21: 6668 | Z21: 145 | AA21: 5304 | AB21: ='104'!AC7 -> 1291 | AC21: ='104'!AD7+'104'!AF7 -> 395 | AD21: ='104'!AE7+'104'!AG7 -> 896 | AE21: ='104'!AH7 -> 1701 | AF21: ='104'!AI7+'104'!AK7 -> 621 | AG21: ='104'!AJ7+'104'!AL7 -> 1080 | AH21: ='104'!D7 -> 3585 | AI21: ='104'!E7 -> 14993 | AJ21: ='104'!F7 -> 146 | AK21: ='104'!G7 -> 5369
A22: 105年底 End of 2016 | C22: ='105'!C7 -> 25878 | D22: ='105'!D7+'105'!F7 -> 4377 | E22: ='105'!E7+'105'!G7 -> 21501 | F22: ='105'!H7 -> 1468 | G22: ='105'!I7+'105'!K7 -> 555 | H22: ='105'!J7+'105'!L7 -> 913 | I22: … | J22: … | K22: … | L22: ='105'!M7 -> 4977 | M22: ='105'!N7+'105'!P7 -> 73 | N22: ='105'!O7+'105'!Q7 -> 4904 | O22: ='105'!R7 -> 1241 | P22: ='105'!S7+'105'!U7 -> 335 | Q22: ='105'!T7+'105'!V7 -> 906 | R22: =SUM(S22:T22) -> 16236 | S22: =V22+AC22 -> 2676 | T22: =W22+AD22 -> 13560 | U22: =SUM(V22:W22) -> 14613 | V22: =X22+Z22 -> 2120 | W22: =Y22+AA22 -> 12493 | X22: 1944 | Y22: 6973 | Z22: 176 | AA22: 5520 | AB22: ='105'!AC7 -> 1623 | AC22: ='105'!AD7+'105'!AF7 -> 556 | AD22: ='105'!AE7+'105'!AG7 -> 1067 | AE22: ='105'!AH7 -> 1956 | AF22: ='105'!AI7+'105'!AK7 -> 738 | AG22: ='105'!AJ7+'105'!AL7 -> 1218 | AH22: ='104'!D8 -> 374 | AI22: ='104'!E8 -> 1240 | AJ22: ='104'!F8 -> 18 | AK22: ='104'!G8 -> 189
A23: 106年6月底 End of June, 2017 | AH23: ='104'!D9 -> 592 | AI23: ='104'!E9 -> 2579 | AJ23: ='104'!F9 -> 18 | AK23: ='104'!G9 -> 959
A24: 106年底 End of 2017 | C24: 26732 | D24: 4370 | E24: 22362 | F24: 1300 | G24: 510 | H24: 790 | I24: … | J24: … | K24: … | L24: 5210 | M24: 113 | N24: 5097 | O24: 1355 | P24: 351 | Q24: 1004 | R24: 16618 | S24: 2645 | T24: 13973 | U24: 15201 | V24: 2122 | W24: 13079 | X24: 1956 | Y24: 7269 | Z24: 166 | AA24: 5810 | AB24: 1417 | AC24: 523 | AD24: 894 | AE24: 2249 | AF24: 751 | AG24: 1498
A25: 107年底 End of 2018 | C25: 27424 | D25: 4468 | E25: 22956 | F25: 1252 | G25: 485 | H25: 767 | I25: … | J25: … | K25: … | L25: 5286 | M25: 130 | N25: 5156 | O25: 1185 | P25: 276 | Q25: 909 | R25: 17632 | S25: 2882 | T25: 14750 | U25: 15730 | V25: 2217 | W25: 13513 | X25: 2065 | Y25: 7238 | Z25: 152 | AA25: 6275 | AB25: 1902 | AC25: 665 | AD25: 1237 | AE25: 2069 | AF25: 695 | AG25: 1374
A26: 108年底 End of 2019 | C26: 28286 | D26: 4711 | E26: 23575 | F26: 1206 | G26: 472 | H26: 734 | I26: … | J26: … | K26: … | L26: 5399 | M26: 141 | N26: 5258 | O26: 1209 | P26: 294 | Q26: 915 | R26: 18056 | S26: 3023 | T26: 15033 | U26: 16001 | V26: 2231 | W26: 13770 | X26: 2069 | Y26: 7362 | Z26: 162 | AA26: 6408 | AB26: 2055 | AC26: 792 | AD26: 1263 | AE26: 2416 | AF26: 781 | AG26: 1635
A27: 109年底 End of 2020 | C27: 28434 | D27: 4925 | E27: 23509 | F27: 1150 | G27: 451 | H27: 699 | I27: … | J27: … | K27: … | L27: 5400 | M27: 198 | N27: 5202 | O27: 1188 | P27: 288 | Q27: 900 | R27: 18185 | S27: 3174 | T27: 15011 | U27: 15874 | V27: 2231 | W27: 13643 | X27: 2082 | Y27: 7311 | Z27: 149 | AA27: 6332 | AB27: 2311 | AC27: 943 | AD27: 1368 | AE27: 2511 | AF27: 814 | AG27: 1697
A28: 110年底 End of 2021 | C28: 28628 | D28: 5179 | E28: 23449 | F28: 1166 | G28: 449 | H28: 717 | I28: … | J28: … | K28: … | L28: 5559 | M28: 215 | N28: 5344 | O28: 1273 | P28: 301 | Q28: 972 | R28: 17900 | S28: 3309 | T28: 14591 | U28: 15462 | V28: 2281 | W28: 13181 | X28: 2148 | Y28: 7272 | Z28: 133 | AA28: 5909 | AB28: 2438 | AC28: 1028 | AD28: 1410 | AE28: 2730 | AF28: 905 | AG28: 1825
A29: 111年底 End of 2022 | C29: 28628 | D29: 5311 | E29: 23317 | F29: 1059 | G29: 431 | H29: 628 | I29: … | J29: … | K29: … | L29: 5396 | M29: 226 | N29: 5170 | O29: 1302 | P29: 323 | Q29: 979 | R29: 17994 | S29: 3319 | T29: 14675 | U29: 15710 | V29: 2373 | W29: 13337 | X29: 2255 | Y29: 7230 | Z29: 118 | AA29: 6107 | AB29: 2284 | AC29: 946 | AD29: 1338 | AE29: 2877 | AF29: 1012 | AG29: 1865
A30: 112年底 End of 2023 | C30: 29205 | D30: 5658 | E30: 23547 | F30: 1055 | G30: 417 | H30: 638 | I30: … | J30: … | K30: … | L30: 5410 | M30: 228 | N30: 5182 | O30: 1308 | P30: 313 | Q30: 995 | R30: 18752 | S30: 3659 | T30: 15093 | U30: 15709 | V30: 2289 | W30: 13420 | X30: 2152 | Y30: 6689 | Z30: 137 | AA30: 6731 | AB30: 3043 | AC30: 1370 | AD30: 1673 | AE30: 2680 | AF30: 1041 | AG30: 1639
A31: 113年底 End of 2024 | C31: 28739 | D31: 5492 | E31: 23247 | F31: 1043 | G31: 418 | H31: 625 | I31: 0 | J31: 0 | K31: 5364 | L31: 272 | M31: 5088 | N31: 2 | O31: 2 | P31: 1274 | Q31: 304 | R31: 969 | S31: 0 | T31: 1 | U31: 8386 | V31: 2059 | W31: 6327 | X31: 7195 | Y31: 148 | Z31: 7047 | AA31: 2911 | AB31: 1271 | AC31: 1633 | AD31: 5 | AE31: 2 | AF31: 2566 | AG31: 1009 | AH31: 1534 | AI31: 4 | AJ31: 19
A33: 資料來源：衛生福利部社會及家庭署及直轄市、縣(市)政府。
A34: Source : Social and Family Affairs Administration, Mohw and County and City Government.
A35: 說 明：1.自100年起服務人員區分為照顧服務員(含外籍看護工)、服務相關之專業人員統計。 2.原行政人員 (含主任) 自104年起改為僅填報院長(主任)。
A36: Note : 1.Service personnel divided into care attendants (Including foreign care workers), service related professionals since 2011. 2.Former administrator from 2015 years to only fill Dean (Director).

Sheet 113
A1: 老人長期照顧、安養機構工作人員 Number of Workers in Elderly Long-term Care, Nursing and Caring Institutions
A2: 113年底 End of 2024 | AL2: 單位：人
A3: 區域別 Locality | C3: 總計 Grand Total | H3: 院長(主任) Dean | M3: 護理人員 Nursing Staff | R3: 社會工作人員 Social Workers | W3: 照顧服務員 Care Attendants | Z3: 外籍看護工 Foreign Care Workers | AC3: 服務相關之專業人員 Service Related Professionals | AH3: 其他人員 Others
C4: 計 Total | D4: 本國籍 R.O.C. Citizens | F4: 外國籍 Aliens | H4: 計 Total | I4: 本國籍 R.O.C. Citizens | K4: 外國籍 Aliens | M4: 計 Total | N4: 本國籍 R.O.C. Citizens | P4: 外國籍 Aliens | R4: 計 Total | S4: 本國籍 R.O.C. Citizens | U4: 外國籍 Aliens | W4: 計 Total | X4: 本國籍 R.O.C. Citizens | Z4: 計 Total | AA4: 外國籍 Aliens | AC4: 計 Total | AD4: 本國籍 R.O.C. Citizens | AF4: 外國籍 Aliens | AH4: 計 Total | AI4: 本國籍 R.O.C. Citizens | AK4: 外國籍 Aliens
D5: 男 | E5: 女 | F5: 男 | G5: 女 | I5: 男 | J5: 女 | K5: 男 | L5: 女 | N5: 男 | O5: 女 | P5: 男 | Q5: 女 | S5: 男 | T5: 女 | U5: 男 | V5: 女 | X5: 男 | Y5: 女 | AA5: 男 | AB5: 女 | AD5: 男 | AE5: 女 | AF5: 男 | AG5: 女 | AI5: 男 | AJ5: 女 | AK5: 男 | AL5: 女
D6: Male | E6: Female | F6: Male | G6: Female | I6: Male | J6: Female | K6: Male | L6: Female | N6: Male | O6: Female | P6: Male | Q6: Female | S6: Male | T6: Female | U6: Male | V6: Female | X6: Male | Y6: Female | AA6: Male | AB6: Female | AD6: Male | AE6: Female | AF6: Male | AG6: Female | AI6: Male | AJ6: Female | AK6: Male | AL6: Female
A7: 總計 | B7: Total | C7: 28739 | D7: 5333 | E7: 16176 | F7: 159 | G7: 7071 | H7: 1043 | I7: 418 | J7: 625 | K7: 0 | L7: 0 | M7: 5364 | N7: 272 | O7: 5088 | P7: 2 | Q7: 2 | R7: 1274 | S7: 304 | T7: 969 | U7: 0 | V7: 1 | W7: 8386 | X7: 2059 | Y7: 6327 | Z7: 7195 | AA7: 148 | AB7: 7047 | AC7: 2911 | AD7: 1271 | AE7: 1633 | AF7: 5 | AG7: 2 | AH7: 2566 | AI7: 1009 | AJ7: 1534 | AK7: 4 | AL7: 19
A8: 部直轄 | B8: Institution under Mohw | C8: 1914 | D8: 433 | E8: 1212 | F8: 12 | G8: 257 | H8: 25 | I8: 10 | J8: 15 | K8: 0 | L8: 0 | M8: 346 | N8: 20 | O8: 325 | P8: 0 | Q8: 1 | R8: 75 | S8: 17 | T8: 57 | U8: 0 | V8: 1 | W8: 698 | X8: 175 | Y8: 523 | Z8: 267 | AA8: 12 | AB8: 255 | AC8: 114 | AD8: 34 | AE8: 80 | AF8: 0 | AG8: 0 | AH8: 389 | AI8: 177 | AJ8: 212 | AK8: 0 | AL8: 0
A9: 新北市 | B9: New Taipei City | C9: 5240 | D9: 967 | E9: 2894 | F9: 39 | G9: 1340 | H9: 208 | I9: 85 | J9: 123 | K9: 0 | L9: 0 | M9: 975 | N9: 35 | O9: 938 | P9: 2 | Q9: 0 | R9: 226 | S9: 84 | T9: 142 | U9: 0 | V9: 0 | W9: 1539 | X9: 376 | Y9: 1163 | Z9: 1368 | AA9: 34 | AB9: 1334 | AC9: 493 | AD9: 210 | AE9: 280 | AF9: 2 | AG9: 1 | AH9: 431 | AI9: 177 | AJ9: 248 | AK9: 1 | AL9: 5
A10: 臺北市 | B10: Taipei City | C10: 2727 | D10: 538 | E10: 1538 | F10: 13 | G10: 638 | H10: 94 | I10: 42 | J10: 52 | K10: 0 | L10: 0 | M10: 504 | N10: 26 | O10: 478 | P10: 0 | Q10: 0 | R10: 135 | S10: 30 | T10: 105 | U10: 0 | V10: 0 | W10: 768 | X10: 204 | Y10: 564 | Z10: 651 | AA10: 13 | AB10: 638 | AC10: 299 | AD10: 139 | AE10: 160 | AF10: 0 | AG10: 0 | AH10: 276 | AI10: 97 | AJ10: 179 | AK10: 0 | AL10: 0
A11: 桃園市 | B11: Taoyuan City | C11: 1784 | D11: 347 | E11: 947 | F11: 3 | G11: 487 | H11: 64 | I11: 26 | J11: 38 | K11: 0 | L11: 0 | M11: 312 | N11: 20 | O11: 292 | P11: 0 | Q11: 0 | R11: 77 | S11: 22 | T11: 55 | U11: 0 | V11: 0 | W11: 483 | X11: 120 | Y11: 363 | Z11: 490 | AA11: 3 | AB11: 487 | AC11: 301 | AD11: 143 | AE11: 158 | AF11: 0 | AG11: 0 | AH11: 57 | AI11: 16 | AJ11: 41 | AK11: 0 | AL11: 0
A12: 臺中市 | B12: Taichung City | C12: 1726 | D12: 310 | E12: 970 | F12: 4 | G12: 442 | H12: 63 | I12: 21 | J12: 42 | K12: 0 | L12: 0 | M12: 333 | N12: 23 | O12: 310 | P12: 0 | Q12: 0 | R12: 80 | S12: 16 | T12: 64 | U12: 0 | V12: 0 | W12: 513 | X12: 123 | Y12: 390 | Z12: 445 | AA12: 4 | AB12: 441 | AC12: 156 | AD12: 76 | AE12: 80 | AF12: 0 | AG12: 0 | AH12: 136 | AI12: 51 | AJ12: 84 | AK12: 0 | AL12: 1
A13: 臺南市 | B13: Tainan City | C13: 2486 | D13: 440 | E13: 1423 | F13: 6 | G13: 617 | H13: 106 | I13: 36 | J13: 70 | K13: 0 | L13: 0 | M13: 493 | N13: 27 | O13: 466 | P13: 0 | Q13: 0 | R13: 114 | S13: 26 | T13: 88 | U13: 0 | V13: 0 | W13: 837 | X13: 209 | Y13: 628 | Z13: 614 | AA13: 3 | AB13: 611 | AC13: 223 | AD13: 107 | AE13: 115 | AF13: 1 | AG13: 0 | AH13: 99 | AI13: 35 | AJ13: 56 | AK13: 2 | AL13: 6
A14: 高雄市 | B14: Kaohsiung City | C14: 4015 | D14: 799 | E14: 2241 | F14: 23 | G14: 952 | H14: 151 | I14: 47 | J14: 104 | K14: 0 | L14: 0 | M14: 716 | N14: 31 | O14: 685 | P14: 0 | Q14: 0 | R14: 168 | S14: 33 | T14: 135 | U14: 0 | V14: 0 | W14: 993 | X14: 238 | Y14: 755 | Z14: 972 | AA14: 21 | AB14: 951 | AC14: 522 | AD14: 238 | AE14: 283 | AF14: 1 | AG14: 0 | AH14: 493 | AI14: 212 | AJ14: 279 | AK14: 1 | AL14: 1
A15: 宜蘭縣 | B15: Yilan County | C15: 1149 | D15: 190 | E15: 643 | F15: 14 | G15: 302 | H15: 37 | I15: 13 | J15: 24 | K15: 0 | L15: 0 | M15: 208 | N15: 12 | O15: 196 | P15: 0 | Q15: 0 | R15: 49 | S15: 8 | T15: 41 | U15: 0 | V15: 0 | W15: 294 | X15: 63 | Y15: 231 | Z15: 315 | AA15: 14 | AB15: 301 | AC15: 145 | AD15: 66 | AE15: 79 | AF15: 0 | AG15: 0 | AH15: 101 | AI15: 28 | AJ15: 72 | AK15: 0 | AL15: 1
A16: 新竹縣 | B16: Hsinchu County | C16: 516 | D16: 84 | E16: 267 | F16: 11 | G16: 154 | H16: 19 | I16: 12 | J16: 7 | K16: 0 | L16: 0 | M16: 92 | N16: 4 | O16: 88 | P16: 0 | Q16: 0 | R16: 22 | S16: 4 | T16: 18 | U16: 0 | V16: 0 | W16: 159 | X16: 43 | Y16: 116 | Z16: 165 | AA16: 11 | AB16: 154 | AC16: 19 | AD16: 3 | AE16: 16 | AF16: 0 | AG16: 0 | AH16: 40 | AI16: 18 | AJ16: 22 | AK16: 0 | AL16: 0
A17: 苗栗縣 | B17: Miaoli County | C17: 385 | D17: 68 | E17: 221 | F17: 11 | G17: 85 | H17: 13 | I17: 6 | J17: 7 | K17: 0 | L17: 0 | M17: 59 | N17: 3 | O17: 56 | P17: 0 | Q17: 0 | R17: 17 | S17: 8 | T17: 9 | U17: 0 | V17: 0 | W17: 146 | X17: 34 | Y17: 112 | Z17: 96 | AA17: 11 | AB17: 85 | AC17: 37 | AD17: 12 | AE17: 25 | AF17: 0 | AG17: 0 | AH17: 17 | AI17: 5 | AJ17: 12 | AK17: 0 | AL17: 0
A18: 彰化縣 | B18: Changhua County | C18: 1156 | D18: 175 | E18: 651 | F18: 5 | G18: 325 | H18: 48 | I18: 18 | J18: 30 | K18: 0 | L18: 0 | M18: 238 | N18: 12 | O18: 226 | P18: 0 | Q18: 0 | R18: 53 | S18: 8 | T18: 45 | U18: 0 | V18: 0 | W18: 326 | X18: 88 | Y18: 238 | Z18: 327 | AA18: 5 | AB18: 322 | AC18: 82 | AD18: 20 | AE18: 61 | AF18: 0 | AG18: 1 | AH18: 82 | AI18: 29 | AJ18: 51 | AK18: 0 | AL18: 2
... A30: 連江縣 | B30: Lienchiang County | C30: 31 | D30: 5 | E30: 26 | F30: 0 | G30: 0 | H30: 1 | I30: 0 | J30: 1 | K30: 0 | L30: 0 | M30: 8 | N30: 0 | O30: 8 | P30: 0 | Q30: 0 | R30: 2 | S30: 0 | T30: 2 | U30: 0 | V30: 0 | W30: 10 | X30: 2 | Y30: 8 | Z30: 0 | AA30: 0 | AB30: 0 | AC30: 0 | AD30: 0 | AE30: 0 | AF30: 0 | AG30: 0 | AH30: 10 | AI30: 3 | AJ30: 7 | AK30: 0 | AL30: 0
A31: 資料來源：衛生福利部社會及家庭署及直轄市、縣(市)政府。
A32: Source : Social and Family Affairs Administration, Mohw and County and City Government.

Sheet 112
A1: 老人長期照顧、安養機構工作人員 Number of Workers in Elderly Long-term Care, Nursing and Caring Institutions
A2: 112年底 End of 2023 | AL2: 單位：人
A3: 區域別 Locality | C3: 總計 Grand Total | H3: 院長(主任) Dean | M3: 護理人員 Nursing Staff | R3: 社會工作人員 Social Workers | W3: 照顧服務員 Care Attendants | Z3: 外籍看護工 Foreign Care Workers | AC3: 服務相關之專業人員 Service Related Professionals | AH3: 其他人員 Others
C4: 計 Total | D4: 本國籍 R.O.C. Citizens | F4: 外國籍 Aliens | H4: 計 Total | I4: 本國籍 R.O.C. Citizens | K4: 外國籍 Aliens | M4: 計 Total | N4: 本國籍 R.O.C. Citizens | P4: 外國籍 Aliens | R4: 計 Total | S4: 本國籍 R.O.C. Citizens | U4: 外國籍 Aliens | W4: 計 Total | X4: 本國籍 R.O.C. Citizens | Z4: 計 Total | AA4: 外國籍 Aliens | AC4: 計 Total | AD4: 本國籍 R.O.C. Citizens | AF4: 外國籍 Aliens | AH4: 計 Total | AI4: 本國籍 R.O.C. Citizens | AK4: 外國籍 Aliens
D5: 男 | E5: 女 | F5: 男 | G5: 女 | I5: 男 | J5: 女 | K5: 男 | L5: 女 | N5: 男 | O5: 女 | P5: 男 | Q5: 女 | S5: 男 | T5: 女 | U5: 男 | V5: 女 | X5: 男 | Y5: 女 | AA5: 男 | AB5: 女 | AD5: 男 | AE5: 女 | AF5: 男 | AG5: 女 | AI5: 男 | AJ5: 女 | AK5: 男 | AL5: 女
D6: Male | E6: Female | F6: Male | G6: Female | I6: Male | J6: Female | K6: Male | L6: Female | N6: Male | O6: Female | P6: Male | Q6: Female | S6: Male | T6: Female | U6: Male | V6: Female | X6: Male | Y6: Female | AA6: Male | AB6: Female | AD6: Male | AE6: Female | AF6: Male | AG6: Female | AI6: Male | AJ6: Female | AK6: Male | AL6: Female
A7: 總計 | B7: Total | C7: 29205 | D7: 5516 | E7: 16795 | F7: 142 | G7: 6752 | H7: 1055 | I7: 417 | J7: 638 | K7: 0 | L7: 0 | M7: 5410 | N7: 227 | O7: 5181 | P7: 1 | Q7: 1 | R7: 1308 | S7: 313 | T7: 993 | U7: 0 | V7: 2 | W7: 8841 | X7: 2152 | Y7: 6689 | Z7: 6868 | AA7: 137 | AB7: 6731 | AC7: 3043 | AD7: 1367 | AE7: 1665 | AF7: 3 | AG7: 8 | AH7: 2680 | AI7: 1040 | AJ7: 1629 | AK7: 1 | AL7: 10
A8: 部直轄 | B8: Institution under Mohw | C8: 1892 | D8: 423 | E8: 1225 | F8: 11 | G8: 233 | H8: 25 | I8: 11 | J8: 14 | K8: 0 | L8: 0 | M8: 338 | N8: 18 | O8: 320 | P8: 0 | Q8: 0 | R8: 77 | S8: 18 | T8: 58 | U8: 0 | V8: 1 | W8: 717 | X8: 170 | Y8: 547 | Z8: 243 | AA8: 11 | AB8: 232 | AC8: 112 | AD8: 36 | AE8: 76 | AF8: 0 | AG8: 0 | AH8: 380 | AI8: 170 | AJ8: 210 | AK8: 0 | AL8: 0
A9: 新北市 | B9: New Taipei City | C9: 5473 | D9: 1060 | E9: 3064 | F9: 34 | G9: 1315 | H9: 209 | I9: 86 | J9: 123 | K9: 0 | L9: 0 | M9: 990 | N9: 35 | O9: 955 | P9: 0 | Q9: 0 | R9: 260 | S9: 87 | T9: 173 | U9: 0 | V9: 0 | W9: 1667 | X9: 411 | Y9: 1256 | Z9: 1349 | AA9: 34 | AB9: 1315 | AC9: 546 | AD9: 241 | AE9: 305 | AF9: 0 | AG9: 0 | AH9: 452 | AI9: 200 | AJ9: 252 | AK9: 0 | AL9: 0
A10: 臺北市 | B10: Taipei City | C10: 2800 | D10: 565 | E10: 1625 | F10: 8 | G10: 602 | H10: 96 | I10: 38 | J10: 58 | K10: 0 | L10: 0 | M10: 522 | N10: 27 | O10: 495 | P10: 0 | Q10: 0 | R10: 128 | S10: 30 | T10: 98 | U10: 0 | V10: 0 | W10: 817 | X10: 219 | Y10: 598 | Z10: 610 | AA10: 8 | AB10: 602 | AC10: 300 | AD10: 140 | AE10: 160 | AF10: 0 | AG10: 0 | AH10: 327 | AI10: 111 | AJ10: 216 | AK10: 0 | AL10: 0
A11: 桃園市 | B11: Taoyuan City | C11: 1776 | D11: 361 | E11: 945 | F11: 4 | G11: 466 | H11: 65 | I11: 25 | J11: 40 | K11: 0 | L11: 0 | M11: 296 | N11: 13 | O11: 283 | P11: 0 | Q11: 0 | R11: 76 | S11: 21 | T11: 55 | U11: 0 | V11: 0 | W11: 511 | X11: 137 | Y11: 374 | Z11: 470 | AA11: 4 | AB11: 466 | AC11: 295 | AD11: 142 | AE11: 153 | AF11: 0 | AG11: 0 | AH11: 63 | AI11: 23 | AJ11: 40 | AK11: 0 | AL11: 0
A12: 臺中市 | B12: Taichung City | C12: 1773 | D12: 309 | E12: 1028 | F12: 5 | G12: 431 | H12: 64 | I12: 21 | J12: 43 | K12: 0 | L12: 0 | M12: 348 | N12: 19 | O12: 329 | P12: 0 | Q12: 0 | R12: 80 | S12: 15 | T12: 65 | U12: 0 | V12: 0 | W12: 574 | X12: 136 | Y12: 438 | Z12: 436 | AA12: 5 | AB12: 431 | AC12: 158 | AD12: 78 | AE12: 80 | AF12: 0 | AG12: 0 | AH12: 113 | AI12: 40 | AJ12: 73 | AK12: 0 | AL12: 0
A13: 臺南市 | B13: Tainan City | C13: 2644 | D13: 544 | E13: 1506 | F13: 4 | G13: 590 | H13: 106 | I13: 34 | J13: 72 | K13: 0 | L13: 0 | M13: 492 | N13: 23 | O13: 469 | P13: 0 | Q13: 0 | R13: 120 | S13: 25 | T13: 95 | U13: 0 | V13: 0 | W13: 805 | X13: 200 | Y13: 605 | Z13: 592 | AA13: 3 | AB13: 589 | AC13: 342 | AD13: 184 | AE13: 157 | AF13: 1 | AG13: 0 | AH13: 187 | AI13: 78 | AJ13: 108 | AK13: 0 | AL13: 1
A14: 高雄市 | B14: Kaohsiung City | C14: 3969 | D14: 783 | E14: 2279 | F14: 19 | G14: 888 | H14: 153 | I14: 45 | J14: 108 | K14: 0 | L14: 0 | M14: 734 | N14: 22 | O14: 711 | P14: 1 | Q14: 0 | R14: 172 | S14: 39 | T14: 133 | U14: 0 | V14: 0 | W14: 1032 | X14: 249 | Y14: 783 | Z14: 902 | AA14: 17 | AB14: 885 | AC14: 519 | AD14: 249 | AE14: 269 | AF14: 0 | AG14: 1 | AH14: 457 | AI14: 179 | AJ14: 275 | AK14: 1 | AL14: 2
A15: 宜蘭縣 | B15: Yilan County | C15: 1234 | D15: 201 | E15: 711 | F15: 16 | G15: 306 | H15: 38 | I15: 17 | J15: 21 | K15: 0 | L15: 0 | M15: 218 | N15: 7 | O15: 211 | P15: 0 | Q15: 0 | R15: 47 | S15: 7 | T15: 40 | U15: 0 | V15: 0 | W15: 346 | X15: 68 | Y15: 278 | Z15: 319 | AA15: 16 | AB15: 303 | AC15: 139 | AD15: 53 | AE15: 85 | AF15: 0 | AG15: 1 | AH15: 127 | AI15: 49 | AJ15: 76 | AK15: 0 | AL15: 2
A16: 新竹縣 | B16: Hsinchu County | C16: 494 | D16: 75 | E16: 271 | F16: 6 | G16: 142 | H16: 19 | I16: 12 | J16: 7 | K16: 0 | L16: 0 | M16: 93 | N16: 3 | O16: 90 | P16: 0 | Q16: 0 | R16: 22 | S16: 4 | T16: 18 | U16: 0 | V16: 0 | W16: 164 | X16: 41 | Y16: 123 | Z16: 148 | AA16: 6 | AB16: 142 | AC16: 17 | AD16: 3 | AE16: 14 | AF16: 0 | AG16: 0 | AH16: 31 | AI16: 12 | AJ16: 19 | AK16: 0 | AL16: 0
A17: 苗栗縣 | B17: Miaoli County | C17: 359 | D17: 68 | E17: 199 | F17: 10 | G17: 82 | H17: 13 | I17: 5 | J17: 8 | K17: 0 | L17: 0 | M17: 60 | N17: 3 | O17: 57 | P17: 0 | Q17: 0 | R17: 11 | S17: 4 | T17: 7 | U17: 0 | V17: 0 | W17: 102 | X17: 27 | Y17: 75 | Z17: 92 | AA17: 10 | AB17: 82 | AC17: 57 | AD17: 25 | AE17: 32 | AF17: 0 | AG17: 0 | AH17: 24 | AI17: 4 | AJ17: 20 | AK17: 0 | AL17: 0
A18: 彰化縣 | B18: Changhua County | C18: 1203 | D18: 187 | E18: 685 | F18: 6 | G18: 325 | H18: 49 | I18: 20 | J18: 29 | K18: 0 | L18: 0 | M18: 244 | N18: 10 | O18: 234 | P18: 0 | Q18: 0 | R18: 61 | S18: 11 | T18: 50 | U18: 0 | V18: 0 | W18: 360 | X18: 96 | Y18: 264 | Z18: 328 | AA18: 6 | AB18: 322 | AC18: 80 | AD18: 20 | AE18: 58 | AF18: 0 | AG18: 2 | AH18: 81 | AI18: 30 | AJ18: 50 | AK18: 0 | AL18: 1
... A30: 連江縣 | B30: Lienchiang County | C30: 31 | D30: 3 | E30: 28 | F30: 0 | G30: 0 | H30: 1 | I30: 0 | J30: 1 | K30: 0 | L30: 0 | M30: 8 | N30: 0 | O30: 8 | P30: 0 | Q30: 0 | R30: 2 | S30: 0 | T30: 2 | U30: 0 | V30: 0 | W30: 9 | X30: 1 | Y30: 8 | Z30: 0 | AA30: 0 | AB30: 0 | AC30: 0 | AD30: 0 | AE30: 0 | AF30: 0 | AG30: 0 | AH30: 11 | AI30: 2 | AJ30: 9 | AK30: 0 | AL30: 0
A31: 資料來源：衛生福利部社會及家庭署及直轄市、縣(市)政府。
A32: Source : Social and Family Affairs Administration, Mohw and County and City Government.

Sheet 111
A1: 老人長期照顧、安養機構工作人員 Number of Workers in Elderly Long-term Care, Nursing and Caring Institutions
A2: 111年底 End of 2022 | AL2: 單位：人
A3: 區域別 Locality | C3: 總計 Grand Total | H3: 院長(主任) Dean | M3: 護理人員 Nursing Staff | R3: 社會工作人員 Social Workers | W3: 照顧服務員 Care Attendants | Z3: 外籍看護工 Foreign Care Workers | AC3: 服務相關之專業人員 Service Related Professionals | AH3: 其他人員 Others
C4: 計 Total | D4: 本國籍 R.O.C. Citizens | F4: 外國籍 Aliens | H4: 計 Total | I4: 本國籍 R.O.C. Citizens | K4: 外國籍 Aliens | M4: 計 Total | N4: 本國籍 R.O.C. Citizens | P4: 外國籍 Aliens | R4: 計 Total | S4: 本國籍 R.O.C. Citizens | U4: 外國籍 Aliens | W4: 計 Total | X4: 本國籍 R.O.C. Citizens | Z4: 計 Total | AA4: 外國籍 Aliens | AC4: 計 Total | AD4: 本國籍 R.O.C. Citizens | AF4: 外國籍 Aliens | AH4: 計 Total | AI4: 本國籍 R.O.C. Citizens | AK4: 外國籍 Aliens
D5: 男 | E5: 女 | F5: 男 | G5: 女 | I5: 男 | J5: 女 | K5: 男 | L5: 女 | N5: 男 | O5: 女 | P5: 男 | Q5: 女 | S5: 男 | T5: 女 | U5: 男 | V5: 女 | X5: 男 | Y5: 女 | AA5: 男 | AB5: 女 | AD5: 男 | AE5: 女 | AF5: 男 | AG5: 女 | AI5: 男 | AJ5: 女 | AK5: 男 | AL5: 女
D6: Male | E6: Female | F6: Male | G6: Female | I6: Male | J6: Female | K6: Male | L6: Female | N6: Male | O6: Female | P6: Male | Q6: Female | S6: Male | T6: Female | U6: Male | V6: Female | X6: Male | Y6: Female | AA6: Male | AB6: Female | AD6: Male | AE6: Female | AF6: Male | AG6: Female | AI6: Male | AJ6: Female | AK6: Male | AL6: Female
A7: 總計 | B7: Total | C7: 28628 | D7: 5186 | E7: 17182 | F7: 125 | G7: 6135 | H7: 1059 | I7: 431 | J7: 628 | K7: 0 | L7: 0 | M7: 5396 | N7: 225 | O7: 5169 | P7: 1 | Q7: 1 | R7: 1302 | S7: 322 | T7: 978 | U7: 1 | V7: 1 | W7: 9485 | X7: 2255 | Y7: 7230 | Z7: 6225 | AA7: 118 | AB7: 6107 | AC7: 2284 | AD7: 945 | AE7: 1321 | AF7: 1 | AG7: 17 | AH7: 2877 | AI7: 1008 | AJ7: 1856 | AK7: 4 | AL7: 9
A8: 部直轄 | B8: Institution under Mohw | C8: 1822 | D8: 382 | E8: 1223 | F8: 16 | G8: 201 | H8: 25 | I8: 11 | J8: 14 | K8: 0 | L8: 0 | M8: 344 | N8: 19 | O8: 325 | P8: 0 | Q8: 0 | R8: 78 | S8: 20 | T8: 57 | U8: 0 | V8: 1 | W8: 721 | X8: 166 | Y8: 555 | Z8: 214 | AA8: 15 | AB8: 199 | AC8: 100 | AD8: 26 | AE8: 73 | AF8: 1 | AG8: 0 | AH8: 340 | AI8: 140 | AJ8: 199 | AK8: 0 | AL8: 1
A9: 新北市 | B9: New Taipei City | C9: 5447 | D9: 1017 | E9: 3212 | F9: 28 | G9: 1190 | H9: 211 | I9: 86 | J9: 125 | K9: 0 | L9: 0 | M9: 990 | N9: 45 | O9: 945 | P9: 0 | Q9: 0 | R9: 263 | S9: 87 | T9: 176 | U9: 0 | V9: 0 | W9: 1765 | X9: 403 | Y9: 1362 | Z9: 1218 | AA9: 28 | AB9: 1190 | AC9: 511 | AD9: 207 | AE9: 304 | AF9: 0 | AG9: 0 | AH9: 489 | AI9: 189 | AJ9: 300 | AK9: 0 | AL9: 0
A10: 臺北市 | B10: Taipei City | C10: 2771 | D10: 574 | E10: 1641 | F10: 9 | G10: 547 | H10: 97 | I10: 37 | J10: 60 | K10: 0 | L10: 0 | M10: 507 | N10: 23 | O10: 484 | P10: 0 | Q10: 0 | R10: 132 | S10: 32 | T10: 100 | U10: 0 | V10: 0 | W10: 878 | X10: 235 | Y10: 643 | Z10: 550 | AA10: 9 | AB10: 541 | AC10: 297 | AD10: 129 | AE10: 162 | AF10: 0 | AG10: 6 | AH10: 310 | AI10: 118 | AJ10: 192 | AK10: 0 | AL10: 0
A11: 桃園市 | B11: Taoyuan City | C11: 1510 | D11: 245 | E11: 862 | F11: 5 | G11: 398 | H11: 65 | I11: 29 | J11: 36 | K11: 0 | L11: 0 | M11: 299 | N11: 8 | O11: 291 | P11: 0 | Q11: 0 | R11: 76 | S11: 23 | T11: 53 | U11: 0 | V11: 0 | W11: 564 | X11: 154 | Y11: 410 | Z11: 403 | AA11: 5 | AB11: 398 | AC11: 27 | AD11: 10 | AE11: 17 | AF11: 0 | AG11: 0 | AH11: 76 | AI11: 21 | AJ11: 55 | AK11: 0 | AL11: 0
A12: 臺中市 | B12: Taichung City | C12: 1783 | D12: 315 | E12: 1071 | F12: 3 | G12: 394 | H12: 64 | I12: 27 | J12: 37 | K12: 0 | L12: 0 | M12: 360 | N12: 19 | O12: 341 | P12: 0 | Q12: 0 | R12: 79 | S12: 13 | T12: 66 | U12: 0 | V12: 0 | W12: 641 | X12: 160 | Y12: 481 | Z12: 397 | AA12: 3 | AB12: 394 | AC12: 118 | AD12: 52 | AE12: 66 | AF12: 0 | AG12: 0 | AH12: 124 | AI12: 44 | AJ12: 80 | AK12: 0 | AL12: 0
A13: 臺南市 | B13: Tainan City | C13: 2667 | D13: 497 | E13: 1600 | F13: 6 | G13: 564 | H13: 107 | I13: 35 | J13: 72 | K13: 0 | L13: 0 | M13: 511 | N13: 17 | O13: 494 | P13: 0 | Q13: 0 | R13: 117 | S13: 27 | T13: 90 | U13: 0 | V13: 0 | W13: 871 | X13: 217 | Y13: 654 | Z13: 557 | AA13: 3 | AB13: 554 | AC13: 292 | AD13: 124 | AE13: 158 | AF13: 0 | AG13: 10 | AH13: 212 | AI13: 77 | AJ13: 132 | AK13: 3 | AL13: 0
A14: 高雄市 | B14: Kaohsiung City | C14: 3804 | D14: 675 | E14: 2323 | F14: 14 | G14: 792 | H14: 152 | I14: 50 | J14: 102 | K14: 0 | L14: 0 | M14: 713 | N14: 29 | O14: 684 | P14: 0 | Q14: 0 | R14: 171 | S14: 36 | T14: 135 | U14: 0 | V14: 0 | W14: 1130 | X14: 253 | Y14: 877 | Z14: 804 | AA14: 13 | AB14: 791 | AC14: 363 | AD14: 157 | AE14: 206 | AF14: 0 | AG14: 0 | AH14: 471 | AI14: 150 | AJ14: 319 | AK14: 1 | AL14: 1
A15: 宜蘭縣 | B15: Yilan County | C15: 1183 | D15: 176 | E15: 706 | F15: 12 | G15: 289 | H15: 38 | I15: 14 | J15: 24 | K15: 0 | L15: 0 | M15: 226 | N15: 5 | O15: 221 | P15: 0 | Q15: 0 | R15: 51 | S15: 13 | T15: 38 | U15: 0 | V15: 0 | W15: 381 | X15: 73 | Y15: 308 | Z15: 299 | AA15: 12 | AB15: 287 | AC15: 58 | AD15: 24 | AE15: 34 | AF15: 0 | AG15: 0 | AH15: 130 | AI15: 47 | AJ15: 81 | AK15: 0 | AL15: 2
A16: 新竹縣 | B16: Hsinchu County | C16: 506 | D16: 83 | E16: 284 | F16: 5 | G16: 134 | H16: 18 | I16: 12 | J16: 6 | K16: 0 | L16: 0 | M16: 83 | N16: 2 | O16: 81 | P16: 0 | Q16: 0 | R16: 20 | S16: 3 | T16: 17 | U16: 0 | V16: 0 | W16: 183 | X16: 43 | Y16: 140 | Z16: 139 | AA16: 5 | AB16: 134 | AC16: 28 | AD16: 10 | AE16: 18 | AF16: 0 | AG16: 0 | AH16: 35 | AI16: 13 | AJ16: 22 | AK16: 0 | AL16: 0
A17: 苗栗縣 | B17: Miaoli County | C17: 345 | D17: 67 | E17: 197 | F17: 8 | G17: 73 | H17: 13 | I17: 4 | J17: 9 | K17: 0 | L17: 0 | M17: 58 | N17: 3 | O17: 55 | P17: 0 | Q17: 0 | R17: 10 | S17: 4 | T17: 6 | U17: 0 | V17: 0 | W17: 113 | X17: 29 | Y17: 84 | Z17: 81 | AA17: 8 | AB17: 73 | AC17: 50 | AD17: 23 | AE17: 27 | AF17: 0 | AG17: 0 | AH17: 20 | AI17: 4 | AJ17: 16 | AK17: 0 | AL17: 0
A18: 彰化縣 | B18: Changhua County | C18: 1176 | D18: 179 | E18: 702 | F18: 5 | G18: 290 | H18: 50 | I18: 21 | J18: 29 | K18: 0 | L18: 0 | M18: 232 | N18: 9 | O18: 223 | P18: 0 | Q18: 0 | R18: 50 | S18: 10 | T18: 40 | U18: 0 | V18: 0 | W18: 402 | X18: 102 | Y18: 300 | Z18: 294 | AA18: 5 | AB18: 289 | AC18: 56 | AD18: 13 | AE18: 43 | AF18: 0 | AG18: 0 | AH18: 92 | AI18: 24 | AJ18: 67 | AK18: 0 | AL18: 1
... A30: 連江縣 | B30: Lienchiang County | C30: 32 | D30: 3 | E30: 29 | F30: 0 | G30: 0 | H30: 1 | I30: 0 | J30: 1 | K30: 0 | L30: 0 | M30: 8 | N30: 0 | O30: 8 | P30: 0 | Q30: 0 | R30: 2 | S30: 0 | T30: 2 | U30: 0 | V30: 0 | W30: 10 | X30: 1 | Y30: 9 | Z30: 0 | AA30: 0 | AB30: 0 | AC30: 1 | AD30: 0 | AE30: 1 | AF30: 0 | AG30: 0 | AH30: 10 | AI30: 2 | AJ30: 8 | AK30: 0 | AL30: 0
A31: 資料來源：衛生福利部社會及家庭署及直轄市、縣(市)政府。
A32: Source : Social and Family Affairs Administration, Mohw and County and City Government.

Sheet 110
A1: 老人長期照顧、安養機構工作人員 Number of Workers in Elderly Long-term Care, Nursing and Caring Institutions
A2: 110年底 End of 2021 | AL2: 單位：人
A3: 區域別 Locality | C3: 總計 Grand Total | H3: 院長(主任) Dean | M3: 護理人員 Nursing Staff | R3: 社會工作人員 Social Workers | W3: 照顧服務員 Care Attendants | Z3: 外籍看護工 Foreign Care Workers | AC3: 服務相關之專業人員 Service Related Professionals | AH3: 其他人員 Others
C4: 計 Total | D4: 本國籍 R.O.C. Citizens | F4: 外國籍 Aliens | H4: 計 Total | I4: 本國籍 R.O.C. Citizens | K4: 外國籍 Aliens | M4: 計 Total | N4: 本國籍 R.O.C. Citizens | P4: 外國籍 Aliens | R4: 計 Total | S4: 本國籍 R.O.C. Citizens | U4: 外國籍 Aliens | W4: 計 Total | X4: 本國籍 R.O.C. Citizens | Z4: 計 Total | AA4: 外國籍 Aliens | AC4: 計 Total | AD4: 本國籍 R.O.C. Citizens | AF4: 外國籍 Aliens | AH4: 計 Total | AI4: 本國籍 R.O.C. Citizens | AK4: 外國籍 Aliens
D5: 男 | E5: 女 | F5: 男 | G5: 女 | I5: 男 | J5: 女 | K5: 男 | L5: 女 | N5: 男 | O5: 女 | P5: 男 | Q5: 女 | S5: 男 | T5: 女 | U5: 男 | V5: 女 | X5: 男 | Y5: 女 | AA5: 男 | AB5: 女 | AD5: 男 | AE5: 女 | AF5: 男 | AG5: 女 | AI5: 男 | AJ5: 女 | AK5: 男 | AL5: 女
D6: Male | E6: Female | F6: Male | G6: Female | I6: Male | J6: Female | K6: Male | L6: Female | N6: Male | O6: Female | P6: Male | Q6: Female | S6: Male | T6: Female | U6: Male | V6: Female | X6: Male | Y6: Female | AA6: Male | AB6: Female | AD6: Male | AE6: Female | AF6: Male | AG6: Female | AI6: Male | AJ6: Female | AK6: Male | AL6: Female
A7: 總計 | B7: Total | C7: 28628 | D7: 5043 | E7: 17523 | F7: 136 | G7: 5926 | H7: 1166 | I7: 449 | J7: 716 | K7: 0 | L7: 1 | M7: 5559 | N7: 214 | O7: 5343 | P7: 1 | Q7: 1 | R7: 1273 | S7: 300 | T7: 971 | U7: 1 | V7: 1 | W7: 9420 | X7: 2148 | Y7: 7272 | Z7: 6042 | AA7: 133 | AB7: 5909 | AC7: 2438 | AD7: 1028 | AE7: 1405 | AF7: 0 | AG7: 5 | AH7: 2730 | AI7: 904 | AJ7: 1816 | AK7: 1 | AL7: 9
A8: 部直轄 | B8: Institution under Mohw | C8: 1913 | D8: 398 | E8: 1301 | F8: 18 | G8: 196 | H8: 25 | I8: 11 | J8: 14 | K8: 0 | L8: 0 | M8: 339 | N8: 11 | O8: 328 | P8: 0 | Q8: 0 | R8: 81 | S8: 20 | T8: 60 | U8: 0 | V8: 1 | W8: 761 | X8: 178 | Y8: 583 | Z8: 213 | AA8: 18 | AB8: 195 | AC8: 85 | AD8: 28 | AE8: 57 | AF8: 0 | AG8: 0 | AH8: 409 | AI8: 150 | AJ8: 259 | AK8: 0 | AL8: 0
A9: 新北市 | B9: New Taipei City | C9: 5419 | D9: 945 | E9: 3271 | F9: 28 | G9: 1175 | H9: 210 | I9: 85 | J9: 125 | K9: 0 | L9: 0 | M9: 1087 | N9: 34 | O9: 1053 | P9: 0 | Q9: 0 | R9: 231 | S9: 70 | T9: 161 | U9: 0 | V9: 0 | W9: 1717 | X9: 364 | Y9: 1353 | Z9: 1200 | AA9: 28 | AB9: 1172 | AC9: 527 | AD9: 235 | AE9: 289 | AF9: 0 | AG9: 3 | AH9: 447 | AI9: 157 | AJ9: 290 | AK9: 0 | AL9: 0
A10: 臺北市 | B10: Taipei City | C10: 2672 | D10: 533 | E10: 1571 | F10: 12 | G10: 556 | H10: 96 | I10: 34 | J10: 62 | K10: 0 | L10: 0 | M10: 505 | N10: 23 | O10: 482 | P10: 0 | Q10: 0 | R10: 131 | S10: 32 | T10: 99 | U10: 0 | V10: 0 | W10: 850 | X10: 245 | Y10: 605 | Z10: 568 | AA10: 12 | AB10: 556 | AC10: 266 | AD10: 106 | AE10: 160 | AF10: 0 | AG10: 0 | AH10: 256 | AI10: 93 | AJ10: 163 | AK10: 0 | AL10: 0
A11: 桃園市 | B11: Taoyuan City | C11: 1433 | D11: 193 | E11: 830 | F11: 2 | G11: 408 | H11: 65 | I11: 29 | J11: 36 | K11: 0 | L11: 0 | M11: 287 | N11: 8 | O11: 279 | P11: 0 | Q11: 0 | R11: 60 | S11: 14 | T11: 46 | U11: 0 | V11: 0 | W11: 515 | X11: 112 | Y11: 403 | Z11: 410 | AA11: 2 | AB11: 408 | AC11: 35 | AD11: 12 | AE11: 23 | AF11: 0 | AG11: 0 | AH11: 61 | AI11: 18 | AJ11: 43 | AK11: 0 | AL11: 0
A12: 臺中市 | B12: Taichung City | C12: 1827 | D12: 330 | E12: 1131 | F12: 2 | G12: 364 | H12: 64 | I12: 23 | J12: 41 | K12: 0 | L12: 0 | M12: 344 | N12: 13 | O12: 331 | P12: 0 | Q12: 0 | R12: 72 | S12: 10 | T12: 62 | U12: 0 | V12: 0 | W12: 644 | X12: 148 | Y12: 496 | Z12: 366 | AA12: 2 | AB12: 364 | AC12: 258 | AD12: 118 | AE12: 140 | AF12: 0 | AG12: 0 | AH12: 79 | AI12: 18 | AJ12: 61 | AK12: 0 | AL12: 0
A13: 臺南市 | B13: Tainan City | C13: 2653 | D13: 483 | E13: 1659 | F13: 10 | G13: 501 | H13: 110 | I13: 37 | J13: 73 | K13: 0 | L13: 0 | M13: 519 | N13: 28 | O13: 491 | P13: 0 | Q13: 0 | R13: 127 | S13: 26 | T13: 101 | U13: 0 | V13: 0 | W13: 858 | X13: 190 | Y13: 668 | Z13: 510 | AA13: 10 | AB13: 500 | AC13: 274 | AD13: 120 | AE13: 154 | AF13: 0 | AG13: 0 | AH13: 255 | AI13: 82 | AJ13: 172 | AK13: 0 | AL13: 1
A14: 高雄市 | B14: Kaohsiung City | C14: 3704 | D14: 636 | E14: 2308 | F14: 16 | G14: 744 | H14: 156 | I14: 50 | J14: 106 | K14: 0 | L14: 0 | M14: 763 | N14: 32 | O14: 731 | P14: 0 | Q14: 0 | R14: 173 | S14: 34 | T14: 139 | U14: 0 | V14: 0 | W14: 1125 | X14: 245 | Y14: 880 | Z14: 759 | AA14: 16 | AB14: 743 | AC14: 355 | AD14: 158 | AE14: 197 | AF14: 0 | AG14: 0 | AH14: 373 | AI14: 117 | AJ14: 255 | AK14: 0 | AL14: 1
A15: 宜蘭縣 | B15: Yilan County | C15: 1164 | D15: 178 | E15: 706 | F15: 11 | G15: 269 | H15: 40 | I15: 13 | J15: 27 | K15: 0 | L15: 0 | M15: 225 | N15: 4 | O15: 221 | P15: 0 | Q15: 0 | R15: 53 | S15: 11 | T15: 42 | U15: 0 | V15: 0 | W15: 367 | X15: 74 | Y15: 293 | Z15: 277 | AA15: 11 | AB15: 266 | AC15: 57 | AD15: 22 | AE15: 35 | AF15: 0 | AG15: 0 | AH15: 145 | AI15: 54 | AJ15: 88 | AK15: 0 | AL15: 3
A16: 新竹縣 | B16: Hsinchu County | C16: 513 | D16: 100 | E16: 283 | F16: 6 | G16: 124 | H16: 19 | I16: 14 | J16: 5 | K16: 0 | L16: 0 | M16: 88 | N16: 3 | O16: 85 | P16: 0 | Q16: 0 | R16: 22 | S16: 6 | T16: 16 | U16: 0 | V16: 0 | W16: 191 | X16: 54 | Y16: 137 | Z16: 130 | AA16: 6 | AB16: 124 | AC16: 28 | AD16: 11 | AE16: 17 | AF16: 0 | AG16: 0 | AH16: 35 | AI16: 12 | AJ16: 23 | AK16: 0 | AL16: 0
A17: 苗栗縣 | B17: Miaoli County | C17: 378 | D17: 78 | E17: 216 | F17: 8 | G17: 76 | H17: 14 | I17: 3 | J17: 11 | K17: 0 | L17: 0 | M17: 62 | N17: 2 | O17: 60 | P17: 0 | Q17: 0 | R17: 17 | S17: 8 | T17: 9 | U17: 0 | V17: 0 | W17: 120 | X17: 32 | Y17: 88 | Z17: 84 | AA17: 8 | AB17: 76 | AC17: 49 | AD17: 26 | AE17: 23 | AF17: 0 | AG17: 0 | AH17: 32 | AI17: 7 | AJ17: 25 | AK17: 0 | AL17: 0
A18: 彰化縣 | B18: Changhua County | C18: 1241 | D18: 183 | E18: 752 | F18: 8 | G18: 298 | H18: 96 | I18: 33 | J18: 63 | K18: 0 | L18: 0 | M18: 241 | N18: 7 | O18: 234 | P18: 0 | Q18: 0 | R18: 53 | S18: 9 | T18: 44 | U18: 0 | V18: 0 | W18: 420 | X18: 100 | Y18: 320 | Z18: 303 | AA18: 7 | AB18: 296 | AC18: 73 | AD18: 14 | AE18: 58 | AF18: 0 | AG18: 1 | AH18: 55 | AI18: 20 | AJ18: 33 | AK18: 1 | AL18: 1
... A30: 連江縣 | B30: Lienchiang County | C30: 32 | D30: 4 | E30: 28 | F30: 0 | G30: 0 | H30: 1 | I30: 0 | J30: 1 | K30: 0 | L30: 0 | M30: 6 | N30: 0 | O30: 6 | P30: 0 | Q30: 0 | R30: 2 | S30: 0 | T30: 2 | U30: 0 | V30: 0 | W30: 11 | X30: 1 | Y30: 10 | Z30: 0 | AA30: 0 | AB30: 0 | AC30: 8 | AD30: 3 | AE30: 5 | AF30: 0 | AG30: 0 | AH30: 4 | AI30: 0 | AJ30: 4 | AK30: 0 | AL30: 0
A31: 資料來源：衛生福利部社會及家庭署及直轄市、縣(市)政府。
A32: Source : Social and Family Affairs Administration, Mohw and County and City Government.

Sheet 109
A1: 老人長期照顧、安養機構工作人員 Number of Workers in Elderly Long-term Care, Nursing and Caring Institutions
A2: 109年底 End of 2020 | AL2: 單位：人
A3: 區域別 Locality | C3: 總計 Grand Total | H3: 院長(主任) Dean | M3: 護理人員 Nursing Staff | R3: 社會工作人員 Social Workers | W3: 照顧服務員 Care Attendants | Z3: 外籍看護工 Foreign Care Workers | AC3: 服務相關之專業人員 Service Related Professionals | AH3: 其他人員 Others
C4: 計 Total | D4: 本國籍 R.O.C. Citizens | F4: 外國籍 Aliens | H4: 計 Total | I4: 本國籍 R.O.C. Citizens | K4: 外國籍 Aliens | M4: 計 Total | N4: 本國籍 R.O.C. Citizens | P4: 外國籍 Aliens | R4: 計 Total | S4: 本國籍 R.O.C. Citizens | U4: 外國籍 Aliens | W4: 計 Total | X4: 本國籍 R.O.C. Citizens | Z4: 計 Total | AA4: 外國籍 Aliens | AC4: 計 Total | AD4: 本國籍 R.O.C. Citizens | AF4: 外國籍 Aliens | AH4: 計 Total | AI4: 本國籍 R.O.C. Citizens | AK4: 外國籍 Aliens
D5: 男 | E5: 女 | F5: 男 | G5: 女 | I5: 男 | J5: 女 | K5: 男 | L5: 女 | N5: 男 | O5: 女 | P5: 男 | Q5: 女 | S5: 男 | T5: 女 | U5: 男 | V5: 女 | X5: 男 | Y5: 女 | AA5: 男 | AB5: 女 | AD5: 男 | AE5: 女 | AF5: 男 | AG5: 女 | AI5: 男 | AJ5: 女 | AK5: 男 | AL5: 女
D6: Male | E6: Female | F6: Male | G6: Female | I6: Male | J6: Female | K6: Male | L6: Female | N6: Male | O6: Female | P6: Male | Q6: Female | S6: Male | T6: Female | U6: Male | V6: Female | X6: Male | Y6: Female | AA6: Male | AB6: Female | AD6: Male | AE6: Female | AF6: Male | AG6: Female | AI6: Male | AJ6: Female | AK6: Male | AL6: Female
A7: 總計 | B7: Total | C7: 28434 | D7: 4774 | E7: 17153 | F7: 151 | G7: 6356 | H7: 1150 | I7: 451 | J7: 698 | K7: 0 | L7: 1 | M7: 5400 | N7: 198 | O7: 5201 | P7: 0 | Q7: 1 | R7: 1188 | S7: 288 | T7: 899 | U7: 0 | V7: 1 | W7: 9393 | X7: 2082 | Y7: 7311 | Z7: 6481 | AA7: 149 | AB7: 6332 | AC7: 2311 | AD7: 942 | AE7: 1365 | AF7: 1 | AG7: 3 | AH7: 2511 | AI7: 813 | AJ7: 1679 | AK7: 1 | AL7: 18
A8: 部直轄 | B8: Institution under Mohw | C8: 1955 | D8: 402 | E8: 1325 | F8: 19 | G8: 209 | H8: 25 | I8: 11 | J8: 14 | K8: 0 | L8: 0 | M8: 332 | N8: 26 | O8: 306 | P8: 0 | Q8: 0 | R8: 90 | S8: 19 | T8: 70 | U8: 0 | V8: 1 | W8: 775 | X8: 181 | Y8: 594 | Z8: 227 | AA8: 19 | AB8: 208 | AC8: 111 | AD8: 35 | AE8: 76 | AF8: 0 | AG8: 0 | AH8: 395 | AI8: 130 | AJ8: 265 | AK8: 0 | AL8: 0
A9: 新北市 | B9: New Taipei City | C9: 5369 | D9: 893 | E9: 3201 | F9: 41 | G9: 1234 | H9: 212 | I9: 88 | J9: 124 | K9: 0 | L9: 0 | M9: 1011 | N9: 22 | O9: 989 | P9: 0 | Q9: 0 | R9: 202 | S9: 55 | T9: 147 | U9: 0 | V9: 0 | W9: 1684 | X9: 346 | Y9: 1338 | Z9: 1272 | AA9: 41 | AB9: 1231 | AC9: 530 | AD9: 219 | AE9: 308 | AF9: 0 | AG9: 3 | AH9: 458 | AI9: 163 | AJ9: 295 | AK9: 0 | AL9: 0
A10: 臺北市 | B10: Taipei City | C10: 2840 | D10: 564 | E10: 1661 | F10: 12 | G10: 603 | H10: 103 | I10: 34 | J10: 69 | K10: 0 | L10: 0 | M10: 509 | N10: 32 | O10: 477 | P10: 0 | Q10: 0 | R10: 141 | S10: 36 | T10: 105 | U10: 0 | V10: 0 | W10: 923 | X10: 245 | Y10: 678 | Z10: 615 | AA10: 12 | AB10: 603 | AC10: 268 | AD10: 107 | AE10: 161 | AF10: 0 | AG10: 0 | AH10: 281 | AI10: 110 | AJ10: 171 | AK10: 0 | AL10: 0
A11: 桃園市 | B11: Taoyuan City | C11: 1441 | D11: 196 | E11: 828 | F11: 4 | G11: 413 | H11: 66 | I11: 30 | J11: 36 | K11: 0 | L11: 0 | M11: 288 | N11: 10 | O11: 278 | P11: 0 | Q11: 0 | R11: 61 | S11: 16 | T11: 45 | U11: 0 | V11: 0 | W11: 514 | X11: 111 | Y11: 403 | Z11: 417 | AA11: 4 | AB11: 413 | AC11: 37 | AD11: 12 | AE11: 25 | AF11: 0 | AG11: 0 | AH11: 58 | AI11: 17 | AJ11: 41 | AK11: 0 | AL11: 0
A12: 臺中市 | B12: Taichung City | C12: 1845 | D12: 337 | E12: 1103 | F12: 2 | G12: 403 | H12: 65 | I12: 27 | J12: 38 | K12: 0 | L12: 0 | M12: 339 | N12: 11 | O12: 328 | P12: 0 | Q12: 0 | R12: 71 | S12: 11 | T12: 60 | U12: 0 | V12: 0 | W12: 641 | X12: 156 | Y12: 485 | Z12: 405 | AA12: 2 | AB12: 403 | AC12: 246 | AD12: 108 | AE12: 138 | AF12: 0 | AG12: 0 | AH12: 78 | AI12: 24 | AJ12: 54 | AK12: 0 | AL12: 0
A13: 臺南市 | B13: Tainan City | C13: 2466 | D13: 405 | E13: 1522 | F13: 9 | G13: 530 | H13: 107 | I13: 36 | J13: 71 | K13: 0 | L13: 0 | M13: 489 | N13: 15 | O13: 474 | P13: 0 | Q13: 0 | R13: 112 | S13: 23 | T13: 89 | U13: 0 | V13: 0 | W13: 806 | X13: 180 | Y13: 626 | Z13: 533 | AA13: 8 | AB13: 525 | AC13: 227 | AD13: 94 | AE13: 133 | AF13: 0 | AG13: 0 | AH13: 192 | AI13: 57 | AJ13: 129 | AK13: 1 | AL13: 5
A14: 高雄市 | B14: Kaohsiung City | C14: 3553 | D14: 560 | E14: 2154 | F14: 17 | G14: 822 | H14: 158 | I14: 52 | J14: 106 | K14: 0 | L14: 0 | M14: 763 | N14: 27 | O14: 736 | P14: 0 | Q14: 0 | R14: 133 | S14: 34 | T14: 99 | U14: 0 | V14: 0 | W14: 1146 | X14: 254 | Y14: 892 | Z14: 839 | AA14: 17 | AB14: 822 | AC14: 249 | AD14: 108 | AE14: 141 | AF14: 0 | AG14: 0 | AH14: 265 | AI14: 85 | AJ14: 180 | AK14: 0 | AL14: 0
A15: 宜蘭縣 | B15: Yilan County | C15: 1154 | D15: 180 | E15: 684 | F15: 7 | G15: 283 | H15: 41 | I15: 16 | J15: 25 | K15: 0 | L15: 0 | M15: 215 | N15: 4 | O15: 211 | P15: 0 | Q15: 0 | R15: 50 | S15: 12 | T15: 38 | U15: 0 | V15: 0 | W15: 368 | X15: 70 | Y15: 298 | Z15: 286 | AA15: 7 | AB15: 279 | AC15: 84 | AD15: 42 | AE15: 42 | AF15: 0 | AG15: 0 | AH15: 110 | AI15: 36 | AJ15: 70 | AK15: 0 | AL15: 4
A16: 新竹縣 | B16: Hsinchu County | C16: 546 | D16: 99 | E16: 295 | F16: 6 | G16: 146 | H16: 18 | I16: 12 | J16: 6 | K16: 0 | L16: 0 | M16: 88 | N16: 2 | O16: 86 | P16: 0 | Q16: 0 | R16: 23 | S16: 6 | T16: 17 | U16: 0 | V16: 0 | W16: 190 | X16: 49 | Y16: 141 | Z16: 152 | AA16: 6 | AB16: 146 | AC16: 41 | AD16: 20 | AE16: 21 | AF16: 0 | AG16: 0 | AH16: 34 | AI16: 10 | AJ16: 24 | AK16: 0 | AL16: 0
A17: 苗栗縣 | B17: Miaoli County | C17: 372 | D17: 71 | E17: 214 | F17: 8 | G17: 79 | H17: 14 | I17: 4 | J17: 10 | K17: 0 | L17: 0 | M17: 62 | N17: 3 | O17: 59 | P17: 0 | Q17: 0 | R17: 12 | S17: 5 | T17: 7 | U17: 0 | V17: 0 | W17: 121 | X17: 28 | Y17: 93 | Z17: 87 | AA17: 8 | AB17: 79 | AC17: 43 | AD17: 23 | AE17: 20 | AF17: 0 | AG17: 0 | AH17: 33 | AI17: 8 | AJ17: 25 | AK17: 0 | AL17: 0
A18: 彰化縣 | B18: Changhua County | C18: 1209 | D18: 177 | E18: 715 | F18: 7 | G18: 310 | H18: 83 | I18: 28 | J18: 55 | K18: 0 | L18: 0 | M18: 230 | N18: 5 | O18: 225 | P18: 0 | Q18: 0 | R18: 55 | S18: 12 | T18: 43 | U18: 0 | V18: 0 | W18: 404 | X18: 100 | Y18: 304 | Z18: 317 | AA18: 7 | AB18: 310 | AC18: 67 | AD18: 16 | AE18: 51 | AF18: 0 | AG18: 0 | AH18: 53 | AI18: 16 | AJ18: 37 | AK18: 0 | AL18: 0
... A30: 連江縣 | B30: Lienchiang County | C30: 32 | D30: 5 | E30: 27 | F30: 0 | G30: 0 | H30: 1 | I30: 0 | J30: 1 | K30: 0 | L30: 0 | M30: 6 | N30: 1 | O30: 5 | P30: 0 | Q30: 0 | R30: 2 | S30: 0 | T30: 2 | U30: 0 | V30: 0 | W30: 11 | X30: 1 | Y30: 10 | Z30: 0 | AA30: 0 | AB30: 0 | AC30: 3 | AD30: 1 | AE30: 2 | AF30: 0 | AG30: 0 | AH30: 9 | AI30: 2 | AJ30: 7 | AK30: 0 | AL30: 0
A31: 資料來源：衛生福利部社會及家庭署及直轄市、縣(市)政府。
A32: Source : Social and Family Affairs Administration, Mohw and County and City Government.

Sheet 108
A1: 老人長期照顧、安養機構工作人員 Number of Workers in Elderly Long-term Care, Nursing and Caring Institutions
A2: 108年底 End of 2019 | AL2: 單位：人
A3: 區域別 Locality | C3: 總計 Grand Total | H3: 院長(主任) Dean | M3: 護理人員 Nursing Staff | R3: 社會工作人員 Social Workers | W3: 照顧服務員 Care Attendants | Z3: 外籍看護工 Foreign Care Workers | AC3: 服務相關之專業人員 Service Related Professionals | AH3: 其他人員 Others
C4: 計 Total | D4: 本國籍 R.O.C. Citizens | F4: 外國籍 Aliens | H4: 計 Total | I4: 本國籍 R.O.C. Citizens | K4: 外國籍 Aliens | M4: 計 Total | N4: 本國籍 R.O.C. Citizens | P4: 外國籍 Aliens | R4: 計 Total | S4: 本國籍 R.O.C. Citizens | U4: 外國籍 Aliens | W4: 計 Total | X4: 本國籍 R.O.C. Citizens | Z4: 計 Total | AA4: 外國籍 Aliens | AC4: 計 Total | AD4: 本國籍 R.O.C. Citizens | AF4: 外國籍 Aliens | AH4: 計 Total | AI4: 本國籍 R.O.C. Citizens | AK4: 外國籍 Aliens
D5: 男 | E5: 女 | F5: 男 | G5: 女 | I5: 男 | J5: 女 | K5: 男 | L5: 女 | N5: 男 | O5: 女 | P5: 男 | Q5: 女 | S5: 男 | T5: 女 | U5: 男 | V5: 女 | X5: 男 | Y5: 女 | AA5: 男 | AB5: 女 | AD5: 男 | AE5: 女 | AF5: 男 | AG5: 女 | AI5: 男 | AJ5: 女 | AK5: 男 | AL5: 女
D6: Male | E6: Female | F6: Male | G6: Female | I6: Male | J6: Female | K6: Male | L6: Female | N6: Male | O6: Female | P6: Male | Q6: Female | S6: Male | T6: Female | U6: Male | V6: Female | X6: Male | Y6: Female | AA6: Male | AB6: Female | AD6: Male | AE6: Female | AF6: Male | AG6: Female | AI6: Male | AJ6: Female | AK6: Male | AL6: Female
A7: 總計 | B7: Total | C7: 28286 | D7: 4548 | E7: 17143 | F7: 163 | G7: 6432 | H7: 1206 | I7: 472 | J7: 732 | K7: 0 | L7: 2 | M7: 5399 | N7: 141 | O7: 5257 | P7: 0 | Q7: 1 | R7: 1209 | S7: 294 | T7: 914 | U7: 0 | V7: 1 | W7: 9431 | X7: 2069 | Y7: 7362 | Z7: 6570 | AA7: 162 | AB7: 6408 | AC7: 2055 | AD7: 792 | AE7: 1260 | AF7: 0 | AG7: 3 | AH7: 2416 | AI7: 780 | AJ7: 1618 | AK7: 1 | AL7: 17
A8: 部直轄 | B8: Institution under Mohw | C8: 2095 | D8: 445 | E8: 1426 | F8: 18 | G8: 206 | H8: 32 | I8: 15 | J8: 17 | K8: 0 | L8: 0 | M8: 371 | N8: 10 | O8: 361 | P8: 0 | Q8: 0 | R8: 100 | S8: 22 | T8: 77 | U8: 0 | V8: 1 | W8: 839 | X8: 216 | Y8: 623 | Z8: 223 | AA8: 18 | AB8: 205 | AC8: 118 | AD8: 38 | AE8: 80 | AF8: 0 | AG8: 0 | AH8: 412 | AI8: 144 | AJ8: 268 | AK8: 0 | AL8: 0
A9: 新北市 | B9: New Taipei City | C9: 5424 | D9: 913 | E9: 3254 | F9: 41 | G9: 1216 | H9: 215 | I9: 88 | J9: 127 | K9: 0 | L9: 0 | M9: 1027 | N9: 20 | O9: 1007 | P9: 0 | Q9: 0 | R9: 236 | S9: 67 | T9: 169 | U9: 0 | V9: 0 | W9: 1720 | X9: 365 | Y9: 1355 | Z9: 1257 | AA9: 41 | AB9: 1216 | AC9: 524 | AD9: 217 | AE9: 307 | AF9: 0 | AG9: 0 | AH9: 445 | AI9: 156 | AJ9: 289 | AK9: 0 | AL9: 0
A10: 臺北市 | B10: Taipei City | C10: 2913 | D10: 526 | E10: 1745 | F10: 14 | G10: 628 | H10: 106 | I10: 34 | J10: 72 | K10: 0 | L10: 0 | M10: 528 | N10: 22 | O10: 506 | P10: 0 | Q10: 0 | R10: 152 | S10: 32 | T10: 120 | U10: 0 | V10: 0 | W10: 971 | X10: 244 | Y10: 727 | Z10: 642 | AA10: 14 | AB10: 628 | AC10: 241 | AD10: 95 | AE10: 146 | AF10: 0 | AG10: 0 | AH10: 273 | AI10: 99 | AJ10: 174 | AK10: 0 | AL10: 0
A11: 桃園市 | B11: Taoyuan City | C11: 1411 | D11: 192 | E11: 809 | F11: 4 | G11: 406 | H11: 65 | I11: 32 | J11: 33 | K11: 0 | L11: 0 | M11: 275 | N11: 8 | O11: 267 | P11: 0 | Q11: 0 | R11: 52 | S11: 15 | T11: 37 | U11: 0 | V11: 0 | W11: 521 | X11: 109 | Y11: 412 | Z11: 410 | AA11: 4 | AB11: 406 | AC11: 32 | AD11: 10 | AE11: 22 | AF11: 0 | AG11: 0 | AH11: 56 | AI11: 18 | AJ11: 38 | AK11: 0 | AL11: 0
A12: 臺中市 | B12: Taichung City | C12: 1663 | D12: 234 | E12: 1020 | F12: 5 | G12: 404 | H12: 65 | I12: 30 | J12: 35 | K12: 0 | L12: 0 | M12: 316 | N12: 10 | O12: 306 | P12: 0 | Q12: 0 | R12: 62 | S12: 11 | T12: 51 | U12: 0 | V12: 0 | W12: 617 | X12: 128 | Y12: 489 | Z12: 403 | AA12: 5 | AB12: 398 | AC12: 65 | AD12: 17 | AE12: 48 | AF12: 0 | AG12: 0 | AH12: 135 | AI12: 38 | AJ12: 91 | AK12: 0 | AL12: 6
A13: 臺南市 | B13: Tainan City | C13: 2428 | D13: 357 | E13: 1518 | F13: 13 | G13: 540 | H13: 108 | I13: 37 | J13: 71 | K13: 0 | L13: 0 | M13: 481 | N13: 11 | O13: 470 | P13: 0 | Q13: 0 | R13: 106 | S13: 19 | T13: 87 | U13: 0 | V13: 0 | W13: 788 | X13: 168 | Y13: 620 | Z13: 552 | AA13: 12 | AB13: 540 | AC13: 220 | AD13: 71 | AE13: 149 | AF13: 0 | AG13: 0 | AH13: 173 | AI13: 51 | AJ13: 121 | AK13: 1 | AL13: 0
A14: 高雄市 | B14: Kaohsiung City | C14: 3530 | D14: 544 | E14: 2129 | F14: 19 | G14: 838 | H14: 161 | I14: 55 | J14: 106 | K14: 0 | L14: 0 | M14: 742 | N14: 15 | O14: 727 | P14: 0 | Q14: 0 | R14: 143 | S14: 45 | T14: 98 | U14: 0 | V14: 0 | W14: 1119 | X14: 243 | Y14: 876 | Z14: 855 | AA14: 19 | AB14: 836 | AC14: 255 | AD14: 106 | AE14: 147 | AF14: 0 | AG14: 2 | AH14: 255 | AI14: 80 | AJ14: 175 | AK14: 0 | AL14: 0
A15: 宜蘭縣 | B15: Yilan County | C15: 1173 | D15: 164 | E15: 703 | F15: 9 | G15: 297 | H15: 43 | I15: 17 | J15: 26 | K15: 0 | L15: 0 | M15: 225 | N15: 3 | O15: 222 | P15: 0 | Q15: 0 | R15: 44 | S15: 10 | T15: 34 | U15: 0 | V15: 0 | W15: 365 | X15: 67 | Y15: 298 | Z15: 302 | AA15: 9 | AB15: 293 | AC15: 83 | AD15: 34 | AE15: 49 | AF15: 0 | AG15: 0 | AH15: 111 | AI15: 33 | AJ15: 74 | AK15: 0 | AL15: 4
A16: 新竹縣 | B16: Hsinchu County | C16: 532 | D16: 89 | E16: 285 | F16: 5 | G16: 153 | H16: 41 | I16: 18 | J16: 23 | K16: 0 | L16: 0 | M16: 95 | N16: 2 | O16: 93 | P16: 0 | Q16: 0 | R16: 20 | S16: 5 | T16: 15 | U16: 0 | V16: 0 | W16: 189 | X16: 51 | Y16: 138 | Z16: 158 | AA16: 5 | AB16: 153 | AC16: 11 | AD16: 2 | AE16: 9 | AF16: 0 | AG16: 0 | AH16: 18 | AI16: 11 | AJ16: 7 | AK16: 0 | AL16: 0
A17: 苗栗縣 | B17: Miaoli County | C17: 391 | D17: 67 | E17: 235 | F17: 9 | G17: 80 | H17: 14 | I17: 3 | J17: 11 | K17: 0 | L17: 0 | M17: 61 | N17: 2 | O17: 59 | P17: 0 | Q17: 0 | R17: 13 | S17: 3 | T17: 10 | U17: 0 | V17: 0 | W17: 114 | X17: 20 | Y17: 94 | Z17: 89 | AA17: 9 | AB17: 80 | AC17: 53 | AD17: 23 | AE17: 30 | AF17: 0 | AG17: 0 | AH17: 47 | AI17: 16 | AJ17: 31 | AK17: 0 | AL17: 0
A18: 彰化縣 | B18: Changhua County | C18: 1199 | D18: 179 | E18: 704 | F18: 6 | G18: 310 | H18: 88 | I18: 30 | J18: 58 | K18: 0 | L18: 0 | M18: 229 | N18: 4 | O18: 225 | P18: 0 | Q18: 0 | R18: 54 | S18: 11 | T18: 43 | U18: 0 | V18: 0 | W18: 393 | X18: 102 | Y18: 291 | Z18: 316 | AA18: 6 | AB18: 310 | AC18: 68 | AD18: 16 | AE18: 52 | AF18: 0 | AG18: 0 | AH18: 51 | AI18: 16 | AJ18: 35 | AK18: 0 | AL18: 0
... A30: 連江縣 | B30: Lienchiang County | C30: 25 | D30: 3 | E30: 22 | F30: 0 | G30: 0 | H30: 1 | I30: 0 | J30: 1 | K30: 0 | L30: 0 | M30: 5 | N30: 0 | O30: 5 | P30: 0 | Q30: 0 | R30: 1 | S30: 0 | T30: 1 | U30: 0 | V30: 0 | W30: 9 | X30: 1 | Y30: 8 | Z30: 0 | AA30: 0 | AB30: 0 | AC30: 3 | AD30: 1 | AE30: 2 | AF30: 0 | AG30: 0 | AH30: 6 | AI30: 1 | AJ30: 5 | AK30: 0 | AL30: 0
A31: 資料來源：衛生福利部社會及家庭署及直轄市、縣(市)政府。
A32: Source : Social and Family Affairs Administration, Mohw and County and City Government.

Sheet 107
A1: 老人長期照顧、安養機構工作人員 Number of Workers in Elderly Long-term Care, Nursing and Caring Institutions
A2: 107年底 End of 2018 | AL2: 單位：人
A3: 區域別 Locality | C3: 總計 Grand Total | H3: 院長(主任) Dean | M3: 護理人員 Nursing Staff | R3: 社會工作人員 Social Workers | W3: 照顧服務員 Care Attendants | Z3: 外籍看護工 Foreign Care Workers | AC3: 服務相關之專業人員 Service Related Professionals | AH3: 其他人員 Others
C4: 計 Total | D4: 本國籍 R.O.C. Citizens | F4: 外國籍 Aliens | H4: 計 Total | I4: 本國籍 R.O.C. Citizens | K4: 外國籍 Aliens | M4: 計 Total | N4: 本國籍 R.O.C. Citizens | P4: 外國籍 Aliens | R4: 計 Total | S4: 本國籍 R.O.C. Citizens | U4: 外國籍 Aliens | W4: 計 Total | X4: 本國籍 R.O.C. Citizens | Z4: 計 Total | AA4: 外國籍 Aliens | AC4: 計 Total | AD4: 本國籍 R.O.C. Citizens | AF4: 外國籍 Aliens | AH4: 計 Total | AI4: 本國籍 R.O.C. Citizens | AK4: 外國籍 Aliens
D5: 男 | E5: 女 | F5: 男 | G5: 女 | I5: 男 | J5: 女 | K5: 男 | L5: 女 | N5: 男 | O5: 女 | P5: 男 | Q5: 女 | S5: 男 | T5: 女 | U5: 男 | V5: 女 | X5: 男 | Y5: 女 | AA5: 男 | AB5: 女 | AD5: 男 | AE5: 女 | AF5: 男 | AG5: 女 | AI5: 男 | AJ5: 女 | AK5: 男 | AL5: 女
D6: Male | E6: Female | F6: Male | G6: Female | I6: Male | J6: Female | K6: Male | L6: Female | N6: Male | O6: Female | P6: Male | Q6: Female | S6: Male | T6: Female | U6: Male | V6: Female | X6: Male | Y6: Female | AA6: Male | AB6: Female | AD6: Male | AE6: Female | AF6: Male | AG6: Female | AI6: Male | AJ6: Female | AK6: Male | AL6: Female
A7: 總計 | B7: Total | C7: 27424 | D7: 4305 | E7: 16639 | F7: 163 | G7: 6317 | H7: 1252 | I7: 475 | J7: 764 | K7: 10 | L7: 3 | M7: 5286 | N7: 130 | O7: 5155 | P7: 0 | Q7: 1 | R7: 1185 | S7: 276 | T7: 907 | U7: 0 | V7: 2 | W7: 9303 | X7: 2065 | Y7: 7238 | Z7: 6427 | AA7: 152 | AB7: 6275 | AC7: 1902 | AD7: 664 | AE7: 1220 | AF7: 1 | AG7: 17 | AH7: 2069 | AI7: 695 | AJ7: 1355 | AK7: 0 | AL7: 19
A8: 部直轄 | B8: Institution under Mohw | C8: 2087 | D8: 463 | E8: 1396 | F8: 16 | G8: 212 | H8: 32 | I8: 14 | J8: 18 | K8: 0 | L8: 0 | M8: 357 | N8: 11 | O8: 346 | P8: 0 | Q8: 0 | R8: 96 | S8: 18 | T8: 77 | U8: 0 | V8: 1 | W8: 829 | X8: 226 | Y8: 603 | Z8: 227 | AA8: 16 | AB8: 211 | AC8: 122 | AD8: 35 | AE8: 87 | AF8: 0 | AG8: 0 | AH8: 424 | AI8: 159 | AJ8: 265 | AK8: 0 | AL8: 0
A9: 新北市 | B9: New Taipei City | C9: 4680 | D9: 664 | E9: 2824 | F9: 33 | G9: 1159 | H9: 208 | I9: 85 | J9: 123 | K9: 0 | L9: 0 | M9: 973 | N9: 15 | O9: 958 | P9: 0 | Q9: 0 | R9: 201 | S9: 51 | T9: 150 | U9: 0 | V9: 0 | W9: 1638 | X9: 364 | Y9: 1274 | Z9: 1192 | AA9: 33 | AB9: 1159 | AC9: 234 | AD9: 65 | AE9: 169 | AF9: 0 | AG9: 0 | AH9: 234 | AI9: 84 | AJ9: 150 | AK9: 0 | AL9: 0
A10: 臺北市 | B10: Taipei City | C10: 2883 | D10: 515 | E10: 1725 | F10: 15 | G10: 628 | H10: 108 | I10: 35 | J10: 73 | K10: 0 | L10: 0 | M10: 534 | N10: 19 | O10: 515 | P10: 0 | Q10: 0 | R10: 150 | S10: 33 | T10: 117 | U10: 0 | V10: 0 | W10: 981 | X10: 251 | Y10: 730 | Z10: 643 | AA10: 15 | AB10: 628 | AC10: 228 | AD10: 98 | AE10: 130 | AF10: 0 | AG10: 0 | AH10: 239 | AI10: 79 | AJ10: 160 | AK10: 0 | AL10: 0
A11: 桃園市 | B11: Taoyuan City | C11: 1382 | D11: 183 | E11: 798 | F11: 4 | G11: 397 | H11: 65 | I11: 29 | J11: 36 | K11: 0 | L11: 0 | M11: 276 | N11: 6 | O11: 270 | P11: 0 | Q11: 0 | R11: 51 | S11: 11 | T11: 40 | U11: 0 | V11: 0 | W11: 501 | X11: 107 | Y11: 394 | Z11: 401 | AA11: 4 | AB11: 397 | AC11: 30 | AD11: 11 | AE11: 19 | AF11: 0 | AG11: 0 | AH11: 58 | AI11: 19 | AJ11: 39 | AK11: 0 | AL11: 0
A12: 臺中市 | B12: Taichung City | C12: 1671 | D12: 239 | E12: 1026 | F12: 5 | G12: 401 | H12: 68 | I12: 25 | J12: 43 | K12: 0 | L12: 0 | M12: 317 | N12: 7 | O12: 310 | P12: 0 | Q12: 0 | R12: 64 | S12: 13 | T12: 51 | U12: 0 | V12: 0 | W12: 623 | X12: 138 | Y12: 485 | Z12: 400 | AA12: 5 | AB12: 395 | AC12: 199 | AD12: 56 | AE12: 137 | AF12: 0 | AG12: 6 | AH12: 0 | AI12: 0 | AJ12: 0 | AK12: 0 | AL12: 0
A13: 臺南市 | B13: Tainan City | C13: 2444 | D13: 386 | E13: 1514 | F13: 7 | G13: 537 | H13: 108 | I13: 38 | J13: 70 | K13: 0 | L13: 0 | M13: 468 | N13: 8 | O13: 460 | P13: 0 | Q13: 0 | R13: 114 | S13: 18 | T13: 96 | U13: 0 | V13: 0 | W13: 770 | X13: 183 | Y13: 587 | Z13: 544 | AA13: 7 | AB13: 537 | AC13: 208 | AD13: 71 | AE13: 137 | AF13: 0 | AG13: 0 | AH13: 232 | AI13: 68 | AJ13: 164 | AK13: 0 | AL13: 0
A14: 高雄市 | B14: Kaohsiung City | C14: 3521 | D14: 543 | E14: 2137 | F14: 35 | G14: 806 | H14: 169 | I14: 57 | J14: 102 | K14: 10 | L14: 0 | M14: 729 | N14: 12 | O14: 717 | P14: 0 | Q14: 0 | R14: 136 | S14: 38 | T14: 97 | U14: 0 | V14: 1 | W14: 1133 | X14: 251 | Y14: 882 | Z14: 824 | AA14: 25 | AB14: 799 | AC14: 276 | AD14: 102 | AE14: 170 | AF14: 0 | AG14: 4 | AH14: 254 | AI14: 83 | AJ14: 169 | AK14: 0 | AL14: 2
A15: 宜蘭縣 | B15: Yilan County | C15: 1161 | D15: 171 | E15: 679 | F15: 10 | G15: 301 | H15: 45 | I15: 19 | J15: 25 | K15: 0 | L15: 1 | M15: 219 | N15: 3 | O15: 216 | P15: 0 | Q15: 0 | R15: 52 | S15: 11 | T15: 41 | U15: 0 | V15: 0 | W15: 383 | X15: 74 | Y15: 309 | Z15: 307 | AA15: 10 | AB15: 297 | AC15: 71 | AD15: 33 | AE15: 38 | AF15: 0 | AG15: 0 | AH15: 84 | AI15: 31 | AJ15: 50 | AK15: 0 | AL15: 3
A16: 新竹縣 | B16: Hsinchu County | C16: 577 | D16: 85 | E16: 325 | F16: 4 | G16: 163 | H16: 45 | I16: 20 | J16: 25 | K16: 0 | L16: 0 | M16: 97 | N16: 2 | O16: 95 | P16: 0 | Q16: 0 | R16: 24 | S16: 5 | T16: 19 | U16: 0 | V16: 0 | W16: 210 | X16: 48 | Y16: 162 | Z16: 167 | AA16: 4 | AB16: 163 | AC16: 16 | AD16: 4 | AE16: 12 | AF16: 0 | AG16: 0 | AH16: 18 | AI16: 6 | AJ16: 12 | AK16: 0 | AL16: 0
A17: 苗栗縣 | B17: Miaoli County | C17: 392 | D17: 66 | E17: 237 | F17: 7 | G17: 82 | H17: 15 | I17: 3 | J17: 12 | K17: 0 | L17: 0 | M17: 66 | N17: 2 | O17: 64 | P17: 0 | Q17: 0 | R17: 17 | S17: 5 | T17: 12 | U17: 0 | V17: 0 | W17: 112 | X17: 16 | Y17: 96 | Z17: 89 | AA17: 7 | AB17: 82 | AC17: 40 | AD17: 20 | AE17: 20 | AF17: 0 | AG17: 0 | AH17: 53 | AI17: 20 | AJ17: 33 | AK17: 0 | AL17: 0
A18: 彰化縣 | B18: Changhua County | C18: 1145 | D18: 162 | E18: 671 | F18: 8 | G18: 304 | H18: 84 | I18: 30 | J18: 54 | K18: 0 | L18: 0 | M18: 208 | N18: 5 | O18: 203 | P18: 0 | Q18: 0 | R18: 55 | S18: 8 | T18: 47 | U18: 0 | V18: 0 | W18: 365 | X18: 87 | Y18: 278 | Z18: 310 | AA18: 8 | AB18: 302 | AC18: 76 | AD18: 19 | AE18: 55 | AF18: 0 | AG18: 2 | AH18: 47 | AI18: 13 | AJ18: 34 | AK18: 0 | AL18: 0
... A30: 連江縣 | B30: Lienchiang County | C30: 25 | D30: 3 | E30: 22 | F30: 0 | G30: 0 | H30: 1 | I30: 0 | J30: 1 | K30: 0 | L30: 0 | M30: 5 | N30: 0 | O30: 5 | P30: 0 | Q30: 0 | R30: 1 | S30: 0 | T30: 1 | U30: 0 | V30: 0 | W30: 10 | X30: 1 | Y30: 9 | Z30: 0 | AA30: 0 | AB30: 0 | AC30: 3 | AD30: 1 | AE30: 2 | AF30: 0 | AG30: 0 | AH30: 5 | AI30: 1 | AJ30: 4 | AK30: 0 | AL30: 0
A31: 資料來源：衛生福利部社會及家庭署及直轄市、縣(市)政府。
A32: Source : Social and Family Affairs Administration, Mohw and County and City Government.

Sheet 106
A1: 老人長期照顧、安養機構工作人員 Number of Workers in Elderly Long-term Care, Nursing and Caring Institutions
A2: 106年底 End of 2017 | AL2: 單位：人
A3: 區域別 Locality | C3: 總計 Grand Total | H3: 院長(主任) Dean | M3: 護理人員 Nursing Staff | R3: 社會工作人員 Social Workers | W3: 照顧服務員 Care Attendants | Z3: 外籍看護工 Foreign Care Workers | AC3: 服務相關之專業人員 Service Related Professionals | AH3: 其他人員 Others
C4: 計 Total | D4: 本國籍 R.O.C. Citizens | F4: 外國籍 Aliens | H4: 計 Total | I4: 本國籍 R.O.C. Citizens | K4: 外國籍 Aliens | M4: 計 Total | N4: 本國籍 R.O.C. Citizens | P4: 外國籍 Aliens | R4: 計 Total | S4: 本國籍 R.O.C. Citizens | U4: 外國籍 Aliens | W4: 計 Total | X4: 本國籍 R.O.C. Citizens | Z4: 計 Total | AA4: 外國籍 Aliens | AC4: 計 Total | AD4: 本國籍 R.O.C. Citizens | AF4: 外國籍 Aliens | AH4: 計 Total | AI4: 本國籍 R.O.C. Citizens | AK4: 外國籍 Aliens
D5: 男 | E5: 女 | F5: 男 | G5: 女 | I5: 男 | J5: 女 | K5: 男 | L5: 女 | N5: 男 | O5: 女 | P5: 男 | Q5: 女 | S5: 男 | T5: 女 | U5: 男 | V5: 女 | X5: 男 | Y5: 女 | AA5: 男 | AB5: 女 | AD5: 男 | AE5: 女 | AF5: 男 | AG5: 女 | AI5: 男 | AJ5: 女 | AK5: 男 | AL5: 女
D6: Male | E6: Female | F6: Male | G6: Female | I6: Male | J6: Female | K6: Male | L6: Female | N6: Male | O6: Female | P6: Male | Q6: Female | S6: Male | T6: Female | U6: Male | V6: Female | X6: Male | Y6: Female | AA6: Male | AB6: Female | AD6: Male | AE6: Female | AF6: Male | AG6: Female | AI6: Male | AJ6: Female | AK6: Male | AL6: Female
A7: 總計 | B7: Total | C7: 26732 | D7: 4198 | E7: 16528 | F7: 172 | G7: 5834 | H7: 1300 | I7: 510 | J7: 788 | K7: 0 | L7: 2 | M7: 5210 | N7: 113 | O7: 5096 | P7: 0 | Q7: 1 | R7: 1355 | S7: 349 | T7: 997 | U7: 2 | V7: 7 | W7: 9225 | X7: 1956 | Y7: 7269 | Z7: 5976 | AA7: 166 | AB7: 5810 | AC7: 1417 | AD7: 520 | AE7: 889 | AF7: 3 | AG7: 5 | AH7: 2249 | AI7: 750 | AJ7: 1489 | AK7: 1 | AL7: 9
A8: 部直轄 | B8: Institution under Mohw | C8: 2013 | D8: 446 | E8: 1337 | F8: 18 | G8: 212 | H8: 54 | I8: 24 | J8: 30 | K8: 0 | L8: 0 | M8: 328 | N8: 8 | O8: 320 | P8: 0 | Q8: 0 | R8: 94 | S8: 17 | T8: 76 | U8: 0 | V8: 1 | W8: 790 | X8: 202 | Y8: 588 | Z8: 229 | AA8: 18 | AB8: 211 | AC8: 125 | AD8: 48 | AE8: 77 | AF8: 0 | AG8: 0 | AH8: 393 | AI8: 147 | AJ8: 246 | AK8: 0 | AL8: 0
A9: 新北市 | B9: New Taipei City | C9: 4853 | D9: 708 | E9: 3009 | F9: 28 | G9: 1108 | H9: 218 | I9: 88 | J9: 130 | K9: 0 | L9: 0 | M9: 1011 | N9: 18 | O9: 993 | P9: 0 | Q9: 0 | R9: 380 | S9: 109 | T9: 271 | U9: 0 | V9: 0 | W9: 1681 | X9: 358 | Y9: 1323 | Z9: 1136 | AA9: 28 | AB9: 1108 | AC9: 52 | AD9: 12 | AE9: 40 | AF9: 0 | AG9: 0 | AH9: 375 | AI9: 123 | AJ9: 252 | AK9: 0 | AL9: 0
A10: 臺北市 | B10: Taipei City | C10: 2848 | D10: 493 | E10: 1731 | F10: 14 | G10: 610 | H10: 110 | I10: 35 | J10: 75 | K10: 0 | L10: 0 | M10: 536 | N10: 10 | O10: 526 | P10: 0 | Q10: 0 | R10: 150 | S10: 37 | T10: 113 | U10: 0 | V10: 0 | W10: 940 | X10: 219 | Y10: 721 | Z10: 621 | AA10: 12 | AB10: 609 | AC10: 213 | AD10: 81 | AE10: 129 | AF10: 2 | AG10: 1 | AH10: 278 | AI10: 111 | AJ10: 167 | AK10: 0 | AL10: 0
A11: 桃園市 | B11: Taoyuan City | C11: 1314 | D11: 187 | E11: 762 | F11: 4 | G11: 361 | H11: 63 | I11: 31 | J11: 32 | K11: 0 | L11: 0 | M11: 268 | N11: 3 | O11: 265 | P11: 0 | Q11: 0 | R11: 51 | S11: 9 | T11: 42 | U11: 0 | V11: 0 | W11: 488 | X11: 116 | Y11: 372 | Z11: 365 | AA11: 4 | AB11: 361 | AC11: 28 | AD11: 9 | AE11: 19 | AF11: 0 | AG11: 0 | AH11: 51 | AI11: 19 | AJ11: 32 | AK11: 0 | AL11: 0
A12: 臺中市 | B12: Taichung City | C12: 1632 | D12: 247 | E12: 988 | F12: 4 | G12: 393 | H12: 131 | I12: 51 | J12: 80 | K12: 0 | L12: 0 | M12: 317 | N12: 6 | O12: 311 | P12: 0 | Q12: 0 | R12: 62 | S12: 17 | T12: 45 | U12: 0 | V12: 0 | W12: 590 | X12: 139 | Y12: 451 | Z12: 397 | AA12: 4 | AB12: 393 | AC12: 135 | AD12: 34 | AE12: 101 | AF12: 0 | AG12: 0 | AH12: 0 | AI12: 0 | AJ12: 0 | AK12: 0 | AL12: 0
A13: 臺南市 | B13: Tainan City | C13: 2313 | D13: 353 | E13: 1447 | F13: 12 | G13: 501 | H13: 109 | I13: 38 | J13: 71 | K13: 0 | L13: 0 | M13: 469 | N13: 11 | O13: 458 | P13: 0 | Q13: 0 | R13: 98 | S13: 28 | T13: 70 | U13: 0 | V13: 0 | W13: 744 | X13: 162 | Y13: 582 | Z13: 513 | AA13: 12 | AB13: 501 | AC13: 192 | AD13: 61 | AE13: 131 | AF13: 0 | AG13: 0 | AH13: 188 | AI13: 53 | AJ13: 135 | AK13: 0 | AL13: 0
A14: 高雄市 | B14: Kaohsiung City | C14: 3548 | D14: 519 | E14: 2229 | F14: 41 | G14: 759 | H14: 165 | I14: 63 | J14: 102 | K14: 0 | L14: 0 | M14: 734 | N14: 14 | O14: 720 | P14: 0 | Q14: 0 | R14: 167 | S14: 41 | T14: 118 | U14: 2 | V14: 6 | W14: 1140 | X14: 234 | Y14: 906 | Z14: 792 | AA14: 39 | AB14: 753 | AC14: 229 | AD14: 89 | AE14: 140 | AF14: 0 | AG14: 0 | AH14: 321 | AI14: 78 | AJ14: 243 | AK14: 0 | AL14: 0
A15: 宜蘭縣 | B15: Yilan County | C15: 1082 | D15: 158 | E15: 630 | F15: 13 | G15: 281 | H15: 43 | I15: 17 | J15: 26 | K15: 0 | L15: 0 | M15: 195 | N15: 2 | O15: 193 | P15: 0 | Q15: 0 | R15: 50 | S15: 12 | T15: 38 | U15: 0 | V15: 0 | W15: 365 | X15: 70 | Y15: 295 | Z15: 291 | AA15: 12 | AB15: 279 | AC15: 62 | AD15: 28 | AE15: 33 | AF15: 1 | AG15: 0 | AH15: 76 | AI15: 29 | AJ15: 45 | AK15: 0 | AL15: 2
A16: 新竹縣 | B16: Hsinchu County | C16: 477 | D16: 96 | E16: 369 | F16: 3 | G16: 9 | H16: 42 | I16: 18 | J16: 24 | K16: 0 | L16: 0 | M16: 88 | N16: 7 | O16: 81 | P16: 0 | Q16: 0 | R16: 23 | S16: 6 | T16: 17 | U16: 0 | V16: 0 | W16: 278 | X16: 53 | Y16: 225 | Z16: 12 | AA16: 3 | AB16: 9 | AC16: 9 | AD16: 3 | AE16: 6 | AF16: 0 | AG16: 0 | AH16: 25 | AI16: 9 | AJ16: 16 | AK16: 0 | AL16: 0
A17: 苗栗縣 | B17: Miaoli County | C17: 387 | D17: 70 | E17: 230 | F17: 9 | G17: 78 | H17: 15 | I17: 3 | J17: 12 | K17: 0 | L17: 0 | M17: 65 | N17: 1 | O17: 64 | P17: 0 | Q17: 0 | R17: 17 | S17: 4 | T17: 13 | U17: 0 | V17: 0 | W17: 121 | X17: 20 | Y17: 101 | Z17: 87 | AA17: 9 | AB17: 78 | AC17: 28 | AD17: 14 | AE17: 14 | AF17: 0 | AG17: 0 | AH17: 54 | AI17: 28 | AJ17: 26 | AK17: 0 | AL17: 0
A18: 彰化縣 | B18: Changhua County | C18: 1129 | D18: 169 | E18: 651 | F18: 7 | G18: 302 | H18: 90 | I18: 31 | J18: 59 | K18: 0 | L18: 0 | M18: 207 | N18: 6 | O18: 201 | P18: 0 | Q18: 0 | R18: 54 | S18: 8 | T18: 46 | U18: 0 | V18: 0 | W18: 359 | X18: 87 | Y18: 272 | Z18: 308 | AA18: 7 | AB18: 301 | AC18: 69 | AD18: 21 | AE18: 47 | AF18: 0 | AG18: 1 | AH18: 42 | AI18: 16 | AJ18: 26 | AK18: 0 | AL18: 0
... A30: 連江縣 | B30: Lienchiang County | C30: 19 | D30: 2 | E30: 17 | F30: 0 | G30: 0 | H30: 1 | I30: 0 | J30: 1 | K30: 0 | L30: 0 | M30: 5 | N30: 0 | O30: 5 | P30: 0 | Q30: 0 | R30: 1 | S30: 0 | T30: 1 | U30: 0 | V30: 0 | W30: 10 | X30: 1 | Y30: 9 | Z30: 0 | AA30: 0 | AB30: 0 | AC30: 0 | AD30: 0 | AE30: 0 | AF30: 0 | AG30: 0 | AH30: 2 | AI30: 1 | AJ30: 1 | AK30: 0 | AL30: 0
A31: 資料來源：衛生福利部社會及家庭署及直轄市、縣(市)政府。
A32: Source : Social and Family Affairs Administration, Mohw and County and City Government.

Sheet 105
A1: 老人長期照顧、安養機構工作人員 Number of Workers in Elderly Long-term Care, Nursing and Caring Institutions
A2: 105年底 End of 2016 | AL2: 單位：人
A3: 區域別 Locality | C3: 總計 Grand Total | H3: 院長(主任) Dean | M3: 護理人員 Nursing Staff | R3: 社會工作人員 Social Workers | W3: 照顧服務員 Care Attendants | Z3: 外籍看護工 Foreign Care Workers | AC3: 服務相關之專業人員 Service Related Professionals | AH3: 其他人員 Others
C4: 計 Total | D4: 本國籍 R.O.C. Citizens | F4: 外國籍 Aliens | H4: 計 Total | I4: 本國籍 R.O.C. Citizens | K4: 外國籍 Aliens | M4: 計 Total | N4: 本國籍 R.O.C. Citizens | P4: 外國籍 Aliens | R4: 計 Total | S4: 本國籍 R.O.C. Citizens | U4: 外國籍 Aliens | W4: 計 Total | X4: 本國籍 R.O.C. Citizens | Z4: 計 Total | AA4: 外國籍 Aliens | AC4: 計 Total | AD4: 本國籍 R.O.C. Citizens | AF4: 外國籍 Aliens | AH4: 計 Total | AI4: 本國籍 R.O.C. Citizens | AK4: 外國籍 Aliens
D5: 男 | E5: 女 | F5: 男 | G5: 女 | I5: 男 | J5: 女 | K5: 男 | L5: 女 | N5: 男 | O5: 女 | P5: 男 | Q5: 女 | S5: 男 | T5: 女 | U5: 男 | V5: 女 | X5: 男 | Y5: 女 | AA5: 男 | AB5: 女 | AD5: 男 | AE5: 女 | AF5: 男 | AG5: 女 | AI5: 男 | AJ5: 女 | AK5: 男 | AL5: 女
D6: Male | E6: Female | F6: Male | G6: Female | I6: Male | J6: Female | K6: Male | L6: Female | N6: Male | O6: Female | P6: Male | Q6: Female | S6: Male | T6: Female | U6: Male | V6: Female | X6: Male | Y6: Female | AA6: Male | AB6: Female | AD6: Male | AE6: Female | AF6: Male | AG6: Female | AI6: Male | AJ6: Female | AK6: Male | AL6: Female
A7: 總計 | B7: Total | C7: 25878 | D7: 4199 | E7: 15930 | F7: 178 | G7: 5571 | H7: 1468 | I7: 555 | J7: 911 | K7: 0 | L7: 2 | M7: 4977 | N7: 73 | O7: 4903 | P7: 0 | Q7: 1 | R7: 1241 | S7: 334 | T7: 905 | U7: 1 | V7: 1 | W7: 8917 | X7: 1944 | Y7: 6973 | Z7: 5696 | AA7: 176 | AB7: 5520 | AC7: 1623 | AD7: 555 | AE7: 1047 | AF7: 1 | AG7: 20 | AH7: 1956 | AI7: 738 | AJ7: 1191 | AK7: 0 | AL7: 27
A8: 部直轄 | B8: Institution under Mohw | C8: 1976 | D8: 452 | E8: 1313 | F8: 17 | G8: 194 | H8: 39 | I8: 21 | J8: 18 | K8: 0 | L8: 0 | M8: 326 | N8: 6 | O8: 320 | P8: 0 | Q8: 0 | R8: 93 | S8: 15 | T8: 77 | U8: 0 | V8: 1 | W8: 799 | X8: 208 | Y8: 591 | Z8: 210 | AA8: 17 | AB8: 193 | AC8: 108 | AD8: 37 | AE8: 71 | AF8: 0 | AG8: 0 | AH8: 401 | AI8: 165 | AJ8: 236 | AK8: 0 | AL8: 0
A9: 新北市 | B9: New Taipei City | C9: 4558 | D9: 676 | E9: 2854 | F9: 31 | G9: 997 | H9: 208 | I9: 77 | J9: 131 | K9: 0 | L9: 0 | M9: 980 | N9: 13 | O9: 967 | P9: 0 | Q9: 0 | R9: 336 | S9: 107 | T9: 229 | U9: 0 | V9: 0 | W9: 1609 | X9: 356 | Y9: 1253 | Z9: 1028 | AA9: 31 | AB9: 997 | AC9: 267 | AD9: 69 | AE9: 198 | AF9: 0 | AG9: 0 | AH9: 130 | AI9: 54 | AJ9: 76 | AK9: 0 | AL9: 0
A10: 臺北市 | B10: Taipei City | C10: 2883 | D10: 515 | E10: 1747 | F10: 21 | G10: 600 | H10: 118 | I10: 33 | J10: 85 | K10: 0 | L10: 0 | M10: 513 | N10: 5 | O10: 508 | P10: 0 | Q10: 0 | R10: 143 | S10: 35 | T10: 108 | U10: 0 | V10: 0 | W10: 981 | X10: 243 | Y10: 738 | Z10: 621 | AA10: 21 | AB10: 600 | AC10: 193 | AD10: 83 | AE10: 110 | AF10: 0 | AG10: 0 | AH10: 314 | AI10: 116 | AJ10: 198 | AK10: 0 | AL10: 0
A11: 桃園市 | B11: Taoyuan City | C11: 1241 | D11: 183 | E11: 713 | F11: 2 | G11: 343 | H11: 63 | I11: 30 | J11: 33 | K11: 0 | L11: 0 | M11: 241 | N11: 3 | O11: 238 | P11: 0 | Q11: 0 | R11: 44 | S11: 10 | T11: 34 | U11: 0 | V11: 0 | W11: 462 | X11: 110 | Y11: 352 | Z11: 345 | AA11: 2 | AB11: 343 | AC11: 34 | AD11: 13 | AE11: 21 | AF11: 0 | AG11: 0 | AH11: 52 | AI11: 17 | AJ11: 35 | AK11: 0 | AL11: 0
A12: 臺中市 | B12: Taichung City | C12: 1565 | D12: 244 | E12: 941 | F12: 5 | G12: 375 | H12: 124 | I12: 49 | J12: 75 | K12: 0 | L12: 0 | M12: 296 | N12: 8 | O12: 288 | P12: 0 | Q12: 0 | R12: 57 | S12: 13 | T12: 44 | U12: 0 | V12: 0 | W12: 579 | X12: 140 | Y12: 439 | Z12: 369 | AA12: 5 | AB12: 364 | AC12: 140 | AD12: 34 | AE12: 95 | AF12: 0 | AG12: 11 | AH12: 0 | AI12: 0 | AJ12: 0 | AK12: 0 | AL12: 0
A13: 臺南市 | B13: Tainan City | C13: 2230 | D13: 366 | E13: 1386 | F13: 11 | G13: 467 | H13: 110 | I13: 39 | J13: 71 | K13: 0 | L13: 0 | M13: 443 | N13: 4 | O13: 439 | P13: 0 | Q13: 0 | R13: 93 | S13: 23 | T13: 70 | U13: 0 | V13: 0 | W13: 708 | X13: 148 | Y13: 560 | Z13: 478 | AA13: 11 | AB13: 467 | AC13: 204 | AD13: 88 | AE13: 116 | AF13: 0 | AG13: 0 | AH13: 194 | AI13: 64 | AJ13: 130 | AK13: 0 | AL13: 0
A14: 高雄市 | B14: Kaohsiung City | C14: 3496 | D14: 609 | E14: 2129 | F14: 35 | G14: 723 | H14: 263 | I14: 83 | J14: 180 | K14: 0 | L14: 0 | M14: 707 | N14: 10 | O14: 697 | P14: 0 | Q14: 0 | R14: 148 | S14: 51 | T14: 96 | U14: 1 | V14: 0 | W14: 1100 | X14: 249 | Y14: 851 | Z14: 746 | AA14: 34 | AB14: 712 | AC14: 263 | AD14: 95 | AE14: 163 | AF14: 0 | AG14: 5 | AH14: 269 | AI14: 121 | AJ14: 142 | AK14: 0 | AL14: 6
A15: 宜蘭縣 | B15: Yilan County | C15: 1029 | D15: 152 | E15: 599 | F15: 19 | G15: 259 | H15: 46 | I15: 19 | J15: 27 | K15: 0 | L15: 0 | M15: 185 | N15: 1 | O15: 184 | P15: 0 | Q15: 0 | R15: 47 | S15: 15 | T15: 32 | U15: 0 | V15: 0 | W15: 336 | X15: 57 | Y15: 279 | Z15: 271 | AA15: 18 | AB15: 253 | AC15: 57 | AD15: 22 | AE15: 33 | AF15: 1 | AG15: 1 | AH15: 87 | AI15: 38 | AJ15: 44 | AK15: 0 | AL15: 5
A16: 新竹縣 | B16: Hsinchu County | C16: 440 | D16: 74 | E16: 248 | F16: 9 | G16: 109 | H16: 35 | I16: 19 | J16: 16 | K16: 0 | L16: 0 | M16: 73 | N16: 1 | O16: 72 | P16: 0 | Q16: 0 | R16: 18 | S16: 4 | T16: 14 | U16: 0 | V16: 0 | W16: 164 | X16: 42 | Y16: 122 | Z16: 118 | AA16: 9 | AB16: 109 | AC16: 12 | AD16: 3 | AE16: 9 | AF16: 0 | AG16: 0 | AH16: 20 | AI16: 5 | AJ16: 15 | AK16: 0 | AL16: 0
A17: 苗栗縣 | B17: Miaoli County | C17: 365 | D17: 63 | E17: 216 | F17: 8 | G17: 78 | H17: 14 | I17: 4 | J17: 10 | K17: 0 | L17: 0 | M17: 61 | N17: 1 | O17: 60 | P17: 0 | Q17: 0 | R17: 16 | S17: 4 | T17: 12 | U17: 0 | V17: 0 | W17: 115 | X17: 21 | Y17: 94 | Z17: 86 | AA17: 8 | AB17: 78 | AC17: 26 | AD17: 6 | AE17: 20 | AF17: 0 | AG17: 0 | AH17: 47 | AI17: 27 | AJ17: 20 | AK17: 0 | AL17: 0
A18: 彰化縣 | B18: Changhua County | C18: 1111 | D18: 161 | E18: 661 | F18: 5 | G18: 284 | H18: 96 | I18: 33 | J18: 63 | K18: 0 | L18: 0 | M18: 201 | N18: 4 | O18: 197 | P18: 0 | Q18: 0 | R18: 50 | S18: 6 | T18: 44 | U18: 0 | V18: 0 | W18: 364 | X18: 83 | Y18: 281 | Z18: 289 | AA18: 5 | AB18: 284 | AC18: 67 | AD18: 21 | AE18: 46 | AF18: 0 | AG18: 0 | AH18: 44 | AI18: 14 | AJ18: 30 | AK18: 0 | AL18: 0
... A30: 連江縣 | B30: Lienchiang County | C30: 14 | D30: 1 | E30: 13 | F30: 0 | G30: 0 | H30: 1 | I30: 0 | J30: 1 | K30: 0 | L30: 0 | M30: 1 | N30: 0 | O30: 1 | P30: 0 | Q30: 0 | R30: 1 | S30: 0 | T30: 1 | U30: 0 | V30: 0 | W30: 9 | X30: 0 | Y30: 9 | Z30: 0 | AA30: 0 | AB30: 0 | AC30: 0 | AD30: 0 | AE30: 0 | AF30: 0 | AG30: 0 | AH30: 2 | AI30: 1 | AJ30: 1 | AK30: 0 | AL30: 0
A31: 資料來源：衛生福利部社會及家庭署及直轄市、縣(市)政府。
A32: Source : Social and Family Affairs Administration, Mohw and County and City Government.

Sheet 104
A1: 老人長期照顧、安養機構工作人員 Number of Workers in Elderly Long-term Care, Nursing and Caring Institutions
A2: 104年底 End of 2015 | AL2: 單位：人
A3: 區域別 Locality | C3: 總計 Grand Total | H3: 院長(主任) Dean | M3: 護理人員 Nursing Staff | R3: 社會工作人員 Social Workers | W3: 照顧服務員 Care Attendants | Z3: 外籍看護工 Foreign Care Workers | AC3: 服務相關之專業人員 Service Related Professionals | AH3: 其他人員 Others
C4: 計 Total | D4: 本國籍 R.O.C. Citizens | F4: 外國籍 Aliens | H4: 計 Total | I4: 本國籍 R.O.C. Citizens | K4: 外國籍 Aliens | M4: 計 Total | N4: 本國籍 R.O.C. Citizens | P4: 外國籍 Aliens | R4: 計 Total | S4: 本國籍 R.O.C. Citizens | U4: 外國籍 Aliens | W4: 計 Total | X4: 本國籍 R.O.C. Citizens | Z4: 計 Total | AA4: 外國籍 Aliens | AC4: 計 Total | AD4: 本國籍 R.O.C. Citizens | AF4: 外國籍 Aliens | AH4: 計 Total | AI4: 本國籍 R.O.C. Citizens | AK4: 外國籍 Aliens
D5: 男 | E5: 女 | F5: 男 | G5: 女 | I5: 男 | J5: 女 | K5: 男 | L5: 女 | N5: 男 | O5: 女 | P5: 男 | Q5: 女 | S5: 男 | T5: 女 | U5: 男 | V5: 女 | X5: 男 | Y5: 女 | AA5: 男 | AB5: 女 | AD5: 男 | AE5: 女 | AF5: 男 | AG5: 女 | AI5: 男 | AJ5: 女 | AK5: 男 | AL5: 女
D6: Male | E6: Female | F6: Male | G6: Female | I6: Male | J6: Female | K6: Male | L6: Female | N6: Male | O6: Female | P6: Male | Q6: Female | S6: Male | T6: Female | U6: Male | V6: Female | X6: Male | Y6: Female | AA6: Male | AB6: Female | AD6: Male | AE6: Female | AF6: Male | AG6: Female | AI6: Male | AJ6: Female | AK6: Male | AL6: Female
A7: 總計 | B7: Total | C7: 24093 | D7: 3585 | E7: 14993 | F7: 146 | G7: 5369 | H7: 1503 | I7: 562 | J7: 939 | K7: 0 | L7: 2 | M7: 4645 | N7: 52 | O7: 4586 | P7: 0 | Q7: 7 | R7: 1147 | S7: 267 | T7: 873 | U7: 0 | V7: 7 | W7: 8357 | X7: 1689 | Y7: 6668 | Z7: 5449 | AA7: 145 | AB7: 5304 | AC7: 1291 | AD7: 395 | AE7: 876 | AF7: 0 | AG7: 20 | AH7: 1701 | AI7: 620 | AJ7: 1051 | AK7: 1 | AL7: 29
A8: 部直轄 | B8: Institution under Mohw | C8: 1821 | D8: 374 | E8: 1240 | F8: 18 | G8: 189 | H8: 28 | I8: 15 | J8: 13 | K8: 0 | L8: 0 | M8: 295 | N8: 2 | O8: 293 | P8: 0 | Q8: 0 | R8: 89 | S8: 15 | T8: 73 | U8: 0 | V8: 1 | W8: 762 | X8: 176 | Y8: 586 | Z8: 206 | AA8: 18 | AB8: 188 | AC8: 101 | AD8: 22 | AE8: 79 | AF8: 0 | AG8: 0 | AH8: 340 | AI8: 144 | AJ8: 196 | AK8: 0 | AL8: 0
A9: 新北市 | B9: New Taipei City | C9: 4148 | D9: 592 | E9: 2579 | F9: 18 | G9: 959 | H9: 248 | I9: 98 | J9: 150 | K9: 0 | L9: 0 | M9: 869 | N9: 9 | O9: 858 | P9: 0 | Q9: 2 | R9: 257 | S9: 75 | T9: 182 | U9: 0 | V9: 0 | W9: 1494 | X9: 316 | Y9: 1178 | Z9: 975 | AA9: 18 | AB9: 957 | AC9: 177 | AD9: 44 | AE9: 133 | AF9: 0 | AG9: 0 | AH9: 128 | AI9: 50 | AJ9: 78 | AK9: 0 | AL9: 0
A10: 臺北市 | B10: Taipei City | C10: 2821 | D10: 442 | E10: 1755 | F10: 28 | G10: 596 | H10: 130 | I10: 36 | J10: 94 | K10: 0 | L10: 0 | M10: 510 | N10: 5 | O10: 505 | P10: 0 | Q10: 0 | R10: 159 | S10: 37 | T10: 122 | U10: 0 | V10: 0 | W10: 949 | X10: 202 | Y10: 747 | Z10: 622 | AA10: 28 | AB10: 594 | AC10: 236 | AD10: 87 | AE10: 147 | AF10: 0 | AG10: 2 | AH10: 215 | AI10: 75 | AJ10: 140 | AK10: 0 | AL10: 0
A11: 桃園市 | B11: Taoyuan City | C11: 1113 | D11: 149 | E11: 677 | F11: 1 | G11: 286 | H11: 60 | I11: 24 | J11: 36 | K11: 0 | L11: 0 | M11: 238 | N11: 1 | O11: 237 | P11: 0 | Q11: 0 | R11: 42 | S11: 5 | T11: 37 | U11: 0 | V11: 0 | W11: 425 | X11: 96 | Y11: 329 | Z11: 287 | AA11: 1 | AB11: 286 | AC11: 1 | AD11: 1 | AE11: 0 | AF11: 0 | AG11: 0 | AH11: 60 | AI11: 22 | AJ11: 38 | AK11: 0 | AL11: 0
A12: 臺中市 | B12: Taichung City | C12: 1485 | D12: 214 | E12: 919 | F12: 5 | G12: 347 | H12: 126 | I12: 50 | J12: 76 | K12: 0 | L12: 0 | M12: 273 | N12: 4 | O12: 269 | P12: 0 | Q12: 0 | R12: 66 | S12: 11 | T12: 55 | U12: 0 | V12: 0 | W12: 536 | X12: 114 | Y12: 422 | Z12: 347 | AA12: 5 | AB12: 342 | AC12: 137 | AD12: 35 | AE12: 97 | AF12: 0 | AG12: 5 | AH12: 0 | AI12: 0 | AJ12: 0 | AK12: 0 | AL12: 0
A13: 臺南市 | B13: Tainan City | C13: 1897 | D13: 251 | E13: 1170 | F13: 9 | G13: 467 | H13: 125 | I13: 51 | J13: 74 | K13: 0 | L13: 0 | M13: 395 | N13: 3 | O13: 392 | P13: 0 | Q13: 0 | R13: 60 | S13: 9 | T13: 51 | U13: 0 | V13: 0 | W13: 672 | X13: 133 | Y13: 539 | Z13: 474 | AA13: 9 | AB13: 465 | AC13: 40 | AD13: 8 | AE13: 32 | AF13: 0 | AG13: 0 | AH13: 131 | AI13: 47 | AJ13: 82 | AK13: 0 | AL13: 2
A14: 高雄市 | B14: Kaohsiung City | C14: 3234 | D14: 510 | E14: 2023 | F14: 23 | G14: 678 | H14: 285 | I14: 81 | J14: 203 | K14: 0 | L14: 1 | M14: 656 | N14: 5 | O14: 651 | P14: 0 | Q14: 0 | R14: 139 | S14: 36 | T14: 103 | U14: 0 | V14: 0 | W14: 998 | X14: 199 | Y14: 799 | Z14: 692 | AA14: 23 | AB14: 669 | AC14: 216 | AD14: 84 | AE14: 132 | AF14: 0 | AG14: 0 | AH14: 248 | AI14: 105 | AJ14: 135 | AK14: 0 | AL14: 8
A15: 宜蘭縣 | B15: Yilan County | C15: 965 | D15: 131 | E15: 570 | F15: 11 | G15: 253 | H15: 39 | I15: 11 | J15: 28 | K15: 0 | L15: 0 | M15: 179 | N15: 1 | O15: 178 | P15: 0 | Q15: 0 | R15: 43 | S15: 11 | T15: 32 | U15: 0 | V15: 0 | W15: 319 | X15: 56 | Y15: 263 | Z15: 261 | AA15: 10 | AB15: 251 | AC15: 38 | AD15: 21 | AE15: 17 | AF15: 0 | AG15: 0 | AH15: 86 | AI15: 31 | AJ15: 52 | AK15: 1 | AL15: 2
A16: 新竹縣 | B16: Hsinchu County | C16: 430 | D16: 70 | E16: 241 | F16: 5 | G16: 114 | H16: 42 | I16: 22 | J16: 20 | K16: 0 | L16: 0 | M16: 69 | N16: 2 | O16: 67 | P16: 0 | Q16: 0 | R16: 19 | S16: 4 | T16: 15 | U16: 0 | V16: 0 | W16: 151 | X16: 37 | Y16: 114 | Z16: 119 | AA16: 5 | AB16: 114 | AC16: 11 | AD16: 1 | AE16: 10 | AF16: 0 | AG16: 0 | AH16: 19 | AI16: 4 | AJ16: 15 | AK16: 0 | AL16: 0
A17: 苗栗縣 | B17: Miaoli County | C17: 327 | D17: 50 | E17: 198 | F17: 12 | G17: 67 | H17: 13 | I17: 4 | J17: 9 | K17: 0 | L17: 0 | M17: 59 | N17: 2 | O17: 57 | P17: 0 | Q17: 0 | R17: 14 | S17: 3 | T17: 11 | U17: 0 | V17: 0 | W17: 104 | X17: 21 | Y17: 83 | Z17: 79 | AA17: 12 | AB17: 67 | AC17: 31 | AD17: 8 | AE17: 23 | AF17: 0 | AG17: 0 | AH17: 27 | AI17: 12 | AJ17: 15 | AK17: 0 | AL17: 0
A18: 彰化縣 | B18: Changhua County | C18: 1109 | D18: 157 | E18: 668 | F18: 4 | G18: 280 | H18: 100 | I18: 38 | J18: 62 | K18: 0 | L18: 0 | M18: 198 | N18: 3 | O18: 195 | P18: 0 | Q18: 0 | R18: 54 | S18: 6 | T18: 48 | U18: 0 | V18: 0 | W18: 361 | X18: 80 | Y18: 281 | Z18: 284 | AA18: 4 | AB18: 280 | AC18: 66 | AD18: 17 | AE18: 49 | AF18: 0 | AG18: 0 | AH18: 46 | AI18: 13 | AJ18: 33 | AK18: 0 | AL18: 0
... A30: 連江縣 | B30: Lienchiang County | C30: 13 | D30: 1 | E30: 12 | F30: 0 | G30: 0 | H30: 1 | I30: 0 | J30: 1 | K30: 0 | L30: 0 | M30: 1 | N30: 0 | O30: 1 | P30: 0 | Q30: 0 | R30: 1 | S30: 0 | T30: 1 | U30: 0 | V30: 0 | W30: 8 | X30: 0 | Y30: 8 | Z30: 0 | AA30: 0 | AB30: 0 | AC30: 0 | AD30: 0 | AE30: 0 | AF30: 0 | AG30: 0 | AH30: 2 | AI30: 1 | AJ30: 1 | AK30: 0 | AL30: 0
A31: 資料來源：衛生福利部社會及家庭署及直轄市、縣(市)政府。
A32: Source : Social and Family Affairs Administration, Mohw and County and City Government.

Sheet 103
A1: 老人長期照顧、安養機構工作人員 Number of Workers in Elderly Long-term Care, Nursing and Caring Institutions
A2: 103年底 End of 2014 | AP2: 單位：人
A3: 區域別 Locality | C3: 總計 Grand Total | H3: 行政人員(含主任) Administrators | M3: 護理人員 Nursing Staff | R3: 社會工作人員 Social Workers | W3: 服務人員 Serviceman | AL3: 其他人員 Others
W4: 合計 Total | AB4: 照顧服務員 Cate Attendants | AG4: 服務相關之專業人員 Service Related Professionals
C5: 計 Total | D5: 本國籍 R.O.C. Citizens | F5: 外國籍 Aliens | H5: 計 Total | I5: 本國籍 R.O.C. Citizens | K5: 外國籍 Aliens | M5: 計 Total | N5: 本國籍 R.O.C. Citizens | P5: 外國籍 Aliens | R5: 計 Total | S5: 本國籍 R.O.C. Citizens | U5: 外國籍 Aliens | W5: 計 Total | X5: 本國籍 R.O.C. Citizens | Z5: 外國籍 Aliens | AB5: 計 Total | AC5: 本國籍 R.O.C. Citizens | AE5: 外國籍 Aliens | AG5: 計 Total | AH5: 本國籍 R.O.C. Citizens | AJ5: 外國籍 Aliens | AL5: 計 Total | AM5: 本國籍 R.O.C. Citizens | AO5: 外國籍 Aliens
D6: 男 | E6: 女 | F6: 男 | G6: 女 | I6: 男 | J6: 女 | K6: 男 | L6: 女 | N6: 男 | O6: 女 | P6: 男 | Q6: 女 | S6: 男 | T6: 女 | U6: 男 | V6: 女 | X6: 男 | Y6: 女 | Z6: 男 | AA6: 女 | AC6: 男 | AD6: 女 | AE6: 男 | AF6: 女 | AH6: 男 | AI6: 女 | AJ6: 男 | AK6: 女 | AM6: 男 | AN6: 女 | AO6: 男 | AP6: 女
D7: Male | E7: Female | F7: Male | G7: Female | I7: Male | J7: Female | K7: Male | L7: Female | N7: Male | O7: Female | P7: Male | Q7: Female | S7: Male | T7: Female | U7: Male | V7: Female | X7: Male | Y7: Female | Z7: Male | AA7: Female | AC7: Male | AD7: Female | AE7: Male | AF7: Female | AH7: Male | AI7: Female | AJ7: Male | AK7: Female | AM7: Male | AN7: Female | AO7: Male | AP7: Female
A8: 總計 | B8: Total | C8: 23572 | D8: 3562 | E8: 14814 | F8: 133 | G8: 5063 | H8: 2067 | I8: 745 | J8: 1319 | K8: 0 | L8: 3 | M8: 4533 | N8: 59 | O8: 4473 | P8: 0 | Q8: 1 | R8: 1092 | S8: 235 | T8: 848 | U8: 1 | V8: 8 | W8: =AB8+AG8 -> 14522 | X8: =AC8+AH8 -> 2026 | Y8: =AD8+AI8 -> 7338 | Z8: =AE8+AJ8 -> 129 | AA8: =AF8+AK8 -> 5029 | AB8: 13343 | AC8: 1663 | AD8: 6533 | AE8: 128 | AF8: 5019 | AG8: 1179 | AH8: 363 | AI8: 805 | AJ8: 1 | AK8: 10 | AL8: 1358 | AM8: 497 | AN8: 836 | AO8: 3 | AP8: 22
A9: 部直轄 | B9: Institution under Mohw | C9: 1834 | D9: 378 | E9: 1250 | F9: 20 | G9: 186 | H9: 182 | I9: 75 | J9: 107 | K9: 0 | L9: 0 | M9: 301 | N9: 2 | O9: 299 | P9: 0 | Q9: 0 | R9: 97 | S9: 17 | T9: 80 | U9: 0 | V9: 0 | W9: =AB9+AG9 -> 1084 | X9: =AC9+AH9 -> 206 | Y9: =AD9+AI9 -> 672 | Z9: =AE9+AJ9 -> 20 | AA9: =AF9+AK9 -> 186 | AB9: 973 | AC9: 173 | AD9: 594 | AE9: 20 | AF9: 186 | AG9: 111 | AH9: 33 | AI9: 78 | AJ9: 0 | AK9: 0 | AL9: 170 | AM9: 78 | AN9: 92 | AO9: 0 | AP9: 0
A10: 新北市 | B10: New Taipei City | C10: 4001 | D10: 545 | E10: 2540 | F10: 21 | G10: 895 | H10: 251 | I10: 88 | J10: 163 | K10: 0 | L10: 0 | M10: 876 | N10: 8 | O10: 868 | P10: 0 | Q10: 0 | R10: 196 | S10: 49 | T10: 145 | U10: 1 | V10: 1 | W10: =AB10+AG10 -> 2553 | X10: =AC10+AH10 -> 358 | Y10: =AD10+AI10 -> 1281 | Z10: =AE10+AJ10 -> 20 | AA10: =AF10+AK10 -> 894 | AB10: 2406 | AC10: 320 | AD10: 1174 | AE10: 19 | AF10: 893 | AG10: 147 | AH10: 38 | AI10: 107 | AJ10: 1 | AK10: 1 | AL10: 125 | AM10: 42 | AN10: 83 | AO10: 0 | AP10: 0
A11: 臺北市 | B11: Taipei City | C11: 2842 | D11: 492 | E11: 1744 | F11: 13 | G11: 593 | H11: 256 | I11: 78 | J11: 178 | K11: 0 | L11: 0 | M11: 525 | N11: 9 | O11: 516 | P11: 0 | Q11: 0 | R11: 153 | S11: 32 | T11: 121 | U11: 0 | V11: 0 | W11: =AB11+AG11 -> 1700 | X11: =AC11+AH11 -> 285 | Y11: =AD11+AI11 -> 810 | Z11: =AE11+AJ11 -> 13 | AA11: =AF11+AK11 -> 592 | AB11: 1528 | AC11: 221 | AD11: 702 | AE11: 13 | AF11: 592 | AG11: 172 | AH11: 64 | AI11: 108 | AJ11: 0 | AK11: 0 | AL11: 208 | AM11: 88 | AN11: 119 | AO11: 0 | AP11: 1
A12: 臺中市 | B12: Taichung City | C12: 1459 | D12: 193 | E12: 917 | F12: 4 | G12: 345 | H12: 130 | I12: 50 | J12: 80 | K12: 0 | L12: 0 | M12: 266 | N12: 2 | O12: 264 | P12: 0 | Q12: 0 | R12: 64 | S12: 11 | T12: 53 | U12: 0 | V12: 0 | W12: =AB12+AG12 -> 999 | X12: =AC12+AH12 -> 130 | Y12: =AD12+AI12 -> 520 | Z12: =AE12+AJ12 -> 4 | AA12: =AF12+AK12 -> 345 | AB12: 870 | AC12: 98 | AD12: 423 | AE12: 4 | AF12: 345 | AG12: 129 | AH12: 32 | AI12: 97 | AJ12: 0 | AK12: 0 | AL12: 0 | AM12: 0 | AN12: 0 | AO12: 0 | AP12: 0
A13: 臺南市 | B13: Tainan City | C13: 1899 | D13: 254 | E13: 1200 | F13: 2 | G13: 443 | H13: 180 | I13: 64 | J13: 116 | K13: 0 | L13: 0 | M13: 390 | N13: 4 | O13: 386 | P13: 0 | Q13: 0 | R13: 62 | S13: 5 | T13: 57 | U13: 0 | V13: 0 | W13: =AB13+AG13 -> 1126 | X13: =AC13+AH13 -> 126 | Y13: =AD13+AI13 -> 555 | Z13: =AE13+AJ13 -> 2 | AA13: =AF13+AK13 -> 443 | AB13: 1082 | AC13: 117 | AD13: 520 | AE13: 2 | AF13: 443 | AG13: 44 | AH13: 9 | AI13: 35 | AJ13: 0 | AK13: 0 | AL13: 141 | AM13: 55 | AN13: 86 | AO13: 0 | AP13: 0
A14: 高雄市 | B14: Kaohsiung City | C14: 2995 | D14: 445 | E14: 1906 | F14: 25 | G14: 619 | H14: 258 | I14: 80 | J14: 178 | K14: 0 | L14: 0 | M14: 611 | N14: 4 | O14: 607 | P14: 0 | Q14: 0 | R14: 140 | S14: 35 | T14: 105 | U14: 0 | V14: 0 | W14: =AB14+AG14 -> 1809 | X14: =AC14+AH14 -> 263 | Y14: =AD14+AI14 -> 908 | Z14: =AE14+AJ14 -> 25 | AA14: =AF14+AK14 -> 613 | AB14: 1600 | AC14: 183 | AD14: 779 | AE14: 25 | AF14: 613 | AG14: 209 | AH14: 80 | AI14: 129 | AJ14: 0 | AK14: 0 | AL14: 177 | AM14: 63 | AN14: 108 | AO14: 0 | AP14: 6
A15: 宜蘭縣 | B15: Yilan County | C15: 959 | D15: 129 | E15: 613 | F15: 9 | G15: 208 | H15: 95 | I15: 23 | J15: 72 | K15: 0 | L15: 0 | M15: 174 | N15: 1 | O15: 173 | P15: 0 | Q15: 0 | R15: 43 | S15: 10 | T15: 33 | U15: 0 | V15: 0 | W15: =AB15+AG15 -> 596 | X15: =AC15+AH15 -> 73 | Y15: =AD15+AI15 -> 308 | Z15: =AE15+AJ15 -> 9 | AA15: =AF15+AK15 -> 206 | AB15: 545 | AC15: 49 | AD15: 282 | AE15: 9 | AF15: 205 | AG15: 51 | AH15: 24 | AI15: 26 | AJ15: 0 | AK15: 1 | AL15: 51 | AM15: 22 | AN15: 27 | AO15: 0 | AP15: 2
A16: 桃園縣 | B16: Taoyuan County | C16: 1100 | D16: 149 | E16: 655 | F16: 1 | G16: 295 | H16: 90 | I16: 34 | J16: 56 | K16: 0 | L16: 0 | M16: 224 | N16: 1 | O16: 223 | P16: 0 | Q16: 0 | R16: 43 | S16: 8 | T16: 35 | U16: 0 | V16: 0 | W16: =AB16+AG16 -> 698 | X16: =AC16+AH16 -> 94 | Y16: =AD16+AI16 -> 308 | Z16: =AE16+AJ16 -> 1 | AA16: =AF16+AK16 -> 295 | AB16: 698 | AC16: 94 | AD16: 308 | AE16: 1 | AF16: 295 | AG16: 0 | AH16: 0 | AI16: 0 | AJ16: 0 | AK16: 0 | AL16: 45 | AM16: 12 | AN16: 33 | AO16: 0 | AP16: 0
A17: 新竹縣 | B17: Hsinchu County | C17: 434 | D17: 80 | E17: 239 | F17: 4 | G17: 111 | H17: 43 | I17: 21 | J17: 22 | K17: 0 | L17: 0 | M17: 71 | N17: 7 | O17: 64 | P17: 0 | Q17: 0 | R17: 18 | S17: 6 | T17: 12 | U17: 0 | V17: 0 | W17: =AB17+AG17 -> 283 | X17: =AC17+AH17 -> 42 | Y17: =AD17+AI17 -> 126 | Z17: =AE17+AJ17 -> 4 | AA17: =AF17+AK17 -> 111 | AB17: 269 | AC17: 41 | AD17: 116 | AE17: 4 | AF17: 108 | AG17: 14 | AH17: 1 | AI17: 10 | AJ17: 0 | AK17: 3 | AL17: 19 | AM17: 4 | AN17: 15 | AO17: 0 | AP17: 0
A18: 苗栗縣 | B18: Miaoli County | C18: 298 | D18: 43 | E18: 178 | F18: 9 | G18: 68 | H18: 26 | I18: 6 | J18: 20 | K18: 0 | L18: 0 | M18: 51 | N18: 1 | O18: 50 | P18: 0 | Q18: 0 | R18: 14 | S18: 3 | T18: 11 | U18: 0 | V18: 0 | W18: =AB18+AG18 -> 196 | X18: =AC18+AH18 -> 31 | Y18: =AD18+AI18 -> 88 | Z18: =AE18+AJ18 -> 9 | AA18: =AF18+AK18 -> 68 | AB18: 177 | AC18: 26 | AD18: 74 | AE18: 9 | AF18: 68 | AG18: 19 | AH18: 5 | AI18: 14 | AJ18: 0 | AK18: 0 | AL18: 11 | AM18: 2 | AN18: 9 | AO18: 0 | AP18: 0
A19: 彰化縣 | B19: Changhua County | C19: 1164 | D19: 164 | E19: 702 | F19: 7 | G19: 291 | H19: 111 | I19: 41 | J19: 70 | K19: 0 | L19: 0 | M19: 209 | N19: 3 | O19: 206 | P19: 0 | Q19: 0 | R19: 55 | S19: 8 | T19: 47 | U19: 0 | V19: 0 | W19: =AB19+AG19 -> 734 | X19: =AC19+AH19 -> 93 | Y19: =AD19+AI19 -> 343 | Z19: =AE19+AJ19 -> 7 | AA19: =AF19+AK19 -> 291 | AB19: 667 | AC19: 72 | AD19: 297 | AE19: 7 | AF19: 291 | AG19: 67 | AH19: 21 | AI19: 46 | AJ19: 0 | AK19: 0 | AL19: 55 | AM19: 19 | AN19: 36 | AO19: 0 | AP19: 0
... A31: 連江縣 | B31: Lienchiang County | C31: 17 | D31: 1 | E31: 16 | F31: 0 | G31: 0 | H31: 3 | I31: 1 | J31: 2 | K31: 0 | L31: 0 | M31: 1 | N31: 0 | O31: 1 | P31: 0 | Q31: 0 | R31: 1 | S31: 0 | T31: 1 | U31: 0 | V31: 0 | W31: =AB31+AG31 -> 7 | X31: =AC31+AH31 -> 0 | Y31: =AD31+AI31 -> 7 | Z31: =AE31+AJ31 -> 0 | AA31: =AF31+AK31 -> 0 | AB31: 7 | AC31: 0 | AD31: 7 | AE31: 0 | AF31: 0 | AG31: 0 | AH31: 0 | AI31: 0 | AJ31: 0 | AK31: 0 | AL31: 5 | AM31: 0 | AN31: 5 | AO31: 0 | AP31: 0
A32: 資料來源：衛生福利部社會及家庭署及直轄市、縣(市)政府。
A33: Source : Social and Family Affairs Administration, Mohw and County and City Government.

Sheet 102
A1: 老人長期照顧、安養機構工作人員 Number of Workers in Elderly Long-term Care, Nursing and Caring Institutions
A2: 102年底 End of 2013 | AD2: 單位：人
A3: 區域別 Locality | C3: 總計 Grand Total | F3: 行政人員(含主任) Administrators | I3: 護理人員 Nursing Staff | L3: 社會工作人員 Social Workers | O3: 服務人員 Serviceman | X3: 其他人員 Others | AA3: 本國籍 R.O.C. Citizens | AC3: 外國籍 Aliens
O4: 合計 Total | R4: 照顧服務員 Cate Attendants | U4: 服務相關之專業人員 Service Related Professionals
C5: 計 | D5: 男 | E5: 女 | F5: 計 | G5: 男 | H5: 女 | I5: 計 | J5: 男 | K5: 女 | L5: 計 | M5: 男 | N5: 女 | O5: 計 | P5: 男 | Q5: 女 | R5: 計 | S5: 男 | T5: 女 | U5: 計 | V5: 男 | W5: 女 | X5: 計 | Y5: 男 | Z5: 女 | AA5: 男 | AB5: 女 | AC5: 男 | AD5: 女
C6: Total | D6: Male | E6: Female | F6: Total | G6: Male | H6: Female | I6: Total | J6: Male | K6: Female | L6: Total | M6: Male | N6: Female | O6: Total | P6: Male | Q6: Female | R6: Total | S6: Male | T6: Female | U6: Total | V6: Male | W6: Female | X6: Total | Y6: Male | Z6: Female | AA6: Male | AB6: Female | AC6: Male | AD6: Female
A7: 總計 | B7: Total | C7: 21996 | D7: 3324 | E7: 18672 | F7: 2011 | G7: 720 | H7: 1291 | I7: 4360 | J7: 45 | K7: 4315 | L7: 950 | M7: 193 | N7: 757 | O7: =R7+U7 -> 13069 | P7: =S7+V7 -> 1865 | Q7: =T7+W7 -> 11204 | R7: 12242 | S7: 1603 | T7: 10639 | U7: 827 | V7: 262 | W7: 565 | X7: 1606 | Y7: 501 | Z7: 1105 | AA7: 3203 | AB7: 14132 | AC7: 121 | AD7: 4540
A8: 部直轄 | B8: Institution under Mohw | C8: 1714 | D8: 380 | E8: 1334 | F8: 202 | G8: 77 | H8: 125 | I8: 286 | J8: 0 | K8: 286 | L8: 87 | M8: 14 | N8: 73 | O8: =R8+U8 -> 970 | P8: =S8+V8 -> 220 | Q8: =T8+W8 -> 750 | R8: 874 | S8: 184 | T8: 690 | U8: 96 | V8: 36 | W8: 60 | X8: 169 | Y8: 69 | Z8: 100 | AA8: 363 | AB8: 1175 | AC8: 17 | AD8: 159
A9: 新北市 | B9: New Taipei City | C9: 3588 | D9: 472 | E9: 3116 | F9: 191 | G9: 59 | H9: 132 | I9: 845 | J9: 17 | K9: 828 | L9: 143 | M9: 33 | N9: 110 | O9: =R9+U9 -> 2270 | P9: =S9+V9 -> 316 | Q9: =T9+W9 -> 1954 | R9: 2218 | S9: 299 | T9: 1919 | U9: 52 | V9: 17 | W9: 35 | X9: 139 | Y9: 47 | Z9: 92 | AA9: 456 | AB9: 2342 | AC9: 16 | AD9: 774
A10: 臺北市 | B10: Taipei City | C10: 2778 | D10: 491 | E10: 2287 | F10: 262 | G10: 86 | H10: 176 | I10: 518 | J10: 7 | K10: 511 | L10: 148 | M10: 27 | N10: 121 | O10: =R10+U10 -> 1678 | P10: =S10+V10 -> 310 | Q10: =T10+W10 -> 1368 | R10: 1500 | S10: 240 | T10: 1260 | U10: 178 | V10: 70 | W10: 108 | X10: 172 | Y10: 61 | Z10: 111 | AA10: 469 | AB10: 1736 | AC10: 22 | AD10: 551
A11: 臺中市 | B11: Taichung City | C11: 1384 | D11: 185 | E11: 1199 | F11: 125 | G11: 51 | H11: 74 | I11: 256 | J11: 0 | K11: 256 | L11: 64 | M11: 12 | N11: 52 | O11: =R11+U11 -> 787 | P11: =S11+V11 -> 88 | Q11: =T11+W11 -> 699 | R11: 787 | S11: 88 | T11: 699 | U11: 0 | V11: 0 | W11: 0 | X11: 152 | Y11: 34 | Z11: 118 | AA11: 182 | AB11: 890 | AC11: 3 | AD11: 309
A12: 臺南市 | B12: Tainan City | C12: 1882 | D12: 256 | E12: 1626 | F12: 188 | G12: 67 | H12: 121 | I12: 390 | J12: 7 | K12: 383 | L12: 60 | M12: 8 | N12: 52 | O12: =R12+U12 -> 1102 | P12: =S12+V12 -> 123 | Q12: =T12+W12 -> 979 | R12: 1060 | S12: 113 | T12: 947 | U12: 42 | V12: 10 | W12: 32 | X12: 142 | Y12: 51 | Z12: 91 | AA12: 256 | AB12: 1242 | AC12: 0 | AD12: 384
A13: 高雄市 | B13: Kaohsiung City | C13: 2703 | D13: 406 | E13: 2297 | F13: 242 | G13: 84 | H13: 158 | I13: 568 | J13: 1 | K13: 567 | L13: 122 | M13: 35 | N13: 87 | O13: =R13+U13 -> 1513 | P13: =S13+V13 -> 224 | Q13: =T13+W13 -> 1289 | R13: 1349 | S13: 176 | T13: 1173 | U13: 164 | V13: 48 | W13: 116 | X13: 258 | Y13: 62 | Z13: 196 | AA13: 388 | AB13: 1749 | AC13: 18 | AD13: 548
A14: 宜蘭縣 | B14: Yilan County | C14: 890 | D14: 126 | E14: 764 | F14: 95 | G14: 25 | H14: 70 | I14: 158 | J14: 1 | K14: 157 | L14: 44 | M14: 9 | N14: 35 | O14: =R14+U14 -> 541 | P14: =S14+V14 -> 70 | Q14: =T14+W14 -> 471 | R14: 503 | S14: 52 | T14: 451 | U14: 38 | V14: 18 | W14: 20 | X14: 52 | Y14: 21 | Z14: 31 | AA14: 121 | AB14: 558 | AC14: 5 | AD14: 206
A15: 桃園縣 | B15: Taoyuan County | C15: 1032 | D15: 141 | E15: 891 | F15: 88 | G15: 40 | H15: 48 | I15: 210 | J15: 1 | K15: 209 | L15: 42 | M15: 10 | N15: 32 | O15: =R15+U15 -> 654 | P15: =S15+V15 -> 78 | Q15: =T15+W15 -> 576 | R15: 654 | S15: 78 | T15: 576 | U15: 0 | V15: 0 | W15: 0 | X15: 38 | Y15: 12 | Z15: 26 | AA15: 141 | AB15: 613 | AC15: 0 | AD15: 278
A16: 新竹縣 | B16: Hsinchu County | C16: 409 | D16: 73 | E16: 336 | F16: 40 | G16: 19 | H16: 21 | I16: 68 | J16: 1 | K16: 67 | L16: 15 | M16: 2 | N16: 13 | O16: =R16+U16 -> 267 | P16: =S16+V16 -> 45 | Q16: =T16+W16 -> 222 | R16: 252 | S16: 43 | T16: 209 | U16: 15 | V16: 2 | W16: 13 | X16: 19 | Y16: 6 | Z16: 13 | AA16: 67 | AB16: 239 | AC16: 6 | AD16: 97
A17: 苗栗縣 | B17: Miaoli County | C17: 318 | D17: 57 | E17: 261 | F17: 33 | G17: 8 | H17: 25 | I17: 58 | J17: 0 | K17: 58 | L17: 14 | M17: 2 | N17: 12 | O17: =R17+U17 -> 180 | P17: =S17+V17 -> 39 | Q17: =T17+W17 -> 141 | R17: 180 | S17: 39 | T17: 141 | U17: 0 | V17: 0 | W17: 0 | X17: 33 | Y17: 8 | Z17: 25 | AA17: 47 | AB17: 196 | AC17: 10 | AD17: 65
A18: 彰化縣 | B18: Changhua County | C18: 1042 | D18: 150 | E18: 892 | F18: 108 | G18: 38 | H18: 70 | I18: 192 | J18: 2 | K18: 190 | L18: 50 | M18: 6 | N18: 44 | O18: =R18+U18 -> 629 | P18: =S18+V18 -> 84 | Q18: =T18+W18 -> 545 | R18: 565 | S18: 67 | T18: 498 | U18: 64 | V18: 17 | W18: 47 | X18: 63 | Y18: 20 | Z18: 43 | AA18: 146 | AB18: 631 | AC18: 4 | AD18: 261
... A30: 連江縣 | B30: Lienchiang County | C30: 12 | D30: 2 | E30: 10 | F30: 3 | G30: 1 | H30: 2 | I30: 1 | J30: 0 | K30: 1 | L30: 1 | M30: 1 | N30: 0 | O30: =R30+U30 -> 7 | P30: =S30+V30 -> 0 | Q30: =T30+W30 -> 7 | R30: 7 | S30: 0 | T30: 7 | U30: 0 | V30: 0 | W30: 0 | X30: 0 | Y30: 0 | Z30: 0 | AA30: 2 | AB30: 10 | AC30: 0 | AD30: 0
A31: 資料來源：衛生福利部社會及家庭署及直轄市、縣(市)政府。
A32: Source : Social and Family Affairs Administration, Mohw and County and City Government.
A34: 更新日期：2014/3/3

Sheet 101
A1: 老人長期照顧、安養機構工作人員 Number of Workers in Elderly Long-term Care, Nursing and Caring Institutions
A2: 101年底 End of 2012 | AD2: 單位：人
A3: 區域別 Locality | C3: 總計 Grand Total | F3: 行政人員(含主任) Administrators | I3: 護理人員 Nursing Staff | L3: 社會工作人員 Social Workers | O3: 服務人員 Serviceman | X3: 其他人員 Others | AA3: 本國籍 R.O.C. Citizens | AC3: 外國籍 Aliens
O4: 合計 Total | R4: 照顧服務員 Cate Attendants | U4: 服務相關之專業人員 Service Related Professionals
C5: 計 | D5: 男 | E5: 女 | F5: 計 | G5: 男 | H5: 女 | I5: 計 | J5: 男 | K5: 女 | L5: 計 | M5: 男 | N5: 女 | O5: 計 | P5: 男 | Q5: 女 | R5: 計 | S5: 男 | T5: 女 | U5: 計 | V5: 男 | W5: 女 | X5: 計 | Y5: 男 | Z5: 女 | AA5: 男 | AB5: 女 | AC5: 男 | AD5: 女
C6: Total | D6: Male | E6: Female | F6: Total | G6: Male | H6: Female | I6: Total | J6: Male | K6: Female | L6: Total | M6: Male | N6: Female | O6: Total | P6: Male | Q6: Female | R6: Total | S6: Male | T6: Female | U6: Total | V6: Male | W6: Female | X6: Total | Y6: Male | Z6: Female | AA6: Male | AB6: Female | AC6: Male | AD6: Female
A7: 總計 | B7: Total | C7: 21506 | D7: 3297 | E7: 18209 | F7: 2016 | G7: 704 | H7: 1312 | I7: 4198 | J7: 32 | K7: 4166 | L7: 931 | M7: 214 | N7: 717 | O7: 12711 | P7: 1832 | Q7: 10879 | R7: 11961 | S7: 1595 | T7: 10366 | U7: 750 | V7: 237 | W7: 513 | X7: 1650 | Y7: 515 | Z7: 1135 | AA7: 3166 | AB7: 13943 | AC7: 131 | AD7: 4266
A8: 部直轄 | B8: Institution under Mohw | C8: 1760 | D8: 406 | E8: 1354 | F8: 197 | G8: 80 | H8: 117 | I8: 278 | J8: 0 | K8: 278 | L8: 94 | M8: 15 | N8: 79 | O8: 983 | P8: 229 | Q8: 754 | R8: 893 | S8: 208 | T8: 685 | U8: 90 | V8: 21 | W8: 69 | X8: 208 | Y8: 82 | Z8: 126 | AA8: 389 | AB8: 1181 | AC8: 17 | AD8: 173
A9: 新北市 | B9: New Taipei City | C9: 3488 | D9: 472 | E9: 3016 | F9: 214 | G9: 62 | H9: 152 | I9: 811 | J9: 4 | K9: 807 | L9: 122 | M9: 27 | N9: 95 | O9: 2111 | P9: 310 | Q9: 1801 | R9: 2091 | S9: 308 | T9: 1783 | U9: 20 | V9: 2 | W9: 18 | X9: 230 | Y9: 69 | Z9: 161 | AA9: 454 | AB9: 2350 | AC9: 18 | AD9: 666
A10: 臺北市 | B10: Taipei City | C10: 2814 | D10: 487 | E10: 2327 | F10: 242 | G10: 72 | H10: 170 | I10: 531 | J10: 6 | K10: 525 | L10: 159 | M10: 22 | N10: 137 | O10: 1680 | P10: 312 | Q10: 1368 | R10: 1515 | S10: 238 | T10: 1277 | U10: 165 | V10: 74 | W10: 91 | X10: 202 | Y10: 75 | Z10: 127 | AA10: 452 | AB10: 1775 | AC10: 35 | AD10: 552
A11: 臺中市 | B11: Taichung City | C11: 1320 | D11: 151 | E11: 1169 | F11: 126 | G11: 46 | H11: 80 | I11: 239 | J11: 0 | K11: 239 | L11: 61 | M11: 11 | N11: 50 | O11: 760 | P11: 65 | Q11: 695 | R11: 760 | S11: 65 | T11: 695 | U11: 0 | V11: 0 | W11: 0 | X11: 134 | Y11: 29 | Z11: 105 | AA11: 148 | AB11: 882 | AC11: 3 | AD11: 287
A12: 臺南市 | B12: Tainan City | C12: 1899 | D12: 264 | E12: 1635 | F12: 196 | G12: 73 | H12: 123 | I12: 392 | J12: 2 | K12: 390 | L12: 55 | M12: 11 | N12: 44 | O12: 1099 | P12: 116 | Q12: 983 | R12: 1078 | S12: 111 | T12: 967 | U12: 21 | V12: 5 | W12: 16 | X12: 157 | Y12: 62 | Z12: 95 | AA12: 264 | AB12: 1221 | AC12: 0 | AD12: 414
A13: 高雄市 | B13: Kaohsiung City | C13: 2576 | D13: 389 | E13: 2187 | F13: 243 | G13: 88 | H13: 155 | I13: 537 | J13: 3 | K13: 534 | L13: 110 | M13: 48 | N13: 62 | O13: 1519 | P13: 199 | Q13: 1320 | R13: 1389 | S13: 156 | T13: 1233 | U13: 130 | V13: 43 | W13: 87 | X13: 167 | Y13: 51 | Z13: 116 | AA13: 370 | AB13: 1676 | AC13: 19 | AD13: 511
A14: 宜蘭縣 | B14: Yilan County | C14: 830 | D14: 116 | E14: 714 | F14: 90 | G14: 25 | H14: 65 | I14: 137 | J14: 1 | K14: 136 | L14: 45 | M14: 12 | N14: 33 | O14: 488 | P14: 63 | Q14: 425 | R14: 446 | S14: 46 | T14: 400 | U14: 42 | V14: 17 | W14: 25 | X14: 70 | Y14: 15 | Z14: 55 | AA14: 111 | AB14: 520 | AC14: 5 | AD14: 194
A15: 桃園縣 | B15: Taoyuan County | C15: 991 | D15: 150 | E15: 841 | F15: 82 | G15: 33 | H15: 49 | I15: 193 | J15: 1 | K15: 192 | L15: 34 | M15: 8 | N15: 26 | O15: 645 | P15: 92 | Q15: 553 | R15: 645 | S15: 92 | T15: 553 | U15: 0 | V15: 0 | W15: 0 | X15: 37 | Y15: 16 | Z15: 21 | AA15: 148 | AB15: 579 | AC15: 2 | AD15: 262
A16: 新竹縣 | B16: Hsinchu County | C16: 390 | D16: 76 | E16: 314 | F16: 42 | G16: 22 | H16: 20 | I16: 63 | J16: 2 | K16: 61 | L16: 15 | M16: 4 | N16: 11 | O16: 255 | P16: 47 | Q16: 208 | R16: 239 | S16: 45 | T16: 194 | U16: 16 | V16: 2 | W16: 14 | X16: 15 | Y16: 1 | Z16: 14 | AA16: 65 | AB16: 230 | AC16: 11 | AD16: 84
A17: 苗栗縣 | B17: Miaoli County | C17: 325 | D17: 64 | E17: 261 | F17: 35 | G17: 9 | H17: 26 | I17: 57 | J17: 0 | K17: 57 | L17: 15 | M17: 2 | N17: 13 | O17: 177 | P17: 40 | Q17: 137 | R17: 177 | S17: 40 | T17: 137 | U17: 0 | V17: 0 | W17: 0 | X17: 41 | Y17: 13 | Z17: 28 | AA17: 54 | AB17: 205 | AC17: 10 | AD17: 56
A18: 彰化縣 | B18: Changhua County | C18: 1042 | D18: 159 | E18: 883 | F18: 113 | G18: 40 | H18: 73 | I18: 180 | J18: 3 | K18: 177 | L18: 48 | M18: 5 | N18: 43 | O18: 639 | P18: 91 | Q18: 548 | R18: 575 | S18: 69 | T18: 506 | U18: 64 | V18: 22 | W18: 42 | X18: 62 | Y18: 20 | Z18: 42 | AA18: 155 | AB18: 634 | AC18: 4 | AD18: 249
... A30: 連江縣 | B30: Lienchiang County | C30: 11 | D30: 3 | E30: 8 | F30: 3 | G30: 1 | H30: 2 | I30: 1 | J30: 0 | K30: 1 | L30: 1 | M30: 1 | N30: 0 | O30: 1 | P30: 0 | Q30: 1 | R30: 1 | S30: 0 | T30: 1 | U30: 0 | V30: 0 | W30: 0 | X30: 5 | Y30: 1 | Z30: 4 | AA30: 3 | AB30: 8 | AC30: 0 | AD30: 0
A31: 資料來源：內政部社會司及直轄市、縣(市)政府。
A32: Source : Dept. of Social Affairs, MOI and County and City Government.

Sheet 100
A1: 老人長期照顧、安養機構工作人員 Number of Workers in Elderly Long-term Care, Nursing and Caring Institutions
A2: 100年底 End of 2011 | AD2: 單位：人
A3: 區域別 Locality | C3: 總計 Grand Total | F3: 行政人員(含主任) Administrators | I3: 護理人員 Nursing Staff | L3: 社會工作人員 Social Workers | O3: 服務人員 Serviceman | X3: 其他人員 Others | AA3: 本國籍 R.O.C. Citizens | AC3: 外國籍 Aliens
O4: 合計 Total | R4: 照顧服務員 Cate Attendants | U4: 服務相關之專業人員 Service Related Professionals
C5: 計 | D5: 男 | E5: 女 | F5: 計 | G5: 男 | H5: 女 | I5: 計 | J5: 男 | K5: 女 | L5: 計 | M5: 男 | N5: 女 | O5: 計 | P5: 男 | Q5: 女 | R5: 計 | S5: 男 | T5: 女 | U5: 計 | V5: 男 | W5: 女 | X5: 計 | Y5: 男 | Z5: 女 | AA5: 男 | AB5: 女 | AC5: 男 | AD5: 女
C6: Total | D6: Male | E6: Female | F6: Total | G6: Male | H6: Female | I6: Total | J6: Male | K6: Female | L6: Total | M6: Male | N6: Female | O6: Total | P6: Male | Q6: Female | R6: Total | S6: Male | T6: Female | U6: Total | V6: Male | W6: Female | X6: Total | Y6: Male | Z6: Female | AA6: Male | AB6: Female | AC6: Male | AD6: Female
A7: 總計 | B7: Total | C7: 20936 | D7: 3139 | E7: 17797 | F7: 2133 | G7: 726 | H7: 1407 | I7: 3981 | J7: 23 | K7: 3958 | L7: 857 | M7: 185 | N7: 672 | O7: 12212 | P7: 1658 | Q7: 10554 | R7: 11549 | S7: 1444 | T7: 10105 | U7: 663 | V7: 214 | W7: 449 | X7: 1753 | Y7: 547 | Z7: 1206 | AA7: 3017 | AB7: 13714 | AC7: 122 | AD7: 4083
A8: 部直轄 | B8: Institution under Mohw | C8: 1701 | D8: 393 | E8: 1308 | F8: 208 | G8: 80 | H8: 128 | I8: 273 | J8: 0 | K8: 273 | L8: 93 | M8: 19 | N8: 74 | O8: 937 | P8: 209 | Q8: 728 | R8: 863 | S8: 192 | T8: 671 | U8: 74 | V8: 17 | W8: 57 | X8: 190 | Y8: 85 | Z8: 105 | AA8: 379 | AB8: 1140 | AC8: 14 | AD8: 168
A9: 新北市 | B9: New Taipei City | C9: 3417 | D9: 413 | E9: 3004 | F9: 287 | G9: 69 | H9: 218 | I9: 770 | J9: 0 | K9: 770 | L9: 100 | M9: 21 | N9: 79 | O9: 2064 | P9: 270 | Q9: 1794 | R9: 2024 | S9: 261 | T9: 1763 | U9: 40 | V9: 9 | W9: 31 | X9: 196 | Y9: 53 | Z9: 143 | AA9: 391 | AB9: 2297 | AC9: 22 | AD9: 707
A10: 臺北市 | B10: Taipei City | C10: 3012 | D10: 495 | E10: 2517 | F10: 288 | G10: 92 | H10: 196 | I10: 581 | J10: 5 | K10: 576 | L10: 171 | M10: 24 | N10: 147 | O10: 1808 | P10: 317 | Q10: 1491 | R10: 1649 | S10: 248 | T10: 1401 | U10: 159 | V10: 69 | W10: 90 | X10: 164 | Y10: 57 | Z10: 107 | AA10: 465 | AB10: 1936 | AC10: 30 | AD10: 581
A11: 臺中市 | B11: Taichung City | C11: 1309 | D11: 167 | E11: 1142 | F11: 122 | G11: 54 | H11: 68 | I11: 233 | J11: 0 | K11: 233 | L11: 58 | M11: 9 | N11: 49 | O11: 754 | P11: 65 | Q11: 689 | R11: 754 | S11: 65 | T11: 689 | U11: 0 | V11: 0 | W11: 0 | X11: 142 | Y11: 39 | Z11: 103 | AA11: 164 | AB11: 865 | AC11: 3 | AD11: 277
A12: 臺南市 | B12: Tainan City | C12: 1790 | D12: 248 | E12: 1542 | F12: 200 | G12: 68 | H12: 132 | I12: 372 | J12: 2 | K12: 370 | L12: 54 | M12: 7 | N12: 47 | O12: 960 | P12: 91 | Q12: 869 | R12: 957 | S12: 91 | T12: 866 | U12: 3 | V12: 0 | W12: 3 | X12: 204 | Y12: 80 | Z12: 124 | AA12: 248 | AB12: 1197 | AC12: 0 | AD12: 345
A13: 高雄市 | B13: Kaohsiung City | C13: 2498 | D13: 379 | E13: 2119 | F13: 235 | G13: 74 | H13: 161 | I13: 484 | J13: 1 | K13: 483 | L13: 94 | M13: 37 | N13: 57 | O13: 1468 | P13: 201 | Q13: 1267 | R13: 1317 | S13: 143 | T13: 1174 | U13: 151 | V13: 58 | W13: 93 | X13: 217 | Y13: 66 | Z13: 151 | AA13: 364 | AB13: 1655 | AC13: 15 | AD13: 464
A14: 宜蘭縣 | B14: Yilan County | C14: 780 | D14: 109 | E14: 671 | F14: 84 | G14: 22 | H14: 62 | I14: 122 | J14: 0 | K14: 122 | L14: 39 | M14: 8 | N14: 31 | O14: 463 | P14: 61 | Q14: 402 | R14: 414 | S14: 48 | T14: 366 | U14: 49 | V14: 13 | W14: 36 | X14: 72 | Y14: 18 | Z14: 54 | AA14: 104 | AB14: 491 | AC14: 5 | AD14: 180
A15: 桃園縣 | B15: Taoyuan County | C15: 959 | D15: 134 | E15: 825 | F15: 82 | G15: 34 | H15: 48 | I15: 190 | J15: 1 | K15: 189 | L15: 34 | M15: 8 | N15: 26 | O15: 620 | P15: 80 | Q15: 540 | R15: 620 | S15: 80 | T15: 540 | U15: 0 | V15: 0 | W15: 0 | X15: 33 | Y15: 11 | Z15: 22 | AA15: 133 | AB15: 576 | AC15: 1 | AD15: 249
A16: 新竹縣 | B16: Hsinchu County | C16: 371 | D16: 66 | E16: 305 | F16: 37 | G16: 17 | H16: 20 | I16: 57 | J16: 1 | K16: 56 | L16: 14 | M16: 3 | N16: 11 | O16: 232 | P16: 40 | Q16: 192 | R16: 222 | S16: 39 | T16: 183 | U16: 10 | V16: 1 | W16: 9 | X16: 31 | Y16: 5 | Z16: 26 | AA16: 54 | AB16: 215 | AC16: 12 | AD16: 90
A17: 苗栗縣 | B17: Miaoli County | C17: 317 | D17: 59 | E17: 258 | F17: 38 | G17: 13 | H17: 25 | I17: 54 | J17: 1 | K17: 53 | L17: 14 | M17: 0 | N17: 14 | O17: 158 | P17: 26 | Q17: 132 | R17: 158 | S17: 26 | T17: 132 | U17: 0 | V17: 0 | W17: 0 | X17: 53 | Y17: 19 | Z17: 34 | AA17: 47 | AB17: 206 | AC17: 12 | AD17: 52
A18: 彰化縣 | B18: Changhua County | C18: 1034 | D18: 149 | E18: 885 | F18: 112 | G18: 37 | H18: 75 | I18: 175 | J18: 3 | K18: 172 | L18: 47 | M18: 9 | N18: 38 | O18: 626 | P18: 83 | Q18: 543 | R18: 560 | S18: 67 | T18: 493 | U18: 66 | V18: 16 | W18: 50 | X18: 74 | Y18: 17 | Z18: 57 | AA18: 146 | AB18: 653 | AC18: 3 | AD18: 232
... A30: 連江縣 | B30: Lienchiang County | C30: 13 | D30: 6 | E30: 7 | F30: 4 | G30: 3 | H30: 1 | I30: 1 | J30: 0 | K30: 1 | L30: 1 | M30: 1 | N30: 0 | O30: 1 | P30: 0 | Q30: 1 | R30: 1 | S30: 0 | T30: 1 | U30: 0 | V30: 0 | W30: 0 | X30: 6 | Y30: 2 | Z30: 4 | AA30: 6 | AB30: 7 | AC30: 0 | AD30: 0
A31: 資料來源：內政部社會司及直轄市、縣(市)政府。
A32: Source : Dept. of Social Affairs, MOI and County and City Government.

Sheet 99
A1: 老人長期照顧、安養機構工作人員 Number of Workers in Elderly Long-term Care, Nursing and Caring Institutions
A2: 99年底 End of 2010 | X2: 單位：人
A3: 區域別 Locality | C3: 總計 Grand Total | F3: 行政人員(含主任) Administrators | I3: 護理人員 Nursing Staff | L3: 社會工作人員 Social Workers | O3: 服務人員 Serviceman | R3: 其他人員 Others | U3: 本國籍 R.O.C. Citizens | W3: 外國籍 Aliens
C4: 計 | D4: 男 | E4: 女 | F4: 計 | G4: 男 | H4: 女 | I4: 計 | J4: 男 | K4: 女 | L4: 計 | M4: 男 | N4: 女 | O4: 計 | P4: 男 | Q4: 女 | R4: 計 | S4: 男 | T4: 女 | U4: 男 | V4: 女 | W4: 男 | X4: 女
C5: Total | D5: Male | E5: Female | F5: Total | G5: Male | H5: Female | I5: Total | J5: Male | K5: Female | L5: Total | M5: Male | N5: Female | O5: Total | P5: Male | Q5: Female | R5: Total | S5: Male | T5: Female | U5: Male | V5: Female | W5: Male | X5: Female
A6: 總計 | B6: Total | C6: 19664 | D6: 2832 | E6: 16832 | F6: 2094 | G6: 707 | H6: 1387 | I6: 3771 | J6: 21 | K6: 3750 | L6: 755 | M6: 160 | N6: 595 | O6: 11041 | P6: 1358 | Q6: 9683 | R6: 2003 | S6: 586 | T6: 1417 | U6: 2704 | V6: 12978 | W6: 128 | X6: 3854
A7: 部直轄 | B7: Institution under MOI | C7: 1712 | D7: 396 | E7: 1316 | F7: 206 | G7: 77 | H7: 129 | I7: 284 | J7: 0 | K7: 284 | L7: 89 | M7: 21 | N7: 68 | O7: 907 | P7: 203 | Q7: 704 | R7: 226 | S7: 95 | T7: 131 | U7: 375 | V7: 1143 | W7: 21 | X7: 173
A8: 臺北縣 | B8: Taipei County | C8: 3361 | D8: 398 | E8: 2963 | F8: 285 | G8: 65 | H8: 220 | I8: 743 | J8: 1 | K8: 742 | L8: 101 | M8: 20 | N8: 81 | O8: 1973 | P8: 248 | Q8: 1725 | R8: 259 | S8: 64 | T8: 195 | U8: 376 | V8: 2258 | W8: 22 | X8: 705
A9: 宜蘭縣 | B9: Yilan County | C9: 710 | D9: 95 | E9: 615 | F9: 89 | G9: 26 | H9: 63 | I9: 122 | J9: 1 | K9: 121 | L9: 30 | M9: 5 | N9: 25 | O9: 403 | P9: 42 | Q9: 361 | R9: 66 | S9: 21 | T9: 45 | U9: 94 | V9: 456 | W9: 1 | X9: 159
A10: 桃園縣 | B10: Taoyuan County | C10: 914 | D10: 123 | E10: 791 | F10: 89 | G10: 33 | H10: 56 | I10: 181 | J10: 0 | K10: 181 | L10: 25 | M10: 5 | N10: 20 | O10: 532 | P10: 69 | Q10: 463 | R10: 87 | S10: 16 | T10: 71 | U10: 123 | V10: 590 | W10: 0 | X10: 201
A11: 新竹縣 | B11: Hsinchu County | C11: 324 | D11: 67 | E11: 257 | F11: 37 | G11: 23 | H11: 14 | I11: 44 | J11: 0 | K11: 44 | L11: 11 | M11: 3 | N11: 8 | O11: 206 | P11: 40 | Q11: 166 | R11: 26 | S11: 1 | T11: 25 | U11: 55 | V11: 180 | W11: 12 | X11: 77
A12: 苗栗縣 | B12: Miaoli County | C12: 307 | D12: 58 | E12: 249 | F12: 35 | G12: 12 | H12: 23 | I12: 52 | J12: 1 | K12: 51 | L12: 14 | M12: 0 | N12: 14 | O12: 153 | P12: 26 | Q12: 127 | R12: 53 | S12: 19 | T12: 34 | U12: 44 | V12: 194 | W12: 14 | X12: 55
A13: 臺中縣 | B13: Taichung County | C13: 676 | D13: 75 | E13: 601 | F13: 61 | G13: 19 | H13: 42 | I13: 113 | J13: 1 | K13: 112 | L13: 23 | M13: 1 | N13: 22 | O13: 402 | P13: 35 | Q13: 367 | R13: 77 | S13: 19 | T13: 58 | U13: 75 | V13: 474 | W13: 0 | X13: 127
A14: 彰化縣 | B14: Changhua County | C14: 877 | D14: 124 | E14: 753 | F14: 97 | G14: 37 | H14: 60 | I14: 154 | J14: 1 | K14: 153 | L14: 28 | M14: 9 | N14: 19 | O14: 513 | P14: 56 | Q14: 457 | R14: 85 | S14: 21 | T14: 64 | U14: 122 | V14: 534 | W14: 2 | X14: 219
A15: 南投縣 | B15: Nantou County | C15: 278 | D15: 36 | E15: 242 | F15: 34 | G15: 14 | H15: 20 | I15: 45 | J15: 1 | K15: 44 | L15: 10 | M15: 3 | N15: 7 | O15: 155 | P15: 10 | Q15: 145 | R15: 34 | S15: 8 | T15: 26 | U15: 34 | V15: 199 | W15: 2 | X15: 43
A16: 雲林縣 | B16: Yunlin County | C16: 450 | D16: 48 | E16: 402 | F16: 49 | G16: 16 | H16: 33 | I16: 80 | J16: 2 | K16: 78 | L16: 17 | M16: 4 | N16: 13 | O16: 260 | P16: 18 | Q16: 242 | R16: 44 | S16: 8 | T16: 36 | U16: 48 | V16: 283 | W16: 0 | X16: 119
A17: 嘉義縣 | B17: Chiayi County | C17: 384 | D17: 48 | E17: 336 | F17: 50 | G17: 19 | H17: 31 | I17: 74 | J17: 1 | K17: 73 | L17: 8 | M17: 0 | N17: 8 | O17: 205 | P17: 17 | Q17: 188 | R17: 47 | S17: 11 | T17: 36 | U17: 48 | V17: 261 | W17: 0 | X17: 75
... A32: 連江縣 | B32: Lienchiang County | C32: 10 | D32: 8 | E32: 2 | F32: 2 | G32: 2 | H32: 0 | I32: 1 | J32: 0 | K32: 1 | L32: 1 | M32: 1 | N32: 0 | O32: 0 | P32: 0 | Q32: 0 | R32: 6 | S32: 5 | T32: 1 | U32: 8 | V32: 2 | W32: 0 | X32: 0
A33: 資料來源：內政部社會司及直轄市、縣(市)政府。
A34: Source : Dept. of Social Affairs, MOI and County and City Government.

Sheet 98
A1: 老人長期照顧、安養機構工作人員 Number of Workers in Elderly Long-term Care, Nursing and Caring Institutions
A2: 98年底 End of 2009 | X2: 單位：人
A3: 區域別 Locality | C3: 總計 Grand Total | F3: 行政人員(含主任) Administrators | I3: 護理人員 Nursing Staff | L3: 社會工作人員 Social Workers | O3: 服務人員 Serviceman | R3: 其他人員 Others | U3: 本國籍 R.O.C. Citizens | W3: 外國籍 Aliens
C4: 計 | D4: 男 | E4: 女 | F4: 計 | G4: 男 | H4: 女 | I4: 計 | J4: 男 | K4: 女 | L4: 計 | M4: 男 | N4: 女 | O4: 計 | P4: 男 | Q4: 女 | R4: 計 | S4: 男 | T4: 女 | U4: 男 | V4: 女 | W4: 男 | X4: 女
C5: Total | D5: Male | E5: Female | F5: Total | G5: Male | H5: Female | I5: Total | J5: Male | K5: Female | L5: Total | M5: Male | N5: Female | O5: Total | P5: Male | Q5: Female | R5: Total | S5: Male | T5: Female | U5: Male | V5: Female | W5: Male | X5: Female
A6: 總計 | B6: Total | C6: 18904 | D6: 2667 | E6: 16237 | F6: 2098 | G6: 728 | H6: 1370 | I6: 3535 | J6: 15 | K6: 3520 | L6: 662 | M6: 152 | N6: 510 | O6: 10707 | P6: 1223 | Q6: 9484 | R6: 1902 | S6: 549 | T6: 1353 | U6: 2540 | V6: 12546 | W6: 127 | X6: 3691
A7: 部直轄 | B7: Institution under MOI | C7: 1658 | D7: 387 | E7: 1271 | F7: 221 | G7: 86 | H7: 135 | I7: 257 | J7: 0 | K7: 257 | L7: 91 | M7: 27 | N7: 64 | O7: 867 | P7: 183 | Q7: 684 | R7: 222 | S7: 91 | T7: 131 | U7: 367 | V7: 1112 | W7: 20 | X7: 159
A8: 臺北縣 | B8: Taipei County | C8: 3350 | D8: 407 | E8: 2943 | F8: 288 | G8: 67 | H8: 221 | I8: 728 | J8: 3 | K8: 725 | L8: 97 | M8: 24 | N8: 73 | O8: 1985 | P8: 249 | Q8: 1736 | R8: 252 | S8: 64 | T8: 188 | U8: 383 | V8: 2227 | W8: 24 | X8: 716
A9: 宜蘭縣 | B9: Yilan County | C9: 650 | D9: 90 | E9: 560 | F9: 85 | G9: 29 | H9: 56 | I9: 110 | J9: 0 | K9: 110 | L9: 29 | M9: 5 | N9: 24 | O9: 365 | P9: 35 | Q9: 330 | R9: 61 | S9: 21 | T9: 40 | U9: 88 | V9: 417 | W9: 2 | X9: 143
A10: 桃園縣 | B10: Taoyuan County | C10: 952 | D10: 141 | E10: 811 | F10: 90 | G10: 38 | H10: 52 | I10: 184 | J10: 0 | K10: 184 | L10: 17 | M10: 3 | N10: 14 | O10: 531 | P10: 80 | Q10: 451 | R10: 130 | S10: 20 | T10: 110 | U10: 141 | V10: 604 | W10: 0 | X10: 207
A11: 新竹縣 | B11: Hsinchu County | C11: 286 | D11: 52 | E11: 234 | F11: 32 | G11: 14 | H11: 18 | I11: 40 | J11: 0 | K11: 40 | L11: 6 | M11: 4 | N11: 2 | O11: 179 | P11: 29 | Q11: 150 | R11: 29 | S11: 5 | T11: 24 | U11: 39 | V11: 159 | W11: 13 | X11: 75
A12: 苗栗縣 | B12: Miaoli County | C12: 307 | D12: 59 | E12: 248 | F12: 35 | G12: 13 | H12: 22 | I12: 53 | J12: 1 | K12: 52 | L12: 13 | M12: 0 | N12: 13 | O12: 153 | P12: 26 | Q12: 127 | R12: 53 | S12: 19 | T12: 34 | U12: 49 | V12: 192 | W12: 10 | X12: 56
A13: 臺中縣 | B13: Taichung County | C13: 561 | D13: 74 | E13: 487 | F13: 54 | G13: 15 | H13: 39 | I13: 109 | J13: 0 | K13: 109 | L13: 14 | M13: 1 | N13: 13 | O13: 310 | P13: 39 | Q13: 271 | R13: 74 | S13: 19 | T13: 55 | U13: 74 | V13: 487 | W13: 0 | X13: 0
A14: 彰化縣 | B14: Changhua County | C14: 836 | D14: 111 | E14: 725 | F14: 114 | G14: 41 | H14: 73 | I14: 135 | J14: 0 | K14: 135 | L14: 29 | M14: 9 | N14: 20 | O14: 484 | P14: 46 | Q14: 438 | R14: 74 | S14: 15 | T14: 59 | U14: 108 | V14: 508 | W14: 3 | X14: 217
A15: 南投縣 | B15: Nantou County | C15: 218 | D15: 29 | E15: 189 | F15: 45 | G15: 19 | H15: 26 | I15: 39 | J15: 1 | K15: 38 | L15: 11 | M15: 3 | N15: 8 | O15: 122 | P15: 5 | Q15: 117 | R15: 1 | S15: 1 | T15: 0 | U15: 29 | V15: 150 | W15: 0 | X15: 39
A16: 雲林縣 | B16: Yunlin County | C16: 419 | D16: 45 | E16: 374 | F16: 51 | G16: 18 | H16: 33 | I16: 70 | J16: 0 | K16: 70 | L16: 13 | M16: 4 | N16: 9 | O16: 236 | P16: 14 | Q16: 222 | R16: 49 | S16: 9 | T16: 40 | U16: 45 | V16: 268 | W16: 0 | X16: 106
A17: 嘉義縣 | B17: Chiayi County | C17: 417 | D17: 53 | E17: 364 | F17: 53 | G17: 23 | H17: 30 | I17: 83 | J17: 1 | K17: 82 | L17: 7 | M17: 0 | N17: 7 | O17: 223 | P17: 15 | Q17: 208 | R17: 51 | S17: 14 | T17: 37 | U17: 53 | V17: 281 | W17: 0 | X17: 83
... A32: 連江縣 | B32: Lienchiang County | C32: 10 | D32: 8 | E32: 2 | F32: 2 | G32: 2 | H32: 0 | I32: 1 | J32: 0 | K32: 1 | L32: 1 | M32: 1 | N32: 0 | O32: 0 | P32: 0 | Q32: 0 | R32: 6 | S32: 5 | T32: 1 | U32: 8 | V32: 2 | W32: 0 | X32: 0
A33: 資料來源：內政部社會司及直轄市、縣(市)政府。
A34: Source : Dept. of Social Affairs, MOI and County and City Government.

Sheet 97
A1: 老人長期照顧、安養機構工作人員 Number of Workers in Elderly Long-term Care, Nursing and Caring Institutions
A2: 97年底 End of 2008 | V2: 單位：人
A3: 區域別 Locality | C3: 總計 Grand Total | F3: 行政人員(含主任) Administrators | I3: 護理人員 Nursing Staff | L3: 社會工作人員 Social Workers | O3: 服務人員 Serviceman | R3: 其他人員 Others | U3: 本國籍 R.O.C. Citizens | V3: 外國籍 Aliens
C4: 計 | D4: 男 | E4: 女 | F4: 計 | G4: 男 | H4: 女 | I4: 計 | J4: 男 | K4: 女 | L4: 計 | M4: 男 | N4: 女 | O4: 計 | P4: 男 | Q4: 女 | R4: 計 | S4: 男 | T4: 女
C5: Total | D5: Male | E5: Female | F5: Total | G5: Male | H5: Female | I5: Total | J5: Male | K5: Female | L5: Total | M5: Male | N5: Female | O5: Total | P5: Male | Q5: Female | R5: Total | S5: Male | T5: Female
A6: 總計 | B6: Total | C6: 17633 | D6: 2486 | E6: 15147 | F6: 2010 | G6: 705 | H6: 1305 | I6: 3205 | J6: 14 | K6: 3191 | L6: 550 | M6: 118 | N6: 432 | O6: 9903 | P6: 1092 | Q6: 8811 | R6: 1965 | S6: 557 | T6: 1408 | U6: 13769 | V6: 3864
A7: 部直轄 | B7: Institution under MOI | C7: 1610 | D7: 413 | E7: 1197 | F7: 210 | G7: 88 | H7: 122 | I7: 244 | J7: 0 | K7: 244 | L7: 85 | M7: 23 | N7: 62 | O7: 831 | P7: 193 | Q7: 638 | R7: 240 | S7: 109 | T7: 131 | U7: 1419 | V7: 191
A8: 臺北縣 | B8: Taipei County | C8: 2855 | D8: 351 | E8: 2504 | F8: 288 | G8: 61 | H8: 227 | I8: 602 | J8: 3 | K8: 599 | L8: 81 | M8: 16 | N8: 65 | O8: 1639 | P8: 199 | Q8: 1440 | R8: 245 | S8: 72 | T8: 173 | U8: 2268 | V8: 587
A9: 宜蘭縣 | B9: Yilan County | C9: 535 | D9: 68 | E9: 467 | F9: 86 | G9: 25 | H9: 61 | I9: 88 | J9: 0 | K9: 88 | L9: 20 | M9: 4 | N9: 16 | O9: 292 | P9: 25 | Q9: 267 | R9: 49 | S9: 14 | T9: 35 | U9: 422 | V9: 113
A10: 桃園縣 | B10: Taoyuan County | C10: 795 | D10: 116 | E10: 679 | F10: 71 | G10: 34 | H10: 37 | I10: 158 | J10: 0 | K10: 158 | L10: 9 | M10: 1 | N10: 8 | O10: 408 | P10: 71 | Q10: 337 | R10: 149 | S10: 10 | T10: 139 | U10: 607 | V10: 188
A11: 新竹縣 | B11: Hsinchu County | C11: 290 | D11: 46 | E11: 244 | F11: 42 | G11: 18 | H11: 24 | I11: 40 | J11: 0 | K11: 40 | L11: 8 | M11: 4 | N11: 4 | O11: 172 | P11: 20 | Q11: 152 | R11: 28 | S11: 4 | T11: 24 | U11: 221 | V11: 69
A12: 苗栗縣 | B12: Miaoli County | C12: 251 | D12: 43 | E12: 208 | F12: 26 | G12: 8 | H12: 18 | I12: 47 | J12: 1 | K12: 46 | L12: 10 | M12: 0 | N12: 10 | O12: 135 | P12: 21 | Q12: 114 | R12: 33 | S12: 13 | T12: 20 | U12: 180 | V12: 71
A13: 臺中縣 | B13: Taichung County | C13: 542 | D13: 60 | E13: 482 | F13: 59 | G13: 20 | H13: 39 | I13: 101 | J13: 0 | K13: 101 | L13: 11 | M13: 0 | N13: 11 | O13: 290 | P13: 20 | Q13: 270 | R13: 81 | S13: 20 | T13: 61 | U13: 413 | V13: 129
A14: 彰化縣 | B14: Changhua County | C14: 811 | D14: 108 | E14: 703 | F14: 107 | G14: 43 | H14: 64 | I14: 134 | J14: 1 | K14: 133 | L14: 30 | M14: 8 | N14: 22 | O14: 470 | P14: 35 | Q14: 435 | R14: 70 | S14: 21 | T14: 49 | U14: 598 | V14: 213
A15: 南投縣 | B15: Nantou County | C15: 233 | D15: 29 | E15: 204 | F15: 23 | G15: 8 | H15: 15 | I15: 35 | J15: 0 | K15: 35 | L15: 6 | M15: 1 | N15: 5 | O15: 139 | P15: 13 | Q15: 126 | R15: 30 | S15: 7 | T15: 23 | U15: 185 | V15: 48
A16: 雲林縣 | B16: Yunlin County | C16: 368 | D16: 42 | E16: 326 | F16: 48 | G16: 20 | H16: 28 | I16: 56 | J16: 1 | K16: 55 | L16: 9 | M16: 2 | N16: 7 | O16: 211 | P16: 9 | Q16: 202 | R16: 44 | S16: 10 | T16: 34 | U16: 272 | V16: 96
A17: 嘉義縣 | B17: Chiayi County | C17: 406 | D17: 46 | E17: 360 | F17: 54 | G17: 21 | H17: 33 | I17: 71 | J17: 0 | K17: 71 | L17: 5 | M17: 2 | N17: 3 | O17: 221 | P17: 11 | Q17: 210 | R17: 55 | S17: 12 | T17: 43 | U17: 304 | V17: 102
... A32: 連江縣 | B32: Lienchiang County | C32: 8 | D32: 5 | E32: 3 | F32: 3 | G32: 3 | H32: 0 | I32: 1 | J32: 0 | K32: 1 | L32: 1 | M32: 1 | N32: 0 | O32: 0 | P32: 0 | Q32: 0 | R32: 3 | S32: 1 | T32: 2 | U32: 8 | V32: 0
A33: 資料來源：內政部社會司及直轄市、縣(市)政府。
A34: Source : Dept. of Social Affairs, MOI and County and City Government.

Sheet 96
A1: 老人長期照顧、安養機構工作人員 Number of Workers in Elderly Long-term Care, Nursing and Caring Institutions
A2: 96年底 End of 2007 | V2: 單位：人
A3: 區域別 Locality | C3: 總計 Grand Total | F3: 行政人員(含主任) Administrators | I3: 護理人員 Nursing Staff | L3: 社會工作人員 Social Workers | O3: 服務人員 Serviceman | R3: 其他人員 Others | U3: 本國籍 R.O.C. Citizens | V3: 外國籍 Aliens
C4: 計 | D4: 男 | E4: 女 | F4: 計 | G4: 男 | H4: 女 | I4: 計 | J4: 男 | K4: 女 | L4: 計 | M4: 男 | N4: 女 | O4: 計 | P4: 男 | Q4: 女 | R4: 計 | S4: 男 | T4: 女
C5: Total | D5: Male | E5: Female | F5: Total | G5: Male | H5: Female | I5: Total | J5: Male | K5: Female | L5: Total | M5: Male | N5: Female | O5: Total | P5: Male | Q5: Female | R5: Total | S5: Male | T5: Female
A6: 總計 | B6: Total | C6: 16909 | D6: 2819 | E6: 14090 | F6: 2024 | G6: 728 | H6: 1296 | I6: 3036 | J6: 36 | K6: 3000 | L6: 536 | M6: 143 | N6: 393 | O6: 8958 | P6: 1167 | Q6: 7791 | R6: 2355 | S6: 745 | T6: 1610 | U6: 13689 | V6: 3220
A7: 部直轄 | B7: Institution under MOI | C7: 2244 | D7: 776 | E7: 1468 | F7: 280 | G7: 108 | H7: 172 | I7: 312 | J7: 24 | K7: 288 | L7: 124 | M7: 48 | N7: 76 | O7: 944 | P7: 316 | Q7: 628 | R7: 584 | S7: 280 | T7: 304
A8: 臺北縣 | B8: Taipei County | C8: 2629 | D8: 317 | E8: 2312 | F8: 293 | G8: 65 | H8: 228 | I8: 530 | J8: 2 | K8: 528 | L8: 72 | M8: 11 | N8: 61 | O8: 1482 | P8: 171 | Q8: 1311 | R8: 252 | S8: 68 | T8: 184
A9: 宜蘭縣 | B9: Yilan County | C9: 504 | D9: 66 | E9: 438 | F9: 87 | G9: 25 | H9: 62 | I9: 81 | J9: 0 | K9: 81 | L9: 12 | M9: 3 | N9: 9 | O9: 258 | P9: 20 | Q9: 238 | R9: 66 | S9: 18 | T9: 48
A10: 桃園縣 | B10: Taoyuan County | C10: 794 | D10: 114 | E10: 680 | F10: 69 | G10: 33 | H10: 36 | I10: 158 | J10: 0 | K10: 158 | L10: 8 | M10: 0 | N10: 8 | O10: 400 | P10: 73 | Q10: 327 | R10: 159 | S10: 8 | T10: 151
A11: 新竹縣 | B11: Hsinchu County | C11: 233 | D11: 43 | E11: 190 | F11: 39 | G11: 17 | H11: 22 | I11: 30 | J11: 0 | K11: 30 | L11: 3 | M11: 1 | N11: 2 | O11: 134 | P11: 22 | Q11: 112 | R11: 27 | S11: 3 | T11: 24
A12: 苗栗縣 | B12: Miaoli County | C12: 179 | D12: 31 | E12: 148 | F12: 21 | G12: 4 | H12: 17 | I12: 30 | J12: 0 | K12: 30 | L12: 7 | M12: 2 | N12: 5 | O12: 99 | P12: 16 | Q12: 83 | R12: 22 | S12: 9 | T12: 13
A13: 臺中縣 | B13: Taichung County | C13: 523 | D13: 58 | E13: 465 | F13: 57 | G13: 19 | H13: 38 | I13: 98 | J13: 0 | K13: 98 | L13: 10 | M13: 0 | N13: 10 | O13: 274 | P13: 18 | Q13: 256 | R13: 84 | S13: 21 | T13: 63
A14: 彰化縣 | B14: Changhua County | C14: 733 | D14: 111 | E14: 622 | F14: 105 | G14: 42 | H14: 63 | I14: 121 | J14: 1 | K14: 120 | L14: 36 | M14: 9 | N14: 27 | O14: 373 | P14: 26 | Q14: 347 | R14: 98 | S14: 33 | T14: 65
A15: 南投縣 | B15: Nantou County | C15: 225 | D15: 29 | E15: 196 | F15: 22 | G15: 7 | H15: 15 | I15: 36 | J15: 0 | K15: 36 | L15: 5 | M15: 3 | N15: 2 | O15: 131 | P15: 13 | Q15: 118 | R15: 31 | S15: 6 | T15: 25
A16: 雲林縣 | B16: Yunlin County | C16: 317 | D16: 40 | E16: 277 | F16: 40 | G16: 18 | H16: 22 | I16: 48 | J16: 2 | K16: 46 | L16: 9 | M16: 3 | N16: 6 | O16: 177 | P16: 8 | Q16: 169 | R16: 43 | S16: 9 | T16: 34
A17: 嘉義縣 | B17: Chiayi County | C17: 370 | D17: 48 | E17: 322 | F17: 52 | G17: 20 | H17: 32 | I17: 63 | J17: 1 | K17: 62 | L17: 3 | M17: 2 | N17: 1 | O17: 203 | P17: 11 | Q17: 192 | R17: 49 | S17: 14 | T17: 35
A18: 臺南縣 | B18: Tainan County | C18: 849 | D18: 104 | E18: 745 | F18: 118 | G18: 43 | H18: 75 | I18: 174 | J18: 1 | K18: 173 | L18: 10 | M18: 2 | N18: 8 | O18: 429 | P18: 21 | Q18: 408 | R18: 118 | S18: 37 | T18: 81
... A32: 連江縣 | B32: Lienchiang County | C32: 6 | D32: 3 | E32: 3 | F32: 3 | G32: 2 | H32: 1 | I32: 0 | J32: 0 | K32: 0 | L32: 0 | M32: 0 | N32: 0 | O32: 0 | P32: 0 | Q32: 0 | R32: 3 | S32: 1 | T32: 2
A33: 資料來源：內政部社會司及直轄市、縣(市)政府。
A34: Source : Dept. of Social Affairs, MOI and County and City Government.

Sheet 95
A1: 老人長期照顧、安養機構工作人員 Number of Workers in Elderly Long-term Care, Nursing and Caring Institutions
A2: 95年底 End of 2006 | V2: 單位：人
A3: 區域別 Locality | C3: 總計 Grand Total | F3: 行政人員(含主任) Administrators | I3: 護理人員 Nursing Staff | L3: 社會工作人員 Social Workers | O3: 服務人員 Serviceman | R3: 其他人員 Others | U3: 本國籍 R.O.C. Citizens | V3: 外國籍 Aliens
C4: 計 | D4: 男 | E4: 女 | F4: 計 | G4: 男 | H4: 女 | I4: 計 | J4: 男 | K4: 女 | L4: 計 | M4: 男 | N4: 女 | O4: 計 | P4: 男 | Q4: 女 | R4: 計 | S4: 男 | T4: 女
C5: Total | D5: Male | E5: Female | F5: Total | G5: Male | H5: Female | I5: Total | J5: Male | K5: Female | L5: Total | M5: Male | N5: Female | O5: Total | P5: Male | Q5: Female | R5: Total | S5: Male | T5: Female
A6: 總計 | B6: Total | C6: 14919 | D6: 2310 | E6: 12609 | F6: 1862 | G6: 670 | H6: 1192 | I6: 2632 | J6: 18 | K6: 2614 | L6: 390 | M6: 88 | N6: 302 | O6: 8075 | P6: 951 | Q6: 7124 | R6: 1960 | S6: 583 | T6: 1377 | U6: 11832 | V6: 3087
A7: 部直轄 | B7: Institution under MOI | C7: 1608 | D7: 445 | E7: 1163 | F7: 199 | G7: 83 | H7: 116 | I7: 236 | J7: 4 | K7: 232 | L7: 84 | M7: 23 | N7: 61 | O7: 808 | P7: 188 | Q7: 620 | R7: 281 | S7: 147 | T7: 134 | U7: 1410 | V7: 198
A8: 臺北縣 | B8: Taipei County | C8: 2277 | D8: 306 | E8: 1971 | F8: 264 | G8: 59 | H8: 205 | I8: 448 | J8: 2 | K8: 446 | L8: 32 | M8: 8 | N8: 24 | O8: 1260 | P8: 153 | Q8: 1107 | R8: 273 | S8: 84 | T8: 189 | U8: 1803 | V8: 474
A9: 宜蘭縣 | B9: Yilan County | C9: 395 | D9: 53 | E9: 342 | F9: 72 | G9: 19 | H9: 53 | I9: 59 | J9: 0 | K9: 59 | L9: 10 | M9: 3 | N9: 7 | O9: 197 | P9: 18 | Q9: 179 | R9: 57 | S9: 13 | T9: 44 | U9: 315 | V9: 80
A10: 桃園縣 | B10: Taoyuan County | C10: 768 | D10: 111 | E10: 657 | F10: 74 | G10: 23 | H10: 51 | I10: 128 | J10: 1 | K10: 127 | L10: 8 | M10: 0 | N10: 8 | O10: 362 | P10: 69 | Q10: 293 | R10: 196 | S10: 18 | T10: 178 | U10: 602 | V10: 166
A11: 新竹縣 | B11: Hsinchu County | C11: 225 | D11: 54 | E11: 171 | F11: 32 | G11: 16 | H11: 16 | I11: 24 | J11: 0 | K11: 24 | L11: 3 | M11: 2 | N11: 1 | O11: 134 | P11: 23 | Q11: 111 | R11: 32 | S11: 13 | T11: 19 | U11: 154 | V11: 71
A12: 苗栗縣 | B12: Miaoli County | C12: 172 | D12: 31 | E12: 141 | F12: 18 | G12: 4 | H12: 14 | I12: 30 | J12: 0 | K12: 30 | L12: 7 | M12: 2 | N12: 5 | O12: 96 | P12: 16 | Q12: 80 | R12: 21 | S12: 9 | T12: 12 | U12: 126 | V12: 46
A13: 臺中縣 | B13: Taichung County | C13: 434 | D13: 48 | E13: 386 | F13: 51 | G13: 17 | H13: 34 | I13: 77 | J13: 1 | K13: 76 | L13: 11 | M13: 1 | N13: 10 | O13: 229 | P13: 12 | Q13: 217 | R13: 66 | S13: 17 | T13: 49 | U13: 313 | V13: 121
A14: 彰化縣 | B14: Changhua County | C14: 647 | D14: 99 | E14: 548 | F14: 106 | G14: 50 | H14: 56 | I14: 110 | J14: 1 | K14: 109 | L14: 20 | M14: 4 | N14: 16 | O14: 331 | P14: 18 | Q14: 313 | R14: 80 | S14: 26 | T14: 54 | U14: 469 | V14: 178
A15: 南投縣 | B15: Nantou County | C15: 247 | D15: 28 | E15: 219 | F15: 31 | G15: 12 | H15: 19 | I15: 37 | J15: 0 | K15: 37 | L15: 4 | M15: 0 | N15: 4 | O15: 137 | P15: 5 | Q15: 132 | R15: 38 | S15: 11 | T15: 27 | U15: 197 | V15: 50
A16: 雲林縣 | B16: Yunlin County | C16: 298 | D16: 31 | E16: 267 | F16: 40 | G16: 15 | H16: 25 | I16: 45 | J16: 1 | K16: 44 | L16: 8 | M16: 2 | N16: 6 | O16: 168 | P16: 6 | Q16: 162 | R16: 37 | S16: 7 | T16: 30 | U16: 214 | V16: 84
A17: 嘉義縣 | B17: Chiayi County | C17: 365 | D17: 46 | E17: 319 | F17: 50 | G17: 22 | H17: 28 | I17: 56 | J17: 1 | K17: 55 | L17: 3 | M17: 1 | N17: 2 | O17: 218 | P17: 13 | Q17: 205 | R17: 38 | S17: 9 | T17: 29 | U17: 258 | V17: 107
... A32: 連江縣 | B32: Lienchiang County | C32: 6 | D32: 3 | E32: 3 | F32: 3 | G32: 2 | H32: 1 | I32: 0 | J32: 0 | K32: 0 | L32: 0 | M32: 0 | N32: 0 | O32: 0 | P32: 0 | Q32: 0 | R32: 3 | S32: 1 | T32: 2 | U32: 6 | V32: 0
A33: 資料來源：內政部社會司及直轄市、縣(市)政府。
A34: Source : Dept. of Social Affairs, MOI and County and City Government.

Sheet 94
A1: 老人長期照顧、安養機構工作人員 Number of Workers in Elderly Long-term Care, Nursing and Caring Institutions
A2: 94年底 End of 2005 | V2: 單位：人
A3: 區域別 Locality | C3: 總計 Grand Total | F3: 行政人員(含主任) Administrators | I3: 護理人員 Nursing Staff | L3: 社會工作人員 Social Workers | O3: 服務人員 Serviceman | R3: 其他人員 Others | U3: 本國籍 R.O.C. Citizens | V3: 外國籍 Aliens
C4: 計 | D4: 男 | E4: 女 | F4: 計 | G4: 男 | H4: 女 | I4: 計 | J4: 男 | K4: 女 | L4: 計 | M4: 男 | N4: 女 | O4: 計 | P4: 男 | Q4: 女 | R4: 計 | S4: 男 | T4: 女
C5: Total | D5: Male | E5: Female | F5: Total | G5: Male | H5: Female | I5: Total | J5: Male | K5: Female | L5: Total | M5: Male | N5: Female | O5: Total | P5: Male | Q5: Female | R5: Total | S5: Male | T5: Female
A6: 總計 | B6: Total | C6: 13538 | D6: 2139 | E6: 11399 | F6: 1842 | G6: 673 | H6: 1169 | I6: 2429 | J6: 17 | K6: 2412 | L6: 336 | M6: 90 | N6: 246 | O6: 7169 | P6: 801 | Q6: 6368 | R6: 1762 | S6: 558 | T6: 1204 | U6: 10848 | V6: 2690
A7: 部直轄 | B7: Institution under MOI | C7: 1550 | D7: 432 | E7: 1118 | F7: 212 | G7: 87 | H7: 125 | I7: 215 | J7: 1 | K7: 214 | L7: 87 | M7: 28 | N7: 59 | O7: 745 | P7: 173 | Q7: 572 | R7: 291 | S7: 143 | T7: 148 | U7: 1362 | V7: 188
A8: 臺北縣 | B8: Taipei County | C8: 1899 | D8: 245 | E8: 1654 | F8: 250 | G8: 57 | H8: 193 | I8: 386 | J8: 2 | K8: 384 | L8: 26 | M8: 9 | N8: 17 | O8: 1002 | P8: 108 | Q8: 894 | R8: 235 | S8: 69 | T8: 166 | U8: 1580 | V8: 319
A9: 宜蘭縣 | B9: Yilan County | C9: 325 | D9: 46 | E9: 279 | F9: 54 | G9: 16 | H9: 38 | I9: 46 | J9: 0 | K9: 46 | L9: 7 | M9: 0 | N9: 7 | O9: 177 | P9: 17 | Q9: 160 | R9: 41 | S9: 13 | T9: 28 | U9: 255 | V9: 70
A10: 桃園縣 | B10: Taoyuan County | C10: 645 | D10: 96 | E10: 549 | F10: 79 | G10: 26 | H10: 53 | I10: 121 | J10: 0 | K10: 121 | L10: 4 | M10: 0 | N10: 4 | O10: 337 | P10: 50 | Q10: 287 | R10: 104 | S10: 20 | T10: 84 | U10: 450 | V10: 195
A11: 新竹縣 | B11: Hsinchu County | C11: 177 | D11: 39 | E11: 138 | F11: 28 | G11: 12 | H11: 16 | I11: 25 | J11: 0 | K11: 25 | L11: 4 | M11: 3 | N11: 1 | O11: 97 | P11: 17 | Q11: 80 | R11: 23 | S11: 7 | T11: 16 | U11: 127 | V11: 50
A12: 苗栗縣 | B12: Miaoli County | C12: 172 | D12: 31 | E12: 141 | F12: 18 | G12: 4 | H12: 14 | I12: 30 | J12: 0 | K12: 30 | L12: 7 | M12: 2 | N12: 5 | O12: 96 | P12: 16 | Q12: 80 | R12: 21 | S12: 9 | T12: 12 | U12: 126 | V12: 46
A13: 臺中縣 | B13: Taichung County | C13: 385 | D13: 53 | E13: 332 | F13: 56 | G13: 25 | H13: 31 | I13: 68 | J13: 1 | K13: 67 | L13: 6 | M13: 1 | N13: 5 | O13: 191 | P13: 5 | Q13: 186 | R13: 64 | S13: 21 | T13: 43 | U13: 300 | V13: 85
A14: 彰化縣 | B14: Changhua County | C14: 578 | D14: 90 | E14: 488 | F14: 110 | G14: 47 | H14: 63 | I14: 104 | J14: 2 | K14: 102 | L14: 21 | M14: 4 | N14: 17 | O14: 292 | P14: 20 | Q14: 272 | R14: 51 | S14: 17 | T14: 34 | U14: 427 | V14: 151
A15: 南投縣 | B15: Nantou County | C15: 225 | D15: 27 | E15: 198 | F15: 28 | G15: 12 | H15: 16 | I15: 30 | J15: 0 | K15: 30 | L15: 6 | M15: 4 | N15: 2 | O15: 130 | P15: 4 | Q15: 126 | R15: 31 | S15: 7 | T15: 24 | U15: 182 | V15: 43
A16: 雲林縣 | B16: Yunlin County | C16: 264 | D16: 30 | E16: 234 | F16: 39 | G16: 13 | H16: 26 | I16: 32 | J16: 1 | K16: 31 | L16: 8 | M16: 3 | N16: 5 | O16: 155 | P16: 6 | Q16: 149 | R16: 30 | S16: 7 | T16: 23 | U16: 184 | V16: 80
A17: 嘉義縣 | B17: Chiayi County | C17: 330 | D17: 53 | E17: 277 | F17: 49 | G17: 25 | H17: 24 | I17: 49 | J17: 1 | K17: 48 | L17: 3 | M17: 1 | N17: 2 | O17: 189 | P17: 13 | Q17: 176 | R17: 40 | S17: 13 | T17: 27 | U17: 247 | V17: 83
... A32: 連江縣 | B32: Lienchiang County | C32: 6 | D32: 3 | E32: 3 | F32: 3 | G32: 2 | H32: 1 | I32: 0 | J32: 0 | K32: 0 | L32: 0 | M32: 0 | N32: 0 | O32: 0 | P32: 0 | Q32: 0 | R32: 3 | S32: 1 | T32: 2 | U32: 6 | V32: 0
A33: 資料來源：內政部社會司及直轄市、縣(市)政府。
A34: Source : Dept. of Social Affairs, MOI and County and City Government.

Sheet 93
A1: 老人長期照顧、安養機構工作人員 Number of Workers in Elderly Long-term Care, Nursing and Caring Institutions
A2: 93年底 End of 2004 | V2: 單位：人
A3: 區域別 Locality | C3: 總計 Grand Total | F3: 行政人員(含主任) Administrators | I3: 護理人員 Nursing Staff | L3: 社會工作人員 Social Workers | O3: 服務人員 Serviceman | R3: 其他人員 Others | U3: 本國籍 R.O.C. Citizens | V3: 外國籍 Aliens
C4: 計 | D4: 男 | E4: 女 | F4: 計 | G4: 男 | H4: 女 | I4: 計 | J4: 男 | K4: 女 | L4: 計 | M4: 男 | N4: 女 | O4: 計 | P4: 男 | Q4: 女 | R4: 計 | S4: 男 | T4: 女
C5: Total | D5: Male | E5: Female | F5: Total | G5: Male | H5: Female | I5: Total | J5: Male | K5: Female | L5: Total | M5: Male | N5: Female | O5: Total | P5: Male | Q5: Female | R5: Total | S5: Male | T5: Female
A6: 總計 | B6: Total | C6: 12689 | D6: 2061 | E6: 10628 | F6: 1805 | G6: 676 | H6: 1129 | I6: 2216 | J6: 13 | K6: 2203 | L6: 303 | M6: 89 | N6: 214 | O6: 6649 | P6: 747 | Q6: 5902 | R6: 1716 | S6: 536 | T6: 1180 | U6: 10317 | V6: 2372
A7: 部直轄 | B7: Institution under MOI | C7: 1503 | D7: 443 | E7: 1060 | F7: 221 | G7: 95 | H7: 126 | I7: 198 | J7: 1 | K7: 197 | L7: 83 | M7: 27 | N7: 56 | O7: 734 | P7: 192 | Q7: 542 | R7: 267 | S7: 128 | T7: 139 | U7: 1336 | V7: 167
A8: 臺北縣 | B8: Taipei County | C8: 1738 | D8: 223 | E8: 1515 | F8: 229 | G8: 53 | H8: 176 | I8: 356 | J8: 2 | K8: 354 | L8: 27 | M8: 8 | N8: 19 | O8: 901 | P8: 95 | Q8: 806 | R8: 225 | S8: 65 | T8: 160 | U8: 1458 | V8: 280
A9: 宜蘭縣 | B9: Yilan County | C9: 325 | D9: 47 | E9: 278 | F9: 50 | G9: 14 | H9: 36 | I9: 49 | J9: 0 | K9: 49 | L9: 5 | M9: 1 | N9: 4 | O9: 164 | P9: 17 | Q9: 147 | R9: 57 | S9: 15 | T9: 42 | U9: 263 | V9: 62
A10: 桃園縣 | B10: Taoyuan County | C10: 687 | D10: 106 | E10: 581 | F10: 100 | G10: 45 | H10: 55 | I10: 113 | J10: 1 | K10: 112 | L10: 13 | M10: 2 | N10: 11 | O10: 348 | P10: 35 | Q10: 313 | R10: 113 | S10: 23 | T10: 90 | U10: 499 | V10: 188
A11: 新竹縣 | B11: Hsinchu County | C11: 169 | D11: 44 | E11: 125 | F11: 29 | G11: 16 | H11: 13 | I11: 26 | J11: 1 | K11: 25 | L11: 3 | M11: 2 | N11: 1 | O11: 85 | P11: 14 | Q11: 71 | R11: 26 | S11: 11 | T11: 15 | U11: 128 | V11: 41
A12: 苗栗縣 | B12: Miaoli County | C12: 114 | D12: 22 | E12: 92 | F12: 14 | G12: 4 | H12: 10 | I12: 17 | J12: 0 | K12: 17 | L12: 3 | M12: 0 | N12: 3 | O12: 63 | P12: 11 | Q12: 52 | R12: 17 | S12: 7 | T12: 10 | U12: 81 | V12: 33
A13: 臺中縣 | B13: Taichung County | C13: 322 | D13: 41 | E13: 281 | F13: 52 | G13: 20 | H13: 32 | I13: 57 | J13: 0 | K13: 57 | L13: 6 | M13: 1 | N13: 5 | O13: 160 | P13: 6 | Q13: 154 | R13: 47 | S13: 14 | T13: 33 | U13: 255 | V13: 67
A14: 彰化縣 | B14: Changhua County | C14: 486 | D14: 83 | E14: 403 | F14: 96 | G14: 40 | H14: 56 | I14: 79 | J14: 0 | K14: 79 | L14: 21 | M14: 9 | N14: 12 | O14: 242 | P14: 17 | Q14: 225 | R14: 48 | S14: 17 | T14: 31 | U14: 363 | V14: 123
A15: 南投縣 | B15: Nantou County | C15: 225 | D15: 31 | E15: 194 | F15: 28 | G15: 12 | H15: 16 | I15: 29 | J15: 0 | K15: 29 | L15: 7 | M15: 6 | N15: 1 | O15: 127 | P15: 5 | Q15: 122 | R15: 34 | S15: 8 | T15: 26 | U15: 180 | V15: 45
A16: 雲林縣 | B16: Yunlin County | C16: 221 | D16: 28 | E16: 193 | F16: 41 | G16: 16 | H16: 25 | I16: 25 | J16: 0 | K16: 25 | L16: 6 | M16: 2 | N16: 4 | O16: 116 | P16: 3 | Q16: 113 | R16: 33 | S16: 7 | T16: 26 | U16: 175 | V16: 46
A17: 嘉義縣 | B17: Chiayi County | C17: 298 | D17: 53 | E17: 245 | F17: 49 | G17: 30 | H17: 19 | I17: 42 | J17: 0 | K17: 42 | L17: 1 | M17: 0 | N17: 1 | O17: 157 | P17: 10 | Q17: 147 | R17: 49 | S17: 13 | T17: 36 | U17: 237 | V17: 61
... A32: 連江縣 | B32: Lienchiang County | C32: 5 | D32: 2 | E32: 3 | F32: 2 | G32: 1 | H32: 1 | I32: 0 | J32: 0 | K32: 0 | L32: 0 | M32: 0 | N32: 0 | O32: 0 | P32: 0 | Q32: 0 | R32: 3 | S32: 1 | T32: 2 | U32: 5 | V32: 0
A33: 資料來源：內政部社會司及直轄市、縣(市)政府。
A34: Source : Dept. of Social Affairs, MOI and County and City Government.

Sheet 92
A1: 老人長期照顧、安養機構工作人員 Number of Workers in Elderly Long-term Care, Nursing and Caring Institutions
A2: 92年底 End of 2003 | V2: 單位：人
A3: 區域別 Locality | C3: 總計 Grand Total | F3: 行政人員(含主任) Administrators | I3: 護理人員 Nursing Staff | L3: 社會工作人員 Social Workers | O3: 服務人員 Serviceman | R3: 其他人員 Others | U3: 本國籍 R.O.C. Citizens | V3: 外國籍 Aliens
C4: 計 | D4: 男 | E4: 女 | F4: 計 | G4: 男 | H4: 女 | I4: 計 | J4: 男 | K4: 女 | L4: 計 | M4: 男 | N4: 女 | O4: 計 | P4: 男 | Q4: 女 | R4: 計 | S4: 男 | T4: 女
C5: Total | D5: Male | E5: Female | F5: Total | G5: Male | H5: Female | I5: Total | J5: Male | K5: Female | L5: Total | M5: Male | N5: Female | O5: Total | P5: Male | Q5: Female | R5: Total | S5: Male | T5: Female
A6: 總計 | B6: Total | C6: 11355 | D6: 1951 | E6: 9404 | F6: 1650 | G6: 633 | H6: 1017 | I6: 2004 | J6: 24 | K6: 1980 | L6: 217 | M6: 61 | N6: 156 | O6: 5955 | P6: 689 | Q6: 5266 | R6: 1529 | S6: 544 | T6: 985 | U6: 9462 | V6: 1893
A7: 部直轄 | B7: Institution under MOI | C7: 1634 | D7: 520 | E7: 1114 | F7: 239 | G7: 104 | H7: 135 | I7: 243 | J7: 7 | K7: 236 | L7: 69 | M7: 16 | N7: 53 | O7: 732 | P7: 219 | Q7: 513 | R7: 351 | S7: 174 | T7: 177 | U7: 1471 | V7: 163
A8: 臺北縣 | B8: Taipei County | C8: 1449 | D8: 220 | E8: 1229 | F8: 213 | G8: 52 | H8: 161 | I8: 301 | J8: 3 | K8: 298 | L8: 22 | M8: 7 | N8: 15 | O8: 693 | P8: 83 | Q8: 610 | R8: 220 | S8: 75 | T8: 145 | U8: 1214 | V8: 235
A9: 宜蘭縣 | B9: Yilan County | C9: 282 | D9: 37 | E9: 245 | F9: 46 | G9: 16 | H9: 30 | I9: 45 | J9: 0 | K9: 45 | L9: 4 | M9: 1 | N9: 3 | O9: 161 | P9: 12 | Q9: 149 | R9: 26 | S9: 8 | T9: 18 | U9: 219 | V9: 63
A10: 桃園縣 | B10: Taoyuan County | C10: 529 | D10: 84 | E10: 445 | F10: 60 | G10: 25 | H10: 35 | I10: 95 | J10: 1 | K10: 94 | L10: 4 | M10: 0 | N10: 4 | O10: 277 | P10: 31 | Q10: 246 | R10: 93 | S10: 27 | T10: 66 | U10: 490 | V10: 39
A11: 新竹縣 | B11: Hsinchu County | C11: 143 | D11: 37 | E11: 106 | F11: 18 | G11: 12 | H11: 6 | I11: 20 | J11: 0 | K11: 20 | L11: 3 | M11: 2 | N11: 1 | O11: 81 | P11: 14 | Q11: 67 | R11: 21 | S11: 9 | T11: 12 | U11: 103 | V11: 40
A12: 苗栗縣 | B12: Miaoli County | C12: 100 | D12: 19 | E12: 81 | F12: 12 | G12: 5 | H12: 7 | I12: 18 | J12: 0 | K12: 18 | L12: 5 | M12: 0 | N12: 5 | O12: 58 | P12: 11 | Q12: 47 | R12: 7 | S12: 3 | T12: 4 | U12: 62 | V12: 38
A13: 臺中縣 | B13: Taichung County | C13: 233 | D13: 32 | E13: 201 | F13: 37 | G13: 16 | H13: 21 | I13: 48 | J13: 5 | K13: 43 | L13: 5 | M13: 0 | N13: 5 | O13: 116 | P13: 4 | Q13: 112 | R13: 27 | S13: 7 | T13: 20 | U13: 182 | V13: 51
A14: 彰化縣 | B14: Changhua County | C14: 428 | D14: 66 | E14: 362 | F14: 68 | G14: 30 | H14: 38 | I14: 71 | J14: 0 | K14: 71 | L14: 18 | M14: 7 | N14: 11 | O14: 208 | P14: 15 | Q14: 193 | R14: 63 | S14: 14 | T14: 49 | U14: 316 | V14: 112
A15: 南投縣 | B15: Nantou County | C15: 198 | D15: 23 | E15: 175 | F15: 22 | G15: 8 | H15: 14 | I15: 30 | J15: 0 | K15: 30 | L15: 3 | M15: 2 | N15: 1 | O15: 108 | P15: 2 | Q15: 106 | R15: 35 | S15: 11 | T15: 24 | U15: 162 | V15: 36
A16: 雲林縣 | B16: Yunlin County | C16: 185 | D16: 30 | E16: 155 | F16: 31 | G16: 15 | H16: 16 | I16: 27 | J16: 3 | K16: 24 | L16: 6 | M16: 1 | N16: 5 | O16: 93 | P16: 6 | Q16: 87 | R16: 28 | S16: 5 | T16: 23 | U16: 160 | V16: 25
A17: 嘉義縣 | B17: Chiayi County | C17: 224 | D17: 33 | E17: 191 | F17: 36 | G17: 18 | H17: 18 | I17: 38 | J17: 0 | K17: 38 | L17: 1 | M17: 1 | N17: 0 | O17: 117 | P17: 3 | Q17: 114 | R17: 32 | S17: 11 | T17: 21 | U17: 181 | V17: 43
... A32: 連江縣 | B32: Lienchiang County | C32: 5 | D32: 2 | E32: 3 | F32: 2 | G32: 1 | H32: 1 | I32: 0 | J32: 0 | K32: 0 | L32: 0 | M32: 0 | N32: 0 | O32: 0 | P32: 0 | Q32: 0 | R32: 3 | S32: 1 | T32: 2 | U32: 5 | V32: 0
A33: 資料來源：內政部社會司及直轄市、縣(市)政府。
A34: Source : Dept. of Social Affairs, MOI and County and City Government.

Sheet 91
A1: 老人長期照顧、安養機構工作人員 Number of Workers in Elderly Long-term Care, Nursing and Caring Institutions
A2: 91年底 End of 2002 | V2: 單位：人
A3: 區域別 Locality | C3: 總計 Grand Total | F3: 行政人員(含主任) Administrators | I3: 護理人員 Nursing Staff | L3: 社會工作人員 Social Workers | O3: 服務人員 Serviceman | R3: 其他人員 Others | U3: 本國籍 R.O.C. Citizens | V3: 外國籍 Aliens
C4: 計 | D4: 男 | E4: 女 | F4: 計 | G4: 男 | H4: 女 | I4: 計 | J4: 男 | K4: 女 | L4: 計 | M4: 男 | N4: 女 | O4: 計 | P4: 男 | Q4: 女 | R4: 計 | S4: 男 | T4: 女
C5: Total | D5: Male | E5: Female | F5: Total | G5: Male | H5: Female | I5: Total | J5: Male | K5: Female | L5: Total | M5: Male | N5: Female | O5: Total | P5: Male | Q5: Female | R5: Total | S5: Male | T5: Female
A6: 總計 | B6: Total | C6: 10380 | D6: 1860 | E6: 8520 | F6: 1561 | G6: 625 | H6: 936 | I6: 1871 | J6: 19 | K6: 1852 | L6: 202 | M6: 57 | N6: 145 | O6: 5291 | P6: 623 | Q6: 4668 | R6: 1455 | S6: 536 | T6: 919 | U6: 8692 | V6: 1688
A7: 部直轄 | B7: Institution under MOI | C7: 1576 | D7: 497 | E7: 1079 | F7: 261 | G7: 122 | H7: 139 | I7: 232 | J7: 8 | K7: 224 | L7: 64 | M7: 16 | N7: 48 | O7: 722 | P7: 205 | Q7: 517 | R7: 297 | S7: 146 | T7: 151 | U7: 1426 | V7: 150
A8: 臺北縣 | B8: Taipei County | C8: 1244 | D8: 204 | E8: 1040 | F8: 218 | G8: 63 | H8: 155 | I8: 286 | J8: 4 | K8: 282 | L8: 20 | M8: 6 | N8: 14 | O8: 516 | P8: 50 | Q8: 466 | R8: 204 | S8: 81 | T8: 123 | U8: 1060 | V8: 184
A9: 宜蘭縣 | B9: Yilan County | C9: 259 | D9: 40 | E9: 219 | F9: 40 | G9: 16 | H9: 24 | I9: 43 | J9: 0 | K9: 43 | L9: 4 | M9: 1 | N9: 3 | O9: 151 | P9: 17 | Q9: 134 | R9: 21 | S9: 6 | T9: 15 | U9: 209 | V9: 50
A10: 桃園縣 | B10: Taoyuan County | C10: 478 | D10: 100 | E10: 378 | F10: 58 | G10: 30 | H10: 28 | I10: 92 | J10: 0 | K10: 92 | L10: 4 | M10: 0 | N10: 4 | O10: 263 | P10: 47 | Q10: 216 | R10: 61 | S10: 23 | T10: 38 | U10: 386 | V10: 92
A11: 新竹縣 | B11: Hsinchu County | C11: 131 | D11: 37 | E11: 94 | F11: 20 | G11: 12 | H11: 8 | I11: 15 | J11: 0 | K11: 15 | L11: 1 | M11: 0 | N11: 1 | O11: 71 | P11: 19 | Q11: 52 | R11: 24 | S11: 6 | T11: 18 | U11: 105 | V11: 26
A12: 苗栗縣 | B12: Miaoli County | C12: 94 | D12: 15 | E12: 79 | F12: 12 | G12: 5 | H12: 7 | I12: 18 | J12: 0 | K12: 18 | L12: 6 | M12: 0 | N12: 6 | O12: 49 | P12: 7 | Q12: 42 | R12: 9 | S12: 3 | T12: 6 | U12: 68 | V12: 26
A13: 臺中縣 | B13: Taichung County | C13: 222 | D13: 23 | E13: 199 | F13: 34 | G13: 12 | H13: 22 | I13: 41 | J13: 0 | K13: 41 | L13: 4 | M13: 0 | N13: 4 | O13: 115 | P13: 6 | Q13: 109 | R13: 28 | S13: 5 | T13: 23 | U13: 180 | V13: 42
A14: 彰化縣 | B14: Changhua County | C14: 316 | D14: 60 | E14: 256 | F14: 59 | G14: 29 | H14: 30 | I14: 47 | J14: 0 | K14: 47 | L14: 8 | M14: 5 | N14: 3 | O14: 181 | P14: 16 | Q14: 165 | R14: 21 | S14: 10 | T14: 11 | U14: 233 | V14: 83
A15: 南投縣 | B15: Nantou County | C15: 194 | D15: 31 | E15: 163 | F15: 32 | G15: 15 | H15: 17 | I15: 30 | J15: 0 | K15: 30 | L15: 3 | M15: 2 | N15: 1 | O15: 101 | P15: 3 | Q15: 98 | R15: 28 | S15: 11 | T15: 17 | U15: 174 | V15: 20
A16: 雲林縣 | B16: Yunlin County | C16: 166 | D16: 28 | E16: 138 | F16: 24 | G16: 12 | H16: 12 | I16: 26 | J16: 1 | K16: 25 | L16: 7 | M16: 2 | N16: 5 | O16: 76 | P16: 5 | Q16: 71 | R16: 33 | S16: 8 | T16: 25 | U16: 153 | V16: 13
A17: 嘉義縣 | B17: Chiayi County | C17: 196 | D17: 29 | E17: 167 | F17: 29 | G17: 13 | H17: 16 | I17: 29 | J17: 0 | K17: 29 | L17: 2 | M17: 1 | N17: 1 | O17: 100 | P17: 7 | Q17: 93 | R17: 36 | S17: 8 | T17: 28 | U17: 165 | V17: 31
... A32: 連江縣 | B32: Lienchiang County | C32: 5 | D32: 2 | E32: 3 | F32: 2 | G32: 1 | H32: 1 | I32: 0 | J32: 0 | K32: 0 | L32: 0 | M32: 0 | N32: 0 | O32: 0 | P32: 0 | Q32: 0 | R32: 3 | S32: 1 | T32: 2 | U32: 5 | V32: 0
A33: 資料來源：內政部社會司及直轄市、縣(市)政府。
A34: Source : Dept. of Social Affairs, MOI and County and City Government.
