Workbook

Sheet 歷年
A1: 1.3-03身心障礙者人數-按障礙類別
A3: 單位：人
A4: 年底別 | B4: 總人數 | E4: 視覺障礙者 | F4: 聽覺機能障礙者 | G4: 平衡機能障礙者 | H4: 聲音機能或語言機能障礙者 | I4: 肢體障礙者 | J4: 智能障礙者 | K4: 重要器官失去功能者 | L4: 顏面損傷者 | M4: 植物人 | N4: 失智症者 | O4: 自閉症者 | P4: 慢性精神病患者 | Q4: 多重障礙者 | R4: 頑性(難治型)癲癇症者 | S4: 因罕見疾病而致身心功能障礙者 | T4: 其他障礙者 | U4: 新制類別無法對應舊制類別者 | V4: 身心障礙者占總人口比率（％） | W4: 男性身心障礙者占男性總人口比率（％） | X4: 女性身心障礙者占女性總人口比率（％）
B5: 計 | C5: 男 | D5: 女
A6: 89年, 2000 | B6: 711064 | C6: ... | D6: ... | E6: 38747 | F6: 76592 | G6: 524 | H6: 9467 | I6: 306169 | J6: 71012 | K6: 60974 | L6: 2448 | M6: 4582 | N6: 10188 | O6: 2062 | P6: 54350 | Q6: 71569 | R6: 0 | S6: 0 | T6: 2380 | U6: 0 | V6: 0 | W6: 0 | X6: 0
A7: 90年, 2001 | B7: 754084 | C7: ... | D7: ... | E7: 41190 | F7: 81952 | G7: 606 | H7: 9728 | I7: 323542 | J7: 73609 | K7: 64979 | L7: 2640 | M7: 4159 | N7: 11582 | O7: 2550 | P7: 60453 | Q7: 74467 | R7: 0 | S7: 0 | T7: 2627 | U7: 0 | V7: 0 | W7: 0 | X7: 0
A8: 91年, 2002 | B8: 831266 | C8: ... | D8: ... | E8: 44889 | F8: 89129 | G8: 934 | H8: 10582 | I8: 354903 | J8: 76976 | K8: 75323 | L8: 2983 | M8: 4631 | N8: 13996 | O8: 3135 | P8: 68763 | Q8: 81667 | R8: 282 | S8: 53 | T8: 3020 | U8: 0 | V8: 0 | W8: 0 | X8: 0
A9: 92年, 2003 | B9: 861030 | C9: ... | D9: ... | E9: 45672 | F9: 91820 | G9: 994 | H9: 10751 | I9: 365394 | J9: 78498 | K9: 79466 | L9: 3123 | M9: 4364 | N9: 15108 | O9: 3766 | P9: 75832 | Q9: 82138 | R9: 733 | S9: 144 | T9: 3227 | U9: 0 | V9: 0 | W9: 0 | X9: 0
A10: 93年, 2004 | B10: 908719 | C10: 531457 | D10: 377262 | E10: 47524 | F10: 96792 | G10: 1067 | H10: 11315 | I10: 380762 | J10: 81593 | K10: 85400 | L10: 3331 | M10: 4493 | N10: 17186 | O10: 4562 | P10: 83175 | Q10: 86193 | R10: 1457 | S10: 328 | T10: 3541 | U10: 0 | V10: 0 | W10: 0 | X10: 0
A11: 94年, 2005 | B11: 937944 | C11: 546068 | D11: 391876 | E11: 49677 | F11: 99535 | G11: 1237 | H11: 11633 | I11: 388577 | J11: 84294 | K11: 89862 | L11: 3542 | M11: 4364 | N11: 18228 | O11: 5359 | P11: 87039 | Q11: 88638 | R11: 1892 | S11: 476 | T11: 3591 | U11: 0 | V11: 0 | W11: 0 | X11: 0
A12: 95年, 2006 | B12: 981015 | C12: 569234 | D12: 411781 | E12: 51759 | F12: 103946 | G12: 1476 | H12: 12251 | I12: 400254 | J12: 87160 | K12: 96623 | L12: 3749 | M12: 4733 | N12: 20896 | O12: 6185 | P12: 91160 | Q12: 93816 | R12: 2583 | S12: 704 | T12: 3720 | U12: 0 | V12: 0 | W12: 0 | X12: 0
A13: 96年, 2007 | B13: ='96'!B6 -> 1020760 | C13: ='96'!C6 -> 590306 | D13: ='96'!D6 -> 430454 | E13: ='96'!E6 -> 54319 | F13: ='96'!F6 -> 108856 | G13: ='96'!G6 -> 2041 | H13: ='96'!H6 -> 12892 | I13: ='96'!I6 -> 402983 | ... T13: ='96'!T6 -> 3751 | U13: 0 | V13: ='96'!U6 -> 4.45 | W13: ='96'!V6 -> 5.09 | X13: ='96'!W6 -> 3.79
A14: 97年, 2008 | B14: ='97'!B6 -> 1040585 | C14: ='97'!C6 -> 599664 | D14: ='97'!D6 -> 440921 | E14: ='97'!E6 -> 55569 | F14: ='97'!F6 -> 111623 | G14: ='97'!G6 -> 2632 | H14: ='97'!H6 -> 13154 | I14: ='97'!I6 -> 397920 | ... T14: ='97'!T6 -> 3777 | U14: 0 | V14: ='97'!U6 -> 4.52 | W14: ='97'!V6 -> 5.16 | X14: ='97'!W6 -> 3.86
A15: 98年, 2009 | B15: ='98'!B6 -> 1071073 | C15: ='98'!C6 -> 615621 | D15: ='98'!D6 -> 455452 | E15: ='98'!E6 -> 56928 | F15: ='98'!F6 -> 115322 | G15: ='98'!G6 -> 3094 | H15: ='98'!H6 -> 13318 | I15: ='98'!I6 -> 396652 | ... T15: ='98'!T6 -> 3801 | U15: 0 | V15: ='98'!U6 -> 4.63 | W15: ='98'!V6 -> 5.29 | X15: ='98'!W6 -> 3.97
A16: 99年 ,2010 | B16: ='99'!B6 -> 1076293 | C16: ='99'!C6 -> 616675 | D16: ='99'!D6 -> 459618 | E16: ='99'!E6 -> 55603 | F16: ='99'!F6 -> 117103 | G16: ='99'!G6 -> 3518 | H16: ='99'!H6 -> 13329 | I16: ='99'!I6 -> 387369 | ... T16: ='99'!T6 -> 3851 | U16: 0 | V16: ='99'!U6 -> 4.65 | W16: ='99'!V6 -> 5.3 | X16: ='99'!W6 -> 3.99
A17: 100年, 2011 | B17: ='100'!B6 -> 1100436 | C17: ='100'!C6 -> 629179 | D17: ='100'!D6 -> 471257 | E17: ='100'!E6 -> 56373 | F17: ='100'!F6 -> 120035 | G17: ='100'!G6 -> 3893 | H17: ='100'!H6 -> 13595 | I17: ='100'!I6 -> 386217 | ... T17: ='100'!T6 -> 3952 | U17: 0 | V17: ='100'!U6 -> 4.74 | W17: ='100'!V6 -> 5.4 | X17: ='100'!W6 -> 4.07
A18: 101年, 2012 | B18: ='101'!B7 -> 1117518 | C18: ='101'!C7 -> 636287 | D18: ='101'!D7 -> 481231 | E18: ='101'!E7 -> 56582 | F18: ='101'!F7 -> 122285 | G18: ='101'!G7 -> 4256 | H18: ='101'!H7 -> 13396 | I18: ='101'!I7 -> 381127 | ... X18: ='101'!X7 -> 4.13
A19: 102年, 2013 | B19: ='102'!B7 -> 1125113 | C19: ='102'!C7 -> 639969 | D19: ='102'!D7 -> 485144 | E19: ='102'!E7 -> 56840 | F19: ='102'!F7 -> 122348 | G19: ='102'!G7 -> 4063 | H19: ='102'!H7 -> 13509 | I19: ='102'!I7 -> 379405 | ... X19: ='102'!X7 -> 4.1504878
A20: 103年, 2014 | B20: 1141677 | C20: 648807 | D20: 492870 | E20: 57102 | F20: 122988 | G20: 3856 | H20: 13943 | I20: 378448 | J20: 100588 | K20: 141966 | L20: 4553 | M20: 4198 | N20: 43207 | O20: 13409 | P20: 122538 | Q20: 119561 | R20: 4747 | S20: 2075 | T20: 3670 | U20: 4828 | V20: 4.8719341 | W20: 5.5463208 | X20: 4.1997201
A21: 104年, 2015 | B21: 1155650 | C21: 655444 | D21: 500206 | E21: 57319 | F21: 122906 | G21: 3739 | H21: 14482 | I21: 375730 | J21: 100797 | K21: 147856 | L21: 4644 | M21: 4046 | N21: 46054 | O21: 13293 | P21: 124240 | Q21: 124215 | R21: 4826 | S21: 2068 | T21: 3646 | U21: 5789 | V21: 4.92 | W21: 5.6 | X21: 4.25
A22: 105年, 2016 | B22: 1170199 | C22: 662800 | D22: 507399 | E22: 57291 | F22: 123186 | G22: 3651 | H22: 14950 | I22: 373291 | J22: 100896 | K22: 153914 | L22: 4712 | M22: 4032 | N22: 49104 | O22: 13476 | P22: 124999 | Q22: 127415 | R22: 4872 | S22: 2028 | T22: 3678 | U22: 8704 | V22: 4.97 | W22: 5.66 | X22: 4.29
A23: 106年, 2017 | B23: 1167450 | C23: 658682 | D23: 508768 | E23: 56830 | F23: 122835 | G23: 3501 | H23: 15007 | I23: 366781 | J23: 101428 | K23: 154313 | L23: 4720 | M23: 3684 | N23: 50813 | O23: 13905 | P23: 125932 | Q23: 127336 | R23: 4873 | S23: 1937 | T23: 3862 | U23: 9693 | V23: 4.95 | W23: 5.62 | X23: 4.29
A24: 107年, 2018 | B24: 1173978 | C24: 658673 | D24: 515305 | E24: 56582 | F24: 123208 | G24: 3405 | H24: 15145 | I24: 363290 | J24: 101872 | K24: 153140 | L24: 4673 | M24: 3296 | N24: 55578 | O24: 14533 | P24: 127591 | Q24: 130577 | R24: 4801 | S24: 1815 | T24: 4091 | U24: 10381 | V24: 4.98 | W24: 5.62 | X24: 4.34
A25: 108年, 2019 | B25: 1186740 | C25: 661690 | D25: 525050 | E25: 56209 | F25: 124485 | G25: 3322 | H25: 15274 | I25: 360234 | J25: 102127 | K25: 154258 | L25: 4666 | M25: 3002 | N25: 61705 | O25: 15439 | P25: 129885 | Q25: 133764 | R25: 4753 | S25: 1763 | T25: 4149 | U25: 11705 | V25: 5.03 | W25: 5.65 | X25: 4.41
A26: 109年, 2020 | B26: 1197939 | C26: 665776 | D26: 532163 | E26: 56036 | F26: 124825 | G26: 3300 | H26: 15462 | I26: 357241 | J26: 102149 | K26: 158172 | L26: 4648 | M26: 2776 | N26: 66268 | O26: 16683 | P26: 131624 | Q26: 135166 | R26: 4735 | S26: 1751 | T26: 4251 | U26: 12852 | V26: 5.08 | W26: 5.7 | X26: 4.48
B28: 總人數 | E28: 神經系統構造及精神、心智功能 | F28: 眼、耳及相關構造與感官功能及疼痛 | G28: 涉及聲音與言語構造及其功能 | H28: 循環、造血、免疫與呼吸系統構造及其功能 | I28: 消化、新陳代謝與內分泌系統相關構造及其功能 | J28: 泌尿與生殖系統相關構造及其功能 | K28: 神經、肌肉、骨骼之移動相關構造及其功能 | L28: 皮膚與相關構造及其功能 | M28: 跨兩類別以上者 | N28: 舊制轉換新制暫無法歸類者 | O28: 身心障礙者占總人口比率（％） | P28: 男性身心障礙者占男性總人口比率（％） | Q28: 女性身心障礙者占女性總人口比率（％）
A29: 年底別 | B29: 計 | C29: 男 | D29: 女
A30: 110年, 2021 | B30: 1203754 | C30: 667925 | D30: 535829 | E30: 358828 | F30: 186735 | G30: 12523 | H30: 64194 | I30: 12397 | J30: 81439 | K30: 348671 | L30: 4673 | M30: 130567 | N30: 3727 | O30: 5.15 | P30: 5.77 | Q30: 4.54
A31: 111年, 2022 | B31: 1196654 | C31: 662250 | D31: 534404 | E31: 360161 | F31: 187560 | G31: 12463 | H31: 65347 | I31: 11980 | J31: 80432 | K31: 339374 | L31: 4580 | M31: 124663 | N31: 10094 | O31: 5.14 | P31: 5.76 | Q31: 4.54
A32: 112年, 2023 | B32: 1214668 | C32: 669360 | D32: 545308 | E32: 370037 | F32: 192565 | G32: 12387 | H32: 68852 | I32: 12124 | J32: 80850 | K32: 335642 | L32: 4541 | M32: 127397 | N32: 10273 | O32: 5.19 | P32: 5.79 | Q32: 4.6
A33: 113年, 2024 | B33: 1233509 | C33: 677110 | D33: 556399 | E33: 380657 | F33: 196911 | G33: 12341 | H33: 72710 | I33: 12116 | J33: 81157 | K33: 332831 | L33: 4514 | M33: 130057 | N33: 10215 | O33: 5.27 | P33: 5.87 | Q33: 4.69
A34: 說明:110年起已全面換發身心障礙證明，故改以新制障礙類別呈現。
A35: 資料來源：直轄市、縣﹝市﹞政府。

Sheet 113
A1: 1.3-03身心障礙者人數-按障礙類別
A2: 113,2024
A3: 單位：人
A4: 地區別 | B4: 總人數 | E4: 神經系統構造及精神、心智功能 | F4: 眼、耳及相關構造與感官功能及疼痛 | G4: 涉及聲音與言語構造及其功能 | H4: 循環、造血、免疫與呼吸系統構造及其功能 | I4: 消化、新陳代謝與內分泌系統相關構造及其功能 | J4: 泌尿與生殖系統相關構造及其功能 | K4: 神經、肌肉、骨骼之移動相關構造及其功能 | L4: 皮膚與相關 構造及其功能 | M4: 跨兩類別以上者 | N4: 舊制轉換新制 暫無法歸類者 | O4: 身心障礙者占總人口比率（％） | P4: 男性身心障礙者占男性總人口比率（％） | Q4: 女性身心障礙者占女性總人口比率（％）
B5: 計 | C5: 男 | D5: 女
A6: 113年,2024
A7: 1.按區域別 | B7: 1233509 | C7: 677110 | D7: 556399 | E7: 380657 | F7: 196911 | G7: 12341 | H7: 72710 | I7: 12116 | J7: 81157 | K7: 332831 | L7: 4514 | M7: 130057 | N7: 10215 | O7: 5.27 | P7: 5.87 | Q7: 4.69
A8: 新北市 | B8: 183542 | C8: 101461 | D8: 82081 | E8: 59103 | F8: 28178 | G8: 1632 | H8: 11614 | I8: 1895 | J8: 13152 | K8: 46074 | L8: 702 | M8: 19328 | N8: 1864 | O8: 4.54 | P8: 5.16 | Q8: 3.94
A9: 臺北市 | B9: 120711 | C9: 63859 | D9: 56852 | E9: 41152 | F9: 20511 | G9: 648 | H9: 8291 | I9: 1201 | J9: 7642 | K9: 26367 | L9: 354 | M9: 13654 | N9: 891 | O9: 4.85 | P9: 5.44 | Q9: 4.32
A10: 桃園市 | B10: 93580 | C10: 52032 | D10: 41548 | E10: 29827 | F10: 14869 | G10: 1049 | H10: 5169 | I10: 811 | J10: 6763 | K10: 24471 | L10: 382 | M10: 9370 | N10: 869 | O10: 4 | P10: 4.52 | Q10: 3.5
A11: 臺中市 | B11: 136303 | C11: 74857 | D11: 61446 | E11: 40163 | F11: 23140 | G11: 1298 | H11: 8443 | I11: 1256 | J11: 9091 | K11: 36139 | L11: 513 | M11: 15533 | N11: 727 | O11: 4.76 | P11: 5.36 | Q11: 4.2
A12: 臺南市 | B12: 101014 | C12: 55130 | D12: 45884 | E12: 29923 | F12: 16342 | G12: 976 | H12: 6211 | I12: 992 | J12: 7171 | K12: 29118 | L12: 370 | M12: 9100 | N12: 811 | O12: 5.43 | P12: 5.98 | Q12: 4.9
A13: 高雄市 | B13: 151026 | C13: 81839 | D13: 69187 | E13: 47248 | F13: 20997 | G13: 1732 | H13: 9392 | I13: 1545 | J13: 11169 | K13: 42820 | L13: 550 | M13: 14039 | N13: 1534 | O13: 5.53 | P13: 6.12 | Q13: 4.96
A14: 宜蘭縣 | B14: 31821 | C14: 17062 | D14: 14759 | E14: 9939 | F14: 4887 | G14: 236 | H14: 1891 | I14: 238 | J14: 1653 | K14: 9235 | L14: 105 | M14: 3377 | N14: 260 | O14: 7.08 | P14: 7.58 | Q14: 6.59
A15: 新竹縣 | B15: 24276 | C15: 14039 | D15: 10237 | E15: 7882 | F15: 4140 | G15: 218 | H15: 1140 | I15: 239 | J15: 1609 | K15: 6383 | L15: 80 | M15: 2354 | N15: 231 | O15: 4.08 | P15: 4.64 | Q15: 3.51
A16: 苗栗縣 | B16: 33981 | C16: 19092 | D16: 14889 | E16: 8922 | F16: 6015 | G16: 327 | H16: 1372 | I16: 251 | J16: 1851 | K16: 9189 | L16: 97 | M16: 5726 | N16: 231 | O16: 6.38 | P16: 6.97 | Q16: 5.75
A17: 彰化縣 | B17: 71990 | C17: 40552 | D17: 31438 | E17: 20862 | F17: 12899 | G17: 938 | H17: 3733 | I17: 848 | J17: 3943 | K17: 19823 | L17: 315 | M17: 8055 | N17: 574 | O17: 5.87 | P17: 6.53 | Q17: 5.2
A18: 南投縣 | B18: 33367 | C18: 18609 | D18: 14758 | E18: 9283 | F18: 6605 | G18: 389 | H18: 1644 | I18: 283 | J18: 2025 | K18: 9083 | L18: 123 | M18: 3733 | N18: 199 | O18: 7.06 | P18: 7.75 | Q18: 6.36
... A29: 連江縣 | B29: 499 | C29: 310 | D29: 189 | E29: 137 | F29: 106 | G29: 6 | H29: 49 | I29: 14 | J29: 21 | K29: 121 | L29: 3 | M29: 40 | N29: 2 | O29: 3.58 | P29: 3.85 | Q29: 3.21
A31: 2. 按性別
A32: 男 | B32: 677110 | C32: 0 | D32: 0 | E32: 191912 | F32: 107376 | G32: 9472 | H32: 40142 | I32: 7987 | J32: 43548 | K32: 196076 | L32: 2960 | M32: 72057 | N32: 5580 | O32: 5.87 | P32: 0 | Q32: 0
A33: 女 | B33: 556399 | C33: 0 | D33: 0 | E33: 188745 | F33: 89535 | G33: 2869 | H33: 32568 | I33: 4129 | J33: 37609 | K33: 136755 | L33: 1554 | M33: 58000 | N33: 4635 | O33: 4.69 | P33: 0 | Q33: 0
A34: 說明:110年起已全面換發身心障礙證明，故改以新制障礙類別呈現。
A35: 資料來源：直轄市、縣﹝市﹞政府。

Sheet 112
A1: 1.3-03身心障礙者人數-按障礙類別
A2: 112,2023
A3: 單位：人
A4: 地區別 | B4: 總人數 | E4: 神經系統構造及精神、心智功能 | F4: 眼、耳及相關構造與感官功能及疼痛 | G4: 涉及聲音與言語構造及其功能 | H4: 循環、造血、免疫與呼吸系統構造及其功能 | I4: 消化、新陳代謝與內分泌系統相關構造及其功能 | J4: 泌尿與生殖系統相關構造及其功能 | K4: 神經、肌肉、骨骼之移動相關構造及其功能 | L4: 皮膚與相關 構造及其功能 | M4: 跨兩類別以上者 | N4: 舊制轉換新制 暫無法歸類者 | O4: 身心障礙者占總人口比率（％） | P4: 男性身心障礙者占男性總人口比率（％） | Q4: 女性身心障礙者占女性總人口比率（％）
B5: 計 | C5: 男 | D5: 女
A6: 112年,2023
A7: 1.按區域別 | B7: 1214668 | C7: 669360 | D7: 545308 | E7: 370037 | F7: 192565 | G7: 12387 | H7: 68852 | I7: 12124 | J7: 80850 | K7: 335642 | L7: 4541 | M7: 127397 | N7: 10273 | O7: 5.19 | P7: 5.79 | Q7: 4.6
A8: 新北市 | B8: 179483 | C8: 99628 | D8: 79855 | E8: 57059 | F8: 27212 | G8: 1618 | H8: 10979 | I8: 1878 | J8: 13114 | K8: 46268 | L8: 701 | M8: 18783 | N8: 1871 | O8: 4.44 | P8: 5.07 | Q8: 3.85
A9: 臺北市 | B9: 119049 | C9: 63303 | D9: 55746 | E9: 40010 | F9: 20063 | G9: 655 | H9: 7896 | I9: 1195 | J9: 7647 | K9: 26794 | L9: 368 | M9: 13521 | N9: 900 | O9: 4.74 | P9: 5.33 | Q9: 4.21
A10: 桃園市 | B10: 91783 | C10: 51156 | D10: 40627 | E10: 28880 | F10: 14445 | G10: 1069 | H10: 4863 | I10: 799 | J10: 6716 | K10: 24539 | L10: 377 | M10: 9288 | N10: 807 | O10: 3.96 | P10: 4.48 | Q10: 3.46
A11: 臺中市 | B11: 133184 | C11: 73431 | D11: 59753 | E11: 38899 | F11: 22488 | G11: 1289 | H11: 7816 | I11: 1225 | J11: 8973 | K11: 36002 | L11: 526 | M11: 15244 | N11: 722 | O11: 4.68 | P11: 5.28 | Q11: 4.11
A12: 臺南市 | B12: 99490 | C12: 54564 | D12: 44926 | E12: 28804 | F12: 16067 | G12: 1004 | H12: 5921 | I12: 990 | J12: 7180 | K12: 29381 | L12: 362 | M12: 8965 | N12: 816 | O12: 5.35 | P12: 5.91 | Q12: 4.8
A13: 高雄市 | B13: 147890 | C13: 80442 | D13: 67448 | E13: 45656 | F13: 20475 | G13: 1713 | H13: 8790 | I13: 1558 | J13: 11166 | K13: 42841 | L13: 551 | M13: 13571 | N13: 1569 | O13: 5.4 | P13: 5.99 | Q13: 4.84
A14: 宜蘭縣 | B14: 31779 | C14: 17121 | D14: 14658 | E14: 9794 | F14: 4846 | G14: 245 | H14: 1802 | I14: 248 | J14: 1649 | K14: 9467 | L14: 106 | M14: 3350 | N14: 272 | O14: 7.06 | P14: 7.58 | Q14: 6.54
A15: 新竹縣 | B15: 23802 | C15: 13802 | D15: 10000 | E15: 7669 | F15: 4005 | G15: 206 | H15: 1112 | I15: 230 | J15: 1589 | K15: 6399 | L15: 79 | M15: 2271 | N15: 242 | O15: 4.04 | P15: 4.6 | Q15: 3.46
A16: 苗栗縣 | B16: 33761 | C16: 19058 | D16: 14703 | E16: 8766 | F16: 5910 | G16: 336 | H16: 1319 | I16: 259 | J16: 1872 | K16: 9365 | L16: 95 | M16: 5614 | N16: 225 | O16: 6.32 | P16: 6.93 | Q16: 5.66
A17: 彰化縣 | B17: 71025 | C17: 40084 | D17: 30941 | E17: 20510 | F17: 12629 | G17: 933 | H17: 3523 | I17: 841 | J17: 3897 | K17: 20033 | L17: 323 | M17: 7746 | N17: 590 | O17: 5.73 | P17: 6.38 | Q17: 5.06
A18: 南投縣 | B18: 33240 | C18: 18588 | D18: 14652 | E18: 9103 | F18: 6585 | G18: 390 | H18: 1559 | I18: 281 | J18: 2028 | K18: 9237 | L18: 131 | M18: 3729 | N18: 197 | O18: 6.97 | P18: 7.65 | Q18: 6.26
... A29: 連江縣 | B29: 492 | C29: 306 | D29: 186 | E29: 140 | F29: 105 | G29: 6 | H29: 40 | I29: 16 | J29: 19 | K29: 123 | L29: 3 | M29: 38 | N29: 2 | O29: 3.5 | P29: 3.79 | Q29: 3.12
A31: 2. 按性別
A32: 男 | B32: 669360 | C32: 0 | D32: 0 | E32: 187655 | F32: 105327 | G32: 9502 | H32: 38255 | I32: 8003 | J32: 43101 | K32: 198087 | L32: 2993 | M32: 70833 | N32: 5604 | O32: 5.79 | P32: 0 | Q32: 0
A33: 女 | B33: 545308 | C33: 0 | D33: 0 | E33: 182382 | F33: 87238 | G33: 2885 | H33: 30597 | I33: 4121 | J33: 37749 | K33: 137555 | L33: 1548 | M33: 56564 | N33: 4669 | O33: 4.6 | P33: 0 | Q33: 0
A34: 說明:110年起已全面換發身心障礙證明，故改以新制障礙類別呈現。
A35: 資料來源：直轄市、縣﹝市﹞政府。

Sheet 111
A1: 1.3-03身心障礙者人數-按障礙類別
A2: 111,2022
A3: 單位：人
A4: 地區別 | B4: 總人數 | E4: 神經系統構造及精神、心智功能 | F4: 眼、耳及相關構造與感官功能及疼痛 | G4: 涉及聲音與言語構造及其功能 | H4: 循環、造血、免疫與呼吸系統構造及其功能 | I4: 消化、新陳代謝與內分泌系統相關構造及其功能 | J4: 泌尿與生殖系統相關構造及其功能 | K4: 神經、肌肉、骨骼之移動相關構造及其功能 | L4: 皮膚與相關 構造及其功能 | M4: 跨兩類別以上者 | N4: 舊制轉換新制 暫無法歸類者 | O4: 身心障礙者占總人口比率（％） | P4: 男性身心障礙者占男性總人口比率（％） | Q4: 女性身心障礙者占女性總人口比率（％）
B5: 計 | C5: 男 | D5: 女
A6: 111年,2022
A7: 1.按區域別 | B7: 1196654 | C7: 662250 | D7: 534404 | E7: 360161 | F7: 187560 | G7: 12463 | H7: 65347 | I7: 11980 | J7: 80432 | K7: 339374 | L7: 4580 | M7: 124663 | N7: 10094 | O7: 5.14 | P7: 5.76 | Q7: 4.54
A8: 新北市 | B8: 175011 | C8: 97527 | D8: 77484 | E8: 54994 | F8: 26199 | G8: 1628 | H8: 10334 | I8: 1806 | J8: 12960 | K8: 46518 | L8: 695 | M8: 17992 | N8: 1885 | O8: 4.38 | P8: 5.01 | Q8: 3.78
A9: 臺北市 | B9: 117231 | C9: 62583 | D9: 54648 | E9: 39062 | F9: 19603 | G9: 670 | H9: 7586 | I9: 1147 | J9: 7583 | K9: 27093 | L9: 369 | M9: 13222 | N9: 896 | O9: 4.73 | P9: 5.32 | Q9: 4.19
A10: 桃園市 | B10: 89206 | C10: 50033 | D10: 39173 | E10: 27771 | F10: 13862 | G10: 1058 | H10: 4629 | I10: 770 | J10: 6590 | K10: 24469 | L10: 377 | M10: 9138 | N10: 542 | O10: 3.91 | P10: 4.44 | Q10: 3.39
A11: 臺中市 | B11: 130219 | C11: 72130 | D11: 58089 | E11: 37776 | F11: 21807 | G11: 1291 | H11: 7218 | I11: 1188 | J11: 8867 | K11: 35969 | L11: 533 | M11: 14883 | N11: 687 | O11: 4.63 | P11: 5.23 | Q11: 4.04
A12: 臺南市 | B12: 98413 | C12: 54137 | D12: 44276 | E12: 27974 | F12: 15743 | G12: 1016 | H12: 5662 | I12: 990 | J12: 7189 | K12: 29798 | L12: 348 | M12: 8865 | N12: 828 | O12: 5.31 | P12: 5.88 | Q12: 4.75
A13: 高雄市 | B13: 146383 | C13: 80070 | D13: 66313 | E13: 44535 | F13: 20053 | G13: 1744 | H13: 8388 | I13: 1553 | J13: 11264 | K13: 43322 | L13: 567 | M13: 13376 | N13: 1581 | O13: 5.37 | P13: 5.97 | Q13: 4.78
A14: 宜蘭縣 | B14: 31348 | C14: 16967 | D14: 14381 | E14: 9424 | F14: 4684 | G14: 255 | H14: 1722 | I14: 249 | J14: 1607 | K14: 9700 | L14: 109 | M14: 3325 | N14: 273 | O14: 6.98 | P14: 7.52 | Q14: 6.44
A15: 新竹縣 | B15: 23529 | C15: 13697 | D15: 9832 | E15: 7482 | F15: 3864 | G15: 200 | H15: 1058 | I15: 230 | J15: 1623 | K15: 6517 | L15: 80 | M15: 2230 | N15: 245 | O15: 4.05 | P15: 4.63 | Q15: 3.45
A16: 苗栗縣 | B16: 33742 | C16: 19102 | D16: 14640 | E16: 8741 | F16: 5781 | G16: 340 | H16: 1249 | I16: 247 | J16: 1874 | K16: 9586 | L16: 98 | M16: 5598 | N16: 228 | O16: 6.31 | P16: 6.93 | Q16: 5.64
A17: 彰化縣 | B17: 70039 | C17: 39692 | D17: 30347 | E17: 20141 | F17: 12330 | G17: 924 | H17: 3369 | I17: 822 | J17: 3813 | K17: 20184 | L17: 329 | M17: 7516 | N17: 611 | O17: 5.62 | P17: 6.28 | Q17: 4.95
A18: 南投縣 | B18: 33160 | C18: 18646 | D18: 14514 | E18: 9043 | F18: 6468 | G18: 397 | H18: 1455 | I18: 296 | J18: 2026 | K18: 9424 | L18: 138 | M18: 3719 | N18: 194 | O18: 6.91 | P18: 7.62 | Q18: 6.18
... A29: 連江縣 | B29: 477 | C29: 302 | D29: 175 | E29: 128 | F29: 100 | G29: 6 | H29: 41 | I29: 16 | J29: 17 | K29: 125 | L29: 3 | M29: 39 | N29: 2 | O29: 3.41 | P29: 3.74 | Q29: 2.97
A31: 2. 按性別
A32: 男 | B32: 662250 | C32: 0 | D32: 0 | E32: 183939 | F32: 103107 | G32: 9547 | H32: 36637 | I32: 8093 | J32: 42570 | K32: 200132 | L32: 3041 | M32: 69695 | N32: 5489 | O32: 5.76 | P32: 0 | Q32: 0
A33: 女 | B33: 534404 | C33: 0 | D33: 0 | E33: 176222 | F33: 84453 | G33: 2916 | H33: 28710 | I33: 3887 | J33: 37862 | K33: 139242 | L33: 1539 | M33: 54968 | N33: 4605 | O33: 4.54 | P33: 0 | Q33: 0
A34: 說明:110年起已全面換發身心障礙證明，故改以新制障礙類別呈現。
A35: 資料來源：直轄市、縣﹝市﹞政府。

Sheet 110
A1: 1.3-03身心障礙者人數-按障礙類別
A2: 110,2021
A3: 單位：人
A4: 地區別 | B4: 總人數 | E4: 神經系統構造及精神、心智功能 | F4: 眼、耳及相關構造與感官功能及疼痛 | G4: 涉及聲音與言語構造及其功能 | H4: 循環、造血、免疫與呼吸系統構造及其功能 | I4: 消化、新陳代謝與內分泌系統相關構造及其功能 | J4: 泌尿與生殖系統相關構造及其功能 | K4: 神經、肌肉、骨骼之移動相關構造及其功能 | L4: 皮膚與相關 構造及其功能 | M4: 跨兩類別以上者 | N4: 舊制轉換新制 暫無法歸類者 | O4: 身心障礙者占總人口比率（％） | P4: 男性身心障礙者占男性總人口比率（％） | Q4: 女性身心障礙者占女性總人口比率（％）
B5: 計 | C5: 男 | D5: 女
A6: 110年,2021
A7: 1.按區域別 | B7: 1203754 | C7: 667925 | D7: 535829 | E7: 358828 | F7: 186735 | G7: 12523 | H7: 64194 | I7: 12397 | J7: 81439 | K7: 348671 | L7: 4673 | M7: 130567 | N7: 3727 | O7: 5.15 | P7: 5.77 | Q7: 4.54
A8: 新北市 | B8: 175165 | C8: 97942 | D8: 77223 | E8: 54479 | F8: 25963 | G8: 1633 | H8: 10312 | I8: 1885 | J8: 13055 | K8: 47561 | L8: 708 | M8: 18875 | N8: 694 | O8: 4.37 | P8: 5 | Q8: 3.77
A9: 臺北市 | B9: 118696 | C9: 63515 | D9: 55181 | E9: 39327 | F9: 19711 | G9: 696 | H9: 7534 | I9: 1186 | J9: 7782 | K9: 27936 | L9: 376 | M9: 13640 | N9: 508 | O9: 4.7 | P9: 5.28 | Q9: 4.17
A10: 桃園市 | B10: 88867 | C10: 50063 | D10: 38804 | E10: 27443 | F10: 13748 | G10: 989 | H10: 4534 | I10: 809 | J10: 6617 | K10: 24844 | L10: 377 | M10: 9261 | N10: 245 | O10: 3.91 | P10: 4.45 | Q10: 3.38
A11: 臺中市 | B11: 129869 | C11: 72310 | D11: 57559 | E11: 37400 | F11: 21429 | G11: 1317 | H11: 6861 | I11: 1247 | J11: 8907 | K11: 36669 | L11: 546 | M11: 15178 | N11: 315 | O11: 4.62 | P11: 5.24 | Q11: 4.02
A12: 臺南市 | B12: 99474 | C12: 54820 | D12: 44654 | E12: 27979 | F12: 15715 | G12: 1048 | H12: 5525 | I12: 1027 | J12: 7311 | K12: 30782 | L12: 354 | M12: 9500 | N12: 233 | O12: 5.34 | P12: 5.91 | Q12: 4.78
A13: 高雄市 | B13: 146740 | C13: 80569 | D13: 66171 | E13: 44116 | F13: 19973 | G13: 1760 | H13: 8137 | I13: 1602 | J13: 11395 | K13: 44478 | L13: 566 | M13: 14058 | N13: 655 | O13: 5.35 | P13: 5.96 | Q13: 4.75
A14: 宜蘭縣 | B14: 31902 | C14: 17277 | D14: 14625 | E14: 9418 | F14: 4704 | G14: 262 | H14: 1757 | I14: 257 | J14: 1639 | K14: 10080 | L14: 114 | M14: 3613 | N14: 58 | O14: 7.08 | P14: 7.61 | Q14: 6.54
A15: 新竹縣 | B15: 23404 | C15: 13642 | D15: 9762 | E15: 7334 | F15: 3749 | G15: 194 | H15: 1008 | I15: 241 | J15: 1603 | K15: 6663 | L15: 87 | M15: 2466 | N15: 59 | O15: 4.07 | P15: 4.64 | Q15: 3.46
A16: 苗栗縣 | B16: 34183 | C16: 19368 | D16: 14815 | E16: 8845 | F16: 5716 | G16: 345 | H16: 1257 | I16: 249 | J16: 1904 | K16: 9852 | L16: 100 | M16: 5838 | N16: 77 | O16: 6.35 | P16: 6.98 | Q16: 5.68
A17: 彰化縣 | B17: 70827 | C17: 40193 | D17: 30634 | E17: 20241 | F17: 12288 | G17: 947 | H17: 3304 | I17: 828 | J17: 3844 | K17: 20814 | L17: 343 | M17: 8046 | N17: 172 | O17: 5.64 | P17: 6.3 | Q17: 4.96
A18: 南投縣 | B18: 33692 | C18: 18982 | D18: 14710 | E18: 9151 | F18: 6467 | G18: 407 | H18: 1432 | I18: 306 | J18: 2071 | K18: 9746 | L18: 144 | M18: 3913 | N18: 55 | O18: 6.95 | P18: 7.66 | Q18: 6.2
... A29: 連江縣 | B29: 480 | C29: 313 | D29: 167 | E29: 133 | F29: 95 | G29: 7 | H29: 37 | I29: 17 | J29: 19 | K29: 130 | L29: 3 | M29: 37 | N29: 2 | O29: 3.52 | P29: 3.96 | Q29: 2.91
A31: 2. 按性別
A32: 男 | B32: 667925 | C32: 0 | D32: 0 | E32: 183645 | F32: 103053 | G32: 9540 | H32: 36533 | I32: 8381 | J32: 42906 | K32: 205477 | L32: 3115 | M32: 73282 | N32: 1993 | O32: 5.77 | P32: 0 | Q32: 0
A33: 女 | B33: 535829 | C33: 0 | D33: 0 | E33: 175183 | F33: 83682 | G33: 2983 | H33: 27661 | I33: 4016 | J33: 38533 | K33: 143194 | L33: 1558 | M33: 57285 | N33: 1734 | O33: 4.54 | P33: 0 | Q33: 0
A34: 說明:110年起已全面換發身心障礙證明，故改以新制障礙類別呈現。
A35: 資料來源：直轄市、縣﹝市﹞政府。

Sheet 109
A1: 1.3-03身心障礙者人數-按障礙類別
A2: 109,2020
A3: 單位：人
A4: 地區別 | B4: 總人數 | E4: 視覺障礙者 | F4: 聽覺機能障礙者 | G4: 平衡機能障礙者 | H4: 聲音機能或語言機能障礙者 | I4: 肢體障礙者 | J4: 智能障礙者 | K4: 重要器官失去功能者 | L4: 顏面損傷者 | M4: 植物人 | N4: 失智症者 | O4: 自閉症者 | P4: 慢性精神病患者 | Q4: 多重障礙者 | R4: 頑性(難治型)癲癇症者 | S4: 因罕見疾病而致身心功能障礙者 | T4: 其他障礙者 | U4: 新制類別無法對應舊制類別者 | V4: 身心障礙者占總人口比率（％） | W4: 男性身心障礙者占男性總人口比率（％） | X4: 女性身心障礙者占女性總人口比率（％）
B5: 計 | C5: 男 | D5: 女
A6: 109年,2020
A7: 1.按區域別 | B7: 1197939 | C7: 665776 | D7: 532163 | E7: 56036 | F7: 124825 | G7: 3300 | H7: 15462 | I7: 357241 | J7: 102149 | K7: 158172 | L7: 4648 | M7: 2776 | N7: 66268 | O7: 16683 | P7: 131624 | Q7: 135166 | R7: 4735 | S7: 1751 | T7: 4251 | U7: 12852 | V7: 5.08 | W7: 5.7 | X7: 4.48 | Z7: 23373517 | AA7: 11684674 | AB7: 11688843
A8: 新北市 | B8: 173395 | C8: 97046 | D8: 76349 | E8: 7901 | F8: 16992 | G8: 562 | H8: 2119 | I8: 48860 | J8: 14157 | K8: 25380 | L8: 722 | M8: 431 | N8: 9155 | O8: 3701 | P8: 19616 | Q8: 19125 | R8: 649 | S8: 343 | T8: 783 | U8: 2899 | V8: 4.3 | W8: 4.93 | X8: 3.7 | Z8: 3954929 | AA8: 1950060 | AB8: 2004869
A9: 臺北市 | B9: 119803 | C9: 64294 | D9: 55509 | E9: 6080 | F9: 13098 | G9: 374 | H9: 934 | I9: 28921 | J9: 7464 | K9: 16781 | L9: 367 | M9: 309 | N9: 8702 | O9: 3712 | P9: 15443 | Q9: 15446 | R9: 397 | S9: 268 | T9: 537 | U9: 970 | V9: 4.6 | W9: 5.19 | X9: 4.07 | Z9: 2686516 | AA9: 1289945 | AB9: 1396571
A10: 桃園市 | B10: 88011 | C10: 49721 | D10: 38290 | E10: 3584 | F10: 9838 | G10: 164 | H10: 1194 | I10: 24890 | J10: 8422 | K10: 11779 | L10: 368 | M10: 208 | N10: 4293 | O10: 1710 | P10: 9530 | Q10: 10740 | R10: 340 | S10: 162 | T10: 311 | U10: 478 | V10: 3.88 | W10: 4.42 | X10: 3.35 | Z10: 2044023 | AA10: 1026657 | AB10: 1017366
A11: 臺中市 | B11: 128167 | C11: 71509 | D11: 56658 | E11: 6075 | F11: 14575 | G11: 281 | H11: 1600 | I11: 37429 | J11: 11529 | K11: 16864 | L11: 534 | M11: 251 | N11: 5771 | O11: 1541 | P11: 13355 | Q11: 15183 | R11: 492 | S11: 167 | T11: 406 | U11: 2114 | V11: 4.54 | W11: 5.16 | X11: 3.95 | Z11: 2701661 | AA11: 1339733 | AB11: 1361928
A12: 臺南市 | B12: 99072 | C12: 54583 | D12: 44489 | E12: 5553 | F12: 9661 | G12: 343 | H12: 1240 | I12: 31575 | J12: 8894 | K12: 13784 | L12: 336 | M12: 217 | N12: 6161 | O12: 1008 | P12: 8912 | Q12: 9648 | R12: 363 | S12: 153 | T12: 322 | U12: 902 | V12: 5.28 | W12: 5.84 | X12: 4.73 | Z12: 1883208 | AA12: 944555 | AB12: 938653
A13: 高雄市 | B13: 145110 | C13: 79902 | D13: 65208 | E13: 6910 | F13: 12355 | G13: 414 | H13: 2169 | I13: 45628 | J13: 11291 | K13: 21098 | L13: 551 | M13: 406 | N13: 8146 | O13: 1635 | P13: 17574 | Q13: 13583 | R13: 618 | S13: 222 | T13: 706 | U13: 1804 | V13: 5.25 | W13: 5.86 | X13: 4.65 | Z13: 2779877 | AA13: 1385895 | AB13: 1393982
A14: 宜蘭縣 | B14: 32001 | C14: 17345 | D14: 14656 | E14: 1506 | F14: 3085 | G14: 96 | H14: 334 | I14: 10307 | J14: 2416 | K14: 3727 | L14: 110 | M14: 57 | N14: 1816 | O14: 288 | P14: 3871 | Q14: 3740 | R14: 124 | S14: 26 | T14: 65 | U14: 433 | V14: 7.06 | W14: 7.6 | X14: 6.52 | Z14: 458456 | AA14: 233000 | AB14: 225456
A15: 新竹縣 | B15: 23386 | C15: 13627 | D15: 9759 | E15: 858 | F15: 2827 | G15: 57 | H15: 254 | I15: 6773 | J15: 2427 | K15: 2892 | L15: 90 | M15: 70 | N15: 1286 | O15: 304 | P15: 2334 | Q15: 2610 | R15: 118 | S15: 31 | T15: 82 | U15: 373 | V15: 4.1 | W15: 4.68 | X15: 3.49 | Z15: 530486 | AA15: 271904 | AB15: 258582
A16: 苗栗縣 | B16: 34262 | C16: 19467 | D16: 14795 | E16: 1100 | F16: 4485 | G16: 37 | H16: 499 | I16: 9995 | J16: 3170 | K16: 3405 | L16: 100 | M16: 70 | N16: 1358 | O16: 232 | P16: 3234 | Q16: 6166 | R16: 112 | S16: 31 | T16: 74 | U16: 194 | V16: 6.31 | W16: 6.96 | X16: 5.63 | Z16: 565554 | AA16: 292024 | AB16: 273530
A17: 彰化縣 | B17: 70240 | C17: 39875 | D17: 30365 | E17: 3147 | F17: 8651 | G17: 207 | H17: 1120 | I17: 21157 | J17: 7236 | K17: 8006 | L17: 355 | M17: 73 | N17: 3391 | O17: 290 | P17: 7620 | Q17: 8092 | R17: 379 | S17: 62 | T17: 192 | U17: 262 | V17: 5.55 | W17: 6.19 | X17: 4.88 | Z17: 1296013 | AA17: 663500 | AB17: 632513
A18: 南投縣 | B18: 33824 | C18: 19077 | D18: 14747 | E18: 1331 | F18: 4955 | G18: 70 | H18: 499 | I18: 9946 | J18: 2871 | K18: 3869 | L18: 147 | M18: 60 | N18: 1805 | O18: 258 | P18: 3460 | Q18: 4147 | R18: 198 | S18: 26 | T18: 74 | U18: 108 | V18: 6.89 | W18: 7.61 | X18: 6.14 | Z18: 517222 | AA18: 265474 | AB18: 251748
... A29: 連江縣 | B29: 486 | C29: 310 | D29: 176 | E29: 34 | F29: 58 | G29: 1 | H29: 9 | I29: 137 | J29: 40 | K29: 73 | L29: 3 | M29: 2 | N29: 18 | O29: 10 | P29: 48 | Q29: 37 | R29: 1 | S29: 2 | T29: 2 | U29: 11 | V29: 3.66 | W29: 4.04 | X29: 3.14 | Z29: 12165 | AA29: 6923 | AB29: 5242
A31: 2. 按性別 | Z31: 23373517
A32: 男 | B32: 665776 | C32: 0 | D32: 0 | E32: 29493 | F32: 70327 | G32: 1914 | H32: 11476 | I32: 210411 | J32: 58095 | K32: 87865 | L32: 3133 | M32: 1592 | N32: 23226 | O32: 14519 | P32: 62769 | Q32: 77124 | R32: 2514 | S32: 934 | T32: 2165 | U32: 8219 | V32: 5.7 | W32: 0 | X32: 0 | Z32: 11684674
A33: 女 | B33: 532163 | C33: 0 | D33: 0 | E33: 26543 | F33: 54498 | G33: 1386 | H33: 3986 | I33: 146830 | J33: 44054 | K33: 70307 | L33: 1515 | M33: 1184 | N33: 43042 | O33: 2164 | P33: 68855 | Q33: 58042 | R33: 2221 | S33: 817 | T33: 2086 | U33: 4633 | V33: 4.48 | W33: 0 | X33: 0 | Z33: 11688843
A34: 領身心障礙者證明(新制) | Z34: 23373517
A35: 男 | B35: 665723 | C35: 0 | D35: 0 | E35: 29490 | F35: 70324 | G35: 1914 | H35: 11476 | I35: 210387 | J35: 58082 | K35: 87864 | L35: 3133 | M35: 1592 | N35: 23226 | O35: 14519 | P35: 62769 | Q35: 77115 | R35: 2514 | S35: 934 | T35: 2165 | U35: 8219 | V35: 5.7 | W35: 0 | X35: 0 | Z35: 11684674
A36: 女 | B36: 532129 | C36: 0 | D36: 0 | E36: 26543 | F36: 54493 | G36: 1386 | H36: 3986 | I36: 146817 | J36: 44050 | K36: 70304 | L36: 1515 | M36: 1184 | N36: 43042 | O36: 2164 | P36: 68852 | Q36: 58038 | R36: 2220 | S36: 816 | T36: 2086 | U36: 4633 | V36: 4.48 | W36: 0 | X36: 0 | Z36: 11688843
A37: 領身心障礙者手冊(舊制) | Z37: 23373517
A38: 男 | B38: 53 | C38: 0 | D38: 0 | E38: 3 | F38: 3 | G38: 0 | H38: 0 | I38: 24 | J38: 13 | K38: 1 | L38: 0 | M38: 0 | N38: 0 | O38: 0 | P38: 0 | Q38: 9 | R38: 0 | S38: 0 | T38: 0 | U38: 0 | V38: 0.0039152069 | W38: 0 | X38: 0 | Z38: 11684674
A39: 女 | B39: 34 | C39: 0 | D39: 0 | E39: 0 | F39: 5 | G39: 0 | H39: 0 | I39: 13 | J39: 4 | K39: 3 | L39: 0 | M39: 0 | N39: 0 | O39: 0 | P39: 3 | Q39: 4 | R39: 1 | S39: 1 | T39: 0 | U39: 0 | V39: 0.0034375713 | W39: 0 | X39: 0 | Z39: 11688843
A40: 資料來源：直轄市、縣﹝市﹞政府。

Sheet 108
A1: 1.3-03身心障礙者人數-按障礙類別
A2: 108年,2019
A3: 單位：人
A4: 地區別 | B4: 總人數 | E4: 視覺障礙者 | F4: 聽覺機能障礙者 | G4: 平衡機能障礙者 | H4: 聲音機能或語言機能障礙者 | I4: 肢體障礙者 | J4: 智能障礙者 | K4: 重要器官失去功能者 | L4: 顏面損傷者 | M4: 植物人 | N4: 失智症者 | O4: 自閉症者 | P4: 慢性精神病患者 | Q4: 多重障礙者 | R4: 頑性(難治型)癲癇症者 | S4: 因罕見疾病而致身心功能障礙者 | T4: 其他障礙者 | U4: 新制類別無法對應舊制類別者 | V4: 身心障礙者占總人口比率（％） | W4: 男性身心障礙者占男性總人口比率（％） | X4: 女性身心障礙者占女性總人口比率（％）
B5: 計 | C5: 男 | D5: 女
A6: 108年,2019
A7: 1.按區域別 | B7: 1186740 | C7: 661690 | D7: 525050 | E7: 56209 | F7: 124485 | G7: 3322 | H7: 15274 | I7: 360234 | J7: 102127 | K7: 154258 | L7: 4666 | M7: 3002 | N7: 61705 | O7: 15439 | P7: 129885 | Q7: 133764 | R7: 4753 | S7: 1763 | T7: 4149 | U7: 11705 | V7: 5.03 | W7: 5.65 | X7: 4.41 | Z7: 23373517 | AA7: 11684674 | AB7: 11688843
A8: 新北市 | B8: 169935 | C8: 95372 | D8: 74563 | E8: 7830 | F8: 16843 | G8: 527 | H8: 2120 | I8: 48862 | J8: 13991 | K8: 24452 | L8: 713 | M8: 453 | N8: 8395 | O8: 3334 | P8: 19176 | Q8: 18795 | R8: 658 | S8: 348 | T8: 760 | U8: 2678 | V8: 4.23 | W8: 4.86 | X8: 3.63 | Z8: 3954929 | AA8: 1950060 | AB8: 2004869
A9: 臺北市 | B9: 121171 | C9: 65351 | D9: 55820 | E9: 6186 | F9: 13362 | G9: 371 | H9: 965 | I9: 29666 | J9: 7622 | K9: 16920 | L9: 371 | M9: 382 | N9: 8499 | O9: 3477 | P9: 15481 | Q9: 15745 | R9: 401 | S9: 282 | T9: 543 | U9: 898 | V9: 4.58 | W9: 5.19 | X9: 4.03 | Z9: 2686516 | AA9: 1289945 | AB9: 1396571
A10: 桃園市 | B10: 85291 | C10: 48373 | D10: 36918 | E10: 3496 | F10: 9775 | G10: 166 | H10: 1132 | I10: 24596 | J10: 8300 | K10: 11199 | L10: 366 | M10: 218 | N10: 3764 | O10: 1495 | P10: 9196 | Q10: 10330 | R10: 347 | S10: 161 | T10: 303 | U10: 447 | V10: 3.79 | W10: 4.33 | X10: 3.26 | Z10: 2044023 | AA10: 1026657 | AB10: 1017366
A11: 臺中市 | B11: 125999 | C11: 70621 | D11: 55378 | E11: 6020 | F11: 14434 | G11: 292 | H11: 1570 | I11: 37386 | J11: 11371 | K11: 16422 | L11: 534 | M11: 257 | N11: 5252 | O11: 1444 | P11: 13050 | Q11: 14948 | R11: 489 | S11: 177 | T11: 402 | U11: 1951 | V11: 4.48 | W11: 5.1 | X11: 3.87 | Z11: 2701661 | AA11: 1339733 | AB11: 1361928
A12: 臺南市 | B12: 98640 | C12: 54356 | D12: 44284 | E12: 5566 | F12: 9649 | G12: 339 | H12: 1240 | I12: 32136 | J12: 8807 | K12: 13500 | L12: 345 | M12: 244 | N12: 5765 | O12: 930 | P12: 8842 | Q12: 9656 | R12: 366 | S12: 140 | T12: 296 | U12: 819 | V12: 5.24 | W12: 5.8 | X12: 4.69 | Z12: 1883208 | AA12: 944555 | AB12: 938653
A13: 高雄市 | B13: 143508 | C13: 79296 | D13: 64212 | E13: 6898 | F13: 12331 | G13: 423 | H13: 2123 | I13: 45837 | J13: 11367 | K13: 20398 | L13: 540 | M13: 423 | N13: 7479 | O13: 1559 | P13: 17413 | Q13: 13553 | R13: 622 | S13: 225 | T13: 686 | U13: 1631 | V13: 5.17 | W13: 5.79 | X13: 4.58 | Z13: 2779877 | AA13: 1385895 | AB13: 1393982
A14: 宜蘭縣 | B14: 32053 | C14: 17410 | D14: 14643 | E14: 1527 | F14: 3047 | G14: 99 | H14: 328 | I14: 10477 | J14: 2463 | K14: 3700 | L14: 112 | M14: 66 | N14: 1725 | O14: 288 | P14: 3863 | Q14: 3761 | R14: 124 | S14: 24 | T14: 69 | U14: 380 | V14: 7.06 | W14: 7.6 | X14: 6.51 | Z14: 458456 | AA14: 233000 | AB14: 225456
A15: 新竹縣 | B15: 22878 | C15: 13327 | D15: 9551 | E15: 850 | F15: 2779 | G15: 54 | H15: 250 | I15: 6813 | J15: 2429 | K15: 2789 | L15: 93 | M15: 77 | N15: 1165 | O15: 270 | P15: 2264 | Q15: 2528 | R15: 115 | S15: 23 | T15: 80 | U15: 299 | V15: 4.06 | W15: 4.63 | X15: 3.46 | Z15: 530486 | AA15: 271904 | AB15: 258582
A16: 苗栗縣 | B16: 34252 | C16: 19527 | D16: 14725 | E16: 1102 | F16: 4509 | G16: 39 | H16: 484 | I16: 10090 | J16: 3202 | K16: 3374 | L16: 106 | M16: 76 | N16: 1314 | O16: 214 | P16: 3187 | Q16: 6128 | R16: 111 | S16: 33 | T16: 72 | U16: 211 | V16: 6.28 | W16: 6.94 | X16: 5.57 | Z16: 565554 | AA16: 292024 | AB16: 273530
A17: 彰化縣 | B17: 69243 | C17: 39559 | D17: 29684 | E17: 3185 | F17: 8512 | G17: 206 | H17: 1107 | I17: 21291 | J17: 7159 | K17: 7788 | L17: 354 | M17: 76 | N17: 3169 | O17: 292 | P17: 7478 | Q17: 7781 | R17: 365 | S17: 67 | T17: 184 | U17: 229 | V17: 5.44 | W17: 6.11 | X17: 4.75 | Z17: 1296013 | AA17: 663500 | AB17: 632513
A18: 南投縣 | B18: 33856 | C18: 19121 | D18: 14735 | E18: 1349 | F18: 4937 | G18: 78 | H18: 468 | I18: 10186 | J18: 2890 | K18: 3809 | L18: 152 | M18: 70 | N18: 1703 | O18: 246 | P18: 3453 | Q18: 4109 | R18: 205 | S18: 26 | T18: 70 | U18: 105 | V18: 6.85 | W18: 7.57 | X18: 6.1 | Z18: 517222 | AA18: 265474 | AB18: 251748
... A29: 連江縣 | B29: 483 | C29: 307 | D29: 176 | E29: 34 | F29: 59 | G29: 1 | H29: 12 | I29: 137 | J29: 40 | K29: 68 | L29: 3 | M29: 1 | N29: 20 | O29: 10 | P29: 45 | Q29: 41 | R29: 0 | S29: 1 | T29: 2 | U29: 9 | V29: 3.69 | W29: 4.09 | X29: 3.15 | Z29: 12165 | AA29: 6923 | AB29: 5242
A31: 2. 按性別 | Z31: 23373517
A32: 男 | B32: 661690 | C32: 0 | D32: 0 | E32: 29560 | F32: 70311 | G32: 1901 | H32: 11321 | I32: 212428 | J32: 58117 | K32: 85802 | L32: 3145 | M32: 1726 | N32: 22004 | O32: 13457 | P32: 62232 | Q32: 76636 | R32: 2538 | S32: 928 | T32: 2141 | U32: 7443 | V32: 5.65 | W32: 0 | X32: 0 | Z32: 11684674
A33: 女 | B33: 525050 | C33: 0 | D33: 0 | E33: 26649 | F33: 54174 | G33: 1421 | H33: 3953 | I33: 147806 | J33: 44010 | K33: 68456 | L33: 1521 | M33: 1276 | N33: 39701 | O33: 1982 | P33: 67653 | Q33: 57128 | R33: 2215 | S33: 835 | T33: 2008 | U33: 4262 | V33: 4.41 | W33: 0 | X33: 0 | Z33: 11688843
A34: 領身心障礙者證明(新制) | Z34: 23373517
A35: 男 | B35: 660978 | C35: 0 | D35: 0 | E35: 29528 | F35: 70249 | G35: 1900 | H35: 11317 | I35: 212138 | J35: 57938 | K35: 85765 | L35: 3141 | M35: 1725 | N35: 21999 | O35: 13450 | P35: 62179 | Q35: 76600 | R35: 2538 | S35: 928 | T35: 2140 | U35: 7443 | V35: 5.6468816 | W35: 0 | X35: 0 | Z35: 11684674
A36: 女 | B36: 524641 | C36: 0 | D36: 0 | E36: 26631 | F36: 54121 | G36: 1421 | H36: 3950 | I36: 147676 | J36: 43922 | K36: 68430 | L36: 1520 | M36: 1275 | N36: 39693 | O36: 1981 | P36: 67601 | Q36: 57104 | R36: 2214 | S36: 834 | T36: 2006 | U36: 4262 | V36: 4.4095131 | W36: 0 | X36: 0 | Z36: 11688843
A37: 領身心障礙者手冊(舊制) | Z37: 23373517
A38: 男 | B38: 712 | C38: 0 | D38: 0 | E38: 32 | F38: 62 | G38: 1 | H38: 4 | I38: 290 | J38: 179 | K38: 37 | L38: 4 | M38: 1 | N38: 5 | O38: 7 | P38: 53 | Q38: 36 | R38: 0 | S38: 0 | T38: 1 | U38: 0 | V38: 0.0060827739 | W38: 0 | X38: 0 | Z38: 11684674
A39: 女 | B39: 409 | C39: 0 | D39: 0 | E39: 18 | F39: 53 | G39: 0 | H39: 3 | I39: 130 | J39: 88 | K39: 26 | L39: 1 | M39: 1 | N39: 8 | O39: 1 | P39: 52 | Q39: 24 | R39: 1 | S39: 1 | T39: 2 | U39: 0 | V39: 0.0034375713 | W39: 0 | X39: 0 | Z39: 11688843
A40: 資料來源：直轄市、縣﹝市﹞政府。

Sheet 107
A1: 1.3-03身心障礙者人數-按障礙類別
A2: 107年,2018
A3: 單位：人
A4: 地區別 | B4: 總人數 | E4: 視覺障礙者 | F4: 聽覺機能障礙者 | G4: 平衡機能障礙者 | H4: 聲音機能或語言機能障礙者 | I4: 肢體障礙者 | J4: 智能障礙者 | K4: 重要器官失去功能者 | L4: 顏面損傷者 | M4: 植物人 | N4: 失智症者 | O4: 自閉症者 | P4: 慢性精神病患者 | Q4: 多重障礙者 | R4: 頑性(難治型)癲癇症者 | S4: 因罕見疾病而致身心功能障礙者 | T4: 其他障礙者 | U4: 新制類別無法對應舊制類別者 | V4: 身心障礙者占總人口比率（％） | W4: 男性身心障礙者占男性總人口比率（％） | X4: 女性身心障礙者占女性總人口比率（％）
B5: 計 | C5: 男 | D5: 女
A6: 107年,2018
A7: 1.按區域別 | B7: 1173978 | C7: 658673 | D7: 515305 | E7: 56582 | F7: 123208 | G7: 3405 | H7: 15145 | I7: 363290 | J7: 101872 | K7: 153140 | L7: 4673 | M7: 3296 | N7: 55578 | O7: 14533 | P7: 127591 | Q7: 130577 | R7: 4801 | S7: 1815 | T7: 4091 | U7: 10381 | V7: 4.98 | W7: 5.62 | X7: 4.34 | Z7: 23373517 | AA7: 11684674 | AB7: 11688843
A8: 新北市 | B8: 167297 | C8: 94714 | D8: 72583 | E8: 7759 | F8: 16595 | G8: 561 | H8: 2084 | I8: 48991 | J8: 13981 | K8: 24379 | L8: 721 | M8: 513 | N8: 7433 | O8: 3093 | P8: 18788 | Q8: 18332 | R8: 654 | S8: 367 | T8: 748 | U8: 2298 | V8: 4.19 | W8: 4.84 | X8: 3.56 | Z8: 3954929 | AA8: 1950060 | AB8: 2004869
A9: 臺北市 | B9: 120721 | C9: 65665 | D9: 55056 | E9: 6179 | F9: 13350 | G9: 362 | H9: 980 | I9: 29917 | J9: 7658 | K9: 17326 | L9: 376 | M9: 419 | N9: 7902 | O9: 3349 | P9: 15202 | Q9: 15634 | R9: 415 | S9: 294 | T9: 527 | U9: 831 | V9: 4.52 | W9: 5.16 | X9: 3.95 | Z9: 2686516 | AA9: 1289945 | AB9: 1396571
A10: 桃園市 | B10: 83585 | C10: 47764 | D10: 35821 | E10: 3485 | F10: 9729 | G10: 158 | H10: 1099 | I10: 24526 | J10: 8197 | K10: 10950 | L10: 360 | M10: 240 | N10: 3340 | O10: 1376 | P10: 8898 | Q10: 10067 | R10: 341 | S10: 153 | T10: 309 | U10: 357 | V10: 3.76 | W10: 4.33 | X10: 3.21 | Z10: 2044023 | AA10: 1026657 | AB10: 1017366
A11: 臺中市 | B11: 124114 | C11: 70149 | D11: 53965 | E11: 5956 | F11: 14140 | G11: 307 | H11: 1596 | I11: 37361 | J11: 11309 | K11: 16147 | L11: 530 | M11: 280 | N11: 4810 | O11: 1376 | P11: 12811 | Q11: 14575 | R11: 508 | S11: 179 | T11: 408 | U11: 1821 | V11: 4.43 | W11: 5.08 | X11: 3.79 | Z11: 2701661 | AA11: 1339733 | AB11: 1361928
A12: 臺南市 | B12: 97809 | C12: 54062 | D12: 43747 | E12: 5713 | F12: 9589 | G12: 338 | H12: 1255 | I12: 32667 | J12: 8746 | K12: 13177 | L12: 344 | M12: 267 | N12: 5199 | O12: 848 | P12: 8776 | Q12: 9396 | R12: 382 | S12: 134 | T12: 277 | U12: 701 | V12: 5.19 | W12: 5.75 | X12: 4.63 | Z12: 1883208 | AA12: 944555 | AB12: 938653
A13: 高雄市 | B13: 140856 | C13: 78219 | D13: 62637 | E13: 6903 | F13: 12189 | G13: 436 | H13: 2113 | I13: 45688 | J13: 11281 | K13: 19925 | L13: 539 | M13: 464 | N13: 6649 | O13: 1502 | P13: 17155 | Q13: 13067 | R13: 622 | S13: 230 | T13: 661 | U13: 1432 | V13: 5.08 | W13: 5.7 | X13: 4.47 | Z13: 2779877 | AA13: 1385895 | AB13: 1393982
A14: 宜蘭縣 | B14: 31921 | C14: 17439 | D14: 14482 | E14: 1578 | F14: 3037 | G14: 102 | H14: 323 | I14: 10559 | J14: 2467 | K14: 3693 | L14: 113 | M14: 67 | N14: 1607 | O14: 277 | P14: 3750 | Q14: 3728 | R14: 128 | S14: 25 | T14: 76 | U14: 391 | V14: 7.01 | W14: 7.58 | X14: 6.43 | Z14: 458456 | AA14: 233000 | AB14: 225456
A15: 新竹縣 | B15: 22411 | C15: 13152 | D15: 9259 | E15: 856 | F15: 2749 | G15: 54 | H15: 241 | I15: 6856 | J15: 2426 | K15: 2740 | L15: 87 | M15: 88 | N15: 953 | O15: 240 | P15: 2186 | Q15: 2459 | R15: 103 | S15: 25 | T15: 82 | U15: 266 | V15: 4.02 | W15: 4.62 | X15: 3.4 | Z15: 530486 | AA15: 271904 | AB15: 258582
A16: 苗栗縣 | B16: 33900 | C16: 19435 | D16: 14465 | E16: 1110 | F16: 4480 | G16: 40 | H16: 463 | I16: 10301 | J16: 3229 | K16: 3303 | L16: 100 | M16: 87 | N16: 1230 | O16: 198 | P16: 3123 | Q16: 5857 | R16: 109 | S16: 36 | T16: 77 | U16: 157 | V16: 6.18 | W16: 6.86 | X16: 5.44 | Z16: 565554 | AA16: 292024 | AB16: 273530
A17: 彰化縣 | B17: 68335 | C17: 39248 | D17: 29087 | E17: 3216 | F17: 8253 | G17: 225 | H17: 1082 | I17: 21527 | J17: 7083 | K17: 7749 | L17: 366 | M17: 95 | N17: 2860 | O17: 285 | P17: 7381 | Q17: 7418 | R17: 363 | S17: 73 | T17: 190 | U17: 169 | V17: 5.35 | W17: 6.03 | X17: 4.64 | Z17: 1296013 | AA17: 663500 | AB17: 632513
A18: 南投縣 | B18: 33824 | C18: 19192 | D18: 14632 | E18: 1366 | F18: 4855 | G18: 79 | H18: 473 | I18: 10382 | J18: 2934 | K18: 3824 | L18: 161 | M18: 73 | N18: 1585 | O18: 237 | P18: 3400 | Q18: 4067 | R18: 201 | S18: 26 | T18: 68 | U18: 93 | V18: 6.81 | W18: 7.54 | X18: 6.03 | Z18: 517222 | AA18: 265474 | AB18: 251748
... A29: 連江縣 | B29: 479 | C29: 302 | D29: 177 | E29: 36 | F29: 54 | G29: 1 | H29: 11 | I29: 140 | J29: 41 | K29: 64 | L29: 3 | M29: 1 | N29: 19 | O29: 9 | P29: 50 | Q29: 38 | R29: 0 | S29: 1 | T29: 2 | U29: 9 | V29: 3.67 | W29: 4.05 | X29: 3.16 | Z29: 12165 | AA29: 6923 | AB29: 5242
A31: 2. 按性別 | Z31: 23373517
A32: 男 | B32: =B35+B38 -> 658673 | C32: 0 | D32: 0 | E32: =E35+E38 -> 29720 | F32: =F35+F38 -> 69821 | G32: =G35+G38 -> 1952 | H32: =H35+H38 -> 11174 | I32: =I35+I38 -> 214645 | J32: =J35+J38 -> 58012 | K32: =K35+K38 -> 86600 | L32: =L35+L38 -> 3166 | ... U32: =U35+U38 -> 6632 | V32: 5.62 | W32: 0 | X32: 0 | Z32: 11684674
A33: 女 | B33: =B36+B39 -> 515305 | C33: 0 | D33: 0 | E33: =E36+E39 -> 26862 | F33: =F36+F39 -> 53387 | G33: =G36+G39 -> 1453 | H33: =H36+H39 -> 3971 | I33: =I36+I39 -> 148645 | J33: =J36+J39 -> 43860 | K33: =K36+K39 -> 66540 | L33: =L36+L39 -> 1507 | ... U33: =U36+U39 -> 3749 | V33: 4.34 | W33: 0 | X33: 0 | Z33: 11688843
A34: 領身心障礙者證明(新制) | Z34: 23373517
A35: 男 | B35: 634711 | C35: 0 | D35: 0 | E35: 28157 | F35: 65476 | G35: 1871 | H35: 10841 | I35: 204364 | J35: 56416 | K35: 84224 | L35: 3055 | M35: 1848 | N35: 19870 | O35: 12572 | P35: 60217 | Q35: 73587 | R35: 2570 | S35: 939 | T35: 2072 | U35: 6632 | V35: 5.4192129 | W35: 0 | X35: 0 | Z35: 11684674
A36: 女 | B36: 492319 | C36: 0 | D36: 0 | E36: 24922 | F36: 49828 | G36: 1380 | H36: 3822 | I36: 139220 | J36: 42650 | K36: 64016 | L36: 1448 | M36: 1353 | N36: 34467 | O36: 1847 | P36: 64759 | Q36: 53869 | R36: 2222 | S36: 841 | T36: 1926 | U36: 3749 | V36: 4.1446198 | W36: 0 | X36: 0 | Z36: 11688843
A37: 領身心障礙者手冊(舊制) | Z37: 23373517
A38: 男 | B38: 23962 | C38: 0 | D38: 0 | E38: 1563 | F38: 4345 | G38: 81 | H38: 333 | I38: 10281 | J38: 1596 | K38: 2376 | L38: 111 | M38: 40 | N38: 360 | O38: 95 | P38: 1197 | Q38: 1519 | R38: 4 | S38: 16 | T38: 45 | U38: 0 | V38: 0.20458946 | W38: 0 | X38: 0 | Z38: 11684674
A39: 女 | B39: 22986 | C39: 0 | D39: 0 | E39: 1940 | F39: 3559 | G39: 73 | H39: 149 | I39: 9425 | J39: 1210 | K39: 2524 | L39: 59 | M39: 55 | N39: 881 | O39: 19 | P39: 1418 | Q39: 1602 | R39: 5 | S39: 19 | T39: 48 | U39: 0 | V39: 0.19350915 | W39: 0 | X39: 0 | Z39: 11688843
A40: 資料來源：直轄市、縣﹝市﹞政府。

Sheet 106
A1: 1.3-03身心障礙者人數-按障礙類別
A2: 106年,2017
A3: 單位：人
A4: 地區別 | B4: 總人數 | E4: 視覺障礙者 | F4: 聽覺機能障礙者 | G4: 平衡機能障礙者 | H4: 聲音機能或語言機能障礙者 | I4: 肢體障礙者 | J4: 智能障礙者 | K4: 重要器官失去功能者 | L4: 顏面損傷者 | M4: 植物人 | N4: 失智症者 | O4: 自閉症者 | P4: 慢性精神病患者 | Q4: 多重障礙者 | R4: 頑性(難治型)癲癇症者 | S4: 因罕見疾病而致身心功能障礙者 | T4: 其他障礙者 | U4: 新制類別無法對應舊制類別者 | V4: 身心障礙者占總人口比率（％） | W4: 男性身心障礙者占男性總人口比率（％） | X4: 女性身心障礙者占女性總人口比率（％）
B5: 計 | C5: 男 | D5: 女
A6: 106年,2017
A7: 1.按區域別 | B7: 1167450 | C7: 658682 | D7: 508768 | E7: 56830 | F7: 122835 | G7: 3501 | H7: 15007 | I7: 366781 | J7: 101428 | K7: 154313 | L7: 4720 | M7: 3684 | N7: 50813 | O7: 13905 | P7: 125932 | Q7: 127336 | R7: 4873 | S7: 1937 | T7: 3862 | U7: 9693 | V7: 4.95 | W7: 5.62 | X7: 4.29 | Z7: 23373517 | AA7: 11684674 | AB7: 11688843
A8: 新北市 | B8: 166303 | C8: 94920 | D8: 71383 | E8: 7725 | F8: 16456 | G8: 565 | H8: 2078 | I8: 49026 | J8: 13973 | K8: 25047 | L8: 741 | M8: 593 | N8: 6824 | O8: 2978 | P8: 18572 | Q8: 17859 | R8: 665 | S8: 408 | T8: 699 | U8: 2094 | V8: 4.17 | W8: 4.86 | X8: 3.51 | Z8: 3954929 | AA8: 1950060 | AB8: 2004869
A9: 臺北市 | B9: 121318 | C9: 66543 | D9: 54775 | E9: 6186 | F9: 13479 | G9: 365 | H9: 992 | I9: 30431 | J9: 7733 | K9: 17925 | L9: 384 | M9: 474 | N9: 7447 | O9: 3250 | P9: 15077 | Q9: 15628 | R9: 408 | S9: 290 | T9: 524 | U9: 725 | V9: 4.52 | W9: 5.19 | X9: 3.91 | Z9: 2686516 | AA9: 1289945 | AB9: 1396571
A10: 桃園市 | B10: 82049 | C10: 47274 | D10: 34775 | E10: 3415 | F10: 9768 | G10: 162 | H10: 1079 | I10: 24410 | J10: 8050 | K10: 10910 | L10: 342 | M10: 260 | N10: 2991 | O10: 1225 | P10: 8600 | Q10: 9781 | R10: 329 | S10: 143 | T10: 293 | U10: 291 | V10: 3.75 | W10: 4.34 | X10: 3.17 | Z10: 2044023 | AA10: 1026657 | AB10: 1017366
A11: 臺中市 | B11: 122422 | C11: 69660 | D11: 52762 | E11: 5877 | F11: 13916 | G11: 324 | H11: 1571 | I11: 37283 | J11: 11164 | K11: 16271 | L11: 517 | M11: 298 | N11: 4390 | O11: 1328 | P11: 12604 | Q11: 14101 | R11: 569 | S11: 202 | T11: 392 | U11: 1615 | V11: 4.39 | W11: 5.07 | X11: 3.73 | Z11: 2701661 | AA11: 1339733 | AB11: 1361928
A12: 臺南市 | B12: 97318 | C12: 54029 | D12: 43289 | E12: 5773 | F12: 9614 | G12: 350 | H12: 1225 | I12: 33237 | J12: 8549 | K12: 13072 | L12: 351 | M12: 298 | N12: 4648 | O12: 750 | P12: 8688 | Q12: 9152 | R12: 392 | S12: 146 | T12: 239 | U12: 834 | V12: 5.16 | W12: 5.73 | X12: 4.58 | Z12: 1883208 | AA12: 944555 | AB12: 938653
A13: 高雄市 | B13: 139620 | C13: 77805 | D13: 61815 | E13: 6884 | F13: 12112 | G13: 447 | H13: 2070 | I13: 45963 | J13: 11264 | K13: 19725 | L13: 542 | M13: 529 | N13: 6141 | O13: 1459 | P13: 17028 | Q13: 12650 | R13: 632 | S13: 235 | T13: 630 | U13: 1309 | V13: 5.03 | W13: 5.66 | X13: 4.41 | Z13: 2779877 | AA13: 1385895 | AB13: 1393982
A14: 宜蘭縣 | B14: 31872 | C14: 17458 | D14: 14414 | E14: 1599 | F14: 3099 | G14: 111 | H14: 292 | I14: 10775 | J14: 2476 | K14: 3657 | L14: 112 | M14: 71 | N14: 1409 | O14: 278 | P14: 3681 | Q14: 3689 | R14: 132 | S14: 33 | T14: 66 | U14: 392 | V14: 6.98 | W14: 7.56 | X14: 6.39 | Z14: 458456 | AA14: 233000 | AB14: 225456
A15: 新竹縣 | B15: 22282 | C15: 13108 | D15: 9174 | E15: 881 | F15: 2742 | G15: 47 | H15: 249 | I15: 6920 | J15: 2414 | K15: 2733 | L15: 94 | M15: 93 | N15: 859 | O15: 227 | P15: 2158 | Q15: 2406 | R15: 96 | S15: 27 | T15: 79 | U15: 257 | V15: 4.04 | W15: 4.65 | X15: 3.4 | Z15: 530486 | AA15: 271904 | AB15: 258582
A16: 苗栗縣 | B16: 33719 | C16: 19463 | D16: 14256 | E16: 1113 | F16: 4489 | G16: 48 | H16: 483 | I16: 10524 | J16: 3233 | K16: 3384 | L16: 99 | M16: 95 | N16: 1052 | O16: 179 | P16: 3078 | Q16: 5587 | R16: 110 | S16: 39 | T16: 76 | U16: 130 | V16: 6.09 | W16: 6.81 | X16: 5.32 | Z16: 565554 | AA16: 292024 | AB16: 273530
A17: 彰化縣 | B17: 67854 | C17: 39163 | D17: 28691 | E17: 3283 | F17: 8087 | G17: 250 | H17: 1109 | I17: 21605 | J17: 7062 | K17: 7822 | L17: 373 | M17: 107 | N17: 2644 | O17: 298 | P17: 7272 | Q17: 7171 | R17: 353 | S17: 88 | T17: 174 | U17: 156 | V17: 5.29 | W17: 5.99 | X17: 4.56 | Z17: 1296013 | AA17: 663500 | AB17: 632513
A18: 南投縣 | B18: 33875 | C18: 19254 | D18: 14621 | E18: 1396 | F18: 4835 | G18: 86 | H18: 469 | I18: 10658 | J18: 2903 | K18: 3846 | L18: 158 | M18: 87 | N18: 1444 | O18: 199 | P18: 3370 | Q18: 3986 | R18: 203 | S18: 33 | T18: 64 | U18: 138 | V18: 6.76 | W18: 7.5 | X18: 5.98 | Z18: 517222 | AA18: 265474 | AB18: 251748
... A29: 連江縣 | B29: 475 | C29: 306 | D29: 169 | E29: 38 | F29: 54 | G29: 2 | H29: 9 | I29: 141 | J29: 41 | K29: 67 | L29: 4 | M29: 2 | N29: 18 | O29: 6 | P29: 47 | Q29: 37 | R29: 0 | S29: 2 | T29: 1 | U29: 6 | V29: 3.69 | W29: 4.16 | X29: 3.06 | Z29: 12165 | AA29: 6923 | AB29: 5242
A31: 2. 按性別 | Z31: 23373517
A32: 男 | B32: =B35+B38 -> 658682 | C32: 0 | D32: 0 | E32: =E35+E38 -> 29773 | F32: =F35+F38 -> 69854 | G32: =G35+G38 -> 1986 | H32: =H35+H38 -> 11005 | I32: =I35+I38 -> 216822 | J32: =J35+J38 -> 57787 | K32: =K35+K38 -> 89058 | L32: =L35+L38 -> 3212 | ... V32: =V35+V38 -> 5.620355 | W32: 0 | X32: 0 | Z32: 11684674
A33: 女 | B33: =B36+B39 -> 508768 | C33: 0 | D33: 0 | E33: =E36+E39 -> 27057 | F33: =F36+F39 -> 52981 | G33: =G36+G39 -> 1515 | H33: =H36+H39 -> 4002 | I33: =I36+I39 -> 149959 | J33: =J36+J39 -> 43641 | K33: =K36+K39 -> 65255 | L33: =L36+L39 -> 1508 | ... U33: =U36+U39 -> 3552 | V33: 4.2928042 | W33: 0 | X33: 0 | Z33: 11688843
A34: 領身心障礙者證明(新制) | Z34: 23373517
A35: 男 | B35: 547411 | C35: 0 | D35: 0 | E35: 22539 | F35: 52076 | G35: 1627 | H35: 9303 | I35: 165667 | J35: 53611 | K35: 75557 | L35: 2599 | M35: 1899 | N35: 17198 | O35: 11825 | P35: 55828 | Q35: 66042 | R35: 2594 | S35: 977 | T35: 1928 | U35: 6141 | V35: 4.6709097 | W35: 0 | X35: 0 | Z35: 11684674
A36: 女 | B36: 407211 | C36: 0 | D36: 0 | E36: 18843 | F36: 39301 | G36: 1202 | H36: 3379 | I36: 105072 | J36: 40155 | K36: 51730 | L36: 1283 | M36: 1304 | N36: 28997 | O36: 1748 | P36: 58659 | Q36: 47189 | R36: 2247 | S36: 838 | T36: 1712 | U36: 3552 | V36: 3.4359022 | W36: 0 | X36: 0 | Z36: 11688843
A37: 領身心障礙者手冊(舊制) | Z37: 23373517
A38: 男 | B38: 111271 | C38: 0 | D38: 0 | E38: 7234 | F38: 17778 | G38: 359 | H38: 1702 | I38: 51155 | J38: 4176 | K38: 13501 | L38: 613 | M38: 239 | N38: 1527 | O38: 291 | P38: 5008 | Q38: 7510 | R38: 15 | S38: 55 | T38: 108 | U38: 0 | V38: 0.94944529 | W38: 0 | X38: 0 | Z38: 11684674
A39: 女 | B39: 101557 | C39: 0 | D39: 0 | E39: 8214 | F39: 13680 | G39: 313 | H39: 623 | I39: 44887 | J39: 3486 | K39: 13525 | L39: 225 | M39: 242 | N39: 3091 | O39: 41 | P39: 6437 | Q39: 6595 | R39: 17 | S39: 67 | T39: 114 | U39: 0 | V39: 0.856902 | W39: 0 | X39: 0 | Z39: 11688843
A40: 資料來源：直轄市、縣﹝市﹞政府。

Sheet 105
A1: 1.3-03身心障礙者人數-按障礙類別
A2: 105年,2016
A3: 單位：人
A4: 地區別 | B4: 總人數 | E4: 視覺障礙者 | F4: 聽覺機能障礙者 | G4: 平衡機能障礙者 | H4: 聲音機能或語言機能障礙者 | I4: 肢體障礙者 | J4: 智能障礙者 | K4: 重要器官失去功能者 | L4: 顏面損傷者 | M4: 植物人 | N4: 失智症者 | O4: 自閉症者 | P4: 慢性精神病患者 | Q4: 多重障礙者 | R4: 頑性(難治型)癲癇症者 | S4: 因罕見疾病而致身心功能障礙者 | T4: 其他障礙者 | U4: 新制類別無法對應舊制類別者 | V4: 身心障礙者占總人口比率（％） | W4: 男性身心障礙者占男性總人口比率（％） | X4: 女性身心障礙者占女性總人口比率（％）
B5: 計 | C5: 男 | D5: 女
A6: 105年,2016
A7: 1.按區域別 | B7: 1170199 | C7: 662800 | D7: 507399 | E7: 57291 | F7: 123186 | G7: 3651 | H7: 14950 | I7: 373291 | J7: 100896 | K7: 153914 | L7: 4712 | M7: 4032 | N7: 49104 | O7: 13476 | P7: 124999 | Q7: 127415 | R7: 4872 | S7: 2028 | T7: 3678 | U7: 8704 | V7: 4.97 | W7: 5.66 | X7: 4.29 | Z7: 23373517 | AA7: 11684674 | AB7: 11688843
A8: 新北市 | B8: 164117 | C8: 93932 | D8: 70185 | E8: 7651 | F8: 16327 | G8: 539 | H8: 1972 | I8: 48962 | J8: 13796 | K8: 24164 | L8: 704 | M8: 642 | N8: 6615 | O8: 2894 | P8: 18249 | Q8: 17941 | R8: 665 | S8: 416 | T8: 643 | U8: 1937 | V8: 4.12 | W8: 4.81 | X8: 3.46 | Z8: 3954929 | AA8: 1950060 | AB8: 2004869
A9: 臺北市 | B9: 121762 | C9: 67259 | D9: 54503 | E9: 6228 | F9: 13663 | G9: 358 | H9: 1021 | I9: 30880 | J9: 7809 | K9: 17975 | L9: 377 | M9: 530 | N9: 7105 | O9: 3193 | P9: 15033 | Q9: 15747 | R9: 390 | S9: 308 | T9: 508 | U9: 637 | V9: 4.52 | W9: 5.22 | X9: 3.88 | Z9: 2686516 | AA9: 1289945 | AB9: 1396571
A10: 桃園市 | B10: 80578 | C10: 46655 | D10: 33923 | E10: 3359 | F10: 9678 | G10: 169 | H10: 1059 | I10: 24542 | J10: 7865 | K10: 10599 | L10: 335 | M10: 286 | N10: 2758 | O10: 1165 | P10: 8275 | Q10: 9507 | R10: 321 | S10: 145 | T10: 280 | U10: 235 | V10: 3.75 | W10: 4.35 | X10: 3.15 | Z10: 2044023 | AA10: 1026657 | AB10: 1017366
A11: 臺中市 | B11: 121606 | C11: 69413 | D11: 52193 | E11: 5834 | F11: 13847 | G11: 330 | H11: 1545 | I11: 37773 | J11: 11061 | K11: 16031 | L11: 498 | M11: 295 | N11: 4212 | O11: 1272 | P11: 12383 | Q11: 13910 | R11: 569 | S11: 228 | T11: 359 | U11: 1459 | V11: 4.39 | W11: 5.08 | X11: 3.73 | Z11: 2701661 | AA11: 1339733 | AB11: 1361928
A12: 臺南市 | B12: 96483 | C12: 53758 | D12: 42725 | E12: 5716 | F12: 9618 | G12: 398 | H12: 1199 | I12: 33574 | J12: 8462 | K12: 12840 | L12: 357 | M12: 311 | N12: 4335 | O12: 714 | P12: 8515 | Q12: 8874 | R12: 398 | S12: 156 | T12: 221 | U12: 795 | V12: 5.12 | W12: 5.7 | X12: 4.53 | Z12: 1883208 | AA12: 944555 | AB12: 938653
A13: 高雄市 | B13: 147411 | C13: 82855 | D13: 64556 | E13: 7058 | F13: 12537 | G13: 513 | H13: 2269 | I13: 48522 | J13: 11449 | K13: 21239 | L13: 560 | M13: 706 | N13: 6810 | O13: 1438 | P13: 17628 | Q13: 13905 | R13: 661 | S13: 239 | T13: 600 | U13: 1277 | V13: 5.3 | W13: 6.01 | X13: 4.61 | Z13: 2779877 | AA13: 1385895 | AB13: 1393982
A14: 宜蘭縣 | B14: 31778 | C14: 17495 | D14: 14283 | E14: 1621 | F14: 3101 | G14: 109 | H14: 292 | I14: 10874 | J14: 2473 | K14: 3593 | L14: 117 | M14: 70 | N14: 1353 | O14: 279 | P14: 3757 | Q14: 3638 | R14: 133 | S14: 33 | T14: 67 | U14: 268 | V14: 6.95 | W14: 7.55 | X14: 6.33 | Z14: 458456 | AA14: 233000 | AB14: 225456
A15: 新竹縣 | B15: 22629 | C15: 13335 | D15: 9294 | E15: 932 | F15: 2809 | G15: 50 | H15: 241 | I15: 7081 | J15: 2429 | K15: 2771 | L15: 96 | M15: 106 | N15: 846 | O15: 230 | P15: 2177 | Q15: 2413 | R15: 99 | S15: 38 | T15: 78 | U15: 233 | V15: 4.13 | W15: 4.76 | X15: 3.48 | Z15: 530486 | AA15: 271904 | AB15: 258582
A16: 苗栗縣 | B16: 33430 | C16: 19269 | D16: 14161 | E16: 1125 | F16: 4483 | G16: 44 | H16: 478 | I16: 10805 | J16: 3228 | K16: 3380 | L16: 102 | M16: 97 | N16: 1005 | O16: 172 | P16: 3033 | Q16: 5174 | R16: 117 | S16: 40 | T16: 71 | U16: 76 | V16: 5.98 | W16: 6.68 | X16: 5.23 | Z16: 565554 | AA16: 292024 | AB16: 273530
A17: 彰化縣 | B17: 67407 | C17: 39074 | D17: 28333 | E17: 3346 | F17: 7974 | G17: 265 | H17: 1102 | I17: 21845 | J17: 6987 | K17: 7733 | L17: 386 | M17: 114 | N17: 2413 | O17: 281 | P17: 7112 | Q17: 7095 | R17: 351 | S17: 92 | T17: 173 | U17: 138 | V17: 5.24 | W17: 5.95 | X17: 4.49 | Z17: 1296013 | AA17: 663500 | AB17: 632513
A18: 南投縣 | B18: 34442 | C18: 19603 | D18: 14839 | E18: 1457 | F18: 4810 | G18: 82 | H18: 455 | I18: 11061 | J18: 2902 | K18: 3948 | L18: 165 | M18: 94 | N18: 1431 | O18: 170 | P18: 3340 | Q18: 4076 | R18: 194 | S18: 34 | T18: 64 | U18: 159 | V18: 6.82 | W18: 7.57 | X18: 6.03 | Z18: 517222 | AA18: 265474 | AB18: 251748
... A29: 連江縣 | B29: 471 | C29: 303 | D29: 168 | E29: 38 | F29: 52 | G29: 2 | H29: 7 | I29: 144 | J29: 44 | K29: 67 | L29: 4 | M29: 2 | N29: 13 | O29: 5 | P29: 48 | Q29: 37 | R29: 0 | S29: 2 | T29: 1 | U29: 5 | V29: 3.74 | W29: 4.22 | X29: 3.1 | Z29: 12165 | AA29: 6923 | AB29: 5242
A31: 2. 按性別 | Z31: 23373517
A32: 男 | B32: 662800 | C32: 0 | D32: 0 | E32: 29973 | F32: 70439 | G32: 2088 | H32: 10983 | I32: 220849 | J32: 57520 | K32: 89197 | L32: 3226 | M32: 2351 | N32: 18677 | O32: 11744 | P32: 60595 | Q32: 73997 | R32: 2630 | S32: 1062 | T32: 1965 | U32: 5504 | V32: 5.66 | W32: 0 | X32: 0 | Z32: 11684674
A33: 女 | B33: 507399 | C33: 0 | D33: 0 | E33: 27318 | F33: 52747 | G33: 1563 | H33: 3967 | I33: 152442 | J33: 43376 | K33: 64717 | L33: 1486 | M33: 1681 | N33: 30427 | O33: 1732 | P33: 64404 | Q33: 53418 | R33: 2242 | S33: 966 | T33: 1713 | U33: 3200 | V33: 4.29 | W33: 0 | X33: 0 | Z33: 11688843
A34: 領身心障礙者證明(新制) | C34: 0 | D34: 0 | W34: 0 | X34: 0 | Z34: 23373517
A35: 男 | B35: 402184 | C35: 0 | D35: 0 | E35: 15766 | F35: 40518 | G35: 1353 | H35: 6995 | I35: 99283 | J35: 45188 | K35: 56462 | L35: 1527 | M35: 1713 | N35: 15871 | O35: 10794 | P35: 43052 | Q35: 53126 | R35: 2551 | S35: 875 | T35: 1606 | U35: 5504 | V35: 3.4318179 | W35: 0 | X35: 0 | Z35: 11684674
A36: 女 | B36: 296658 | C36: 0 | D36: 0 | E36: 13060 | F36: 28895 | G36: 935 | H36: 2369 | I36: 64956 | J36: 33114 | K36: 34135 | L36: 879 | M36: 1154 | N36: 25552 | O36: 1589 | P36: 44466 | Q36: 38051 | R36: 2171 | S36: 750 | T36: 1382 | U36: 3200 | V36: 2.509681 | W36: 0 | X36: 0 | Z36: 11688843
A37: 領身心障礙者手冊(舊制) | C37: 0 | D37: 0 | W37: 0 | X37: 0 | Z37: 23373517
A38: 男 | B38: 260616 | C38: 0 | D38: 0 | E38: 14207 | F38: 29921 | G38: 735 | H38: 3988 | I38: 121566 | J38: 12332 | K38: 32735 | L38: 1699 | M38: 638 | N38: 2806 | O38: 950 | P38: 17543 | Q38: 20871 | R38: 79 | S38: 187 | T38: 359 | U38: 0 | V38: 2.2238245 | W38: 0 | X38: 0 | Z38: 11684674
A39: 女 | B39: 210741 | C39: 0 | D39: 0 | E39: 14258 | F39: 23852 | G39: 628 | H39: 1598 | I39: 87486 | J39: 10262 | K39: 30582 | L39: 607 | M39: 527 | N39: 4875 | O39: 143 | P39: 19938 | Q39: 15367 | R39: 71 | S39: 216 | T39: 331 | U39: 0 | V39: 1.7828364 | W39: 0 | X39: 0 | Z39: 11688843
A40: 資料來源：直轄市、縣﹝市﹞政府。

Sheet 104
A1: 1.3-03身心障礙者人數-按障礙類別
A2: 104年,2015
A3: 單位：人
A4: 地區別 | B4: 總人數 | E4: 視覺障礙者 | F4: 聽覺機能障礙者 | G4: 平衡機能障礙者 | H4: 聲音機能或語言機能障礙者 | I4: 肢體障礙者 | J4: 智能障礙者 | K4: 重要器官失去功能者 | L4: 顏面損傷者 | M4: 植物人 | N4: 失智症者 | O4: 自閉症者 | P4: 慢性精神病患者 | Q4: 多重障礙者 | R4: 頑性(難治型)癲癇症者 | S4: 因罕見疾病而致身心功能障礙者 | T4: 其他障礙者 | U4: 新制類別無法對應舊制類別者 | V4: 身心障礙者占總人口比率（％） | W4: 男性身心障礙者占男性總人口比率（％） | X4: 女性身心障礙者占女性總人口比率（％）
B5: 計 | C5: 男 | D5: 女
A6: 104年,2015
A7: 1.按區域別 | B7: 1155650 | C7: 655444 | D7: 500206 | E7: 57319 | F7: 122906 | G7: 3739 | H7: 14482 | I7: 375730 | J7: 100797 | K7: 147856 | L7: 4644 | M7: 4046 | N7: 46054 | O7: 13293 | P7: 124240 | Q7: 124215 | R7: 4826 | S7: 2068 | T7: 3646 | U7: 5789 | V7: 4.92 | W7: 5.6 | X7: 4.25 | Z7: 23373517 | AA7: 11684674 | AB7: 11688843
A8: 新北市 | B8: 159873 | C8: 91560 | D8: 68313 | E8: 7588 | F8: 16104 | G8: 541 | H8: 1880 | I8: 48811 | J8: 13702 | K8: 22714 | L8: 689 | M8: 636 | N8: 6100 | O8: 2840 | P8: 18138 | Q8: 17342 | R8: 640 | S8: 415 | T8: 631 | U8: 1102 | V8: 4.03 | W8: 4.69 | X8: 3.38 | Z8: 3954929 | AA8: 1950060 | AB8: 2004869
A9: 臺北市 | B9: 122297 | C9: 67686 | D9: 54611 | E9: 6239 | F9: 13902 | G9: 351 | H9: 1049 | I9: 31370 | J9: 7928 | K9: 17523 | L9: 356 | M9: 576 | N9: 7033 | O9: 3132 | P9: 15070 | Q9: 16064 | R9: 397 | S9: 314 | T9: 518 | U9: 475 | V9: 4.52 | W9: 5.22 | X9: 3.87 | Z9: 2686516 | AA9: 1289945 | AB9: 1396571
A10: 桃園市 | B10: 79062 | C10: 45870 | D10: 33192 | E10: 3321 | F10: 9550 | G10: 157 | H10: 1030 | I10: 24503 | J10: 7830 | K10: 10003 | L10: 331 | M10: 295 | N10: 2588 | O10: 1097 | P10: 8192 | Q10: 9257 | R10: 299 | S10: 152 | T10: 276 | U10: 181 | V10: 3.75 | W10: 4.36 | X10: 3.15 | Z10: 2044023 | AA10: 1026657 | AB10: 1017366
A11: 臺中市 | B11: 119581 | C11: 68387 | D11: 51194 | E11: 5717 | F11: 13667 | G11: 346 | H11: 1501 | I11: 37865 | J11: 11145 | K11: 15282 | L11: 490 | M11: 304 | N11: 4094 | O11: 1293 | P11: 12344 | Q11: 13371 | R11: 588 | S11: 239 | T11: 355 | U11: 980 | V11: 4.36 | W11: 5.04 | X11: 3.69 | Z11: 2701661 | AA11: 1339733 | AB11: 1361928
A12: 臺南市 | B12: 96182 | C12: 53740 | D12: 42442 | E12: 5690 | F12: 9729 | G12: 421 | H12: 1163 | I12: 34061 | J12: 8426 | K12: 12721 | L12: 348 | M12: 337 | N12: 3999 | O12: 692 | P12: 8519 | Q12: 8732 | R12: 395 | S12: 162 | T12: 208 | U12: 579 | V12: 5.1 | W12: 5.69 | X12: 4.51 | Z12: 1883208 | AA12: 944555 | AB12: 938653
A13: 高雄市 | B13: 141483 | C13: 79510 | D13: 61973 | E13: 6991 | F13: 12213 | G13: 514 | H13: 2160 | I13: 47462 | J13: 11349 | K13: 19808 | L13: 545 | M13: 613 | N13: 5941 | O13: 1414 | P13: 17298 | Q13: 12837 | R13: 649 | S13: 238 | T13: 588 | U13: 863 | V13: 5.09 | W13: 5.76 | X13: 4.43 | Z13: 2779877 | AA13: 1385895 | AB13: 1393982
A14: 宜蘭縣 | B14: 31596 | C14: 17406 | D14: 14190 | E14: 1624 | F14: 3151 | G14: 108 | H14: 299 | I14: 10998 | J14: 2461 | K14: 3418 | L14: 116 | M14: 72 | N14: 1311 | O14: 282 | P14: 3801 | Q14: 3559 | R14: 130 | S14: 34 | T14: 65 | U14: 167 | V14: 6.9 | W14: 7.5 | X14: 6.28 | Z14: 458456 | AA14: 233000 | AB14: 225456
A15: 新竹縣 | B15: 22774 | C15: 13452 | D15: 9322 | E15: 939 | F15: 2802 | G15: 53 | H15: 233 | I15: 7266 | J15: 2450 | K15: 2713 | L15: 94 | M15: 103 | N15: 864 | O15: 235 | P15: 2288 | Q15: 2373 | R15: 96 | S15: 43 | T15: 79 | U15: 143 | V15: 4.2 | W15: 4.85 | X15: 3.52 | Z15: 530486 | AA15: 271904 | AB15: 258582
A16: 苗栗縣 | B16: 33308 | C16: 19247 | D16: 14061 | E16: 1150 | F16: 4516 | G16: 46 | H16: 461 | I16: 11125 | J16: 3212 | K16: 3293 | L16: 101 | M16: 94 | N16: 966 | O16: 177 | P16: 3018 | Q16: 4839 | R16: 119 | S16: 43 | T16: 76 | U16: 72 | V16: 5.91 | W16: 6.62 | X16: 5.15 | Z16: 565554 | AA16: 292024 | AB16: 273530
A17: 彰化縣 | B17: 66622 | C17: 38700 | D17: 27922 | E17: 3424 | F17: 7831 | G17: 271 | H17: 1089 | I17: 21900 | J17: 6932 | K17: 7554 | L17: 397 | M17: 126 | N17: 2175 | O17: 280 | P17: 6967 | Q17: 6937 | R17: 353 | S17: 95 | T17: 171 | U17: 120 | V17: 5.17 | W17: 5.88 | X17: 4.43 | Z17: 1296013 | AA17: 663500 | AB17: 632513
A18: 南投縣 | B18: 34209 | C18: 19492 | D18: 14717 | E18: 1473 | F18: 4772 | G18: 81 | H18: 427 | I18: 11333 | J18: 2919 | K18: 3874 | L18: 168 | M18: 96 | N18: 1307 | O18: 171 | P18: 3266 | Q18: 3920 | R18: 191 | S18: 37 | T18: 61 | U18: 113 | V18: 6.71 | W18: 7.46 | X18: 5.93 | Z18: 517222 | AA18: 265474 | AB18: 251748
... A29: 連江縣 | B29: 476 | C29: 306 | D29: 170 | E29: 38 | F29: 53 | G29: 2 | H29: 7 | I29: 149 | J29: 46 | K29: 65 | L29: 3 | M29: 2 | N29: 12 | O29: 3 | P29: 47 | Q29: 42 | R29: 0 | S29: 2 | T29: 0 | U29: 5 | V29: 3.79 | W29: 4.27 | X29: 3.16 | Z29: 12165 | AA29: 6923 | AB29: 5242
A31: 2. 按性別 | B31: 1155650 | C31: 0 | D31: 0 | E31: 57319 | F31: 122906 | G31: 3739 | H31: 14482 | I31: 375730 | J31: 100797 | K31: 147856 | L31: 4644 | M31: 4046 | N31: 46054 | O31: 13293 | P31: 124240 | Q31: 124215 | R31: 4826 | S31: 2068 | T31: 3646 | U31: 5789 | V31: 4.92 | W31: 0 | X31: 0 | Z31: 23373517
A32: 男 | B32: 655444 | C32: 0 | D32: 0 | E32: 29924 | F32: 70539 | G32: 2136 | H32: 10575 | I32: 222522 | J32: 57504 | K32: 84922 | L32: 3222 | M32: 2340 | N32: 17796 | O32: 11587 | P32: 60549 | Q32: 72451 | R32: 2594 | S32: 1097 | T32: 1965 | U32: 3721 | V32: 5.6 | W32: 0 | X32: 0 | Z32: 11684674
A33: 女 | B33: 500206 | C33: 0 | D33: 0 | E33: 27395 | F33: 52367 | G33: 1603 | H33: 3907 | I33: 153208 | J33: 43293 | K33: 62934 | L33: 1422 | M33: 1706 | N33: 28258 | O33: 1706 | P33: 63691 | Q33: 51764 | R33: 2232 | S33: 971 | T33: 1681 | U33: 2068 | V33: 4.25 | W33: 0 | X33: 0 | Z33: 11688843
A34: 領身心障礙者證明(新制) | B34: 492286 | C34: 0 | D34: 0 | E34: 20393 | F34: 56034 | G34: 1978 | H34: 6441 | I34: 102322 | J34: 46178 | K34: 66265 | L34: 1209 | M34: 2170 | N34: 35958 | O34: 10446 | P34: 61484 | Q34: 67980 | R34: 4499 | S34: 1193 | T34: 1947 | U34: 5789 | V34: 2.1 | W34: 0 | X34: 0 | Z34: 23373517
A35: 男 | B35: 279113 | C35: 0 | D35: 0 | E35: 10779 | F35: 33064 | G35: 1172 | H35: 4976 | I35: 58634 | J35: 27002 | K35: 41770 | L35: 760 | M35: 1264 | N35: 13960 | O35: 9121 | P35: 29049 | Q35: 39692 | R35: 2413 | S35: 663 | T35: 1073 | U35: 3721 | V35: 2.38 | W35: 0 | X35: 0 | Z35: 11684674
A36: 女 | B36: 213173 | C36: 0 | D36: 0 | E36: 9614 | F36: 22970 | G36: 806 | H36: 1465 | I36: 43688 | J36: 19176 | K36: 24495 | L36: 449 | M36: 906 | N36: 21998 | O36: 1325 | P36: 32435 | Q36: 28288 | R36: 2086 | S36: 530 | T36: 874 | U36: 2068 | V36: 1.81 | W36: 0 | X36: 0 | Z36: 11688843
A37: 領身心障礙者手冊(舊制) | B37: 663364 | C37: 0 | D37: 0 | E37: 36926 | F37: 66872 | G37: 1761 | H37: 8041 | I37: 273408 | J37: 54619 | K37: 81591 | L37: 3435 | M37: 1876 | N37: 10096 | O37: 2847 | P37: 62756 | Q37: 56235 | R37: 327 | S37: 875 | T37: 1699 | U37: 0 | V37: 2.82 | W37: 0 | X37: 0 | Z37: 23373517
A38: 男 | B38: 376331 | C38: 0 | D38: 0 | E38: 19145 | F38: 37475 | G38: 964 | H38: 5599 | I38: 163888 | J38: 30502 | K38: 43152 | L38: 2462 | M38: 1076 | N38: 3836 | O38: 2466 | P38: 31500 | Q38: 32759 | R38: 181 | S38: 434 | T38: 892 | U38: 0 | V38: 3.21 | W38: 0 | X38: 0 | Z38: 11684674
A39: 女 | B39: 287033 | C39: 0 | D39: 0 | E39: 17781 | F39: 29397 | G39: 797 | H39: 2442 | I39: 109520 | J39: 24117 | K39: 38439 | L39: 973 | M39: 800 | N39: 6260 | O39: 381 | P39: 31256 | Q39: 23476 | R39: 146 | S39: 441 | T39: 807 | U39: 0 | V39: 2.44 | W39: 0 | X39: 0 | Z39: 11688843
A40: 資料來源：直轄市、縣﹝市﹞政府。

Sheet 103
A1: 1.3-03身心障礙者人數-按障礙類別
A2: 103年,2014
A3: 單位：人
A4: 地區別 | B4: 總人數 | E4: 視覺障礙者 | F4: 聽覺機能障礙者 | G4: 平衡機能障礙者 | H4: 聲音機能或語言機能障礙者 | I4: 肢體障礙者 | J4: 智能障礙者 | K4: 重要器官失去功能者 | L4: 顏面損傷者 | M4: 植物人 | N4: 失智症者 | O4: 自閉症者 | P4: 慢性精神病患者 | Q4: 多重障礙者 | R4: 頑性(難治型)癲癇症者 | S4: 因罕見疾病而致身心功能障礙者 | T4: 其他障礙者 | U4: 新制類別無法對應舊制類別者 | V4: 身心障礙者占總人口比率（％） | W4: 男性身心障礙者占男性總人口比率（％） | X4: 女性身心障礙者占女性總人口比率（％）
B5: 計 | C5: 男 | D5: 女
A6: 103年,2014
A7: 1.按區域別 | B7: 1141677 | C7: 648807 | D7: 492870 | E7: 57102 | F7: 122988 | G7: 3856 | H7: 13943 | I7: 378448 | J7: 100588 | K7: 141966 | L7: 4553 | M7: 4198 | N7: 43207 | O7: 13409 | P7: 122538 | Q7: 119561 | R7: 4747 | S7: 2075 | T7: 3670 | U7: 4828 | V7: 4.8719341 | W7: 5.5463208 | X7: 4.1997201 | Z7: 23373517 | AA7: 11684674 | AB7: 11688843
A8: 新北市 | B8: 158222 | C8: 91150 | D8: 67072 | E8: 7468 | F8: 16112 | G8: 548 | H8: 1830 | I8: 49453 | J8: 13600 | K8: 21819 | L8: 668 | M8: 724 | N8: 5772 | O8: 2787 | P8: 18003 | Q8: 16854 | R8: 629 | S8: 414 | T8: 618 | U8: 923 | V8: 3.9886377 | W8: 4.6701941 | X8: 3.3285047 | Z8: 3954929 | AA8: 1950060 | AB8: 2004869
A9: 臺北市 | B9: 120897 | C9: 66950 | D9: 53947 | E9: 6221 | F9: 13968 | G9: 356 | H9: 1023 | I9: 31527 | J9: 7972 | K9: 16820 | L9: 345 | M9: 597 | N9: 6694 | O9: 3115 | P9: 14854 | Q9: 15841 | R9: 388 | S9: 317 | T9: 524 | U9: 335 | V9: 4.4738308 | W9: 5.1673464 | X9: 3.8350612 | Z9: 2686516 | AA9: 1289945 | AB9: 1396571
A10: 臺中市 | B10: 116827 | C10: 66897 | D10: 49930 | E10: 5536 | F10: 13437 | G10: 356 | H10: 1443 | I10: 37781 | J10: 11127 | K10: 14531 | L10: 485 | M10: 320 | N10: 3850 | O10: 1316 | P10: 12126 | Q10: 12485 | R10: 575 | S10: 230 | T10: 363 | U10: 866 | V10: 4.2953709 | W10: 4.9663328 | X10: 3.6370258 | Z10: 2701661 | AA10: 1339733 | AB10: 1361928
A11: 臺南市 | B11: 94359 | C11: 52738 | D11: 41621 | E11: 5584 | F11: 9723 | G11: 458 | H11: 1106 | I11: 33852 | J11: 8289 | K11: 12211 | L11: 342 | M11: 334 | N11: 3760 | O11: 677 | P11: 8360 | Q11: 8448 | R11: 383 | S11: 172 | T11: 202 | U11: 458 | V11: 5.0076846 | W11: 5.5862442 | X11: 4.4267535 | Z11: 1883208 | AA11: 944555 | AB11: 938653
A12: 高雄市 | B12: 136469 | C12: 76653 | D12: 59816 | E12: 6932 | F12: 11925 | G12: 499 | H12: 1994 | I12: 46793 | J12: 11353 | K12: 18559 | L12: 536 | M12: 571 | N12: 5170 | O12: 1478 | P12: 16802 | Q12: 11720 | R12: 613 | S12: 234 | T12: 583 | U12: 707 | V12: 4.9107374 | W12: 5.5425243 | X12: 4.2848322 | Z12: 2779877 | AA12: 1385895 | AB12: 1393982
A13: 宜蘭縣 | B13: 31707 | C13: 17538 | D13: 14169 | E13: 1624 | F13: 3234 | G13: 113 | H13: 293 | I13: 11186 | J13: 2473 | K13: 3333 | L13: 110 | M13: 75 | N13: 1267 | O13: 279 | P13: 3829 | Q13: 3456 | R13: 136 | S13: 36 | T13: 64 | U13: 199 | V13: 6.9112009 | W13: 7.5330521 | X13: 6.2704956 | Z13: 458456 | AA13: 233000 | AB13: 225456
A14: 桃園縣 | B14: 79942 | C14: 46465 | D14: 33477 | E14: 3372 | F14: 9839 | G14: 171 | H14: 1039 | I14: 25165 | J14: 8052 | K14: 9784 | L14: 317 | M14: 342 | N14: 2501 | O14: 1148 | P14: 8102 | Q14: 9233 | R14: 301 | S14: 165 | T14: 290 | U14: 121 | V14: 3.8838319 | W14: 4.4996974 | X14: 3.2638103 | Z14: 2044023 | AA14: 1026657 | AB14: 1017366
A15: 新竹縣 | B15: 22209 | C15: 13167 | D15: 9042 | E15: 942 | F15: 2806 | G15: 57 | H15: 222 | I15: 7204 | J15: 2408 | K15: 2538 | L15: 92 | M15: 103 | N15: 779 | O15: 230 | P15: 2231 | Q15: 2259 | R15: 94 | S15: 46 | T15: 74 | U15: 124 | V15: 4.1309079 | W15: 4.7837555 | X15: 3.446068 | Z15: 530486 | AA15: 271904 | AB15: 258582
A16: 苗栗縣 | B16: 32906 | C16: 19105 | D16: 13801 | E16: 1179 | F16: 4569 | G16: 49 | H16: 443 | I16: 11382 | J16: 3155 | K16: 3239 | L16: 96 | M16: 101 | N16: 890 | O16: 187 | P16: 2961 | Q16: 4328 | R16: 118 | S16: 44 | T16: 86 | U16: 79 | V16: 5.8021766 | W16: 6.5375021 | X16: 5.0204624 | Z16: 565554 | AA16: 292024 | AB16: 273530
A17: 彰化縣 | B17: 66297 | C17: 38507 | D17: 27790 | E17: 3520 | F17: 7849 | G17: 281 | H17: 1071 | I17: 22121 | J17: 6873 | K17: 7263 | L17: 399 | M17: 144 | N17: 2097 | O17: 293 | P17: 6829 | Q17: 6804 | R17: 360 | S17: 96 | T17: 190 | U17: 107 | V17: 5.1334367 | W17: 5.8278509 | X17: 4.4059848 | Z17: 1296013 | AA17: 663500 | AB17: 632513
A18: 南投縣 | B18: 34240 | C18: 19581 | D18: 14659 | E18: 1481 | F18: 4768 | G18: 92 | H18: 442 | I18: 11601 | J18: 2913 | K18: 3751 | L18: 166 | M18: 103 | N18: 1258 | O18: 185 | P18: 3237 | Q18: 3926 | R18: 183 | S18: 35 | T18: 59 | U18: 40 | V18: 6.6573987 | W18: 7.4198841 | X18: 5.8538592 | Z18: 517222 | AA18: 265474 | AB18: 251748
... A29: 連江縣 | B29: 449 | C29: 288 | D29: 161 | E29: 37 | F29: 52 | G29: 1 | H29: 8 | I29: 144 | J29: 44 | K29: 60 | L29: 3 | M29: 2 | N29: 9 | O29: 3 | P29: 44 | Q29: 36 | R29: 4 | S29: 2 | T29: 0 | U29: 0 | V29: 3.5902767 | W29: 4.0262827 | X29: 3.0076593 | Z29: 12165 | AA29: 6923 | AB29: 5242
A31: 2. 按性別 | B31: 1141677 | C31: 0 | D31: 0 | E31: 57102 | F31: 122988 | G31: 3856 | H31: 13943 | I31: 378448 | J31: 100588 | K31: 141966 | L31: 4553 | M31: 4198 | N31: 43207 | O31: 13409 | P31: 122538 | Q31: 119561 | R31: 4747 | S31: 2075 | T31: 3670 | U31: 4828 | V31: 4.8719341 | W31: 0 | X31: 0 | Z31: 23373517
A32: 男 | B32: 648807 | C32: 0 | D32: 0 | E32: 29937 | F32: 70898 | G32: 2225 | H32: 10113 | I32: 224418 | J32: 57412 | K32: 80792 | L32: 3224 | M32: 2448 | N32: 16956 | O32: 11660 | P32: 60047 | Q32: 69915 | R32: 2560 | S32: 1092 | T32: 1983 | U32: 3127 | V32: 5.55 | W32: 0 | X32: 0 | Z32: 11684674
A33: 女 | B33: 492870 | C33: 0 | D33: 0 | E33: 27165 | F33: 52090 | G33: 1631 | H33: 3830 | I33: 154030 | J33: 43176 | K33: 61174 | L33: 1329 | M33: 1750 | N33: 26251 | O33: 1749 | P33: 62491 | Q33: 49646 | R33: 2187 | S33: 983 | T33: 1687 | U33: 1701 | V33: 4.2 | W33: 0 | X33: 0 | Z33: 11688843
A34: 領身心障礙者證明(新制) | B34: 362549 | C34: 0 | D34: 0 | E34: 15160 | F34: 41813 | G34: 1777 | H34: 4565 | I34: 77295 | J34: 21949 | K34: 48432 | L34: 633 | M34: 1591 | N34: 29885 | O34: 7623 | P34: 54645 | Q34: 46965 | R34: 4342 | S34: 665 | T34: 381 | U34: 4828 | V34: 1.5471231 | W34: 0 | X34: 0 | Z34: 23373517
A35: 男 | B35: 203794 | C35: 0 | D35: 0 | E35: 8016 | F35: 24869 | G35: 1081 | H35: 3573 | I35: 43811 | J35: 12744 | K35: 30888 | L35: 437 | M35: 925 | N35: 11839 | O35: 6599 | P35: 25640 | Q35: 27380 | R35: 2328 | S35: 338 | T35: 199 | U35: 3127 | V35: 1.7421312 | W35: 0 | X35: 0 | Z35: 11684674
A36: 女 | B36: 158755 | C36: 0 | D36: 0 | E36: 7144 | F36: 16944 | G36: 696 | H36: 992 | I36: 33484 | J36: 9205 | K36: 17544 | L36: 196 | M36: 666 | N36: 18046 | O36: 1024 | P36: 29005 | Q36: 19585 | R36: 2014 | S36: 327 | T36: 182 | U36: 1701 | V36: 1.3527433 | W36: 0 | X36: 0 | Z36: 11688843
A37: 領身心障礙者手冊(舊制) | B37: 779128 | C37: 0 | D37: 0 | E37: 41942 | F37: 81175 | G37: 2079 | H37: 9378 | I37: 301153 | J37: 78639 | K37: 93534 | L37: 3920 | M37: 2607 | N37: 13322 | O37: 5786 | P37: 67893 | Q37: 72596 | R37: 405 | S37: 1410 | T37: 3289 | U37: 0 | V37: 3.324811 | W37: 0 | X37: 0 | Z37: 23373517
A38: 男 | B38: 445013 | C38: 0 | D38: 0 | E38: 21921 | F38: 46029 | G38: 1144 | H38: 6540 | I38: 180607 | J38: 44668 | K38: 49904 | L38: 2787 | M38: 1523 | N38: 5117 | O38: 5061 | P38: 34407 | Q38: 42535 | R38: 232 | S38: 754 | T38: 1784 | U38: 0 | V38: 3.8041896 | W38: 0 | X38: 0 | Z38: 11684674
A39: 女 | B39: 334115 | C39: 0 | D39: 0 | E39: 20021 | F39: 35146 | G39: 935 | H39: 2838 | I39: 120546 | J39: 33971 | K39: 43630 | L39: 1133 | M39: 1084 | N39: 8205 | O39: 725 | P39: 33486 | Q39: 30061 | R39: 173 | S39: 656 | T39: 1505 | U39: 0 | V39: 2.8469769 | W39: 0 | X39: 0 | Z39: 11688843
A40: 資料來源：直轄市、縣﹝市﹞政府。

Sheet 102
A1: 1.3-03身心障礙者人數-按障礙類別
A2: 102年,2013
A3: 單位：人
A4: 地區別 | B4: 總人數 | E4: 視覺障礙者 | F4: 聽覺機能障礙者 | G4: 平衡機能障礙者 | H4: 聲音機能或語言機能障礙者 | I4: 肢體障礙者 | J4: 智能障礙者 | K4: 重要器官失去功能者 | L4: 顏面損傷者 | M4: 植物人 | N4: 失智症者 | O4: 自閉症者 | P4: 慢性精神病患者 | Q4: 多重障礙者 | R4: 頑性(難治型)癲癇症者 | S4: 因罕見疾病而致身心功能障礙者 | T4: 其他障礙者 | U4: 新制類別無法對應舊制類別者 | V4: 身心障礙者占總人口比率（％） | W4: 男性身心障礙者占男性總人口比率（％） | X4: 女性身心障礙者占女性總人口比率（％）
B5: 計 | C5: 男 | D5: 女
A6: 102年,2013
A7: 1.按區域別 | B7: 1125113 | C7: 639969 | D7: 485144 | E7: 56840 | F7: 122348 | G7: 4063 | H7: 13509 | I7: 379405 | J7: 99488 | K7: 136599 | L7: 4570 | M7: 4213 | N7: 40717 | O7: 13072 | P7: 119666 | Q7: 116735 | R7: 4693 | S7: 2143 | T7: 3708 | U7: 3344 | V7: =B7/Z7*100 -> 4.813623 | W7: =C7/AA7*100 -> 5.4769949 | X7: =D7/AB7*100 -> 4.1504878 | Z7: 23373517 | AA7: 11684674 | AB7: 11688843
A8: 新北市 | B8: 153343 | C8: 88470 | D8: 64873 | E8: 7222 | F8: 15956 | G8: 559 | H8: 1754 | I8: 48805 | J8: 13407 | K8: 20520 | L8: 666 | M8: 747 | N8: 5302 | O8: 2680 | P8: 17265 | Q8: 16251 | R8: 605 | S8: 406 | T8: 587 | U8: 611 | V8: =B8/Z8*100 -> 3.877263 | W8: =C8/AA8*100 -> 4.5367835 | X8: =D8/AB8*100 -> 3.2357725 | Z8: 3954929 | AA8: 1950060 | AB8: 2004869
A9: 臺北市 | B9: 118914 | C9: 65859 | D9: 53055 | E9: 6173 | F9: 14065 | G9: 388 | H9: 977 | I9: 31532 | J9: 8028 | K9: 16051 | L9: 344 | M9: 594 | N9: 6331 | O9: 3015 | P9: 14633 | Q9: 15279 | R9: 379 | S9: 326 | T9: 547 | U9: 252 | V9: =B9/Z9*100 -> 4.4263276 | W9: =C9/AA9*100 -> 5.1055665 | X9: =D9/AB9*100 -> 3.7989476 | Z9: 2686516 | AA9: 1289945 | AB9: 1396571
A10: 臺中市 | B10: 114696 | C10: 65797 | D10: 48899 | E10: 5424 | F10: 13268 | G10: 392 | H10: 1403 | I10: 37687 | J10: 11035 | K10: 13998 | L10: 487 | M10: 319 | N10: 3612 | O10: 1318 | P10: 11810 | Q10: 12178 | R10: 577 | S10: 247 | T10: 352 | U10: 589 | V10: =B10/Z10*100 -> 4.2453883 | W10: =C10/AA10*100 -> 4.9112025 | X10: =D10/AB10*100 -> 3.5904248 | Z10: 2701661 | AA10: 1339733 | AB10: 1361928
A11: 臺南市 | B11: 94051 | C11: 52589 | D11: 41462 | E11: 5557 | F11: 9760 | G11: 501 | H11: 1103 | I11: 33941 | J11: 8173 | K11: 12068 | L11: 339 | M11: 344 | N11: 3719 | O11: 643 | P11: 8256 | Q11: 8564 | R11: 387 | S11: 168 | T11: 189 | U11: 339 | V11: =B11/Z11*100 -> 4.9941908 | W11: =C11/AA11*100 -> 5.5675953 | X11: =D11/AB11*100 -> 4.4171808 | Z11: 1883208 | AA11: 944555 | AB11: 938653
A12: 高雄市 | B12: 134460 | C12: 75657 | D12: 58803 | E12: 6954 | F12: 11868 | G12: 508 | H12: 1915 | I12: 46782 | J12: 11222 | K12: 17930 | L12: 528 | M12: 555 | N12: 4939 | O12: 1485 | P12: 16273 | Q12: 11590 | R12: 621 | S12: 221 | T12: 587 | U12: 482 | V12: =B12/Z12*100 -> 4.8369047 | W12: =C12/AA12*100 -> 5.4590716 | X12: =D12/AB12*100 -> 4.2183472 | Z12: 2779877 | AA12: 1385895 | AB12: 1393982
A13: 宜蘭縣 | B13: 31651 | C13: 17550 | D13: 14101 | E13: 1598 | F13: 3301 | G13: 117 | H13: 300 | I13: 11343 | J13: 2451 | K13: 3277 | L13: 108 | M13: 81 | N13: 1148 | O13: 259 | P13: 3749 | Q13: 3531 | R13: 132 | S13: 34 | T13: 63 | U13: 159 | V13: =B13/Z13*100 -> 6.903825 | W13: =C13/AA13*100 -> 7.5321888 | X13: =D13/AB13*100 -> 6.2544355 | Z13: 458456 | AA13: 233000 | AB13: 225456
A14: 桃園縣 | B14: 76175 | C14: 44178 | D14: 31997 | E14: 3307 | F14: 9394 | G14: 172 | H14: 1048 | I14: 24419 | J14: 7737 | K14: 8896 | L14: 327 | M14: 339 | N14: 2269 | O14: 1125 | P14: 7632 | Q14: 8540 | R14: 321 | S14: 249 | T14: 349 | U14: 51 | V14: =B14/Z14*100 -> 3.7267193 | W14: =C14/AA14*100 -> 4.3030925 | X14: =D14/AB14*100 -> 3.1450825 | Z14: 2044023 | AA14: 1026657 | AB14: 1017366
A15: 新竹縣 | B15: 23258 | C15: 13716 | D15: 9542 | E15: 994 | F15: 2940 | G15: 66 | H15: 214 | I15: 7709 | J15: 2365 | K15: 2667 | L15: 91 | M15: 129 | N15: 850 | O15: 221 | P15: 2218 | Q15: 2503 | R15: 98 | S15: 48 | T15: 72 | U15: 73 | V15: =B15/Z15*100 -> 4.3842816 | W15: =C15/AA15*100 -> 5.0444274 | X15: =D15/AB15*100 -> 3.6901254 | Z15: 530486 | AA15: 271904 | AB15: 258582
A16: 苗栗縣 | B16: 32459 | C16: 18906 | D16: 13553 | E16: 1192 | F16: 4556 | G16: 56 | H16: 433 | I16: 11565 | J16: 3143 | K16: 3133 | L16: 100 | M16: 99 | N16: 797 | O16: 187 | P16: 2885 | Q16: 4004 | R16: 121 | S16: 40 | T16: 83 | U16: 65 | V16: =B16/Z16*100 -> 5.7393282 | W16: =C16/AA16*100 -> 6.4741254 | X16: =D16/AB16*100 -> 4.9548496 | Z16: 565554 | AA16: 292024 | AB16: 273530
A17: 彰化縣 | B17: 65443 | C17: 38014 | D17: 27429 | E17: 3524 | F17: 7733 | G17: 278 | H17: 979 | I17: 22240 | J17: 6754 | K17: 7032 | L17: 409 | M17: 148 | N17: 2060 | O17: 279 | P17: 6692 | Q17: 6598 | R17: 343 | S17: 95 | T17: 199 | U17: 80 | V17: =B17/Z17*100 -> 5.0495635 | W17: =C17/AA17*100 -> 5.7293142 | X17: =D17/AB17*100 -> 4.3365117 | Z17: 1296013 | AA17: 663500 | AB17: 632513
A18: 南投縣 | B18: 33920 | C18: 19427 | D18: 14493 | E18: 1476 | F18: 4709 | G18: 97 | H18: 421 | I18: 11724 | J18: 2931 | K18: 3640 | L18: 162 | M18: 110 | N18: 1163 | O18: 176 | P18: 3229 | Q18: 3789 | R18: 177 | S18: 35 | T18: 61 | U18: 20 | V18: =B18/Z18*100 -> 6.5581124 | W18: =C18/AA18*100 -> 7.3178541 | X18: =D18/AB18*100 -> 5.7569474 | Z18: 517222 | AA18: 265474 | AB18: 251748
... A29: 連江縣 | B29: 436 | C29: 275 | D29: 161 | E29: 31 | F29: 50 | G29: 1 | H29: 7 | I29: 140 | J29: 42 | K29: 62 | L29: 3 | M29: 2 | N29: 12 | O29: 4 | P29: 44 | Q29: 34 | R29: 0 | S29: 2 | T29: 1 | U29: 1 | V29: =B29/Z29*100 -> 3.5840526 | W29: =C29/AA29*100 -> 3.9722664 | X29: =D29/AB29*100 -> 3.0713468 | Z29: 12165 | AA29: 6923 | AB29: 5242
A31: 2. 按性別 | B31: 1125113 | C31: 0 | D31: 0 | E31: 56840 | F31: 122348 | G31: 4063 | H31: 13509 | I31: 379405 | J31: 99488 | K31: 136599 | L31: 4570 | M31: 4213 | N31: 40717 | O31: 13072 | P31: 119666 | Q31: 116735 | R31: 4693 | S31: 2143 | T31: 3708 | U31: 3344 | V31: =B31/Z31*100 -> 4.813623 | W31: 0 | X31: 0 | Z31: 23373517
A32: 男 | B32: 639969 | C32: 0 | D32: 0 | E32: 29813 | F32: 70774 | G32: 2341 | H32: 9662 | I32: 225280 | J32: 56840 | K32: 76934 | L32: 3268 | M32: 2457 | N32: 16230 | O32: 11322 | P32: 58886 | Q32: 68422 | R32: 2540 | S32: 1121 | T32: 2006 | U32: 2073 | V32: =B32/Z32*100 -> 5.4769949 | W32: 0 | X32: 0 | Z32: 11684674
A33: 女 | B33: 485144 | C33: 0 | D33: 0 | E33: 27027 | F33: 51574 | G33: 1722 | H33: 3847 | I33: 154125 | J33: 42648 | K33: 59665 | L33: 1302 | M33: 1756 | N33: 24487 | O33: 1750 | P33: 60780 | Q33: 48313 | R33: 2153 | S33: 1022 | T33: 1702 | U33: 1271 | V33: =B33/Z33*100 -> 4.1504878 | W33: 0 | X33: 0 | Z33: 11688843
A34: 領身心障礙者證明(新制) | B34: 254357 | C34: 0 | D34: 0 | E34: 10126 | F34: 25615 | G34: 1402 | H34: 2911 | I34: 54245 | J34: 14149 | K34: 31527 | L34: 394 | M34: 1133 | N34: 21310 | O34: 5149 | P34: 47445 | Q34: 32119 | R34: 2900 | S34: 495 | T34: 93 | U34: 3344 | V34: =B34/Z34*100 -> 1.0882273 | W34: 0 | X34: 0 | Z34: 23373517
A35: 男 | B35: 142287 | C35: 0 | D35: 0 | E35: 5354 | F35: 15408 | G35: 853 | H35: 2250 | I35: 30852 | J35: 8259 | K35: 20149 | L35: 283 | M35: 671 | N35: 8800 | O35: 4437 | P35: 22201 | Q35: 18855 | R35: 1542 | S35: 248 | T35: 52 | U35: 2073 | V35: =B35/Z35*100 -> 1.2177233 | W35: 0 | X35: 0 | Z35: 11684674
A36: 女 | B36: 112070 | C36: 0 | D36: 0 | E36: 4772 | F36: 10207 | G36: 549 | H36: 661 | I36: 23393 | J36: 5890 | K36: 11378 | L36: 111 | M36: 462 | N36: 12510 | O36: 712 | P36: 25244 | Q36: 13264 | R36: 1358 | S36: 247 | T36: 41 | U36: 1271 | V36: =B36/Z36*100 -> 0.95877753 | W36: 0 | X36: 0 | Z36: 11688843
A37: 領身心障礙者手冊(舊制) | B37: 870756 | C37: 0 | D37: 0 | E37: 46714 | F37: 96733 | G37: 2661 | H37: 10598 | I37: 325160 | J37: 85339 | K37: 105072 | L37: 4176 | M37: 3080 | N37: 19407 | O37: 7923 | P37: 72221 | Q37: 84616 | R37: 1793 | S37: 1648 | T37: 3615 | U37: 0 | V37: =B37/Z37*100 -> 3.7253957 | W37: 0 | X37: 0 | Z37: 23373517
A38: 男 | B38: 497682 | C38: 0 | D38: 0 | E38: 24459 | F38: 55366 | G38: 1488 | H38: 7412 | I38: 194428 | J38: 48581 | K38: 56785 | L38: 2985 | M38: 1786 | N38: 7430 | O38: 6885 | P38: 36685 | Q38: 49567 | R38: 998 | S38: 873 | T38: 1954 | U38: 0 | V38: =B38/Z38*100 -> 4.2592716 | W38: 0 | X38: 0 | Z38: 11684674
A39: 女 | B39: 373074 | C39: 0 | D39: 0 | E39: 22255 | F39: 41367 | G39: 1173 | H39: 3186 | I39: 130732 | J39: 36758 | K39: 48287 | L39: 1191 | M39: 1294 | N39: 11977 | O39: 1038 | P39: 35536 | Q39: 35049 | R39: 795 | S39: 775 | T39: 1661 | U39: 0 | V39: =B39/Z39*100 -> 3.1917102 | W39: 0 | X39: 0 | Z39: 11688843
A40: 資料來源：直轄市、縣﹝市﹞政府。

Sheet 101
A1: 1.3-03身心障礙者人數-按障礙類別
A2: 101年,2012
A3: 單位：人
A4: 地區別 | B4: 總人數 | E4: 視覺障礙者 | F4: 聽覺機能障礙者 | G4: 平衡機能障礙者 | H4: 聲音機能或語言機能障礙者 | I4: 肢體障礙者 | J4: 智能障礙者 | K4: 重要器官失去功能者 | L4: 顏面損傷者 | M4: 植物人 | N4: 失智症者 | O4: 自閉症者 | P4: 慢性精神病患者 | Q4: 多重障礙者 | R4: 頑性(難治型)癲癇症者 | S4: 因罕見疾病而致身心功能障礙者 | T4: 其他障礙者 | U4: 新制類別無法對應舊制類別者 | V4: 身心障礙者占總人口比率（％） | W4: 男性身心障礙者占男性總人口比率（％） | X4: 女性身心障礙者占女性總人口比率（％）
B5: 計 | C5: 男 | D5: 女
A6: 101年,2012
A7: 1.按區域別 | B7: 1117518 | C7: 636287 | D7: 481231 | E7: 56582 | F7: 122285 | G7: 4256 | H7: 13396 | I7: 381127 | J7: 99621 | K7: 132024 | L7: 4586 | M7: 4129 | N7: 39441 | O7: 12817 | P7: 119514 | Q7: 114986 | R7: 4977 | S7: 1994 | T7: 3901 | U7: 1882 | V7: 4.79 | W7: 5.45 | X7: 4.13
A8: 新北市 | B8: 151115 | C8: 87424 | D8: 63691 | E8: 7075 | F8: 15855 | G8: 622 | H8: 1730 | I8: 48396 | J8: 13504 | K8: 19489 | L8: 671 | M8: 735 | N8: 5128 | O8: 2617 | P8: 17285 | Q8: 15992 | R8: 658 | S8: 384 | T8: 642 | U8: 332 | V8: 3.84 | W8: 4.49 | X8: 3.2
A9: 臺北市 | B9: 117902 | C9: 65403 | D9: 52499 | E9: 6172 | F9: 14321 | G9: 407 | H9: 1007 | I9: 31594 | J9: 8058 | K9: 15600 | L9: 347 | M9: 599 | N9: 6148 | O9: 2940 | P9: 14449 | Q9: 14821 | R9: 410 | S9: 340 | T9: 550 | U9: 139 | V9: 4.41 | W9: 5.09 | X9: 3.78
A10: 臺中市 | B10: 112676 | C10: 64609 | D10: 48067 | E10: 5327 | F10: 13069 | G10: 481 | H10: 1439 | I10: 37504 | J10: 10955 | K10: 13426 | L10: 495 | M10: 292 | N10: 3538 | O10: 1278 | P10: 11547 | Q10: 11748 | R10: 622 | S10: 223 | T10: 392 | U10: 340 | V10: 4.2 | W10: 4.85 | X10: 3.56
A11: 臺南市 | B11: 93299 | C11: 52191 | D11: 41108 | E11: 5523 | F11: 9742 | G11: 480 | H11: 1106 | I11: 34092 | J11: 8089 | K11: 11684 | L11: 329 | M11: 325 | N11: 3622 | O11: 586 | P11: 8145 | Q11: 8591 | R11: 390 | S11: 154 | T11: 202 | U11: 239 | V11: 4.96 | W11: 5.52 | X11: 4.39
A12: 高雄市 | B12: 131759 | C12: 74334 | D12: 57425 | E12: 6893 | F12: 11676 | G12: 505 | H12: 1870 | I12: 46676 | J12: 11127 | K12: 17223 | L12: 531 | M12: 517 | N12: 4572 | O12: 1437 | P12: 15591 | Q12: 11438 | R12: 653 | S12: 212 | T12: 610 | U12: 228 | V12: 4.74 | W12: 5.36 | X12: 4.13
A13: 宜蘭縣 | B13: 32941 | C13: 18145 | D13: 14796 | E13: 1627 | F13: 3367 | G13: 129 | H13: 368 | I13: 11645 | J13: 2549 | K13: 3232 | L13: 105 | M13: 92 | N13: 1243 | O13: 259 | P13: 4245 | Q13: 3738 | R13: 153 | S13: 36 | T13: 64 | U13: 89 | V13: 7.18 | W13: 7.78 | X13: 6.57
A14: 桃園縣 | B14: 80908 | C14: 47001 | D14: 33907 | E14: 3355 | F14: 9892 | G14: 180 | H14: 1025 | I14: 25534 | J14: 8114 | K14: 9226 | L14: 305 | M14: 377 | N14: 2523 | O14: 1256 | P14: 9126 | Q14: 9142 | R14: 374 | S14: 175 | T14: 287 | U14: 17 | V14: 3.99 | W14: 4.6 | X14: 3.36
A15: 新竹縣 | B15: 20800 | C15: 12284 | D15: 8516 | E15: 916 | F15: 2671 | G15: 60 | H15: 198 | I15: 7132 | J15: 2244 | K15: 2306 | L15: 83 | M15: 108 | N15: 653 | O15: 183 | P15: 1770 | Q15: 2225 | R15: 89 | S15: 41 | T15: 121 | U15: 0 | V15: 3.97 | W15: 4.57 | X15: 3.34
A16: 苗栗縣 | B16: 31548 | C16: 18394 | D16: 13154 | E16: 1185 | F16: 4448 | G16: 58 | H16: 407 | I16: 11490 | J16: 3131 | K16: 3023 | L16: 94 | M16: 101 | N16: 720 | O16: 190 | P16: 2751 | Q16: 3668 | R16: 117 | S16: 39 | T16: 90 | U16: 36 | V16: 5.59 | W16: 6.31 | X16: 4.83
A17: 彰化縣 | B17: 64314 | C17: 37400 | D17: 26914 | E17: 3495 | F17: 7593 | G17: 291 | H17: 944 | I17: 22292 | J17: 6669 | K17: 6769 | L17: 433 | M17: 158 | N17: 1948 | O17: 262 | P17: 6423 | Q17: 6350 | R17: 342 | S17: 84 | T17: 216 | U17: 45 | V17: 4.95 | W17: 5.62 | X17: 4.25
A18: 南投縣 | B18: 34165 | C18: 19526 | D18: 14639 | E18: 1503 | F18: 4763 | G18: 99 | H18: 408 | I18: 11967 | J18: 2926 | K18: 3593 | L18: 170 | M18: 117 | N18: 1138 | O18: 166 | P18: 3254 | Q18: 3718 | R18: 217 | S18: 36 | T18: 70 | U18: 20 | V18: 6.57 | W18: 7.3 | X18: 5.79
... A29: 連江縣 | B29: 408 | C29: 261 | D29: 147 | E29: 28 | F29: 47 | G29: 1 | H29: 6 | I29: 137 | J29: 40 | K29: 59 | L29: 3 | M29: 2 | N29: 11 | O29: 3 | P29: 37 | Q29: 31 | R29: 0 | S29: 1 | T29: 2 | U29: 0 | V29: 3.61 | W29: 4.05 | X29: 3.02
A31: 2. 按性別 | B31: 1125113 | E31: 56840 | F31: 122348 | G31: 4063 | H31: 13509 | I31: 379405 | J31: 99488 | K31: 136599 | L31: 4570 | M31: 4213 | N31: 40717 | O31: 13072 | P31: 119666 | Q31: 116735 | R31: 4693 | S31: 2143 | T31: 3708 | U31: 3344 | V31: 4.79
A32: 男 | B32: 639969 | E32: 29813 | F32: 70774 | G32: 2341 | H32: 9662 | I32: 225280 | J32: 56840 | K32: 76934 | L32: 3268 | M32: 2457 | N32: 16230 | O32: 11322 | P32: 58886 | Q32: 68422 | R32: 2540 | S32: 1121 | T32: 2006 | U32: 2073 | V32: 5.45
A33: 女 | B33: 485144 | E33: 27027 | F33: 51574 | G33: 1722 | H33: 3847 | I33: 154125 | J33: 42648 | K33: 59665 | L33: 1302 | M33: 1756 | N33: 24487 | O33: 1750 | P33: 60780 | Q33: 48313 | R33: 2153 | S33: 1022 | T33: 1702 | U33: 1271 | V33: 4.13
A34: 領身心障礙者證明(新制) | B34: 254357 | E34: 10126 | F34: 25615 | G34: 1402 | H34: 2911 | I34: 54245 | J34: 14149 | K34: 31527 | L34: 394 | M34: 1133 | N34: 21310 | O34: 5149 | P34: 47445 | Q34: 32119 | R34: 2900 | S34: 495 | T34: 93 | U34: 3344 | V34: 0.37
A35: 男 | B35: 142287 | E35: 5354 | F35: 15408 | G35: 853 | H35: 2250 | I35: 30852 | J35: 8259 | K35: 20149 | L35: 283 | M35: 671 | N35: 8800 | O35: 4437 | P35: 22201 | Q35: 18855 | R35: 1542 | S35: 248 | T35: 52 | U35: 2073 | V35: 0.41
A36: 女 | B36: 112070 | E36: 4772 | F36: 10207 | G36: 549 | H36: 661 | I36: 23393 | J36: 5890 | K36: 11378 | L36: 111 | M36: 462 | N36: 12510 | O36: 712 | P36: 25244 | Q36: 13264 | R36: 1358 | S36: 247 | T36: 41 | U36: 1271 | V36: 0.33
A37: 領身心障礙者手冊(舊制) | B37: 870756 | E37: 46714 | F37: 96733 | G37: 2661 | H37: 10598 | I37: 325160 | J37: 85339 | K37: 105072 | L37: 4176 | M37: 3080 | N37: 19407 | O37: 7923 | P37: 72221 | Q37: 84616 | R37: 1793 | S37: 1648 | T37: 3615 | U37: 0 | V37: 4.42
A38: 男 | B38: 497682 | E38: 24459 | F38: 55366 | G38: 1488 | H38: 7412 | I38: 194428 | J38: 48581 | K38: 56785 | L38: 2985 | M38: 1786 | N38: 7430 | O38: 6885 | P38: 36685 | Q38: 49567 | R38: 998 | S38: 873 | T38: 1954 | U38: 0 | V38: 5.04
A39: 女 | B39: 373074 | E39: 22255 | F39: 41367 | G39: 1173 | H39: 3186 | I39: 130732 | J39: 36758 | K39: 48287 | L39: 1191 | M39: 1294 | N39: 11977 | O39: 1038 | P39: 35536 | Q39: 35049 | R39: 795 | S39: 775 | T39: 1661 | U39: 0 | V39: 3.8
A40: 資料來源：直轄市、縣﹝市﹞政府。

Sheet 100
A1: 1.3-03身心障礙者人數-按障礙類別
A2: 100年,2011
A3: 單位：人
A4: 地區別 | B4: 總人數 | E4: 視覺障礙者 | F4: 聽覺機能障礙者 | G4: 平衡機能障礙者 | H4: 聲音機能或語言機能障礙者 | I4: 肢體障礙者 | J4: 智能障礙者 | K4: 重要器官失去功能者 | L4: 顏面損傷者 | M4: 植物人 | N4: 失智症者 | O4: 自閉症者 | P4: 慢性精神病患者 | Q4: 多重障礙者 | R4: 頑性(難治型)癲癇症者 | S4: 因罕見疾病而致身心功能障礙者 | T4: 其他障礙者 | U4: 身心障礙者占總人口比率（％） | V4: 男性身心障礙者占男性總人口比率（％） | W4: 女性身心障礙者占女性總人口比率（％）
B5: 計 | C5: 男 | D5: 女
A6: 總計 | B6: 1100436 | C6: 629179 | D6: 471257 | E6: 56373 | F6: 120035 | G6: 3893 | H6: 13595 | I6: 386217 | J6: 98407 | K6: 126917 | L6: 4535 | M6: 4777 | N6: 35781 | O6: 11212 | P6: 113992 | Q6: 114213 | R6: 4791 | S6: 1746 | T6: 3952 | U6: 4.74 | V6: 5.4 | W6: 4.07
A7: 新北市 | B7: 145896 | C7: 84757 | D7: 61139 | E7: 6722 | F7: 15554 | G7: 561 | H7: 1718 | I7: 48173 | J7: 13052 | K7: 18390 | L7: 657 | M7: 871 | N7: 4481 | O7: 2253 | P7: 15967 | Q7: 15911 | R7: 609 | S7: 320 | T7: 657 | U7: 3.73 | V7: 4.37 | W7: 3.09
A8: 臺北市 | B8: 116784 | C8: 64909 | D8: 51875 | E8: 6143 | F8: 14455 | G8: 378 | H8: 1052 | I8: 31792 | J8: 8098 | K8: 14986 | L8: 354 | M8: 677 | N8: 5791 | O8: 2715 | P8: 14219 | Q8: 14833 | R8: 414 | S8: 315 | T8: 562 | U8: 4.41 | V8: 5.09 | W8: 3.77
A9: 臺中市 | B9: 110626 | C9: 63668 | D9: 46958 | E9: 5268 | F9: 12712 | G9: 384 | H9: 1379 | I9: 37877 | J9: 10960 | K9: 12995 | L9: 475 | M9: 360 | N9: 3165 | O9: 1146 | P9: 11221 | Q9: 11488 | R9: 588 | S9: 193 | T9: 415 | U9: 4.15 | V9: 4.81 | W9: 3.51
A10: 臺南市 | B10: 92853 | C10: 52253 | D10: 40600 | E10: 5425 | F10: 9640 | G10: 457 | H10: 1145 | I10: 35107 | J10: 7987 | K10: 11410 | L10: 318 | M10: 384 | N10: 3240 | O10: 483 | P10: 7873 | Q10: 8667 | R10: 379 | S10: 135 | T10: 203 | U10: 4.95 | V10: 5.54 | W10: 4.35
A11: 高雄市 | B11: 130486 | C11: 73834 | D11: 56652 | E11: 6827 | F11: 11542 | G11: 488 | H11: 1933 | I11: 46758 | J11: 11147 | K11: 16559 | L11: 528 | M11: 618 | N11: 4282 | O11: 1339 | P11: 15376 | Q11: 11624 | R11: 654 | S11: 190 | T11: 621 | U11: 4.7 | V11: 5.32 | W11: 4.09
A12: 宜蘭縣 | B12: 31424 | C12: 17498 | D12: 13926 | E12: 1510 | F12: 3272 | G12: 113 | H12: 355 | I12: 11682 | J12: 2504 | K12: 3045 | L12: 113 | M12: 92 | N12: 1091 | O12: 215 | P12: 3647 | Q12: 3553 | R12: 131 | S12: 33 | T12: 68 | U12: 6.85 | V12: 7.49 | W12: 6.18
A13: 桃園縣 | B13: 76070 | C13: 44665 | D13: 31405 | E13: 3341 | F13: 9324 | G13: 163 | H13: 1042 | I13: 25905 | J13: 7599 | K13: 8500 | L13: 298 | M13: 410 | N13: 2076 | O13: 961 | P13: 7243 | Q13: 8453 | R13: 314 | S13: 145 | T13: 296 | U13: 3.78 | V13: 4.41 | W13: 3.14
A14: 新竹縣 | B14: 20624 | C14: 12151 | D14: 8473 | E14: 926 | F14: 2646 | G14: 50 | H14: 209 | I14: 6997 | J14: 2236 | K14: 2149 | L14: 84 | M14: 116 | N14: 603 | O14: 170 | P14: 2001 | Q14: 2223 | R14: 95 | S14: 31 | T14: 88 | U14: 3.98 | V14: 4.57 | W14: 3.37
A15: 苗栗縣 | B15: 31664 | C15: 18492 | D15: 13172 | E15: 1202 | F15: 4408 | G15: 50 | H15: 410 | I15: 11582 | J15: 3125 | K15: 3017 | L15: 86 | M15: 106 | N15: 716 | O15: 180 | P15: 2762 | Q15: 3773 | R15: 122 | S15: 32 | T15: 93 | U15: 5.63 | V15: 6.35 | W15: 4.86
A16: 彰化縣 | B16: 63999 | C16: 37275 | D16: 26724 | E16: 3553 | F16: 7410 | G16: 264 | H16: 937 | I16: 22702 | J16: 6604 | K16: 6620 | L16: 439 | M16: 197 | N16: 1873 | O16: 235 | P16: 6303 | Q16: 6239 | R16: 322 | S16: 78 | T16: 223 | U16: 4.91 | V16: 5.58 | W16: 4.21
A17: 南投縣 | B17: 34442 | C17: 19810 | D17: 14632 | E17: 1522 | F17: 4678 | G17: 100 | H17: 428 | I17: 12540 | J17: 2955 | K17: 3582 | L17: 166 | M17: 125 | N17: 1077 | O17: 118 | P17: 3104 | Q17: 3739 | R17: 204 | S17: 33 | T17: 71 | U17: 6.59 | V17: 7.36 | W17: 5.76
... A28: 連江縣 | B28: 413 | C28: 258 | D28: 155 | E28: 27 | F28: 48 | G28: 1 | H28: 6 | I28: 139 | J28: 43 | K28: 54 | L28: 3 | M28: 2 | N28: 10 | O28: 2 | P28: 44 | Q28: 32 | R28: 0 | S28: 1 | T28: 1 | U28: 4.09 | V28: 4.42 | W28: 3.63
A29: 資料來源：直轄市、縣﹝市﹞政府。

Sheet 99
A1: 1.3-03身心障礙者人數-按障礙類別
A2: 99年,2010
A3: 單位：人
A4: 地區別 | B4: 總人數 | E4: 視覺障礙者 | F4: 聽覺機能障礙者 | G4: 平衡機能障礙者 | H4: 聲音機能或語言機能障礙者 | I4: 肢體障礙者 | J4: 智能障礙者 | K4: 重要器官失去功能者 | L4: 顏面損傷者 | M4: 植物人 | N4: 失智症者 | O4: 自閉症者 | P4: 慢性精神病患者 | Q4: 多重障礙者 | R4: 頑性(難治型)癲癇症者 | S4: 因罕見疾病而致身心功能障礙者 | T4: 其他障礙者 | U4: 身心障礙者占總人口比率（％） | V4: 男性身心障礙者占男性總人口比率（％） | W4: 女性身心障礙者占女性總人口比率（％）
B5: 計 | C5: 男 | D5: 女
A6: 總計 | B6: 1076293 | C6: 616675 | D6: 459618 | E6: 55603 | F6: 117103 | G6: 3518 | H6: 13329 | I6: 387369 | J6: 96565 | K6: 120776 | L6: 4458 | M6: 4749 | N6: 32580 | O6: 10160 | P6: 110809 | Q6: 109402 | R6: 4479 | S6: 1542 | T6: 3851 | U6: 4.65 | V6: 5.3 | W6: 3.99
A7: 台北縣 | B7: 139711 | C7: 81325 | D7: 58386 | E7: 6449 | F7: 15000 | G7: 482 | H7: 1649 | I7: 47410 | J7: 12671 | K7: 16884 | L7: 655 | M7: 862 | N7: 3998 | O7: 1987 | P7: 15161 | Q7: 15045 | R7: 556 | S7: 265 | T7: 637 | U7: 3.58 | V7: 4.2 | W7: 2.98
A8: 宜蘭縣 | B8: 30790 | C8: 17239 | D8: 13551 | E8: 1508 | F8: 3242 | G8: 109 | H8: 328 | I8: 11756 | J8: 2462 | K8: 2951 | L8: 111 | M8: 88 | N8: 962 | O8: 193 | P8: 3540 | Q8: 3321 | R8: 124 | S8: 25 | T8: 70 | U8: 6.69 | V8: 7.35 | W8: 6
A9: 桃園縣 | B9: 73071 | C9: 43075 | D9: 29996 | E9: 3207 | F9: 9036 | G9: 149 | H9: 992 | I9: 25370 | J9: 7325 | K9: 7954 | L9: 290 | M9: 400 | N9: 1891 | O9: 885 | P9: 6935 | Q9: 7925 | R9: 289 | S9: 131 | T9: 292 | U9: 3.65 | V9: 4.27 | W9: 3.02
A10: 新竹縣 | B10: 20218 | C10: 11946 | D10: 8272 | E10: 922 | F10: 2579 | G10: 46 | H10: 202 | I10: 6999 | J10: 2189 | K10: 2040 | L10: 83 | M10: 112 | N10: 577 | O10: 157 | P10: 1927 | Q10: 2195 | R10: 85 | S10: 20 | T10: 85 | U10: 3.94 | V10: 4.52 | W10: 3.32
A11: 苗栗縣 | B11: 31190 | C11: 18225 | D11: 12965 | E11: 1228 | F11: 4369 | G11: 49 | H11: 393 | I11: 11531 | J11: 3089 | K11: 2952 | L11: 85 | M11: 119 | N11: 696 | O11: 146 | P11: 2690 | Q11: 3597 | R11: 116 | S11: 32 | T11: 98 | U11: 5.56 | V11: 6.26 | W11: 4.81
A12: 臺中縣 | B12: 69322 | C12: 40296 | D12: 29026 | E12: 3116 | F12: 8021 | G12: 209 | H12: 877 | I12: 24721 | J12: 7594 | K12: 7653 | L12: 326 | M12: 207 | N12: 1566 | O12: 417 | P12: 6877 | Q12: 7046 | R12: 344 | S12: 107 | T12: 241 | U12: 4.43 | V12: 5.08 | W12: 3.76
A13: 彰化縣 | B13: 62179 | C13: 36283 | D13: 25896 | E13: 3472 | F13: 7033 | G13: 230 | H13: 919 | I13: 22563 | J13: 6417 | K13: 6300 | L13: 402 | M13: 203 | N13: 1752 | O13: 226 | P13: 6090 | Q13: 6001 | R13: 289 | S13: 70 | T13: 212 | U13: 4.76 | V13: 5.41 | W13: 4.07
A14: 南投縣 | B14: 34039 | C14: 19694 | D14: 14345 | E14: 1508 | F14: 4569 | G14: 95 | H14: 421 | I14: 12613 | J14: 2961 | K14: 3495 | L14: 159 | M14: 137 | N14: 1033 | O14: 93 | P14: 3056 | Q14: 3618 | R14: 187 | S14: 28 | T14: 66 | U14: 6.47 | V14: 7.27 | W14: 5.62
A15: 雲林縣 | B15: 51222 | C15: 28351 | D15: 22871 | E15: 3710 | F15: 5020 | G15: 160 | H15: 756 | I15: 21544 | J15: 4109 | K15: 4886 | L15: 285 | M15: 129 | N15: 1634 | O15: 121 | P15: 4180 | Q15: 4361 | R15: 210 | S15: 44 | T15: 73 | U15: 7.14 | V15: 7.57 | W15: 6.67
A16: 嘉義縣 | B16: 37593 | C16: 21121 | D16: 16472 | E16: 2112 | F16: 4164 | G16: 178 | H16: 414 | I16: 14775 | J16: 3535 | K16: 3930 | L16: 183 | M16: 127 | N16: 1270 | O16: 94 | P16: 3216 | Q16: 3366 | R16: 130 | S16: 33 | T16: 66 | U16: 6.92 | V16: 7.46 | W16: 6.34
A17: 臺南縣 | B17: 60470 | C17: 34061 | D17: 26409 | E17: 3721 | F17: 6107 | G17: 235 | H17: 827 | I17: 24545 | J17: 5248 | K17: 6757 | L17: 187 | M17: 217 | N17: 1844 | O17: 165 | P17: 4847 | Q17: 5363 | R17: 227 | S17: 69 | T17: 111 | U17: 5.49 | V17: 6.06 | W17: 4.9
... A31: 連江縣 | B31: 394 | C31: 245 | D31: 149 | E31: 29 | F31: 50 | G31: 1 | H31: 5 | I31: 137 | J31: 41 | K31: 46 | L31: 3 | M31: 2 | N31: 6 | O31: 1 | P31: 42 | Q31: 29 | R31: 0 | S31: 1 | T31: 1 | U31: 3.96 | V31: 4.27 | W31: 3.55
A32: 資料來源：直轄市、縣﹝市﹞政府。
A33: 說 明：99年第一季因台北縣、雲林縣、屏東縣全面與戶政比對致身障人口減少。

Sheet 98
A1: 1.3-03身心障礙者人數-按障礙類別
A2: 98年,2009
A3: 單位：人
A4: 地區別 | B4: 總人數 | E4: 視覺障礙者 | F4: 聽覺機能障礙者 | G4: 平衡機能障礙者 | H4: 聲音機能或語言機能障礙者 | I4: 肢體障礙者 | J4: 智能障礙者 | K4: 重要器官失去功能者 | L4: 顏面損傷者 | M4: 植物人 | N4: 失智症者 | O4: 自閉症者 | P4: 慢性精神病患者 | Q4: 多重障礙者 | R4: 頑性(難治型)癲癇症者 | S4: 因罕見疾病而致身心功能障礙者 | T4: 其他障礙者 | U4: 身心障礙者占總人口比率（％） | V4: 男性身心障礙者占男性總人口比率（％） | W4: 女性身心障礙者占女性總人口比率（％）
B5: 計 | C5: 男 | D5: 女
A6: 總計 | B6: 1071073 | C6: 615621 | D6: 455452 | E6: 56928 | F6: 115322 | G6: 3094 | H6: 13318 | I6: 396652 | J6: 95375 | K6: 116889 | L6: 4415 | M6: 4956 | N6: 30605 | O6: 9160 | P6: 107663 | Q6: 107317 | R6: 4179 | S6: 1399 | T6: 3801 | U6: 4.63 | V6: 5.29 | W6: 3.97
A7: 台北縣 | B7: 139298 | C7: 81540 | D7: 57758 | E7: 6438 | F7: 14944 | G7: 429 | H7: 1640 | I7: 48249 | J7: 12473 | K7: 16441 | L7: 666 | M7: 957 | N7: 3957 | O7: 1789 | P7: 14575 | Q7: 15357 | R7: 529 | S7: 224 | T7: 630 | U7: 3.6 | V7: 4.23 | W7: 2.97
A8: 宜蘭縣 | B8: 34523 | C8: 19312 | D8: 15211 | E8: 1858 | F8: 3445 | G8: 112 | H8: 344 | I8: 13451 | J8: 2600 | K8: 3198 | L8: 116 | M8: 124 | N8: 1055 | O8: 182 | P8: 3861 | Q8: 3942 | R8: 129 | S8: 22 | T8: 84 | U8: 7.48 | V8: 8.19 | W8: 6.73
A9: 桃園縣 | B9: 70374 | C9: 41598 | D9: 28776 | E9: 3131 | F9: 8720 | G9: 129 | H9: 935 | I9: 25051 | J9: 7061 | K9: 7474 | L9: 276 | M9: 401 | N9: 1757 | O9: 783 | P9: 6586 | Q9: 7381 | R9: 268 | S9: 123 | T9: 298 | U9: 3.56 | V9: 4.16 | W9: 2.94
A10: 新竹縣 | B10: 19723 | C10: 11710 | D10: 8013 | E10: 898 | F10: 2538 | G10: 40 | H10: 197 | I10: 6980 | J10: 2106 | K10: 1933 | L10: 87 | M10: 99 | N10: 549 | O10: 138 | P10: 1877 | Q10: 2108 | R10: 76 | S10: 17 | T10: 80 | U10: 3.86 | V10: 4.45 | W10: 3.24
A11: 苗栗縣 | B11: 30291 | C11: 17767 | D11: 12524 | E11: 1218 | F11: 4229 | G11: 39 | H11: 387 | I11: 11487 | J11: 3008 | K11: 2766 | L11: 83 | M11: 114 | N11: 620 | O11: 115 | P11: 2568 | Q11: 3430 | R11: 104 | S11: 23 | T11: 100 | U11: 5.39 | V11: 6.08 | W11: 4.65
A12: 臺中縣 | B12: 67917 | C12: 39535 | D12: 28382 | E12: 3033 | F12: 7878 | G12: 160 | H12: 866 | I12: 24850 | J12: 7353 | K12: 7353 | L12: 310 | M12: 201 | N12: 1402 | O12: 378 | P12: 6686 | Q12: 6795 | R12: 320 | S12: 100 | T12: 232 | U12: 4.35 | V12: 4.99 | W12: 3.69
A13: 彰化縣 | B13: 64990 | C13: 38097 | D13: 26893 | E13: 4074 | F13: 6905 | G13: 185 | H13: 986 | I13: 24723 | J13: 6506 | K13: 6322 | L13: 386 | M13: 253 | N13: 1721 | O13: 215 | P13: 5821 | Q13: 6363 | R13: 267 | S13: 62 | T13: 201 | U13: 4.95 | V13: 5.65 | W13: 4.22
A14: 南投縣 | B14: 33189 | C14: 19216 | D14: 13973 | E14: 1510 | F14: 4345 | G14: 79 | H14: 378 | I14: 12667 | J14: 2900 | K14: 3328 | L14: 158 | M14: 131 | N14: 968 | O14: 81 | P14: 2947 | Q14: 3434 | R14: 173 | S14: 26 | T14: 64 | U14: 6.25 | V14: 7.02 | W14: 5.43
A15: 雲林縣 | B15: 56091 | C15: 31858 | D15: 24233 | E15: 4644 | F15: 5281 | G15: 142 | H15: 841 | I15: 24168 | J15: 4304 | K15: 5245 | L15: 305 | M15: 173 | N15: 1595 | O15: 108 | P15: 4158 | Q15: 4813 | R15: 193 | S15: 42 | T15: 79 | U15: 7.76 | V15: 8.43 | W15: 7.03
A16: 嘉義縣 | B16: 38052 | C16: 21233 | D16: 16819 | E16: 2171 | F16: 4126 | G16: 141 | H16: 417 | I16: 15526 | J16: 3536 | K16: 3951 | L16: 192 | M16: 157 | N16: 1218 | O16: 78 | P16: 3175 | Q16: 3136 | R16: 126 | S16: 34 | T16: 68 | U16: 6.95 | V16: 7.42 | W16: 6.43
A17: 臺南縣 | B17: 59433 | C17: 33529 | D17: 25904 | E17: 3637 | F17: 5869 | G17: 225 | H17: 813 | I17: 24847 | J17: 5079 | K17: 6497 | L17: 180 | M17: 229 | N17: 1682 | O17: 151 | P17: 4707 | Q17: 5134 | R17: 214 | S17: 59 | T17: 110 | U17: 5.38 | V17: 5.94 | W17: 4.8
... A31: 連江縣 | B31: 376 | C31: 236 | D31: 140 | E31: 29 | F31: 47 | G31: 0 | H31: 5 | I31: 135 | J31: 37 | K31: 46 | L31: 5 | M31: 2 | N31: 4 | O31: 3 | P31: 35 | Q31: 27 | R31: 0 | S31: 1 | T31: 0 | U31: 3.79 | V31: 4.11 | W31: 3.36
A32: 資料來源：直轄市、縣﹝市﹞政府。

Sheet 97
A1: 1.3-03身心障礙者人數-按障礙類別
A2: 97年,2008
A3: 單位：人
A4: 地區別 | B4: 總人數 | E4: 視覺障礙者 | F4: 聽覺機能障礙者 | G4: 平衡機能障礙者 | H4: 聲音機能或語言機能障礙者 | I4: 肢體障礙者 | J4: 智能障礙者 | K4: 重要器官失去功能者 | L4: 顏面損傷者 | M4: 植物人 | N4: 失智症者 | O4: 自閉症者 | P4: 慢性精神病患者 | Q4: 多重障礙者 | R4: 頑性(難治型)癲癇症者 | S4: 因罕見疾病而致身心功能障礙者 | T4: 其他障礙者 | U4: 身心障礙者占總人口比率（％） | V4: 男性身心障礙者占男性總人口比率（％） | W4: 女性身心障礙者占女性總人口比率（％）
B5: 計 | C5: 男 | D5: 女
A6: 總計 | B6: 1040585 | C6: 599664 | D6: 440921 | E6: 55569 | F6: 111623 | G6: 2632 | H6: 13154 | I6: 397920 | J6: 93346 | K6: 109835 | L6: 4235 | M6: 4792 | N6: 27018 | O6: 8151 | P6: 101846 | Q6: 101827 | R6: 3649 | S6: 1211 | T6: 3777 | U6: 4.52 | V6: 5.16 | W6: 3.86
A7: 台北縣 | B7: 129636 | C7: 76143 | D7: 53493 | E7: 6012 | F7: 14210 | G7: 361 | H7: 1552 | I7: 46380 | J7: 11898 | K7: 14714 | L7: 613 | M7: 897 | N7: 3224 | O7: 1552 | P7: 13051 | Q7: 13917 | R7: 463 | S7: 181 | T7: 611 | U7: 3.38 | V7: 3.98 | W7: 2.79
A8: 宜蘭縣 | B8: 34178 | C8: 19209 | D8: 14969 | E8: 1930 | F8: 3374 | G8: 112 | H8: 346 | I8: 13596 | J8: 2597 | K8: 3027 | L8: 112 | M8: 111 | N8: 972 | O8: 163 | P8: 3728 | Q8: 3886 | R8: 123 | S8: 19 | T8: 82 | U8: 7.42 | V8: 8.14 | W8: 6.65
A9: 桃園縣 | B9: 70917 | C9: 42145 | D9: 28772 | E9: 3204 | F9: 8595 | G9: 112 | H9: 990 | I9: 26413 | J9: 7140 | K9: 7148 | L9: 294 | M9: 393 | N9: 1583 | O9: 665 | P9: 6331 | Q9: 7382 | R9: 227 | S9: 107 | T9: 333 | U9: 3.62 | V9: 4.25 | W9: 2.97
A10: 新竹縣 | B10: 18667 | C10: 11102 | D10: 7565 | E10: 830 | F10: 2439 | G10: 30 | H10: 183 | I10: 6824 | J10: 2019 | K10: 1771 | L10: 81 | M10: 83 | N10: 459 | O10: 110 | P10: 1734 | Q10: 1952 | R10: 64 | S10: 14 | T10: 74 | U10: 3.71 | V10: 4.27 | W10: 3.11
A11: 苗栗縣 | B11: 29504 | C11: 17342 | D11: 12162 | E11: 1211 | F11: 4149 | G11: 34 | H11: 384 | I11: 11468 | J11: 2886 | K11: 2647 | L11: 82 | M11: 114 | N11: 583 | O11: 100 | P11: 2394 | Q11: 3240 | R11: 92 | S11: 21 | T11: 99 | U11: 5.26 | V11: 5.93 | W11: 4.54
A12: 臺中縣 | B12: 65478 | C12: 38194 | D12: 27284 | E12: 2840 | F12: 7592 | G12: 127 | H12: 810 | I12: 24634 | J12: 7148 | K12: 6911 | L12: 301 | M12: 196 | N12: 1212 | O12: 360 | P12: 6364 | Q12: 6404 | R12: 265 | S12: 88 | T12: 226 | U12: 4.2 | V12: 4.82 | W12: 3.56
A13: 彰化縣 | B13: 62749 | C13: 36935 | D13: 25814 | E13: 3948 | F13: 6499 | G13: 159 | H13: 938 | I13: 24531 | J13: 6293 | K13: 6001 | L13: 366 | M13: 255 | N13: 1580 | O13: 202 | P13: 5421 | Q13: 6072 | R13: 226 | S13: 54 | T13: 204 | U13: 4.78 | V13: 5.46 | W13: 4.05
A14: 南投縣 | B14: 32256 | C14: 18777 | D14: 13479 | E14: 1465 | F14: 4108 | G14: 70 | H14: 372 | I14: 12753 | J14: 2840 | K14: 3135 | L14: 148 | M14: 126 | N14: 833 | O14: 67 | P14: 2896 | Q14: 3223 | R14: 132 | S14: 23 | T14: 65 | U14: 6.07 | V14: 6.83 | W14: 5.25
A15: 雲林縣 | B15: 58116 | C15: 32742 | D15: 25374 | E15: 4856 | F15: 5204 | G15: 125 | H15: 878 | I15: 25659 | J15: 4364 | K15: 5418 | L15: 293 | M15: 202 | N15: 1564 | O15: 97 | P15: 4215 | Q15: 4958 | R15: 161 | S15: 41 | T15: 81 | U15: 8.03 | V15: 8.63 | W15: 7.37
A16: 嘉義縣 | B16: 37440 | C16: 20841 | D16: 16599 | E16: 2175 | F16: 4012 | G16: 121 | H16: 413 | I16: 15791 | J16: 3479 | K16: 3729 | L16: 179 | M16: 165 | N16: 1150 | O16: 76 | P16: 3128 | Q16: 2815 | R16: 110 | S16: 29 | T16: 68 | U16: 6.82 | V16: 7.25 | W16: 6.35
A17: 臺南縣 | B17: 57268 | C17: 32496 | D17: 24772 | E17: 3488 | F17: 5607 | G17: 171 | H17: 809 | I17: 24707 | J17: 4887 | K17: 6045 | L17: 163 | M17: 231 | N17: 1406 | O17: 136 | P17: 4487 | Q17: 4770 | R17: 196 | S17: 50 | T17: 115 | U17: 5.18 | V17: 5.74 | W17: 4.6
... A31: 連江縣 | B31: 361 | C31: 229 | D31: 132 | E31: 28 | F31: 45 | G31: 0 | H31: 5 | I31: 137 | J31: 33 | K31: 40 | L31: 5 | M31: 3 | N31: 1 | O31: 4 | P31: 33 | Q31: 26 | R31: 0 | S31: 1 | T31: 0 | U31: 3.7 | V31: 4.05 | W31: 3.22
A32: 資料來源：直轄市、縣﹝市﹞政府。

Sheet 96
A1: 1.3-03身心障礙者人數-按障礙類別
A2: 96年,2007
A3: 單位：人
A4: 地區別 | B4: 總人數 | E4: 視覺障礙者 | F4: 聽覺機能障礙者 | G4: 平衡機能障礙者 | H4: 聲音機能或語言機能障礙者 | I4: 肢體障礙者 | J4: 智能障礙者 | K4: 重要器官失去功能者 | L4: 顏面損傷者 | M4: 植物人 | N4: 失智症者 | O4: 自閉症者 | P4: 慢性精神病患者 | Q4: 多重障礙者 | R4: 頑性(難治型)癲癇症者 | S4: 因罕見疾病而致身心功能障礙者 | T4: 其他障礙者 | U4: 身心障礙者占總人口比率（％） | V4: 男性身心障礙者占男性總人口比率（％） | W4: 女性身心障礙者占女性總人口比率（％）
B5: 計 | C5: 男 | D5: 女
A6: 總計 | B6: 1020760 | C6: 590306 | D6: 430454 | E6: 54319 | F6: 108856 | G6: 2041 | H6: 12892 | I6: 402983 | J6: 91004 | K6: 104282 | L6: 3973 | M6: 5006 | N6: 24217 | O6: 7207 | P6: 97127 | Q6: 98999 | R6: 3153 | S6: 950 | T6: 3751 | U6: 4.45 | V6: 5.09 | W6: 3.79
A7: 台北縣 | B7: 127731 | C7: 75255 | D7: 52476 | E7: 5668 | F7: 14147 | G7: 259 | H7: 1471 | I7: 46877 | J7: 11452 | K7: 13981 | L7: 577 | M7: 1045 | N7: 3003 | O7: 1324 | P7: 12730 | Q7: 14088 | R7: 392 | S7: 126 | T7: 591 | U7: 3.36 | V7: 3.96 | W7: 2.76
A8: 宜蘭縣 | B8: 33463 | C8: 18971 | D8: 14492 | E8: 1959 | F8: 3300 | G8: 103 | H8: 354 | I8: 13702 | J8: 2555 | K8: 2888 | L8: 104 | M8: 127 | N8: 847 | O8: 125 | P8: 3422 | Q8: 3765 | R8: 112 | S8: 20 | T8: 80 | U8: 7.27 | V8: 8.04 | W8: 6.46
A9: 桃園縣 | B9: 68429 | C9: 40904 | D9: 27525 | E9: 3105 | F9: 8231 | G9: 86 | H9: 937 | I9: 26251 | J9: 6832 | K9: 6869 | L9: 293 | M9: 393 | N9: 1389 | O9: 578 | P9: 5870 | Q9: 6996 | R9: 188 | S9: 81 | T9: 330 | U9: 3.54 | V9: 4.17 | W9: 2.89
A10: 新竹縣 | B10: 18246 | C10: 10843 | D10: 7403 | E10: 809 | F10: 2318 | G10: 23 | H10: 190 | I10: 6843 | J10: 1974 | K10: 1720 | L10: 76 | M10: 96 | N10: 435 | O10: 103 | P10: 1641 | Q10: 1886 | R10: 51 | S10: 12 | T10: 69 | U10: 3.68 | V10: 4.23 | W10: 3.09
A11: 苗栗縣 | B11: 28757 | C11: 16992 | D11: 11765 | E11: 1176 | F11: 4027 | G11: 32 | H11: 371 | I11: 11466 | J11: 2823 | K11: 2523 | L11: 86 | M11: 133 | N11: 517 | O11: 74 | P11: 2278 | Q11: 3059 | R11: 75 | S11: 15 | T11: 102 | U11: 5.13 | V11: 5.81 | W11: 4.4
A12: 臺中縣 | B12: 63370 | C12: 37037 | D12: 26333 | E12: 2682 | F12: 7176 | G12: 105 | H12: 783 | I12: 24652 | J12: 6926 | K12: 6596 | L12: 286 | M12: 193 | N12: 1027 | O12: 335 | P12: 5985 | Q12: 6094 | R12: 230 | S12: 73 | T12: 227 | U12: 4.09 | V12: 4.69 | W12: 3.46
A13: 彰化縣 | B13: 60938 | C13: 35962 | D13: 24976 | E13: 3855 | F13: 6090 | G13: 105 | H13: 878 | I13: 24628 | J13: 6040 | K13: 5649 | L13: 330 | M13: 261 | N13: 1558 | O13: 189 | P13: 5119 | Q13: 5796 | R13: 195 | S13: 43 | T13: 202 | U13: 4.64 | V13: 5.31 | W13: 3.92
A14: 南投縣 | B14: 31728 | C14: 18423 | D14: 13305 | E14: 1451 | F14: 4007 | G14: 62 | H14: 369 | I14: 12918 | J14: 2791 | K14: 3028 | L14: 119 | M14: 130 | N14: 777 | O14: 57 | P14: 2763 | Q14: 3046 | R14: 124 | S14: 18 | T14: 68 | U14: 5.94 | V14: 6.67 | W14: 5.17
A15: 雲林縣 | B15: 55936 | C15: 31535 | D15: 24401 | E15: 4724 | F15: 4892 | G15: 93 | H15: 842 | I15: 25433 | J15: 4238 | K15: 4927 | L15: 260 | M15: 200 | N15: 1348 | O15: 79 | P15: 4037 | Q15: 4601 | R15: 142 | S15: 36 | T15: 84 | U15: 7.71 | V15: 8.28 | W15: 7.08
A16: 嘉義縣 | B16: 36955 | C16: 20519 | D16: 16436 | E16: 2191 | F16: 3870 | G16: 78 | H16: 398 | I16: 16125 | J16: 3382 | K16: 3544 | L16: 170 | M16: 140 | N16: 1031 | O16: 67 | P16: 3098 | Q16: 2676 | R16: 94 | S16: 21 | T16: 70 | U16: 6.7 | V16: 7.1 | W16: 6.27
A17: 臺南縣 | B17: 55723 | C17: 31689 | D17: 24034 | E17: 3422 | F17: 5370 | G17: 146 | H17: 779 | I17: 24707 | J17: 4763 | K17: 5637 | L17: 150 | M17: 222 | N17: 1244 | O17: 122 | P17: 4313 | Q17: 4524 | R17: 166 | S17: 40 | T17: 118 | U17: 5.04 | V17: 5.59 | W17: 4.46
... A31: 連江縣 | B31: 349 | C31: 224 | D31: 125 | E31: 27 | F31: 42 | G31: 0 | H31: 6 | I31: 135 | J31: 31 | K31: 36 | L31: 4 | M31: 4 | N31: 2 | O31: 2 | P31: 34 | Q31: 24 | R31: 1 | S31: 1 | T31: 0 | U31: 3.51 | V31: 3.85 | W31: 3.03
A32: 資料來源：直轄市、縣﹝市﹞政府。

Sheet 95
A1: 1.3-03身心障礙者人數-按障礙類別
A2: 97年,2006
A3: 單位：人
A4: 地區別 | B4: 總人數 | E4: 視覺障礙者 | F4: 聽覺機能障礙者 | G4: 平衡機能障礙者 | H4: 聲音機能或語言機能障礙者 | I4: 肢體障礙者 | J4: 智能障礙者 | K4: 重要器官失去功能者 | L4: 顏面損傷者 | M4: 植物人 | N4: 失智症者 | O4: 自閉症者 | P4: 慢性精神病患者 | Q4: 多重障礙者 | R4: 頑性(難治型)癲癇症者 | S4: 因罕見疾病而致身心功能障礙者 | T4: 其他障礙者
B5: 計 | C5: 男 | D5: 女
A6: 總計 | B6: 981015 | C6: 569234 | D6: 411781 | E6: 51759 | F6: 103946 | G6: 1476 | H6: 12251 | I6: 400254 | J6: 87160 | K6: 96623 | L6: 3749 | M6: 4733 | N6: 20896 | O6: 6185 | P6: 91160 | Q6: 93816 | R6: 2583 | S6: 704 | T6: 3720
A7: 台北縣 | B7: 117035 | C7: 69120 | D7: 47915 | E7: 5121 | F7: 13351 | G7: 155 | H7: 1319 | I7: 44643 | J7: 10614 | K7: 12107 | L7: 523 | M7: 922 | N7: 2282 | O7: 1026 | P7: 11144 | Q7: 13034 | R7: 198 | S7: 55 | T7: 541
A8: 宜蘭縣 | B8: 27182 | C8: 15400 | D8: 11782 | E8: 1595 | F8: 2737 | G8: 100 | H8: 283 | I8: 11250 | J8: 1804 | K8: 2389 | L8: 93 | M8: 124 | N8: 697 | O8: 84 | P8: 3033 | Q8: 2812 | R8: 98 | S8: 16 | T8: 67
A9: 桃園縣 | B9: 64641 | C9: 38640 | D9: 26001 | E9: 2930 | F9: 7717 | G9: 62 | H9: 874 | I9: 25557 | J9: 6514 | K9: 6359 | L9: 283 | M9: 361 | N9: 1175 | O9: 483 | P9: 5231 | Q9: 6542 | R9: 160 | S9: 62 | T9: 331
A10: 新竹縣 | B10: 18134 | C10: 10824 | D10: 7310 | E10: 798 | F10: 2254 | G10: 16 | H10: 190 | I10: 6843 | J10: 2001 | K10: 1620 | L10: 86 | M10: 96 | N10: 401 | O10: 86 | P10: 1736 | Q10: 1873 | R10: 51 | S10: 7 | T10: 76
A11: 苗栗縣 | B11: 27996 | C11: 16614 | D11: 11382 | E11: 1173 | F11: 3920 | G11: 23 | H11: 368 | I11: 11450 | J11: 2724 | K11: 2419 | L11: 81 | M11: 147 | N11: 466 | O11: 65 | P11: 2114 | Q11: 2872 | R11: 69 | S11: 6 | T11: 99
A12: 臺中縣 | B12: 61997 | C12: 36421 | D12: 25576 | E12: 2550 | F12: 6847 | G12: 82 | H12: 735 | I12: 24854 | J12: 6662 | K12: 6286 | L12: 263 | M12: 216 | N12: 921 | O12: 305 | P12: 5701 | Q12: 6086 | R12: 205 | S12: 52 | T12: 232
A13: 彰化縣 | B13: 59984 | C13: 35454 | D13: 24530 | E13: 3763 | F13: 5830 | G13: 57 | H13: 851 | I13: 25189 | J13: 5845 | K13: 5314 | L13: 296 | M13: 258 | N13: 1504 | O13: 176 | P13: 4894 | Q13: 5609 | R13: 165 | S13: 30 | T13: 203
A14: 南投縣 | B14: 30989 | C14: 17996 | D14: 12993 | E14: 1365 | F14: 3840 | G14: 49 | H14: 362 | I14: 13032 | J14: 2712 | K14: 2872 | L14: 105 | M14: 132 | N14: 696 | O14: 55 | P14: 2638 | Q14: 2945 | R14: 105 | S14: 14 | T14: 67
A15: 雲林縣 | B15: 52988 | C15: 29951 | D15: 23037 | E15: 4570 | F15: 4501 | G15: 75 | H15: 781 | I15: 24900 | J15: 4125 | K15: 4349 | L15: 226 | M15: 194 | N15: 1120 | O15: 68 | P15: 3751 | Q15: 4083 | R15: 124 | S15: 29 | T15: 92
A16: 嘉義縣 | B16: 36092 | C16: 20323 | D16: 15769 | E16: 2118 | F16: 3602 | G16: 43 | H16: 382 | I16: 16367 | J16: 3281 | K16: 3266 | L16: 157 | M16: 122 | N16: 884 | O16: 64 | P16: 3043 | Q16: 2595 | R16: 87 | S16: 13 | T16: 68
A17: 臺南縣 | B17: 54394 | C17: 31047 | D17: 23347 | E17: 3313 | F17: 5164 | G17: 137 | H17: 776 | I17: 24769 | J17: 4590 | K17: 5306 | L17: 157 | M17: 213 | N17: 1096 | O17: 105 | P17: 4162 | Q17: 4322 | R17: 139 | S17: 31 | T17: 114
... A31: 連江縣 | B31: 315 | C31: 209 | D31: 106 | E31: 26 | F31: 37 | G31: 0 | H31: 5 | I31: 126 | J31: 30 | K31: 28 | L31: 4 | M31: 5 | N31: 1 | O31: 3 | P31: 26 | Q31: 23 | R31: 1 | S31: 0 | T31: 0
A32: 資料來源：直轄市、縣﹝市﹞政府。

Sheet 94
A1: 1.3-03身心障礙者人數-按障礙類別
A2: 94年,2005
A3: 單位：人
A4: 地區別 | B4: 總人數 | E4: 視覺障礙者 | F4: 聽覺機能障礙者 | G4: 平衡機能障礙者 | H4: 聲音機能或語言機能障礙者 | I4: 肢體障礙者 | J4: 智能障礙者 | K4: 重要器官失去功能者 | L4: 顏面損傷者 | M4: 植物人 | N4: 失智症者 | O4: 自閉症者 | P4: 慢性精神病患者 | Q4: 多重障礙者 | R4: 頑性(難治型)癲癇症者 | S4: 因罕見疾病而致身心功能障礙者 | T4: 其他障礙者
B5: 計 | C5: 男 | D5: 女
A6: 總計 | B6: 937944 | C6: 546068 | D6: 391876 | E6: 49677 | F6: 99535 | G6: 1237 | H6: 11633 | I6: 388577 | J6: 84294 | K6: 89862 | L6: 3542 | M6: 4364 | N6: 18228 | O6: 5359 | P6: 87039 | Q6: 88638 | R6: 1892 | S6: 476 | T6: 3591
A7: 台北縣 | B7: 112824 | C7: 66804 | D7: 46020 | E7: 4898 | F7: 12846 | G7: 115 | H7: 1261 | I7: 43523 | J7: 10600 | K7: 11267 | L7: 536 | M7: 684 | N7: 1840 | O7: 971 | P7: 11792 | Q7: 11968 | R7: 0 | S7: 0 | T7: 523
A8: 宜蘭縣 | B8: 24440 | C8: 13959 | D8: 10481 | E8: 1462 | F8: 2482 | G8: 65 | H8: 244 | I8: 10429 | J8: 1721 | K8: 2018 | L8: 87 | M8: 106 | N8: 606 | O8: 69 | P8: 2610 | Q8: 2390 | R8: 79 | S8: 13 | T8: 59
A9: 桃園縣 | B9: 60133 | C9: 36100 | D9: 24033 | E9: 2689 | F9: 7329 | G9: 44 | H9: 806 | I9: 24232 | J9: 6224 | K9: 5742 | L9: 267 | M9: 340 | N9: 1018 | O9: 388 | P9: 4487 | Q9: 6107 | R9: 125 | S9: 33 | T9: 302
A10: 新竹縣 | B10: 20874 | C10: 12477 | D10: 8397 | E10: 921 | F10: 2396 | G10: 26 | H10: 214 | I10: 8235 | J10: 2022 | K10: 2078 | L10: 90 | M10: 178 | N10: 544 | O10: 73 | P10: 1690 | Q10: 2336 | R10: 0 | S10: 0 | T10: 71
A11: 苗栗縣 | B11: 26949 | C11: 16071 | D11: 10878 | E11: 1168 | F11: 3799 | G11: 22 | H11: 360 | I11: 11143 | J11: 2649 | K11: 2308 | L11: 73 | M11: 130 | N11: 434 | O11: 50 | P11: 1982 | Q11: 2668 | R11: 57 | S11: 7 | T11: 99
A12: 臺中縣 | B12: 60976 | C12: 35800 | D12: 25176 | E12: 2694 | F12: 6574 | G12: 82 | H12: 769 | I12: 24767 | J12: 6610 | K12: 6037 | L12: 247 | M12: 245 | N12: 775 | O12: 285 | P12: 5277 | Q12: 6170 | R12: 161 | S12: 36 | T12: 247
A13: 彰化縣 | B13: 57318 | C13: 33897 | D13: 23421 | E13: 3612 | F13: 5511 | G13: 38 | H13: 809 | I13: 24545 | J13: 5589 | K13: 4951 | L13: 249 | M13: 256 | N13: 1310 | O13: 158 | P13: 4551 | Q13: 5388 | R13: 129 | S13: 23 | T13: 199
A14: 南投縣 | B14: 29779 | C14: 17394 | D14: 12385 | E14: 1335 | F14: 3623 | G14: 49 | H14: 345 | I14: 12759 | J14: 2630 | K14: 2689 | L14: 99 | M14: 131 | N14: 637 | O14: 57 | P14: 2523 | Q14: 2740 | R14: 90 | S14: 8 | T14: 64
A15: 雲林縣 | B15: 48830 | C15: 27693 | D15: 21137 | E15: 4366 | F15: 4104 | G15: 61 | H15: 708 | I15: 23192 | J15: 3963 | K15: 3730 | L15: 196 | M15: 181 | N15: 874 | O15: 63 | P15: 3528 | Q15: 3664 | R15: 96 | S15: 23 | T15: 81
A16: 嘉義縣 | B16: 34724 | C16: 19600 | D16: 15124 | E16: 2054 | F16: 3402 | G16: 35 | H16: 376 | I16: 16135 | J16: 3204 | K16: 2983 | L16: 138 | M16: 119 | N16: 781 | O16: 53 | P16: 2911 | Q16: 2398 | R16: 70 | S16: 6 | T16: 59
A17: 臺南縣 | B17: 50348 | C17: 28882 | D17: 21466 | E17: 3084 | F17: 4885 | G17: 121 | H17: 716 | I17: 23238 | J17: 4082 | K17: 4974 | L17: 139 | M17: 201 | N17: 939 | O17: 74 | P17: 3823 | Q17: 3841 | R17: 118 | S17: 17 | T17: 96
... A31: 連江縣 | B31: 312 | C31: 206 | D31: 106 | E31: 29 | F31: 37 | G31: 0 | H31: 4 | I31: 121 | J31: 30 | K31: 27 | L31: 4 | M31: 2 | N31: 0 | O31: 2 | P31: 29 | Q31: 26 | R31: 1 | S31: 0 | T31: 0
A32: 資料來源：直轄市、縣﹝市﹞政府。

Sheet 93
A1: 1.3-03身心障礙者人數-按障礙類別
A2: 93年,2004
A3: 單位：人
A4: 地區別 | B4: 總人數 | E4: 視覺障礙者 | F4: 聽覺機能障礙者 | G4: 平衡機能障礙者 | H4: 聲音機能或語言機能障礙者 | I4: 肢體障礙者 | J4: 智能障礙者 | K4: 重要器官失去功能者 | L4: 顏面損傷者 | M4: 植物人 | N4: 失智症者 | O4: 自閉症者 | P4: 慢性精神病患者 | Q4: 多重障礙者 | R4: 頑性(難治型)癲癇症者 | S4: 因罕見疾病而致身心功能障礙者 | T4: 其他障礙者
B5: 計 | C5: 男 | D5: 女
A6: 總計 | B6: 908719 | C6: 531457 | D6: 377262 | E6: 47524 | F6: 96792 | G6: 1067 | H6: 11315 | I6: 380762 | J6: 81593 | K6: 85400 | L6: 3331 | M6: 4493 | N6: 17186 | O6: 4562 | P6: 83175 | Q6: 86193 | R6: 1457 | S6: 328 | T6: 3541
A7: 台北縣 | B7: 105858 | C7: 63048 | D7: 42810 | E7: 4494 | F7: 12237 | G7: 100 | H7: 1196 | I7: 41325 | J7: 10059 | K7: 10309 | L7: 491 | M7: 616 | N7: 1654 | O7: 820 | P7: 10899 | Q7: 11175 | R7: 0 | S7: 0 | T7: 483
A8: 宜蘭縣 | B8: 22497 | C8: 12941 | D8: 9556 | E8: 1340 | F8: 2338 | G8: 49 | H8: 223 | I8: 9834 | J8: 1592 | K8: 1830 | L8: 81 | M8: 103 | N8: 539 | O8: 63 | P8: 2280 | Q8: 2095 | R8: 65 | S8: 8 | T8: 57
A9: 桃園縣 | B9: 55819 | C9: 33735 | D9: 22084 | E9: 2377 | F9: 7182 | G9: 42 | H9: 755 | I9: 21917 | J9: 5776 | K9: 5203 | L9: 269 | M9: 323 | N9: 969 | O9: 329 | P9: 4813 | Q9: 5449 | R9: 114 | S9: 24 | T9: 277
A10: 新竹縣 | B10: 19089 | C10: 11412 | D10: 7677 | E10: 851 | F10: 2125 | G10: 22 | H10: 205 | I10: 7697 | J10: 1879 | K10: 1794 | L10: 77 | M10: 171 | N10: 471 | O10: 50 | P10: 1520 | Q10: 2165 | R10: 0 | S10: 0 | T10: 62
A11: 苗栗縣 | B11: 25932 | C11: 15494 | D11: 10438 | E11: 1125 | F11: 3642 | G11: 20 | H11: 336 | I11: 10948 | J11: 2533 | K11: 2163 | L11: 72 | M11: 120 | N11: 395 | O11: 47 | P11: 1857 | Q11: 2530 | R11: 46 | S11: 7 | T11: 91
A12: 臺中縣 | B12: 58678 | C12: 34549 | D12: 24129 | E12: 2613 | F12: 6213 | G12: 80 | H12: 755 | I12: 24138 | J12: 6448 | K12: 5679 | L12: 221 | M12: 240 | N12: 702 | O12: 241 | P12: 4931 | Q12: 6023 | R12: 94 | S12: 27 | T12: 273
A13: 彰化縣 | B13: 52885 | C13: 31452 | D13: 21433 | E13: 3383 | F13: 5115 | G13: 21 | H13: 729 | I13: 23061 | J13: 5220 | K13: 4240 | L13: 215 | M13: 231 | N13: 1073 | O13: 114 | P13: 4095 | Q13: 5105 | R13: 81 | S13: 15 | T13: 187
A14: 南投縣 | B14: 29364 | C14: 17211 | D14: 12153 | E14: 1292 | F14: 3546 | G14: 45 | H14: 357 | I14: 12825 | J14: 2638 | K14: 2618 | L14: 84 | M14: 111 | N14: 557 | O14: 48 | P14: 2457 | Q14: 2633 | R14: 82 | S14: 3 | T14: 68
A15: 雲林縣 | B15: 48566 | C15: 27635 | D15: 20931 | E15: 4368 | F15: 3797 | G15: 44 | H15: 741 | I15: 23513 | J15: 3980 | K15: 3627 | L15: 175 | M15: 183 | N15: 831 | O15: 52 | P15: 3363 | Q15: 3703 | R15: 78 | S15: 15 | T15: 96
A16: 嘉義縣 | B16: 33885 | C16: 19273 | D16: 14612 | E16: 1988 | F16: 3248 | G16: 40 | H16: 365 | I16: 16013 | J16: 3143 | K16: 2778 | L16: 126 | M16: 106 | N16: 714 | O16: 49 | P16: 2814 | Q16: 2378 | R16: 54 | S16: 7 | T16: 62
A17: 臺南縣 | B17: 48111 | C17: 27748 | D17: 20363 | E17: 2924 | F17: 4691 | G17: 97 | H17: 676 | I17: 22457 | J17: 3946 | K17: 4577 | L17: 143 | M17: 192 | N17: 843 | O17: 62 | P17: 3668 | Q17: 3639 | R17: 95 | S17: 10 | T17: 91
... A31: 連江縣 | B31: 259 | C31: 165 | D31: 94 | E31: 21 | F31: 35 | G31: 0 | H31: 3 | I31: 95 | J31: 23 | K31: 26 | L31: 3 | M31: 3 | N31: 0 | O31: 0 | P31: 26 | Q31: 24 | R31: 0 | S31: 0 | T31: 0
A32: 資料來源：直轄市、縣﹝市﹞政府。
