Workbook

Sheet 歷年
A1: 1.3-01 身心障礙者按年齡與等級
A3: 單位：人 | B3: 一、全體 | N3: 一、全體 | AF3: 二、原住民 | AR3: 二、原住民
A4: 年別 | B4: 總計 | C4: 0-2歲 | D4: 3-5歲 | E4: 6-11歲 | F4: 12-14歲 | G4: 15-17歲 | H4: 18-29歲 | I4: 30-44歲 | J4: 45-59歲 | L4: 60-64歲 | M4: 65歲以上 | N4: 總計 | Q4: 極重度 | T4: 重度 | W4: 中度 | Z4: 輕度 | AC4: 占總人口比率（％） | AF4: 總計 | AG4: 0-2歲 | AH4: 3-5歲 | AI4: 6-11歲 | AJ4: 12-14歲 | AK4: 15-17歲 | AL4: 18-29歲 | AM4: 30-44歲 | AN4: 45-59歲 | AP4: 60-64歲 | AQ4: 65歲以上 | AR4: 總計 | AU4: 極重度 | AX4: 重度 | BA4: 中度 | BD4: 輕度 | BG4: 占總原住民人口比率（％） | BK4: 人口數
N5: 計 | O5: 男 | P5: 女 | Q5: 計 | R5: 男 | S5: 女 | T5: 計 | U5: 男 | V5: 女 | W5: 計 | X5: 男 | Y5: 女 | Z5: 計 | AA5: 男 | AB5: 女 | AC5: 計 | AD5: 男 | AE5: 女 | AR5: 計 | AS5: 男 | AT5: 女 | AU5: 計 | AV5: 男 | AW5: 女 | AX5: 計 | AY5: 男 | AZ5: 女 | BA5: 計 | BB5: 男 | BC5: 女 | BD5: 計 | BE5: 男 | BF5: 女 | BG5: 計 | BH5: 男 | BI5: 女 | BK5: 計 | BL5: 男 | BM5: 女
A6: 89年, 2000 | B6: 711064 | C6: 1753 | D6: 5873 | E6: 19970 | F6: 10664 | G6: 12735 | H6: 70292 | I6: 155746 | J6: 136777 | L6: 49354 | M6: 247900 | N6: 711064 | O6: 425280 | P6: 285784 | Q6: 93383 | R6: 48651 | S6: 44732 | T6: 164141 | U6: 93958 | V6: 70183 | W6: 260518 | X6: 161336 | Y6: 99182 | Z6: 193022 | AA6: 121335 | AB6: 71687 | AC6: 3.191967 | AD6: 3.73313 | AE6: 2.625576 | AF6: ... | AG6: ... | AH6: ... | AI6: ... | AJ6: ... | AK6: ... | AL6: ... | AM6: ... | AO6: ... | AP6: ... | AQ6: ... | AR6: ... | AS6: ... | AT6: ... | AU6: ... | AV6: ... | AW6: ... | AX6: ... | AY6: ... | AZ6: ... | BA6: ... | BB6: ... | BC6: ... | BD6: ... | BE6: ... | BF6: ... | BG6: ... | BH6: ... | BI6: ...
A7: 90年, 2001 | B7: 754084 | C7: 1836 | D7: 5897 | E7: 20291 | F7: 11001 | G7: 12397 | H7: 72476 | I7: 159973 | J7: 153645 | L7: 52641 | M7: 263927 | N7: 754084 | O7: 448724 | P7: 305360 | Q7: 93453 | R7: 48565 | S7: 44888 | T7: 165838 | U7: 94489 | V7: 71349 | W7: 275628 | X7: 169008 | Y7: 106620 | Z7: 219165 | AA7: 136662 | AB7: 82503 | AC7: 3.36561 | AD7: 3.921847 | AE7: 2.785136 | AF7: ... | AG7: ... | AH7: ... | AI7: ... | AJ7: ... | AK7: ... | AL7: ... | AM7: ... | AO7: ... | AP7: ... | AQ7: ... | AR7: ... | AS7: ... | AT7: ... | AU7: ... | AV7: ... | AW7: ... | AX7: ... | AY7: ... | AZ7: ... | BA7: ... | BB7: ... | BC7: ... | BD7: ... | BE7: ... | BF7: ... | BG7: ... | BH7: ... | BI7: ... | BK7: 23373517 | BL7: 11684674 | BM7: 11688843
A8: 91年, 2002 | B8: 831266 | C8: 1983 | D8: 6641 | E8: 21710 | F8: 11645 | G8: 12858 | H8: 76677 | I8: 168788 | J8: 177012 | L8: 58665 | M8: 295287 | N8: 831266 | O8: 492261 | P8: 339005 | Q8: 100536 | R8: 52247 | S8: 48289 | T8: 176465 | U8: 100096 | V8: 76369 | W8: 299523 | X8: 182228 | Y8: 117295 | Z8: 254742 | AA8: 157690 | AB8: 97052 | AC8: 3.691107 | AD8: 4.285968 | AE8: 3.071987 | AF8: ... | AG8: ... | AH8: ... | AI8: ... | AJ8: ... | AK8: ... | AL8: ... | AM8: ... | AO8: ... | AP8: ... | AQ8: ... | AR8: ... | AS8: ... | AT8: ... | AU8: ... | AV8: ... | AW8: ... | AX8: ... | AY8: ... | AZ8: ... | BA8: ... | BB8: ... | BC8: ... | BD8: ... | BE8: ... | BF8: ... | BG8: ... | BH8: ... | BI8: ... | BK8: 3954929 | BL8: 1950060 | BM8: 2004869
A9: 92年, 2003 | B9: 861030 | C9: 2203 | D9: 6915 | E9: 22195 | F9: 12207 | G9: 13266 | H9: 78491 | I9: 171030 | J9: 193854 | L9: 60918 | M9: 299951 | N9: 861030 | O9: 506055 | P9: 354975 | Q9: 99044 | R9: 50953 | S9: 48091 | T9: 174386 | U9: 98203 | V9: 76183 | W9: 309623 | X9: 186044 | Y9: 123579 | Z9: 277977 | AA9: 170855 | AB9: 107122 | AC9: 3.8091 | AD9: 4.394722 | AE9: 3.201004 | AF9: ... | AG9: ... | AH9: ... | AI9: ... | AJ9: ... | AK9: ... | AL9: ... | AM9: ... | AO9: ... | AP9: ... | AQ9: ... | AR9: ... | AS9: ... | AT9: ... | AU9: ... | AV9: ... | AW9: ... | AX9: ... | AY9: ... | AZ9: ... | BA9: ... | BB9: ... | BC9: ... | BD9: ... | BE9: ... | BF9: ... | BG9: ... | BH9: ... | BI9: ... | BK9: 2686516 | BL9: 1289945 | BM9: 1396571
A10: 93年, 2004 | B10: ='93'!B7 -> 908719 | C10: ='93'!C7 -> 2271 | D10: ='93'!D7 -> 7546 | E10: ='93'!E7 -> 23279 | F10: ='93'!F7 -> 12724 | G10: ='93'!G7 -> 14059 | H10: ='93'!H7 -> 80804 | I10: ='93'!I7 -> 173397 | J10: ='93'!J7 -> 214672 | L10: ='93'!K7 -> 64735 | M10: ='93'!L7 -> 315232 | N10: ='93'!M7 -> 908719 | O10: ='93'!N7 -> 531457 | P10: ='93'!O7 -> 377262 | Q10: ='93'!P7 -> 102469 | R10: ='93'!Q7 -> 52602 | S10: ='93'!R7 -> 49867 | ... AE10: ='93'!AD7 -> 3.384263 | AF10: ... | AG10: ... | AH10: ... | AI10: ... | AJ10: ... | AK10: ... | AL10: ... | AM10: ... | AO10: ... | AP10: ... | AQ10: ... | AR10: ... | AS10: ... | AT10: ... | AU10: ... | AV10: ... | AW10: ... | AX10: ... | AY10: ... | AZ10: ... | BA10: ... | BB10: ... | BC10: ... | BD10: ... | BE10: ... | BF10: ... | BG10: ... | BH10: ... | BI10: ... | BK10: 2701661 | BL10: 1339733 | BM10: 1361928
A11: 94年, 2005 | B11: ='94'!B7 -> 937944 | C11: ='94'!C7 -> 2151 | D11: ='94'!D7 -> 7593 | E11: ='94'!E7 -> 23782 | F11: ='94'!F7 -> 13312 | G11: ='94'!G7 -> 14338 | H11: ='94'!H7 -> 81212 | I11: ='94'!I7 -> 171091 | J11: ='94'!J7 -> 232405 | L11: ='94'!K7 -> 64361 | M11: ='94'!L7 -> 327699 | N11: ='94'!M7 -> 937944 | O11: ='94'!N7 -> 546068 | P11: ='94'!O7 -> 391876 | Q11: ='94'!P7 -> 104266 | R11: ='94'!Q7 -> 53709 | S11: ='94'!R7 -> 50557 | ... AE11: ='94'!AD7 -> 3.496413 | AF11: ... | AG11: ... | AH11: ... | AI11: ... | AJ11: ... | AK11: ... | AL11: ... | AM11: ... | AO11: ... | AP11: ... | AQ11: ... | AR11: ... | AS11: ... | AT11: ... | AU11: ... | AV11: ... | AW11: ... | AX11: ... | AY11: ... | AZ11: ... | BA11: ... | BB11: ... | BC11: ... | BD11: ... | BE11: ... | BF11: ... | BG11: ... | BH11: ... | BI11: ... | BK11: 1883208 | BL11: 944555 | BM11: 938653
A12: 95年, 2006 | B12: ='95'!B7 -> 981015 | C12: ='95'!C7 -> 2188 | D12: ='95'!D7 -> 7424 | E12: ='95'!E7 -> 24655 | F12: ='95'!F7 -> 13764 | G12: ='95'!G7 -> 14575 | H12: ='95'!H7 -> 81657 | I12: ='95'!I7 -> 171099 | J12: ='95'!J7 -> 249923 | L12: ='95'!K7 -> 65366 | M12: ='95'!L7 -> 350364 | N12: ='95'!M7 -> 981015 | O12: ='95'!N7 -> 569234 | P12: ='95'!O7 -> 411781 | Q12: ='95'!P7 -> 109883 | R12: ='95'!Q7 -> 56688 | S12: ='95'!R7 -> 53195 | ... AE12: ='95'!AD7 -> 3.648982 | AF12: ... | AG12: ... | AH12: ... | AI12: ... | AJ12: ... | AK12: ... | AL12: ... | AM12: ... | AO12: ... | AP12: ... | AQ12: ... | AR12: ... | AS12: ... | AT12: ... | AU12: ... | AV12: ... | AW12: ... | AX12: ... | AY12: ... | AZ12: ... | BA12: ... | BB12: ... | BC12: ... | BD12: ... | BE12: ... | BF12: ... | BG12: ... | BH12: ... | BI12: ... | BK12: 2779877 | BL12: 1385895 | BM12: 1393982
A13: 96年, 2007 | B13: ='96'!B7 -> 1020760 | C13: ='96'!C7 -> 1998 | D13: ='96'!D7 -> 7032 | E13: ='96'!E7 -> 25182 | F13: ='96'!F7 -> 14133 | G13: ='96'!G7 -> 15167 | H13: ='96'!H7 -> 81872 | I13: ='96'!I7 -> 169317 | J13: ='96'!J7 -> 267302 | L13: ='96'!K7 -> 67669 | M13: ='96'!L7 -> 371088 | N13: ='96'!M7 -> 1020760 | O13: ='96'!N7 -> 590306 | P13: ='96'!O7 -> 430454 | Q13: ='96'!P7 -> 115594 | R13: ='96'!Q7 -> 59519 | S13: ='96'!R7 -> 56075 | ... AE13: ='96'!AD7 -> 3.792682 | AF13: ... | AG13: ... | AH13: ... | AI13: ... | AJ13: ... | AK13: ... | AL13: ... | AM13: ... | AO13: ... | AP13: ... | AQ13: ... | AR13: ... | AS13: ... | AT13: ... | AU13: ... | AV13: ... | AW13: ... | AX13: ... | AY13: ... | AZ13: ... | BA13: ... | BB13: ... | BC13: ... | BD13: ... | BE13: ... | BF13: ... | BG13: ... | BH13: ... | BI13: ... | BK13: 9234448 | BL13: 4706876 | BM13: 4527572
A14: 97年, 2008 | B14: ='97'!B7 -> 1040585 | C14: ='97'!C7 -> 1792 | D14: ='97'!D7 -> 6660 | E14: ='97'!E7 -> 25218 | F14: ='97'!F7 -> 14241 | G14: ='97'!G7 -> 15598 | H14: ='97'!H7 -> 80794 | I14: ='97'!I7 -> 166051 | J14: ='97'!J7 -> 279376 | L14: ='97'!K7 -> 70869 | M14: ='97'!L7 -> 379986 | N14: ='97'!M7 -> 1040585 | O14: ='97'!N7 -> 599664 | P14: ='97'!O7 -> 440921 | Q14: ='97'!P7 -> 117033 | R14: ='97'!Q7 -> 60309 | S14: ='97'!R7 -> 56724 | ... AE14: ='97'!AD7 -> 3.864108 | AF14: ... | AG14: ... | AH14: ... | AI14: ... | AJ14: ... | AK14: ... | AL14: ... | AM14: ... | AO14: ... | AP14: ... | AQ14: ... | AR14: ... | AS14: ... | AT14: ... | AU14: ... | AV14: ... | AW14: ... | AX14: ... | AY14: ... | AZ14: ... | BA14: ... | BB14: ... | BC14: ... | BD14: ... | BE14: ... | BF14: ... | BG14: ... | BH14: ... | BI14: ... | BK14: 458456 | BL14: 233000 | BM14: 225456
A15: 98年, 2009 | B15: ='98'!B7 -> 1071073 | C15: ='98'!C7 -> 1727 | D15: ='98'!D7 -> 6571 | E15: ='98'!E7 -> 24580 | F15: ='98'!F7 -> 14566 | G15: ='98'!G7 -> 15996 | H15: ='98'!H7 -> 79739 | I15: ='98'!I7 -> 164809 | J15: ='98'!J7 -> 290051 | L15: ='98'!K7 -> 76555 | M15: ='98'!L7 -> 396479 | N15: ='98'!M7 -> 1071073 | O15: ='98'!N7 -> 615621 | P15: ='98'!O7 -> 455452 | Q15: ='98'!P7 -> 120597 | R15: ='98'!Q7 -> 62297 | S15: ='98'!R7 -> 58300 | ... AE15: ='98'!AD7 -> 3.966302 | AF15: ... | AG15: ... | AH15: ... | AI15: ... | AJ15: ... | AK15: ... | AL15: ... | AM15: ... | AO15: ... | AP15: ... | AQ15: ... | AR15: ... | AS15: ... | AT15: ... | AU15: ... | AV15: ... | AW15: ... | AX15: ... | AY15: ... | AZ15: ... | BA15: ... | BB15: ... | BC15: ... | BD15: ... | BE15: ... | BF15: ... | BG15: ... | BH15: ... | BI15: ... | BK15: 2044023 | BL15: 1026657 | BM15: 1017366
A16: 99年 ,2010 | B16: ='99'!B7 -> 1076293 | C16: ='99'!C7 -> 1609 | D16: ='99'!D7 -> 6255 | E16: ='99'!E7 -> 24219 | F16: ='99'!F7 -> 14402 | G16: ='99'!G7 -> 16220 | H16: ='99'!H7 -> 78173 | I16: ='99'!I7 -> 161901 | J16: ='99'!J7 -> 296491 | L16: ='99'!K7 -> 83244 | M16: ='99'!L7 -> 393779 | N16: ='99'!M7 -> 1076293 | O16: ='99'!N7 -> 616675 | P16: ='99'!O7 -> 459618 | Q16: ='99'!P7 -> 119798 | R16: ='99'!Q7 -> 62112 | S16: ='99'!R7 -> 57686 | ... AE16: ='99'!AD7 -> 3.987352 | AF16: ... | AG16: ... | AH16: ... | AI16: ... | AJ16: ... | AK16: ... | AL16: ... | AM16: ... | AO16: ... | AP16: ... | AQ16: ... | AR16: ... | AS16: ... | AT16: ... | AU16: ... | AV16: ... | AW16: ... | AX16: ... | AY16: ... | AZ16: ... | BA16: ... | BB16: ... | BC16: ... | BD16: ... | BE16: ... | BF16: ... | BG16: ... | BH16: ... | BI16: ... | BK16: 530486 | BL16: 271904 | BM16: 258582
A17: 100年, 2011 | B17: ='100'!B7 -> 1100436 | C17: ='100'!C7 -> 1461 | D17: ='100'!D7 -> 6015 | E17: ='100'!E7 -> 23636 | F17: ='100'!F7 -> 14352 | G17: ='100'!G7 -> 16369 | H17: ='100'!H7 -> 76199 | I17: ='100'!I7 -> 161756 | J17: ='100'!J7 -> 299857 | L17: ='100'!K7 -> 93601 | M17: ='100'!L7 -> 407190 | N17: ='100'!M7 -> 1100436 | O17: ='100'!N7 -> 629179 | P17: ='100'!O7 -> 471257 | Q17: ='100'!P7 -> 122749 | R17: ='100'!Q7 -> 63978 | S17: ='100'!R7 -> 58771 | ... AM17: ='100'!AL7 -> 4349 | AO17: ='100'!AM7 -> 7162 | AP17: ='100'!AN7 -> 1671 | AQ17: ='100'!AO7 -> 4878 | AR17: ='100'!AP7 -> 21980 | AS17: ='100'!AQ7 -> 12952 | AT17: ='100'!AR7 -> 9028 | AU17: ='100'!AS7 -> 1958 | AV17: ='100'!AT7 -> 1000 | ... BI17: ='100'!BG7 -> 3.403197 | BK17: 565554 | BL17: 292024 | BM17: 273530
A18: 101年, 2012 | B18: ='101'!B7 -> 1117518 | C18: ='101'!C7 -> 1510 | D18: ='101'!D7 -> 5971 | E18: ='101'!E7 -> 22655 | F18: ='101'!F7 -> 14954 | G18: ='101'!G7 -> 16961 | H18: ='101'!H7 -> 75981 | I18: ='101'!I7 -> 162745 | J18: ='101'!J7 -> 304021 | L18: ='101'!K7 -> 101276 | M18: ='101'!L7 -> 411444 | N18: ='101'!M7 -> 1117518 | O18: ='101'!N7 -> 636287 | P18: ='101'!O7 -> 481231 | Q18: ='101'!P7 -> 129407 | R18: ='101'!Q7 -> 67451 | S18: ='101'!R7 -> 61956 | ... AM18: ='101'!AL7 -> 4030 | AO18: ='101'!AM7 -> 6930 | AP18: ='101'!AN7 -> 1701 | AQ18: ='101'!AO7 -> 4563 | AR18: ='101'!AP7 -> 20930 | AS18: ='101'!AQ7 -> 12295 | AT18: ='101'!AR7 -> 8635 | AU18: ='101'!AS7 -> 1918 | AV18: ='101'!AT7 -> 994 | ... BI18: ='101'!BG7 -> 3.21 | BK18: 1296013 | BL18: 663500 | BM18: 632513
A19: 102年, 2013 | B19: ='102'!B7 -> 1125113 | C19: ='102'!C7 -> 1669 | D19: ='102'!D7 -> 5639 | E19: ='102'!E7 -> 21281 | F19: ='102'!F7 -> 14730 | G19: ='102'!G7 -> 16251 | H19: ='102'!H7 -> 74514 | I19: ='102'!I7 -> 159604 | J19: ='102'!J7 -> 303431 | L19: ='102'!K7 -> 105636 | M19: ='102'!L7 -> 422358 | N19: ='102'!M7 -> 1125113 | O19: ='102'!N7 -> 639969 | P19: ='102'!O7 -> 485144 | Q19: ='102'!P7 -> 140848 | R19: ='102'!Q7 -> 73592 | S19: ='102'!R7 -> 67256 | ... AM19: ='102'!AL7 -> 3488 | AO19: ='102'!AM7 -> 6140 | AP19: ='102'!AN7 -> 1584 | AQ19: ='102'!AO7 -> 4193 | AR19: ='102'!AP7 -> 18408 | AS19: ='102'!AQ7 -> 10871 | AT19: ='102'!AR7 -> 7537 | AU19: ='102'!AS7 -> 1686 | AV19: ='102'!AT7 -> 863 | ... BI19: ='102'!BG7 -> 2.7609576 | BK19: 517222 | BL19: 265474 | BM19: 251748
A20: 103年, 2014 | B20: 1141677 | C20: 1757 | D20: 5698 | E20: 20698 | F20: 14524 | G20: 16060 | H20: 74176 | I20: 158233 | J20: 304708 | L20: 109875 | M20: 435948 | N20: 1141677 | O20: 648807 | P20: 492870 | Q20: 141343 | R20: 74254 | S20: 67089 | T20: 191209 | U20: 106348 | V20: 84861 | W20: 368677 | X20: 210191 | Y20: 158486 | Z20: 440448 | AA20: 258014 | AB20: 182434 | AC20: 4.8719341 | AD20: 5.5463208 | AE20: 4.1997201 | AF20: 20124 | AG20: 49 | AH20: 117 | AI20: 459 | AJ20: 347 | AK20: 415 | AL20: 1863 | AM20: 3716 | AO20: 6535 | AP20: 1874 | AQ20: 4749 | AR20: 20124 | AS20: 11729 | AT20: 8395 | AU20: 1980 | AV20: 998 | AW20: 982 | AX20: 3343 | AY20: 1981 | AZ20: 1362 | BA20: 6798 | BB20: 3989 | BC20: 2809 | BD20: 8003 | BE20: 4761 | BF20: 3242 | BG20: 3.7265079 | BH20: 4.4554267 | BI20: 3.0331935
A21: 104年, 2015 | B21: 1155650 | C21: 1692 | D21: 6063 | E21: 19898 | F21: 13044 | G21: 16188 | H21: 74455 | I21: 155835 | J21: 303502 | L21: 114694 | M21: 450279 | N21: 1155650 | O21: 655444 | P21: 500206 | Q21: 141998 | R21: 74888 | S21: 67110 | T21: 193817 | U21: 107355 | V21: 86462 | W21: 371256 | X21: 210964 | Y21: 160292 | Z21: 448579 | AA21: 262237 | AB21: 186342 | AC21: 4.92 | AD21: 5.6 | AE21: 4.25 | AF21: 21089 | AG21: 71 | AH21: 172 | AI21: 497 | AJ21: 321 | AK21: 384 | AL21: 1834 | AM21: 3785 | AO21: 6885 | AP21: 2082 | AQ21: 5058 | AR21: 21089 | AS21: 12214 | AT21: 8875 | AU21: 2188 | AV21: 1080 | AW21: 1108 | AX21: 3493 | AY21: 2062 | AZ21: 1431 | BA21: 6973 | BB21: 4069 | BC21: 2904 | BD21: 8435 | BE21: 5003 | BF21: 3432 | BG21: 3.8575228 | BH21: 4.5910217 | BI21: 3.1622229
A22: 105年, 2016 | B22: 1170199 | C22: 1712 | D22: 6528 | E22: 18802 | F22: 12340 | G22: 16320 | H22: 74550 | I22: 153699 | J22: 300230 | L22: 117109 | M22: 468909 | N22: 1170199 | O22: 662800 | P22: 507399 | Q22: 143108 | R22: 75763 | S22: 67345 | T22: 196230 | U22: 108399 | V22: 87831 | W22: 374216 | X22: 212003 | Y22: 162213 | Z22: 456645 | AA22: 266635 | AB22: 190010 | AC22: 4.97 | AD22: 5.66 | AE22: 4.29 | AF22: 21730 | AG22: 74 | AH22: 218 | AI22: 548 | AJ22: 312 | AK22: 408 | AL22: 1771 | AM22: 3688 | AO22: 6934 | AP22: 2299 | AQ22: 5478 | AR22: 21730 | AS22: 12546 | AT22: 9184 | AU22: 2314 | AV22: 1159 | AW22: 1155 | AX22: 3550 | AY22: 2087 | AZ22: 1463 | BA22: 7068 | BB22: 4100 | BC22: 2968 | BD22: 8798 | BE22: 5200 | BF22: 3598 | BG22: 3.9278561 | BH22: 4.6651718 | BI22: 3.2304018
A23: 106年, 2017 | B23: 1167450 | C23: 1721 | D23: 6701 | E23: 17922 | F23: 11728 | G23: 15979 | H23: 74321 | I23: 150854 | J23: 293287 | L23: 119106 | M23: 475831 | N23: 1167450 | O23: 658682 | P23: 508768 | Q23: 140170 | R23: 74405 | S23: 65765 | T23: 195977 | U23: 107563 | V23: 88414 | W23: 373692 | X23: 210785 | Y23: 162907 | Z23: 457611 | AA23: 265929 | AB23: 191682 | AC23: 4.95 | AD23: 5.62 | AE23: 4.29 | AF23: 22045 | AG23: 71 | AH23: 252 | AI23: 549 | AJ23: 319 | AK23: 429 | AL23: 1832 | AM23: 3677 | AO23: 6772 | AP23: 2378 | AQ23: 5766 | AR23: 22045 | AS23: 12662 | AT23: 9383 | AU23: 2468 | AV23: 1266 | AW23: 1202 | AX23: 3588 | AY23: 2101 | AZ23: 1487 | BA23: 7150 | BB23: 4110 | BC23: 3040 | BD23: 8839 | BE23: 5185 | BF23: 3654 | BG23: 3.94 | BH23: 4.6605787 | BI23: 3.260896
A24: 107年, 2018 | B24: 1173978 | C24: 1687 | D24: 6933 | E24: 17889 | F24: 11289 | G24: 14321 | H24: 74316 | I24: 148095 | J24: 283546 | L24: 123503 | M24: 492399 | N24: 1173978 | O24: 658673 | P24: 515305 | Q24: 139096 | R24: 74123 | S24: 64973 | T24: 200187 | U24: 109353 | V24: 90834 | W24: 377234 | X24: 212063 | Y24: 165171 | Z24: 457461 | AA24: 263134 | AB24: 194327 | AC24: 4.98 | AD24: 5.62 | AE24: 4.34 | AF24: 23507 | AG24: 61 | AH24: 287 | AI24: 657 | AJ24: 320 | AK24: 439 | AL24: 1979 | AM24: 3815 | AO24: 7029 | AP24: 2651 | AQ24: 6269 | AR24: 23507 | AS24: 13390 | AT24: 10117 | AU24: 2722 | AV24: 1368 | AW24: 1354 | AX24: 3870 | AY24: 2238 | AZ24: 1632 | BA24: 7519 | BB24: 4326 | BC24: 3193 | BD24: 9396 | BE24: 5458 | BF24: 3938 | BG24: 4.156404 | BH24: 4.8826202 | BI24: 3.4727776
A25: 單位：人 | B25: 一、全體 | N25: 一、全體 | AF25: 二、原住民 | AR25: 二、原住民
A26: 年別 | B26: 總計 | C26: 0-2歲 | D26: 3-5歲 | E26: 6-11歲 | F26: 12-14歲 | G26: 15-17歲 | H26: 18-29歲 | I26: 30-44歲 | J26: 45-49歲 | K26: 50-59歲 | L26: 60-64歲 | M26: 65歲以上 | N26: 總計 | Q26: 極重度 | T26: 重度 | W26: 中度 | Z26: 輕度 | AC26: 占總人口比率（％） | AF26: 總計 | AG26: 0-2歲 | AH26: 3-5歲 | AI26: 6-11歲 | AJ26: 12-14歲 | AK26: 15-17歲 | AL26: 18-29歲 | AM26: 30-44歲 | AN26: 45-49歲 | AO26: 50-59歲 | AP26: 60-64歲 | AQ26: 65歲以上 | AR26: 總計 | AU26: 極重度 | AX26: 重度 | BA26: 中度 | BD26: 輕度 | BG26: 占總原住民人口比率（％）
N27: 計 | O27: 男 | P27: 女 | Q27: 計 | R27: 男 | S27: 女 | T27: 計 | U27: 男 | V27: 女 | W27: 計 | X27: 男 | Y27: 女 | Z27: 計 | AA27: 男 | AB27: 女 | AC27: 計 | AD27: 男 | AE27: 女 | AR27: 計 | AS27: 男 | AT27: 女 | AU27: 計 | AV27: 男 | AW27: 女 | AX27: 計 | AY27: 男 | AZ27: 女 | BA27: 計 | BB27: 男 | BC27: 女 | BD27: 計 | BE27: 男 | BF27: 女 | BG27: 計 | BH27: 男 | BI27: 女
A28: 108年, 2019 | B28: 1186740 | C28: 1616 | D28: 7786 | E28: 17947 | F28: 10876 | G28: 13619 | H28: 74162 | I28: 145358 | J28: 66968 | K28: 207842 | L28: 127251 | M28: 513315 | N28: 1186740 | O28: 661690 | P28: 525050 | Q28: 140802 | R28: 75139 | S28: 65663 | T28: 203465 | U28: 110585 | V28: 92880 | W28: 382145 | X28: 213813 | Y28: 168332 | Z28: 460328 | AA28: 262153 | AB28: 198175 | AC28: 5.03 | AD28: 5.65 | AE28: 4.41 | AF28: 24135 | AG28: 55 | AH28: 315 | AI28: 716 | AJ28: 334 | AK28: 397 | AL28: 2006 | AM28: 4107 | AN28: 1867 | AO28: 4877 | AP28: 2860 | AQ28: 6601 | AR28: 24135 | AS28: 13627 | AT28: 10508 | AU28: 2860 | AV28: 1457 | AW28: 1403 | AX28: 3884 | AY28: 2234 | AZ28: 1650 | BA28: 7715 | BB28: 4397 | BC28: 3318 | BD28: 9676 | BE28: 5539 | BF28: 4137 | BG28: 4.2236366 | BH28: 4.9241343 | BI28: 3.5658052
A29: 109年, 2020 | B29: 1197939 | C29: 1587 | D29: 8066 | E29: 18523 | F29: 10464 | G29: 12961 | H29: 73300 | I29: 143730 | J29: 64861 | K29: 201930 | L29: 130278 | M29: 532239 | N29: 1197939 | O29: 665776 | P29: 532163 | Q29: 142563 | R29: 76207 | S29: 66356 | T29: 205437 | U29: 111311 | V29: 94126 | W29: 385592 | X29: 214713 | Y29: 170879 | Z29: 464347 | AA29: 263545 | AB29: 200802 | AC29: 5.08 | AD29: 5.7 | AE29: 4.48 | AF29: 24915 | AG29: 71 | AH29: 356 | AI29: 774 | AJ29: 343 | AK29: 395 | AL29: 1994 | AM29: 3948 | AN29: 1725 | AO29: 5023 | AP29: 2933 | AQ29: 7353 | AR29: 24915 | AS29: 13929 | AT29: 10986 | AU29: 3008 | AV29: 1503 | AW29: 1505 | AX29: 4031 | AY29: 2315 | AZ29: 1716 | BA29: 7962 | BB29: 4497 | BC29: 3465 | BD29: 9914 | BE29: 5614 | BF29: 4300 | BG29: 4.3195814 | BH29: 4.9912208 | BI29: 3.6900195
A30: 110年, 2021 | B30: 1203754 | C30: 1409 | D30: 7982 | E30: 19878 | F30: 10238 | G30: 12635 | H30: 72623 | I30: 140792 | J30: 65007 | K30: 195472 | L30: 131185 | M30: 546533 | N30: 1203754 | O30: 667925 | P30: 535829 | Q30: 141876 | R30: 76231 | S30: 65645 | T30: 204487 | U30: 110529 | V30: 93958 | W30: 387086 | X30: 214898 | Y30: 172188 | Z30: 470305 | AA30: 266267 | AB30: 204038 | AC30: 5.15 | AD30: 5.77 | AE30: 4.54 | AF30: 23586 | AG30: 70 | AH30: 326 | AI30: 896 | AJ30: 385 | AK30: 384 | AL30: 1962 | AM30: 3351 | AN30: 1431 | AO30: 4017 | AP30: 2966 | AQ30: 7798 | AR30: 23586 | AS30: 13069 | AT30: 10517 | AU30: 2979 | AV30: 1513 | AW30: 1466 | AX30: 3760 | AY30: 2150 | AZ30: 1610 | BA30: 7326 | BB30: 4082 | BC30: 3244 | BD30: 9521 | BE30: 5324 | BF30: 4197 | BG30: 4.0610719 | BH30: 4.6527773 | BI30: 3.5068296
A31: 111年, 2022 | B31: 1196654 | C31: 1536 | D31: 7712 | E31: 20746 | F31: 9754 | G31: 12195 | H31: 70893 | I31: 137751 | J31: 64879 | K31: 187016 | L31: 132016 | M31: 552156 | N31: 1196654 | O31: 662250 | P31: 534404 | Q31: 139649 | R31: 75129 | S31: 64520 | T31: 201978 | U31: 108978 | V31: 93000 | W31: 384688 | X31: 213086 | Y31: 171602 | Z31: 470339 | AA31: 265057 | AB31: 205282 | AC31: 5.14 | AD31: 5.76 | AE31: 4.54 | AF31: 20898 | AG31: 71 | AH31: 353 | AI31: 944 | AJ31: 395 | AK31: 396 | AL31: 1867 | AM31: 3099 | AN31: 1359 | AO31: 3357 | AP31: 1973 | AQ31: 7084 | AR31: 20898 | AS31: 11473 | AT31: 9425 | AU31: 2812 | AV31: 1429 | AW31: 1383 | AX31: 3326 | AY31: 1879 | AZ31: 1447 | BA31: 6348 | BB31: 3484 | BC31: 2864 | BD31: 8412 | BE31: 4681 | BF31: 3731 | BG31: 3.5776589 | BH31: 4.0665651 | BI31: 3.1209126
A32: 112年, 2023 | B32: 1214668 | C32: 1531 | D32: 8379 | E32: 22173 | F32: 9947 | G32: 12022 | H32: 69907 | I32: 135583 | J32: 66121 | K32: 180986 | L32: 131799 | M32: 576220 | N32: 1214668 | O32: 669360 | P32: 545308 | Q32: 139884 | R32: 75420 | S32: 64464 | T32: 203603 | U32: 109455 | V32: 94148 | W32: 389062 | X32: 214404 | Y32: 174658 | Z32: 482119 | AA32: 270081 | AB32: 212038 | AC32: 5.19 | AD32: 5.79 | AE32: 4.6 | AF32: 20190 | AG32: 65 | AH32: 382 | AI32: 1012 | AJ32: 411 | AK32: 400 | AL32: 1872 | AM32: 3100 | AN32: 1342 | AO32: 3363 | AP32: 1953 | AQ32: 6290 | AR32: 20190 | AS32: 11154 | AT32: 9036 | AU32: 2861 | AV32: 1495 | AW32: 1366 | AX32: 3172 | AY32: 1811 | AZ32: 1361 | BA32: 6114 | BB32: 3346 | BC32: 2768 | BD32: 8043 | BE32: 4502 | BF32: 3541 | BG32: 3.4276227 | BH32: 3.9265108 | BI32: 2.9629241
A33: 資料來源：直轄市、縣(市)政府。

Sheet 113
A1: 1.3-01 身心障礙者按年齡與等級
A2: 民國113年底
A3: 單位：人 | B3: 一、全體 | N3: 一、全體 | AF3: 二、原住民 | AR3: 二、原住民
A4: 區域及障礙類別 | B4: 總計 | C4: 0-2歲 | D4: 3-5歲 | E4: 6-11歲 | F4: 12-14歲 | G4: 15-17歲 | H4: 18-29歲 | I4: 30-44歲 | J4: 45-49歲 | K4: 50-59歲 | L4: 60-64歲 | M4: 65歲以上 | N4: 總計 | Q4: 極重度 | T4: 重度 | W4: 中度 | Z4: 輕度 | AC4: 占總人口比率（％） | AF4: 總計 | AG4: 0-2歲 | AH4: 3-5歲 | AI4: 6-11歲 | AJ4: 12-14歲 | AK4: 15-17歲 | AL4: 18-29歲 | AM4: 30-44歲 | AN4: 45-49 | AO4: 50-59歲 | AP4: 60-64歲 | AQ4: 65歲以上 | AR4: 總計 | AU4: 極重度 | AX4: 重度 | BA4: 中度 | BD4: 輕度 | BG4: 占總原住民人口比率（％）
N5: 計 | O5: 男 | P5: 女 | Q5: 計 | R5: 男 | S5: 女 | T5: 計 | U5: 男 | V5: 女 | W5: 計 | X5: 男 | Y5: 女 | Z5: 計 | AA5: 男 | AB5: 女 | AC5: 計 | AD5: 男 | AE5: 女 | AR5: 計 | AS5: 男 | AT5: 女 | AU5: 計 | AV5: 男 | AW5: 女 | AX5: 計 | AY5: 男 | AZ5: 女 | BA5: 計 | BB5: 男 | BC5: 女 | BD5: 計 | BE5: 男 | BF5: 女 | BG5: 計 | BH5: 男 | BI5: 女
A6: 113年,2024
A7: 1.按區域別 | B7: 1233509 | C7: 1521 | D7: 8968 | E7: 22729 | F7: 11049 | G7: 11956 | H7: 68739 | I7: 133294 | J7: 67572 | K7: 175217 | L7: 130552 | M7: 601912 | N7: 1233509 | O7: 677110 | P7: 556399 | Q7: 139615 | R7: 75543 | S7: 64072 | T7: 207434 | U7: 110858 | V7: 96576 | W7: 395805 | X7: 216850 | Y7: 178955 | Z7: 490655 | AA7: 273859 | AB7: 216796 | AC7: 5.27 | AD7: 5.87 | AE7: 4.69 | AF7: 20639 | AG7: 91 | AH7: 439 | AI7: 1077 | AJ7: 442 | AK7: 446 | AL7: 1858 | AM7: 3015 | AN7: 1342 | AO7: 3349 | AP7: 2050 | AQ7: 6530 | AR7: 20639 | AS7: 11397 | AT7: 9242 | AU7: 2956 | AV7: 1542 | AW7: 1414 | AX7: 3245 | AY7: 1863 | AZ7: 1382 | BA7: 6256 | BB7: 3415 | BC7: 2841 | BD7: 8182 | BE7: 4577 | BF7: 3605 | BG7: 3.374183 | BH7: 3.8575969 | BI7: 2.9225471
A8: 新北市 | B8: 183542 | C8: 272 | D8: 1894 | E8: 4433 | F8: 2013 | G8: 2098 | H8: 11148 | I8: 20794 | J8: 10310 | K8: 26094 | L8: 19877 | M8: 84609 | N8: 183542 | O8: 101461 | P8: 82081 | Q8: 22664 | R8: 12320 | S8: 10344 | T8: 29500 | U8: 15553 | V8: 13947 | W8: 56071 | X8: 30830 | Y8: 25241 | Z8: 75307 | AA8: 42758 | AB8: 32549 | AC8: 4.54 | AD8: 5.16 | AE8: 3.94 | AF8: 1412 | AG8: 8 | AH8: 63 | AI8: 127 | AJ8: 55 | AK8: 42 | AL8: 166 | AM8: 197 | AN8: 86 | AO8: 200 | AP8: 118 | AQ8: 350 | AR8: 1412 | AS8: 789 | AT8: 623 | AU8: 214 | AV8: 120 | AW8: 94 | AX8: 182 | AY8: 111 | AZ8: 71 | BA8: 346 | BB8: 187 | BC8: 159 | BD8: 670 | BE8: 371 | BF8: 299 | BG8: 2.2856403 | BH8: 2.7576806 | BI8: 1.8784297
A9: 臺北市 | B9: 120711 | C9: 143 | D9: 904 | E9: 2317 | F9: 1249 | G9: 1276 | H9: 6713 | I9: 11826 | J9: 5593 | K9: 15452 | L9: 11657 | M9: 63581 | N9: 120711 | O9: 63859 | P9: 56852 | Q9: 14188 | R9: 7631 | S9: 6557 | T9: 22171 | U9: 11323 | V9: 10848 | W9: 37676 | X9: 19505 | Y9: 18171 | Z9: 46676 | AA9: 25400 | AB9: 21276 | AC9: 4.85 | AD9: 5.44 | AE9: 4.32 | AF9: 464 | AG9: 4 | AH9: 10 | AI9: 20 | AJ9: 11 | AK9: 12 | AL9: 52 | AM9: 74 | AN9: 31 | AO9: 75 | AP9: 43 | AQ9: 132 | AR9: 464 | AS9: 219 | AT9: 245 | AU9: 54 | AV9: 28 | AW9: 26 | AX9: 65 | AY9: 36 | AZ9: 29 | BA9: 139 | BB9: 54 | BC9: 85 | BD9: 206 | BE9: 101 | BF9: 105 | BG9: 2.502292 | BH9: 2.7023692 | BI9: 2.3469681
A10: 桃園市 | B10: 93580 | C10: 109 | D10: 847 | E10: 2337 | F10: 1121 | G10: 1197 | H10: 6815 | I10: 11592 | J10: 5591 | K10: 13929 | L10: 9427 | M10: 40615 | N10: 93580 | O10: 52032 | P10: 41548 | Q10: 11225 | R10: 6073 | S10: 5152 | T10: 15285 | U10: 8187 | V10: 7098 | W10: 29299 | X10: 16258 | Y10: 13041 | Z10: 37771 | AA10: 21514 | AB10: 16257 | AC10: 4 | AD10: 4.52 | AE10: 3.5 | AF10: 1819 | AG10: 7 | AH10: 53 | AI10: 152 | AJ10: 52 | AK10: 60 | AL10: 205 | AM10: 224 | AN10: 119 | AO10: 297 | AP10: 178 | AQ10: 472 | AR10: 1819 | AS10: 1006 | AT10: 813 | AU10: 298 | AV10: 144 | AW10: 154 | AX10: 255 | AY10: 151 | AZ10: 104 | BA10: 500 | BB10: 269 | BC10: 231 | BD10: 766 | BE10: 442 | BF10: 324 | BG10: 2.1009471 | BH10: 2.4290129 | BI10: 1.8001063
A11: 臺中市 | B11: 136303 | C11: 243 | D11: 1267 | E11: 3067 | F11: 1445 | G11: 1464 | H11: 8256 | I11: 16249 | J11: 7696 | K11: 19348 | L11: 14254 | M11: 63014 | N11: 136303 | O11: 74857 | P11: 61446 | Q11: 15780 | R11: 8519 | S11: 7261 | T11: 23316 | U11: 12457 | V11: 10859 | W11: 43415 | X11: 23833 | Y11: 19582 | Z11: 53792 | AA11: 30048 | AB11: 23744 | AC11: 4.76 | AD11: 5.36 | AE11: 4.2 | AF11: 960 | AG11: 8 | AH11: 46 | AI11: 95 | AJ11: 35 | AK11: 24 | AL11: 99 | AM11: 149 | AN11: 52 | AO11: 132 | AP11: 81 | AQ11: 239 | AR11: 960 | AS11: 510 | AT11: 450 | AU11: 103 | AV11: 44 | AW11: 59 | AX11: 156 | AY11: 77 | AZ11: 79 | BA11: 289 | BB11: 146 | BC11: 143 | BD11: 412 | BE11: 243 | BF11: 169 | BG11: 2.3797129 | BH11: 2.7054268 | BI11: 2.0939972
A12: 臺南市 | B12: 101014 | C12: 98 | D12: 538 | E12: 1881 | F12: 857 | G12: 904 | H12: 4962 | I12: 10286 | J12: 5235 | K12: 13746 | L12: 11165 | M12: 51342 | N12: 101014 | O12: 55130 | P12: 45884 | Q12: 11450 | R12: 6157 | S12: 5293 | T12: 17033 | U12: 8913 | V12: 8120 | W12: 31548 | X12: 17334 | Y12: 14214 | Z12: 40983 | AA12: 22726 | AB12: 18257 | AC12: 5.43 | AD12: 5.98 | AE12: 4.9 | AF12: 248 | AG12: 1 | AH12: 10 | AI12: 26 | AJ12: 8 | AK12: 10 | AL12: 25 | AM12: 44 | AN12: 20 | AO12: 36 | AP12: 18 | AQ12: 50 | AR12: 248 | AS12: 112 | AT12: 136 | AU12: 25 | AV12: 9 | AW12: 16 | AX12: 33 | AY12: 14 | AZ12: 19 | BA12: 70 | BB12: 34 | BC12: 36 | BD12: 120 | BE12: 55 | BF12: 65 | BG12: 2.4347143 | BH12: 2.5448762 | BI12: 2.3509075
A13: 高雄市 | B13: 151026 | C13: 207 | D13: 1035 | E13: 2519 | F13: 1134 | G13: 1272 | H13: 7644 | I13: 15671 | J13: 9080 | K13: 23027 | L13: 16376 | M13: 73061 | N13: 151026 | O13: 81839 | P13: 69187 | Q13: 17092 | R13: 9098 | S13: 7994 | T13: 24484 | U13: 13206 | V13: 11278 | W13: 50292 | X13: 27224 | Y13: 23068 | Z13: 59158 | AA13: 32311 | AB13: 26847 | AC13: 5.53 | AD13: 6.12 | AE13: 4.96 | AF13: 1353 | AG13: 7 | AH13: 29 | AI13: 79 | AJ13: 31 | AK13: 24 | AL13: 167 | AM13: 236 | AN13: 99 | AO13: 217 | AP13: 123 | AQ13: 341 | AR13: 1353 | AS13: 694 | AT13: 659 | AU13: 219 | AV13: 117 | AW13: 102 | AX13: 196 | AY13: 94 | AZ13: 102 | BA13: 425 | BB13: 228 | BC13: 197 | BD13: 513 | BE13: 255 | BF13: 258 | BG13: 3.4244495 | BH13: 3.7341942 | BI13: 3.1493429
A14: 宜蘭縣 | B14: 31821 | C14: 19 | D14: 126 | E14: 369 | F14: 243 | G14: 258 | H14: 1610 | I14: 3182 | J14: 1639 | K14: 4556 | L14: 3311 | M14: 16508 | N14: 31821 | O14: 17062 | P14: 14759 | Q14: 3182 | R14: 1700 | S14: 1482 | T14: 4912 | U14: 2608 | V14: 2304 | W14: 10228 | X14: 5447 | Y14: 4781 | Z14: 13499 | AA14: 7307 | AB14: 6192 | AC14: 7.08 | AD14: 7.58 | AE14: 6.59 | AF14: 793 | AG14: 2 | AH14: 11 | AI14: 28 | AJ14: 13 | AK14: 14 | AL14: 76 | AM14: 139 | AN14: 65 | AO14: 153 | AP14: 78 | AQ14: 214 | AR14: 793 | AS14: 435 | AT14: 358 | AU14: 107 | AV14: 53 | AW14: 54 | AX14: 113 | AY14: 70 | AZ14: 43 | BA14: 268 | BB14: 146 | BC14: 122 | BD14: 305 | BE14: 166 | BF14: 139 | BG14: 4.1542249 | BH14: 4.6784255 | BI14: 3.6564192
A15: 新竹縣 | B15: 24276 | C15: 43 | D15: 271 | E15: 556 | F15: 266 | G15: 314 | H15: 1689 | I15: 2888 | J15: 1407 | K15: 3353 | L15: 2391 | M15: 11098 | N15: 24276 | O15: 14039 | P15: 10237 | Q15: 2977 | R15: 1682 | S15: 1295 | T15: 4360 | U15: 2429 | V15: 1931 | W15: 7653 | X15: 4373 | Y15: 3280 | Z15: 9286 | AA15: 5555 | AB15: 3731 | AC15: 4.08 | AD15: 4.64 | AE15: 3.51 | AF15: 749 | AG15: 6 | AH15: 28 | AI15: 32 | AJ15: 11 | AK15: 17 | AL15: 52 | AM15: 124 | AN15: 64 | AO15: 126 | AP15: 90 | AQ15: 199 | AR15: 749 | AS15: 438 | AT15: 311 | AU15: 119 | AV15: 69 | AW15: 50 | AX15: 146 | AY15: 92 | AZ15: 54 | BA15: 234 | BB15: 139 | BC15: 95 | BD15: 250 | BE15: 138 | BF15: 112 | BG15: 3.2480486 | BH15: 3.8716521 | BI15: 2.6474845
A16: 苗栗縣 | B16: 33981 | C16: 34 | D16: 157 | E16: 446 | F16: 251 | G16: 297 | H16: 1889 | I16: 3678 | J16: 1719 | K16: 4552 | L16: 3439 | M16: 17519 | N16: 33981 | O16: 19092 | P16: 14889 | Q16: 3535 | R16: 1942 | S16: 1593 | T16: 6238 | U16: 3377 | V16: 2861 | W16: 11940 | X16: 6630 | Y16: 5310 | Z16: 12268 | AA16: 7143 | AB16: 5125 | AC16: 6.38 | AD16: 6.97 | AE16: 5.75 | AF16: 477 | AG16: 1 | AH16: 8 | AI16: 18 | AJ16: 8 | AK16: 11 | AL16: 63 | AM16: 61 | AN16: 26 | AO16: 111 | AP16: 49 | AQ16: 121 | AR16: 477 | AS16: 247 | AT16: 230 | AU16: 69 | AV16: 27 | AW16: 42 | AX16: 78 | AY16: 39 | AZ16: 39 | BA16: 165 | BB16: 93 | BC16: 72 | BD16: 165 | BE16: 88 | BF16: 77 | BG16: 3.9278656 | BH16: 4.1744127 | BI16: 3.6935924
A17: 彰化縣 | B17: 71990 | C17: 73 | D17: 399 | E17: 966 | F17: 491 | G17: 599 | H17: 3979 | I17: 8472 | J17: 4196 | K17: 9947 | L17: 7434 | M17: 35434 | N17: 71990 | O17: 40552 | P17: 31438 | Q17: 7628 | R17: 4216 | S17: 3412 | T17: 12107 | U17: 6665 | V17: 5442 | W17: 24292 | X17: 13697 | Y17: 10595 | Z17: 27963 | AA17: 15974 | AB17: 11989 | AC17: 5.87 | AD17: 6.53 | AE17: 5.2 | AF17: 175 | AG17: 2 | AH17: 6 | AI17: 14 | AJ17: 6 | AK17: 7 | AL17: 26 | AM17: 34 | AN17: 14 | AO17: 24 | AP17: 17 | AQ17: 25 | AR17: 175 | AS17: 81 | AT17: 94 | AU17: 24 | AV17: 13 | AW17: 11 | AX17: 25 | AY17: 10 | AZ17: 15 | BA17: 55 | BB17: 24 | BC17: 31 | BD17: 71 | BE17: 34 | BF17: 37 | BG17: 2.5362319 | BH17: 2.6741499 | BI17: 2.4283131
A18: 南投縣 | B18: 33367 | C18: 26 | D18: 167 | E18: 355 | F18: 188 | G18: 242 | H18: 1517 | I18: 3281 | J18: 1693 | K18: 4412 | L18: 3496 | M18: 17990 | N18: 33367 | O18: 18609 | P18: 14758 | Q18: 3435 | R18: 1905 | S18: 1530 | T18: 5407 | U18: 3027 | V18: 2380 | W18: 11160 | X18: 6206 | Y18: 4954 | Z18: 13365 | AA18: 7471 | AB18: 5894 | AC18: 7.06 | AD18: 7.75 | AE18: 6.36 | AF18: 1109 | AG18: 4 | AH18: 20 | AI18: 33 | AJ18: 18 | AK18: 24 | AL18: 98 | AM18: 184 | AN18: 77 | AO18: 205 | AP18: 128 | AQ18: 318 | AR18: 1109 | AS18: 652 | AT18: 457 | AU18: 195 | AV18: 106 | AW18: 89 | AX18: 146 | AY18: 87 | AZ18: 59 | BA18: 362 | BB18: 221 | BC18: 141 | BD18: 406 | BE18: 238 | BF18: 168 | BG18: 3.7037037 | BH18: 4.3737841 | BI18: 3.0393722
... A29: 連江縣 | B29: 499 | C29: 0 | D29: 5 | E29: 11 | F29: 3 | G29: 5 | H29: 25 | I29: 46 | J29: 24 | K29: 79 | L29: 50 | M29: 251 | N29: 499 | O29: 310 | P29: 189 | Q29: 42 | R29: 27 | S29: 15 | T29: 78 | U29: 47 | V29: 31 | W29: 127 | X29: 75 | Y29: 52 | Z29: 252 | AA29: 161 | AB29: 91 | AC29: 3.58 | AD29: 3.85 | AE29: 3.21 | AF29: 5 | AG29: 0 | AH29: 0 | AI29: 0 | AJ29: 0 | AK29: 0 | AL29: 0 | AM29: 1 | AN29: 0 | AO29: 2 | AP29: 1 | AQ29: 1 | AR29: 5 | AS29: 2 | AT29: 3 | AU29: 0 | AV29: 0 | AW29: 0 | AX29: 1 | AY29: 0 | AZ29: 1 | BA29: 1 | BB29: 0 | BC29: 1 | BD29: 3 | BE29: 2 | BF29: 1 | BG29: 1.5873016 | BH29: 1.1299435 | BI29: 2.173913
A31: 2.按障礙類別 | B31: 1233509 | C31: 1521 | D31: 8968 | E31: 22729 | F31: 11049 | G31: 11956 | H31: 68739 | I31: 133294 | J31: 67572 | K31: 175217 | L31: 130552 | M31: 601912 | N31: 1233509 | O31: 677110 | P31: 556399 | Q31: 139615 | R31: 75543 | S31: 64072 | T31: 207434 | U31: 110858 | V31: 96576 | W31: 395805 | X31: 216850 | Y31: 178955 | Z31: 490655 | AA31: 273859 | AB31: 216796 | AF31: 20639 | AG31: 91 | AH31: 439 | AI31: 1077 | AJ31: 442 | AK31: 446 | AL31: 1858 | AM31: 3015 | AN31: 1342 | AO31: 3349 | AP31: 2050 | AQ31: 6530 | AR31: 20639 | AS31: 11397 | AT31: 9242 | AU31: 2956 | AV31: 1542 | AW31: 1414 | AX31: 3245 | AY31: 1863 | AZ31: 1382 | BA31: 6256 | BB31: 3415 | BC31: 2841 | BD31: 8182 | BE31: 4577 | BF31: 3605
A32: 神經系統構造及精神、 心智功能 | B32: 380657 | C32: 141 | D32: 3272 | E32: 16573 | F32: 8007 | G32: 8717 | H32: 44948 | I32: 69139 | J32: 28566 | K32: 56010 | L32: 27635 | M32: 117649 | N32: 380657 | O32: 191912 | P32: 188745 | Q32: 14454 | R32: 7219 | S32: 7235 | T32: 56969 | U32: 26561 | V32: 30408 | W32: 157206 | X32: 76631 | Y32: 80575 | Z32: 152028 | AA32: 81501 | AB32: 70527 | AC32: 0 | AD32: 0 | AE32: 0 | AF32: 6874 | AG32: 11 | AH32: 153 | AI32: 809 | AJ32: 344 | AK32: 339 | AL32: 1114 | AM32: 1394 | AN32: 444 | AO32: 708 | AP32: 281 | AQ32: 1277 | AR32: 6874 | AS32: 3531 | AT32: 3343 | AU32: 189 | AV32: 89 | AW32: 100 | AX32: 731 | AY32: 361 | AZ32: 370 | BA32: 2660 | BB32: 1255 | BC32: 1405 | BD32: 3294 | BE32: 1826 | BF32: 1468 | BG32: 0 | BH32: 0 | BI32: 0
A33: 眼、耳及 相關構造與 感官功能及疼痛 | B33: 196911 | C33: 481 | D33: 677 | E33: 1354 | F33: 657 | G33: 732 | H33: 5012 | I33: 12242 | J33: 5913 | K33: 16930 | L33: 15373 | M33: 137540 | N33: 196911 | O33: 107376 | P33: 89535 | Q33: 187 | R33: 100 | S33: 87 | T33: 44407 | U33: 23908 | V33: 20499 | W33: 52196 | X33: 28780 | Y33: 23416 | Z33: 100121 | AA33: 54588 | AB33: 45533 | AC33: 0 | AD33: 0 | AE33: 0 | AF33: 2692 | AG33: 19 | AH33: 20 | AI33: 37 | AJ33: 17 | AK33: 22 | AL33: 114 | AM33: 243 | AN33: 122 | AO33: 373 | AP33: 305 | AQ33: 1420 | AR33: 2692 | AS33: 1453 | AT33: 1239 | AU33: 1 | AV33: 1 | AW33: 0 | AX33: 611 | AY33: 369 | AZ33: 242 | BA33: 635 | BB33: 348 | BC33: 287 | BD33: 1445 | BE33: 735 | BF33: 710 | BG33: 0 | BH33: 0 | BI33: 0
A34: 涉及聲音與言語構造 及其功能 | B34: 12341 | C34: 0 | D34: 5 | E34: 20 | F34: 16 | G34: 26 | H34: 342 | I34: 1173 | J34: 975 | K34: 3178 | L34: 1981 | M34: 4625 | N34: 12341 | O34: 9472 | P34: 2869 | Q34: 30 | R34: 16 | S34: 14 | T34: 3455 | U34: 2914 | V34: 541 | W34: 2496 | X34: 1985 | Y34: 511 | Z34: 6360 | AA34: 4557 | AB34: 1803 | AC34: 0 | AD34: 0 | AE34: 0 | AF34: 188 | AG34: 0 | AH34: 0 | AI34: 2 | AJ34: 0 | AK34: 0 | AL34: 10 | AM34: 19 | AN34: 15 | AO34: 53 | AP34: 38 | AQ34: 51 | AR34: 188 | AS34: 131 | AT34: 57 | AU34: 0 | AV34: 0 | AW34: 0 | AX34: 52 | AY34: 37 | AZ34: 15 | BA34: 40 | BB34: 31 | BC34: 9 | BD34: 96 | BE34: 63 | BF34: 33 | BG34: 0 | BH34: 0 | BI34: 0
A35: 循環、造血、免疫與呼吸系統構造及其功能 | B35: 72710 | C35: 92 | D35: 171 | E35: 457 | F35: 273 | G35: 300 | H35: 1861 | I35: 4421 | J35: 2803 | K35: 9649 | L35: 8115 | M35: 44568 | N35: 72710 | O35: 40142 | P35: 32568 | Q35: 9228 | R35: 6009 | S35: 3219 | T35: 5500 | U35: 3543 | V35: 1957 | W35: 11516 | X35: 7668 | Y35: 3848 | Z35: 46466 | AA35: 22922 | AB35: 23544 | AC35: 0 | AD35: 0 | AE35: 0 | AF35: 1315 | AG35: 6 | AH35: 9 | AI35: 22 | AJ35: 9 | AK35: 12 | AL35: 49 | AM35: 109 | AN35: 73 | AO35: 253 | AP35: 178 | AQ35: 595 | AR35: 1315 | AS35: 689 | AT35: 626 | AU35: 242 | AV35: 160 | AW35: 82 | AX35: 135 | AY35: 81 | AZ35: 54 | BA35: 226 | BB35: 122 | BC35: 104 | BD35: 712 | BE35: 326 | BF35: 386 | BG35: 0 | BH35: 0 | BI35: 0
A36: 消化、新陳代謝與內分泌系統相關構造及其功能 | B36: 12116 | C36: 54 | D36: 146 | E36: 586 | F36: 177 | G36: 78 | H36: 381 | I36: 538 | J36: 589 | K36: 2188 | L36: 1682 | M36: 5697 | N36: 12116 | O36: 7987 | P36: 4129 | Q36: 2005 | R36: 1442 | S36: 563 | T36: 1265 | U36: 883 | V36: 382 | W36: 1190 | X36: 841 | Y36: 349 | Z36: 7656 | AA36: 4821 | AB36: 2835 | AC36: 0 | AD36: 0 | AE36: 0 | AF36: 245 | AG36: 4 | AH36: 7 | AI36: 21 | AJ36: 5 | AK36: 2 | AL36: 10 | AM36: 25 | AN36: 24 | AO36: 68 | AP36: 31 | AQ36: 48 | AR36: 245 | AS36: 140 | AT36: 105 | AU36: 27 | AV36: 14 | AW36: 13 | AX36: 51 | AY36: 34 | AZ36: 17 | BA36: 28 | BB36: 15 | BC36: 13 | BD36: 139 | BE36: 77 | BF36: 62 | BG36: 0 | BH36: 0 | BI36: 0
A37: 泌尿與生殖系統相關構造及其功能 | B37: 81157 | C37: 1 | D37: 10 | E37: 50 | F37: 38 | G37: 57 | H37: 1075 | I37: 5700 | J37: 4553 | K37: 13897 | L37: 10957 | M37: 44819 | N37: 81157 | O37: 43548 | P37: 37609 | Q37: 67518 | R37: 36276 | S37: 31242 | T37: 2927 | U37: 1419 | V37: 1508 | W37: 6445 | X37: 3382 | Y37: 3063 | Z37: 4267 | AA37: 2471 | AB37: 1796 | AC37: 0 | AD37: 0 | AE37: 0 | AF37: 1776 | AG37: 0 | AH37: 0 | AI37: 0 | AJ37: 2 | AK37: 0 | AL37: 54 | AM37: 201 | AN37: 130 | AO37: 437 | AP37: 307 | AQ37: 645 | AR37: 1776 | AS37: 872 | AT37: 904 | AU37: 1625 | AV37: 807 | AW37: 818 | AX37: 41 | AY37: 13 | AZ37: 28 | BA37: 72 | BB37: 34 | BC37: 38 | BD37: 38 | BE37: 18 | BF37: 20 | BG37: 0 | BH37: 0 | BI37: 0
A38: 神經、肌肉 、骨骼之移動相關構造及其功能 | B38: 332831 | C38: 181 | D38: 411 | E38: 1147 | F38: 686 | G38: 786 | H38: 6803 | I38: 25125 | J38: 17040 | K38: 55320 | L38: 52010 | M38: 173322 | N38: 332831 | O38: 196076 | P38: 136755 | Q38: 3050 | R38: 1862 | S38: 1188 | T38: 43351 | U38: 24475 | V38: 18876 | W38: 121895 | X38: 72809 | Y38: 49086 | Z38: 164535 | AA38: 96930 | AB38: 67605 | AC38: 0 | AD38: 0 | AE38: 0 | AF38: 4870 | AG38: 16 | AH38: 25 | AI38: 51 | AJ38: 26 | AK38: 30 | AL38: 260 | AM38: 685 | AN38: 405 | AO38: 1079 | AP38: 649 | AQ38: 1644 | AR38: 4870 | AS38: 3018 | AT38: 1852 | AU38: 80 | AV38: 47 | AW38: 33 | AX38: 753 | AY38: 455 | AZ38: 298 | BA38: 1849 | BB38: 1168 | BC38: 681 | BD38: 2188 | BE38: 1348 | BF38: 840 | BG38: 0 | BH38: 0 | BI38: 0
A39: 皮膚與相關構造及其功能 | B39: 4514 | C39: 8 | D39: 15 | E39: 37 | F39: 31 | G39: 23 | H39: 314 | I39: 940 | J39: 369 | K39: 920 | L39: 613 | M39: 1244 | N39: 4514 | O39: 2960 | P39: 1554 | Q39: 0 | R39: 0 | S39: 0 | T39: 355 | U39: 208 | V39: 147 | W39: 822 | X39: 503 | Y39: 319 | Z39: 3337 | AA39: 2249 | AB39: 1088 | AC39: 0 | AD39: 0 | AE39: 0 | AF39: 59 | AG39: 0 | AH39: 0 | AI39: 1 | AJ39: 0 | AK39: 1 | AL39: 11 | AM39: 23 | AN39: 6 | AO39: 9 | AP39: 4 | AQ39: 4 | AR39: 59 | AS39: 35 | AT39: 24 | AU39: 0 | AV39: 0 | AW39: 0 | AX39: 2 | AY39: 1 | AZ39: 1 | BA39: 14 | BB39: 8 | BC39: 6 | BD39: 43 | BE39: 26 | BF39: 17 | BG39: 0 | BH39: 0 | BI39: 0
A40: 兩類別以上者 | B40: 130057 | C40: 488 | D40: 3485 | E40: 2372 | F40: 1074 | G40: 1058 | H40: 6550 | I40: 11683 | J40: 5911 | K40: 15660 | L40: 11438 | M40: 70338 | N40: 130057 | O40: 72057 | P40: 58000 | Q40: 39812 | R40: 20917 | S40: 18895 | T40: 46565 | U40: 25429 | V40: 21136 | W40: 40376 | X40: 23382 | Y40: 16994 | Z40: 3304 | AA40: 2329 | AB40: 975 | AC40: 0 | AD40: 0 | AE40: 0 | AF40: 2455 | AG40: 31 | AH40: 183 | AI40: 128 | AJ40: 36 | AK40: 32 | AL40: 200 | AM40: 272 | AN40: 116 | AO40: 357 | AP40: 255 | AQ40: 845 | AR40: 2455 | AS40: 1432 | AT40: 1023 | AU40: 761 | AV40: 406 | AW40: 355 | AX40: 827 | AY40: 489 | AZ40: 338 | BA40: 704 | BB40: 424 | BC40: 280 | BD40: 163 | BE40: 113 | BF40: 50 | BG40: 0 | BH40: 0 | BI40: 0
A41: 舊制轉換新制 暫無法歸類者 | B41: 10215 | C41: 75 | D41: 776 | E41: 133 | F41: 90 | G41: 179 | H41: 1453 | I41: 2333 | J41: 853 | K41: 1465 | L41: 748 | M41: 2110 | N41: 10215 | O41: 5580 | P41: 4635 | Q41: 3331 | R41: 1702 | S41: 1629 | T41: 2640 | U41: 1518 | V41: 1122 | W41: 1663 | X41: 869 | Y41: 794 | Z41: 2581 | AA41: 1491 | AB41: 1090 | AC41: 0 | AD41: 0 | AE41: 0 | AF41: 165 | AG41: 4 | AH41: 42 | AI41: 6 | AJ41: 3 | AK41: 8 | AL41: 36 | AM41: 44 | AN41: 7 | AO41: 12 | AP41: 2 | AQ41: 1 | AR41: 165 | AS41: 96 | AT41: 69 | AU41: 31 | AV41: 18 | AW41: 13 | AX41: 42 | AY41: 23 | AZ41: 19 | BA41: 28 | BB41: 10 | BC41: 18 | BD41: 64 | BE41: 45 | BF41: 19 | BG41: 0 | BH41: 0 | BI41: 0
A42: 說明:110年起身心障礙者按障礙類別以新制類別呈現。
A43: 資料來源：直轄市、縣(市)政府。

Sheet 112
A1: 1.3-01 身心障礙者按年齡與等級
A2: 民國112年底
A3: 單位：人 | B3: 一、全體 | N3: 一、全體 | AF3: 二、原住民 | AR3: 二、原住民
A4: 區域及障礙類別 | B4: 總計 | C4: 0-2歲 | D4: 3-5歲 | E4: 6-11歲 | F4: 12-14歲 | G4: 15-17歲 | H4: 18-29歲 | I4: 30-44歲 | J4: 45-49歲 | K4: 50-59歲 | L4: 60-64歲 | M4: 65歲以上 | N4: 總計 | Q4: 極重度 | T4: 重度 | W4: 中度 | Z4: 輕度 | AC4: 占總人口比率（％） | AF4: 總計 | AG4: 0-2歲 | AH4: 3-5歲 | AI4: 6-11歲 | AJ4: 12-14歲 | AK4: 15-17歲 | AL4: 18-29歲 | AM4: 30-44歲 | AN4: 45-49 | AO4: 50-59歲 | AP4: 60-64歲 | AQ4: 65歲以上 | AR4: 總計 | AU4: 極重度 | AX4: 重度 | BA4: 中度 | BD4: 輕度 | BG4: 占總原住民人口比率（％）
N5: 計 | O5: 男 | P5: 女 | Q5: 計 | R5: 男 | S5: 女 | T5: 計 | U5: 男 | V5: 女 | W5: 計 | X5: 男 | Y5: 女 | Z5: 計 | AA5: 男 | AB5: 女 | AC5: 計 | AD5: 男 | AE5: 女 | AR5: 計 | AS5: 男 | AT5: 女 | AU5: 計 | AV5: 男 | AW5: 女 | AX5: 計 | AY5: 男 | AZ5: 女 | BA5: 計 | BB5: 男 | BC5: 女 | BD5: 計 | BE5: 男 | BF5: 女 | BG5: 計 | BH5: 男 | BI5: 女
A6: 112年,2023
A7: 1.按區域別 | B7: 1214668 | C7: 1531 | D7: 8379 | E7: 22173 | F7: 9947 | G7: 12022 | H7: 69907 | I7: 135583 | J7: 66121 | K7: 180986 | L7: 131799 | M7: 576220 | N7: 1214668 | O7: 669360 | P7: 545308 | Q7: 139884 | R7: 75420 | S7: 64464 | T7: 203603 | U7: 109455 | V7: 94148 | W7: 389062 | X7: 214404 | Y7: 174658 | Z7: 482119 | AA7: 270081 | AB7: 212038 | AC7: 5.19 | AD7: 5.79 | AE7: 4.6 | AF7: 20190 | AG7: 65 | AH7: 382 | AI7: 1012 | AJ7: 411 | AK7: 400 | AL7: 1872 | AM7: 3100 | AN7: 1342 | AO7: 3363 | AP7: 1953 | AQ7: 6290 | AR7: 20190 | AS7: 11154 | AT7: 9036 | AU7: 2861 | AV7: 1495 | AW7: 1366 | AX7: 3172 | AY7: 1811 | AZ7: 1361 | BA7: 6114 | BB7: 3346 | BC7: 2768 | BD7: 8043 | BE7: 4502 | BF7: 3541 | BG7: 3.4276227 | BH7: 3.9265108 | BI7: 2.9629241 | BK7: 3.3533504 | BL7: 3.8328827 | BM7: 2.9051382
A8: 新北市 | B8: 179483 | C8: 285 | D8: 1752 | E8: 4247 | F8: 1758 | G8: 2092 | H8: 11210 | I8: 21070 | J8: 9948 | K8: 27011 | L8: 20033 | M8: 80077 | N8: 179483 | O8: 99628 | P8: 79855 | Q8: 22541 | R8: 12220 | S8: 10321 | T8: 28888 | U8: 15310 | V8: 13578 | W8: 54997 | X8: 30497 | Y8: 24500 | Z8: 73057 | AA8: 41601 | AB8: 31456 | AC8: 4.44 | AD8: 5.07 | AE8: 3.85 | AF8: 1374 | AG8: 9 | AH8: 61 | AI8: 116 | AJ8: 40 | AK8: 28 | AL8: 168 | AM8: 211 | AN8: 82 | AO8: 213 | AP8: 110 | AQ8: 336 | AR8: 1374 | AS8: 760 | AT8: 614 | AU8: 220 | AV8: 117 | AW8: 103 | AX8: 174 | AY8: 98 | AZ8: 76 | BA8: 333 | BB8: 183 | BC8: 150 | BD8: 647 | BE8: 362 | BF8: 285 | BG8: 2.3538683 | BH8: 2.8223411 | BI8: 1.9526778 | BK8: 2.2639452 | BL8: 2.7298204 | BM8: 1.8615909
A9: 臺北市 | B9: 119049 | C9: 152 | D9: 866 | E9: 2269 | F9: 1128 | G9: 1219 | H9: 6801 | I9: 12052 | J9: 5606 | K9: 16094 | L9: 11908 | M9: 60954 | N9: 119049 | O9: 63303 | P9: 55746 | Q9: 14401 | R9: 7722 | S9: 6679 | T9: 22023 | U9: 11368 | V9: 10655 | W9: 37094 | X9: 19364 | Y9: 17730 | Z9: 45531 | AA9: 24849 | AB9: 20682 | AC9: 4.74 | AD9: 5.33 | AE9: 4.21 | AF9: 452 | AG9: 3 | AH9: 12 | AI9: 18 | AJ9: 8 | AK9: 10 | AL9: 54 | AM9: 69 | AN9: 35 | AO9: 78 | AP9: 40 | AQ9: 125 | AR9: 452 | AS9: 217 | AT9: 235 | AU9: 52 | AV9: 26 | AW9: 26 | AX9: 70 | AY9: 41 | AZ9: 29 | BA9: 132 | BB9: 52 | BC9: 80 | BD9: 198 | BE9: 98 | BF9: 100 | BG9: 2.6355685 | BH9: 2.9576121 | BI9: 2.3947824 | BK9: 2.484339 | BL9: 2.6749725 | BM9: 2.3355577
A10: 桃園市 | B10: 91783 | C10: 133 | D10: 822 | E10: 2263 | F10: 1006 | G10: 1205 | H10: 6878 | I10: 11677 | J10: 5481 | K10: 14187 | L10: 9398 | M10: 38733 | N10: 91783 | O10: 51156 | P10: 40627 | Q10: 11199 | R10: 6032 | S10: 5167 | T10: 14922 | U10: 8016 | V10: 6906 | W10: 28752 | X10: 16002 | Y10: 12750 | Z10: 36910 | AA10: 21106 | AB10: 15804 | AC10: 3.96 | AD10: 4.48 | AE10: 3.46 | AF10: 1730 | AG10: 10 | AH10: 54 | AI10: 153 | AJ10: 44 | AK10: 58 | AL10: 186 | AM10: 235 | AN10: 110 | AO10: 281 | AP10: 155 | AQ10: 444 | AR10: 1730 | AS10: 957 | AT10: 773 | AU10: 264 | AV10: 129 | AW10: 135 | AX10: 250 | AY10: 146 | AZ10: 104 | BA10: 476 | BB10: 262 | BC10: 214 | BD10: 740 | BE10: 420 | BF10: 320 | BG10: 2.1037015 | BH10: 2.4418872 | BI10: 1.7957951 | BK10: 2.0826416 | BL10: 2.4067561 | BM10: 1.7851653
A11: 臺中市 | B11: 133184 | C11: 260 | D11: 1208 | E11: 3022 | F11: 1276 | G11: 1492 | H11: 8380 | I11: 16285 | J11: 7444 | K11: 19773 | L11: 14229 | M11: 59815 | N11: 133184 | O11: 73431 | P11: 59753 | Q11: 15684 | R11: 8399 | S11: 7285 | T11: 22677 | U11: 12180 | V11: 10497 | W11: 42145 | X11: 23318 | Y11: 18827 | Z11: 52678 | AA11: 29534 | AB11: 23144 | AC11: 4.68 | AD11: 5.28 | AE11: 4.11 | AF11: 927 | AG11: 5 | AH11: 38 | AI11: 82 | AJ11: 29 | AK11: 29 | AL11: 106 | AM11: 169 | AN11: 49 | AO11: 133 | AP11: 75 | AQ11: 212 | AR11: 927 | AS11: 485 | AT11: 442 | AU11: 115 | AV11: 53 | AW11: 62 | AX11: 133 | AY11: 70 | AZ11: 63 | BA11: 277 | BB11: 138 | BC11: 139 | BD11: 402 | BE11: 224 | BF11: 178 | BG11: 2.4610402 | BH11: 2.7912063 | BI11: 2.1783057 | BK11: 2.3540951 | BL11: 2.6733763 | BM11: 2.0734461
A12: 臺南市 | B12: 99490 | C12: 96 | D12: 535 | E12: 1792 | F12: 775 | G12: 922 | H12: 5077 | I12: 10435 | J12: 5050 | K12: 14268 | L12: 11350 | M12: 49190 | N12: 99490 | O12: 54564 | P12: 44926 | Q12: 11500 | R12: 6214 | S12: 5286 | T12: 16716 | U12: 8812 | V12: 7904 | W12: 30913 | X12: 17043 | Y12: 13870 | Z12: 40361 | AA12: 22495 | AB12: 17866 | AC12: 5.35 | AD12: 5.91 | AE12: 4.8 | AF12: 226 | AG12: 1 | AH12: 8 | AI12: 22 | AJ12: 9 | AK12: 8 | AL12: 25 | AM12: 46 | AN12: 14 | AO12: 31 | AP12: 14 | AQ12: 48 | AR12: 226 | AS12: 103 | AT12: 123 | AU12: 27 | AV12: 9 | AW12: 18 | AX12: 27 | AY12: 14 | AZ12: 13 | BA12: 70 | BB12: 32 | BC12: 38 | BD12: 102 | BE12: 48 | BF12: 54 | BG12: 2.4610694 | BH12: 2.6437372 | BI12: 2.3264611 | BK12: 2.3834695 | BL12: 2.4911032 | BM12: 2.3015739
A13: 高雄市 | B13: 147890 | C13: 204 | D13: 938 | E13: 2407 | F13: 1016 | G13: 1288 | H13: 7758 | I13: 16159 | J13: 8935 | K13: 23538 | L13: 16541 | M13: 69106 | N13: 147890 | O13: 80442 | P13: 67448 | Q13: 17109 | R13: 9084 | S13: 8025 | T13: 23730 | U13: 12871 | V13: 10859 | W13: 49299 | X13: 26854 | Y13: 22445 | Z13: 57752 | AA13: 31633 | AB13: 26119 | AC13: 5.4 | AD13: 5.99 | AE13: 4.84 | AF13: 1299 | AG13: 6 | AH13: 23 | AI13: 67 | AJ13: 31 | AK13: 26 | AL13: 169 | AM13: 225 | AN13: 95 | AO13: 220 | AP13: 120 | AQ13: 317 | AR13: 1299 | AS13: 669 | AT13: 630 | AU13: 220 | AV13: 118 | AW13: 102 | AX13: 196 | AY13: 91 | AZ13: 105 | BA13: 408 | BB13: 219 | BC13: 189 | BD13: 475 | BE13: 241 | BF13: 234 | BG13: 3.4900591 | BH13: 3.8313957 | BI13: 3.1884205 | BK13: 3.3832612 | BL13: 3.6828699 | BM13: 3.1162813
A14: 宜蘭縣 | B14: 31779 | C14: 19 | D14: 136 | E14: 367 | F14: 202 | G14: 256 | H14: 1693 | I14: 3284 | J14: 1633 | K14: 4749 | L14: 3306 | M14: 16134 | N14: 31779 | O14: 17121 | P14: 14658 | Q14: 3216 | R14: 1706 | S14: 1510 | T14: 4851 | U14: 2559 | V14: 2292 | W14: 10116 | X14: 5472 | Y14: 4644 | Z14: 13596 | AA14: 7384 | AB14: 6212 | AC14: 7.06 | AD14: 7.58 | AE14: 6.54 | AF14: 746 | AG14: 2 | AH14: 12 | AI14: 21 | AJ14: 12 | AK14: 12 | AL14: 79 | AM14: 137 | AN14: 60 | AO14: 151 | AP14: 66 | AQ14: 194 | AR14: 746 | AS14: 406 | AT14: 340 | AU14: 99 | AV14: 50 | AW14: 49 | AX14: 109 | AY14: 67 | AZ14: 42 | BA14: 240 | BB14: 134 | BC14: 106 | BD14: 298 | BE14: 155 | BF14: 143 | BG14: 4.0865516 | BH14: 4.5587245 | BI14: 3.6367526 | BK14: 4.125052 | BL14: 4.6464431 | BM14: 3.6300953
A15: 新竹縣 | B15: 23802 | C15: 46 | D15: 223 | E15: 523 | F15: 228 | G15: 333 | H15: 1702 | I15: 2854 | J15: 1395 | K15: 3459 | L15: 2378 | M15: 10661 | N15: 23802 | O15: 13802 | P15: 10000 | Q15: 3005 | R15: 1699 | S15: 1306 | T15: 4303 | U15: 2404 | V15: 1899 | W15: 7527 | X15: 4306 | Y15: 3221 | Z15: 8967 | AA15: 5393 | AB15: 3574 | AC15: 4.04 | AD15: 4.6 | AE15: 3.46 | AF15: 754 | AG15: 3 | AH15: 15 | AI15: 35 | AJ15: 14 | AK15: 12 | AL15: 50 | AM15: 124 | AN15: 72 | AO15: 145 | AP15: 75 | AQ15: 209 | AR15: 754 | AS15: 440 | AT15: 314 | AU15: 125 | AV15: 71 | AW15: 54 | AX15: 138 | AY15: 86 | AZ15: 52 | BA15: 244 | BB15: 141 | BC15: 103 | BD15: 247 | BE15: 142 | BF15: 105 | BG15: 3.3707363 | BH15: 4.0120361 | BI15: 2.7539028 | BK15: 3.230537 | BL15: 3.8539375 | BM15: 2.6311337
A16: 苗栗縣 | B16: 33761 | C16: 36 | D16: 151 | E16: 457 | F16: 249 | G16: 291 | H16: 1950 | I16: 3736 | J16: 1716 | K16: 4729 | L16: 3499 | M16: 16947 | N16: 33761 | O16: 19058 | P16: 14703 | Q16: 3583 | R16: 1971 | S16: 1612 | T16: 6149 | U16: 3383 | V16: 2766 | W16: 11838 | X16: 6589 | Y16: 5249 | Z16: 12191 | AA16: 7115 | AB16: 5076 | AC16: 6.32 | AD16: 6.93 | AE16: 5.66 | AF16: 469 | AG16: 0 | AH16: 6 | AI16: 18 | AJ16: 9 | AK16: 12 | AL16: 57 | AM16: 63 | AN16: 37 | AO16: 100 | AP16: 49 | AQ16: 118 | AR16: 469 | AS16: 239 | AT16: 230 | AU16: 67 | AV16: 29 | AW16: 38 | AX16: 73 | AY16: 38 | AZ16: 35 | BA16: 148 | BB16: 81 | BC16: 67 | BD16: 181 | BE16: 91 | BF16: 90 | BG16: 4.0602545 | BH16: 4.2345854 | BI16: 3.8936855 | BK16: 3.9005642 | BL16: 4.1498656 | BM16: 3.6641708
A17: 彰化縣 | B17: 71025 | C17: 70 | D17: 361 | E17: 977 | F17: 462 | G17: 594 | H17: 4096 | I17: 8690 | J17: 4071 | K17: 10180 | L17: 7448 | M17: 34076 | N17: 71025 | O17: 40084 | P17: 30941 | Q17: 7614 | R17: 4180 | S17: 3434 | T17: 11847 | U17: 6549 | V17: 5298 | W17: 23826 | X17: 13470 | Y17: 10356 | Z17: 27738 | AA17: 15885 | AB17: 11853 | AC17: 5.73 | AD17: 6.38 | AE17: 5.06 | AF17: 165 | AG17: 0 | AH17: 7 | AI17: 13 | AJ17: 4 | AK17: 9 | AL17: 23 | AM17: 38 | AN17: 13 | AO17: 22 | AP17: 16 | AQ17: 20 | AR17: 165 | AS17: 78 | AT17: 87 | AU17: 22 | AV17: 11 | AW17: 11 | AX17: 24 | AY17: 9 | AZ17: 15 | BA17: 52 | BB17: 26 | BC17: 26 | BD17: 67 | BE17: 32 | BF17: 35 | BG17: 2.6099336 | BH17: 2.8404953 | BI17: 2.4328859 | BK17: 2.49501 | BL17: 2.6239067 | BM17: 2.3936847
A18: 南投縣 | B18: 33240 | C18: 26 | D18: 137 | E18: 350 | F18: 191 | G18: 241 | H18: 1572 | I18: 3374 | J18: 1673 | K18: 4581 | L18: 3556 | M18: 17539 | N18: 33240 | O18: 18588 | P18: 14652 | Q18: 3495 | R18: 1913 | S18: 1582 | T18: 5335 | U18: 3005 | V18: 2330 | W18: 11108 | X18: 6235 | Y18: 4873 | Z18: 13302 | AA18: 7435 | AB18: 5867 | AC18: 6.97 | AD18: 7.65 | AE18: 6.26 | AF18: 1087 | AG18: 3 | AH18: 15 | AI18: 30 | AJ18: 20 | AK18: 17 | AL18: 103 | AM18: 188 | AN18: 83 | AO18: 202 | AP18: 118 | AQ18: 308 | AR18: 1087 | AS18: 641 | AT18: 446 | AU18: 187 | AV18: 100 | AW18: 87 | AX18: 159 | AY18: 98 | AZ18: 61 | BA18: 351 | BB18: 209 | BC18: 142 | BD18: 390 | BE18: 234 | BF18: 156 | BG18: 3.6852455 | BH18: 4.3566914 | BI18: 3.016979 | BK18: 3.6997498 | BL18: 4.363539 | BM18: 3.0399787
... A28: 金門縣 | B28: 6102 | C28: 4 | D28: 28 | E28: 60 | F28: 37 | G28: 46 | H28: 269 | I28: 653 | J28: 264 | K28: 925 | L28: 670 | M28: 3146 | N28: 6102 | O28: 3327 | P28: 2775 | Q28: 597 | R28: 347 | S28: 250 | T28: 928 | U28: 508 | V28: 420 | W28: 1656 | X28: 886 | Y28: 770 | Z28: 2921 | AA28: 1586 | AB28: 1335 | AC28: 4.23 | AD28: 4.65 | AE28: 3.82 | AF28: 17 | AG28: 0 | AH28: 1 | AI28: 0 | AJ28: 2 | AK28: 0 | AL28: 0 | AM28: 2 | AN28: 0 | AO28: 5 | AP28: 2 | AQ28: 5 | AR28: 17 | AS28: 13 | AT28: 4 | AU28: 1 | AV28: 1 | AW28: 0 | AX28: 3 | AY28: 3 | AZ28: 0 | BA28: 1 | BB28: 0 | BC28: 1 | BD28: 12 | BE28: 9 | BF28: 3 | BG28: 1.3137558 | BH28: 2.0472441 | BI28: 0.60698027 | BK28: 1.025641 | BL28: 1.6034985 | BM28: 0.44182622
A29: 連江縣 | B29: 492 | C29: 0 | D29: 5 | E29: 14 | F29: 2 | G29: 3 | H29: 27 | I29: 50 | J29: 22 | K29: 79 | L29: 55 | M29: 235 | N29: 492 | O29: 306 | P29: 186 | Q29: 37 | R29: 23 | S29: 14 | T29: 82 | U29: 50 | V29: 32 | W29: 130 | X29: 77 | Y29: 53 | Z29: 243 | AA29: 156 | AB29: 87 | AC29: 3.5 | AD29: 3.79 | AE29: 3.12 | AF29: 4 | AG29: 0 | AH29: 0 | AI29: 0 | AJ29: 0 | AK29: 0 | AL29: 0 | AM29: 1 | AN29: 0 | AO29: 2 | AP29: 0 | AQ29: 1 | AR29: 4 | AS29: 2 | AT29: 2 | AU29: 0 | AV29: 0 | AW29: 0 | AX29: 1 | AY29: 0 | AZ29: 1 | BA29: 0 | BB29: 0 | BC29: 0 | BD29: 3 | BE29: 2 | BF29: 1 | BG29: 1.2944984 | BH29: 1.1560694 | BI29: 1.4705882
A31: 2.按障礙類別 | B31: 1214668 | C31: 1531 | D31: 8379 | E31: 22173 | F31: 9947 | G31: 12022 | H31: 69907 | I31: 135583 | J31: 66121 | K31: 180986 | L31: 131799 | M31: 576220 | N31: 1214668 | O31: 669360 | P31: 545308 | Q31: 139884 | R31: 75420 | S31: 64464 | T31: 203603 | U31: 109455 | V31: 94148 | W31: 389062 | X31: 214404 | Y31: 174658 | Z31: 482119 | AA31: 270081 | AB31: 212038 | AF31: 20190 | AG31: 65 | AH31: 382 | AI31: 1012 | AJ31: 411 | AK31: 400 | AL31: 1872 | AM31: 3100 | AN31: 1342 | AO31: 3363 | AP31: 1953 | AQ31: 6290 | AR31: 20190 | AS31: 11154 | AT31: 9036 | AU31: 2861 | AV31: 1495 | AW31: 1366 | AX31: 3172 | AY31: 1811 | AZ31: 1361 | BA31: 6114 | BB31: 3346 | BC31: 2768 | BD31: 8043 | BE31: 4502 | BF31: 3541
A32: 神經系統構造及精神、 心智功能 | B32: 370037 | C32: 160 | D32: 3257 | E32: 15891 | F32: 7136 | G32: 8680 | H32: 44952 | I32: 69451 | J32: 27648 | K32: 56191 | L32: 26870 | M32: 109801 | N32: 370037 | O32: 187655 | P32: 182382 | Q32: 14878 | R32: 7437 | S32: 7441 | T32: 55921 | U32: 26534 | V32: 29387 | W32: 153408 | X32: 75410 | Y32: 77998 | Z32: 145830 | AA32: 78274 | AB32: 67556 | AC32: 0 | AD32: 0 | AE32: 0 | AF32: 6620 | AG32: 5 | AH32: 143 | AI32: 758 | AJ32: 319 | AK32: 291 | AL32: 1113 | AM32: 1441 | AN32: 446 | AO32: 674 | AP32: 249 | AQ32: 1181 | AR32: 6620 | AS32: 3386 | AT32: 3234 | AU32: 185 | AV32: 89 | AW32: 96 | AX32: 688 | AY32: 340 | AZ32: 348 | BA32: 2568 | BB32: 1225 | BC32: 1343 | BD32: 3179 | BE32: 1732 | BF32: 1447 | BG32: 0 | BH32: 0 | BI32: 0
A33: 眼、耳及 相關構造與 感官功能及疼痛 | B33: 192565 | C33: 475 | D33: 636 | E33: 1347 | F33: 621 | G33: 770 | H33: 5247 | I33: 12421 | J33: 5740 | K33: 17271 | L33: 15775 | M33: 132262 | N33: 192565 | O33: 105327 | P33: 87238 | Q33: 187 | R33: 100 | S33: 87 | T33: 43668 | U33: 23588 | V33: 20080 | W33: 51419 | X33: 28398 | Y33: 23021 | Z33: 97291 | AA33: 53241 | AB33: 44050 | AC33: 0 | AD33: 0 | AE33: 0 | AF33: 2586 | AG33: 14 | AH33: 20 | AI33: 33 | AJ33: 19 | AK33: 24 | AL33: 122 | AM33: 238 | AN33: 118 | AO33: 374 | AP33: 289 | AQ33: 1335 | AR33: 2586 | AS33: 1383 | AT33: 1203 | AU33: 1 | AV33: 1 | AW33: 0 | AX33: 606 | AY33: 365 | AZ33: 241 | BA33: 595 | BB33: 310 | BC33: 285 | BD33: 1384 | BE33: 707 | BF33: 677 | BG33: 0 | BH33: 0 | BI33: 0
A34: 涉及聲音與言語構造 及其功能 | B34: 12387 | C34: 1 | D34: 3 | E34: 27 | F34: 18 | G34: 40 | H34: 374 | I34: 1267 | J34: 1032 | K34: 3208 | L34: 1986 | M34: 4431 | N34: 12387 | O34: 9502 | P34: 2885 | Q34: 33 | R34: 19 | S34: 14 | T34: 3461 | U34: 2906 | V34: 555 | W34: 2467 | X34: 1946 | Y34: 521 | Z34: 6426 | AA34: 4631 | AB34: 1795 | AC34: 0 | AD34: 0 | AE34: 0 | AF34: 180 | AG34: 0 | AH34: 0 | AI34: 1 | AJ34: 0 | AK34: 0 | AL34: 10 | AM34: 21 | AN34: 13 | AO34: 51 | AP34: 35 | AQ34: 49 | AR34: 180 | AS34: 126 | AT34: 54 | AU34: 0 | AV34: 0 | AW34: 0 | AX34: 50 | AY34: 37 | AZ34: 13 | BA34: 34 | BB34: 26 | BC34: 8 | BD34: 96 | BE34: 63 | BF34: 33 | BG34: 0 | BH34: 0 | BI34: 0
A35: 循環、造血、免疫與呼吸系統構造及其功能 | B35: 68852 | C35: 91 | D35: 174 | E35: 479 | F35: 269 | G35: 296 | H35: 1947 | I35: 4317 | J35: 2641 | K35: 9390 | L35: 7791 | M35: 41457 | N35: 68852 | O35: 38255 | P35: 30597 | Q35: 8649 | R35: 5605 | S35: 3044 | T35: 5403 | U35: 3458 | V35: 1945 | W35: 10732 | X35: 7203 | Y35: 3529 | Z35: 44068 | AA35: 21989 | AB35: 22079 | AC35: 0 | AD35: 0 | AE35: 0 | AF35: 1211 | AG35: 6 | AH35: 8 | AI35: 19 | AJ35: 8 | AK35: 9 | AL35: 47 | AM35: 112 | AN35: 54 | AO35: 249 | AP35: 150 | AQ35: 549 | AR35: 1211 | AS35: 652 | AT35: 559 | AU35: 227 | AV35: 144 | AW35: 83 | AX35: 128 | AY35: 77 | AZ35: 51 | BA35: 213 | BB35: 119 | BC35: 94 | BD35: 643 | BE35: 312 | BF35: 331 | BG35: 0 | BH35: 0 | BI35: 0
A36: 消化、新陳代謝與內分泌系統相關構造及其功能 | B36: 12124 | C36: 50 | D36: 144 | E36: 540 | F36: 95 | G36: 85 | H36: 379 | I36: 571 | J36: 614 | K36: 2276 | L36: 1751 | M36: 5619 | N36: 12124 | O36: 8003 | P36: 4121 | Q36: 2059 | R36: 1483 | S36: 576 | T36: 1259 | U36: 877 | V36: 382 | W36: 1167 | X36: 827 | Y36: 340 | Z36: 7639 | AA36: 4816 | AB36: 2823 | AC36: 0 | AD36: 0 | AE36: 0 | AF36: 247 | AG36: 4 | AH36: 4 | AI36: 18 | AJ36: 2 | AK36: 2 | AL36: 12 | AM36: 27 | AN36: 18 | AO36: 69 | AP36: 42 | AQ36: 49 | AR36: 247 | AS36: 140 | AT36: 107 | AU36: 28 | AV36: 12 | AW36: 16 | AX36: 54 | AY36: 35 | AZ36: 19 | BA36: 27 | BB36: 19 | BC36: 8 | BD36: 138 | BE36: 74 | BF36: 64 | BG36: 0 | BH36: 0 | BI36: 0
A37: 泌尿與生殖系統相關構造及其功能 | B37: 80850 | C37: 3 | D37: 14 | E37: 55 | F37: 35 | G37: 61 | H37: 1136 | I37: 5859 | J37: 4439 | K37: 14239 | L37: 11226 | M37: 43783 | N37: 80850 | O37: 43101 | P37: 37749 | Q37: 67327 | R37: 35938 | S37: 31389 | T37: 2993 | U37: 1433 | V37: 1560 | W37: 6383 | X37: 3343 | Y37: 3040 | Z37: 4147 | AA37: 2387 | AB37: 1760 | AC37: 0 | AD37: 0 | AE37: 0 | AF37: 1681 | AG37: 0 | AH37: 0 | AI37: 1 | AJ37: 0 | AK37: 1 | AL37: 57 | AM37: 194 | AN37: 119 | AO37: 426 | AP37: 301 | AQ37: 582 | AR37: 1681 | AS37: 830 | AT37: 851 | AU37: 1535 | AV37: 762 | AW37: 773 | AX37: 35 | AY37: 15 | AZ37: 20 | BA37: 76 | BB37: 34 | BC37: 42 | BD37: 35 | BE37: 19 | BF37: 16 | BG37: 0 | BH37: 0 | BI37: 0
A38: 神經、肌肉 、骨骼之移動相關構造及其功能 | B38: 335642 | C38: 161 | D38: 442 | E38: 1234 | F38: 652 | G38: 766 | H38: 7094 | I38: 26636 | J38: 16966 | K38: 59960 | L38: 53381 | M38: 168350 | N38: 335642 | O38: 198087 | P38: 137555 | Q38: 3117 | R38: 1894 | S38: 1223 | T38: 42686 | U38: 24090 | V38: 18596 | W38: 121736 | X38: 72989 | Y38: 48747 | Z38: 168103 | AA38: 99114 | AB38: 68989 | AC38: 0 | AD38: 0 | AE38: 0 | AF38: 5107 | AG38: 7 | AH38: 30 | AI38: 52 | AJ38: 23 | AK38: 30 | AL38: 258 | AM38: 740 | AN38: 443 | AO38: 1147 | AP38: 654 | AQ38: 1723 | AR38: 5110 | AS38: 3173 | AT38: 1937 | AU38: 87 | AV38: 52 | AW38: 35 | AX38: 771 | AY38: 463 | AZ38: 308 | BA38: 1887 | BB38: 1205 | BC38: 682 | BD38: 2365 | BE38: 1453 | BF38: 912 | BG38: 0 | BH38: 0 | BI38: 0
A39: 皮膚與相關構造及其功能 | B39: 4541 | C39: 6 | D39: 18 | E39: 45 | F39: 28 | G39: 23 | H39: 387 | I39: 903 | J39: 370 | K39: 955 | L39: 618 | M39: 1188 | N39: 4541 | O39: 2993 | P39: 1548 | Q39: 0 | R39: 0 | S39: 0 | T39: 352 | U39: 204 | V39: 148 | W39: 821 | X39: 502 | Y39: 319 | Z39: 3368 | AA39: 2287 | AB39: 1081 | AC39: 0 | AD39: 0 | AE39: 0 | AF39: 61 | AG39: 0 | AH39: 0 | AI39: 2 | AJ39: 1 | AK39: 0 | AL39: 10 | AM39: 22 | AN39: 7 | AO39: 9 | AP39: 5 | AQ39: 5 | AR39: 61 | AS39: 38 | AT39: 23 | AU39: 0 | AV39: 0 | AW39: 0 | AX39: 2 | AY39: 1 | AZ39: 1 | BA39: 15 | BB39: 9 | BC39: 6 | BD39: 44 | BE39: 28 | BF39: 16 | BG39: 0 | BH39: 0 | BI39: 0
A40: 兩類別以上者 | B40: 127397 | C40: 501 | D40: 3057 | E40: 2437 | F40: 990 | G40: 1087 | H40: 6835 | I40: 11818 | J40: 5841 | K40: 15996 | L40: 11617 | M40: 67218 | N40: 127397 | O40: 70833 | P40: 56564 | Q40: 40143 | R40: 21156 | S40: 18987 | T40: 45161 | U40: 24811 | V40: 20350 | W40: 39254 | X40: 22905 | Y40: 16349 | Z40: 2839 | AA40: 1961 | AB40: 878 | AC40: 0 | AD40: 0 | AE40: 0 | AF40: 2319 | AG40: 23 | AH40: 135 | AI40: 122 | AJ40: 34 | AK40: 34 | AL40: 205 | AM40: 261 | AN40: 116 | AO40: 348 | AP40: 225 | AQ40: 816 | AR40: 2319 | AS40: 1321 | AT40: 998 | AU40: 764 | AV40: 415 | AW40: 349 | AX40: 789 | AY40: 450 | AZ40: 339 | BA40: 672 | BB40: 389 | BC40: 283 | BD40: 94 | BE40: 67 | BF40: 27 | BG40: 0 | BH40: 0 | BI40: 0
A41: 舊制轉換新制 暫無法歸類者 | B41: 10273 | C41: 83 | D41: 634 | E41: 118 | F41: 103 | G41: 214 | H41: 1556 | I41: 2340 | J41: 830 | K41: 1500 | L41: 784 | M41: 2111 | N41: 10273 | O41: 5604 | P41: 4669 | Q41: 3491 | R41: 1788 | S41: 1703 | T41: 2699 | U41: 1554 | V41: 1145 | W41: 1675 | X41: 881 | Y41: 794 | Z41: 2408 | AA41: 1381 | AB41: 1027 | AC41: 0 | AD41: 0 | AE41: 0 | AF41: 178 | AG41: 6 | AH41: 42 | AI41: 6 | AJ41: 5 | AK41: 9 | AL41: 38 | AM41: 44 | AN41: 8 | AO41: 16 | AP41: 3 | AQ41: 1 | AR41: 175 | AS41: 105 | AT41: 70 | AU41: 34 | AV41: 20 | AW41: 14 | AX41: 49 | AY41: 28 | AZ41: 21 | BA41: 27 | BB41: 10 | BC41: 17 | BD41: 65 | BE41: 47 | BF41: 18 | BG41: 0 | BH41: 0 | BI41: 0
A42: 說明:110年起身心障礙者按障礙類別以新制類別呈現。
A43: 資料來源：直轄市、縣(市)政府。

Sheet 111
A1: 1.3-01 身心障礙者按年齡與等級
A2: 民國111年底
A3: 單位：人 | B3: 一、全體 | N3: 一、全體 | AF3: 二、原住民 | AR3: 二、原住民
A4: 區域及障礙類別 | B4: 總計 | C4: 0-2歲 | D4: 3-5歲 | E4: 6-11歲 | F4: 12-14歲 | G4: 15-17歲 | H4: 18-29歲 | I4: 30-44歲 | J4: 45-49歲 | K4: 50-59歲 | L4: 60-64歲 | M4: 65歲以上 | N4: 總計 | Q4: 極重度 | T4: 重度 | W4: 中度 | Z4: 輕度 | AC4: 占總人口比率（％） | AF4: 總計 | AG4: 0-2歲 | AH4: 3-5歲 | AI4: 6-11歲 | AJ4: 12-14歲 | AK4: 15-17歲 | AL4: 18-29歲 | AM4: 30-44歲 | AN4: 45-49 | AO4: 50-59歲 | AP4: 60-64歲 | AQ4: 65歲以上 | AR4: 總計 | AU4: 極重度 | AX4: 重度 | BA4: 中度 | BD4: 輕度 | BG4: 占總原住民人口比率（％）
N5: 計 | O5: 男 | P5: 女 | Q5: 計 | R5: 男 | S5: 女 | T5: 計 | U5: 男 | V5: 女 | W5: 計 | X5: 男 | Y5: 女 | Z5: 計 | AA5: 男 | AB5: 女 | AC5: 計 | AD5: 男 | AE5: 女 | AR5: 計 | AS5: 男 | AT5: 女 | AU5: 計 | AV5: 男 | AW5: 女 | AX5: 計 | AY5: 男 | AZ5: 女 | BA5: 計 | BB5: 男 | BC5: 女 | BD5: 計 | BE5: 男 | BF5: 女 | BG5: 計 | BH5: 男 | BI5: 女
A6: 111年,2022
A7: 1.按區域別 | B7: 1196654 | C7: 1536 | D7: 7712 | E7: 20746 | F7: 9754 | G7: 12195 | H7: 70893 | I7: 137751 | J7: 64879 | K7: 187016 | L7: 132016 | M7: 552156 | N7: 1196654 | O7: 662250 | P7: 534404 | Q7: 139649 | R7: 75129 | S7: 64520 | T7: 201978 | U7: 108978 | V7: 93000 | W7: 384688 | X7: 213086 | Y7: 171602 | Z7: 470339 | AA7: 265057 | AB7: 205282 | AC7: 5.14 | AD7: 5.76 | AE7: 4.54 | AF7: 20898 | AG7: 71 | AH7: 353 | AI7: 944 | AJ7: 395 | AK7: 396 | AL7: 1867 | AM7: 3099 | AN7: 1359 | AO7: 3357 | AP7: 1973 | AQ7: 7084 | AR7: 20898 | AS7: 11473 | AT7: 9425 | AU7: 2812 | AV7: 1429 | AW7: 1383 | AX7: 3326 | AY7: 1879 | AZ7: 1447 | BA7: 6348 | BB7: 3484 | BC7: 2864 | BD7: 8412 | BE7: 4681 | BF7: 3731 | BG7: 3.5776589 | BH7: 4.0665651 | BI7: 3.1209126
A8: 新北市 | B8: 175011 | C8: 297 | D8: 1557 | E8: 3907 | F8: 1714 | G8: 2038 | H8: 11297 | I8: 21317 | J8: 9723 | K8: 27885 | L8: 20026 | M8: 75250 | N8: 175011 | O8: 97527 | P8: 77484 | Q8: 22226 | R8: 12032 | S8: 10194 | T8: 28266 | U8: 15066 | V8: 13200 | W8: 54095 | X8: 30051 | Y8: 24044 | Z8: 70424 | AA8: 40378 | AB8: 30046 | AC8: 4.38 | AD8: 5.01 | AE8: 3.78 | AF8: 1414 | AG8: 7 | AH8: 47 | AI8: 106 | AJ8: 30 | AK8: 34 | AL8: 163 | AM8: 217 | AN8: 83 | AO8: 231 | AP8: 132 | AQ8: 364 | AR8: 1414 | AS8: 772 | AT8: 642 | AU8: 203 | AV8: 103 | AW8: 100 | AX8: 173 | AY8: 93 | AZ8: 80 | BA8: 369 | BB8: 201 | BC8: 168 | BD8: 669 | BE8: 375 | BF8: 294 | BG8: 2.4418886 | BH8: 2.8873845 | BI8: 2.0597388
A9: 臺北市 | B9: 117231 | C9: 139 | D9: 747 | E9: 2138 | F9: 1061 | G9: 1232 | H9: 6875 | I9: 12213 | J9: 5547 | K9: 16790 | L9: 12120 | M9: 58369 | N9: 117231 | O9: 62583 | P9: 54648 | Q9: 14390 | R9: 7676 | S9: 6714 | T9: 21968 | U9: 11363 | V9: 10605 | W9: 36930 | X9: 19423 | Y9: 17507 | Z9: 43943 | AA9: 24121 | AB9: 19822 | AC9: 4.73 | AD9: 5.32 | AE9: 4.19 | AF9: 465 | AG9: 2 | AH9: 15 | AI9: 17 | AJ9: 8 | AK9: 11 | AL9: 56 | AM9: 66 | AN9: 39 | AO9: 75 | AP9: 37 | AQ9: 139 | AR9: 465 | AS9: 221 | AT9: 244 | AU9: 48 | AV9: 23 | AW9: 25 | AX9: 81 | AY9: 44 | AZ9: 37 | BA9: 129 | BB9: 54 | BC9: 75 | BD9: 207 | BE9: 100 | BF9: 107 | BG9: 2.7388385 | BH9: 3.0419821 | BI9: 2.5120972
A10: 桃園市 | B10: 89206 | C10: 141 | D10: 733 | E10: 2065 | F10: 955 | G10: 1266 | H10: 6840 | I10: 11663 | J10: 5341 | K10: 14342 | L10: 9383 | M10: 36477 | N10: 89206 | O10: 50033 | P10: 39173 | Q10: 11098 | R10: 5975 | S10: 5123 | T10: 14571 | U10: 7893 | V10: 6678 | W10: 28033 | X10: 15690 | Y10: 12343 | Z10: 35504 | AA10: 20475 | AB10: 15029 | AC10: 3.91 | AD10: 4.44 | AE10: 3.39 | AF10: 1601 | AG10: 13 | AH10: 47 | AI10: 130 | AJ10: 53 | AK10: 53 | AL10: 159 | AM10: 220 | AN10: 110 | AO10: 275 | AP10: 167 | AQ10: 374 | AR10: 1601 | AS10: 892 | AT10: 709 | AU10: 233 | AV10: 114 | AW10: 119 | AX10: 237 | AY10: 140 | AZ10: 97 | BA10: 436 | BB10: 233 | BC10: 203 | BD10: 695 | BE10: 405 | BF10: 290 | BG10: 1.9961847 | BH10: 2.3294075 | BI10: 1.6917204
A11: 臺中市 | B11: 130219 | C11: 259 | D11: 1128 | E11: 2871 | F11: 1216 | G11: 1483 | H11: 8463 | I11: 16410 | J11: 7261 | K11: 20174 | L11: 14143 | M11: 56811 | N11: 130219 | O11: 72130 | P11: 58089 | Q11: 15592 | R11: 8302 | S11: 7290 | T11: 22334 | U11: 12006 | V11: 10328 | W11: 41306 | X11: 23000 | Y11: 18306 | Z11: 50987 | AA11: 28822 | AB11: 22165 | AC11: 4.63 | AD11: 5.23 | AE11: 4.04 | AF11: 873 | AG11: 8 | AH11: 35 | AI11: 75 | AJ11: 30 | AK11: 20 | AL11: 109 | AM11: 173 | AN11: 42 | AO11: 135 | AP11: 61 | AQ11: 185 | AR11: 873 | AS11: 456 | AT11: 417 | AU11: 116 | AV11: 52 | AW11: 64 | AX11: 127 | AY11: 67 | AZ11: 60 | BA11: 260 | BB11: 131 | BC11: 129 | BD11: 370 | BE11: 206 | BF11: 164 | BG11: 2.3618852 | BH11: 2.6795158 | BI11: 2.0908544
A12: 臺南市 | B12: 98413 | C12: 79 | D12: 505 | E12: 1679 | F12: 747 | G12: 966 | H12: 5131 | I12: 10682 | J12: 4955 | K12: 15000 | L12: 11359 | M12: 47310 | N12: 98413 | O12: 54137 | P12: 44276 | Q12: 11531 | R12: 6233 | S12: 5298 | T12: 16655 | U12: 8778 | V12: 7877 | W12: 30616 | X12: 16905 | Y12: 13711 | Z12: 39611 | AA12: 22221 | AB12: 17390 | AC12: 5.31 | AD12: 5.88 | AE12: 4.75 | AF12: 224 | AG12: 0 | AH12: 6 | AI12: 21 | AJ12: 9 | AK12: 7 | AL12: 27 | AM12: 40 | AN12: 14 | AO12: 28 | AP12: 15 | AQ12: 57 | AR12: 224 | AS12: 98 | AT12: 126 | AU12: 33 | AV12: 11 | AW12: 22 | AX12: 25 | AY12: 11 | AZ12: 14 | BA12: 65 | BB12: 28 | BC12: 37 | BD12: 101 | BE12: 48 | BF12: 53 | BG12: 2.52993 | BH12: 2.6189204 | BI12: 2.4647887
A13: 高雄市 | B13: 146383 | C13: 208 | D13: 911 | E13: 2180 | F13: 994 | G13: 1297 | H13: 7915 | I13: 16663 | J13: 8802 | K13: 24220 | L13: 16688 | M13: 66505 | N13: 146383 | O13: 80070 | P13: 66313 | Q13: 17268 | R13: 9185 | S13: 8083 | T13: 23689 | U13: 12969 | V13: 10720 | W13: 48897 | X13: 26828 | Y13: 22069 | Z13: 56529 | AA13: 31088 | AB13: 25441 | AC13: 5.37 | AD13: 5.97 | AE13: 4.78 | AF13: 1322 | AG13: 4 | AH13: 27 | AI13: 64 | AJ13: 20 | AK13: 38 | AL13: 164 | AM13: 222 | AN13: 97 | AO13: 211 | AP13: 113 | AQ13: 362 | AR13: 1322 | AS13: 679 | AT13: 643 | AU13: 214 | AV13: 111 | AW13: 103 | AX13: 212 | AY13: 105 | AZ13: 107 | BA13: 405 | BB13: 224 | BC13: 181 | BD13: 491 | BE13: 239 | BF13: 252 | BG13: 3.6113312 | BH13: 3.9545719 | BI13: 3.3081237
A14: 宜蘭縣 | B14: 31348 | C14: 25 | D14: 148 | E14: 362 | F14: 195 | G14: 262 | H14: 1726 | I14: 3334 | J14: 1607 | K14: 4957 | L14: 3259 | M14: 15473 | N14: 31348 | O14: 16967 | P14: 14381 | Q14: 3132 | R14: 1653 | S14: 1479 | T14: 4849 | U14: 2578 | V14: 2271 | W14: 9968 | X14: 5427 | Y14: 4541 | Z14: 13399 | AA14: 7309 | AB14: 6090 | AC14: 6.98 | AD14: 7.52 | AE14: 6.44 | AF14: 731 | AG14: 5 | AH14: 8 | AI14: 18 | AJ14: 12 | AK14: 11 | AL14: 79 | AM14: 142 | AN14: 58 | AO14: 133 | AP14: 57 | AQ14: 208 | AR14: 731 | AS14: 400 | AT14: 331 | AU14: 101 | AV14: 48 | AW14: 53 | AX14: 104 | AY14: 67 | AZ14: 37 | BA14: 222 | BB14: 122 | BC14: 100 | BD14: 304 | BE14: 163 | BF14: 141 | BG14: 4.0514327 | BH14: 4.5506257 | BI14: 3.5772182
A15: 新竹縣 | B15: 23529 | C15: 47 | D15: 208 | E15: 480 | F15: 232 | G15: 325 | H15: 1732 | I15: 2837 | J15: 1415 | K15: 3499 | L15: 2375 | M15: 10379 | N15: 23529 | O15: 13697 | P15: 9832 | Q15: 3067 | R15: 1702 | S15: 1365 | T15: 4316 | U15: 2408 | V15: 1908 | W15: 7420 | X15: 4292 | Y15: 3128 | Z15: 8726 | AA15: 5295 | AB15: 3431 | AC15: 4.05 | AD15: 4.63 | AE15: 3.45 | AF15: 731 | AG15: 3 | AH15: 12 | AI15: 27 | AJ15: 10 | AK15: 10 | AL15: 53 | AM15: 128 | AN15: 72 | AO15: 131 | AP15: 74 | AQ15: 211 | AR15: 731 | AS15: 427 | AT15: 304 | AU15: 119 | AV15: 70 | AW15: 49 | AX15: 133 | AY15: 82 | AZ15: 51 | BA15: 239 | BB15: 143 | BC15: 96 | BD15: 240 | BE15: 132 | BF15: 108 | BG15: 3.2935346 | BH15: 3.9081091 | BI15: 2.6976662
A16: 苗栗縣 | B16: 33742 | C16: 31 | D16: 159 | E16: 432 | F16: 251 | G16: 318 | H16: 2029 | I16: 3780 | J16: 1699 | K16: 4899 | L16: 3546 | M16: 16598 | N16: 33742 | O16: 19102 | P16: 14640 | Q16: 3669 | R16: 2014 | S16: 1655 | T16: 6221 | U16: 3424 | V16: 2797 | W16: 11756 | X16: 6561 | Y16: 5195 | Z16: 12096 | AA16: 7103 | AB16: 4993 | AC16: 6.31 | AD16: 6.93 | AE16: 5.64 | AF16: 480 | AG16: 2 | AH16: 8 | AI16: 17 | AJ16: 11 | AK16: 12 | AL16: 49 | AM16: 61 | AN16: 44 | AO16: 87 | AP16: 50 | AQ16: 139 | AR16: 480 | AS16: 252 | AT16: 228 | AU16: 60 | AV16: 28 | AW16: 32 | AX16: 67 | AY16: 29 | AZ16: 38 | BA16: 161 | BB16: 90 | BC16: 71 | BD16: 192 | BE16: 105 | BF16: 87 | BG16: 4.1666667 | BH16: 4.4807966 | BI16: 3.8670285
A17: 彰化縣 | B17: 70039 | C17: 76 | D17: 336 | E17: 923 | F17: 476 | G17: 624 | H17: 4195 | I17: 8901 | J17: 3899 | K17: 10503 | L17: 7541 | M17: 32565 | N17: 70039 | O17: 39692 | P17: 30347 | Q17: 7516 | R17: 4091 | S17: 3425 | T17: 11818 | U17: 6529 | V17: 5289 | W17: 23554 | X17: 13415 | Y17: 10139 | Z17: 27151 | AA17: 15657 | AB17: 11494 | AC17: 5.62 | AD17: 6.28 | AE17: 4.95 | AF17: 155 | AG17: 1 | AH17: 5 | AI17: 10 | AJ17: 6 | AK17: 6 | AL17: 18 | AM17: 35 | AN17: 20 | AO17: 22 | AP17: 12 | AQ17: 20 | AR17: 155 | AS17: 73 | AT17: 82 | AU17: 17 | AV17: 8 | AW17: 9 | AX17: 21 | AY17: 8 | AZ17: 13 | BA17: 50 | BB17: 25 | BC17: 25 | BD17: 67 | BE17: 32 | BF17: 35 | BG17: 2.4705132 | BH17: 2.6632616 | BI17: 2.3209737
A18: 南投縣 | B18: 33160 | C18: 27 | D18: 128 | E18: 350 | F18: 198 | G18: 251 | H18: 1637 | I18: 3438 | J18: 1663 | K18: 4814 | L18: 3543 | M18: 17111 | N18: 33160 | O18: 18646 | P18: 14514 | Q18: 3593 | R18: 1962 | S18: 1631 | T18: 5333 | U18: 3017 | V18: 2316 | W18: 11026 | X18: 6228 | Y18: 4798 | Z18: 13208 | AA18: 7439 | AB18: 5769 | AC18: 6.91 | AD18: 7.62 | AE18: 6.18 | AF18: 1150 | AG18: 3 | AH18: 11 | AI18: 36 | AJ18: 18 | AK18: 14 | AL18: 109 | AM18: 172 | AN18: 78 | AO18: 211 | AP18: 136 | AQ18: 362 | AR18: 1150 | AS18: 665 | AT18: 485 | AU18: 187 | AV18: 99 | AW18: 88 | AX18: 168 | AY18: 104 | AZ18: 64 | BA18: 380 | BB18: 225 | BC18: 155 | BD18: 415 | BE18: 237 | BF18: 178 | BG18: 3.9028032 | BH18: 4.5130641 | BI18: 3.2923766
... A29: 連江縣 | B29: 477 | C29: 0 | D29: 6 | E29: 9 | F29: 2 | G29: 4 | H29: 25 | I29: 56 | J29: 19 | K29: 84 | L29: 54 | M29: 218 | N29: 477 | O29: 302 | P29: 175 | Q29: 37 | R29: 26 | S29: 11 | T29: 76 | U29: 45 | V29: 31 | W29: 135 | X29: 81 | Y29: 54 | Z29: 229 | AA29: 150 | AB29: 79 | AC29: 3.41 | AD29: 3.74 | AE29: 2.97 | AF29: 5 | AG29: 0 | AH29: 0 | AI29: 0 | AJ29: 0 | AK29: 0 | AL29: 0 | AM29: 1 | AN29: 0 | AO29: 3 | AP29: 0 | AQ29: 1 | AR29: 5 | AS29: 3 | AT29: 2 | AU29: 0 | AV29: 0 | AW29: 0 | AX29: 1 | AY29: 0 | AZ29: 1 | BA29: 1 | BB29: 1 | BC29: 0 | BD29: 3 | BE29: 2 | BF29: 1 | BG29: 1.6447368 | BH29: 1.7241379 | BI29: 1.5384615
A31: 2.按障礙類別 | B31: 1196654 | C31: 1536 | D31: 7712 | E31: 20746 | F31: 9754 | G31: 12195 | H31: 70893 | I31: 137751 | J31: 64879 | K31: 187016 | L31: 132016 | M31: 552156 | N31: 1196654 | O31: 662250 | P31: 534404 | Q31: 139649 | R31: 75129 | S31: 64520 | T31: 201978 | U31: 108978 | V31: 93000 | W31: 384688 | X31: 213086 | Y31: 171602 | Z31: 470339 | AA31: 265057 | AB31: 205282 | AF31: 20898 | AG31: 71 | AH31: 353 | AI31: 944 | AJ31: 395 | AK31: 396 | AL31: 1867 | AM31: 3099 | AN31: 1359 | AO31: 3357 | AP31: 1973 | AQ31: 7084 | AR31: 20898 | AS31: 11473 | AT31: 9425 | AU31: 2812 | AV31: 1429 | AW31: 1383 | AX31: 3326 | AY31: 1879 | AZ31: 1447 | BA31: 6348 | BB31: 3484 | BC31: 2864 | BD31: 8412 | BE31: 4681 | BF31: 3731
A32: 神經系統構造及精神、 心智功能 | B32: 360161 | C32: 211 | D32: 3108 | E32: 14920 | F32: 6995 | G32: 8624 | H32: 44823 | I32: 69731 | J32: 26957 | K32: 56302 | L32: 25949 | M32: 102541 | N32: 360161 | O32: 183939 | P32: 176222 | Q32: 15250 | R32: 7661 | S32: 7589 | T32: 55698 | U32: 26631 | V32: 29067 | W32: 150189 | X32: 74416 | Y32: 75773 | Z32: 139024 | AA32: 75231 | AB32: 63793 | AC32: 0 | AD32: 0 | AE32: 0 | AF32: 6401 | AG32: 8 | AH32: 146 | AI32: 719 | AJ32: 300 | AK32: 281 | AL32: 1093 | AM32: 1421 | AN32: 438 | AO32: 649 | AP32: 242 | AQ32: 1104 | AR32: 6401 | AS32: 3297 | AT32: 3104 | AU32: 190 | AV32: 93 | AW32: 97 | AX32: 718 | AY32: 361 | AZ32: 357 | BA32: 2446 | BB32: 1179 | BC32: 1267 | BD32: 3047 | BE32: 1664 | BF32: 1383 | BG32: 0 | BH32: 0 | BI32: 0
A33: 眼、耳及 相關構造與 感官功能及疼痛 | B33: 187560 | C33: 429 | D33: 616 | E33: 1276 | F33: 581 | G33: 841 | H33: 5389 | I33: 12607 | J33: 5440 | K33: 17871 | L33: 15762 | M33: 126748 | N33: 187560 | O33: 103107 | P33: 84453 | Q33: 197 | R33: 110 | S33: 87 | T33: 42968 | U33: 23224 | V33: 19744 | W33: 51350 | X33: 28485 | Y33: 22865 | Z33: 93045 | AA33: 51288 | AB33: 41757 | AC33: 0 | AD33: 0 | AE33: 0 | AF33: 2608 | AG33: 14 | AH33: 19 | AI33: 30 | AJ33: 18 | AK33: 25 | AL33: 125 | AM33: 227 | AN33: 125 | AO33: 368 | AP33: 257 | AQ33: 1400 | AR33: 2608 | AS33: 1368 | AT33: 1240 | AU33: 0 | AV33: 0 | AW33: 0 | AX33: 651 | AY33: 366 | AZ33: 285 | BA33: 631 | BB33: 327 | BC33: 304 | BD33: 1326 | BE33: 675 | BF33: 651 | BG33: 0 | BH33: 0 | BI33: 0
A34: 涉及聲音與言語構造 及其功能 | B34: 12463 | C34: 1 | D34: 9 | E34: 28 | F34: 24 | G34: 62 | H34: 407 | I34: 1343 | J34: 1057 | K34: 3261 | L34: 1959 | M34: 4312 | N34: 12463 | O34: 9547 | P34: 2916 | Q34: 37 | R34: 21 | S34: 16 | T34: 3521 | U34: 2959 | V34: 562 | W34: 2439 | X34: 1902 | Y34: 537 | Z34: 6466 | AA34: 4665 | AB34: 1801 | AC34: 0 | AD34: 0 | AE34: 0 | AF34: 207 | AG34: 0 | AH34: 1 | AI34: 1 | AJ34: 0 | AK34: 2 | AL34: 11 | AM34: 20 | AN34: 18 | AO34: 56 | AP34: 35 | AQ34: 63 | AR34: 207 | AS34: 147 | AT34: 60 | AU34: 0 | AV34: 0 | AW34: 0 | AX34: 57 | AY34: 42 | AZ34: 15 | BA34: 43 | BB34: 33 | BC34: 10 | BD34: 107 | BE34: 72 | BF34: 35 | BG34: 0 | BH34: 0 | BI34: 0
A35: 循環、造血、免疫與呼吸系統構造及其功能 | B35: 65347 | C35: 97 | D35: 196 | E35: 487 | F35: 260 | G35: 293 | H35: 2057 | I35: 4144 | J35: 2589 | K35: 9070 | L35: 7375 | M35: 38779 | N35: 65347 | O35: 36637 | P35: 28710 | Q35: 8108 | R35: 5270 | S35: 2838 | T35: 5245 | U35: 3372 | V35: 1873 | W35: 10429 | X35: 7041 | Y35: 3388 | Z35: 41565 | AA35: 20954 | AB35: 20611 | AC35: 0 | AD35: 0 | AE35: 0 | AF35: 1158 | AG35: 7 | AH35: 7 | AI35: 21 | AJ35: 7 | AK35: 9 | AL35: 45 | AM35: 105 | AN35: 54 | AO35: 219 | AP35: 144 | AQ35: 540 | AR35: 1158 | AS35: 627 | AT35: 531 | AU35: 216 | AV35: 133 | AW35: 83 | AX35: 133 | AY35: 79 | AZ35: 54 | BA35: 201 | BB35: 117 | BC35: 84 | BD35: 608 | BE35: 298 | BF35: 310 | BG35: 0 | BH35: 0 | BI35: 0
A36: 消化、新陳代謝與內分泌系統相關構造及其功能 | B36: 11980 | C36: 45 | D36: 72 | E36: 162 | F36: 77 | G36: 79 | H36: 360 | I36: 622 | J36: 664 | K36: 2449 | L36: 1848 | M36: 5602 | N36: 11980 | O36: 8093 | P36: 3887 | Q36: 2140 | R36: 1555 | S36: 585 | T36: 1320 | U36: 955 | V36: 365 | W36: 1218 | X36: 872 | Y36: 346 | Z36: 7302 | AA36: 4711 | AB36: 2591 | AC36: 0 | AD36: 0 | AE36: 0 | AF36: 251 | AG36: 2 | AH36: 0 | AI36: 5 | AJ36: 2 | AK36: 1 | AL36: 12 | AM36: 32 | AN36: 23 | AO36: 77 | AP36: 41 | AQ36: 56 | AR36: 251 | AS36: 151 | AT36: 100 | AU36: 31 | AV36: 15 | AW36: 16 | AX36: 52 | AY36: 37 | AZ36: 15 | BA36: 29 | BB36: 18 | BC36: 11 | BD36: 139 | BE36: 81 | BF36: 58 | BG36: 0 | BH36: 0 | BI36: 0
A37: 泌尿與生殖系統相關構造及其功能 | B37: 80432 | C37: 3 | D37: 15 | E37: 53 | F37: 36 | G37: 60 | H37: 1201 | I37: 5976 | J37: 4375 | K37: 14479 | L37: 11360 | M37: 42874 | N37: 80432 | O37: 42570 | P37: 37862 | Q37: 66969 | R37: 35480 | S37: 31489 | T37: 3045 | U37: 1464 | V37: 1581 | W37: 6347 | X37: 3296 | Y37: 3051 | Z37: 4071 | AA37: 2330 | AB37: 1741 | AC37: 0 | AD37: 0 | AE37: 0 | AF37: 1601 | AG37: 0 | AH37: 0 | AI37: 1 | AJ37: 0 | AK37: 1 | AL37: 55 | AM37: 186 | AN37: 117 | AO37: 406 | AP37: 277 | AQ37: 558 | AR37: 1601 | AS37: 757 | AT37: 844 | AU37: 1446 | AV37: 687 | AW37: 759 | AX37: 43 | AY37: 21 | AZ37: 22 | BA37: 73 | BB37: 29 | BC37: 44 | BD37: 39 | BE37: 20 | BF37: 19 | BG37: 0 | BH37: 0 | BI37: 0
A38: 神經、肌肉 、骨骼之移動相關構造及其功能 | B38: 339374 | C38: 185 | D38: 506 | E38: 1246 | F38: 660 | G38: 811 | H38: 7430 | I38: 28108 | J38: 16882 | K38: 64821 | L38: 54599 | M38: 164126 | N38: 339374 | O38: 200132 | P38: 139242 | Q38: 3240 | R38: 1929 | S38: 1311 | T38: 42801 | U38: 24190 | V38: 18611 | W38: 122586 | X38: 73457 | Y38: 49129 | Z38: 170747 | AA38: 100556 | AB38: 70191 | AC38: 0 | AD38: 0 | AE38: 0 | AF38: 6069 | AG38: 11 | AH38: 25 | AI38: 48 | AJ38: 26 | AK38: 35 | AL38: 255 | AM38: 774 | AN38: 444 | AO38: 1211 | AP38: 729 | AQ38: 2511 | AR38: 6069 | AS38: 3659 | AT38: 2410 | AU38: 78 | AV38: 51 | AW38: 27 | AX38: 828 | AY38: 497 | AZ38: 331 | BA38: 2212 | BB38: 1371 | BC38: 841 | BD38: 2951 | BE38: 1740 | BF38: 1211 | BG38: 0 | BH38: 0 | BI38: 0
A39: 皮膚與相關構造及其功能 | B39: 4580 | C39: 7 | D39: 19 | E39: 46 | F39: 22 | G39: 26 | H39: 446 | I39: 867 | J39: 387 | K39: 1003 | L39: 616 | M39: 1141 | N39: 4580 | O39: 3041 | P39: 1539 | Q39: 0 | R39: 0 | S39: 0 | T39: 348 | U39: 200 | V39: 148 | W39: 823 | X39: 508 | Y39: 315 | Z39: 3409 | AA39: 2333 | AB39: 1076 | AC39: 0 | AD39: 0 | AE39: 0 | AF39: 64 | AG39: 0 | AH39: 1 | AI39: 1 | AJ39: 1 | AK39: 0 | AL39: 11 | AM39: 23 | AN39: 6 | AO39: 6 | AP39: 6 | AQ39: 9 | AR39: 64 | AS39: 39 | AT39: 25 | AU39: 0 | AV39: 0 | AW39: 0 | AX39: 2 | AY39: 0 | AZ39: 2 | BA39: 15 | BB39: 9 | BC39: 6 | BD39: 47 | BE39: 30 | BF39: 17 | BG39: 0 | BH39: 0 | BI39: 0
A40: 兩類別以上者 | B40: 124663 | C40: 501 | D40: 2870 | E40: 2447 | F40: 977 | G40: 1152 | H40: 7149 | I40: 11991 | J40: 5711 | K40: 16198 | L40: 11715 | M40: 63952 | N40: 124663 | O40: 69695 | P40: 54968 | Q40: 40032 | R40: 21202 | S40: 18830 | T40: 44295 | U40: 24405 | V40: 19890 | W40: 37621 | X40: 22210 | Y40: 15411 | Z40: 2715 | AA40: 1878 | AB40: 837 | AC40: 0 | AD40: 0 | AE40: 0 | AF40: 2348 | AG40: 21 | AH40: 134 | AI40: 114 | AJ40: 35 | AK40: 31 | AL40: 220 | AM40: 265 | AN40: 122 | AO40: 348 | AP40: 237 | AQ40: 821 | AR40: 2348 | AS40: 1321 | AT40: 1027 | AU40: 797 | AV40: 420 | AW40: 377 | AX40: 785 | AY40: 444 | AZ40: 341 | BA40: 665 | BB40: 388 | BC40: 277 | BD40: 101 | BE40: 69 | BF40: 32 | BG40: 0 | BH40: 0 | BI40: 0
A41: 舊制轉換新制 暫無法歸類者 | B41: 10094 | C41: 57 | D41: 301 | E41: 81 | F41: 122 | G41: 247 | H41: 1631 | I41: 2362 | J41: 817 | K41: 1562 | L41: 833 | M41: 2081 | N41: 10094 | O41: 5489 | P41: 4605 | Q41: 3676 | R41: 1901 | S41: 1775 | T41: 2737 | U41: 1578 | V41: 1159 | W41: 1686 | X41: 899 | Y41: 787 | Z41: 1995 | AA41: 1111 | AB41: 884 | AC41: 0 | AD41: 0 | AE41: 0 | AF41: 191 | AG41: 8 | AH41: 20 | AI41: 4 | AJ41: 6 | AK41: 11 | AL41: 40 | AM41: 46 | AN41: 12 | AO41: 17 | AP41: 5 | AQ41: 22 | AR41: 191 | AS41: 107 | AT41: 84 | AU41: 54 | AV41: 30 | AW41: 24 | AX41: 57 | AY41: 32 | AZ41: 25 | BA41: 33 | BB41: 13 | BC41: 20 | BD41: 47 | BE41: 32 | BF41: 15 | BG41: 0 | BH41: 0 | BI41: 0
A42: 說明:110年起身心障礙者按障礙類別以新制類別呈現。
A43: 資料來源：直轄市、縣(市)政府。

Sheet 110
A1: 1.3-01 身心障礙者按年齡與等級
A2: 民國110年底
A3: 單位：人 | B3: 一、全體 | N3: 一、全體 | AF3: 二、原住民 | AR3: 二、原住民
A4: 區域及障礙類別 | B4: 總計 | C4: 0-2歲 | D4: 3-5歲 | E4: 6-11歲 | F4: 12-14歲 | G4: 15-17歲 | H4: 18-29歲 | I4: 30-44歲 | J4: 45-49歲 | K4: 50-59歲 | L4: 60-64歲 | M4: 65歲以上 | N4: 總計 | Q4: 極重度 | T4: 重度 | W4: 中度 | Z4: 輕度 | AC4: 占總人口比率（％） | AF4: 總計 | AG4: 0-2歲 | AH4: 3-5歲 | AI4: 6-11歲 | AJ4: 12-14歲 | AK4: 15-17歲 | AL4: 18-29歲 | AM4: 30-44歲 | AN4: 45-49 | AO4: 50-59歲 | AP4: 60-64歲 | AQ4: 65歲以上 | AR4: 總計 | AU4: 極重度 | AX4: 重度 | BA4: 中度 | BD4: 輕度 | BG4: 占總原住民人口比率（％）
N5: 計 | O5: 男 | P5: 女 | Q5: 計 | R5: 男 | S5: 女 | T5: 計 | U5: 男 | V5: 女 | W5: 計 | X5: 男 | Y5: 女 | Z5: 計 | AA5: 男 | AB5: 女 | AC5: 計 | AD5: 男 | AE5: 女 | AR5: 計 | AS5: 男 | AT5: 女 | AU5: 計 | AV5: 男 | AW5: 女 | AX5: 計 | AY5: 男 | AZ5: 女 | BA5: 計 | BB5: 男 | BC5: 女 | BD5: 計 | BE5: 男 | BF5: 女 | BG5: 計 | BH5: 男 | BI5: 女
A6: 110年,2021
A7: 1.按區域別 | B7: 1203754 | C7: 1409 | D7: 7982 | E7: 19878 | F7: 10238 | G7: 12635 | H7: 72623 | I7: 140792 | J7: 65007 | K7: 195472 | L7: 131185 | M7: 546533 | N7: 1203754 | O7: 667925 | P7: 535829 | Q7: 141876 | R7: 76231 | S7: 65645 | T7: 204487 | U7: 110529 | V7: 93958 | W7: 387086 | X7: 214898 | Y7: 172188 | Z7: 470305 | AA7: 266267 | AB7: 204038 | AC7: 5.15 | AD7: 5.77 | AE7: 4.54 | AF7: 23586 | AG7: 70 | AH7: 326 | AI7: 896 | AJ7: 385 | AK7: 384 | AL7: 1962 | AM7: 3351 | AN7: 1431 | AO7: 4017 | AP7: 2966 | AQ7: 7798 | AR7: 23586 | AS7: 13069 | AT7: 10517 | AU7: 2979 | AV7: 1513 | AW7: 1466 | AX7: 3760 | AY7: 2150 | AZ7: 1610 | BA7: 7326 | BB7: 4082 | BC7: 3244 | BD7: 9521 | BE7: 5324 | BF7: 4197 | BG7: 4.0610719 | BH7: 4.6527773 | BI7: 3.5068296
A8: 新北市 | B8: 175165 | C8: 267 | D8: 1596 | E8: 3722 | F8: 1766 | G8: 2089 | H8: 11579 | I8: 21674 | J8: 9699 | K8: 29135 | L8: 19991 | M8: 73647 | N8: 175165 | O8: 97942 | P8: 77223 | Q8: 22274 | R8: 12040 | S8: 10234 | T8: 28517 | U8: 15231 | V8: 13286 | W8: 54172 | X8: 30199 | Y8: 23973 | Z8: 70202 | AA8: 40472 | AB8: 29730 | AC8: 4.37 | AD8: 5 | AE8: 3.77 | AF8: 1690 | AG8: 9 | AH8: 47 | AI8: 101 | AJ8: 29 | AK8: 34 | AL8: 192 | AM8: 257 | AN8: 103 | AO8: 294 | AP8: 213 | AQ8: 411 | AR8: 1690 | AS8: 910 | AT8: 780 | AU8: 218 | AV8: 105 | AW8: 113 | AX8: 218 | AY8: 118 | AZ8: 100 | BA8: 457 | BB8: 246 | BC8: 211 | BD8: 797 | BE8: 441 | BF8: 356 | BG8: 2.9280801 | BH8: 3.4107946 | BI8: 2.5131295
A9: 臺北市 | B9: 118696 | C9: 116 | D9: 729 | E9: 2094 | F9: 1088 | G9: 1311 | H9: 7009 | I9: 12485 | J9: 5676 | K9: 17750 | L9: 12288 | M9: 58150 | N9: 118696 | O9: 63515 | P9: 55181 | Q9: 14792 | R9: 7858 | S9: 6934 | T9: 22502 | U9: 11662 | V9: 10840 | W9: 37462 | X9: 19748 | Y9: 17714 | Z9: 43940 | AA9: 24247 | AB9: 19693 | AC9: 4.7 | AD9: 5.28 | AE9: 4.17 | AF9: 533 | AG9: 1 | AH9: 9 | AI9: 18 | AJ9: 7 | AK9: 12 | AL9: 62 | AM9: 78 | AN9: 45 | AO9: 91 | AP9: 53 | AQ9: 157 | AR9: 533 | AS9: 247 | AT9: 286 | AU9: 57 | AV9: 27 | AW9: 30 | AX9: 102 | AY9: 55 | AZ9: 47 | BA9: 166 | BB9: 70 | BC9: 96 | BD9: 208 | BE9: 95 | BF9: 113 | BG9: 3.1218884 | BH9: 3.3784708 | BI9: 2.9297275
A10: 桃園市 | B10: 88867 | C10: 133 | D10: 753 | E10: 1945 | F10: 1026 | G10: 1346 | H10: 6938 | I10: 11716 | J10: 5356 | K10: 14645 | L10: 9242 | M10: 35767 | N10: 88867 | O10: 50063 | P10: 38804 | Q10: 11198 | R10: 5998 | S10: 5200 | T10: 14546 | U10: 7912 | V10: 6634 | W10: 27786 | X10: 15604 | Y10: 12182 | Z10: 35337 | AA10: 20549 | AB10: 14788 | AC10: 3.91 | AD10: 4.45 | AE10: 3.38 | AF10: 1605 | AG10: 10 | AH10: 38 | AI10: 110 | AJ10: 54 | AK10: 48 | AL10: 166 | AM10: 232 | AN10: 111 | AO10: 289 | AP10: 176 | AQ10: 371 | AR10: 1605 | AS10: 890 | AT10: 715 | AU10: 228 | AV10: 117 | AW10: 111 | AX10: 238 | AY10: 141 | AZ10: 97 | BA10: 451 | BB10: 241 | BC10: 210 | BD10: 688 | BE10: 391 | BF10: 297 | BG10: 2.0266431 | BH10: 2.3516977 | BI10: 1.7291415
A11: 臺中市 | B11: 129869 | C11: 198 | D11: 1192 | E11: 2783 | F11: 1276 | G11: 1493 | H11: 8715 | I11: 16565 | J11: 7204 | K11: 21051 | L11: 13934 | M11: 55458 | N11: 129869 | O11: 72310 | P11: 57559 | Q11: 15857 | R11: 8459 | S11: 7398 | T11: 22341 | U11: 12073 | V11: 10268 | W11: 41237 | X11: 23075 | Y11: 18162 | Z11: 50434 | AA11: 28703 | AB11: 21731 | AC11: 4.62 | AD11: 5.24 | AE11: 4.02 | AF11: 1049 | AG11: 2 | AH11: 27 | AI11: 79 | AJ11: 21 | AK11: 18 | AL11: 123 | AM11: 193 | AN11: 47 | AO11: 201 | AP11: 119 | AQ11: 219 | AR11: 1049 | AS11: 539 | AT11: 510 | AU11: 124 | AV11: 59 | AW11: 65 | AX11: 136 | AY11: 72 | AZ11: 64 | BA11: 334 | BB11: 160 | BC11: 174 | BD11: 455 | BE11: 248 | BF11: 207 | BG11: 2.8768889 | BH11: 3.2104354 | BI11: 2.5922537
A12: 臺南市 | B12: 99474 | C12: 105 | D12: 555 | E12: 1572 | F12: 766 | G12: 977 | H12: 5275 | I12: 10943 | J12: 4944 | K12: 15876 | L12: 11357 | M12: 47104 | N12: 99474 | O12: 54820 | P12: 44654 | Q12: 11796 | R12: 6363 | S12: 5433 | T12: 16932 | U12: 8953 | V12: 7979 | W12: 31002 | X12: 17251 | Y12: 13751 | Z12: 39744 | AA12: 22253 | AB12: 17491 | AC12: 5.34 | AD12: 5.91 | AE12: 4.78 | AF12: 236 | AG12: 1 | AH12: 8 | AI12: 11 | AJ12: 9 | AK12: 5 | AL12: 25 | AM12: 41 | AN12: 14 | AO12: 34 | AP12: 34 | AQ12: 54 | AR12: 236 | AS12: 103 | AT12: 133 | AU12: 33 | AV12: 13 | AW12: 20 | AX12: 32 | AY12: 16 | AZ12: 16 | BA12: 70 | BB12: 27 | BC12: 43 | BD12: 101 | BE12: 47 | BF12: 54 | BG12: 2.7286391 | BH12: 2.8273401 | BI12: 2.6568118
A13: 高雄市 | B13: 146740 | C13: 178 | D13: 978 | E13: 1998 | F13: 1072 | G13: 1319 | H13: 8145 | I13: 17269 | J13: 8798 | K13: 25154 | L13: 16537 | M13: 65292 | N13: 146740 | O13: 80569 | P13: 66171 | Q13: 17377 | R13: 9232 | S13: 8145 | T13: 23869 | U13: 13134 | V13: 10735 | W13: 49078 | X13: 27028 | Y13: 22050 | Z13: 56416 | AA13: 31175 | AB13: 25241 | AC13: 5.35 | AD13: 5.96 | AE13: 4.75 | AF13: 1459 | AG13: 5 | AH13: 26 | AI13: 57 | AJ13: 24 | AK13: 45 | AL13: 162 | AM13: 242 | AN13: 94 | AO13: 263 | AP13: 154 | AQ13: 387 | AR13: 1459 | AS13: 751 | AT13: 708 | AU13: 222 | AV13: 111 | AW13: 111 | AX13: 236 | AY13: 117 | AZ13: 119 | BA13: 449 | BB13: 250 | BC13: 199 | BD13: 552 | BE13: 273 | BF13: 279 | BG13: 4.029385 | BH13: 4.4127152 | BI13: 3.6894216
A14: 宜蘭縣 | B14: 31902 | C14: 23 | D14: 149 | E14: 358 | F14: 210 | G14: 291 | H14: 1772 | I14: 3387 | J14: 1605 | K14: 5209 | L14: 3260 | M14: 15638 | N14: 31902 | O14: 17277 | P14: 14625 | Q14: 3249 | R14: 1700 | S14: 1549 | T14: 4976 | U14: 2677 | V14: 2299 | W14: 10128 | X14: 5506 | Y14: 4622 | Z14: 13549 | AA14: 7394 | AB14: 6155 | AC14: 7.08 | AD14: 7.61 | AE14: 6.54 | AF14: 842 | AG14: 2 | AH14: 11 | AI14: 23 | AJ14: 12 | AK14: 10 | AL14: 76 | AM14: 138 | AN14: 69 | AO14: 136 | AP14: 89 | AQ14: 276 | AR14: 842 | AS14: 469 | AT14: 373 | AU14: 115 | AV14: 59 | AW14: 56 | AX14: 117 | AY14: 76 | AZ14: 41 | BA14: 259 | BB14: 141 | BC14: 118 | BD14: 351 | BE14: 193 | BF14: 158 | BG14: 4.7196812 | BH14: 5.3846154 | BI14: 4.0838731
A15: 新竹縣 | B15: 23404 | C15: 35 | D15: 197 | E15: 475 | F15: 255 | G15: 302 | H15: 1757 | I15: 2880 | J15: 1385 | K15: 3662 | L15: 2282 | M15: 10174 | N15: 23404 | O15: 13642 | P15: 9762 | Q15: 3042 | R15: 1674 | S15: 1368 | T15: 4292 | U15: 2395 | V15: 1897 | W15: 7444 | X15: 4317 | Y15: 3127 | Z15: 8626 | AA15: 5256 | AB15: 3370 | AC15: 4.07 | AD15: 4.64 | AE15: 3.46 | AF15: 766 | AG15: 2 | AH15: 12 | AI15: 24 | AJ15: 13 | AK15: 7 | AL15: 56 | AM15: 139 | AN15: 69 | AO15: 138 | AP15: 95 | AQ15: 211 | AR15: 766 | AS15: 463 | AT15: 303 | AU15: 106 | AV15: 65 | AW15: 41 | AX15: 146 | AY15: 93 | AZ15: 53 | BA15: 255 | BB15: 148 | BC15: 107 | BD15: 259 | BE15: 157 | BF15: 102 | BG15: 3.4756568 | BH15: 4.2795083 | BI15: 2.7005348
A16: 苗栗縣 | B16: 34183 | C16: 27 | D16: 181 | E16: 444 | F16: 267 | G16: 326 | H16: 2084 | I16: 3874 | J16: 1725 | K16: 5116 | L16: 3489 | M16: 16650 | N16: 34183 | O16: 19368 | P16: 14815 | Q16: 3769 | R16: 2038 | S16: 1731 | T16: 6388 | U16: 3511 | V16: 2877 | W16: 11825 | X16: 6614 | Y16: 5211 | Z16: 12201 | AA16: 7205 | AB16: 4996 | AC16: 6.35 | AD16: 6.98 | AE16: 5.68 | AF16: 542 | AG16: 3 | AH16: 4 | AI16: 24 | AJ16: 11 | AK16: 13 | AL16: 47 | AM16: 68 | AN16: 48 | AO16: 106 | AP16: 69 | AQ16: 149 | AR16: 542 | AS16: 294 | AT16: 248 | AU16: 73 | AV16: 34 | AW16: 39 | AX16: 78 | AY16: 37 | AZ16: 41 | BA16: 168 | BB16: 99 | BC16: 69 | BD16: 223 | BE16: 124 | BF16: 99 | BG16: 4.7498028 | BH16: 5.2792243 | BI16: 4.2451215
A17: 彰化縣 | B17: 70827 | C17: 74 | D17: 331 | E17: 909 | F17: 519 | G17: 674 | H17: 4310 | I17: 9112 | J17: 3822 | K17: 10964 | L17: 7547 | M17: 32565 | N17: 70827 | O17: 40193 | P17: 30634 | Q17: 7617 | R17: 4137 | S17: 3480 | T17: 12208 | U17: 6713 | V17: 5495 | W17: 23746 | X17: 13533 | Y17: 10213 | Z17: 27256 | AA17: 15810 | AB17: 11446 | AC17: 5.64 | AD17: 6.3 | AE17: 4.96 | AF17: 169 | AG17: 1 | AH17: 6 | AI17: 9 | AJ17: 5 | AK17: 4 | AL17: 20 | AM17: 36 | AN17: 18 | AO17: 26 | AP17: 19 | AQ17: 25 | AR17: 169 | AS17: 84 | AT17: 85 | AU17: 17 | AV17: 5 | AW17: 12 | AX17: 23 | AY17: 11 | AZ17: 12 | BA17: 58 | BB17: 33 | BC17: 25 | BD17: 71 | BE17: 35 | BF17: 36 | BG17: 2.7502034 | BH17: 3.1354983 | BI17: 2.4523947
A18: 南投縣 | B18: 33692 | C18: 34 | D18: 132 | E18: 354 | F18: 212 | G18: 272 | H18: 1689 | I18: 3548 | J18: 1705 | K18: 5048 | L18: 3513 | M18: 17185 | N18: 33692 | O18: 18982 | P18: 14710 | Q18: 3729 | R18: 2033 | S18: 1696 | T18: 5454 | U18: 3062 | V18: 2392 | W18: 11251 | X18: 6358 | Y18: 4893 | Z18: 13258 | AA18: 7529 | AB18: 5729 | AC18: 6.95 | AD18: 7.66 | AE18: 6.2 | AF18: 1351 | AG18: 6 | AH18: 13 | AI18: 38 | AJ18: 20 | AK18: 17 | AL18: 109 | AM18: 192 | AN18: 78 | AO18: 266 | AP18: 190 | AQ18: 422 | AR18: 1351 | AS18: 788 | AT18: 563 | AU18: 203 | AV18: 108 | AW18: 95 | AX18: 204 | AY18: 123 | AZ18: 81 | BA18: 445 | BB18: 262 | BC18: 183 | BD18: 499 | BE18: 295 | BF18: 204 | BG18: 4.5773336 | BH18: 5.3297261 | BI18: 3.8221317
... A29: 連江縣 | B29: 480 | C29: 2 | D29: 4 | E29: 8 | F29: 4 | G29: 5 | H29: 29 | I29: 53 | J29: 24 | K29: 76 | L29: 61 | M29: 214 | N29: 480 | O29: 313 | P29: 167 | Q29: 38 | R29: 26 | S29: 12 | T29: 78 | U29: 47 | V29: 31 | W29: 131 | X29: 81 | Y29: 50 | Z29: 233 | AA29: 159 | AB29: 74 | AC29: 3.52 | AD29: 3.96 | AE29: 2.91 | AF29: 7 | AG29: 0 | AH29: 0 | AI29: 0 | AJ29: 0 | AK29: 0 | AL29: 1 | AM29: 1 | AN29: 0 | AO29: 3 | AP29: 0 | AQ29: 2 | AR29: 7 | AS29: 4 | AT29: 3 | AU29: 0 | AV29: 0 | AW29: 0 | AX29: 0 | AY29: 0 | AZ29: 0 | BA29: 2 | BB29: 1 | BC29: 1 | BD29: 5 | BE29: 3 | BF29: 2 | BG29: 6.1818182 | BH29: 5.4216867 | BI29: 7.3394495
A31: 2.按障礙類別 | B31: 1203754 | C31: 1409 | D31: 7982 | E31: 19878 | F31: 10238 | G31: 12635 | H31: 72623 | I31: 140792 | J31: 65007 | K31: 195472 | L31: 131185 | M31: 546533 | N31: 1203754 | O31: 667925 | P31: 535829 | Q31: 141876 | R31: 76231 | S31: 65645 | T31: 204487 | U31: 110529 | V31: 93958 | W31: 387086 | X31: 214898 | Y31: 172188 | Z31: 470305 | AA31: 266267 | AB31: 204038 | AF31: 23586 | AG31: 70 | AH31: 326 | AI31: 896 | AJ31: 385 | AK31: 384 | AL31: 1962 | AM31: 3351 | AN31: 1431 | AO31: 4017 | AP31: 2966 | AQ31: 7798 | AR31: 23586 | AS31: 13069 | AT31: 10517 | AU31: 2979 | AV31: 1513 | AW31: 1466 | AX31: 3760 | AY31: 2150 | AZ31: 1610 | BA31: 7326 | BB31: 4082 | BC31: 3244 | BD31: 9521 | BE31: 5324 | BF31: 4197
A32: 神經系統構造及精神、 心智功能 | B32: 358828 | C32: 199 | D32: 3424 | E32: 14080 | F32: 7203 | G32: 8881 | H32: 45425 | I32: 70545 | J32: 26768 | K32: 56798 | L32: 25080 | M32: 100425 | N32: 358828 | O32: 183645 | P32: 175183 | Q32: 16087 | R32: 8111 | S32: 7976 | T32: 56619 | U32: 27143 | V32: 29476 | W32: 149423 | X32: 74310 | Y32: 75113 | Z32: 136699 | AA32: 74081 | AB32: 62618 | AC32: 0 | AD32: 0 | AE32: 0 | AF32: 6616 | AG32: 7 | AH32: 125 | AI32: 666 | AJ32: 287 | AK32: 270 | AL32: 1147 | AM32: 1500 | AN32: 413 | AO32: 722 | AP32: 368 | AQ32: 1111 | AR32: 6616 | AS32: 3378 | AT32: 3238 | AU32: 220 | AV32: 115 | AW32: 105 | AX32: 762 | AY32: 386 | AZ32: 376 | BA32: 2590 | BB32: 1246 | BC32: 1344 | BD32: 3044 | BE32: 1631 | BF32: 1413 | BG32: 0 | BH32: 0 | BI32: 0
A33: 眼、耳及 相關構造與 感官功能及疼痛 | B33: 186735 | C33: 339 | D33: 537 | E33: 1198 | F33: 678 | G33: 832 | H33: 5617 | I33: 12675 | J33: 5383 | K33: 18458 | L33: 15798 | M33: 125220 | N33: 186735 | O33: 103053 | P33: 83682 | Q33: 186 | R33: 99 | S33: 87 | T33: 42860 | U33: 23247 | V33: 19613 | W33: 52106 | X33: 28951 | Y33: 23155 | Z33: 91583 | AA33: 50756 | AB33: 40827 | AC33: 0 | AD33: 0 | AE33: 0 | AF33: 2789 | AG33: 13 | AH33: 22 | AI33: 33 | AJ33: 19 | AK33: 21 | AL33: 132 | AM33: 237 | AN33: 130 | AO33: 403 | AP33: 336 | AQ33: 1443 | AR33: 2789 | AS33: 1491 | AT33: 1298 | AU33: 0 | AV33: 0 | AW33: 0 | AX33: 766 | AY33: 434 | AZ33: 332 | BA33: 687 | BB33: 359 | BC33: 328 | BD33: 1336 | BE33: 698 | BF33: 638 | BG33: 0 | BH33: 0 | BI33: 0
A34: 涉及聲音與言語構造 及其功能 | B34: 12523 | C34: 1 | D34: 18 | E34: 34 | F34: 30 | G34: 90 | H34: 407 | I34: 1426 | J34: 1053 | K34: 3332 | L34: 1956 | M34: 4176 | N34: 12523 | O34: 9540 | P34: 2983 | Q34: 32 | R34: 18 | S34: 14 | T34: 3554 | U34: 2982 | V34: 572 | W34: 2440 | X34: 1888 | Y34: 552 | Z34: 6497 | AA34: 4652 | AB34: 1845 | AC34: 0 | AD34: 0 | AE34: 0 | AF34: 229 | AG34: 0 | AH34: 1 | AI34: 2 | AJ34: 0 | AK34: 2 | AL34: 12 | AM34: 25 | AN34: 16 | AO34: 61 | AP34: 42 | AQ34: 68 | AR34: 229 | AS34: 158 | AT34: 71 | AU34: 0 | AV34: 0 | AW34: 0 | AX34: 58 | AY34: 46 | AZ34: 12 | BA34: 52 | BB34: 38 | BC34: 14 | BD34: 119 | BE34: 74 | BF34: 45 | BG34: 0 | BH34: 0 | BI34: 0
A35: 循環、造血、免疫與呼吸系統構造及其功能 | B35: 64194 | C35: 102 | D35: 213 | E35: 483 | F35: 267 | G35: 327 | H35: 2121 | I35: 4106 | J35: 2585 | K35: 9231 | L35: 7216 | M35: 37543 | N35: 64194 | O35: 36533 | P35: 27661 | Q35: 7853 | R35: 5066 | S35: 2787 | T35: 5306 | U35: 3446 | V35: 1860 | W35: 10339 | X35: 7011 | Y35: 3328 | Z35: 40696 | AA35: 21010 | AB35: 19686 | AC35: 0 | AD35: 0 | AE35: 0 | AF35: 1221 | AG35: 5 | AH35: 6 | AI35: 20 | AJ35: 10 | AK35: 8 | AL35: 45 | AM35: 113 | AN35: 60 | AO35: 243 | AP35: 173 | AQ35: 538 | AR35: 1221 | AS35: 671 | AT35: 550 | AU35: 222 | AV35: 138 | AW35: 84 | AX35: 140 | AY35: 83 | AZ35: 57 | BA35: 227 | BB35: 140 | BC35: 87 | BD35: 632 | BE35: 310 | BF35: 322 | BG35: 0 | BH35: 0 | BI35: 0
A36: 消化、新陳代謝與內分泌系統相關構造及其功能 | B36: 12397 | C36: 49 | D36: 88 | E36: 167 | F36: 78 | G36: 73 | H36: 344 | I36: 711 | J36: 722 | K36: 2643 | L36: 1864 | M36: 5658 | N36: 12397 | O36: 8381 | P36: 4016 | Q36: 2250 | R36: 1631 | S36: 619 | T36: 1375 | U36: 982 | V36: 393 | W36: 1339 | X36: 954 | Y36: 385 | Z36: 7433 | AA36: 4814 | AB36: 2619 | AC36: 0 | AD36: 0 | AE36: 0 | AF36: 285 | AG36: 2 | AH36: 2 | AI36: 6 | AJ36: 2 | AK36: 0 | AL36: 14 | AM36: 35 | AN36: 29 | AO36: 80 | AP36: 48 | AQ36: 67 | AR36: 285 | AS36: 174 | AT36: 111 | AU36: 42 | AV36: 23 | AW36: 19 | AX36: 51 | AY36: 35 | AZ36: 16 | BA36: 42 | BB36: 28 | BC36: 14 | BD36: 150 | BE36: 88 | BF36: 62 | BG36: 0 | BH36: 0 | BI36: 0
A37: 泌尿與生殖系統相關構造及其功能 | B37: 81439 | C37: 10 | D37: 18 | E37: 51 | F37: 42 | G37: 74 | H37: 1278 | I37: 6141 | J37: 4301 | K37: 15047 | L37: 11630 | M37: 42847 | N37: 81439 | O37: 42906 | P37: 38533 | Q37: 67606 | R37: 35633 | S37: 31973 | T37: 3231 | U37: 1532 | V37: 1699 | W37: 6492 | X37: 3387 | Y37: 3105 | Z37: 4110 | AA37: 2354 | AB37: 1756 | AC37: 0 | AD37: 0 | AE37: 0 | AF37: 1660 | AG37: 0 | AH37: 0 | AI37: 1 | AJ37: 0 | AK37: 1 | AL37: 56 | AM37: 188 | AN37: 131 | AO37: 445 | AP37: 296 | AQ37: 542 | AR37: 1660 | AS37: 762 | AT37: 898 | AU37: 1476 | AV37: 677 | AW37: 799 | AX37: 60 | AY37: 32 | AZ37: 28 | BA37: 79 | BB37: 30 | BC37: 49 | BD37: 45 | BE37: 23 | BF37: 22 | BG37: 0 | BH37: 0 | BI37: 0
A38: 神經、肌肉 、骨骼之移動相關構造及其功能 | B38: 348671 | C38: 237 | D38: 573 | E38: 1283 | F38: 719 | G38: 853 | H38: 7825 | I38: 29908 | J38: 17376 | K38: 70906 | L38: 54689 | M38: 164302 | N38: 348671 | O38: 205477 | P38: 143194 | Q38: 3447 | R38: 2037 | S38: 1410 | T38: 43925 | U38: 24791 | V38: 19134 | W38: 125697 | X38: 75140 | Y38: 50557 | Z38: 175602 | AA38: 103509 | AB38: 72093 | AC38: 0 | AD38: 0 | AE38: 0 | AF38: 7917 | AG38: 19 | AH38: 25 | AI38: 49 | AJ38: 27 | AK38: 37 | AL38: 266 | AM38: 883 | AN38: 509 | AO38: 1656 | AP38: 1365 | AQ38: 3081 | AR38: 7917 | AS38: 4823 | AT38: 3094 | AU38: 83 | AV38: 54 | AW38: 29 | AX38: 962 | AY38: 588 | AZ38: 374 | BA38: 2870 | BB38: 1806 | BC38: 1064 | BD38: 4002 | BE38: 2375 | BF38: 1627 | BG38: 0 | BH38: 0 | BI38: 0
A39: 皮膚與相關構造及其功能 | B39: 4673 | C39: 12 | D39: 20 | E39: 48 | F39: 23 | G39: 33 | H39: 500 | I39: 847 | J39: 411 | K39: 1054 | L39: 618 | M39: 1107 | N39: 4673 | O39: 3115 | P39: 1558 | Q39: 0 | R39: 0 | S39: 0 | T39: 351 | U39: 199 | V39: 152 | W39: 839 | X39: 514 | Y39: 325 | Z39: 3483 | AA39: 2402 | AB39: 1081 | AC39: 0 | AD39: 0 | AE39: 0 | AF39: 82 | AG39: 0 | AH39: 1 | AI39: 1 | AJ39: 2 | AK39: 0 | AL39: 16 | AM39: 21 | AN39: 6 | AO39: 12 | AP39: 10 | AQ39: 13 | AR39: 82 | AS39: 47 | AT39: 35 | AU39: 0 | AV39: 0 | AW39: 0 | AX39: 3 | AY39: 1 | AZ39: 2 | BA39: 20 | BB39: 11 | BC39: 9 | BD39: 59 | BE39: 35 | BF39: 24 | BG39: 0 | BH39: 0 | BI39: 0
A40: 兩類別以上者 | B40: 130567 | C40: 458 | D40: 3088 | E40: 2494 | F40: 1034 | G40: 1207 | H40: 7604 | I40: 13302 | J40: 6250 | K40: 17765 | L40: 12256 | M40: 65109 | N40: 130567 | O40: 73282 | P40: 57285 | Q40: 44151 | R40: 23511 | S40: 20640 | T40: 46085 | U40: 25534 | V40: 20551 | W40: 37452 | X40: 22245 | Y40: 15207 | Z40: 2879 | AA40: 1992 | AB40: 887 | AC40: 0 | AD40: 0 | AE40: 0 | AF40: 2572 | AG40: 23 | AH40: 144 | AI40: 115 | AJ40: 32 | AK40: 32 | AL40: 230 | AM40: 302 | AN40: 123 | AO40: 375 | AP40: 302 | AQ40: 894 | AR40: 2572 | AS40: 1455 | AT40: 1117 | AU40: 855 | AV40: 466 | AW40: 389 | AX40: 885 | AY40: 504 | AZ40: 381 | BA40: 719 | BB40: 408 | BC40: 311 | BD40: 113 | BE40: 77 | BF40: 36 | BG40: 0 | BH40: 0 | BI40: 0
A41: 舊制轉換新制 暫無法歸類者 | B41: 3727 | C41: 2 | D41: 3 | E41: 40 | F41: 164 | G41: 265 | H41: 1502 | I41: 1131 | J41: 158 | K41: 238 | L41: 78 | M41: 146 | N41: 3727 | O41: 1993 | P41: 1734 | Q41: 264 | R41: 125 | S41: 139 | T41: 1181 | U41: 673 | V41: 508 | W41: 959 | X41: 498 | Y41: 461 | Z41: 1323 | AA41: 697 | AB41: 626 | AC41: 0 | AD41: 0 | AE41: 0 | AF41: 215 | AG41: 1 | AH41: 0 | AI41: 3 | AJ41: 6 | AK41: 13 | AL41: 44 | AM41: 47 | AN41: 14 | AO41: 20 | AP41: 26 | AQ41: 41 | AR41: 215 | AS41: 110 | AT41: 105 | AU41: 81 | AV41: 40 | AW41: 41 | AX41: 73 | AY41: 41 | AZ41: 32 | BA41: 40 | BB41: 16 | BC41: 24 | BD41: 21 | BE41: 13 | BF41: 8 | BG41: 0 | BH41: 0 | BI41: 0
A42: 說明:110年起身心障礙者按障礙類別以新制類別呈現。
A43: 資料來源：直轄市、縣(市)政府。

Sheet 109
A1: 1.3-01 身心障礙者按年齡與等級
A2: 民國109年底
A3: 單位：人 | B3: 一、全體 | N3: 一、全體 | AF3: 二、原住民 | AR3: 二、原住民
A4: 區域及障礙類別 | B4: 總計 | C4: 0-2歲 | D4: 3-5歲 | E4: 6-11歲 | F4: 12-14歲 | G4: 15-17歲 | H4: 18-29歲 | I4: 30-44歲 | J4: 45-49歲 | K4: 50-59歲 | L4: 60-64歲 | M4: 65歲以上 | N4: 總計 | Q4: 極重度 | T4: 重度 | W4: 中度 | Z4: 輕度 | AC4: 占總人口比率（％） | AF4: 總計 | AG4: 0-2歲 | AH4: 3-5歲 | AI4: 6-11歲 | AJ4: 12-14歲 | AK4: 15-17歲 | AL4: 18-29歲 | AM4: 30-44歲 | AN4: 45-49 | AO4: 50-59歲 | AP4: 60-64歲 | AQ4: 65歲以上 | AR4: 總計 | AU4: 極重度 | AX4: 重度 | BA4: 中度 | BD4: 輕度 | BG4: 占總原住民人口比率（％）
N5: 計 | O5: 男 | P5: 女 | Q5: 計 | R5: 男 | S5: 女 | T5: 計 | U5: 男 | V5: 女 | W5: 計 | X5: 男 | Y5: 女 | Z5: 計 | AA5: 男 | AB5: 女 | AC5: 計 | AD5: 男 | AE5: 女 | AR5: 計 | AS5: 男 | AT5: 女 | AU5: 計 | AV5: 男 | AW5: 女 | AX5: 計 | AY5: 男 | AZ5: 女 | BA5: 計 | BB5: 男 | BC5: 女 | BD5: 計 | BE5: 男 | BF5: 女 | BG5: 計 | BH5: 男 | BI5: 女
A6: 109年,2020
A7: 1.按區域別 | B7: 1197939 | C7: 1587 | D7: 8066 | E7: 18523 | F7: 10464 | G7: 12961 | H7: 73300 | I7: 143730 | J7: 64861 | K7: 201930 | L7: 130278 | M7: 532239 | N7: 1197939 | O7: 665776 | P7: 532163 | Q7: 142563 | R7: 76207 | S7: 66356 | T7: 205437 | U7: 111311 | V7: 94126 | W7: 385592 | X7: 214713 | Y7: 170879 | Z7: 464347 | AA7: 263545 | AB7: 200802 | AC7: 5.08 | AD7: 5.7 | AE7: 4.48 | AF7: 24915 | AG7: 71 | AH7: 356 | AI7: 774 | AJ7: 343 | AK7: 395 | AL7: 1994 | AM7: 3948 | AN7: 1725 | AO7: 5023 | AP7: 2933 | AQ7: 7353 | AR7: 24915 | AS7: 13929 | AT7: 10986 | AU7: 3008 | AV7: 1503 | AW7: 1505 | AX7: 4031 | AY7: 2315 | AZ7: 1716 | BA7: 7962 | BB7: 4497 | BC7: 3465 | BD7: 9914 | BE7: 5614 | BF7: 4300 | BG7: 4.3195814 | BH7: 4.9912208 | BI7: 3.6900195
A8: 新北市 | B8: 173395 | C8: 303 | D8: 1502 | E8: 3425 | F8: 1841 | G8: 2083 | H8: 11585 | I8: 22178 | J8: 9545 | K8: 30049 | L8: 20045 | M8: 70839 | N8: 173395 | O8: 97046 | P8: 76349 | Q8: 22142 | R8: 11910 | S8: 10232 | T8: 28551 | U8: 15334 | V8: 13217 | W8: 53934 | X8: 30068 | Y8: 23866 | Z8: 68768 | AA8: 39734 | AB8: 29034 | AC8: 4.3 | AD8: 4.93 | AE8: 3.7 | AF8: 1844 | AG8: 14 | AH8: 36 | AI8: 90 | AJ8: 29 | AK8: 40 | AL8: 195 | AM8: 347 | AN8: 157 | AO8: 346 | AP8: 229 | AQ8: 361 | AR8: 1844 | AS8: 1000 | AT8: 844 | AU8: 249 | AV8: 112 | AW8: 137 | AX8: 243 | AY8: 134 | AZ8: 109 | BA8: 513 | BB8: 276 | BC8: 237 | BD8: 839 | BE8: 478 | BF8: 361 | BG8: 3.2121518 | BH8: 3.765202 | BI8: 2.7359959
A9: 臺北市 | B9: 119803 | C9: 159 | D9: 815 | E9: 1985 | F9: 1091 | G9: 1305 | H9: 7155 | I9: 12911 | J9: 5777 | K9: 18466 | L9: 12538 | M9: 57601 | N9: 119803 | O9: 64294 | P9: 55509 | Q9: 15260 | R9: 8080 | S9: 7180 | T9: 23002 | U9: 11989 | V9: 11013 | W9: 37866 | X9: 20086 | Y9: 17780 | Z9: 43675 | AA9: 24139 | AB9: 19536 | AC9: 4.6 | AD9: 5.19 | AE9: 4.07 | AF9: 557 | AG9: 2 | AH9: 7 | AI9: 13 | AJ9: 10 | AK9: 14 | AL9: 61 | AM9: 85 | AN9: 44 | AO9: 111 | AP9: 61 | AQ9: 149 | AR9: 557 | AS9: 257 | AT9: 300 | AU9: 54 | AV9: 26 | AW9: 28 | AX9: 118 | AY9: 65 | AZ9: 53 | BA9: 177 | BB9: 77 | BC9: 100 | BD9: 208 | BE9: 89 | BF9: 119 | BG9: 3.2514156 | BH9: 3.5311899 | BI9: 3.0447579
A10: 桃園市 | B10: 88011 | C10: 144 | D10: 821 | E10: 1802 | F10: 1045 | G10: 1396 | H10: 6885 | I10: 11851 | J10: 5346 | K10: 14860 | L10: 9185 | M10: 34676 | N10: 88011 | O10: 49721 | P10: 38290 | Q10: 11177 | R10: 5998 | S10: 5179 | T10: 14537 | U10: 7939 | V10: 6598 | W10: 27412 | X10: 15453 | Y10: 11959 | Z10: 34885 | AA10: 20331 | AB10: 14554 | AC10: 3.88 | AD10: 4.42 | AE10: 3.35 | AF10: 1510 | AG10: 9 | AH10: 47 | AI10: 95 | AJ10: 55 | AK10: 46 | AL10: 144 | AM10: 232 | AN10: 114 | AO10: 282 | AP10: 158 | AQ10: 328 | AR10: 1510 | AS10: 835 | AT10: 675 | AU10: 209 | AV10: 101 | AW10: 108 | AX10: 231 | AY10: 138 | AZ10: 93 | BA10: 426 | BB10: 235 | BC10: 191 | BD10: 644 | BE10: 361 | BF10: 283 | BG10: 1.9443228 | BH10: 2.2478867 | BI10: 1.6660085
A11: 臺中市 | B11: 128167 | C11: 207 | D11: 1241 | E11: 2528 | F11: 1296 | G11: 1520 | H11: 8867 | I11: 16763 | J11: 7146 | K11: 21502 | L11: 13813 | M11: 53284 | N11: 128167 | O11: 71509 | P11: 56658 | Q11: 15882 | R11: 8473 | S11: 7409 | T11: 22340 | U11: 12064 | V11: 10276 | W11: 40721 | X11: 22850 | Y11: 17871 | Z11: 49224 | AA11: 28122 | AB11: 21102 | AC11: 4.54 | AD11: 5.16 | AE11: 3.95 | AF11: 1125 | AG11: 3 | AH11: 35 | AI11: 57 | AJ11: 19 | AK11: 18 | AL11: 138 | AM11: 209 | AN11: 67 | AO11: 261 | AP11: 117 | AQ11: 201 | AR11: 1125 | AS11: 587 | AT11: 538 | AU11: 129 | AV11: 65 | AW11: 64 | AX11: 154 | AY11: 84 | AZ11: 70 | BA11: 375 | BB11: 188 | BC11: 187 | BD11: 467 | BE11: 250 | BF11: 217 | BG11: 3.1393013 | BH11: 3.5644887 | BI11: 2.7777778
A12: 臺南市 | B12: 99072 | C12: 125 | D12: 513 | E12: 1435 | F12: 779 | G12: 970 | H12: 5359 | I12: 11172 | J12: 4911 | K12: 16583 | L12: 11178 | M12: 46047 | N12: 99072 | O12: 54583 | P12: 44489 | Q12: 11922 | R12: 6338 | S12: 5584 | T12: 17093 | U12: 9087 | V12: 8006 | W12: 30895 | X12: 17226 | Y12: 13669 | Z12: 39162 | AA12: 21932 | AB12: 17230 | AC12: 5.28 | AD12: 5.84 | AE12: 4.73 | AF12: 246 | AG12: 1 | AH12: 8 | AI12: 13 | AJ12: 5 | AK12: 4 | AL12: 26 | AM12: 37 | AN12: 26 | AO12: 47 | AP12: 28 | AQ12: 51 | AR12: 246 | AS12: 113 | AT12: 133 | AU12: 34 | AV12: 13 | AW12: 21 | AX12: 36 | AY12: 17 | AZ12: 19 | BA12: 75 | BB12: 34 | BC12: 41 | BD12: 101 | BE12: 49 | BF12: 52 | BG12: 2.9264811 | BH12: 3.2056738 | BI12: 2.7248515
A13: 高雄市 | B13: 145110 | C13: 197 | D13: 944 | E13: 1885 | F13: 1106 | G13: 1367 | H13: 8211 | I13: 17703 | J13: 8687 | K13: 25903 | L13: 16404 | M13: 62703 | N13: 145110 | O13: 79902 | P13: 65208 | Q13: 17393 | R13: 9161 | S13: 8232 | T13: 23692 | U13: 13073 | V13: 10619 | W13: 48498 | X13: 26886 | Y13: 21612 | Z13: 55527 | AA13: 30782 | AB13: 24745 | AC13: 5.25 | AD13: 5.86 | AE13: 4.65 | AF13: 1533 | AG13: 5 | AH13: 29 | AI13: 55 | AJ13: 26 | AK13: 35 | AL13: 157 | AM13: 255 | AN13: 124 | AO13: 338 | AP13: 160 | AQ13: 349 | AR13: 1533 | AS13: 804 | AT13: 729 | AU13: 228 | AV13: 105 | AW13: 123 | AX13: 241 | AY13: 134 | AZ13: 107 | BA13: 490 | BB13: 270 | BC13: 220 | BD13: 574 | BE13: 295 | BF13: 279 | BG13: 4.2873923 | BH13: 4.7877092 | BI13: 3.8443284
A14: 宜蘭縣 | B14: 32001 | C14: 32 | D14: 172 | E14: 326 | F14: 213 | G14: 316 | H14: 1774 | I14: 3439 | J14: 1656 | K14: 5362 | L14: 3252 | M14: 15459 | N14: 32001 | O14: 17345 | P14: 14656 | Q14: 3320 | R14: 1730 | S14: 1590 | T14: 5027 | U14: 2686 | V14: 2341 | W14: 10133 | X14: 5514 | Y14: 4619 | Z14: 13521 | AA14: 7415 | AB14: 6106 | AC14: 7.06 | AD14: 7.6 | AE14: 6.52 | AF14: 974 | AG14: 2 | AH14: 12 | AI14: 19 | AJ14: 11 | AK14: 11 | AL14: 74 | AM14: 150 | AN14: 72 | AO14: 229 | AP14: 121 | AQ14: 273 | AR14: 974 | AS14: 559 | AT14: 415 | AU14: 129 | AV14: 66 | AW14: 63 | AX14: 128 | AY14: 85 | AZ14: 43 | BA14: 317 | BB14: 178 | BC14: 139 | BD14: 400 | BE14: 230 | BF14: 170 | BG14: 5.5140399 | BH14: 6.4557108 | BI14: 4.6085508
A15: 新竹縣 | B15: 23386 | C15: 41 | D15: 202 | E15: 408 | F15: 279 | G15: 290 | H15: 1791 | I15: 2942 | J15: 1358 | K15: 3722 | L15: 2281 | M15: 10072 | N15: 23386 | O15: 13627 | P15: 9759 | Q15: 3106 | R15: 1699 | S15: 1407 | T15: 4318 | U15: 2399 | V15: 1919 | W15: 7439 | X15: 4299 | Y15: 3140 | Z15: 8523 | AA15: 5230 | AB15: 3293 | AC15: 4.1 | AD15: 4.68 | AE15: 3.49 | AF15: 799 | AG15: 0 | AH15: 17 | AI15: 14 | AJ15: 12 | AK15: 8 | AL15: 60 | AM15: 392 | AN15: 0 | AO15: 0 | AP15: 97 | AQ15: 199 | AR15: 799 | AS15: 485 | AT15: 314 | AU15: 102 | AV15: 62 | AW15: 40 | AX15: 155 | AY15: 95 | AZ15: 60 | BA15: 276 | BB15: 159 | BC15: 117 | BD15: 266 | BE15: 169 | BF15: 97 | BG15: 3.6344614 | BH15: 4.4994897 | BI15: 2.8023204
A16: 苗栗縣 | B16: 34262 | C16: 28 | D16: 179 | E16: 470 | F16: 263 | G16: 378 | H16: 2096 | I16: 3930 | J16: 1719 | K16: 5313 | L16: 3429 | M16: 16457 | N16: 34262 | O16: 19467 | P16: 14795 | Q16: 3772 | R16: 2022 | S16: 1750 | T16: 6580 | U16: 3593 | V16: 2987 | W16: 11838 | X16: 6685 | Y16: 5153 | Z16: 12072 | AA16: 7167 | AB16: 4905 | AC16: 6.31 | AD16: 6.96 | AE16: 5.63 | AF16: 566 | AG16: 2 | AH16: 4 | AI16: 20 | AJ16: 9 | AK16: 13 | AL16: 52 | AM16: 84 | AN16: 54 | AO16: 117 | AP16: 65 | AQ16: 146 | AR16: 566 | AS16: 303 | AT16: 263 | AU16: 81 | AV16: 39 | AW16: 42 | AX16: 82 | AY16: 39 | AZ16: 43 | BA16: 186 | BB16: 108 | BC16: 78 | BD16: 217 | BE16: 117 | BF16: 100 | BG16: 4.9609957 | BH16: 5.4643823 | BI16: 4.4849932
A17: 彰化縣 | B17: 70240 | C17: 75 | D17: 341 | E17: 903 | F17: 539 | G17: 723 | H17: 4348 | I17: 9267 | J17: 3725 | K17: 11322 | L17: 7486 | M17: 31511 | N17: 70240 | O17: 39875 | P17: 30365 | Q17: 7567 | R17: 4078 | S17: 3489 | T17: 12198 | U17: 6728 | V17: 5470 | W17: 23600 | X17: 13436 | Y17: 10164 | Z17: 26875 | AA17: 15633 | AB17: 11242 | AC17: 5.55 | AD17: 6.19 | AE17: 4.88 | AF17: 158 | AG17: 0 | AH17: 4 | AI17: 8 | AJ17: 5 | AK17: 7 | AL17: 16 | AM17: 35 | AN17: 14 | AO17: 29 | AP17: 16 | AQ17: 24 | AR17: 158 | AS17: 78 | AT17: 80 | AU17: 11 | AV17: 4 | AW17: 7 | AX17: 24 | AY17: 10 | AZ17: 14 | BA17: 53 | BB17: 31 | BC17: 22 | BD17: 70 | BE17: 33 | BF17: 37 | BG17: 2.6224066 | BH17: 2.9500756 | BI17: 2.3661639
A18: 南投縣 | B18: 33824 | C18: 34 | D18: 138 | E18: 346 | F18: 218 | G18: 285 | H18: 1739 | I18: 3682 | J18: 1686 | K18: 5288 | L18: 3478 | M18: 16930 | N18: 33824 | O18: 19077 | P18: 14747 | Q18: 3797 | R18: 2036 | S18: 1761 | T18: 5529 | U18: 3115 | V18: 2414 | W18: 11252 | X18: 6385 | Y18: 4867 | Z18: 13246 | AA18: 7541 | AB18: 5705 | AC18: 6.89 | AD18: 7.61 | AE18: 6.14 | AF18: 1493 | AG18: 3 | AH18: 15 | AI18: 38 | AJ18: 13 | AK18: 21 | AL18: 116 | AM18: 229 | AN18: 102 | AO18: 355 | AP18: 200 | AQ18: 401 | AR18: 1493 | AS18: 869 | AT18: 624 | AU18: 215 | AV18: 112 | AW18: 103 | AX18: 231 | AY18: 137 | AZ18: 94 | BA18: 501 | BB18: 291 | BC18: 210 | BD18: 546 | BE18: 329 | BF18: 217 | BG18: 5.0809965 | BH18: 5.8995248 | BI18: 4.258223
... A29: 連江縣 | B29: 486 | C29: 2 | D29: 4 | E29: 7 | F29: 3 | G29: 7 | H29: 29 | I29: 53 | J29: 24 | K29: 81 | L29: 62 | M29: 214 | N29: 486 | O29: 310 | P29: 176 | Q29: 33 | R29: 24 | S29: 9 | T29: 86 | U29: 46 | V29: 40 | W29: 124 | X29: 79 | Y29: 45 | Z29: 243 | AA29: 161 | AB29: 82 | AC29: 3.66 | AD29: 4.04 | AE29: 3.14 | AF29: 7 | AG29: 0 | AH29: 0 | AI29: 0 | AJ29: 0 | AK29: 0 | AL29: 0 | AM29: 1 | AN29: 0 | AO29: 3 | AP29: 1 | AQ29: 2 | AR29: 7 | AS29: 5 | AT29: 2 | AU29: 0 | AV29: 0 | AW29: 0 | AX29: 0 | AY29: 0 | AZ29: 0 | BA29: 2 | BB29: 2 | BC29: 0 | BD29: 5 | BE29: 3 | BF29: 2 | BG29: 2.8688525 | BH29: 3.4013605 | BI29: 2.0618557
A31: 2.按障礙類別 | B31: 1197939 | C31: 1587 | D31: 8066 | E31: 18523 | F31: 10464 | G31: 12961 | H31: 73300 | I31: 143730 | J31: 64861 | K31: 201930 | L31: 130278 | M31: 532239 | N31: 1197939 | O31: 665776 | P31: 532163 | Q31: 142563 | R31: 76207 | S31: 66356 | T31: 205437 | U31: 111311 | V31: 94126 | W31: 385592 | X31: 214713 | Y31: 170879 | Z31: 464347 | AA31: 263545 | AB31: 200802 | AF31: 24915 | AG31: 71 | AH31: 356 | AI31: 774 | AJ31: 343 | AK31: 395 | AL31: 1994 | AM31: 3948 | AN31: 1725 | AO31: 5023 | AP31: 2933 | AQ31: 7353 | AR31: 24915 | AS31: 13929 | AT31: 10986 | AU31: 3008 | AV31: 1503 | AW31: 1505 | AX31: 4031 | AY31: 2315 | AZ31: 1716 | BA31: 7962 | BB31: 4497 | BC31: 3465 | BD31: 9914 | BE31: 5614 | BF31: 4300
A32: 視覺障礙者 | B32: 56036 | C32: 17 | D32: 41 | E32: 246 | F32: 198 | G32: 260 | H32: 2154 | I32: 5505 | J32: 2560 | K32: 8069 | L32: 5613 | M32: 31373 | N32: 56036 | O32: 29493 | P32: 26543 | Q32: 39 | R32: 18 | S32: 21 | T32: 21361 | U32: 11683 | V32: 9678 | W32: 16608 | X32: 8308 | Y32: 8300 | Z32: 18028 | AA32: 9484 | AB32: 8544 | AC32: 0 | AD32: 0 | AE32: 0 | AF32: 895 | AG32: 3 | AH32: 2 | AI32: 6 | AJ32: 6 | AK32: 18 | AL32: 49 | AM32: 130 | AN32: 85 | AO32: 167 | AP32: 117 | AQ32: 312 | AR32: 895 | AS32: 496 | AT32: 399 | AU32: 1 | AV32: 0 | AW32: 1 | AX32: 413 | AY32: 234 | AZ32: 179 | BA32: 220 | BB32: 118 | BC32: 102 | BD32: 261 | BE32: 144 | BF32: 117 | BG32: 0 | BH32: 0 | BI32: 0
A33: 聽覺機能障礙者 | B33: 124825 | C33: 339 | D33: 533 | E33: 906 | F33: 516 | G33: 595 | H33: 3549 | I33: 7032 | J33: 2632 | K33: 10321 | L33: 10029 | M33: 88373 | N33: 124825 | O33: 70327 | P33: 54498 | Q33: 39 | R33: 19 | S33: 20 | T33: 20644 | U33: 11074 | V33: 9570 | W33: 34656 | X33: 20178 | Y33: 14478 | Z33: 69486 | AA33: 39056 | AB33: 30430 | AC33: 0 | AD33: 0 | AE33: 0 | AF33: 1910 | AG33: 9 | AH33: 21 | AI33: 21 | AJ33: 13 | AK33: 9 | AL33: 77 | AM33: 163 | AN33: 76 | AO33: 292 | AP33: 208 | AQ33: 1021 | AR33: 1910 | AS33: 1019 | AT33: 891 | AU33: 0 | AV33: 0 | AW33: 0 | AX33: 399 | AY33: 226 | AZ33: 173 | BA33: 494 | BB33: 264 | BC33: 230 | BD33: 1017 | BE33: 529 | BF33: 488 | BG33: 0 | BH33: 0 | BI33: 0
A34: 平衡機能障礙者 | B34: 3300 | C34: 0 | D34: 4 | E34: 10 | F34: 4 | G34: 7 | H34: 63 | I34: 212 | J34: 136 | K34: 543 | L34: 417 | M34: 1904 | N34: 3300 | O34: 1914 | P34: 1386 | Q34: 9 | R34: 5 | S34: 4 | T34: 144 | U34: 79 | V34: 65 | W34: 717 | X34: 394 | Y34: 323 | Z34: 2430 | AA34: 1436 | AB34: 994 | AC34: 0 | AD34: 0 | AE34: 0 | AF34: 35 | AG34: 0 | AH34: 0 | AI34: 0 | AJ34: 0 | AK34: 1 | AL34: 1 | AM34: 2 | AN34: 2 | AO34: 8 | AP34: 8 | AQ34: 13 | AR34: 35 | AS34: 16 | AT34: 19 | AU34: 0 | AV34: 0 | AW34: 0 | AX34: 2 | AY34: 0 | AZ34: 2 | BA34: 2 | BB34: 1 | BC34: 1 | BD34: 31 | BE34: 15 | BF34: 16 | BG34: 0 | BH34: 0 | BI34: 0
A35: 聲音機能或語言機能障礙者 | B35: 15462 | C35: 8 | D35: 202 | E35: 493 | F35: 162 | G35: 183 | H35: 618 | I35: 1687 | J35: 1188 | K35: 3788 | L35: 2208 | M35: 4925 | N35: 15462 | O35: 11476 | P35: 3986 | Q35: 59 | R35: 32 | S35: 27 | T35: 3985 | U35: 3268 | V35: 717 | W35: 3292 | X35: 2442 | Y35: 850 | Z35: 8126 | AA35: 5734 | AB35: 2392 | AC35: 0 | AD35: 0 | AE35: 0 | AF35: 332 | AG35: 0 | AH35: 12 | AI35: 31 | AJ35: 8 | AK35: 2 | AL35: 20 | AM35: 34 | AN35: 28 | AO35: 72 | AP35: 46 | AQ35: 79 | AR35: 332 | AS35: 215 | AT35: 117 | AU35: 0 | AV35: 0 | AW35: 0 | AX35: 79 | AY35: 58 | AZ35: 21 | BA35: 76 | BB35: 53 | BC35: 23 | BD35: 177 | BE35: 104 | BF35: 73 | BG35: 0 | BH35: 0 | BI35: 0
A36: 肢體障礙者 | B36: 357241 | C36: 267 | D36: 650 | E36: 1377 | F36: 771 | G36: 966 | H36: 8308 | I36: 31787 | J36: 18255 | K36: 76618 | L36: 54498 | M36: 163744 | N36: 357241 | O36: 210411 | P36: 146830 | Q36: 4693 | R36: 2642 | S36: 2051 | T36: 46282 | U36: 26106 | V36: 20176 | W36: 128638 | X36: 76842 | Y36: 51796 | Z36: 177628 | AA36: 104821 | AB36: 72807 | AC36: 0 | AD36: 0 | AE36: 0 | AF36: 9082 | AG36: 17 | AH36: 16 | AI36: 49 | AJ36: 25 | AK36: 41 | AL36: 284 | AM36: 1211 | AN36: 690 | AO36: 2332 | AP36: 1429 | AQ36: 2988 | AR36: 9082 | AS36: 5603 | AT36: 3479 | AU36: 102 | AV36: 67 | AW36: 35 | AX36: 1078 | AY36: 666 | AZ36: 412 | BA36: 3336 | BB36: 2107 | BC36: 1229 | BD36: 4566 | BE36: 2763 | BF36: 1803 | BG36: 0 | BH36: 0 | BI36: 0
A37: 智能障礙者 | B37: 102149 | C37: 16 | D37: 808 | E37: 5419 | F37: 3480 | G37: 4900 | H37: 26936 | I37: 33839 | J37: 7066 | K37: 10914 | L37: 3787 | M37: 4984 | N37: 102149 | O37: 58095 | P37: 44054 | Q37: 6981 | R37: 3823 | S37: 3158 | T37: 13850 | U37: 7677 | V37: 6173 | W37: 39010 | X37: 21376 | Y37: 17634 | Z37: 42308 | AA37: 25219 | AB37: 17089 | AC37: 0 | AD37: 0 | AE37: 0 | AF37: 2913 | AG37: 0 | AH37: 54 | AI37: 357 | AJ37: 179 | AK37: 194 | AL37: 854 | AM37: 880 | AN37: 111 | AO37: 172 | AP37: 55 | AQ37: 57 | AR37: 2913 | AS37: 1694 | AT37: 1219 | AU37: 92 | AV37: 48 | AW37: 44 | AX37: 254 | AY37: 141 | AZ37: 113 | BA37: 1089 | BB37: 609 | BC37: 480 | BD37: 1478 | BE37: 896 | BF37: 582 | BG37: 0 | BH37: 0 | BI37: 0
A38: 重要器官失去功能者 | B38: 158172 | C38: 153 | D38: 266 | E38: 621 | F38: 385 | G38: 498 | H38: 3932 | I38: 11378 | J38: 7563 | K38: 27765 | L38: 21360 | M38: 84251 | N38: 158172 | O38: 87865 | P38: 70307 | Q38: 78500 | R38: 42360 | S38: 36140 | T38: 10225 | U38: 6126 | V38: 4099 | W38: 18607 | X38: 11584 | Y38: 7023 | Z38: 50840 | AA38: 27795 | AB38: 23045 | AC38: 0 | AD38: 0 | AE38: 0 | AF38: 3173 | AG38: 6 | AH38: 11 | AI38: 21 | AJ38: 10 | AK38: 13 | AL38: 110 | AM38: 392 | AN38: 240 | AO38: 792 | AP38: 507 | AQ38: 1071 | AR38: 3173 | AS38: 1587 | AT38: 1586 | AU38: 1727 | AV38: 816 | AW38: 911 | AX38: 265 | AY38: 149 | AZ38: 116 | BA38: 364 | BB38: 206 | BC38: 158 | BD38: 817 | BE38: 416 | BF38: 401 | BG38: 0 | BH38: 0 | BI38: 0
A39: 顏面損傷者 | B39: 4648 | C39: 3 | D39: 10 | E39: 36 | F39: 19 | G39: 27 | H39: 535 | I39: 847 | J39: 391 | K39: 1131 | L39: 598 | M39: 1051 | N39: 4648 | O39: 3133 | P39: 1515 | Q39: 0 | R39: 0 | S39: 0 | T39: 320 | U39: 185 | V39: 135 | W39: 853 | X39: 525 | Y39: 328 | Z39: 3475 | AA39: 2423 | AB39: 1052 | AC39: 0 | AD39: 0 | AE39: 0 | AF39: 94 | AG39: 0 | AH39: 0 | AI39: 1 | AJ39: 0 | AK39: 1 | AL39: 20 | AM39: 28 | AN39: 5 | AO39: 18 | AP39: 9 | AQ39: 12 | AR39: 94 | AS39: 53 | AT39: 41 | AU39: 0 | AV39: 0 | AW39: 0 | AX39: 3 | AY39: 0 | AZ39: 3 | BA39: 20 | BB39: 11 | BC39: 9 | BD39: 71 | BE39: 42 | BF39: 29 | BG39: 0 | BH39: 0 | BI39: 0
A40: 植物人 | B40: 2776 | C40: 0 | D40: 1 | E40: 5 | F40: 2 | G40: 9 | H40: 112 | I40: 454 | J40: 205 | K40: 521 | L40: 302 | M40: 1165 | N40: 2776 | O40: 1592 | P40: 1184 | Q40: 2773 | R40: 1590 | S40: 1183 | T40: 1 | U40: 1 | V40: 0 | W40: 0 | X40: 0 | Y40: 0 | Z40: 2 | AA40: 1 | AB40: 1 | AC40: 0 | AD40: 0 | AE40: 0 | AF40: 84 | AG40: 0 | AH40: 0 | AI40: 0 | AJ40: 0 | AK40: 1 | AL40: 9 | AM40: 19 | AN40: 8 | AO40: 18 | AP40: 9 | AQ40: 20 | AR40: 84 | AS40: 42 | AT40: 42 | AU40: 84 | AV40: 42 | AW40: 42 | AX40: 0 | AY40: 0 | AZ40: 0 | BA40: 0 | BB40: 0 | BC40: 0 | BD40: 0 | BE40: 0 | BF40: 0 | BG40: 0 | BH40: 0 | BI40: 0
A41: 失智症者 | B41: 66268 | C41: 0 | D41: 0 | E41: 0 | F41: 4 | G41: 1 | H41: 105 | I41: 583 | J41: 369 | K41: 1905 | L41: 2267 | M41: 61034 | N41: 66268 | O41: 23226 | P41: 43042 | Q41: 3248 | R41: 986 | S41: 2262 | T41: 16379 | U41: 5164 | V41: 11215 | W41: 25360 | X41: 8933 | Y41: 16427 | Z41: 21281 | AA41: 8143 | AB41: 13138 | AC41: 0 | AD41: 0 | AE41: 0 | AF41: 858 | AG41: 0 | AH41: 0 | AI41: 0 | AJ41: 1 | AK41: 0 | AL41: 6 | AM41: 21 | AN41: 16 | AO41: 72 | AP41: 59 | AQ41: 683 | AR41: 858 | AS41: 264 | AT41: 594 | AU41: 42 | AV41: 13 | AW41: 29 | AX41: 202 | AY41: 64 | AZ41: 138 | BA41: 357 | BB41: 103 | BC41: 254 | BD41: 257 | BE41: 84 | BF41: 173 | BG41: 0 | BH41: 0 | BI41: 0
A42: 自閉症者 | B42: 16683 | C42: 36 | D42: 876 | E42: 3994 | F42: 2004 | G42: 1987 | H42: 6389 | I42: 1323 | J42: 30 | K42: 32 | L42: 3 | M42: 9 | N42: 16683 | O42: 14519 | P42: 2164 | Q42: 239 | R42: 186 | S42: 53 | T42: 1116 | U42: 904 | V42: 212 | W42: 3092 | X42: 2678 | Y42: 414 | Z42: 12236 | AA42: 10751 | AB42: 1485 | AC42: 0 | AD42: 0 | AE42: 0 | AF42: 171 | AG42: 1 | AH42: 10 | AI42: 62 | AJ42: 26 | AK42: 23 | AL42: 48 | AM42: 1 | AN42: 0 | AO42: 0 | AP42: 0 | AQ42: 0 | AR42: 171 | AS42: 146 | AT42: 25 | AU42: 1 | AV42: 1 | AW42: 0 | AX42: 17 | AY42: 10 | AZ42: 7 | BA42: 37 | BB42: 32 | BC42: 5 | BD42: 116 | BE42: 103 | BF42: 13 | BG42: 0 | BH42: 0 | BI42: 0
A43: 慢性精神病患者 | B43: 131624 | C43: 0 | D43: 0 | E43: 14 | F43: 37 | G43: 211 | H43: 5268 | I43: 29875 | J43: 16952 | K43: 39462 | L43: 16139 | M43: 23666 | N43: 131624 | O43: 62769 | P43: 68855 | Q43: 1774 | R43: 905 | S43: 869 | T43: 20209 | U43: 10485 | V43: 9724 | W43: 70791 | X43: 34968 | Y43: 35823 | Z43: 38850 | AA43: 16411 | AB43: 22439 | AC43: 0 | AD43: 0 | AE43: 0 | AF43: 2002 | AG43: 0 | AH43: 0 | AI43: 1 | AJ43: 1 | AK43: 14 | AL43: 144 | AM43: 587 | AN43: 292 | AO43: 572 | AP43: 203 | AQ43: 188 | AR43: 2002 | AS43: 859 | AT43: 1143 | AU43: 17 | AV43: 11 | AW43: 6 | AX43: 290 | AY43: 174 | AZ43: 116 | BA43: 1056 | BB43: 456 | BC43: 600 | BD43: 639 | BE43: 218 | BF43: 421 | BG43: 0 | BH43: 0 | BI43: 0
... A48: 新制類別無法對應舊制類別者 | B48: 12852 | C48: 353 | D48: 3092 | E48: 1295 | F48: 681 | G48: 612 | H48: 1674 | I48: 1066 | J48: 458 | K48: 1106 | L48: 522 | M48: 1993 | N48: 12852 | O48: 8219 | P48: 4633 | Q48: 179 | R48: 98 | S48: 81 | T48: 720 | U48: 351 | V48: 369 | W48: 2145 | X48: 1137 | Y48: 1008 | Z48: 9808 | AA48: 6633 | AB48: 3175 | AC48: 0 | AD48: 0 | AE48: 0 | AF48: 365 | AG48: 16 | AH48: 134 | AI48: 86 | AJ48: 16 | AK48: 12 | AL48: 25 | AM48: 24 | AN48: 3 | AO48: 19 | AP48: 5 | AQ48: 25 | AR48: 365 | AS48: 238 | AT48: 127 | AU48: 5 | AV48: 5 | AW48: 0 | AX48: 10 | AY48: 1 | AZ48: 9 | BA48: 41 | BB48: 27 | BC48: 14 | BD48: 309 | BE48: 205 | BF48: 104 | BG48: 0 | BH48: 0 | BI48: 0
A49: 資料來源：直轄市、縣(市)政府。

Sheet 108
A1: 1.3-01 身心障礙者按年齡與等級
A2: 民國108年底
A3: 單位：人 | B3: 一、全體 | N3: 一、全體 | AF3: 二、原住民 | AR3: 二、原住民
A4: 區域及障礙類別 | B4: 總計 | C4: 0-2歲 | D4: 3-5歲 | E4: 6-11歲 | F4: 12-14歲 | G4: 15-17歲 | H4: 18-29歲 | I4: 30-44歲 | J4: 45-49歲 | K4: 50-59歲 | L4: 60-64歲 | M4: 65歲以上 | N4: 總計 | Q4: 極重度 | T4: 重度 | W4: 中度 | Z4: 輕度 | AC4: 占總人口比率（％） | AF4: 總計 | AG4: 0-2歲 | AH4: 3-5歲 | AI4: 6-11歲 | AJ4: 12-14歲 | AK4: 15-17歲 | AL4: 18-29歲 | AM4: 30-44歲 | AN4: 45-49 | AO4: 50-59歲 | AP4: 60-64歲 | AQ4: 65歲以上 | AR4: 總計 | AU4: 極重度 | AX4: 重度 | BA4: 中度 | BD4: 輕度 | BG4: 占總原住民人口比率（％）
N5: 計 | O5: 男 | P5: 女 | Q5: 計 | R5: 男 | S5: 女 | T5: 計 | U5: 男 | V5: 女 | W5: 計 | X5: 男 | Y5: 女 | Z5: 計 | AA5: 男 | AB5: 女 | AC5: 計 | AD5: 男 | AE5: 女 | AR5: 計 | AS5: 男 | AT5: 女 | AU5: 計 | AV5: 男 | AW5: 女 | AX5: 計 | AY5: 男 | AZ5: 女 | BA5: 計 | BB5: 男 | BC5: 女 | BD5: 計 | BE5: 男 | BF5: 女 | BG5: 計 | BH5: 男 | BI5: 女
A6: 108年,2019
A7: 1.按區域別 | B7: 1186740 | C7: 1616 | D7: 7786 | E7: 17947 | F7: 10876 | G7: 13619 | H7: 74162 | I7: 145358 | J7: 66968 | K7: 207842 | L7: 127251 | M7: 513315 | N7: 1186740 | O7: 661690 | P7: 525050 | Q7: 140802 | R7: 75139 | S7: 65663 | T7: 203465 | U7: 110585 | V7: 92880 | W7: 382145 | X7: 213813 | Y7: 168332 | Z7: 460328 | AA7: 262153 | AB7: 198175 | AC7: 5.03 | AD7: 5.65 | AE7: 4.41 | AF7: 24135 | AG7: 55 | AH7: 315 | AI7: 716 | AJ7: 334 | AK7: 397 | AL7: 2006 | AM7: 4107 | AN7: 1867 | AO7: 4877 | AP7: 2860 | AQ7: 6601 | AR7: 24135 | AS7: 13627 | AT7: 10508 | AU7: 2860 | AV7: 1457 | AW7: 1403 | AX7: 3884 | AY7: 2234 | AZ7: 1650 | BA7: 7715 | BB7: 4397 | BC7: 3318 | BD7: 9676 | BE7: 5539 | BF7: 4137 | BG7: 4.2236366 | BH7: 4.9241343 | BI7: 3.5658052
A8: 新北市 | B8: 169935 | C8: 281 | D8: 1415 | E8: 3270 | F8: 1841 | G8: 2188 | H8: 11660 | I8: 22086 | J8: 9813 | K8: 30784 | L8: 19584 | M8: 67013 | N8: 169935 | O8: 95372 | P8: 74563 | Q8: 21512 | R8: 11474 | S8: 10038 | T8: 27963 | U8: 15091 | V8: 12872 | W8: 53034 | X8: 29743 | Y8: 23291 | Z8: 67426 | AA8: 39064 | AB8: 28362 | AC8: 4.23 | AD8: 4.86 | AE8: 3.63 | AF8: 1691 | AG8: 6 | AH8: 27 | AI8: 70 | AJ8: 28 | AK8: 35 | AL8: 170 | AM8: 319 | AN8: 146 | AO8: 365 | AP8: 209 | AQ8: 316 | AR8: 1691 | AS8: 932 | AT8: 759 | AU8: 236 | AV8: 107 | AW8: 129 | AX8: 214 | AY8: 121 | AZ8: 93 | BA8: 478 | BB8: 267 | BC8: 211 | BD8: 763 | BE8: 437 | BF8: 326 | BG8: 2.9880548 | BH8: 3.5594256 | BI8: 2.4960537
A9: 臺北市 | B9: 121171 | C9: 188 | D9: 880 | E9: 1909 | F9: 1142 | G9: 1360 | H9: 7306 | I9: 13178 | J9: 6174 | K9: 19366 | L9: 12643 | M9: 57025 | N9: 121171 | O9: 65351 | P9: 55820 | Q9: 15685 | R9: 8286 | S9: 7399 | T9: 23388 | U9: 12238 | V9: 11150 | W9: 38186 | X9: 20398 | Y9: 17788 | Z9: 43912 | AA9: 24429 | AB9: 19483 | AC9: 4.58 | AD9: 5.19 | AE9: 4.03 | AF9: 554 | AG9: 1 | AH9: 8 | AI9: 12 | AJ9: 10 | AK9: 14 | AL9: 59 | AM9: 94 | AN9: 45 | AO9: 112 | AP9: 68 | AQ9: 131 | AR9: 554 | AS9: 255 | AT9: 299 | AU9: 55 | AV9: 24 | AW9: 31 | AX9: 116 | AY9: 63 | AZ9: 53 | BA9: 188 | BB9: 83 | BC9: 105 | BD9: 195 | BE9: 85 | BF9: 110 | BG9: 3.2595905 | BH9: 3.5392089 | BI9: 3.0538249
A10: 桃園市 | B10: 85291 | C10: 171 | D10: 763 | E10: 1724 | F10: 1099 | G10: 1404 | H10: 6830 | I10: 11653 | J10: 5406 | K10: 14882 | L10: 8843 | M10: 32516 | N10: 85291 | O10: 48373 | P10: 36918 | Q10: 10676 | R10: 5726 | S10: 4950 | T10: 14052 | U10: 7688 | V10: 6364 | W10: 26562 | X10: 15042 | Y10: 11520 | Z10: 34001 | AA10: 19917 | AB10: 14084 | AC10: 3.79 | AD10: 4.33 | AE10: 3.26 | AF10: 1293 | AG10: 4 | AH10: 43 | AI10: 94 | AJ10: 42 | AK10: 35 | AL10: 132 | AM10: 208 | AN10: 92 | AO10: 253 | AP10: 134 | AQ10: 256 | AR10: 1293 | AS10: 733 | AT10: 560 | AU10: 181 | AV10: 91 | AW10: 90 | AX10: 203 | AY10: 119 | AZ10: 84 | BA10: 362 | BB10: 210 | BC10: 152 | BD10: 547 | BE10: 313 | BF10: 234 | BG10: 1.704186 | BH10: 2.0205083 | BI10: 1.4143557
A11: 臺中市 | B11: 125999 | C11: 232 | D11: 1164 | E11: 2422 | F11: 1323 | G11: 1573 | H11: 9015 | I11: 16803 | J11: 7182 | K11: 22088 | L11: 13410 | M11: 50787 | N11: 125999 | O11: 70621 | P11: 55378 | Q11: 15521 | R11: 8254 | S11: 7267 | T11: 22044 | U11: 11997 | V11: 10047 | W11: 40256 | X11: 22692 | Y11: 17564 | Z11: 48178 | AA11: 27678 | AB11: 20500 | AC11: 4.48 | AD11: 5.1 | AE11: 3.87 | AF11: 1080 | AG11: 5 | AH11: 31 | AI11: 47 | AJ11: 17 | AK11: 18 | AL11: 138 | AM11: 198 | AN11: 74 | AO11: 247 | AP11: 119 | AQ11: 186 | AR11: 1080 | AS11: 562 | AT11: 518 | AU11: 122 | AV11: 65 | AW11: 57 | AX11: 149 | AY11: 78 | AZ11: 71 | BA11: 367 | BB11: 193 | BC11: 174 | BD11: 442 | BE11: 226 | BF11: 216 | BG11: 3.0597501 | BH11: 3.4603781 | BI11: 2.7183039
A12: 臺南市 | B12: 98640 | C12: 120 | D12: 508 | E12: 1340 | F12: 859 | G12: 960 | H12: 5399 | I12: 11321 | J12: 5073 | K12: 17353 | L12: 10798 | M12: 44909 | N12: 98640 | O12: 54356 | P12: 44284 | Q12: 12011 | R12: 6340 | S12: 5671 | T12: 17050 | U12: 9035 | V12: 8015 | W12: 30737 | X12: 17222 | Y12: 13515 | Z12: 38842 | AA12: 21759 | AB12: 17083 | AC12: 5.24 | AD12: 5.8 | AE12: 4.69 | AF12: 240 | AG12: 2 | AH12: 7 | AI12: 15 | AJ12: 4 | AK12: 7 | AL12: 26 | AM12: 38 | AN12: 24 | AO12: 42 | AP12: 28 | AQ12: 47 | AR12: 240 | AS12: 116 | AT12: 124 | AU12: 31 | AV12: 12 | AW12: 19 | AX12: 36 | AY12: 19 | AZ12: 17 | BA12: 75 | BB12: 33 | BC12: 42 | BD12: 98 | BE12: 52 | BF12: 46 | BG12: 2.9264724 | BH12: 3.3740547 | BI12: 2.6034012
A13: 高雄市 | B13: 143508 | C13: 201 | D13: 913 | E13: 1830 | F13: 1169 | G13: 1487 | H13: 8315 | I13: 18050 | J13: 8969 | K13: 26446 | L13: 16075 | M13: 60053 | N13: 143508 | O13: 79296 | P13: 64212 | Q13: 17045 | R13: 8996 | S13: 8049 | T13: 23566 | U13: 13016 | V13: 10550 | W13: 47919 | X13: 26703 | Y13: 21216 | Z13: 54978 | AA13: 30581 | AB13: 24397 | AC13: 5.17 | AD13: 5.79 | AE13: 4.58 | AF13: 1505 | AG13: 5 | AH13: 27 | AI13: 48 | AJ13: 35 | AK13: 36 | AL13: 160 | AM13: 258 | AN13: 118 | AO13: 344 | AP13: 149 | AQ13: 325 | AR13: 1505 | AS13: 792 | AT13: 713 | AU13: 217 | AV13: 103 | AW13: 114 | AX13: 234 | AY13: 127 | AZ13: 107 | BA13: 482 | BB13: 262 | BC13: 220 | BD13: 572 | BE13: 300 | BF13: 272 | BG13: 4.2755682 | BH13: 4.7854985 | BI13: 3.8230563
A14: 宜蘭縣 | B14: 32053 | C14: 31 | D14: 155 | E14: 329 | F14: 222 | G14: 346 | H14: 1805 | I14: 3541 | J14: 1742 | K14: 5458 | L14: 3245 | M14: 15179 | N14: 32053 | O14: 17410 | P14: 14643 | Q14: 3330 | R14: 1758 | S14: 1572 | T14: 5030 | U14: 2681 | V14: 2349 | W14: 10122 | X14: 5525 | Y14: 4597 | Z14: 13571 | AA14: 7446 | AB14: 6125 | AC14: 7.06 | AD14: 7.6 | AE14: 6.51 | AF14: 966 | AG14: 3 | AH14: 8 | AI14: 18 | AJ14: 10 | AK14: 14 | AL14: 78 | AM14: 144 | AN14: 75 | AO14: 241 | AP14: 112 | AQ14: 263 | AR14: 966 | AS14: 547 | AT14: 419 | AU14: 126 | AV14: 63 | AW14: 63 | AX14: 123 | AY14: 80 | AZ14: 43 | BA14: 303 | BB14: 167 | BC14: 136 | BD14: 414 | BE14: 237 | BF14: 177 | BG14: 5.5440771 | BH14: 6.3894405 | BI14: 4.7275189
A15: 新竹縣 | B15: 22878 | C15: 34 | D15: 164 | E15: 407 | F15: 267 | G15: 304 | H15: 1789 | I15: 2957 | J15: 1343 | K15: 3802 | L15: 2218 | M15: 9593 | N15: 22878 | O15: 13327 | P15: 9551 | Q15: 3037 | R15: 1660 | S15: 1377 | T15: 4187 | U15: 2298 | V15: 1889 | W15: 7292 | X15: 4260 | Y15: 3032 | Z15: 8362 | AA15: 5109 | AB15: 3253 | AC15: 4.06 | AD15: 4.63 | AE15: 3.46 | AF15: 759 | AG15: 1 | AH15: 10 | AI15: 16 | AJ15: 9 | AK15: 6 | AL15: 60 | AM15: 390 | AN15: 0 | AO15: 0 | AP15: 92 | AQ15: 175 | AR15: 759 | AS15: 460 | AT15: 299 | AU15: 90 | AV15: 55 | AW15: 35 | AX15: 145 | AY15: 90 | AZ15: 55 | BA15: 267 | BB15: 154 | BC15: 113 | BD15: 257 | BE15: 161 | BF15: 96 | BG15: 3.4735252 | BH15: 4.2902444 | BI15: 2.6866745
A16: 苗栗縣 | B16: 34252 | C16: 39 | D16: 223 | E16: 478 | F16: 290 | G16: 409 | H16: 2130 | I16: 3947 | J16: 1803 | K16: 5499 | L16: 3250 | M16: 16184 | N16: 34252 | O16: 19527 | P16: 14725 | Q16: 3772 | R16: 2039 | S16: 1733 | T16: 6619 | U16: 3602 | V16: 3017 | W16: 11731 | X16: 6656 | Y16: 5075 | Z16: 12130 | AA16: 7230 | AB16: 4900 | AC16: 6.28 | AD16: 6.94 | AE16: 5.57 | AF16: 572 | AG16: 1 | AH16: 10 | AI16: 19 | AJ16: 12 | AK16: 10 | AL16: 53 | AM16: 85 | AN16: 66 | AO16: 119 | AP16: 48 | AQ16: 149 | AR16: 572 | AS16: 306 | AT16: 266 | AU16: 76 | AV16: 34 | AW16: 42 | AX16: 89 | AY16: 44 | AZ16: 45 | BA16: 184 | BB16: 105 | BC16: 79 | BD16: 223 | BE16: 123 | BF16: 100 | BG16: 5.0131464 | BH16: 5.5364574 | BI16: 4.5215026
A17: 彰化縣 | B17: 69243 | C17: 92 | D17: 320 | E17: 899 | F17: 560 | G17: 773 | H17: 4445 | I17: 9361 | J17: 3752 | K17: 11664 | L17: 7254 | M17: 30123 | N17: 69243 | O17: 39559 | P17: 29684 | Q17: 7415 | R17: 4041 | S17: 3374 | T17: 12002 | U17: 6655 | V17: 5347 | W17: 23224 | X17: 13321 | Y17: 9903 | Z17: 26602 | AA17: 15542 | AB17: 11060 | AC17: 5.44 | AD17: 6.11 | AE17: 4.75 | AF17: 150 | AG17: 1 | AH17: 4 | AI17: 10 | AJ17: 6 | AK17: 4 | AL17: 18 | AM17: 35 | AN17: 0 | AO17: 37 | AP17: 16 | AQ17: 19 | AR17: 150 | AS17: 75 | AT17: 75 | AU17: 11 | AV17: 4 | AW17: 7 | AX17: 21 | AY17: 8 | AZ17: 13 | BA17: 48 | BB17: 27 | BC17: 21 | BD17: 70 | BE17: 36 | BF17: 34 | BG17: 2.5248275 | BH17: 2.8746646 | BI17: 2.2509004
A18: 南投縣 | B18: 33856 | C18: 24 | D18: 149 | E18: 337 | F18: 216 | G18: 303 | H18: 1773 | I18: 3798 | J18: 1743 | K18: 5537 | L18: 3417 | M18: 16559 | N18: 33856 | O18: 19121 | P18: 14735 | Q18: 3828 | R18: 2033 | S18: 1795 | T18: 5543 | U18: 3115 | V18: 2428 | W18: 11196 | X18: 6381 | Y18: 4815 | Z18: 13289 | AA18: 7592 | AB18: 5697 | AC18: 6.85 | AD18: 7.57 | AE18: 6.1 | AF18: 1466 | AG18: 3 | AH18: 15 | AI18: 36 | AJ18: 10 | AK18: 29 | AL18: 107 | AM18: 237 | AN18: 104 | AO18: 358 | AP18: 200 | AQ18: 367 | AR18: 1466 | AS18: 862 | AT18: 604 | AU18: 209 | AV18: 112 | AW18: 97 | AX18: 230 | AY18: 137 | AZ18: 93 | BA18: 483 | BB18: 281 | BC18: 202 | BD18: 544 | BE18: 332 | BF18: 212 | BG18: 5.0061467 | BH18: 5.8615531 | BI18: 4.1432295
... A29: 連江縣 | B29: 483 | C29: 1 | D29: 5 | E29: 6 | F29: 5 | G29: 9 | H29: 27 | I29: 53 | J29: 28 | K29: 86 | L29: 58 | M29: 205 | N29: 483 | O29: 307 | P29: 176 | Q29: 32 | R29: 20 | S29: 12 | T29: 80 | U29: 46 | V29: 34 | W29: 122 | X29: 73 | Y29: 49 | Z29: 249 | AA29: 168 | AB29: 81 | AC29: 3.69 | AD29: 4.09 | AE29: 3.15 | AF29: 7 | AG29: 0 | AH29: 0 | AI29: 0 | AJ29: 0 | AK29: 0 | AL29: 0 | AM29: 2 | AN29: 0 | AO29: 3 | AP29: 0 | AQ29: 2 | AR29: 10 | AS29: 5 | AT29: 5 | AU29: 0 | AV29: 0 | AW29: 0 | AX29: 1 | AY29: 1 | AZ29: 0 | BA29: 3 | BB29: 2 | BC29: 1 | BD29: 6 | BE29: 2 | BF29: 4 | BG29: 4.4642857 | BH29: 3.7593985 | BI29: 5.4945055
A31: 2.按障礙類別 | B31: 1186740 | C31: 1616 | D31: 7786 | E31: 17947 | F31: 10876 | G31: 13619 | H31: 74162 | I31: 145358 | J31: 66968 | K31: 207842 | L31: 127251 | M31: 513315 | N31: 1186740 | O31: 661690 | P31: 525050 | Q31: 140802 | R31: 75139 | S31: 65663 | T31: 203465 | U31: 110585 | V31: 92880 | W31: 382145 | X31: 213813 | Y31: 168332 | Z31: 460328 | AA31: 262153 | AB31: 198175 | AF31: 24135 | AG31: 55 | AH31: 315 | AI31: 716 | AJ31: 334 | AK31: 397 | AL31: 2006 | AM31: 4107 | AN31: 1867 | AO31: 4877 | AP31: 2860 | AQ31: 6601 | AR31: 24135 | AS31: 13627 | AT31: 10508 | AU31: 2860 | AV31: 1457 | AW31: 1403 | AX31: 3884 | AY31: 2234 | AZ31: 1650 | BA31: 7715 | BB31: 4397 | BC31: 3318 | BD31: 9676 | BE31: 5539 | BF31: 4137
A32: 視覺障礙者 | B32: 56209 | C32: 12 | D32: 40 | E32: 243 | F32: 225 | G32: 282 | H32: 2248 | I32: 5583 | J32: 2629 | K32: 8190 | L32: 5703 | M32: 31054 | N32: 56209 | O32: 29560 | P32: 26649 | Q32: 41 | R32: 21 | S32: 20 | T32: 21012 | U32: 11471 | V32: 9541 | W32: 16880 | X32: 8508 | Y32: 8372 | Z32: 18276 | AA32: 9560 | AB32: 8716 | AC32: 0 | AD32: 0 | AE32: 0 | AF32: 877 | AG32: 2 | AH32: 0 | AI32: 7 | AJ32: 9 | AK32: 13 | AL32: 56 | AM32: 133 | AN32: 75 | AO32: 179 | AP32: 107 | AQ32: 296 | AR32: 877 | AS32: 485 | AT32: 392 | AU32: 1 | AV32: 0 | AW32: 1 | AX32: 395 | AY32: 222 | AZ32: 173 | BA32: 218 | BB32: 123 | BC32: 95 | BD32: 263 | BE32: 140 | BF32: 123 | BG32: 0 | BH32: 0 | BI32: 0
A33: 聽覺機能障礙者 | B33: 124485 | C33: 362 | D33: 548 | E33: 863 | F33: 557 | G33: 607 | H33: 3728 | I33: 6995 | J33: 2710 | K33: 10819 | L33: 10248 | M33: 87048 | N33: 124485 | O33: 70311 | P33: 54174 | Q33: 40 | R33: 21 | S33: 19 | T33: 20424 | U33: 11007 | V33: 9417 | W33: 34494 | X33: 20122 | Y33: 14372 | Z33: 69527 | AA33: 39161 | AB33: 30366 | AC33: 0 | AD33: 0 | AE33: 0 | AF33: 1828 | AG33: 8 | AH33: 21 | AI33: 20 | AJ33: 10 | AK33: 12 | AL33: 79 | AM33: 157 | AN33: 79 | AO33: 291 | AP33: 212 | AQ33: 939 | AR33: 1828 | AS33: 990 | AT33: 838 | AU33: 0 | AV33: 0 | AW33: 0 | AX33: 380 | AY33: 211 | AZ33: 169 | BA33: 477 | BB33: 259 | BC33: 218 | BD33: 971 | BE33: 520 | BF33: 451 | BG33: 0 | BH33: 0 | BI33: 0
A34: 平衡機能障礙者 | B34: 3322 | C34: 1 | D34: 2 | E34: 13 | F34: 3 | G34: 6 | H34: 61 | I34: 237 | J34: 150 | K34: 542 | L34: 439 | M34: 1868 | N34: 3322 | O34: 1901 | P34: 1421 | Q34: 9 | R34: 5 | S34: 4 | T34: 133 | U34: 73 | V34: 60 | W34: 732 | X34: 392 | Y34: 340 | Z34: 2448 | AA34: 1431 | AB34: 1017 | AC34: 0 | AD34: 0 | AE34: 0 | AF34: 47 | AG34: 1 | AH34: 0 | AI34: 0 | AJ34: 0 | AK34: 0 | AL34: 1 | AM34: 6 | AN34: 2 | AO34: 11 | AP34: 7 | AQ34: 19 | AR34: 47 | AS34: 20 | AT34: 27 | AU34: 0 | AV34: 0 | AW34: 0 | AX34: 3 | AY34: 1 | AZ34: 2 | BA34: 4 | BB34: 3 | BC34: 1 | BD34: 40 | BE34: 16 | BF34: 24 | BG34: 0 | BH34: 0 | BI34: 0
A35: 聲音機能或語言機能障礙者 | B35: 15274 | C35: 10 | D35: 207 | E35: 516 | F35: 193 | G35: 192 | H35: 631 | I35: 1763 | J35: 1215 | K35: 3793 | L35: 2096 | M35: 4658 | N35: 15274 | O35: 11321 | P35: 3953 | Q35: 69 | R35: 37 | S35: 32 | T35: 3957 | U35: 3242 | V35: 715 | W35: 3197 | X35: 2361 | Y35: 836 | Z35: 8051 | AA35: 5681 | AB35: 2370 | AC35: 0 | AD35: 0 | AE35: 0 | AF35: 318 | AG35: 0 | AH35: 9 | AI35: 41 | AJ35: 5 | AK35: 4 | AL35: 17 | AM35: 38 | AN35: 27 | AO35: 67 | AP35: 48 | AQ35: 62 | AR35: 318 | AS35: 206 | AT35: 112 | AU35: 1 | AV35: 0 | AW35: 1 | AX35: 77 | AY35: 56 | AZ35: 21 | BA35: 75 | BB35: 50 | BC35: 25 | BD35: 165 | BE35: 100 | BF35: 65 | BG35: 0 | BH35: 0 | BI35: 0
A36: 肢體障礙者 | B36: 360234 | C36: 266 | D36: 616 | E36: 1413 | F36: 814 | G36: 1031 | H36: 8668 | I36: 33089 | J36: 19800 | K36: 81789 | L36: 52381 | M36: 160367 | N36: 360234 | O36: 212428 | P36: 147806 | Q36: 4565 | R36: 2607 | S36: 1958 | T36: 46422 | U36: 26158 | V36: 20264 | W36: 129357 | X36: 77426 | Y36: 51931 | Z36: 179890 | AA36: 106237 | AB36: 73653 | AC36: 0 | AD36: 0 | AE36: 0 | AF36: 9044 | AG36: 9 | AH36: 17 | AI36: 43 | AJ36: 29 | AK36: 34 | AL36: 302 | AM36: 1296 | AN36: 733 | AO36: 2365 | AP36: 1356 | AQ36: 2860 | AR36: 9044 | AS36: 5605 | AT36: 3439 | AU36: 91 | AV36: 66 | AW36: 25 | AX36: 1046 | AY36: 634 | AZ36: 412 | BA36: 3323 | BB36: 2110 | BC36: 1213 | BD36: 4584 | BE36: 2795 | BF36: 1789 | BG36: 0 | BH36: 0 | BI36: 0
A37: 智能障礙者 | B37: 102127 | C37: 17 | D37: 787 | E37: 5356 | F37: 3737 | G37: 5303 | H37: 27620 | I37: 33386 | J37: 6892 | K37: 10678 | L37: 3737 | M37: 4614 | N37: 102127 | O37: 58117 | P37: 44010 | Q37: 7143 | R37: 3934 | S37: 3209 | T37: 14058 | U37: 7798 | V37: 6260 | W37: 38719 | X37: 21189 | Y37: 17530 | Z37: 42207 | AA37: 25196 | AB37: 17011 | AC37: 0 | AD37: 0 | AE37: 0 | AF37: 2935 | AG37: 1 | AH37: 36 | AI37: 351 | AJ37: 168 | AK37: 210 | AL37: 865 | AM37: 921 | AN37: 118 | AO37: 158 | AP37: 54 | AQ37: 53 | AR37: 2935 | AS37: 1706 | AT37: 1229 | AU37: 90 | AV37: 46 | AW37: 44 | AX37: 255 | AY37: 142 | AZ37: 113 | BA37: 1083 | BB37: 609 | BC37: 474 | BD37: 1507 | BE37: 909 | BF37: 598 | BG37: 0 | BH37: 0 | BI37: 0
A38: 重要器官失去功能者 | B38: 154258 | C38: 162 | D38: 274 | E38: 640 | F38: 389 | G38: 567 | H38: 3987 | I38: 11447 | J38: 7727 | K38: 28198 | L38: 21225 | M38: 79642 | N38: 154258 | O38: 85802 | P38: 68456 | Q38: 76339 | R38: 40873 | S38: 35466 | T38: 10151 | U38: 6063 | V38: 4088 | W38: 18351 | X38: 11415 | Y38: 6936 | Z38: 49417 | AA38: 27451 | AB38: 21966 | AC38: 0 | AD38: 0 | AE38: 0 | AF38: 2957 | AG38: 3 | AH38: 14 | AI38: 23 | AJ38: 6 | AK38: 17 | AL38: 113 | AM38: 393 | AN38: 247 | AO38: 725 | AP38: 470 | AQ38: 946 | AR38: 2957 | AS38: 1489 | AT38: 1468 | AU38: 1592 | AV38: 759 | AW38: 833 | AX38: 256 | AY38: 146 | AZ38: 110 | BA38: 338 | BB38: 183 | BC38: 155 | BD38: 771 | BE38: 401 | BF38: 370 | BG38: 0 | BH38: 0 | BI38: 0
A39: 顏面損傷者 | B39: 4666 | C39: 5 | D39: 10 | E39: 35 | F39: 20 | G39: 33 | H39: 578 | I39: 850 | J39: 403 | K39: 1156 | L39: 585 | M39: 991 | N39: 4666 | O39: 3145 | P39: 1521 | Q39: 0 | R39: 0 | S39: 0 | T39: 320 | U39: 187 | V39: 133 | W39: 838 | X39: 519 | Y39: 319 | Z39: 3508 | AA39: 2439 | AB39: 1069 | AC39: 0 | AD39: 0 | AE39: 0 | AF39: 97 | AG39: 0 | AH39: 0 | AI39: 1 | AJ39: 1 | AK39: 2 | AL39: 23 | AM39: 28 | AN39: 12 | AO39: 14 | AP39: 10 | AQ39: 6 | AR39: 97 | AS39: 55 | AT39: 42 | AU39: 0 | AV39: 0 | AW39: 0 | AX39: 4 | AY39: 1 | AZ39: 3 | BA39: 20 | BB39: 11 | BC39: 9 | BD39: 73 | BE39: 43 | BF39: 30 | BG39: 0 | BH39: 0 | BI39: 0
A40: 植物人 | B40: 3002 | C40: 1 | D40: 1 | E40: 4 | F40: 3 | G40: 15 | H40: 118 | I40: 492 | J40: 228 | K40: 548 | L40: 331 | M40: 1261 | N40: 3002 | O40: 1726 | P40: 1276 | Q40: 2998 | R40: 1722 | S40: 1276 | T40: 1 | U40: 1 | V40: 0 | W40: 0 | X40: 0 | Y40: 0 | Z40: 3 | AA40: 3 | AB40: 0 | AC40: 0 | AD40: 0 | AE40: 0 | AF40: 89 | AG40: 0 | AH40: 0 | AI40: 0 | AJ40: 0 | AK40: 0 | AL40: 7 | AM40: 22 | AN40: 11 | AO40: 23 | AP40: 9 | AQ40: 17 | AR40: 89 | AS40: 46 | AT40: 43 | AU40: 89 | AV40: 46 | AW40: 43 | AX40: 0 | AY40: 0 | AZ40: 0 | BA40: 0 | BB40: 0 | BC40: 0 | BD40: 0 | BE40: 0 | BF40: 0 | BG40: 0 | BH40: 0 | BI40: 0
A41: 失智症者 | B41: 61705 | C41: 0 | D41: 0 | E41: 3 | F41: 0 | G41: 5 | H41: 117 | I41: 620 | J41: 382 | K41: 1912 | L41: 2206 | M41: 56460 | N41: 61705 | O41: 22004 | P41: 39701 | Q41: 3145 | R41: 960 | S41: 2185 | T41: 15573 | U41: 4971 | V41: 10602 | W41: 23611 | X41: 8470 | Y41: 15141 | Z41: 19376 | AA41: 7603 | AB41: 11773 | AC41: 0 | AD41: 0 | AE41: 0 | AF41: 704 | AG41: 0 | AH41: 0 | AI41: 1 | AJ41: 0 | AK41: 0 | AL41: 6 | AM41: 29 | AN41: 19 | AO41: 64 | AP41: 100 | AQ41: 485 | AR41: 704 | AS41: 216 | AT41: 488 | AU41: 39 | AV41: 12 | AW41: 27 | AX41: 169 | AY41: 50 | AZ41: 119 | BA41: 288 | BB41: 81 | BC41: 207 | BD41: 208 | BE41: 73 | BF41: 135 | BG41: 0 | BH41: 0 | BI41: 0
A42: 自閉症者 | B42: 15439 | C42: 27 | D42: 836 | E42: 3598 | F42: 1925 | G42: 1973 | H42: 5970 | I42: 1047 | J42: 27 | K42: 25 | L42: 3 | M42: 8 | N42: 15439 | O42: 13457 | P42: 1982 | Q42: 220 | R42: 170 | S42: 50 | T42: 1089 | U42: 881 | V42: 208 | W42: 2916 | X42: 2514 | Y42: 402 | Z42: 11214 | AA42: 9892 | AB42: 1322 | AC42: 0 | AD42: 0 | AE42: 0 | AF42: 140 | AG42: 1 | AH42: 10 | AI42: 48 | AJ42: 22 | AK42: 20 | AL42: 38 | AM42: 1 | AN42: 0 | AO42: 0 | AP42: 0 | AQ42: 0 | AR42: 140 | AS42: 122 | AT42: 18 | AU42: 1 | AV42: 1 | AW42: 0 | AX42: 11 | AY42: 6 | AZ42: 5 | BA42: 33 | BB42: 30 | BC42: 3 | BD42: 95 | BE42: 85 | BF42: 10 | BG42: 0 | BH42: 0 | BI42: 0
A43: 慢性精神病患者 | B43: 129885 | C43: 0 | D43: 1 | E43: 13 | F43: 33 | G43: 183 | H43: 5280 | I43: 30769 | J43: 17290 | K43: 39060 | L43: 15506 | M43: 21750 | N43: 129885 | O43: 62232 | P43: 67653 | Q43: 1769 | R43: 909 | S43: 860 | T43: 20110 | U43: 10473 | V43: 9637 | W43: 70138 | X43: 34817 | Y43: 35321 | Z43: 37868 | AA43: 16033 | AB43: 21835 | AC43: 0 | AD43: 0 | AE43: 0 | AF43: 1888 | AG43: 0 | AH43: 0 | AI43: 0 | AJ43: 2 | AK43: 11 | AL43: 140 | AM43: 597 | AN43: 304 | AO43: 503 | AP43: 174 | AQ43: 157 | AR43: 1888 | AS43: 813 | AT43: 1075 | AU43: 21 | AV43: 14 | AW43: 7 | AX43: 275 | AY43: 166 | AZ43: 109 | BA43: 1010 | BB43: 433 | BC43: 577 | BD43: 582 | BE43: 200 | BF43: 382 | BG43: 0 | BH43: 0 | BI43: 0
... A48: 新制類別無法對應舊制類別者 | B48: 11705 | C48: 351 | D48: 2842 | E48: 1196 | F48: 617 | G48: 557 | H48: 1530 | I48: 961 | J48: 411 | K48: 967 | L48: 470 | M48: 1803 | N48: 11705 | O48: 7443 | P48: 4262 | Q48: 178 | R48: 88 | S48: 90 | T48: 678 | U48: 328 | V48: 350 | W48: 2018 | X48: 1104 | Y48: 914 | Z48: 8831 | AA48: 5923 | AB48: 2908 | AC48: 0 | AD48: 0 | AE48: 0 | AF48: 313 | AG48: 12 | AH48: 123 | AI48: 60 | AJ48: 13 | AK48: 10 | AL48: 19 | AM48: 25 | AN48: 7 | AO48: 16 | AP48: 10 | AQ48: 18 | AR48: 313 | AS48: 208 | AT48: 105 | AU48: 4 | AV48: 4 | AW48: 0 | AX48: 8 | AY48: 2 | AZ48: 6 | BA48: 42 | BB48: 28 | BC48: 14 | BD48: 259 | BE48: 174 | BF48: 85 | BG48: 0 | BH48: 0 | BI48: 0
A49: 資料來源：直轄市、縣(市)政府。

Sheet 107
A1: 1.3-01 身心障礙者按年齡與等級
A2: 民國107年底
A3: 單位：人 | B3: 一、全體 | N3: 一、全體 | AF3: 二、原住民 | AQ3: 二、原住民
A4: 區域及障礙類別 | B4: 總計 | C4: 0-2歲 | D4: 3-5歲 | E4: 6-11歲 | F4: 12-14歲 | G4: 15-17歲 | H4: 18-29歲 | I4: 30-44歲 | J4: 45-49歲 | K4: 50-59歲 | L4: 60-64歲 | M4: 65歲以上 | N4: 總計 | Q4: 極重度 | T4: 重度 | W4: 中度 | Z4: 輕度 | AC4: 占總人口比率（％） | AF4: 總計 | AG4: 0-2歲 | AH4: 3-5歲 | AI4: 6-11歲 | AJ4: 12-14歲 | AK4: 15-17歲 | AL4: 18-29歲 | AM4: 30-44歲 | AN4: 45-59歲 | AO4: 60-64歲 | AP4: 65歲以上 | AQ4: 總計 | AT4: 極重度 | AW4: 重度 | AZ4: 中度 | BC4: 輕度 | BF4: 占總原住民人口比率（％）
N5: 計 | O5: 男 | P5: 女 | Q5: 計 | R5: 男 | S5: 女 | T5: 計 | U5: 男 | V5: 女 | W5: 計 | X5: 男 | Y5: 女 | Z5: 計 | AA5: 男 | AB5: 女 | AC5: 計 | AD5: 男 | AE5: 女 | AQ5: 計 | AR5: 男 | AS5: 女 | AT5: 計 | AU5: 男 | AV5: 女 | AW5: 計 | AX5: 男 | AY5: 女 | AZ5: 計 | BA5: 男 | BB5: 女 | BC5: 計 | BD5: 男 | BE5: 女 | BF5: 計 | BG5: 男 | BH5: 女
A6: 107年,2018
A7: 1.按區域別 | B7: 1173978 | C7: 1687 | D7: 6933 | E7: 17889 | F7: 11289 | G7: 14321 | H7: 74316 | I7: 148095 | J7: 70024 | K7: 213522 | L7: 123503 | M7: 492399 | N7: 1173978 | O7: 658673 | P7: 515305 | Q7: 139096 | R7: 74123 | S7: 64973 | T7: 200187 | U7: 109353 | V7: 90834 | W7: 377234 | X7: 212063 | Y7: 165171 | Z7: 457461 | AA7: 263134 | AB7: 194327 | AC7: 4.98 | AD7: 5.62 | AE7: 4.34 | AF7: 23507 | AG7: 61 | AH7: 287 | AI7: 657 | AJ7: 320 | AK7: 439 | AL7: 1979 | AM7: 3815 | AN7: 7029 | AO7: 2651 | AP7: 6269 | AQ7: 23507 | AR7: 13390 | AS7: 10117 | AT7: 2722 | AU7: 1368 | AV7: 1354 | AW7: 3870 | AX7: 2238 | AY7: 1632 | AZ7: 7519 | BA7: 4326 | BB7: 3193 | BC7: 9396 | BD7: 5458 | BE7: 3938 | BF7: 4.156404 | BG7: 4.8826202 | BH7: 3.4727776
A8: 新北市 | B8: 167297 | C8: 301 | D8: 1267 | E8: 3218 | F8: 1859 | G8: 2304 | H8: 11539 | I8: 22439 | J8: 10260 | K8: 31843 | L8: 19076 | M8: 63191 | N8: 167297 | O8: 94714 | P8: 72583 | Q8: 21091 | R8: 11272 | S8: 9819 | T8: 27413 | U8: 14895 | V8: 12518 | W8: 51961 | X8: 29267 | Y8: 22694 | Z8: 66832 | AA8: 39280 | AB8: 27552 | AC8: 4.19 | AD8: 4.84 | AE8: 3.56 | AF8: 1637 | AG8: 3 | AH8: 25 | AI8: 57 | AJ8: 25 | AK8: 51 | AL8: 154 | AM8: 330 | AN8: 511 | AO8: 194 | AP8: 287 | AQ8: 1637 | AR8: 917 | AS8: 720 | AT8: 238 | AU8: 108 | AV8: 130 | AW8: 219 | AX8: 131 | AY8: 88 | AZ8: 458 | BA8: 256 | BB8: 202 | BC8: 722 | BD8: 422 | BE8: 300 | BF8: 2.943874 | BG8: 3.557711 | BH8: 2.4135157
A9: 臺北市 | B9: 120721 | C9: 179 | D9: 844 | E9: 1884 | F9: 1200 | G9: 1424 | H9: 7376 | I9: 13584 | J9: 6530 | K9: 20183 | L9: 12346 | M9: 55171 | N9: 120721 | O9: 65665 | P9: 55056 | Q9: 15747 | R9: 8295 | S9: 7452 | T9: 22946 | U9: 12050 | V9: 10896 | W9: 38124 | X9: 20452 | Y9: 17672 | Z9: 43904 | AA9: 24868 | AB9: 19036 | AC9: 4.52 | AD9: 5.16 | AE9: 3.95 | AF9: 527 | AG9: 0 | AH9: 8 | AI9: 10 | AJ9: 13 | AK9: 15 | AL9: 58 | AM9: 97 | AN9: 157 | AO9: 68 | AP9: 101 | AQ9: 527 | AR9: 248 | AS9: 279 | AT9: 52 | AU9: 20 | AV9: 32 | AW9: 111 | AX9: 63 | AY9: 48 | AZ9: 173 | BA9: 80 | BB9: 93 | BC9: 191 | BD9: 85 | BE9: 106 | BF9: 3.153234 | BG9: 3.5182295 | BH9: 2.8870033
A10: 桃園市 | B10: 83585 | C10: 202 | D10: 646 | E10: 1701 | F10: 1169 | G10: 1422 | H10: 6732 | I10: 11805 | J10: 5535 | K10: 15039 | L10: 8495 | M10: 30839 | N10: 83585 | O10: 47764 | P10: 35821 | Q10: 10444 | R10: 5602 | S10: 4842 | T10: 13657 | U10: 7534 | V10: 6123 | W10: 25975 | X10: 14800 | Y10: 11175 | Z10: 33509 | AA10: 19828 | AB10: 13681 | AC10: 3.76 | AD10: 4.33 | AE10: 3.21 | AF10: 1260 | AG10: 11 | AH10: 44 | AI10: 85 | AJ10: 38 | AK10: 35 | AL10: 125 | AM10: 229 | AN10: 336 | AO10: 114 | AP10: 243 | AQ10: 1260 | AR10: 716 | AS10: 544 | AT10: 162 | AU10: 77 | AV10: 85 | AW10: 204 | AX10: 120 | AY10: 84 | AZ10: 347 | BA10: 198 | BB10: 149 | BC10: 547 | BD10: 321 | BE10: 226 | BF10: 1.7056068 | BG10: 2.0280414 | BH10: 1.4104592
A11: 臺中市 | B11: 124114 | C11: 246 | D11: 1060 | E11: 2384 | F11: 1360 | G11: 1710 | H11: 9007 | I11: 17055 | J11: 7490 | K11: 22503 | L11: 12955 | M11: 48344 | N11: 124114 | O11: 70149 | P11: 53965 | Q11: 15245 | R11: 8098 | S11: 7147 | T11: 21684 | U11: 11908 | V11: 9776 | W11: 39525 | X11: 22402 | Y11: 17123 | Z11: 47660 | AA11: 27741 | AB11: 19919 | AC11: 4.43 | AD11: 5.08 | AE11: 3.79 | AF11: 1042 | AG11: 5 | AH11: 31 | AI11: 38 | AJ11: 21 | AK11: 24 | AL11: 137 | AM11: 190 | AN11: 316 | AO11: 112 | AP11: 168 | AQ11: 1042 | AR11: 552 | AS11: 490 | AT11: 110 | AU11: 53 | AV11: 57 | AW11: 156 | AX11: 88 | AY11: 68 | AZ11: 351 | BA11: 187 | BB11: 164 | BC11: 425 | BD11: 224 | BE11: 201 | BF11: 3.0190647 | BG11: 3.4773844 | BH11: 2.6287554
A12: 臺南市 | B12: 97809 | C12: 117 | D12: 431 | E12: 1316 | F12: 856 | G12: 1021 | H12: 5489 | I12: 11446 | J12: 5329 | K12: 17884 | L12: 10481 | M12: 43439 | N12: 97809 | O12: 54062 | P12: 43747 | Q12: 11934 | R12: 6261 | S12: 5673 | T12: 16943 | U12: 8977 | V12: 7966 | W12: 30394 | X12: 17105 | Y12: 13289 | Z12: 38538 | AA12: 21719 | AB12: 16819 | AC12: 5.19 | AD12: 5.75 | AE12: 4.63 | AF12: 226 | AG12: 2 | AH12: 5 | AI12: 12 | AJ12: 4 | AK12: 5 | AL12: 25 | AM12: 39 | AN12: 67 | AO12: 22 | AP12: 45 | AQ12: 226 | AR12: 110 | AS12: 116 | AT12: 29 | AU12: 12 | AV12: 17 | AW12: 36 | AX12: 20 | AY12: 16 | AZ12: 63 | BA12: 29 | BB12: 34 | BC12: 98 | BD12: 49 | BE12: 49 | BF12: 2.8470648 | BG12: 3.3082707 | BH12: 2.5146326
A13: 高雄市 | B13: 140856 | C13: 217 | D13: 774 | E13: 1835 | F13: 1185 | G13: 1592 | H13: 8309 | I13: 18456 | J13: 9232 | K13: 26820 | L13: 15577 | M13: 56859 | N13: 140856 | O13: 78219 | P13: 62637 | Q13: 16692 | R13: 8789 | S13: 7903 | T13: 22904 | U13: 12744 | V13: 10160 | W13: 47203 | X13: 26390 | Y13: 20813 | Z13: 54057 | AA13: 30296 | AB13: 23761 | AC13: 5.08 | AD13: 5.7 | AE13: 4.47 | AF13: 1523 | AG13: 7 | AH13: 23 | AI13: 46 | AJ13: 38 | AK13: 37 | AL13: 157 | AM13: 272 | AN13: 471 | AO13: 160 | AP13: 312 | AQ13: 1523 | AR13: 798 | AS13: 725 | AT13: 214 | AU13: 101 | AV13: 113 | AW13: 252 | AX13: 137 | AY13: 115 | AZ13: 476 | BA13: 262 | BB13: 214 | BC13: 581 | BD13: 298 | BE13: 283 | BF13: 4.3928468 | BG13: 4.8852158 | BH13: 3.954186
A14: 宜蘭縣 | B14: 31921 | C14: 35 | D14: 122 | E14: 338 | F14: 256 | G14: 326 | H14: 1832 | I14: 3627 | J14: 1856 | K14: 5584 | L14: 3193 | M14: 14752 | N14: 31921 | O14: 17439 | P14: 14482 | Q14: 3262 | R14: 1730 | S14: 1532 | T14: 5070 | U14: 2745 | V14: 2325 | W14: 10060 | X14: 5475 | Y14: 4585 | Z14: 13529 | AA14: 7489 | AB14: 6040 | AC14: 7.01 | AD14: 7.58 | AE14: 6.43 | AF14: 945 | AG14: 2 | AH14: 13 | AI14: 16 | AJ14: 10 | AK14: 12 | AL14: 82 | AM14: 150 | AN14: 308 | AO14: 117 | AP14: 235 | AQ14: 945 | AR14: 543 | AS14: 402 | AT14: 121 | AU14: 63 | AV14: 58 | AW14: 122 | AX14: 76 | AY14: 46 | AZ14: 304 | BA14: 167 | BB14: 137 | BC14: 398 | BD14: 237 | BE14: 161 | BF14: 5.4967427 | BG14: 6.4504633 | BH14: 4.5817187
A15: 新竹縣 | B15: 22411 | C15: 31 | D15: 138 | E15: 413 | F15: 251 | G15: 315 | H15: 1773 | I15: 2991 | J15: 1399 | K15: 3813 | L15: 2120 | M15: 9167 | N15: 22411 | O15: 13152 | P15: 9259 | Q15: 2955 | R15: 1617 | S15: 1338 | T15: 4043 | U15: 2216 | V15: 1827 | W15: 7088 | X15: 4173 | Y15: 2915 | Z15: 8325 | AA15: 5146 | AB15: 3179 | AC15: 4.02 | AD15: 4.62 | AE15: 3.4 | AF15: 725 | AG15: 2 | AH15: 5 | AI15: 16 | AJ15: 4 | AK15: 13 | AL15: 61 | AM15: 158 | AN15: 222 | AO15: 93 | AP15: 151 | AQ15: 725 | AR15: 444 | AS15: 281 | AT15: 83 | AU15: 50 | AV15: 33 | AW15: 139 | AX15: 87 | AY15: 52 | AZ15: 251 | BA15: 145 | BB15: 106 | BC15: 252 | BD15: 162 | BE15: 90 | BF15: 3.3530663 | BG15: 4.1788235 | BH15: 2.5552423
A16: 苗栗縣 | B16: 33900 | C16: 38 | D16: 198 | E16: 485 | F16: 305 | G16: 391 | H16: 2174 | I16: 3996 | J16: 1850 | K16: 5668 | L16: 3086 | M16: 15709 | N16: 33900 | O16: 19435 | P16: 14465 | Q16: 3717 | R16: 2015 | S16: 1702 | T16: 6522 | U16: 3561 | V16: 2961 | W16: 11444 | X16: 6535 | Y16: 4909 | Z16: 12217 | AA16: 7324 | AB16: 4893 | AC16: 6.18 | AD16: 6.86 | AE16: 5.44 | AF16: 541 | AG16: 1 | AH16: 11 | AI16: 20 | AJ16: 11 | AK16: 15 | AL16: 45 | AM16: 88 | AN16: 173 | AO16: 44 | AP16: 133 | AQ16: 541 | AR16: 297 | AS16: 244 | AT16: 66 | AU16: 33 | AV16: 33 | AW16: 83 | AX16: 44 | AY16: 39 | AZ16: 186 | BA16: 106 | BB16: 80 | BC16: 206 | BD16: 114 | BE16: 92 | BF16: 4.7468632 | BG16: 5.3668233 | BH16: 4.161692
A17: 彰化縣 | B17: 68335 | C17: 78 | D17: 261 | E17: 916 | F17: 604 | G17: 808 | H17: 4499 | I17: 9487 | J17: 3842 | K17: 12012 | L17: 7089 | M17: 28739 | N17: 68335 | O17: 39248 | P17: 29087 | Q17: 7391 | R17: 4033 | S17: 3358 | T17: 11858 | U17: 6618 | V17: 5240 | W17: 22849 | X17: 13170 | Y17: 9679 | Z17: 26237 | AA17: 15427 | AB17: 10810 | AC17: 5.35 | AD17: 6.03 | AE17: 4.64 | AF17: 138 | AG17: 0 | AH17: 4 | AI17: 9 | AJ17: 3 | AK17: 3 | AL17: 15 | AM17: 34 | AN17: 42 | AO17: 10 | AP17: 18 | AQ17: 138 | AR17: 72 | AS17: 66 | AT17: 9 | AU17: 4 | AV17: 5 | AW17: 18 | AX17: 6 | AY17: 12 | AZ17: 46 | BA17: 27 | BB17: 19 | BC17: 65 | BD17: 35 | BE17: 30 | BF17: 2.3850674 | BG17: 2.8503563 | BH17: 2.0245399
A18: 南投縣 | B18: 33824 | C18: 37 | D18: 132 | E18: 352 | F18: 247 | G18: 314 | H18: 1782 | I18: 3905 | J18: 1924 | K18: 5682 | L18: 3412 | M18: 16037 | N18: 33824 | O18: 19192 | P18: 14632 | Q18: 3847 | R18: 2035 | S18: 1812 | T18: 5483 | U18: 3086 | V18: 2397 | W18: 11138 | X18: 6356 | Y18: 4782 | Z18: 13356 | AA18: 7715 | AB18: 5641 | AC18: 6.81 | AD18: 7.54 | AE18: 6.03 | AF18: 1451 | AG18: 5 | AH18: 12 | AI18: 30 | AJ18: 14 | AK18: 28 | AL18: 98 | AM18: 247 | AN18: 464 | AO18: 190 | AP18: 363 | AQ18: 1451 | AR18: 863 | AS18: 588 | AT18: 188 | AU18: 95 | AV18: 93 | AW18: 249 | AX18: 148 | AY18: 101 | AZ18: 460 | BA18: 274 | BB18: 186 | BC18: 554 | BD18: 346 | BE18: 208 | BF18: 4.9713914 | BG18: 5.8807496 | BH18: 4.0518192
... A29: 連江縣 | B29: 479 | C29: 2 | D29: 4 | E29: 10 | F29: 5 | G29: 8 | H29: 30 | I29: 50 | J29: 33 | K29: 89 | L29: 50 | M29: 198 | N29: 479 | O29: 302 | P29: 177 | Q29: 28 | R29: 19 | S29: 9 | T29: 79 | U29: 46 | V29: 33 | W29: 124 | X29: 69 | Y29: 55 | Z29: 248 | AA29: 168 | AB29: 80 | AC29: 3.67 | AD29: 4.05 | AE29: 3.16 | AF29: 7 | AG29: 0 | AH29: 0 | AI29: 0 | AJ29: 0 | AK29: 0 | AL29: 0 | AM29: 1 | AN29: 4 | AO29: 0 | AP29: 2 | AQ29: 7 | AR29: 6 | AS29: 1 | AT29: 0 | AU29: 0 | AV29: 0 | AW29: 0 | AX29: 0 | AY29: 0 | AZ29: 3 | BA29: 3 | BB29: 0 | BC29: 4 | BD29: 3 | BE29: 1 | BF29: 3.1111111 | BG29: 4.5801527 | BH29: 1.0638298
A31: 2.按障礙類別 | B31: 1173978 | C31: 1687 | D31: 6933 | E31: 17889 | F31: 11289 | G31: 14321 | H31: 74316 | I31: 148095 | J31: 70024 | K31: 213522 | L31: 123503 | M31: 492399 | N31: 1173978 | O31: 658673 | P31: 515305 | Q31: 139096 | R31: 74123 | S31: 64973 | T31: 200187 | U31: 109353 | V31: 90834 | W31: 377234 | X31: 212063 | Y31: 165171 | Z31: 457461 | AA31: 263134 | AB31: 194327 | AF31: 23507 | AG31: 61 | AH31: 287 | AI31: 657 | AJ31: 320 | AK31: 439 | AL31: 1979 | AM31: 3815 | AN31: 7029 | AO31: 2651 | AP31: 6269 | AQ31: 23507 | AR31: 13390 | AS31: 10117 | AT31: 2722 | AU31: 1368 | AV31: 1354 | AW31: 3870 | AX31: 2238 | AY31: 1632 | AZ31: 7519 | BA31: 4326 | BB31: 3193 | BC31: 9396 | BD31: 5458 | BE31: 3938
A32: 視覺障礙者 | B32: 56582 | C32: 13 | D32: 34 | E32: 268 | F32: 239 | G32: 314 | H32: 2296 | I32: 5671 | J32: 2787 | K32: 8297 | L32: 5795 | M32: 30868 | N32: 56582 | O32: 29720 | P32: 26862 | Q32: 44 | R32: 22 | S32: 22 | T32: 20783 | U32: 11329 | V32: 9454 | W32: 17128 | X32: 8641 | Y32: 8487 | Z32: 18627 | AA32: 9728 | AB32: 8899 | AC32: 0 | AD32: 0 | AE32: 0 | AF32: 878 | AG32: 0 | AH32: 0 | AI32: 8 | AJ32: 11 | AK32: 10 | AL32: 58 | AM32: 126 | AN32: 271 | AO32: 104 | AP32: 290 | AQ32: 878 | AR32: 470 | AS32: 408 | AT32: 1 | AU32: 0 | AV32: 1 | AW32: 387 | AX32: 212 | AY32: 175 | AZ32: 234 | BA32: 126 | BB32: 108 | BC32: 256 | BD32: 132 | BE32: 124 | BF32: 0 | BG32: 0 | BH32: 0
A33: 聽覺機能障礙者 | B33: 123208 | C33: 372 | D33: 500 | E33: 901 | F33: 545 | G33: 663 | H33: 3873 | I33: 6906 | J33: 2759 | K33: 11461 | L33: 10142 | M33: 85086 | N33: 123208 | O33: 69821 | P33: 53387 | Q33: 40 | R33: 22 | S33: 18 | T33: 20113 | U33: 10881 | V33: 9232 | W33: 34248 | X33: 19995 | Y33: 14253 | Z33: 68807 | AA33: 38923 | AB33: 29884 | AC33: 0 | AD33: 0 | AE33: 0 | AF33: 1744 | AG33: 12 | AH33: 15 | AI33: 19 | AJ33: 6 | AK33: 18 | AL33: 85 | AM33: 138 | AN33: 375 | AO33: 199 | AP33: 877 | AQ33: 1744 | AR33: 935 | AS33: 809 | AT33: 0 | AU33: 0 | AV33: 0 | AW33: 383 | AX33: 204 | AY33: 179 | AZ33: 474 | BA33: 257 | BB33: 217 | BC33: 887 | BD33: 474 | BE33: 413 | BF33: 0 | BG33: 0 | BH33: 0
A34: 平衡機能障礙者 | B34: 3405 | C34: 2 | D34: 2 | E34: 12 | F34: 7 | G34: 6 | H34: 64 | I34: 244 | J34: 151 | K34: 575 | L34: 444 | M34: 1898 | N34: 3405 | O34: 1952 | P34: 1453 | Q34: 8 | R34: 5 | S34: 3 | T34: 154 | U34: 85 | V34: 69 | W34: 743 | X34: 390 | Y34: 353 | Z34: 2500 | AA34: 1472 | AB34: 1028 | AC34: 0 | AD34: 0 | AE34: 0 | AF34: 46 | AG34: 1 | AH34: 0 | AI34: 0 | AJ34: 0 | AK34: 0 | AL34: 2 | AM34: 3 | AN34: 15 | AO34: 6 | AP34: 19 | AQ34: 46 | AR34: 20 | AS34: 26 | AT34: 0 | AU34: 0 | AV34: 0 | AW34: 2 | AX34: 0 | AY34: 2 | AZ34: 6 | BA34: 4 | BB34: 2 | BC34: 38 | BD34: 16 | BE34: 22 | BF34: 0 | BG34: 0 | BH34: 0
A35: 聲音機能或語言機能障礙者 | B35: 15145 | C35: 8 | D35: 222 | E35: 579 | F35: 229 | G35: 184 | H35: 656 | I35: 1857 | J35: 1234 | K35: 3762 | L35: 2016 | M35: 4398 | N35: 15145 | O35: 11174 | P35: 3971 | Q35: 69 | R35: 37 | S35: 32 | T35: 3943 | U35: 3213 | V35: 730 | W35: 3153 | X35: 2302 | Y35: 851 | Z35: 7980 | AA35: 5622 | AB35: 2358 | AC35: 0 | AD35: 0 | AE35: 0 | AF35: 302 | AG35: 0 | AH35: 15 | AI35: 30 | AJ35: 5 | AK35: 8 | AL35: 13 | AM35: 33 | AN35: 97 | AO35: 38 | AP35: 63 | AQ35: 302 | AR35: 195 | AS35: 107 | AT35: 1 | AU35: 0 | AV35: 1 | AW35: 77 | AX35: 56 | AY35: 21 | AZ35: 68 | BA35: 45 | BB35: 23 | BC35: 156 | BD35: 94 | BE35: 62 | BF35: 0 | BG35: 0 | BH35: 0
A36: 肢體障礙者 | B36: 363290 | C36: 280 | D36: 651 | E36: 1476 | F36: 868 | G36: 1127 | H36: 8991 | I36: 34630 | J36: 21590 | K36: 86400 | L36: 50328 | M36: 156949 | N36: 363290 | O36: 214645 | P36: 148645 | Q36: 4457 | R36: 2579 | S36: 1878 | T36: 46228 | U36: 26085 | V36: 20143 | W36: 130163 | X36: 77934 | Y36: 52229 | Z36: 182442 | AA36: 108047 | AB36: 74395 | AC36: 0 | AD36: 0 | AE36: 0 | AF36: 9152 | AG36: 5 | AH36: 22 | AI36: 45 | AJ36: 30 | AK36: 36 | AL36: 309 | AM36: 1220 | AN36: 3391 | AO36: 1343 | AP36: 2751 | AQ36: 9152 | AR36: 5743 | AS36: 3409 | AT36: 83 | AU36: 58 | AV36: 25 | AW36: 1095 | AX36: 676 | AY36: 419 | AZ36: 3318 | BA36: 2124 | BB36: 1194 | BC36: 4656 | BD36: 2885 | BE36: 1771 | BF36: 0 | BG36: 0 | BH36: 0
A37: 智能障礙者 | B37: 101872 | C37: 26 | D37: 683 | E37: 5361 | F37: 3971 | G37: 5668 | H37: 28005 | I37: 32895 | J37: 6859 | K37: 10478 | L37: 3580 | M37: 4346 | N37: 101872 | O37: 58012 | P37: 43860 | Q37: 7331 | R37: 4055 | S37: 3276 | T37: 14281 | U37: 7925 | V37: 6356 | W37: 38291 | X37: 20941 | Y37: 17350 | Z37: 41969 | AA37: 25091 | AB37: 16878 | AC37: 0 | AD37: 0 | AE37: 0 | AF37: 2859 | AG37: 0 | AH37: 27 | AI37: 311 | AJ37: 152 | AK37: 229 | AL37: 872 | AM37: 889 | AN37: 269 | AO37: 64 | AP37: 46 | AQ37: 2859 | AR37: 1662 | AS37: 1197 | AT37: 92 | AU37: 47 | AV37: 45 | AW37: 253 | AX37: 142 | AY37: 111 | AZ37: 1051 | BA37: 595 | BB37: 456 | BC37: 1463 | BD37: 878 | BE37: 585 | BF37: 0 | BG37: 0 | BH37: 0
A38: 重要器官失去功能者 | B38: 153140 | C38: 170 | D38: 274 | E38: 645 | F38: 429 | G38: 624 | H38: 4065 | I38: 12292 | J38: 8302 | K38: 29326 | L38: 21193 | M38: 75820 | N38: 153140 | O38: 86600 | P38: 66540 | Q38: 74508 | R38: 39624 | S38: 34884 | T38: 10173 | U38: 6068 | V38: 4105 | W38: 18195 | X38: 11305 | Y38: 6890 | Z38: 50264 | AA38: 29603 | AB38: 20661 | AC38: 0 | AD38: 0 | AE38: 0 | AF38: 2763 | AG38: 6 | AH38: 15 | AI38: 19 | AJ38: 7 | AK38: 24 | AL38: 106 | AM38: 361 | AN38: 961 | AO38: 423 | AP38: 841 | AQ38: 2763 | AR38: 1392 | AS38: 1371 | AT38: 1456 | AU38: 678 | AV38: 778 | AW38: 243 | AX38: 141 | AY38: 102 | AZ38: 340 | BA38: 179 | BB38: 161 | BC38: 724 | BD38: 394 | BE38: 330 | BF38: 0 | BG38: 0 | BH38: 0
A39: 顏面損傷者 | B39: 4673 | C39: 8 | D39: 8 | E39: 41 | F39: 25 | G39: 30 | H39: 593 | I39: 842 | J39: 431 | K39: 1177 | L39: 566 | M39: 952 | N39: 4673 | O39: 3166 | P39: 1507 | Q39: 0 | R39: 0 | S39: 0 | T39: 303 | U39: 173 | V39: 130 | W39: 814 | X39: 506 | Y39: 308 | Z39: 3556 | AA39: 2487 | AB39: 1069 | AC39: 0 | AD39: 0 | AE39: 0 | AF39: 95 | AG39: 0 | AH39: 0 | AI39: 3 | AJ39: 0 | AK39: 3 | AL39: 22 | AM39: 22 | AN39: 26 | AO39: 8 | AP39: 11 | AQ39: 95 | AR39: 58 | AS39: 37 | AT39: 0 | AU39: 0 | AV39: 0 | AW39: 5 | AX39: 2 | AY39: 3 | AZ39: 18 | BA39: 11 | BB39: 7 | BC39: 72 | BD39: 45 | BE39: 27 | BF39: 0 | BG39: 0 | BH39: 0
A40: 植物人 | B40: 3296 | C40: 4 | D40: 5 | E40: 5 | F40: 4 | G40: 10 | H40: 136 | I40: 519 | J40: 255 | K40: 587 | L40: 373 | M40: 1398 | N40: 3296 | O40: 1888 | P40: 1408 | Q40: 3294 | R40: 1886 | S40: 1408 | T40: 1 | U40: 1 | V40: 0 | W40: 0 | X40: 0 | Y40: 0 | Z40: 1 | AA40: 1 | AB40: 0 | AC40: 0 | AD40: 0 | AE40: 0 | AF40: 108 | AG40: 1 | AH40: 0 | AI40: 0 | AJ40: 0 | AK40: 0 | AL40: 8 | AM40: 20 | AN40: 47 | AO40: 9 | AP40: 23 | AQ40: 108 | AR40: 60 | AS40: 48 | AT40: 108 | AU40: 60 | AV40: 48 | AW40: 0 | AX40: 0 | AY40: 0 | AZ40: 0 | BA40: 0 | BB40: 0 | BC40: 0 | BD40: 0 | BE40: 0 | BF40: 0 | BG40: 0 | BH40: 0
A41: 失智症者 | B41: 55578 | C41: 0 | D41: 0 | E41: 2 | F41: 0 | G41: 6 | H41: 115 | I41: 642 | J41: 363 | K41: 1917 | L41: 2101 | M41: 50432 | N41: 55578 | O41: 20230 | P41: 35348 | Q41: 3050 | R41: 964 | S41: 2086 | T41: 14420 | U41: 4701 | V41: 9719 | W41: 21183 | X41: 7777 | Y41: 13406 | Z41: 16925 | AA41: 6788 | AB41: 10137 | AC41: 0 | AD41: 0 | AE41: 0 | AF41: 558 | AG41: 0 | AH41: 0 | AI41: 1 | AJ41: 0 | AK41: 0 | AL41: 7 | AM41: 22 | AN41: 76 | AO41: 33 | AP41: 419 | AQ41: 558 | AR41: 184 | AS41: 374 | AT41: 35 | AU41: 8 | AV41: 27 | AW41: 144 | AX41: 48 | AY41: 96 | AZ41: 220 | BA41: 68 | BB41: 152 | BC41: 159 | BD41: 60 | BE41: 99 | BF41: 0 | BG41: 0 | BH41: 0
A42: 自閉症者 | B42: 14533 | C42: 38 | D42: 770 | E42: 3381 | F42: 1890 | G42: 2037 | H42: 5497 | I42: 858 | J42: 25 | K42: 23 | L42: 5 | M42: 9 | N42: 14533 | O42: 12667 | P42: 1866 | Q42: 227 | R42: 173 | S42: 54 | T42: 1056 | U42: 856 | V42: 200 | W42: 2824 | X42: 2431 | Y42: 393 | Z42: 10426 | AA42: 9207 | AB42: 1219 | AC42: 0 | AD42: 0 | AE42: 0 | AF42: 122 | AG42: 2 | AH42: 13 | AI42: 34 | AJ42: 19 | AK42: 25 | AL42: 28 | AM42: 1 | AN42: 0 | AO42: 0 | AP42: 0 | AQ42: 122 | AR42: 108 | AS42: 14 | AT42: 2 | AU42: 2 | AV42: 0 | AW42: 9 | AX42: 5 | AY42: 4 | AZ42: 31 | BA42: 27 | BB42: 4 | BC42: 80 | BD42: 74 | BE42: 6 | BF42: 0 | BG42: 0 | BH42: 0
A43: 慢性精神病患者 | B43: 127591 | C43: 0 | D43: 2 | E43: 11 | F43: 40 | G43: 154 | H43: 5284 | I43: 31779 | J43: 17509 | K43: 38299 | L43: 14592 | M43: 19921 | N43: 127591 | O43: 61414 | P43: 66177 | Q43: 1808 | R43: 935 | S43: 873 | T43: 19764 | U43: 10304 | V43: 9460 | W43: 69360 | X43: 34638 | Y43: 34722 | Z43: 36659 | AA43: 15537 | AB43: 21122 | AC43: 0 | AD43: 0 | AE43: 0 | AF43: 1782 | AG43: 0 | AH43: 0 | AI43: 1 | AJ43: 2 | AK43: 8 | AL43: 126 | AM43: 549 | AN43: 790 | AO43: 155 | AP43: 151 | AQ43: 1782 | AR43: 773 | AS43: 1009 | AT43: 19 | AU43: 13 | AV43: 6 | AW43: 276 | AX43: 169 | AY43: 107 | AZ43: 960 | BA43: 415 | BB43: 545 | BC43: 527 | BD43: 176 | BE43: 351 | BF43: 0 | BG43: 0 | BH43: 0
... A48: 新制類別無法對應舊制類別者 | B48: 10381 | C48: 312 | D48: 2332 | E48: 1168 | F48: 565 | G48: 508 | H48: 1320 | I48: 853 | J48: 407 | K48: 888 | L48: 441 | M48: 1587 | N48: 10381 | O48: 6632 | P48: 3749 | Q48: 154 | R48: 77 | S48: 77 | T48: 638 | U48: 327 | V48: 311 | W48: 1917 | X48: 1088 | Y48: 829 | Z48: 7672 | AA48: 5140 | AB48: 2532 | AC48: 0 | AD48: 0 | AE48: 0 | AF48: 270 | AG48: 9 | AH48: 111 | AI48: 54 | AJ48: 15 | AK48: 9 | AL48: 13 | AM48: 16 | AN48: 22 | AO48: 8 | AP48: 13 | AQ48: 270 | AR48: 176 | AS48: 94 | AT48: 3 | AU48: 3 | AV48: 0 | AW48: 8 | AX48: 2 | AY48: 6 | AZ48: 30 | BA48: 20 | BB48: 10 | BC48: 229 | BD48: 151 | BE48: 78 | BF48: 0 | BG48: 0 | BH48: 0
A49: 資料來源：直轄市、縣(市)政府。

Sheet 106
A1: 1.3-01 身心障礙者按年齡與等級
A2: 民國106年底
A3: 單位：人 | B3: 一、全體 | M3: 一、全體 | AE3: 二、原住民 | AP3: 二、原住民
A4: 區域及障礙類別 | B4: 總計 | C4: 0-2歲 | D4: 3-5歲 | E4: 6-11歲 | F4: 12-14歲 | G4: 15-17歲 | H4: 18-29歲 | I4: 30-44歲 | J4: 45-59歲 | K4: 60-64歲 | L4: 65歲以上 | M4: 總計 | P4: 極重度 | S4: 重度 | V4: 中度 | Y4: 輕度 | AB4: 占總人口比率（％） | AE4: 總計 | AF4: 0-2歲 | AG4: 3-5歲 | AH4: 6-11歲 | AI4: 12-14歲 | AJ4: 15-17歲 | AK4: 18-29歲 | AL4: 30-44歲 | AM4: 45-59歲 | AN4: 60-64歲 | AO4: 65歲以上 | AP4: 總計 | AS4: 極重度 | AV4: 重度 | AY4: 中度 | BB4: 輕度 | BE4: 占總原住民人口比率（％）
M5: 計 | N5: 男 | O5: 女 | P5: 計 | Q5: 男 | R5: 女 | S5: 計 | T5: 男 | U5: 女 | V5: 計 | W5: 男 | X5: 女 | Y5: 計 | Z5: 男 | AA5: 女 | AB5: 計 | AC5: 男 | AD5: 女 | AP5: 計 | AQ5: 男 | AR5: 女 | AS5: 計 | AT5: 男 | AU5: 女 | AV5: 計 | AW5: 男 | AX5: 女 | AY5: 計 | AZ5: 男 | BA5: 女 | BB5: 計 | BC5: 男 | BD5: 女 | BE5: 計 | BF5: 男 | BG5: 女
A6: 106年,2017
A7: 1.按區域別 | B7: 1167450 | C7: 1721 | D7: 6701 | E7: 17922 | F7: 11728 | G7: 15979 | H7: 74321 | I7: 150854 | J7: 293287 | K7: 119106 | L7: 475831 | M7: 1167450 | N7: 658682 | O7: 508768 | P7: 140170 | Q7: 74405 | R7: 65765 | S7: 195977 | T7: 107563 | U7: 88414 | V7: 373692 | W7: 210785 | X7: 162907 | Y7: 457611 | Z7: 265929 | AA7: 191682 | AB7: 4.95 | AC7: 5.62 | AD7: 4.29 | AE7: 22045 | AF7: 71 | AG7: 252 | AH7: 549 | AI7: 319 | AJ7: 429 | AK7: 1832 | AL7: 3677 | AM7: 6772 | AN7: 2378 | AO7: 5766 | AP7: 22045 | AQ7: 12662 | AR7: 9383 | AS7: 2468 | AT7: 1266 | AU7: 1202 | AV7: 3588 | AW7: 2101 | AX7: 1487 | AY7: 7150 | AZ7: 4110 | BA7: 3040 | BB7: 8839 | BC7: 5185 | BD7: 3654 | BE7: 3.94 | BF7: 4.6605787 | BG7: 3.260896
A8: 新北市 | B8: 166303 | C8: 289 | D8: 1275 | E8: 3251 | F8: 1904 | G8: 2600 | H8: 11543 | I8: 23063 | J8: 43893 | K8: 18390 | L8: 60095 | M8: 166303 | N8: 94920 | O8: 71383 | P8: 21079 | Q8: 11196 | R8: 9883 | S8: 26633 | T8: 14533 | U8: 12100 | V8: 51132 | W8: 28896 | X8: 22236 | Y8: 67459 | Z8: 40295 | AA8: 27164 | AB8: 4.17 | AC8: 4.86 | AD8: 3.51 | AE8: 1571 | AF8: 4 | AG8: 23 | AH8: 46 | AI8: 32 | AJ8: 47 | AK8: 159 | AL8: 334 | AM8: 499 | AN8: 172 | AO8: 255 | AP8: 1571 | AQ8: 892 | AR8: 679 | AS8: 224 | AT8: 100 | AU8: 124 | AV8: 202 | AW8: 128 | AX8: 74 | AY8: 446 | AZ8: 257 | BA8: 189 | BB8: 699 | BC8: 407 | BD8: 292 | BE8: 2.8369691 | BF8: 3.4627329 | BG8: 2.2926796
A9: 臺北市 | B9: 121318 | C9: 210 | D9: 778 | E9: 1864 | F9: 1213 | G9: 1657 | H9: 7391 | I9: 13929 | J9: 28301 | K9: 11931 | L9: 54044 | M9: 121318 | N9: 66543 | O9: 54775 | P9: 16201 | Q9: 8522 | R9: 7679 | S9: 22708 | T9: 11979 | U9: 10729 | V9: 38142 | W9: 20580 | X9: 17562 | Y9: 44267 | Z9: 25462 | AA9: 18805 | AB9: 4.52 | AC9: 5.19 | AD9: 3.91 | AE9: 513 | AF9: 2 | AG9: 3 | AH9: 13 | AI9: 13 | AJ9: 13 | AK9: 58 | AL9: 97 | AM9: 162 | AN9: 58 | AO9: 94 | AP9: 513 | AQ9: 243 | AR9: 270 | AS9: 50 | AT9: 20 | AU9: 30 | AV9: 104 | AW9: 57 | AX9: 47 | AY9: 173 | AZ9: 80 | BA9: 93 | BB9: 186 | BC9: 86 | BD9: 100 | BE9: 3.117404 | BF9: 3.5080121 | BG9: 2.8334558
A10: 桃園市 | B10: 82049 | C10: 199 | D10: 589 | E10: 1677 | F10: 1223 | G10: 1605 | H10: 6551 | I10: 11839 | J10: 20897 | K10: 8079 | L10: 29390 | M10: 82049 | N10: 47274 | O10: 34775 | P10: 10458 | Q10: 5619 | R10: 4839 | S10: 13270 | T10: 7337 | U10: 5933 | V10: 25387 | W10: 14555 | X10: 10832 | Y10: 32934 | Z10: 19763 | AA10: 13171 | AB10: 3.75 | AC10: 4.34 | AD10: 3.17 | AE10: 1355 | AF10: 11 | AG10: 30 | AH10: 65 | AI10: 38 | AJ10: 34 | AK10: 127 | AL10: 245 | AM10: 392 | AN10: 124 | AO10: 289 | AP10: 1355 | AQ10: 756 | AR10: 599 | AS10: 169 | AT10: 79 | AU10: 90 | AV10: 218 | AW10: 131 | AX10: 87 | AY10: 423 | AZ10: 241 | BA10: 182 | BB10: 545 | BC10: 305 | BD10: 240 | BE10: 1.8782922 | BF10: 2.1911138 | BG10: 1.591519
A11: 臺中市 | B11: 122422 | C11: 236 | D11: 1033 | E11: 2330 | F11: 1400 | G11: 1887 | H11: 9004 | I11: 17198 | J11: 30823 | K11: 12489 | L11: 46022 | M11: 122422 | N11: 69660 | O11: 52762 | P11: 15182 | Q11: 8046 | R11: 7136 | S11: 21108 | T11: 11597 | U11: 9511 | V11: 38771 | W11: 22073 | X11: 16698 | Y11: 47361 | Z11: 27944 | AA11: 19417 | AB11: 4.39 | AC11: 5.07 | AD11: 3.73 | AE11: 972 | AF11: 7 | AG11: 24 | AH11: 37 | AI11: 19 | AJ11: 23 | AK11: 132 | AL11: 190 | AM11: 312 | AN11: 82 | AO11: 146 | AP11: 972 | AQ11: 522 | AR11: 450 | AS11: 100 | AT11: 51 | AU11: 49 | AV11: 148 | AW11: 83 | AX11: 65 | AY11: 331 | AZ11: 174 | BA11: 157 | BB11: 393 | BC11: 214 | BD11: 179 | BE11: 2.8670029 | BF11: 3.3365292 | BG11: 2.464673
A12: 臺南市 | B12: 97318 | C12: 116 | D12: 388 | E12: 1283 | F12: 843 | G12: 1133 | H12: 5530 | I12: 11608 | J12: 24067 | K12: 10039 | L12: 42311 | M12: 97318 | N12: 54029 | O12: 43289 | P12: 12070 | Q12: 6316 | R12: 5754 | S12: 16623 | T12: 8856 | U12: 7767 | V12: 30241 | W12: 17056 | X12: 13185 | Y12: 38384 | Z12: 21801 | AA12: 16583 | AB12: 5.16 | AC12: 5.73 | AD12: 4.58 | AE12: 211 | AF12: 2 | AG12: 4 | AH12: 8 | AI12: 3 | AJ12: 4 | AK12: 21 | AL12: 41 | AM12: 70 | AN12: 20 | AO12: 38 | AP12: 211 | AQ12: 97 | AR12: 114 | AS12: 28 | AT12: 12 | AU12: 16 | AV12: 31 | AW12: 15 | AX12: 16 | AY12: 62 | AZ12: 27 | BA12: 35 | BB12: 90 | BC12: 43 | BD12: 47 | BE12: 2.7268028 | BF12: 2.9901356 | BG12: 2.5367156
A13: 高雄市 | B13: 139620 | C13: 208 | D13: 758 | E13: 1868 | F13: 1230 | G13: 1722 | H13: 8344 | I13: 18791 | J13: 37006 | K13: 15164 | L13: 54529 | M13: 139620 | N13: 77805 | O13: 61815 | P13: 16753 | Q13: 8747 | R13: 8006 | S13: 22466 | T13: 12584 | U13: 9882 | V13: 46786 | W13: 26128 | X13: 20658 | Y13: 53615 | Z13: 30346 | AA13: 23269 | AB13: 5.03 | AC13: 5.66 | AD13: 4.41 | AE13: 716 | AF13: 1 | AG13: 16 | AH13: 30 | AI13: 20 | AJ13: 18 | AK13: 47 | AL13: 99 | AM13: 209 | AN13: 74 | AO13: 202 | AP13: 716 | AQ13: 382 | AR13: 334 | AS13: 108 | AT13: 52 | AU13: 56 | AV13: 109 | AW13: 62 | AX13: 47 | AY13: 216 | AZ13: 119 | BA13: 97 | BB13: 283 | BC13: 149 | BD13: 134 | BE13: 2.0924048 | BF13: 2.3766565 | BG13: 1.840626
A14: 宜蘭縣 | B14: 31872 | C14: 38 | D14: 131 | E14: 325 | F14: 302 | G14: 344 | H14: 1846 | I14: 3682 | J14: 7674 | K14: 3180 | L14: 14350 | M14: 31872 | N14: 17458 | O14: 14414 | P14: 3219 | Q14: 1702 | R14: 1517 | S14: 4921 | T14: 2662 | U14: 2259 | V14: 10125 | W14: 5530 | X14: 4595 | Y14: 13607 | Z14: 7564 | AA14: 6043 | AB14: 6.98 | AC14: 7.56 | AD14: 6.39 | AE14: 912 | AF14: 3 | AG14: 10 | AH14: 16 | AI14: 9 | AJ14: 14 | AK14: 83 | AL14: 142 | AM14: 294 | AN14: 117 | AO14: 224 | AP14: 912 | AQ14: 515 | AR14: 397 | AS14: 115 | AT14: 58 | AU14: 57 | AV14: 122 | AW14: 72 | AX14: 50 | AY14: 283 | AZ14: 148 | BA14: 135 | BB14: 392 | BC14: 237 | BD14: 155 | BE14: 5.3643903 | BF14: 6.1602871 | BG14: 4.5943757
A15: 新竹縣 | B15: 22282 | C15: 35 | D15: 121 | E15: 425 | F15: 250 | G15: 364 | H15: 1751 | I15: 3056 | J15: 5386 | K15: 2011 | L15: 8883 | M15: 22282 | N15: 13108 | O15: 9174 | P15: 2996 | Q15: 1620 | R15: 1376 | S15: 3960 | T15: 2184 | U15: 1776 | V15: 7015 | W15: 4148 | X15: 2867 | Y15: 8311 | Z15: 5156 | AA15: 3155 | AB15: 4.04 | AC15: 4.65 | AD15: 3.4 | AE15: 693 | AF15: 6 | AG15: 7 | AH15: 14 | AI15: 5 | AJ15: 16 | AK15: 54 | AL15: 156 | AM15: 222 | AN15: 73 | AO15: 140 | AP15: 693 | AQ15: 425 | AR15: 268 | AS15: 85 | AT15: 54 | AU15: 31 | AV15: 133 | AW15: 82 | AX15: 51 | AY15: 231 | AZ15: 132 | BA15: 99 | BB15: 244 | BC15: 157 | BD15: 87 | BE15: 3.2390746 | BF15: 4.0246212 | BG15: 2.4734656
A16: 苗栗縣 | B16: 33719 | C16: 43 | D16: 174 | E16: 490 | F16: 333 | G16: 413 | H16: 2207 | I16: 4082 | J16: 7722 | K16: 2991 | L16: 15264 | M16: 33719 | N16: 19463 | O16: 14256 | P16: 3778 | Q16: 2051 | R16: 1727 | S16: 6292 | T16: 3462 | U16: 2830 | V16: 11344 | W16: 6525 | X16: 4819 | Y16: 12305 | Z16: 7425 | AA16: 4880 | AB16: 6.09 | AC16: 6.81 | AD16: 5.32 | AE16: 527 | AF16: 1 | AG16: 13 | AH16: 15 | AI16: 10 | AJ16: 16 | AK16: 40 | AL16: 95 | AM16: 156 | AN16: 54 | AO16: 127 | AP16: 527 | AQ16: 287 | AR16: 240 | AS16: 66 | AT16: 30 | AU16: 36 | AV16: 88 | AW16: 50 | AX16: 38 | AY16: 172 | AZ16: 96 | BA16: 76 | BB16: 201 | BC16: 111 | BD16: 90 | BE16: 4.6736431 | BF16: 5.2535237 | BG16: 4.1286771
A17: 彰化縣 | B17: 67854 | C17: 75 | D17: 284 | E17: 952 | F17: 659 | G17: 891 | H17: 4565 | I17: 9551 | J17: 16394 | K17: 6773 | L17: 27710 | M17: 67854 | N17: 39163 | O17: 28691 | P17: 7456 | Q17: 4058 | R17: 3398 | S17: 11612 | T17: 6513 | U17: 5099 | V17: 22599 | W17: 13039 | X17: 9560 | Y17: 26187 | Z17: 15553 | AA17: 10634 | AB17: 5.29 | AC17: 5.99 | AD17: 4.56 | AE17: 124 | AF17: 0 | AG17: 5 | AH17: 8 | AI17: 4 | AJ17: 2 | AK17: 15 | AL17: 30 | AM17: 37 | AN17: 8 | AO17: 15 | AP17: 124 | AQ17: 63 | AR17: 61 | AS17: 8 | AT17: 3 | AU17: 5 | AV17: 17 | AW17: 8 | AX17: 9 | AY17: 45 | AZ17: 24 | BA17: 21 | BB17: 54 | BC17: 28 | BD17: 26 | BE17: 2.1877205 | BF17: 2.5392987 | BG17: 1.9140257
A18: 南投縣 | B18: 33875 | C18: 33 | D18: 116 | E18: 372 | F18: 249 | G18: 350 | H18: 1789 | I18: 4033 | J18: 7821 | K18: 3338 | L18: 15774 | M18: 33875 | N18: 19254 | O18: 14621 | P18: 3882 | Q18: 2014 | R18: 1868 | S18: 5419 | T18: 3101 | U18: 2318 | V18: 11025 | W18: 6304 | X18: 4721 | Y18: 13549 | Z18: 7835 | AA18: 5714 | AB18: 6.76 | AC18: 7.5 | AD18: 5.98 | AE18: 1405 | AF18: 4 | AG18: 8 | AH18: 33 | AI18: 15 | AJ18: 26 | AK18: 98 | AL18: 247 | AM18: 472 | AN18: 175 | AO18: 327 | AP18: 1405 | AQ18: 844 | AR18: 561 | AS18: 169 | AT18: 85 | AU18: 84 | AV18: 233 | AW18: 138 | AX18: 95 | AY18: 453 | AZ18: 269 | BA18: 184 | BB18: 550 | BC18: 352 | BD18: 198 | BE18: 4.8426567 | BF18: 5.7835949 | BG18: 3.89043
... A29: 連江縣 | B29: 475 | C29: 3 | D29: 3 | E29: 8 | F29: 5 | G29: 8 | H29: 33 | I29: 54 | J29: 124 | K29: 50 | L29: 187 | M29: 475 | N29: 306 | O29: 169 | P29: 26 | Q29: 18 | R29: 8 | S29: 71 | T29: 42 | U29: 29 | V29: 132 | W29: 74 | X29: 58 | Y29: 246 | Z29: 172 | AA29: 74 | AB29: 3.69 | AC29: 4.16 | AD29: 3.06 | AE29: 5 | AF29: 0 | AG29: 0 | AH29: 0 | AI29: 0 | AJ29: 0 | AK29: 0 | AL29: 1 | AM29: 3 | AN29: 0 | AO29: 1 | AP29: 5 | AQ29: 4 | AR29: 1 | AS29: 0 | AT29: 0 | AU29: 0 | AV29: 0 | AW29: 0 | AX29: 0 | AY29: 2 | AZ29: 2 | BA29: 0 | BB29: 3 | BC29: 2 | BD29: 1 | BE29: 2.4509804 | BF29: 3.2520325 | BG29: 1.2345679
A31: 2.按障礙類別 | B31: 1167450 | C31: 1721 | D31: 6701 | E31: 17922 | F31: 11728 | G31: 15979 | H31: 74321 | I31: 150854 | J31: 293287 | K31: 119106 | L31: 475831 | M31: 1167450 | N31: 658682 | O31: 508768 | P31: 140170 | Q31: 74405 | R31: 65765 | S31: 195977 | T31: 107563 | U31: 88414 | V31: 373692 | W31: 210785 | X31: 162907 | Y31: 457611 | Z31: 265929 | AA31: 191682 | AE31: 22045 | AF31: 71 | AG31: 252 | AH31: 549 | AI31: 319 | AJ31: 429 | AK31: 1832 | AL31: 3677 | AM31: 6772 | AN31: 2378 | AO31: 5766 | AP31: 22045 | AQ31: 12662 | AR31: 9383 | AS31: 2468 | AT31: 1266 | AU31: 1202 | AV31: 3588 | AW31: 2101 | AX31: 1487 | AY31: 7150 | AZ31: 4110 | BA31: 3040 | BB31: 8839 | BC31: 5185 | BD31: 3654
A32: 視覺障礙者 | B32: 56830 | C32: 14 | D32: 39 | E32: 298 | F32: 244 | G32: 372 | H32: 2330 | I32: 5663 | J32: 11249 | K32: 5859 | L32: 30762 | M32: 56830 | N32: 29773 | O32: 27057 | P32: 27 | Q32: 12 | R32: 15 | S32: 20575 | T32: 11211 | U32: 9364 | V32: 17259 | W32: 8668 | X32: 8591 | Y32: 18969 | Z32: 9882 | AA32: 9087 | AB32: 0 | AC32: 0 | AD32: 0 | AE32: 841 | AF32: 0 | AG32: 0 | AH32: 7 | AI32: 12 | AJ32: 6 | AK32: 56 | AL32: 136 | AM32: 248 | AN32: 91 | AO32: 285 | AP32: 841 | AQ32: 448 | AR32: 393 | AS32: 0 | AT32: 0 | AU32: 0 | AV32: 363 | AW32: 192 | AX32: 171 | AY32: 228 | AZ32: 125 | BA32: 103 | BB32: 250 | BC32: 131 | BD32: 119 | BE32: 0 | BF32: 0 | BG32: 0
A33: 聽覺機能障礙者 | B33: 122835 | C33: 380 | D33: 464 | E33: 887 | F33: 584 | G33: 723 | H33: 4037 | I33: 6761 | J33: 15009 | K33: 10043 | L33: 83947 | M33: 122835 | N33: 69854 | O33: 52981 | P33: 35 | Q33: 19 | R33: 16 | S33: 19703 | T33: 10701 | U33: 9002 | V33: 34077 | W33: 19919 | X33: 14158 | Y33: 69020 | Z33: 39215 | AA33: 29805 | AB33: 0 | AC33: 0 | AD33: 0 | AE33: 1622 | AF33: 11 | AG33: 12 | AH33: 17 | AI33: 6 | AJ33: 22 | AK33: 81 | AL33: 118 | AM33: 353 | AN33: 178 | AO33: 824 | AP33: 1622 | AQ33: 871 | AR33: 751 | AS33: 0 | AT33: 0 | AU33: 0 | AV33: 357 | AW33: 197 | AX33: 160 | AY33: 445 | AZ33: 229 | BA33: 216 | BB33: 820 | BC33: 445 | BD33: 375 | BE33: 0 | BF33: 0 | BG33: 0
A34: 平衡機能障礙者 | B34: 3501 | C34: 1 | D34: 3 | E34: 12 | F34: 6 | G34: 5 | H34: 72 | I34: 245 | J34: 779 | K34: 442 | L34: 1936 | M34: 3501 | N34: 1986 | O34: 1515 | P34: 13 | Q34: 7 | R34: 6 | S34: 184 | T34: 92 | U34: 92 | V34: 746 | W34: 396 | X34: 350 | Y34: 2558 | Z34: 1491 | AA34: 1067 | AB34: 0 | AC34: 0 | AD34: 0 | AE34: 43 | AF34: 0 | AG34: 0 | AH34: 0 | AI34: 0 | AJ34: 0 | AK34: 2 | AL34: 2 | AM34: 15 | AN34: 5 | AO34: 19 | AP34: 43 | AQ34: 21 | AR34: 22 | AS34: 0 | AT34: 0 | AU34: 0 | AV34: 1 | AW34: 0 | AX34: 1 | AY34: 5 | AZ34: 4 | BA34: 1 | BB34: 37 | BC34: 17 | BD34: 20 | BE34: 0 | BF34: 0 | BG34: 0
A35: 聲音機能或語言機能障礙者 | B35: 15007 | C35: 12 | D35: 217 | E35: 598 | F35: 226 | G35: 217 | H35: 684 | I35: 1929 | J35: 4979 | K35: 1975 | L35: 4170 | M35: 15007 | N35: 11005 | O35: 4002 | P35: 183 | Q35: 143 | R35: 40 | S35: 3753 | T35: 3026 | U35: 727 | V35: 3131 | W35: 2282 | X35: 849 | Y35: 7940 | Z35: 5554 | AA35: 2386 | AB35: 0 | AC35: 0 | AD35: 0 | AE35: 271 | AF35: 0 | AG35: 5 | AH35: 25 | AI35: 5 | AJ35: 7 | AK35: 13 | AL35: 39 | AM35: 90 | AN35: 36 | AO35: 51 | AP35: 271 | AQ35: 168 | AR35: 103 | AS35: 1 | AT35: 0 | AU35: 1 | AV35: 73 | AW35: 54 | AX35: 19 | AY35: 57 | AZ35: 33 | BA35: 24 | BB35: 140 | BC35: 81 | BD35: 59 | BE35: 0 | BF35: 0 | BG35: 0
A36: 肢體障礙者 | B36: 366781 | C36: 310 | D36: 679 | E36: 1455 | F36: 938 | G36: 1325 | H36: 9305 | I36: 36003 | J36: 114534 | K36: 47233 | L36: 154999 | M36: 366781 | N36: 216822 | O36: 149959 | P36: 4658 | Q36: 2722 | R36: 1936 | S36: 45747 | T36: 25966 | U36: 19781 | V36: 131403 | W36: 78675 | X36: 52728 | Y36: 184973 | Z36: 109459 | AA36: 75514 | AB36: 0 | AC36: 0 | AD36: 0 | AE36: 8930 | AF36: 9 | AG36: 26 | AH36: 29 | AI36: 36 | AJ36: 36 | AK36: 298 | AL36: 1243 | AM36: 3369 | AN36: 1240 | AO36: 2644 | AP36: 8930 | AQ36: 5624 | AR36: 3306 | AS36: 94 | AT36: 64 | AU36: 30 | AV36: 1034 | AW36: 655 | AX36: 379 | AY36: 3251 | AZ36: 2063 | BA36: 1188 | BB36: 4551 | BC36: 2842 | BD36: 1709 | BE36: 0 | BF36: 0 | BG36: 0
A37: 智能障礙者 | B37: 101428 | C37: 19 | D37: 615 | E37: 5515 | F37: 4236 | G37: 6350 | H37: 28151 | I37: 32058 | J37: 17037 | K37: 3375 | L37: 4072 | M37: 101428 | N37: 57787 | O37: 43641 | P37: 7527 | Q37: 4162 | R37: 3365 | S37: 14523 | T37: 8049 | U37: 6474 | V37: 37897 | W37: 20762 | X37: 17135 | Y37: 41481 | Z37: 24814 | AA37: 16667 | AB37: 0 | AC37: 0 | AD37: 0 | AE37: 2669 | AF37: 2 | AG37: 31 | AH37: 263 | AI37: 154 | AJ37: 220 | AK37: 816 | AL37: 825 | AM37: 265 | AN37: 50 | AO37: 43 | AP37: 2669 | AQ37: 1561 | AR37: 1108 | AS37: 94 | AT37: 49 | AU37: 45 | AV37: 249 | AW37: 142 | AX37: 107 | AY37: 989 | AZ37: 563 | BA37: 426 | BB37: 1337 | BC37: 807 | BD37: 530 | BE37: 0 | BF37: 0 | BG37: 0
A38: 重要器官失去功能者 | B38: 154313 | C38: 177 | D38: 293 | E38: 676 | F38: 468 | G38: 732 | H38: 4046 | I38: 13900 | J38: 40327 | K38: 21592 | L38: 72102 | M38: 154313 | N38: 89058 | O38: 65255 | P38: 73654 | Q38: 38720 | R38: 34934 | S38: 10113 | T38: 6005 | U38: 4108 | V38: 18018 | W38: 11126 | X38: 6892 | Y38: 52528 | Z38: 33207 | AA38: 19321 | AB38: 0 | AC38: 0 | AD38: 0 | AE38: 2461 | AF38: 9 | AG38: 10 | AH38: 17 | AI38: 14 | AJ38: 22 | AK38: 97 | AL38: 344 | AM38: 874 | AN38: 368 | AO38: 706 | AP38: 2461 | AQ38: 1266 | AR38: 1195 | AS38: 1258 | AT38: 599 | AU38: 659 | AV38: 228 | AW38: 127 | AX38: 101 | AY38: 318 | AZ38: 163 | BA38: 155 | BB38: 657 | BC38: 377 | BD38: 280 | BE38: 0 | BF38: 0 | BG38: 0
A39: 顏面損傷者 | B39: 4720 | C39: 6 | D39: 8 | E39: 42 | F39: 26 | G39: 48 | H39: 610 | I39: 864 | J39: 1664 | K39: 561 | L39: 891 | M39: 4720 | N39: 3212 | O39: 1508 | P39: 0 | Q39: 0 | R39: 0 | S39: 296 | T39: 161 | U39: 135 | V39: 808 | W39: 502 | X39: 306 | Y39: 3616 | Z39: 2549 | AA39: 1067 | AB39: 0 | AC39: 0 | AD39: 0 | AE39: 93 | AF39: 0 | AG39: 0 | AH39: 3 | AI39: 1 | AJ39: 3 | AK39: 22 | AL39: 24 | AM39: 21 | AN39: 10 | AO39: 9 | AP39: 93 | AQ39: 57 | AR39: 36 | AS39: 0 | AT39: 0 | AU39: 0 | AV39: 5 | AW39: 2 | AX39: 3 | AY39: 19 | AZ39: 11 | BA39: 8 | BB39: 69 | BC39: 44 | BD39: 25 | BE39: 0 | BF39: 0 | BG39: 0
A40: 植物人 | B40: 3684 | C40: 3 | D40: 6 | E40: 7 | F40: 11 | G40: 14 | H40: 174 | I40: 571 | J40: 930 | K40: 409 | L40: 1559 | M40: 3684 | N40: 2138 | O40: 1546 | P40: 3678 | Q40: 2134 | R40: 1544 | S40: 2 | T40: 2 | U40: 0 | V40: 1 | W40: 1 | X40: 0 | Y40: 3 | Z40: 1 | AA40: 2 | AB40: 0 | AC40: 0 | AD40: 0 | AE40: 114 | AF40: 0 | AG40: 0 | AH40: 0 | AI40: 0 | AJ40: 1 | AK40: 7 | AL40: 21 | AM40: 47 | AN40: 9 | AO40: 29 | AP40: 114 | AQ40: 63 | AR40: 51 | AS40: 113 | AT40: 62 | AU40: 51 | AV40: 1 | AW40: 1 | AX40: 0 | AY40: 0 | AZ40: 0 | BA40: 0 | BB40: 0 | BC40: 0 | BD40: 0 | BE40: 0 | BF40: 0 | BG40: 0
A41: 失智症者 | B41: 50813 | C41: 0 | D41: 0 | E41: 2 | F41: 3 | G41: 6 | H41: 133 | I41: 655 | J41: 2261 | K41: 1905 | L41: 45848 | M41: 50813 | N41: 18725 | O41: 32088 | P41: 3491 | Q41: 1086 | R41: 2405 | S41: 13069 | T41: 4374 | U41: 8695 | V41: 19471 | W41: 7216 | X41: 12255 | Y41: 14782 | Z41: 6049 | AA41: 8733 | AB41: 0 | AC41: 0 | AD41: 0 | AE41: 454 | AF41: 0 | AG41: 0 | AH41: 1 | AI41: 0 | AJ41: 0 | AK41: 7 | AL41: 19 | AM41: 66 | AN41: 27 | AO41: 334 | AP41: 454 | AQ41: 160 | AR41: 294 | AS41: 31 | AT41: 7 | AU41: 24 | AV41: 102 | AW41: 40 | AX41: 62 | AY41: 196 | AZ41: 64 | BA41: 132 | BB41: 125 | BC41: 49 | BD41: 76 | BE41: 0 | BF41: 0 | BG41: 0
A42: 自閉症者 | B42: 13905 | C42: 32 | D42: 692 | E42: 3228 | F42: 1882 | G42: 2216 | H42: 5097 | I42: 694 | J42: 51 | K42: 6 | L42: 7 | M42: 13905 | N42: 12116 | O42: 1789 | P42: 262 | Q42: 205 | R42: 57 | S42: 1093 | T42: 882 | U42: 211 | V42: 2828 | W42: 2439 | X42: 389 | Y42: 9722 | Z42: 8590 | AA42: 1132 | AB42: 0 | AC42: 0 | AD42: 0 | AE42: 102 | AF42: 0 | AG42: 7 | AH42: 29 | AI42: 19 | AJ42: 20 | AK42: 26 | AL42: 1 | AM42: 0 | AN42: 0 | AO42: 0 | AP42: 102 | AQ42: 89 | AR42: 13 | AS42: 3 | AT42: 3 | AU42: 0 | AV42: 9 | AW42: 5 | AX42: 4 | AY42: 28 | AZ42: 26 | BA42: 2 | BB42: 62 | BC42: 55 | BD42: 7 | BE42: 0 | BF42: 0 | BG42: 0
A43: 慢性精神病患者 | B43: 125932 | C43: 0 | D43: 1 | E43: 14 | F43: 38 | G43: 172 | H43: 5506 | I43: 32762 | J43: 55338 | K43: 13861 | L43: 18240 | M43: 125932 | N43: 60836 | O43: 65096 | P43: 1961 | Q43: 1002 | R43: 959 | S43: 19813 | T43: 10363 | U43: 9450 | V43: 68524 | W43: 34355 | X43: 34169 | Y43: 35634 | Z43: 15116 | AA43: 20518 | AB43: 0 | AC43: 0 | AD43: 0 | AE43: 1606 | AF43: 0 | AG43: 0 | AH43: 1 | AI43: 1 | AJ43: 5 | AK43: 108 | AL43: 524 | AM43: 718 | AN43: 130 | AO43: 119 | AP43: 1606 | AQ43: 690 | AR43: 916 | AS43: 21 | AT43: 15 | AU43: 6 | AV43: 247 | AW43: 147 | AX43: 100 | AY43: 863 | AZ43: 382 | BA43: 481 | BB43: 475 | BC43: 146 | BD43: 329 | BE43: 0 | BF43: 0 | BG43: 0
... A48: 新制類別無法對應舊制類別者 | B48: 9693 | C48: 308 | D48: 2187 | E48: 1136 | F48: 528 | G48: 501 | H48: 1105 | I48: 767 | J48: 1263 | K48: 439 | L48: 1459 | M48: 9693 | N48: 6141 | O48: 3552 | P48: 148 | Q48: 81 | R48: 67 | S48: 614 | T48: 336 | U48: 278 | V48: 1998 | W48: 1129 | X48: 869 | Y48: 6933 | Z48: 4595 | AA48: 2338 | AB48: 0 | AC48: 0 | AD48: 0 | AE48: 236 | AF48: 13 | AG48: 97 | AH48: 41 | AI48: 13 | AJ48: 8 | AK48: 9 | AL48: 7 | AM48: 30 | AN48: 1 | AO48: 17 | AP48: 236 | AQ48: 147 | AR48: 89 | AS48: 3 | AT48: 2 | AU48: 1 | AV48: 9 | AW48: 4 | AX48: 5 | AY48: 35 | AZ48: 21 | BA48: 14 | BB48: 189 | BC48: 120 | BD48: 69 | BE48: 0 | BF48: 0 | BG48: 0
A49: 資料來源：直轄市、縣(市)政府。

Sheet 105
A1: 1.3-01 身心障礙者按年齡與等級
A2: 民國105年底
A3: 單位：人 | B3: 一、全體 | M3: 一、全體 | AE3: 二、原住民 | AP3: 二、原住民
A4: 區域及障礙類別 | B4: 總計 | C4: 0-2歲 | D4: 3-5歲 | E4: 6-11歲 | F4: 12-14歲 | G4: 15-17歲 | H4: 18-29歲 | I4: 30-44歲 | J4: 45-59歲 | K4: 60-64歲 | L4: 65歲以上 | M4: 總計 | P4: 極重度 | S4: 重度 | V4: 中度 | Y4: 輕度 | AB4: 占總人口比率（％） | AE4: 總計 | AF4: 0-2歲 | AG4: 3-5歲 | AH4: 6-11歲 | AI4: 12-14歲 | AJ4: 15-17歲 | AK4: 18-29歲 | AL4: 30-44歲 | AM4: 45-59歲 | AN4: 60-64歲 | AO4: 65歲以上 | AP4: 總計 | AS4: 極重度 | AV4: 重度 | AY4: 中度 | BB4: 輕度 | BE4: 占總原住民人口比率（％）
M5: 計 | N5: 男 | O5: 女 | P5: 計 | Q5: 男 | R5: 女 | S5: 計 | T5: 男 | U5: 女 | V5: 計 | W5: 男 | X5: 女 | Y5: 計 | Z5: 男 | AA5: 女 | AB5: 計 | AC5: 男 | AD5: 女 | AP5: 計 | AQ5: 男 | AR5: 女 | AS5: 計 | AT5: 男 | AU5: 女 | AV5: 計 | AW5: 男 | AX5: 女 | AY5: 計 | AZ5: 男 | BA5: 女 | BB5: 計 | BC5: 男 | BD5: 女 | BE5: 計 | BF5: 男 | BG5: 女
A6: 105年,2016
A7: 1.按區域別 | B7: 1170199 | C7: 1712 | D7: 6528 | E7: 18802 | F7: 12340 | G7: 16320 | H7: 74550 | I7: 153699 | J7: 300230 | K7: 117109 | L7: 468909 | M7: 1170199 | N7: 662800 | O7: 507399 | P7: 143108 | Q7: 75763 | R7: 67345 | S7: 196230 | T7: 108399 | U7: 87831 | V7: 374216 | W7: 212003 | X7: 162213 | Y7: 456645 | Z7: 266635 | AA7: 190010 | AB7: 4.97 | AC7: 5.66 | AD7: 4.29 | AE7: 21730 | AF7: 74 | AG7: 218 | AH7: 548 | AI7: 312 | AJ7: 408 | AK7: 1771 | AL7: 3688 | AM7: 6934 | AN7: 2299 | AO7: 5478 | AP7: 21730 | AQ7: 12546 | AR7: 9184 | AS7: 2314 | AT7: 1159 | AU7: 1155 | AV7: 3550 | AW7: 2087 | AX7: 1463 | AY7: 7068 | AZ7: 4100 | BA7: 2968 | BB7: 8798 | BC7: 5200 | BD7: 3598 | BE7: 3.9278561 | BF7: 4.6651718 | BG7: 3.2304018
A8: 新北市 | B8: 164117 | C8: 279 | D8: 1265 | E8: 3343 | F8: 1992 | G8: 2643 | H8: 11490 | I8: 23286 | J8: 44592 | K8: 17703 | L8: 57524 | M8: 164117 | N8: 93932 | O8: 70185 | P8: 21003 | Q8: 11143 | R8: 9860 | S8: 26153 | T8: 14372 | U8: 11781 | V8: 50713 | W8: 28721 | X8: 21992 | Y8: 66248 | Z8: 39696 | AA8: 26552 | AB8: 4.12 | AC8: 4.81 | AD8: 3.46 | AE8: 1470 | AF8: 7 | AG8: 21 | AH8: 43 | AI8: 38 | AJ8: 45 | AK8: 159 | AL8: 328 | AM8: 479 | AN8: 150 | AO8: 200 | AP8: 1470 | AQ8: 844 | AR8: 626 | AS8: 199 | AT8: 85 | AU8: 114 | AV8: 188 | AW8: 123 | AX8: 65 | AY8: 415 | AZ8: 239 | BA8: 176 | BB8: 668 | BC8: 397 | BD8: 271 | BE8: 2.6784738 | BF8: 3.3044908 | BG8: 2.1335333
A9: 臺北市 | B9: 121762 | C9: 203 | D9: 769 | E9: 1909 | F9: 1310 | G9: 1663 | H9: 7473 | I9: 14356 | J9: 29501 | K9: 11640 | L9: 52938 | M9: 121762 | N9: 67259 | O9: 54503 | P9: 16611 | Q9: 8716 | R9: 7895 | S9: 22719 | T9: 12141 | U9: 10578 | V9: 38181 | W9: 20753 | X9: 17428 | Y9: 44251 | Z9: 25649 | AA9: 18602 | AB9: 4.52 | AC9: 5.22 | AD9: 3.88 | AE9: 513 | AF9: 1 | AG9: 4 | AH9: 18 | AI9: 13 | AJ9: 12 | AK9: 51 | AL9: 100 | AM9: 169 | AN9: 47 | AO9: 98 | AP9: 513 | AQ9: 242 | AR9: 271 | AS9: 49 | AT9: 18 | AU9: 31 | AV9: 105 | AW9: 53 | AX9: 52 | AY9: 169 | AZ9: 82 | BA9: 87 | BB9: 190 | BC9: 89 | BD9: 101 | BE9: 3.170385 | BF9: 3.5483871 | BG9: 2.8949899
A10: 桃園市 | B10: 80578 | C10: 154 | D10: 513 | E10: 1740 | F10: 1270 | G10: 1618 | H10: 6421 | I10: 11788 | J10: 20758 | K10: 7898 | L10: 28418 | M10: 80578 | N10: 46655 | O10: 33923 | P10: 10368 | Q10: 5554 | R10: 4814 | S10: 13038 | T10: 7255 | U10: 5783 | V10: 24936 | W10: 14372 | X10: 10564 | Y10: 32236 | Z10: 19474 | AA10: 12762 | AB10: 3.75 | AC10: 4.35 | AD10: 3.15 | AE10: 1646 | AF10: 10 | AG10: 25 | AH10: 61 | AI10: 25 | AJ10: 36 | AK10: 108 | AL10: 265 | AM10: 589 | AN10: 201 | AO10: 326 | AP10: 1646 | AQ10: 921 | AR10: 725 | AS10: 198 | AT10: 77 | AU10: 121 | AV10: 221 | AW10: 130 | AX10: 91 | AY10: 490 | AZ10: 277 | BA10: 213 | BB10: 737 | BC10: 437 | BD10: 300 | BE10: 2.3549273 | BF10: 2.7507317 | BG10: 1.9909925
A11: 臺中市 | B11: 121606 | C11: 240 | D11: 1048 | E11: 2396 | F11: 1419 | G11: 1972 | H11: 9061 | I11: 17164 | J11: 31344 | K11: 12313 | L11: 44649 | M11: 121606 | N11: 69413 | O11: 52193 | P11: 15236 | Q11: 8037 | R11: 7199 | S11: 20880 | T11: 11486 | U11: 9394 | V11: 38481 | W11: 22030 | X11: 16451 | Y11: 47009 | Z11: 27860 | AA11: 19149 | AB11: 4.39 | AC11: 5.08 | AD11: 3.73 | AE11: 924 | AF11: 6 | AG11: 23 | AH11: 36 | AI11: 14 | AJ11: 27 | AK11: 133 | AL11: 183 | AM11: 307 | AN11: 80 | AO11: 115 | AP11: 924 | AQ11: 503 | AR11: 421 | AS11: 94 | AT11: 51 | AU11: 43 | AV11: 141 | AW11: 79 | AX11: 62 | AY11: 316 | AZ11: 167 | BA11: 149 | BB11: 373 | BC11: 206 | BD11: 167 | BE11: 2.7958486 | BF11: 3.3020416 | BG11: 2.3630445
A12: 臺南市 | B12: 96483 | C12: 124 | D12: 352 | E12: 1355 | F12: 827 | G12: 1133 | H12: 5650 | I12: 11620 | J12: 24647 | K12: 9659 | L12: 41116 | M12: 96483 | N12: 53758 | O12: 42725 | P12: 12038 | Q12: 6312 | R12: 5726 | S12: 16234 | T12: 8694 | U12: 7540 | V12: 30127 | W12: 17027 | X12: 13100 | Y12: 38084 | Z12: 21725 | AA12: 16359 | AB12: 5.12 | AC12: 5.7 | AD12: 4.53 | AE12: 192 | AF12: 2 | AG12: 1 | AH12: 9 | AI12: 4 | AJ12: 1 | AK12: 23 | AL12: 38 | AM12: 62 | AN12: 20 | AO12: 32 | AP12: 192 | AQ12: 89 | AR12: 103 | AS12: 28 | AT12: 11 | AU12: 17 | AV12: 30 | AW12: 14 | AX12: 16 | AY12: 60 | AZ12: 27 | BA12: 33 | BB12: 74 | BC12: 37 | BD12: 37 | BE12: 2.551495 | BF12: 2.8111181 | BG12: 2.3629273
A13: 高雄市 | B13: 147411 | C13: 218 | D13: 804 | E13: 2095 | F13: 1349 | G13: 1765 | H13: 8482 | I13: 19883 | J13: 38812 | K13: 15564 | L13: 58439 | M13: 147411 | N13: 82855 | O13: 64556 | P13: 18873 | Q13: 9938 | R13: 8935 | S13: 24250 | T13: 13732 | U13: 10518 | V13: 48879 | W13: 27508 | X13: 21371 | Y13: 55409 | Z13: 31677 | AA13: 23732 | AB13: 5.3 | AC13: 6.01 | AD13: 4.61 | AE13: 898 | AF13: 6 | AG13: 19 | AH13: 34 | AI13: 15 | AJ13: 16 | AK13: 40 | AL13: 114 | AM13: 307 | AN13: 135 | AO13: 212 | AP13: 898 | AQ13: 486 | AR13: 412 | AS13: 119 | AT13: 57 | AU13: 62 | AV13: 137 | AW13: 81 | AX13: 56 | AY13: 283 | AZ13: 164 | BA13: 119 | BB13: 359 | BC13: 184 | BD13: 175 | BE13: 2.6708703 | BF13: 3.0804335 | BG13: 2.30877
A14: 宜蘭縣 | B14: 31778 | C14: 31 | D14: 125 | E14: 337 | F14: 321 | G14: 379 | H14: 1867 | I14: 3741 | J14: 7873 | K14: 3090 | L14: 14014 | M14: 31778 | N14: 17495 | O14: 14283 | P14: 3229 | Q14: 1701 | R14: 1528 | S14: 4874 | T14: 2632 | U14: 2242 | V14: 10142 | W14: 5581 | X14: 4561 | Y14: 13533 | Z14: 7581 | AA14: 5952 | AB14: 6.95 | AC14: 7.55 | AD14: 6.33 | AE14: 888 | AF14: 2 | AG14: 7 | AH14: 15 | AI14: 11 | AJ14: 16 | AK14: 73 | AL14: 150 | AM14: 303 | AN14: 96 | AO14: 215 | AP14: 888 | AQ14: 509 | AR14: 379 | AS14: 110 | AT14: 54 | AU14: 56 | AV14: 113 | AW14: 73 | AX14: 40 | AY14: 284 | AZ14: 150 | BA14: 134 | BB14: 381 | BC14: 232 | BD14: 149 | BE14: 5.2762923 | BF14: 6.1258876 | BG14: 4.4478348
A15: 新竹縣 | B15: 22629 | C15: 43 | D15: 110 | E15: 446 | F15: 284 | G15: 388 | H15: 1727 | I15: 3139 | J15: 5469 | K15: 2003 | L15: 9020 | M15: 22629 | N15: 13335 | O15: 9294 | P15: 3094 | Q15: 1695 | R15: 1399 | S15: 4071 | T15: 2272 | U15: 1799 | V15: 7048 | W15: 4155 | X15: 2893 | Y15: 8416 | Z15: 5213 | AA15: 3203 | AB15: 4.13 | AC15: 4.76 | AD15: 3.48 | AE15: 662 | AF15: 2 | AG15: 6 | AH15: 15 | AI15: 6 | AJ15: 17 | AK15: 53 | AL15: 159 | AM15: 219 | AN15: 61 | AO15: 124 | AP15: 662 | AQ15: 402 | AR15: 260 | AS15: 73 | AT15: 48 | AU15: 25 | AV15: 132 | AW15: 82 | AX15: 50 | AY15: 224 | AZ15: 125 | BA15: 99 | BB15: 233 | BC15: 147 | BD15: 86 | BE15: 3.1216108 | BF15: 3.8439472 | BG15: 2.4188297
A16: 苗栗縣 | B16: 33430 | C16: 54 | D16: 152 | E16: 503 | F16: 344 | G16: 424 | H16: 2202 | I16: 4146 | J16: 7854 | K16: 2941 | L16: 14810 | M16: 33430 | N16: 19269 | O16: 14161 | P16: 3797 | Q16: 2019 | R16: 1778 | S16: 6191 | T16: 3374 | U16: 2817 | V16: 11247 | W16: 6533 | X16: 4714 | Y16: 12195 | Z16: 7343 | AA16: 4852 | AB16: 5.98 | AC16: 6.68 | AD16: 5.23 | AE16: 507 | AF16: 3 | AG16: 6 | AH16: 15 | AI16: 8 | AJ16: 17 | AK16: 42 | AL16: 97 | AM16: 151 | AN16: 45 | AO16: 123 | AP16: 507 | AQ16: 285 | AR16: 222 | AS16: 59 | AT16: 29 | AU16: 30 | AV16: 77 | AW16: 42 | AX16: 35 | AY16: 176 | AZ16: 102 | BA16: 74 | BB16: 195 | BC16: 112 | BD16: 83 | BE16: 4.4954779 | BF16: 5.2140505 | BG16: 3.8196834
A17: 彰化縣 | B17: 67407 | C17: 78 | D17: 261 | E17: 1052 | F17: 685 | G17: 930 | H17: 4599 | I17: 9606 | J17: 16710 | K17: 6572 | L17: 26914 | M17: 67407 | N17: 39074 | O17: 28333 | P17: 7525 | Q17: 4060 | R17: 3465 | S17: 11429 | T17: 6454 | U17: 4975 | V17: 22371 | W17: 12966 | X17: 9405 | Y17: 26082 | Z17: 15594 | AA17: 10488 | AB17: 5.24 | AC17: 5.95 | AD17: 4.49 | AE17: 120 | AF17: 2 | AG17: 2 | AH17: 9 | AI17: 3 | AJ17: 1 | AK17: 13 | AL17: 29 | AM17: 34 | AN17: 12 | AO17: 15 | AP17: 120 | AQ17: 63 | AR17: 57 | AS17: 11 | AT17: 4 | AU17: 7 | AV17: 20 | AW17: 9 | AX17: 11 | AY17: 42 | AZ17: 24 | BA17: 18 | BB17: 47 | BC17: 26 | BD17: 21 | BE17: 2.1516945 | BF17: 2.5830258 | BG17: 1.8164436
A18: 南投縣 | B18: 34442 | C18: 33 | D18: 119 | E18: 378 | F18: 270 | G18: 366 | H18: 1819 | I18: 4148 | J18: 8049 | K18: 3408 | L18: 15852 | M18: 34442 | N18: 19603 | O18: 14839 | P18: 4086 | Q18: 2130 | R18: 1956 | S18: 5608 | T18: 3212 | U18: 2396 | V18: 11056 | W18: 6335 | X18: 4721 | Y18: 13692 | Z18: 7926 | AA18: 5766 | AB18: 6.82 | AC18: 7.57 | AD18: 6.03 | AE18: 1402 | AF18: 5 | AG18: 13 | AH18: 24 | AI18: 25 | AJ18: 26 | AK18: 93 | AL18: 240 | AM18: 492 | AN18: 160 | AO18: 324 | AP18: 1402 | AQ18: 840 | AR18: 562 | AS18: 159 | AT18: 82 | AU18: 77 | AV18: 236 | AW18: 139 | AX18: 97 | AY18: 461 | AZ18: 271 | BA18: 190 | BB18: 546 | BC18: 348 | BD18: 198 | BE18: 4.8555794 | BF18: 5.7879143 | BG18: 3.9133765
... A29: 連江縣 | B29: 471 | C29: 1 | D29: 1 | E29: 8 | F29: 9 | G29: 7 | H29: 35 | I29: 56 | J29: 128 | K29: 49 | L29: 177 | M29: 471 | N29: 303 | O29: 168 | P29: 30 | Q29: 19 | R29: 11 | S29: 68 | T29: 41 | U29: 27 | V29: 130 | W29: 72 | X29: 58 | Y29: 243 | Z29: 171 | AA29: 72 | AB29: 3.74 | AC29: 4.22 | AD29: 3.1 | AE29: 5 | AF29: 0 | AG29: 0 | AH29: 0 | AI29: 0 | AJ29: 0 | AK29: 0 | AL29: 2 | AM29: 3 | AN29: 0 | AO29: 0 | AP29: 5 | AQ29: 4 | AR29: 1 | AS29: 0 | AT29: 0 | AU29: 0 | AV29: 0 | AW29: 0 | AX29: 0 | AY29: 2 | AZ29: 2 | BA29: 0 | BB29: 3 | BC29: 2 | BD29: 1 | BE29: 2.5906736 | BF29: 3.6036036 | BG29: 1.2195122
A31: 2.按障礙類別
A32: 視覺障礙者 | B32: 57291 | C32: 6 | D32: 48 | E32: 325 | F32: 257 | G32: 372 | H32: 2446 | I32: 5704 | J32: 11463 | K32: 5960 | L32: 30710 | M32: 57291 | N32: 29973 | O32: 27318 | P32: 25 | Q32: 12 | R32: 13 | S32: 20591 | T32: 11189 | U32: 9402 | V32: 17512 | W32: 8825 | X32: 8687 | Y32: 19163 | Z32: 9947 | AA32: 9216 | AB32: 0 | AC32: 0 | AD32: 0 | AE32: 858 | AF32: 0 | AG32: 0 | AH32: 11 | AI32: 10 | AJ32: 6 | AK32: 57 | AL32: 128 | AM32: 256 | AN32: 93 | AO32: 297 | AP32: 858 | AQ32: 456 | AR32: 402 | AS32: 0 | AT32: 0 | AU32: 0 | AV32: 366 | AW32: 191 | AX32: 175 | AY32: 234 | AZ32: 129 | BA32: 105 | BB32: 258 | BC32: 136 | BD32: 122 | BE32: 0 | BF32: 0 | BG32: 0
A33: 聽覺機能障礙者 | B33: 123186 | C33: 374 | D33: 450 | E33: 929 | F33: 588 | G33: 754 | H33: 4115 | I33: 6720 | J33: 15557 | K33: 10367 | L33: 83332 | M33: 123186 | N33: 70439 | O33: 52747 | P33: 24 | Q33: 13 | R33: 11 | S33: 19531 | T33: 10711 | U33: 8820 | V33: 34322 | W33: 20181 | X33: 14141 | Y33: 69309 | Z33: 39534 | AA33: 29775 | AB33: 0 | AC33: 0 | AD33: 0 | AE33: 1545 | AF33: 13 | AG33: 7 | AH33: 17 | AI33: 9 | AJ33: 21 | AK33: 79 | AL33: 108 | AM33: 345 | AN33: 181 | AO33: 765 | AP33: 1545 | AQ33: 829 | AR33: 716 | AS33: 0 | AT33: 0 | AU33: 0 | AV33: 336 | AW33: 186 | AX33: 150 | AY33: 446 | AZ33: 223 | BA33: 223 | BB33: 763 | BC33: 420 | BD33: 343 | BE33: 0 | BF33: 0 | BG33: 0
A34: 平衡機能障礙者 | B34: 3651 | C34: 0 | D34: 2 | E34: 13 | F34: 8 | G34: 8 | H34: 74 | I34: 255 | J34: 815 | K34: 480 | L34: 1996 | M34: 3651 | N34: 2088 | O34: 1563 | P34: 10 | Q34: 5 | R34: 5 | S34: 175 | T34: 90 | U34: 85 | V34: 808 | W34: 438 | X34: 370 | Y34: 2658 | Z34: 1555 | AA34: 1103 | AB34: 0 | AC34: 0 | AD34: 0 | AE34: 43 | AF34: 0 | AG34: 0 | AH34: 0 | AI34: 0 | AJ34: 1 | AK34: 1 | AL34: 2 | AM34: 12 | AN34: 8 | AO34: 19 | AP34: 43 | AQ34: 18 | AR34: 25 | AS34: 0 | AT34: 0 | AU34: 0 | AV34: 1 | AW34: 1 | AX34: 0 | AY34: 3 | AZ34: 2 | BA34: 1 | BB34: 39 | BC34: 15 | BD34: 24 | BE34: 0 | BF34: 0 | BG34: 0
A35: 聲音機能或語言機能障礙者 | B35: 14950 | C35: 14 | D35: 278 | E35: 669 | F35: 232 | G35: 201 | H35: 701 | I35: 1956 | J35: 4963 | K35: 1934 | L35: 4002 | M35: 14950 | N35: 10983 | O35: 3967 | P35: 232 | Q35: 190 | R35: 42 | S35: 3662 | T35: 2960 | U35: 702 | V35: 3091 | W35: 2248 | X35: 843 | Y35: 7965 | Z35: 5585 | AA35: 2380 | AB35: 0 | AC35: 0 | AD35: 0 | AE35: 268 | AF35: 1 | AG35: 6 | AH35: 21 | AI35: 3 | AJ35: 5 | AK35: 14 | AL35: 41 | AM35: 85 | AN35: 36 | AO35: 56 | AP35: 268 | AQ35: 171 | AR35: 97 | AS35: 1 | AT35: 1 | AU35: 0 | AV35: 73 | AW35: 55 | AX35: 18 | AY35: 53 | AZ35: 28 | BA35: 25 | BB35: 141 | BC35: 87 | BD35: 54 | BE35: 0 | BF35: 0 | BG35: 0
A36: 肢體障礙者 | B36: 373291 | C36: 315 | D36: 725 | E36: 1517 | F36: 991 | G36: 1387 | H36: 9757 | I36: 37742 | J36: 120180 | K36: 45348 | L36: 155329 | M36: 373291 | N36: 220849 | O36: 152442 | P36: 5085 | Q36: 2999 | R36: 2086 | S36: 46556 | T36: 26440 | U36: 20116 | V36: 133494 | W36: 79981 | X36: 53513 | Y36: 188156 | Z36: 111429 | AA36: 76727 | AB36: 0 | AC36: 0 | AD36: 0 | AE36: 9268 | AF36: 12 | AG36: 15 | AH36: 41 | AI36: 33 | AJ36: 36 | AK36: 289 | AL36: 1328 | AM36: 3656 | AN36: 1221 | AO36: 2637 | AP36: 9268 | AQ36: 5847 | AR36: 3421 | AS36: 90 | AT36: 64 | AU36: 26 | AV36: 1057 | AW36: 661 | AX36: 396 | AY36: 3337 | AZ36: 2139 | BA36: 1198 | BB36: 4784 | BC36: 2983 | BD36: 1801 | BE36: 0 | BF36: 0 | BG36: 0
A37: 智能障礙者 | B37: 100896 | C37: 17 | D37: 593 | E37: 5987 | F37: 4542 | G37: 6581 | H37: 28249 | I37: 31332 | J37: 16529 | K37: 3279 | L37: 3787 | M37: 100896 | N37: 57520 | O37: 43376 | P37: 7717 | Q37: 4285 | R37: 3432 | S37: 14697 | T37: 8137 | U37: 6560 | V37: 37558 | W37: 20613 | X37: 16945 | Y37: 40924 | Z37: 24485 | AA37: 16439 | AB37: 0 | AC37: 0 | AD37: 0 | AE37: 2594 | AF37: 1 | AG37: 31 | AH37: 264 | AI37: 153 | AJ37: 202 | AK37: 807 | AL37: 792 | AM37: 257 | AN37: 45 | AO37: 42 | AP37: 2594 | AQ37: 1514 | AR37: 1080 | AS37: 100 | AT37: 55 | AU37: 45 | AV37: 252 | AW37: 140 | AX37: 112 | AY37: 966 | AZ37: 547 | BA37: 419 | BB37: 1276 | BC37: 772 | BD37: 504 | BE37: 0 | BF37: 0 | BG37: 0
A38: 重要器官失去功能者 | B38: 153914 | C38: 193 | D38: 315 | E38: 698 | F38: 552 | G38: 752 | H38: 4015 | I38: 14362 | J38: 41401 | K38: 21619 | L38: 70007 | M38: 153914 | N38: 89197 | O38: 64717 | P38: 73329 | Q38: 38197 | R38: 35132 | S38: 10393 | T38: 6188 | U38: 4205 | V38: 18186 | W38: 11198 | X38: 6988 | Y38: 52006 | Z38: 33614 | AA38: 18392 | AB38: 0 | AC38: 0 | AD38: 0 | AE38: 2332 | AF38: 11 | AG38: 5 | AH38: 14 | AI38: 13 | AJ38: 22 | AK38: 96 | AL38: 337 | AM38: 858 | AN38: 325 | AO38: 651 | AP38: 2332 | AQ38: 1174 | AR38: 1158 | AS38: 1143 | AT38: 509 | AU38: 634 | AV38: 228 | AW38: 133 | AX38: 95 | AY38: 327 | AZ38: 168 | BA38: 159 | BB38: 634 | BC38: 364 | BD38: 270 | BE38: 0 | BF38: 0 | BG38: 0
A39: 顏面損傷者 | B39: 4712 | C39: 3 | D39: 12 | E39: 40 | F39: 28 | G39: 54 | H39: 616 | I39: 875 | J39: 1683 | K39: 599 | L39: 802 | M39: 4712 | N39: 3226 | O39: 1486 | P39: 0 | Q39: 0 | R39: 0 | S39: 277 | T39: 145 | U39: 132 | V39: 775 | W39: 483 | X39: 292 | Y39: 3660 | Z39: 2598 | AA39: 1062 | AB39: 0 | AC39: 0 | AD39: 0 | AE39: 91 | AF39: 0 | AG39: 0 | AH39: 3 | AI39: 2 | AJ39: 2 | AK39: 27 | AL39: 18 | AM39: 22 | AN39: 11 | AO39: 6 | AP39: 91 | AQ39: 55 | AR39: 36 | AS39: 0 | AT39: 0 | AU39: 0 | AV39: 6 | AW39: 3 | AX39: 3 | AY39: 15 | AZ39: 11 | BA39: 4 | BB39: 70 | BC39: 41 | BD39: 29 | BE39: 0 | BF39: 0 | BG39: 0
A40: 植物人 | B40: 4032 | C40: 3 | D40: 4 | E40: 10 | F40: 12 | G40: 17 | H40: 190 | I40: 622 | J40: 963 | K40: 464 | L40: 1747 | M40: 4032 | N40: 2351 | O40: 1681 | P40: 4026 | Q40: 2348 | R40: 1678 | S40: 0 | T40: 0 | U40: 0 | V40: 1 | W40: 1 | X40: 0 | Y40: 5 | Z40: 2 | AA40: 3 | AB40: 0 | AC40: 0 | AD40: 0 | AE40: 111 | AF40: 0 | AG40: 0 | AH40: 0 | AI40: 0 | AJ40: 2 | AK40: 8 | AL40: 22 | AM40: 45 | AN40: 7 | AO40: 27 | AP40: 111 | AQ40: 59 | AR40: 52 | AS40: 111 | AT40: 59 | AU40: 52 | AV40: 0 | AW40: 0 | AX40: 0 | AY40: 0 | AZ40: 0 | BA40: 0 | BB40: 0 | BC40: 0 | BD40: 0 | BE40: 0 | BF40: 0 | BG40: 0
A41: 失智症者 | B41: 49104 | C41: 0 | D41: 0 | E41: 5 | F41: 7 | G41: 8 | H41: 166 | I41: 734 | J41: 2337 | K41: 1856 | L41: 43991 | M41: 49104 | N41: 18677 | O41: 30427 | P41: 4121 | Q41: 1369 | R41: 2752 | S41: 12563 | T41: 4329 | U41: 8234 | V41: 18784 | W41: 7225 | X41: 11559 | Y41: 13636 | Z41: 5754 | AA41: 7882 | AB41: 0 | AC41: 0 | AD41: 0 | AE41: 381 | AF41: 0 | AG41: 0 | AH41: 1 | AI41: 0 | AJ41: 1 | AK41: 4 | AL41: 19 | AM41: 60 | AN41: 30 | AO41: 266 | AP41: 381 | AQ41: 150 | AR41: 231 | AS41: 26 | AT41: 6 | AU41: 20 | AV41: 103 | AW41: 43 | AX41: 60 | AY41: 151 | AZ41: 58 | BA41: 93 | BB41: 101 | BC41: 43 | BD41: 58 | BE41: 0 | BF41: 0 | BG41: 0
A42: 自閉症者 | B42: 13476 | C42: 24 | D42: 627 | E42: 3269 | F42: 1979 | G42: 2213 | H42: 4725 | I42: 574 | J42: 49 | K42: 6 | L42: 10 | M42: 13476 | N42: 11744 | O42: 1732 | P42: 291 | Q42: 233 | R42: 58 | S42: 1168 | T42: 950 | U42: 218 | V42: 2879 | W42: 2487 | X42: 392 | Y42: 9138 | Z42: 8074 | AA42: 1064 | AB42: 0 | AC42: 0 | AD42: 0 | AE42: 86 | AF42: 0 | AG42: 9 | AH42: 26 | AI42: 14 | AJ42: 17 | AK42: 19 | AL42: 1 | AM42: 0 | AN42: 0 | AO42: 0 | AP42: 86 | AQ42: 75 | AR42: 11 | AS42: 2 | AT42: 2 | AU42: 0 | AV42: 11 | AW42: 6 | AX42: 5 | AY42: 26 | AZ42: 24 | BA42: 2 | BB42: 47 | BC42: 43 | BD42: 4 | BE42: 0 | BF42: 0 | BG42: 0
A43: 慢性精神病患者 | B43: 124999 | C43: 0 | D43: 1 | E43: 17 | F43: 37 | G43: 166 | H43: 5724 | I43: 33921 | J43: 54864 | K43: 13471 | L43: 16798 | M43: 124999 | N43: 60595 | O43: 64404 | P43: 2141 | Q43: 1090 | R43: 1051 | S43: 20014 | T43: 10550 | U43: 9464 | V43: 67965 | W43: 34087 | X43: 33878 | Y43: 34879 | Z43: 14868 | AA43: 20011 | AB43: 0 | AC43: 0 | AD43: 0 | AE43: 1463 | AF43: 0 | AG43: 0 | AH43: 0 | AI43: 3 | AJ43: 3 | AK43: 78 | AL43: 499 | AM43: 673 | AN43: 107 | AO43: 100 | AP43: 1463 | AQ43: 636 | AR43: 827 | AS43: 22 | AT43: 16 | AU43: 6 | AV43: 241 | AW43: 146 | AX43: 95 | AY43: 796 | AZ43: 342 | BA43: 454 | BB43: 404 | BC43: 132 | BD43: 272 | BE43: 0 | BF43: 0 | BG43: 0
... A48: 新制類別無法對應舊制類別者 | B48: 8704 | C48: 307 | D48: 1923 | E48: 1111 | F48: 438 | G48: 431 | H48: 939 | I48: 758 | J48: 1143 | K48: 377 | L48: 1277 | M48: 8704 | N48: 5504 | O48: 3200 | P48: 197 | Q48: 115 | R48: 82 | S48: 572 | T48: 317 | U48: 255 | V48: 1967 | W48: 1125 | X48: 842 | Y48: 5968 | Z48: 3947 | AA48: 2021 | AB48: 0 | AC48: 0 | AD48: 0 | AE48: 204 | AF48: 9 | AG48: 90 | AH48: 34 | AI48: 12 | AJ48: 6 | AK48: 10 | AL48: 11 | AM48: 20 | AN48: 3 | AO48: 9 | AP48: 204 | AQ48: 127 | AR48: 77 | AS48: 1 | AT48: 1 | AU48: 0 | AV48: 5 | AW48: 2 | AX48: 3 | AY48: 33 | AZ48: 23 | BA48: 10 | BB48: 165 | BC48: 101 | BD48: 64 | BE48: 0 | BF48: 0 | BG48: 0
A49: 資料來源：直轄市、縣(市)政府。

Sheet 104
A1: 1.3-01 身心障礙者按年齡與等級
A2: 民國104年底
A3: 單位：人 | B3: 一、全體 | M3: 一、全體 | AE3: 二、原住民 | AP3: 二、原住民
A4: 區域及障礙類別 | B4: 總計 | C4: 0-2歲 | D4: 3-5歲 | E4: 6-11歲 | F4: 12-14歲 | G4: 15-17歲 | H4: 18-29歲 | I4: 30-44歲 | J4: 45-59歲 | K4: 60-64歲 | L4: 65歲以上 | M4: 總計 | P4: 極重度 | S4: 重度 | V4: 中度 | Y4: 輕度 | AB4: 占總人口比率（％） | AE4: 總計 | AF4: 0-2歲 | AG4: 3-5歲 | AH4: 6-11歲 | AI4: 12-14歲 | AJ4: 15-17歲 | AK4: 18-29歲 | AL4: 30-44歲 | AM4: 45-59歲 | AN4: 60-64歲 | AO4: 65歲以上 | AP4: 總計 | AS4: 極重度 | AV4: 重度 | AY4: 中度 | BB4: 輕度 | BE4: 占總原住民人口比率（％）
M5: 計 | N5: 男 | O5: 女 | P5: 計 | Q5: 男 | R5: 女 | S5: 計 | T5: 男 | U5: 女 | V5: 計 | W5: 男 | X5: 女 | Y5: 計 | Z5: 男 | AA5: 女 | AB5: 計 | AC5: 男 | AD5: 女 | AP5: 計 | AQ5: 男 | AR5: 女 | AS5: 計 | AT5: 男 | AU5: 女 | AV5: 計 | AW5: 男 | AX5: 女 | AY5: 計 | AZ5: 男 | BA5: 女 | BB5: 計 | BC5: 男 | BD5: 女 | BE5: 計 | BF5: 男 | BG5: 女
A6: 104年,2015
A7: 1.按區域別 | B7: 1155650 | C7: 1692 | D7: 6063 | E7: 19898 | F7: 13044 | G7: 16188 | H7: 74455 | I7: 155835 | J7: 303502 | K7: 114694 | L7: 450279 | M7: 1155650 | N7: 655444 | O7: 500206 | P7: 141998 | Q7: 74888 | R7: 67110 | S7: 193817 | T7: 107355 | U7: 86462 | V7: 371256 | W7: 210964 | X7: 160292 | Y7: 448579 | Z7: 262237 | AA7: 186342 | AB7: 4.92 | AC7: 5.6 | AD7: 4.25 | AE7: 21089 | AF7: 71 | AG7: 172 | AH7: 497 | AI7: 321 | AJ7: 384 | AK7: 1834 | AL7: 3785 | AM7: 6885 | AN7: 2082 | AO7: 5058 | AP7: 21089 | AQ7: 12214 | AR7: 8875 | AS7: 2188 | AT7: 1080 | AU7: 1108 | AV7: 3493 | AW7: 2062 | AX7: 1431 | AY7: 6973 | AZ7: 4069 | BA7: 2904 | BB7: 8435 | BC7: 5003 | BD7: 3432 | BE7: 3.8575228 | BF7: 4.5910217 | BG7: 3.1622229
A8: 新北市 | B8: 159873 | C8: 294 | D8: 1161 | E8: 3386 | F8: 2098 | G8: 2545 | H8: 11357 | I8: 23323 | J8: 45004 | K8: 17038 | L8: 53667 | M8: 159873 | N8: 91560 | O8: 68313 | P8: 20576 | Q8: 10873 | R8: 9703 | S8: 25585 | T8: 14093 | U8: 11492 | V8: 50130 | W8: 28540 | X8: 21590 | Y8: 63582 | Z8: 38054 | AA8: 25528 | AB8: 4.03 | AC8: 4.69 | AD8: 3.38 | AE8: 1373 | AF8: 5 | AG8: 14 | AH8: 39 | AI8: 48 | AJ8: 37 | AK8: 151 | AL8: 310 | AM8: 461 | AN8: 128 | AO8: 180 | AP8: 1373 | AQ8: 808 | AR8: 565 | AS8: 185 | AT8: 88 | AU8: 97 | AV8: 168 | AW8: 109 | AX8: 59 | AY8: 410 | AZ8: 241 | BA8: 169 | BB8: 610 | BC8: 370 | BD8: 240 | BE8: 2.5349876 | BF8: 3.2110639 | BG8: 1.948343
A9: 臺北市 | B9: 122297 | C9: 198 | D9: 730 | E9: 2068 | F9: 1360 | G9: 1688 | H9: 7485 | I9: 14801 | J9: 30118 | K9: 11445 | L9: 52404 | M9: 122297 | N9: 67686 | O9: 54611 | P9: 17222 | Q9: 9028 | R9: 8194 | S9: 22902 | T9: 12274 | U9: 10628 | V9: 38531 | W9: 21083 | X9: 17448 | Y9: 43642 | Z9: 25301 | AA9: 18341 | AB9: 4.52 | AC9: 5.22 | AD9: 3.87 | AE9: 510 | AF9: 1 | AG9: 5 | AH9: 22 | AI9: 12 | AJ9: 10 | AK9: 49 | AL9: 105 | AM9: 170 | AN9: 46 | AO9: 90 | AP9: 510 | AQ9: 244 | AR9: 266 | AS9: 52 | AT9: 20 | AU9: 32 | AV9: 108 | AW9: 53 | AX9: 55 | AY9: 162 | AZ9: 77 | BA9: 85 | BB9: 188 | BC9: 94 | BD9: 94 | BE9: 3.2109803 | BF9: 3.6445108 | BG9: 2.8950805
A10: 桃園市 | B10: 79062 | C10: 126 | D10: 520 | E10: 1870 | F10: 1282 | G10: 1597 | H10: 6252 | I10: 11951 | J10: 20746 | K10: 7570 | L10: 27148 | M10: 79062 | N10: 45870 | O10: 33192 | P10: 10176 | Q10: 5407 | R10: 4769 | S10: 12918 | T10: 7249 | U10: 5669 | V10: 24561 | W10: 14207 | X10: 10354 | Y10: 31407 | Z10: 19007 | AA10: 12400 | AB10: 3.75 | AC10: 4.36 | AD10: 3.15 | AE10: 1801 | AF10: 7 | AG10: 15 | AH10: 59 | AI10: 25 | AJ10: 41 | AK10: 173 | AL10: 371 | AM10: 649 | AN10: 180 | AO10: 281 | AP10: 1801 | AQ10: 1005 | AR10: 796 | AS10: 209 | AT10: 83 | AU10: 126 | AV10: 284 | AW10: 169 | AX10: 115 | AY10: 561 | AZ10: 311 | BA10: 250 | BB10: 747 | BC10: 442 | BD10: 305 | BE10: 2.6583811 | BF10: 3.0932595 | BG10: 2.2576437
A11: 臺中市 | B11: 119581 | C11: 246 | D11: 902 | E11: 2552 | F11: 1561 | G11: 1925 | H11: 9100 | I11: 17198 | J11: 31420 | K11: 12096 | L11: 42581 | M11: 119581 | N11: 68387 | O11: 51194 | P11: 15003 | Q11: 7919 | R11: 7084 | S11: 20525 | T11: 11313 | U11: 9212 | V11: 37967 | W11: 21767 | X11: 16200 | Y11: 46086 | Z11: 27388 | AA11: 18698 | AB11: 4.36 | AC11: 5.04 | AD11: 3.69 | AE11: 844 | AF11: 9 | AG11: 17 | AH11: 26 | AI11: 12 | AJ11: 24 | AK11: 133 | AL11: 158 | AM11: 286 | AN11: 80 | AO11: 99 | AP11: 844 | AQ11: 459 | AR11: 385 | AS11: 85 | AT11: 42 | AU11: 43 | AV11: 122 | AW11: 72 | AX11: 50 | AY11: 290 | AZ11: 157 | BA11: 133 | BB11: 347 | BC11: 188 | BD11: 159 | BE11: 2.6255211 | BF11: 3.0877901 | BG11: 2.2278803
A12: 臺南市 | B12: 96182 | C12: 125 | D12: 324 | E12: 1372 | F12: 883 | G12: 1139 | H12: 5641 | I12: 11833 | J12: 25125 | K12: 9537 | L12: 40203 | M12: 96182 | N12: 53740 | O12: 42442 | P12: 12242 | Q12: 6418 | R12: 5824 | S12: 16261 | T12: 8756 | U12: 7505 | V12: 30127 | W12: 17078 | X12: 13049 | Y12: 37552 | Z12: 21488 | AA12: 16064 | AB12: 5.1 | AC12: 5.69 | AD12: 4.51 | AE12: 175 | AF12: 2 | AG12: 1 | AH12: 6 | AI12: 4 | AJ12: 2 | AK12: 20 | AL12: 39 | AM12: 55 | AN12: 17 | AO12: 29 | AP12: 175 | AQ12: 83 | AR12: 92 | AS12: 24 | AT12: 11 | AU12: 13 | AV12: 23 | AW12: 14 | AX12: 9 | AY12: 61 | AZ12: 29 | BA12: 32 | BB12: 67 | BC12: 29 | BD12: 38 | BE12: 2.4127947 | BF12: 2.7302632 | BG12: 2.1837171
