Workbook

Sheet 歷年
A1: 1.3-01 身心障礙者按年齡與等級
A3: 單位：人 | B3: 一、全體 | N3: 一、全體 | AF3: 二、原住民 | AR3: 二、原住民
A4: 年別 | B4: 總計 | C4: 0-2歲 | D4: 3-5歲 | E4: 6-11歲 | F4: 12-14歲 | G4: 15-17歲 | H4: 18-29歲 | I4: 30-44歲 | J4: 45-59歲 | L4: 60-64歲 | M4: 65歲以上 | N4: 總計 | Q4: 極重度 | T4: 重度 | W4: 中度 | Z4: 輕度 | AC4: 占總人口比率（％） | AF4: 總計 | AG4: 0-2歲 | AH4: 3-5歲 | AI4: 6-11歲 | AJ4: 12-14歲 | AK4: 15-17歲 | AL4: 18-29歲 | AM4: 30-44歲 | AN4: 45-59歲 | AP4: 60-64歲 | AQ4: 65歲以上 | AR4: 總計 | AU4: 極重度 | AX4: 重度 | BA4: 中度 | BD4: 輕度 | BG4: 占總原住民人口比率（％） | BK4: 人口數
N5: 計 | O5: 男 | P5: 女 | Q5: 計 | R5: 男 | S5: 女 | T5: 計 | U5: 男 | V5: 女 | W5: 計 | X5: 男 | Y5: 女 | Z5: 計 | AA5: 男 | AB5: 女 | AC5: 計 | AD5: 男 | AE5: 女 | AR5: 計 | AS5: 男 | AT5: 女 | AU5: 計 | AV5: 男 | AW5: 女 | AX5: 計 | AY5: 男 | AZ5: 女 | BA5: 計 | BB5: 男 | BC5: 女 | BD5: 計 | BE5: 男 | BF5: 女 | BG5: 計 | BH5: 男 | BI5: 女 | BK5: 計 | BL5: 男 | BM5: 女
A6: 89年, 2000 | B6: 711064 | C6: 1753 | D6: 5873 | E6: 19970 | F6: 10664 | G6: 12735 | H6: 70292 | I6: 155746 | J6: 136777 | L6: 49354 | M6: 247900 | N6: 711064 | O6: 425280 | P6: 285784 | Q6: 93383 | R6: 48651 | S6: 44732 | T6: 164141 | U6: 93958 | V6: 70183 | W6: 260518 | X6: 161336 | Y6: 99182 | Z6: 193022 | AA6: 121335 | AB6: 71687 | AC6: 3.191967 | AD6: 3.73313 | AE6: 2.625576 | AF6: ... | AG6: ... | AH6: ... | AI6: ... | AJ6: ... | AK6: ... | AL6: ... | AM6: ... | AO6: ... | AP6: ... | AQ6: ... | AR6: ... | AS6: ... | AT6: ... | AU6: ... | AV6: ... | AW6: ... | AX6: ... | AY6: ... | AZ6: ... | BA6: ... | BB6: ... | BC6: ... | BD6: ... | BE6: ... | BF6: ... | BG6: ... | BH6: ... | BI6: ...
A7: 90年, 2001 | B7: 754084 | C7: 1836 | D7: 5897 | E7: 20291 | F7: 11001 | G7: 12397 | H7: 72476 | I7: 159973 | J7: 153645 | L7: 52641 | M7: 263927 | N7: 754084 | O7: 448724 | P7: 305360 | Q7: 93453 | R7: 48565 | S7: 44888 | T7: 165838 | U7: 94489 | V7: 71349 | W7: 275628 | X7: 169008 | Y7: 106620 | Z7: 219165 | AA7: 136662 | AB7: 82503 | AC7: 3.36561 | AD7: 3.921847 | AE7: 2.785136 | AF7: ... | AG7: ... | AH7: ... | AI7: ... | AJ7: ... | AK7: ... | AL7: ... | AM7: ... | AO7: ... | AP7: ... | AQ7: ... | AR7: ... | AS7: ... | AT7: ... | AU7: ... | AV7: ... | AW7: ... | AX7: ... | AY7: ... | AZ7: ... | BA7: ... | BB7: ... | BC7: ... | BD7: ... | BE7: ... | BF7: ... | BG7: ... | BH7: ... | BI7: ... | BK7: 23373517 | BL7: 11684674 | BM7: 11688843
A8: 91年, 2002 | B8: 831266 | C8: 1983 | D8: 6641 | E8: 21710 | F8: 11645 | G8: 12858 | H8: 76677 | I8: 168788 | J8: 177012 | L8: 58665 | M8: 295287 | N8: 831266 | O8: 492261 | P8: 339005 | Q8: 100536 | R8: 52247 | S8: 48289 | T8: 176465 | U8: 100096 | V8: 76369 | W8: 299523 | X8: 182228 | Y8: 117295 | Z8: 254742 | AA8: 157690 | AB8: 97052 | AC8: 3.691107 | AD8: 4.285968 | AE8: 3.071987 | AF8: ... | AG8: ... | AH8: ... | AI8: ... | AJ8: ... | AK8: ... | AL8: ... | AM8: ... | AO8: ... | AP8: ... | AQ8: ... | AR8: ... | AS8: ... | AT8: ... | AU8: ... | AV8: ... | AW8: ... | AX8: ... | AY8: ... | AZ8: ... | BA8: ... | BB8: ... | BC8: ... | BD8: ... | BE8: ... | BF8: ... | BG8: ... | BH8: ... | BI8: ... | BK8: 3954929 | BL8: 1950060 | BM8: 2004869
A9: 92年, 2003 | B9: 861030 | C9: 2203 | D9: 6915 | E9: 22195 | F9: 12207 | G9: 13266 | H9: 78491 | I9: 171030 | J9: 193854 | L9: 60918 | M9: 299951 | N9: 861030 | O9: 506055 | P9: 354975 | Q9: 99044 | R9: 50953 | S9: 48091 | T9: 174386 | U9: 98203 | V9: 76183 | W9: 309623 | X9: 186044 | Y9: 123579 | Z9: 277977 | AA9: 170855 | AB9: 107122 | AC9: 3.8091 | AD9: 4.394722 | AE9: 3.201004 | AF9: ... | AG9: ... | AH9: ... | AI9: ... | AJ9: ... | AK9: ... | AL9: ... | AM9: ... | AO9: ... | AP9: ... | AQ9: ... | AR9: ... | AS9: ... | AT9: ... | AU9: ... | AV9: ... | AW9: ... | AX9: ... | AY9: ... | AZ9: ... | BA9: ... | BB9: ... | BC9: ... | BD9: ... | BE9: ... | BF9: ... | BG9: ... | BH9: ... | BI9: ... | BK9: 2686516 | BL9: 1289945 | BM9: 1396571
A10: 93年, 2004 | B10: ='93'!B7 -> 908719 | C10: ='93'!C7 -> 2271 | D10: ='93'!D7 -> 7546 | E10: ='93'!E7 -> 23279 | F10: ='93'!F7 -> 12724 | G10: ='93'!G7 -> 14059 | H10: ='93'!H7 -> 80804 | I10: ='93'!I7 -> 173397 | J10: ='93'!J7 -> 214672 | L10: ='93'!K7 -> 64735 | M10: ='93'!L7 -> 315232 | N10: ='93'!M7 -> 908719 | O10: ='93'!N7 -> 531457 | P10: ='93'!O7 -> 377262 | Q10: ='93'!P7 -> 102469 | R10: ='93'!Q7 -> 52602 | S10: ='93'!R7 -> 49867 | ... AE10: ='93'!AD7 -> 3.384263 | AF10: ... | AG10: ... | AH10: ... | AI10: ... | AJ10: ... | AK10: ... | AL10: ... | AM10: ... | AO10: ... | AP10: ... | AQ10: ... | AR10: ... | AS10: ... | AT10: ... | AU10: ... | AV10: ... | AW10: ... | AX10: ... | AY10: ... | AZ10: ... | BA10: ... | BB10: ... | BC10: ... | BD10: ... | BE10: ... | BF10: ... | BG10: ... | BH10: ... | BI10: ... | BK10: 2701661 | BL10: 1339733 | BM10: 1361928
A11: 94年, 2005 | B11: ='94'!B7 -> 937944 | C11: ='94'!C7 -> 2151 | D11: ='94'!D7 -> 7593 | E11: ='94'!E7 -> 23782 | F11: ='94'!F7 -> 13312 | G11: ='94'!G7 -> 14338 | H11: ='94'!H7 -> 81212 | I11: ='94'!I7 -> 171091 | J11: ='94'!J7 -> 232405 | L11: ='94'!K7 -> 64361 | M11: ='94'!L7 -> 327699 | N11: ='94'!M7 -> 937944 | O11: ='94'!N7 -> 546068 | P11: ='94'!O7 -> 391876 | Q11: ='94'!P7 -> 104266 | R11: ='94'!Q7 -> 53709 | S11: ='94'!R7 -> 50557 | ... AE11: ='94'!AD7 -> 3.496413 | AF11: ... | AG11: ... | AH11: ... | AI11: ... | AJ11: ... | AK11: ... | AL11: ... | AM11: ... | AO11: ... | AP11: ... | AQ11: ... | AR11: ... | AS11: ... | AT11: ... | AU11: ... | AV11: ... | AW11: ... | AX11: ... | AY11: ... | AZ11: ... | BA11: ... | BB11: ... | BC11: ... | BD11: ... | BE11: ... | BF11: ... | BG11: ... | BH11: ... | BI11: ... | BK11: 1883208 | BL11: 944555 | BM11: 938653
A12: 95年, 2006 | B12: ='95'!B7 -> 981015 | C12: ='95'!C7 -> 2188 | D12: ='95'!D7 -> 7424 | E12: ='95'!E7 -> 24655 | F12: ='95'!F7 -> 13764 | G12: ='95'!G7 -> 14575 | H12: ='95'!H7 -> 81657 | I12: ='95'!I7 -> 171099 | J12: ='95'!J7 -> 249923 | L12: ='95'!K7 -> 65366 | M12: ='95'!L7 -> 350364 | N12: ='95'!M7 -> 981015 | O12: ='95'!N7 -> 569234 | P12: ='95'!O7 -> 411781 | Q12: ='95'!P7 -> 109883 | R12: ='95'!Q7 -> 56688 | S12: ='95'!R7 -> 53195 | ... AE12: ='95'!AD7 -> 3.648982 | AF12: ... | AG12: ... | AH12: ... | AI12: ... | AJ12: ... | AK12: ... | AL12: ... | AM12: ... | AO12: ... | AP12: ... | AQ12: ... | AR12: ... | AS12: ... | AT12: ... | AU12: ... | AV12: ... | AW12: ... | AX12: ... | AY12: ... | AZ12: ... | BA12: ... | BB12: ... | BC12: ... | BD12: ... | BE12: ... | BF12: ... | BG12: ... | BH12: ... | BI12: ... | BK12: 2779877 | BL12: 1385895 | BM12: 1393982
A13: 96年, 2007 | B13: ='96'!B7 -> 1020760 | C13: ='96'!C7 -> 1998 | D13: ='96'!D7 -> 7032 | E13: ='96'!E7 -> 25182 | F13: ='96'!F7 -> 14133 | G13: ='96'!G7 -> 15167 | H13: ='96'!H7 -> 81872 | I13: ='96'!I7 -> 169317 | J13: ='96'!J7 -> 267302 | L13: ='96'!K7 -> 67669 | M13: ='96'!L7 -> 371088 | N13: ='96'!M7 -> 1020760 | O13: ='96'!N7 -> 590306 | P13: ='96'!O7 -> 430454 | Q13: ='96'!P7 -> 115594 | R13: ='96'!Q7 -> 59519 | S13: ='96'!R7 -> 56075 | ... AE13: ='96'!AD7 -> 3.792682 | AF13: ... | AG13: ... | AH13: ... | AI13: ... | AJ13: ... | AK13: ... | AL13: ... | AM13: ... | AO13: ... | AP13: ... | AQ13: ... | AR13: ... | AS13: ... | AT13: ... | AU13: ... | AV13: ... | AW13: ... | AX13: ... | AY13: ... | AZ13: ... | BA13: ... | BB13: ... | BC13: ... | BD13: ... | BE13: ... | BF13: ... | BG13: ... | BH13: ... | BI13: ... | BK13: 9234448 | BL13: 4706876 | BM13: 4527572
A14: 97年, 2008 | B14: ='97'!B7 -> 1040585 | C14: ='97'!C7 -> 1792 | D14: ='97'!D7 -> 6660 | E14: ='97'!E7 -> 25218 | F14: ='97'!F7 -> 14241 | G14: ='97'!G7 -> 15598 | H14: ='97'!H7 -> 80794 | I14: ='97'!I7 -> 166051 | J14: ='97'!J7 -> 279376 | L14: ='97'!K7 -> 70869 | M14: ='97'!L7 -> 379986 | N14: ='97'!M7 -> 1040585 | O14: ='97'!N7 -> 599664 | P14: ='97'!O7 -> 440921 | Q14: ='97'!P7 -> 117033 | R14: ='97'!Q7 -> 60309 | S14: ='97'!R7 -> 56724 | ... AE14: ='97'!AD7 -> 3.864108 | AF14: ... | AG14: ... | AH14: ... | AI14: ... | AJ14: ... | AK14: ... | AL14: ... | AM14: ... | AO14: ... | AP14: ... | AQ14: ... | AR14: ... | AS14: ... | AT14: ... | AU14: ... | AV14: ... | AW14: ... | AX14: ... | AY14: ... | AZ14: ... | BA14: ... | BB14: ... | BC14: ... | BD14: ... | BE14: ... | BF14: ... | BG14: ... | BH14: ... | BI14: ... | BK14: 458456 | BL14: 233000 | BM14: 225456
A15: 98年, 2009 | B15: ='98'!B7 -> 1071073 | C15: ='98'!C7 -> 1727 | D15: ='98'!D7 -> 6571 | E15: ='98'!E7 -> 24580 | F15: ='98'!F7 -> 14566 | G15: ='98'!G7 -> 15996 | H15: ='98'!H7 -> 79739 | I15: ='98'!I7 -> 164809 | J15: ='98'!J7 -> 290051 | L15: ='98'!K7 -> 76555 | M15: ='98'!L7 -> 396479 | N15: ='98'!M7 -> 1071073 | O15: ='98'!N7 -> 615621 | P15: ='98'!O7 -> 455452 | Q15: ='98'!P7 -> 120597 | R15: ='98'!Q7 -> 62297 | S15: ='98'!R7 -> 58300 | ... AE15: ='98'!AD7 -> 3.966302 | AF15: ... | AG15: ... | AH15: ... | AI15: ... | AJ15: ... | AK15: ... | AL15: ... | AM15: ... | AO15: ... | AP15: ... | AQ15: ... | AR15: ... | AS15: ... | AT15: ... | AU15: ... | AV15: ... | AW15: ... | AX15: ... | AY15: ... | AZ15: ... | BA15: ... | BB15: ... | BC15: ... | BD15: ... | BE15: ... | BF15: ... | BG15: ... | BH15: ... | BI15: ... | BK15: 2044023 | BL15: 1026657 | BM15: 1017366
A16: 99年 ,2010 | B16: ='99'!B7 -> 1076293 | C16: ='99'!C7 -> 1609 | D16: ='99'!D7 -> 6255 | E16: ='99'!E7 -> 24219 | F16: ='99'!F7 -> 14402 | G16: ='99'!G7 -> 16220 | H16: ='99'!H7 -> 78173 | I16: ='99'!I7 -> 161901 | J16: ='99'!J7 -> 296491 | L16: ='99'!K7 -> 83244 | M16: ='99'!L7 -> 393779 | N16: ='99'!M7 -> 1076293 | O16: ='99'!N7 -> 616675 | P16: ='99'!O7 -> 459618 | Q16: ='99'!P7 -> 119798 | R16: ='99'!Q7 -> 62112 | S16: ='99'!R7 -> 57686 | ... AE16: ='99'!AD7 -> 3.987352 | AF16: ... | AG16: ... | AH16: ... | AI16: ... | AJ16: ... | AK16: ... | AL16: ... | AM16: ... | AO16: ... | AP16: ... | AQ16: ... | AR16: ... | AS16: ... | AT16: ... | AU16: ... | AV16: ... | AW16: ... | AX16: ... | AY16: ... | AZ16: ... | BA16: ... | BB16: ... | BC16: ... | BD16: ... | BE16: ... | BF16: ... | BG16: ... | BH16: ... | BI16: ... | BK16: 530486 | BL16: 271904 | BM16: 258582
A17: 100年, 2011 | B17: ='100'!B7 -> 1100436 | C17: ='100'!C7 -> 1461 | D17: ='100'!D7 -> 6015 | E17: ='100'!E7 -> 23636 | F17: ='100'!F7 -> 14352 | G17: ='100'!G7 -> 16369 | H17: ='100'!H7 -> 76199 | I17: ='100'!I7 -> 161756 | J17: ='100'!J7 -> 299857 | L17: ='100'!K7 -> 93601 | M17: ='100'!L7 -> 407190 | N17: ='100'!M7 -> 1100436 | O17: ='100'!N7 -> 629179 | P17: ='100'!O7 -> 471257 | Q17: ='100'!P7 -> 122749 | R17: ='100'!Q7 -> 63978 | S17: ='100'!R7 -> 58771 | ... AM17: ='100'!AL7 -> 4349 | AO17: ='100'!AM7 -> 7162 | AP17: ='100'!AN7 -> 1671 | AQ17: ='100'!AO7 -> 4878 | AR17: ='100'!AP7 -> 21980 | AS17: ='100'!AQ7 -> 12952 | AT17: ='100'!AR7 -> 9028 | AU17: ='100'!AS7 -> 1958 | AV17: ='100'!AT7 -> 1000 | ... BI17: ='100'!BG7 -> 3.403197 | BK17: 565554 | BL17: 292024 | BM17: 273530
A18: 101年, 2012 | B18: ='101'!B7 -> 1117518 | C18: ='101'!C7 -> 1510 | D18: ='101'!D7 -> 5971 | E18: ='101'!E7 -> 22655 | F18: ='101'!F7 -> 14954 | G18: ='101'!G7 -> 16961 | H18: ='101'!H7 -> 75981 | I18: ='101'!I7 -> 162745 | J18: ='101'!J7 -> 304021 | L18: ='101'!K7 -> 101276 | M18: ='101'!L7 -> 411444 | N18: ='101'!M7 -> 1117518 | O18: ='101'!N7 -> 636287 | P18: ='101'!O7 -> 481231 | Q18: ='101'!P7 -> 129407 | R18: ='101'!Q7 -> 67451 | S18: ='101'!R7 -> 61956 | ... AM18: ='101'!AL7 -> 4030 | AO18: ='101'!AM7 -> 6930 | AP18: ='101'!AN7 -> 1701 | AQ18: ='101'!AO7 -> 4563 | AR18: ='101'!AP7 -> 20930 | AS18: ='101'!AQ7 -> 12295 | AT18: ='101'!AR7 -> 8635 | AU18: ='101'!AS7 -> 1918 | AV18: ='101'!AT7 -> 994 | ... BI18: ='101'!BG7 -> 3.21 | BK18: 1296013 | BL18: 663500 | BM18: 632513
A19: 102年, 2013 | B19: ='102'!B7 -> 1125113 | C19: ='102'!C7 -> 1669 | D19: ='102'!D7 -> 5639 | E19: ='102'!E7 -> 21281 | F19: ='102'!F7 -> 14730 | G19: ='102'!G7 -> 16251 | H19: ='102'!H7 -> 74514 | I19: ='102'!I7 -> 159604 | J19: ='102'!J7 -> 303431 | L19: ='102'!K7 -> 105636 | M19: ='102'!L7 -> 422358 | N19: ='102'!M7 -> 1125113 | O19: ='102'!N7 -> 639969 | P19: ='102'!O7 -> 485144 | Q19: ='102'!P7 -> 140848 | R19: ='102'!Q7 -> 73592 | S19: ='102'!R7 -> 67256 | ... AM19: ='102'!AL7 -> 3488 | AO19: ='102'!AM7 -> 6140 | AP19: ='102'!AN7 -> 1584 | AQ19: ='102'!AO7 -> 4193 | AR19: ='102'!AP7 -> 18408 | AS19: ='102'!AQ7 -> 10871 | AT19: ='102'!AR7 -> 7537 | AU19: ='102'!AS7 -> 1686 | AV19: ='102'!AT7 -> 863 | ... BI19: ='102'!BG7 -> 2.7609576 | BK19: 517222 | BL19: 265474 | BM19: 251748
A20: 103年, 2014 | B20: 1141677 | C20: 1757 | D20: 5698 | E20: 20698 | F20: 14524 | G20: 16060 | H20: 74176 | I20: 158233 | J20: 304708 | L20: 109875 | M20: 435948 | N20: 1141677 | O20: 648807 | P20: 492870 | Q20: 141343 | R20: 74254 | S20: 67089 | T20: 191209 | U20: 106348 | V20: 84861 | W20: 368677 | X20: 210191 | Y20: 158486 | Z20: 440448 | AA20: 258014 | AB20: 182434 | AC20: 4.8719341 | AD20: 5.5463208 | AE20: 4.1997201 | AF20: 20124 | AG20: 49 | AH20: 117 | AI20: 459 | AJ20: 347 | AK20: 415 | AL20: 1863 | AM20: 3716 | AO20: 6535 | AP20: 1874 | AQ20: 4749 | AR20: 20124 | AS20: 11729 | AT20: 8395 | AU20: 1980 | AV20: 998 | AW20: 982 | AX20: 3343 | AY20: 1981 | AZ20: 1362 | BA20: 6798 | BB20: 3989 | BC20: 2809 | BD20: 8003 | BE20: 4761 | BF20: 3242 | BG20: 3.7265079 | BH20: 4.4554267 | BI20: 3.0331935
A21: 104年, 2015 | B21: 1155650 | C21: 1692 | D21: 6063 | E21: 19898 | F21: 13044 | G21: 16188 | H21: 74455 | I21: 155835 | J21: 303502 | L21: 114694 | M21: 450279 | N21: 1155650 | O21: 655444 | P21: 500206 | Q21: 141998 | R21: 74888 | S21: 67110 | T21: 193817 | U21: 107355 | V21: 86462 | W21: 371256 | X21: 210964 | Y21: 160292 | Z21: 448579 | AA21: 262237 | AB21: 186342 | AC21: 4.92 | AD21: 5.6 | AE21: 4.25 | AF21: 21089 | AG21: 71 | AH21: 172 | AI21: 497 | AJ21: 321 | AK21: 384 | AL21: 1834 | AM21: 3785 | AO21: 6885 | AP21: 2082 | AQ21: 5058 | AR21: 21089 | AS21: 12214 | AT21: 8875 | AU21: 2188 | AV21: 1080 | AW21: 1108 | AX21: 3493 | AY21: 2062 | AZ21: 1431 | BA21: 6973 | BB21: 4069 | BC21: 2904 | BD21: 8435 | BE21: 5003 | BF21: 3432 | BG21: 3.8575228 | BH21: 4.5910217 | BI21: 3.1622229
A22: 105年, 2016 | B22: 1170199 | C22: 1712 | D22: 6528 | E22: 18802 | F22: 12340 | G22: 16320 | H22: 74550 | I22: 153699 | J22: 300230 | L22: 117109 | M22: 468909 | N22: 1170199 | O22: 662800 | P22: 507399 | Q22: 143108 | R22: 75763 | S22: 67345 | T22: 196230 | U22: 108399 | V22: 87831 | W22: 374216 | X22: 212003 | Y22: 162213 | Z22: 456645 | AA22: 266635 | AB22: 190010 | AC22: 4.97 | AD22: 5.66 | AE22: 4.29 | AF22: 21730 | AG22: 74 | AH22: 218 | AI22: 548 | AJ22: 312 | AK22: 408 | AL22: 1771 | AM22: 3688 | AO22: 6934 | AP22: 2299 | AQ22: 5478 | AR22: 21730 | AS22: 12546 | AT22: 9184 | AU22: 2314 | AV22: 1159 | AW22: 1155 | AX22: 3550 | AY22: 2087 | AZ22: 1463 | BA22: 7068 | BB22: 4100 | BC22: 2968 | BD22: 8798 | BE22: 5200 | BF22: 3598 | BG22: 3.9278561 | BH22: 4.6651718 | BI22: 3.2304018
A23: 106年, 2017 | B23: 1167450 | C23: 1721 | D23: 6701 | E23: 17922 | F23: 11728 | G23: 15979 | H23: 74321 | I23: 150854 | J23: 293287 | L23: 119106 | M23: 475831 | N23: 1167450 | O23: 658682 | P23: 508768 | Q23: 140170 | R23: 74405 | S23: 65765 | T23: 195977 | U23: 107563 | V23: 88414 | W23: 373692 | X23: 210785 | Y23: 162907 | Z23: 457611 | AA23: 265929 | AB23: 191682 | AC23: 4.95 | AD23: 5.62 | AE23: 4.29 | AF23: 22045 | AG23: 71 | AH23: 252 | AI23: 549 | AJ23: 319 | AK23: 429 | AL23: 1832 | AM23: 3677 | AO23: 6772 | AP23: 2378 | AQ23: 5766 | AR23: 22045 | AS23: 12662 | AT23: 9383 | AU23: 2468 | AV23: 1266 | AW23: 1202 | AX23: 3588 | AY23: 2101 | AZ23: 1487 | BA23: 7150 | BB23: 4110 | BC23: 3040 | BD23: 8839 | BE23: 5185 | BF23: 3654 | BG23: 3.94 | BH23: 4.6605787 | BI23: 3.260896
A24: 107年, 2018 | B24: 1173978 | C24: 1687 | D24: 6933 | E24: 17889 | F24: 11289 | G24: 14321 | H24: 74316 | I24: 148095 | J24: 283546 | L24: 123503 | M24: 492399 | N24: 1173978 | O24: 658673 | P24: 515305 | Q24: 139096 | R24: 74123 | S24: 64973 | T24: 200187 | U24: 109353 | V24: 90834 | W24: 377234 | X24: 212063 | Y24: 165171 | Z24: 457461 | AA24: 263134 | AB24: 194327 | AC24: 4.98 | AD24: 5.62 | AE24: 4.34 | AF24: 23507 | AG24: 61 | AH24: 287 | AI24: 657 | AJ24: 320 | AK24: 439 | AL24: 1979 | AM24: 3815 | AO24: 7029 | AP24: 2651 | AQ24: 6269 | AR24: 23507 | AS24: 13390 | AT24: 10117 | AU24: 2722 | AV24: 1368 | AW24: 1354 | AX24: 3870 | AY24: 2238 | AZ24: 1632 | BA24: 7519 | BB24: 4326 | BC24: 3193 | BD24: 9396 | BE24: 5458 | BF24: 3938 | BG24: 4.156404 | BH24: 4.8826202 | BI24: 3.4727776
A25: 單位：人 | B25: 一、全體 | N25: 一、全體 | AF25: 二、原住民 | AR25: 二、原住民
A26: 年別 | B26: 總計 | C26: 0-2歲 | D26: 3-5歲 | E26: 6-11歲 | F26: 12-14歲 | G26: 15-17歲 | H26: 18-29歲 | I26: 30-44歲 | J26: 45-49歲 | K26: 50-59歲 | L26: 60-64歲 | M26: 65歲以上 | N26: 總計 | Q26: 極重度 | T26: 重度 | W26: 中度 | Z26: 輕度 | AC26: 占總人口比率（％） | AF26: 總計 | AG26: 0-2歲 | AH26: 3-5歲 | AI26: 6-11歲 | AJ26: 12-14歲 | AK26: 15-17歲 | AL26: 18-29歲 | AM26: 30-44歲 | AN26: 45-49歲 | AO26: 50-59歲 | AP26: 60-64歲 | AQ26: 65歲以上 | AR26: 總計 | AU26: 極重度 | AX26: 重度 | BA26: 中度 | BD26: 輕度 | BG26: 占總原住民人口比率（％）
N27: 計 | O27: 男 | P27: 女 | Q27: 計 | R27: 男 | S27: 女 | T27: 計 | U27: 男 | V27: 女 | W27: 計 | X27: 男 | Y27: 女 | Z27: 計 | AA27: 男 | AB27: 女 | AC27: 計 | AD27: 男 | AE27: 女 | AR27: 計 | AS27: 男 | AT27: 女 | AU27: 計 | AV27: 男 | AW27: 女 | AX27: 計 | AY27: 男 | AZ27: 女 | BA27: 計 | BB27: 男 | BC27: 女 | BD27: 計 | BE27: 男 | BF27: 女 | BG27: 計 | BH27: 男 | BI27: 女
A28: 108年, 2019 | B28: 1186740 | C28: 1616 | D28: 7786 | E28: 17947 | F28: 10876 | G28: 13619 | H28: 74162 | I28: 145358 | J28: 66968 | K28: 207842 | L28: 127251 | M28: 513315 | N28: 1186740 | O28: 661690 | P28: 525050 | Q28: 140802 | R28: 75139 | S28: 65663 | T28: 203465 | U28: 110585 | V28: 92880 | W28: 382145 | X28: 213813 | Y28: 168332 | Z28: 460328 | AA28: 262153 | AB28: 198175 | AC28: 5.03 | AD28: 5.65 | AE28: 4.41 | AF28: 24135 | AG28: 55 | AH28: 315 | AI28: 716 | AJ28: 334 | AK28: 397 | AL28: 2006 | AM28: 4107 | AN28: 1867 | AO28: 4877 | AP28: 2860 | AQ28: 6601 | AR28: 24135 | AS28: 13627 | AT28: 10508 | AU28: 2860 | AV28: 1457 | AW28: 1403 | AX28: 3884 | AY28: 2234 | AZ28: 1650 | BA28: 7715 | BB28: 4397 | BC28: 3318 | BD28: 9676 | BE28: 5539 | BF28: 4137 | BG28: 4.2236366 | BH28: 4.9241343 | BI28: 3.5658052
A29: 109年, 2020 | B29: 1197939 | C29: 1587 | D29: 8066 | E29: 18523 | F29: 10464 | G29: 12961 | H29: 73300 | I29: 143730 | J29: 64861 | K29: 201930 | L29: 130278 | M29: 532239 | N29: 1197939 | O29: 665776 | P29: 532163 | Q29: 142563 | R29: 76207 | S29: 66356 | T29: 205437 | U29: 111311 | V29: 94126 | W29: 385592 | X29: 214713 | Y29: 170879 | Z29: 464347 | AA29: 263545 | AB29: 200802 | AC29: 5.08 | AD29: 5.7 | AE29: 4.48 | AF29: 24915 | AG29: 71 | AH29: 356 | AI29: 774 | AJ29: 343 | AK29: 395 | AL29: 1994 | AM29: 3948 | AN29: 1725 | AO29: 5023 | AP29: 2933 | AQ29: 7353 | AR29: 24915 | AS29: 13929 | AT29: 10986 | AU29: 3008 | AV29: 1503 | AW29: 1505 | AX29: 4031 | AY29: 2315 | AZ29: 1716 | BA29: 7962 | BB29: 4497 | BC29: 3465 | BD29: 9914 | BE29: 5614 | BF29: 4300 | BG29: 4.3195814 | BH29: 4.9912208 | BI29: 3.6900195
A30: 110年, 2021 | B30: 1203754 | C30: 1409 | D30: 7982 | E30: 19878 | F30: 10238 | G30: 12635 | H30: 72623 | I30: 140792 | J30: 65007 | K30: 195472 | L30: 131185 | M30: 546533 | N30: 1203754 | O30: 667925 | P30: 535829 | Q30: 141876 | R30: 76231 | S30: 65645 | T30: 204487 | U30: 110529 | V30: 93958 | W30: 387086 | X30: 214898 | Y30: 172188 | Z30: 470305 | AA30: 266267 | AB30: 204038 | AC30: 5.15 | AD30: 5.77 | AE30: 4.54 | AF30: 23586 | AG30: 70 | AH30: 326 | AI30: 896 | AJ30: 385 | AK30: 384 | AL30: 1962 | AM30: 3351 | AN30: 1431 | AO30: 4017 | AP30: 2966 | AQ30: 7798 | AR30: 23586 | AS30: 13069 | AT30: 10517 | AU30: 2979 | AV30: 1513 | AW30: 1466 | AX30: 3760 | AY30: 2150 | AZ30: 1610 | BA30: 7326 | BB30: 4082 | BC30: 3244 | BD30: 9521 | BE30: 5324 | BF30: 4197 | BG30: 4.0610719 | BH30: 4.6527773 | BI30: 3.5068296
A31: 111年, 2022 | B31: 1196654 | C31: 1536 | D31: 7712 | E31: 20746 | F31: 9754 | G31: 12195 | H31: 70893 | I31: 137751 | J31: 64879 | K31: 187016 | L31: 132016 | M31: 552156 | N31: 1196654 | O31: 662250 | P31: 534404 | Q31: 139649 | R31: 75129 | S31: 64520 | T31: 201978 | U31: 108978 | V31: 93000 | W31: 384688 | X31: 213086 | Y31: 171602 | Z31: 470339 | AA31: 265057 | AB31: 205282 | AC31: 5.14 | AD31: 5.76 | AE31: 4.54 | AF31: 20898 | AG31: 71 | AH31: 353 | AI31: 944 | AJ31: 395 | AK31: 396 | AL31: 1867 | AM31: 3099 | AN31: 1359 | AO31: 3357 | AP31: 1973 | AQ31: 7084 | AR31: 20898 | AS31: 11473 | AT31: 9425 | AU31: 2812 | AV31: 1429 | AW31: 1383 | AX31: 3326 | AY31: 1879 | AZ31: 1447 | BA31: 6348 | BB31: 3484 | BC31: 2864 | BD31: 8412 | BE31: 4681 | BF31: 3731 | BG31: 3.5776589 | BH31: 4.0665651 | BI31: 3.1209126
A32: 112年, 2023 | B32: 1214668 | C32: 1531 | D32: 8379 | E32: 22173 | F32: 9947 | G32: 12022 | H32: 69907 | I32: 135583 | J32: 66121 | K32: 180986 | L32: 131799 | M32: 576220 | N32: 1214668 | O32: 669360 | P32: 545308 | Q32: 139884 | R32: 75420 | S32: 64464 | T32: 203603 | U32: 109455 | V32: 94148 | W32: 389062 | X32: 214404 | Y32: 174658 | Z32: 482119 | AA32: 270081 | AB32: 212038 | AC32: 5.19 | AD32: 5.79 | AE32: 4.6 | AF32: 20190 | AG32: 65 | AH32: 382 | AI32: 1012 | AJ32: 411 | AK32: 400 | AL32: 1872 | AM32: 3100 | AN32: 1342 | AO32: 3363 | AP32: 1953 | AQ32: 6290 | AR32: 20190 | AS32: 11154 | AT32: 9036 | AU32: 2861 | AV32: 1495 | AW32: 1366 | AX32: 3172 | AY32: 1811 | AZ32: 1361 | BA32: 6114 | BB32: 3346 | BC32: 2768 | BD32: 8043 | BE32: 4502 | BF32: 3541 | BG32: 3.4276227 | BH32: 3.9265108 | BI32: 2.9629241
A33: 資料來源：直轄市、縣(市)政府。

Sheet 113
A1: 1.3-01 身心障礙者按年齡與等級
A2: 民國113年底
A3: 單位：人 | B3: 一、全體 | N3: 一、全體 | AF3: 二、原住民 | AR3: 二、原住民
A4: 區域及障礙類別 | B4: 總計 | C4: 0-2歲 | D4: 3-5歲 | E4: 6-11歲 | F4: 12-14歲 | G4: 15-17歲 | H4: 18-29歲 | I4: 30-44歲 | J4: 45-49歲 | K4: 50-59歲 | L4: 60-64歲 | M4: 65歲以上 | N4: 總計 | Q4: 極重度 | T4: 重度 | W4: 中度 | Z4: 輕度 | AC4: 占總人口比率（％） | AF4: 總計 | AG4: 0-2歲 | AH4: 3-5歲 | AI4: 6-11歲 | AJ4: 12-14歲 | AK4: 15-17歲 | AL4: 18-29歲 | AM4: 30-44歲 | AN4: 45-49 | AO4: 50-59歲 | AP4: 60-64歲 | AQ4: 65歲以上 | AR4: 總計 | AU4: 極重度 | AX4: 重度 | BA4: 中度 | BD4: 輕度 | BG4: 占總原住民人口比率（％）
N5: 計 | O5: 男 | P5: 女 | Q5: 計 | R5: 男 | S5: 女 | T5: 計 | U5: 男 | V5: 女 | W5: 計 | X5: 男 | Y5: 女 | Z5: 計 | AA5: 男 | AB5: 女 | AC5: 計 | AD5: 男 | AE5: 女 | AR5: 計 | AS5: 男 | AT5: 女 | AU5: 計 | AV5: 男 | AW5: 女 | AX5: 計 | AY5: 男 | AZ5: 女 | BA5: 計 | BB5: 男 | BC5: 女 | BD5: 計 | BE5: 男 | BF5: 女 | BG5: 計 | BH5: 男 | BI5: 女
A6: 113年,2024
A7: 1.按區域別 | B7: 1233509 | C7: 1521 | D7: 8968 | E7: 22729 | F7: 11049 | G7: 11956 | H7: 68739 | I7: 133294 | J7: 67572 | K7: 175217 | L7: 130552 | M7: 601912 | N7: 1233509 | O7: 677110 | P7: 556399 | Q7: 139615 | R7: 75543 | S7: 64072 | T7: 207434 | U7: 110858 | V7: 96576 | W7: 395805 | X7: 216850 | Y7: 178955 | Z7: 490655 | AA7: 273859 | AB7: 216796 | AC7: 5.27 | AD7: 5.87 | AE7: 4.69 | AF7: 20639 | AG7: 91 | AH7: 439 | AI7: 1077 | AJ7: 442 | AK7: 446 | AL7: 1858 | AM7: 3015 | AN7: 1342 | AO7: 3349 | AP7: 2050 | AQ7: 6530 | AR7: 20639 | AS7: 11397 | AT7: 9242 | AU7: 2956 | AV7: 1542 | AW7: 1414 | AX7: 3245 | AY7: 1863 | AZ7: 1382 | BA7: 6256 | BB7: 3415 | BC7: 2841 | BD7: 8182 | BE7: 4577 | BF7: 3605 | BG7: 3.374183 | BH7: 3.8575969 | BI7: 2.9225471
A8: 新北市 | B8: 183542 | C8: 272 | D8: 1894 | E8: 4433 | F8: 2013 | G8: 2098 | H8: 11148 | I8: 20794 | J8: 10310 | K8: 26094 | L8: 19877 | M8: 84609 | N8: 183542 | O8: 101461 | P8: 82081 | Q8: 22664 | R8: 12320 | S8: 10344 | T8: 29500 | U8: 15553 | V8: 13947 | W8: 56071 | X8: 30830 | Y8: 25241 | Z8: 75307 | AA8: 42758 | AB8: 32549 | AC8: 4.54 | AD8: 5.16 | AE8: 3.94 | AF8: 1412 | AG8: 8 | AH8: 63 | AI8: 127 | AJ8: 55 | AK8: 42 | AL8: 166 | AM8: 197 | AN8: 86 | AO8: 200 | AP8: 118 | AQ8: 350 | AR8: 1412 | AS8: 789 | AT8: 623 | AU8: 214 | AV8: 120 | AW8: 94 | AX8: 182 | AY8: 111 | AZ8: 71 | BA8: 346 | BB8: 187 | BC8: 159 | BD8: 670 | BE8: 371 | BF8: 299 | BG8: 2.2856403 | BH8: 2.7576806 | BI8: 1.8784297
A9: 臺北市 | B9: 120711 | C9: 143 | D9: 904 | E9: 2317 | F9: 1249 | G9: 1276 | H9: 6713 | I9: 11826 | J9: 5593 | K9: 15452 | L9: 11657 | M9: 63581 | N9: 120711 | O9: 63859 | P9: 56852 | Q9: 14188 | R9: 7631 | S9: 6557 | T9: 22171 | U9: 11323 | V9: 10848 | W9: 37676 | X9: 19505 | Y9: 18171 | Z9: 46676 | AA9: 25400 | AB9: 21276 | AC9: 4.85 | AD9: 5.44 | AE9: 4.32 | AF9: 464 | AG9: 4 | AH9: 10 | AI9: 20 | AJ9: 11 | AK9: 12 | AL9: 52 | AM9: 74 | AN9: 31 | AO9: 75 | AP9: 43 | AQ9: 132 | AR9: 464 | AS9: 219 | AT9: 245 | AU9: 54 | AV9: 28 | AW9: 26 | AX9: 65 | AY9: 36 | AZ9: 29 | BA9: 139 | BB9: 54 | BC9: 85 | BD9: 206 | BE9: 101 | BF9: 105 | BG9: 2.502292 | BH9: 2.7023692 | BI9: 2.3469681
A10: 桃園市 | B10: 93580 | C10: 109 | D10: 847 | E10: 2337 | F10: 1121 | G10: 1197 | H10: 6815 | I10: 11592 | J10: 5591 | K10: 13929 | L10: 9427 | M10: 40615 | N10: 93580 | O10: 52032 | P10: 41548 | Q10: 11225 | R10: 6073 | S10: 5152 | T10: 15285 | U10: 8187 | V10: 7098 | W10: 29299 | X10: 16258 | Y10: 13041 | Z10: 37771 | AA10: 21514 | AB10: 16257 | AC10: 4 | AD10: 4.52 | AE10: 3.5 | AF10: 1819 | AG10: 7 | AH10: 53 | AI10: 152 | AJ10: 52 | AK10: 60 | AL10: 205 | AM10: 224 | AN10: 119 | AO10: 297 | AP10: 178 | AQ10: 472 | AR10: 1819 | AS10: 1006 | AT10: 813 | AU10: 298 | AV10: 144 | AW10: 154 | AX10: 255 | AY10: 151 | AZ10: 104 | BA10: 500 | BB10: 269 | BC10: 231 | BD10: 766 | BE10: 442 | BF10: 324 | BG10: 2.1009471 | BH10: 2.4290129 | BI10: 1.8001063
A11: 臺中市 | B11: 136303 | C11: 243 | D11: 1267 | E11: 3067 | F11: 1445 | G11: 1464 | H11: 8256 | I11: 16249 | J11: 7696 | K11: 19348 | L11: 14254 | M11: 63014 | N11: 136303 | O11: 74857 | P11: 61446 | Q11: 15780 | R11: 8519 | S11: 7261 | T11: 23316 | U11: 12457 | V11: 10859 | W11: 43415 | X11: 23833 | Y11: 19582 | Z11: 53792 | AA11: 30048 | AB11: 23744 | AC11: 4.76 | AD11: 5.36 | AE11: 4.2 | AF11: 960 | AG11: 8 | AH11: 46 | AI11: 95 | AJ11: 35 | AK11: 24 | AL11: 99 | AM11: 149 | AN11: 52 | AO11: 132 | AP11: 81 | AQ11: 239 | AR11: 960 | AS11: 510 | AT11: 450 | AU11: 103 | AV11: 44 | AW11: 59 | AX11: 156 | AY11: 77 | AZ11: 79 | BA11: 289 | BB11: 146 | BC11: 143 | BD11: 412 | BE11: 243 | BF11: 169 | BG11: 2.3797129 | BH11: 2.7054268 | BI11: 2.0939972
A12: 臺南市 | B12: 101014 | C12: 98 | D12: 538 | E12: 1881 | F12: 857 | G12: 904 | H12: 4962 | I12: 10286 | J12: 5235 | K12: 13746 | L12: 11165 | M12: 51342 | N12: 101014 | O12: 55130 | P12: 45884 | Q12: 11450 | R12: 6157 | S12: 5293 | T12: 17033 | U12: 8913 | V12: 8120 | W12: 31548 | X12: 17334 | Y12: 14214 | Z12: 40983 | AA12: 22726 | AB12: 18257 | AC12: 5.43 | AD12: 5.98 | AE12: 4.9 | AF12: 248 | AG12: 1 | AH12: 10 | AI12: 26 | AJ12: 8 | AK12: 10 | AL12: 25 | AM12: 44 | AN12: 20 | AO12: 36 | AP12: 18 | AQ12: 50 | AR12: 248 | AS12: 112 | AT12: 136 | AU12: 25 | AV12: 9 | AW12: 16 | AX12: 33 | AY12: 14 | AZ12: 19 | BA12: 70 | BB12: 34 | BC12: 36 | BD12: 120 | BE12: 55 | BF12: 65 | BG12: 2.4347143 | BH12: 2.5448762 | BI12: 2.3509075
A13: 高雄市 | B13: 151026 | C13: 207 | D13: 1035 | E13: 2519 | F13: 1134 | G13: 1272 | H13: 7644 | I13: 15671 | J13: 9080 | K13: 23027 | L13: 16376 | M13: 73061 | N13: 151026 | O13: 81839 | P13: 69187 | Q13: 17092 | R13: 9098 | S13: 7994 | T13: 24484 | U13: 13206 | V13: 11278 | W13: 50292 | X13: 27224 | Y13: 23068 | Z13: 59158 | AA13: 32311 | AB13: 26847 | AC13: 5.53 | AD13: 6.12 | AE13: 4.96 | AF13: 1353 | AG13: 7 | AH13: 29 | AI13: 79 | AJ13: 31 | AK13: 24 | AL13: 167 | AM13: 236 | AN13: 99 | AO13: 217 | AP13: 123 | AQ13: 341 | AR13: 1353 | AS13: 694 | AT13: 659 | AU13: 219 | AV13: 117 | AW13: 102 | AX13: 196 | AY13: 94 | AZ13: 102 | BA13: 425 | BB13: 228 | BC13: 197 | BD13: 513 | BE13: 255 | BF13: 258 | BG13: 3.4244495 | BH13: 3.7341942 | BI13: 3.1493429
A14: 宜蘭縣 | B14: 31821 | C14: 19 | D14: 126 | E14: 369 | F14: 243 | G14: 258 | H14: 1610 | I14: 3182 | J14: 1639 | K14: 4556 | L14: 3311 | M14: 16508 | N14: 31821 | O14: 17062 | P14: 14759 | Q14: 3182 | R14: 1700 | S14: 1482 | T14: 4912 | U14: 2608 | V14: 2304 | W14: 10228 | X14: 5447 | Y14: 4781 | Z14: 13499 | AA14: 7307 | AB14: 6192 | AC14: 7.08 | AD14: 7.58 | AE14: 6.59 | AF14: 793 | AG14: 2 | AH14: 11 | AI14: 28 | AJ14: 13 | AK14: 14 | AL14: 76 | AM14: 139 | AN14: 65 | AO14: 153 | AP14: 78 | AQ14: 214 | AR14: 793 | AS14: 435 | AT14: 358 | AU14: 107 | AV14: 53 | AW14: 54 | AX14: 113 | AY14: 70 | AZ14: 43 | BA14: 268 | BB14: 146 | BC14: 122 | BD14: 305 | BE14: 166 | BF14: 139 | BG14: 4.1542249 | BH14: 4.6784255 | BI14: 3.6564192
A15: 新竹縣 | B15: 24276 | C15: 43 | D15: 271 | E15: 556 | F15: 266 | G15: 314 | H15: 1689 | I15: 2888 | J15: 1407 | K15: 3353 | L15: 2391 | M15: 11098 | N15: 24276 | O15: 14039 | P15: 10237 | Q15: 2977 | R15: 1682 | S15: 1295 | T15: 4360 | U15: 2429 | V15: 1931 | W15: 7653 | X15: 4373 | Y15: 3280 | Z15: 9286 | AA15: 5555 | AB15: 3731 | AC15: 4.08 | AD15: 4.64 | AE15: 3.51 | AF15: 749 | AG15: 6 | AH15: 28 | AI15: 32 | AJ15: 11 | AK15: 17 | AL15: 52 | AM15: 124 | AN15: 64 | AO15: 126 | AP15: 90 | AQ15: 199 | AR15: 749 | AS15: 438 | AT15: 311 | AU15: 119 | AV15: 69 | AW15: 50 | AX15: 146 | AY15: 92 | AZ15: 54 | BA15: 234 | BB15: 139 | BC15: 95 | BD15: 250 | BE15: 138 | BF15: 112 | BG15: 3.2480486 | BH15: 3.8716521 | BI15: 2.6474845
A16: 苗栗縣 | B16: 33981 | C16: 34 | D16: 157 | E16: 446 | F16: 251 | G16: 297 | H16: 1889 | I16: 3678 | J16: 1719 | K16: 4552 | L16: 3439 | M16: 17519 | N16: 33981 | O16: 19092 | P16: 14889 | Q16: 3535 | R16: 1942 | S16: 1593 | T16: 6238 | U16: 3377 | V16: 2861 | W16: 11940 | X16: 6630 | Y16: 5310 | Z16: 12268 | AA16: 7143 | AB16: 5125 | AC16: 6.38 | AD16: 6.97 | AE16: 5.75 | AF16: 477 | AG16: 1 | AH16: 8 | AI16: 18 | AJ16: 8 | AK16: 11 | AL16: 63 | AM16: 61 | AN16: 26 | AO16: 111 | AP16: 49 | AQ16: 121 | AR16: 477 | AS16: 247 | AT16: 230 | AU16: 69 | AV16: 27 | AW16: 42 | AX16: 78 | AY16: 39 | AZ16: 39 | BA16: 165 | BB16: 93 | BC16: 72 | BD16: 165 | BE16: 88 | BF16: 77 | BG16: 3.9278656 | BH16: 4.1744127 | BI16: 3.6935924
A17: 彰化縣 | B17: 71990 | C17: 73 | D17: 399 | E17: 966 | F17: 491 | G17: 599 | H17: 3979 | I17: 8472 | J17: 4196 | K17: 9947 | L17: 7434 | M17: 35434 | N17: 71990 | O17: 40552 | P17: 31438 | Q17: 7628 | R17: 4216 | S17: 3412 | T17: 12107 | U17: 6665 | V17: 5442 | W17: 24292 | X17: 13697 | Y17: 10595 | Z17: 27963 | AA17: 15974 | AB17: 11989 | AC17: 5.87 | AD17: 6.53 | AE17: 5.2 | AF17: 175 | AG17: 2 | AH17: 6 | AI17: 14 | AJ17: 6 | AK17: 7 | AL17: 26 | AM17: 34 | AN17: 14 | AO17: 24 | AP17: 17 | AQ17: 25 | AR17: 175 | AS17: 81 | AT17: 94 | AU17: 24 | AV17: 13 | AW17: 11 | AX17: 25 | AY17: 10 | AZ17: 15 | BA17: 55 | BB17: 24 | BC17: 31 | BD17: 71 | BE17: 34 | BF17: 37 | BG17: 2.5362319 | BH17: 2.6741499 | BI17: 2.4283131
A18: 南投縣 | B18: 33367 | C18: 26 | D18: 167 | E18: 355 | F18: 188 | G18: 242 | H18: 1517 | I18: 3281 | J18: 1693 | K18: 4412 | L18: 3496 | M18: 17990 | N18: 33367 | O18: 18609 | P18: 14758 | Q18: 3435 | R18: 1905 | S18: 1530 | T18: 5407 | U18: 3027 | V18: 2380 | W18: 11160 | X18: 6206 | Y18: 4954 | Z18: 13365 | AA18: 7471 | AB18: 5894 | AC18: 7.06 | AD18: 7.75 | AE18: 6.36 | AF18: 1109 | AG18: 4 | AH18: 20 | AI18: 33 | AJ18: 18 | AK18: 24 | AL18: 98 | AM18: 184 | AN18: 77 | AO18: 205 | AP18: 128 | AQ18: 318 | AR18: 1109 | AS18: 652 | AT18: 457 | AU18: 195 | AV18: 106 | AW18: 89 | AX18: 146 | AY18: 87 | AZ18: 59 | BA18: 362 | BB18: 221 | BC18: 141 | BD18: 406 | BE18: 238 | BF18: 168 | BG18: 3.7037037 | BH18: 4.3737841 | BI18: 3.0393722
... A29: 連江縣 | B29: 499 | C29: 0 | D29: 5 | E29: 11 | F29: 3 | G29: 5 | H29: 25 | I29: 46 | J29: 24 | K29: 79 | L29: 50 | M29: 251 | N29: 499 | O29: 310 | P29: 189 | Q29: 42 | R29: 27 | S29: 15 | T29: 78 | U29: 47 | V29: 31 | W29: 127 | X29: 75 | Y29: 52 | Z29: 252 | AA29: 161 | AB29: 91 | AC29: 3.58 | AD29: 3.85 | AE29: 3.21 | AF29: 5 | AG29: 0 | AH29: 0 | AI29: 0 | AJ29: 0 | AK29: 0 | AL29: 0 | AM29: 1 | AN29: 0 | AO29: 2 | AP29: 1 | AQ29: 1 | AR29: 5 | AS29: 2 | AT29: 3 | AU29: 0 | AV29: 0 | AW29: 0 | AX29: 1 | AY29: 0 | AZ29: 1 | BA29: 1 | BB29: 0 | BC29: 1 | BD29: 3 | BE29: 2 | BF29: 1 | BG29: 1.5873016 | BH29: 1.1299435 | BI29: 2.173913
A31: 2.按障礙類別 | B31: 1233509 | C31: 1521 | D31: 8968 | E31: 22729 | F31: 11049 | G31: 11956 | H31: 68739 | I31: 133294 | J31: 67572 | K31: 175217 | L31: 130552 | M31: 601912 | N31: 1233509 | O31: 677110 | P31: 556399 | Q31: 139615 | R31: 75543 | S31: 64072 | T31: 207434 | U31: 110858 | V31: 96576 | W31: 395805 | X31: 216850 | Y31: 178955 | Z31: 490655 | AA31: 273859 | AB31: 216796 | AF31: 20639 | AG31: 91 | AH31: 439 | AI31: 1077 | AJ31: 442 | AK31: 446 | AL31: 1858 | AM31: 3015 | AN31: 1342 | AO31: 3349 | AP31: 2050 | AQ31: 6530 | AR31: 20639 | AS31: 11397 | AT31: 9242 | AU31: 2956 | AV31: 1542 | AW31: 1414 | AX31: 3245 | AY31: 1863 | AZ31: 1382 | BA31: 6256 | BB31: 3415 | BC31: 2841 | BD31: 8182 | BE31: 4577 | BF31: 3605
A32: 神經系統構造及精神、 心智功能 | B32: 380657 | C32: 141 | D32: 3272 | E32: 16573 | F32: 8007 | G32: 8717 | H32: 44948 | I32: 69139 | J32: 28566 | K32: 56010 | L32: 27635 | M32: 117649 | N32: 380657 | O32: 191912 | P32: 188745 | Q32: 14454 | R32: 7219 | S32: 7235 | T32: 56969 | U32: 26561 | V32: 30408 | W32: 157206 | X32: 76631 | Y32: 80575 | Z32: 152028 | AA32: 81501 | AB32: 70527 | AC32: 0 | AD32: 0 | AE32: 0 | AF32: 6874 | AG32: 11 | AH32: 153 | AI32: 809 | AJ32: 344 | AK32: 339 | AL32: 1114 | AM32: 1394 | AN32: 444 | AO32: 708 | AP32: 281 | AQ32: 1277 | AR32: 6874 | AS32: 3531 | AT32: 3343 | AU32: 189 | AV32: 89 | AW32: 100 | AX32: 731 | AY32: 361 | AZ32: 370 | BA32: 2660 | BB32: 1255 | BC32: 1405 | BD32: 3294 | BE32: 1826 | BF32: 1468 | BG32: 0 | BH32: 0 | BI32: 0
A33: 眼、耳及 相關構造與 感官功能及疼痛 | B33: 196911 | C33: 481 | D33: 677 | E33: 1354 | F33: 657 | G33: 732 | H33: 5012 | I33: 12242 | J33: 5913 | K33: 16930 | L33: 15373 | M33: 137540 | N33: 196911 | O33: 107376 | P33: 89535 | Q33: 187 | R33: 100 | S33: 87 | T33: 44407 | U33: 23908 | V33: 20499 | W33: 52196 | X33: 28780 | Y33: 23416 | Z33: 100121 | AA33: 54588 | AB33: 45533 | AC33: 0 | AD33: 0 | AE33: 0 | AF33: 2692 | AG33: 19 | AH33: 20 | AI33: 37 | AJ33: 17 | AK33: 22 | AL33: 114 | AM33: 243 | AN33: 122 | AO33: 373 | AP33: 305 | AQ33: 1420 | AR33: 2692 | AS33: 1453 | AT33: 1239 | AU33: 1 | AV33: 1 | AW33: 0 | AX33: 611 | AY33: 369 | AZ33: 242 | BA33: 635 | BB33: 348 | BC33: 287 | BD33: 1445 | BE33: 735 | BF33: 710 | BG33: 0 | BH33: 0 | BI33: 0
A34: 涉及聲音與言語構造 及其功能 | B34: 12341 | C34: 0 | D34: 5 | E34: 20 | F34: 16 | G34: 26 | H34: 342 | I34: 1173 | J34: 975 | K34: 3178 | L34: 1981 | M34: 4625 | N34: 12341 | O34: 9472 | P34: 2869 | Q34: 30 | R34: 16 | S34: 14 | T34: 3455 | U34: 2914 | V34: 541 | W34: 2496 | X34: 1985 | Y34: 511 | Z34: 6360 | AA34: 4557 | AB34: 1803 | AC34: 0 | AD34: 0 | AE34: 0 | AF34: 188 | AG34: 0 | AH34: 0 | AI34: 2 | AJ34: 0 | AK34: 0 | AL34: 10 | AM34: 19 | AN34: 15 | AO34: 53 | AP34: 38 | AQ34: 51 | AR34: 188 | AS34: 131 | AT34: 57 | AU34: 0 | AV34: 0 | AW34: 0 | AX34: 52 | AY34: 37 | AZ34: 15 | BA34: 40 | BB34: 31 | BC34: 9 | BD34: 96 | BE34: 63 | BF34: 33 | BG34: 0 | BH34: 0 | BI34: 0
A35: 循環、造血、免疫與呼吸系統構造及其功能 | B35: 72710 | C35: 92 | D35: 171 | E35: 457 | F35: 273 | G35: 300 | H35: 1861 | I35: 4421 | J35: 2803 | K35: 9649 | L35: 8115 | M35: 44568 | N35: 72710 | O35: 40142 | P35: 32568 | Q35: 9228 | R35: 6009 | S35: 3219 | T35: 5500 | U35: 3543 | V35: 1957 | W35: 11516 | X35: 7668 | Y35: 3848 | Z35: 46466 | AA35: 22922 | AB35: 23544 | AC35: 0 | AD35: 0 | AE35: 0 | AF35: 1315 | AG35: 6 | AH35: 9 | AI35: 22 | AJ35: 9 | AK35: 12 | AL35: 49 | AM35: 109 | AN35: 73 | AO35: 253 | AP35: 178 | AQ35: 595 | AR35: 1315 | AS35: 689 | AT35: 626 | AU35: 242 | AV35: 160 | AW35: 82 | AX35: 135 | AY35: 81 | AZ35: 54 | BA35: 226 | BB35: 122 | BC35: 104 | BD35: 712 | BE35: 326 | BF35: 386 | BG35: 0 | BH35: 0 | BI35: 0
A36: 消化、新陳代謝與內分泌系統相關構造及其功能 | B36: 12116 | C36: 54 | D36: 146 | E36: 586 | F36: 177 | G36: 78 | H36: 381 | I36: 538 | J36: 589 | K36: 2188 | L36: 1682 | M36: 5697 | N36: 12116 | O36: 7987 | P36: 4129 | Q36: 2005 | R36: 1442 | S36: 563 | T36: 1265 | U36: 883 | V36: 382 | W36: 1190 | X36: 841 | Y36: 349 | Z36: 7656 | AA36: 4821 | AB36: 2835 | AC36: 0 | AD36: 0 | AE36: 0 | AF36: 245 | AG36: 4 | AH36: 7 | AI36: 21 | AJ36: 5 | AK36: 2 | AL36: 10 | AM36: 25 | AN36: 24 | AO36: 68 | AP36: 31 | AQ36: 48 | AR36: 245 | AS36: 140 | AT36: 105 | AU36: 27 | AV36: 14 | AW36: 13 | AX36: 51 | AY36: 34 | AZ36: 17 | BA36: 28 | BB36: 15 | BC36: 13 | BD36: 139 | BE36: 77 | BF36: 62 | BG36: 0 | BH36: 0 | BI36: 0
A37: 泌尿與生殖系統相關構造及其功能 | B37: 81157 | C37: 1 | D37: 10 | E37: 50 | F37: 38 | G37: 57 | H37: 1075 | I37: 5700 | J37: 4553 | K37: 13897 | L37: 10957 | M37: 44819 | N37: 81157 | O37: 43548 | P37: 37609 | Q37: 67518 | R37: 36276 | S37: 31242 | T37: 2927 | U37: 1419 | V37: 1508 | W37: 6445 | X37: 3382 | Y37: 3063 | Z37: 4267 | AA37: 2471 | AB37: 1796 | AC37: 0 | AD37: 0 | AE37: 0 | AF37: 1776 | AG37: 0 | AH37: 0 | AI37: 0 | AJ37: 2 | AK37: 0 | AL37: 54 | AM37: 201 | AN37: 130 | AO37: 437 | AP37: 307 | AQ37: 645 | AR37: 1776 | AS37: 872 | AT37: 904 | AU37: 1625 | AV37: 807 | AW37: 818 | AX37: 41 | AY37: 13 | AZ37: 28 | BA37: 72 | BB37: 34 | BC37: 38 | BD37: 38 | BE37: 18 | BF37: 20 | BG37: 0 | BH37: 0 | BI37: 0
A38: 神經、肌肉 、骨骼之移動相關構造及其功能 | B38: 332831 | C38: 181 | D38: 411 | E38: 1147 | F38: 686 | G38: 786 | H38: 6803 | I38: 25125 | J38: 17040 | K38: 55320 | L38: 52010 | M38: 173322 | N38: 332831 | O38: 196076 | P38: 136755 | Q38: 3050 | R38: 1862 | S38: 1188 | T38: 43351 | U38: 24475 | V38: 18876 | W38: 121895 | X38: 72809 | Y38: 49086 | Z38: 164535 | AA38: 96930 | AB38: 67605 | AC38: 0 | AD38: 0 | AE38: 0 | AF38: 4870 | AG38: 16 | AH38: 25 | AI38: 51 | AJ38: 26 | AK38: 30 | AL38: 260 | AM38: 685 | AN38: 405 | AO38: 1079 | AP38: 649 | AQ38: 1644 | AR38: 4870 | AS38: 3018 | AT38: 1852 | AU38: 80 | AV38: 47 | AW38: 33 | AX38: 753 | AY38: 455 | AZ38: 298 | BA38: 1849 | BB38: 1168 | BC38: 681 | BD38: 2188 | BE38: 1348 | BF38: 840 | BG38: 0 | BH38: 0 | BI38: 0
A39: 皮膚與相關構造及其功能 | B39: 4514 | C39: 8 | D39: 15 | E39: 37 | F39: 31 | G39: 23 | H39: 314 | I39: 940 | J39: 369 | K39: 920 | L39: 613 | M39: 1244 | N39: 4514 | O39: 2960 | P39: 1554 | Q39: 0 | R39: 0 | S39: 0 | T39: 355 | U39: 208 | V39: 147 | W39: 822 | X39: 503 | Y39: 319 | Z39: 3337 | AA39: 2249 | AB39: 1088 | AC39: 0 | AD39: 0 | AE39: 0 | AF39: 59 | AG39: 0 | AH39: 0 | AI39: 1 | AJ39: 0 | AK39: 1 | AL39: 11 | AM39: 23 | AN39: 6 | AO39: 9 | AP39: 4 | AQ39: 4 | AR39: 59 | AS39: 35 | AT39: 24 | AU39: 0 | AV39: 0 | AW39: 0 | AX39: 2 | AY39: 1 | AZ39: 1 | BA39: 14 | BB39: 8 | BC39: 6 | BD39: 43 | BE39: 26 | BF39: 17 | BG39: 0 | BH39: 0 | BI39: 0
A40: 兩類別以上者 | B40: 130057 | C40: 488 | D40: 3485 | E40: 2372 | F40: 1074 | G40: 1058 | H40: 6550 | I40: 11683 | J40: 5911 | K40: 15660 | L40: 11438 | M40: 70338 | N40: 130057 | O40: 72057 | P40: 58000 | Q40: 39812 | R40: 20917 | S40: 18895 | T40: 46565 | U40: 25429 | V40: 21136 | W40: 40376 | X40: 23382 | Y40: 16994 | Z40: 3304 | AA40: 2329 | AB40: 975 | AC40: 0 | AD40: 0 | AE40: 0 | AF40: 2455 | AG40: 31 | AH40: 183 | AI40: 128 | AJ40: 36 | AK40: 32 | AL40: 200 | AM40: 272 | AN40: 116 | AO40: 357 | AP40: 255 | AQ40: 845 | AR40: 2455 | AS40: 1432 | AT40: 1023 | AU40: 761 | AV40: 406 | AW40: 355 | AX40: 827 | AY40: 489 | AZ40: 338 | BA40: 704 | BB40: 424 | BC40: 280 | BD40: 163 | BE40: 113 | BF40: 50 | BG40: 0 | BH40: 0 | BI40: 0
A41: 舊制轉換新制 暫無法歸類者 | B41: 10215 | C41: 75 | D41: 776 | E41: 133 | F41: 90 | G41: 179 | H41: 1453 | I41: 2333 | J41: 853 | K41: 1465 | L41: 748 | M41: 2110 | N41: 10215 | O41: 5580 | P41: 4635 | Q41: 3331 | R41: 1702 | S41: 1629 | T41: 2640 | U41: 1518 | V41: 1122 | W41: 1663 | X41: 869 | Y41: 794 | Z41: 2581 | AA41: 1491 | AB41: 1090 | AC41: 0 | AD41: 0 | AE41: 0 | AF41: 165 | AG41: 4 | AH41: 42 | AI41: 6 | AJ41: 3 | AK41: 8 | AL41: 36 | AM41: 44 | AN41: 7 | AO41: 12 | AP41: 2 | AQ41: 1 | AR41: 165 | AS41: 96 | AT41: 69 | AU41: 31 | AV41: 18 | AW41: 13 | AX41: 42 | AY41: 23 | AZ41: 19 | BA41: 28 | BB41: 10 | BC41: 18 | BD41: 64 | BE41: 45 | BF41: 19 | BG41: 0 | BH41: 0 | BI41: 0
A42: 說明:110年起身心障礙者按障礙類別以新制類別呈現。
A43: 資料來源：直轄市、縣(市)政府。

Sheet 112
A1: 1.3-01 身心障礙者按年齡與等級
A2: 民國112年底
A3: 單位：人 | B3: 一、全體 | N3: 一、全體 | AF3: 二、原住民 | AR3: 二、原住民
A4: 區域及障礙類別 | B4: 總計 | C4: 0-2歲 | D4: 3-5歲 | E4: 6-11歲 | F4: 12-14歲 | G4: 15-17歲 | H4: 18-29歲 | I4: 30-44歲 | J4: 45-49歲 | K4: 50-59歲 | L4: 60-64歲 | M4: 65歲以上 | N4: 總計 | Q4: 極重度 | T4: 重度 | W4: 中度 | Z4: 輕度 | AC4: 占總人口比率（％） | AF4: 總計 | AG4: 0-2歲 | AH4: 3-5歲 | AI4: 6-11歲 | AJ4: 12-14歲 | AK4: 15-17歲 | AL4: 18-29歲 | AM4: 30-44歲 | AN4: 45-49 | AO4: 50-59歲 | AP4: 60-64歲 | AQ4: 65歲以上 | AR4: 總計 | AU4: 極重度 | AX4: 重度 | BA4: 中度 | BD4: 輕度 | BG4: 占總原住民人口比率（％）
N5: 計 | O5: 男 | P5: 女 | Q5: 計 | R5: 男 | S5: 女 | T5: 計 | U5: 男 | V5: 女 | W5: 計 | X5: 男 | Y5: 女 | Z5: 計 | AA5: 男 | AB5: 女 | AC5: 計 | AD5: 男 | AE5: 女 | AR5: 計 | AS5: 男 | AT5: 女 | AU5: 計 | AV5: 男 | AW5: 女 | AX5: 計 | AY5: 男 | AZ5: 女 | BA5: 計 | BB5: 男 | BC5: 女 | BD5: 計 | BE5: 男 | BF5: 女 | BG5: 計 | BH5: 男 | BI5: 女
A6: 112年,2023
A7: 1.按區域別 | B7: 1214668 | C7: 1531 | D7: 8379 | E7: 22173 | F7: 9947 | G7: 12022 | H7: 69907 | I7: 135583 | J7: 66121 | K7: 180986 | L7: 131799 | M7: 576220 | N7: 1214668 | O7: 669360 | P7: 545308 | Q7: 139884 | R7: 75420 | S7: 64464 | T7: 203603 | U7: 109455 | V7: 94148 | W7: 389062 | X7: 214404 | Y7: 174658 | Z7: 482119 | AA7: 270081 | AB7: 212038 | AC7: 5.19 | AD7: 5.79 | AE7: 4.6 | AF7: 20190 | AG7: 65 | AH7: 382 | AI7: 1012 | AJ7: 411 | AK7: 400 | AL7: 1872 | AM7: 3100 | AN7: 1342 | AO7: 3363 | AP7: 1953 | AQ7: 6290 | AR7: 20190 | AS7: 11154 | AT7: 9036 | AU7: 2861 | AV7: 1495 | AW7: 1366 | AX7: 3172 | AY7: 1811 | AZ7: 1361 | BA7: 6114 | BB7: 3346 | BC7: 2768 | BD7: 8043 | BE7: 4502 | BF7: 3541 | BG7: 3.4276227 | BH7: 3.9265108 | BI7: 2.9629241 | BK7: 3.3533504 | BL7: 3.8328827 | BM7: 2.9051382
A8: 新北市 | B8: 179483 | C8: 285 | D8: 1752 | E8: 4247 | F8: 1758 | G8: 2092 | H8: 11210 | I8: 21070 | J8: 9948 | K8: 27011 | L8: 20033 | M8: 80077 | N8: 179483 | O8: 99628 | P8: 79855 | Q8: 22541 | R8: 12220 | S8: 10321 | T8: 28888 | U8: 15310 | V8: 13578 | W8: 54997 | X8: 30497 | Y8: 24500 | Z8: 73057 | AA8: 41601 | AB8: 31456 | AC8: 4.44 | AD8: 5.07 | AE8: 3.85 | AF8: 1374 | AG8: 9 | AH8: 61 | AI8: 116 | AJ8: 40 | AK8: 28 | AL8: 168 | AM8: 211 | AN8: 82 | AO8: 213 | AP8: 110 | AQ8: 336 | AR8: 1374 | AS8: 760 | AT8: 614 | AU8: 220 | AV8: 117 | AW8: 103 | AX8: 174 | AY8: 98 | AZ8: 76 | BA8: 333 | BB8: 183 | BC8: 150 | BD8: 647 | BE8: 362 | BF8: 285 | BG8: 2.3538683 | BH8: 2.8223411 | BI8: 1.9526778 | BK8: 2.2639452 | BL8: 2.7298204 | BM8: 1.8615909
A9: 臺北市 | B9: 119049 | C9: 152 | D9: 866 | E9: 2269 | F9: 1128 | G9: 1219 | H9: 6801 | I9: 12052 | J9: 5606 | K9: 16094 | L9: 11908 | M9: 60954 | N9: 119049 | O9: 63303 | P9: 55746 | Q9: 14401 | R9: 7722 | S9: 6679 | T9: 22023 | U9: 11368 | V9: 10655 | W9: 37094 | X9: 19364 | Y9: 17730 | Z9: 45531 | AA9: 24849 | AB9: 20682 | AC9: 4.74 | AD9: 5.33 | AE9: 4.21 | AF9: 452 | AG9: 3 | AH9: 12 | AI9: 18 | AJ9: 8 | AK9: 10 | AL9: 54 | AM9: 69 | AN9: 35 | AO9: 78 | AP9: 40 | AQ9: 125 | AR9: 452 | AS9: 217 | AT9: 235 | AU9: 52 | AV9: 26 | AW9: 26 | AX9: 70 | AY9: 41 | AZ9: 29 | BA9: 132 | BB9: 52 | BC9: 80 | BD9: 198 | BE9: 98 | BF9: 100 | BG9: 2.6355685 | BH9: 2.9576121 | BI9: 2.3947824 | BK9: 2.484339 | BL9: 2.6749725 | BM9: 2.3355577
A10: 桃園市 | B10: 91783 | C10: 133 | D10: 822 | E10: 2263 | F10: 1006 | G10: 1205 | H10: 6878 | I10: 11677 | J10: 5481 | K10: 14187 | L10: 9398 | M10: 38733 | N10: 91783 | O10: 51156 | P10: 40627 | Q10: 11199 | R10: 6032 | S10: 5167 | T10: 14922 | U10: 8016 | V10: 6906 | W10: 28752 | X10: 16002 | Y10: 12750 | Z10: 36910 | AA10: 21106 | AB10: 15804 | AC10: 3.96 | AD10: 4.48 | AE10: 3.46 | AF10: 1730 | AG10: 10 | AH10: 54 | AI10: 153 | AJ10: 44 | AK10: 58 | AL10: 186 | AM10: 235 | AN10: 110 | AO10: 281 | AP10: 155 | AQ10: 444 | AR10: 1730 | AS10: 957 | AT10: 773 | AU10: 264 | AV10: 129 | AW10: 135 | AX10: 250 | AY10: 146 | AZ10: 104 | BA10: 476 | BB10: 262 | BC10: 214 | BD10: 740 | BE10: 420 | BF10: 320 | BG10: 2.1037015 | BH10: 2.4418872 | BI10: 1.7957951 | BK10: 2.0826416 | BL10: 2.4067561 | BM10: 1.7851653
A11: 臺中市 | B11: 133184 | C11: 260 | D11: 1208 | E11: 3022 | F11: 1276 | G11: 1492 | H11: 8380 | I11: 16285 | J11: 7444 | K11: 19773 | L11: 14229 | M11: 59815 | N11: 133184 | O11: 73431 | P11: 59753 | Q11: 15684 | R11: 8399 | S11: 7285 | T11: 22677 | U11: 12180 | V11: 10497 | W11: 42145 | X11: 23318 | Y11: 18827 | Z11: 52678 | AA11: 29534 | AB11: 23144 | AC11: 4.68 | AD11: 5.28 | AE11: 4.11 | AF11: 927 | AG11: 5 | AH11: 38 | AI11: 82 | AJ11: 29 | AK11: 29 | AL11: 106 | AM11: 169 | AN11: 49 | AO11: 133 | AP11: 75 | AQ11: 212 | AR11: 927 | AS11: 485 | AT11: 442 | AU11: 115 | AV11: 53 | AW11: 62 | AX11: 133 | AY11: 70 | AZ11: 63 | BA11: 277 | BB11: 138 | BC11: 139 | BD11: 402 | BE11: 224 | BF11: 178 | BG11: 2.4610402 | BH11: 2.7912063 | BI11: 2.1783057 | BK11: 2.3540951 | BL11: 2.6733763 | BM11: 2.0734461
A12: 臺南市 | B12: 99490 | C12: 96 | D12: 535 | E12: 1792 | F12: 775 | G12: 922 | H12: 5077 | I12: 10435 | J12: 5050 | K12: 14268 | L12: 11350 | M12: 49190 | N12: 99490 | O12: 54564 | P12: 44926 | Q12: 11500 | R12: 6214 | S12: 5286 | T12: 16716 | U12: 8812 | V12: 7904 | W12: 30913 | X12: 17043 | Y12: 13870 | Z12: 40361 | AA12: 22495 | AB12: 17866 | AC12: 5.35 | AD12: 5.91 | AE12: 4.8 | AF12: 226 | AG12: 1 | AH12: 8 | AI12: 22 | AJ12: 9 | AK12: 8 | AL12: 25 | AM12: 46 | AN12: 14 | AO12: 31 | AP12: 14 | AQ12: 48 | AR12: 226 | AS12: 103 | AT12: 123 | AU12: 27 | AV12: 9 | AW12: 18 | AX12: 27 | AY12: 14 | AZ12: 13 | BA12: 70 | BB12: 32 | BC12: 38 | BD12: 102 | BE12: 48 | BF12: 54 | BG12: 2.4610694 | BH12: 2.6437372 | BI12: 2.3264611 | BK12: 2.3834695 | BL12: 2.4911032 | BM12: 2.3015739
A13: 高雄市 | B13: 147890 | C13: 204 | D13: 938 | E13: 2407 | F13: 1016 | G13: 1288 | H13: 7758 | I13: 16159 | J13: 8935 | K13: 23538 | L13: 16541 | M13: 69106 | N13: 147890 | O13: 80442 | P13: 67448 | Q13: 17109 | R13: 9084 | S13: 8025 | T13: 23730 | U13: 12871 | V13: 10859 | W13: 49299 | X13: 26854 | Y13: 22445 | Z13: 57752 | AA13: 31633 | AB13: 26119 | AC13: 5.4 | AD13: 5.99 | AE13: 4.84 | AF13: 1299 | AG13: 6 | AH13: 23 | AI13: 67 | AJ13: 31 | AK13: 26 | AL13: 169 | AM13: 225 | AN13: 95 | AO13: 220 | AP13: 120 | AQ13: 317 | AR13: 1299 | AS13: 669 | AT13: 630 | AU13: 220 | AV13: 118 | AW13: 102 | AX13: 196 | AY13: 91 | AZ13: 105 | BA13: 408 | BB13: 219 | BC13: 189 | BD13: 475 | BE13: 241 | BF13: 234 | BG13: 3.4900591 | BH13: 3.8313957 | BI13: 3.1884205 | BK13: 3.3832612 | BL13: 3.6828699 | BM13: 3.1162813
A14: 宜蘭縣 | B14: 31779 | C14: 19 | D14: 136 | E14: 367 | F14: 202 | G14: 256 | H14: 1693 | I14: 3284 | J14: 1633 | K14: 4749 | L14: 3306 | M14: 16134 | N14: 31779 | O14: 17121 | P14: 14658 | Q14: 3216 | R14: 1706 | S14: 1510 | T14: 4851 | U14: 2559 | V14: 2292 | W14: 10116 | X14: 5472 | Y14: 4644 | Z14: 13596 | AA14: 7384 | AB14: 6212 | AC14: 7.06 | AD14: 7.58 | AE14: 6.54 | AF14: 746 | AG14: 2 | AH14: 12 | AI14: 21 | AJ14: 12 | AK14: 12 | AL14: 79 | AM14: 137 | AN14: 60 | AO14: 151 | AP14: 66 | AQ14: 194 | AR14: 746 | AS14: 406 | AT14: 340 | AU14: 99 | AV14: 50 | AW14: 49 | AX14: 109 | AY14: 67 | AZ14: 42 | BA14: 240 | BB14: 134 | BC14: 106 | BD14: 298 | BE14: 155 | BF14: 143 | BG14: 4.0865516 | BH14: 4.5587245 | BI14: 3.6367526 | BK14: 4.125052 | BL14: 4.6464431 | BM14: 3.6300953
A15: 新竹縣 | B15: 23802 | C15: 46 | D15: 223 | E15: 523 | F15: 228 | G15: 333 | H15: 1702 | I15: 2854 | J15: 1395 | K15: 3459 | L15: 2378 | M15: 10661 | N15: 23802 | O15: 13802 | P15: 10000 | Q15: 3005 | R15: 1699 | S15: 1306 | T15: 4303 | U15: 2404 | V15: 1899 | W15: 7527 | X15: 4306 | Y15: 3221 | Z15: 8967 | AA15: 5393 | AB15: 3574 | AC15: 4.04 | AD15: 4.6 | AE15: 3.46 | AF15: 754 | AG15: 3 | AH15: 15 | AI15: 35 | AJ15: 14 | AK15: 12 | AL15: 50 | AM15: 124 | AN15: 72 | AO15: 145 | AP15: 75 | AQ15: 209 | AR15: 754 | AS15: 440 | AT15: 314 | AU15: 125 | AV15: 71 | AW15: 54 | AX15: 138 | AY15: 86 | AZ15: 52 | BA15: 244 | BB15: 141 | BC15: 103 | BD15: 247 | BE15: 142 | BF15: 105 | BG15: 3.3707363 | BH15: 4.0120361 | BI15: 2.7539028 | BK15: 3.230537 | BL15: 3.8539375 | BM15: 2.6311337
A16: 苗栗縣 | B16: 33761 | C16: 36 | D16: 151 | E16: 457 | F16: 249 | G16: 291 | H16: 1950 | I16: 3736 | J16: 1716 | K16: 4729 | L16: 3499 | M16: 16947 | N16: 33761 | O16: 19058 | P16: 14703 | Q16: 3583 | R16: 1971 | S16: 1612 | T16: 6149 | U16: 3383 | V16: 2766 | W16: 11838 | X16: 6589 | Y16: 5249 | Z16: 12191 | AA16: 7115 | AB16: 5076 | AC16: 6.32 | AD16: 6.93 | AE16: 5.66 | AF16: 469 | AG16: 0 | AH16: 6 | AI16: 18 | AJ16: 9 | AK16: 12 | AL16: 57 | AM16: 63 | AN16: 37 | AO16: 100 | AP16: 49 | AQ16: 118 | AR16: 469 | AS16: 239 | AT16: 230 | AU16: 67 | AV16: 29 | AW16: 38 | AX16: 73 | AY16: 38 | AZ16: 35 | BA16: 148 | BB16: 81 | BC16: 67 | BD16: 181 | BE16: 91 | BF16: 90 | BG16: 4.0602545 | BH16: 4.2345854 | BI16: 3.8936855 | BK16: 3.9005642 | BL16: 4.1498656 | BM16: 3.6641708
A17: 彰化縣 | B17: 71025 | C17: 70 | D17: 361 | E17: 977 | F17: 462 | G17: 594 | H17: 4096 | I17: 8690 | J17: 4071 | K17: 10180 | L17: 7448 | M17: 34076 | N17: 71025 | O17: 40084 | P17: 30941 | Q17: 7614 | R17: 4180 | S17: 3434 | T17: 11847 | U17: 6549 | V17: 5298 | W17: 23826 | X17: 13470 | Y17: 10356 | Z17: 27738 | AA17: 15885 | AB17: 11853 | AC17: 5.73 | AD17: 6.38 | AE17: 5.06 | AF17: 165 | AG17: 0 | AH17: 7 | AI17: 13 | AJ17: 4 | AK17: 9 | AL17: 23 | AM17: 38 | AN17: 13 | AO17: 22 | AP17: 16 | AQ17: 20 | AR17: 165 | AS17: 78 | AT17: 87 | AU17: 22 | AV17: 11 | AW17: 11 | AX17: 24 | AY17: 9 | AZ17: 15 | BA17: 52 | BB17: 26 | BC17: 26 | BD17: 67 | BE17: 32 | BF17: 35 | BG17: 2.6099336 | BH17: 2.8404953 | BI17: 2.4328859 | BK17: 2.49501 | BL17: 2.6239067 | BM17: 2.3936847
A18: 南投縣 | B18: 33240 | C18: 26 | D18: 137 | E18: 350 | F18: 191 | G18: 241 | H18: 1572 | I18: 3374 | J18: 1673 | K18: 4581 | L18: 3556 | M18: 17539 | N18: 33240 | O18: 18588 | P18: 14652 | Q18: 3495 | R18: 1913 | S18: 1582 | T18: 5335 | U18: 3005 | V18: 2330 | W18: 11108 | X18: 6235 | Y18: 4873 | Z18: 13302 | AA18: 7435 | AB18: 5867 | AC18: 6.97 | AD18: 7.65 | AE18: 6.26 | AF18: 1087 | AG18: 3 | AH18: 15 | AI18: 30 | AJ18: 20 | AK18: 17 | AL18: 103 | AM18: 188 | AN18: 83 | AO18: 202 | AP18: 118 | AQ18: 308 | AR18: 1087 | AS18: 641 | AT18: 446 | AU18: 187 | AV18: 100 | AW18: 87 | AX18: 159 | AY18: 98 | AZ18: 61 | BA18: 351 | BB18: 209 | BC18: 142 | BD18: 390 | BE18: 234 | BF18: 156 | BG18: 3.6852455 | BH18: 4.3566914 | BI18: 3.016979 | BK18: 3.6997498 | BL18: 4.363539 | BM18: 3.0399787
... A28: 金門縣 | B28: 6102 | C28: 4 | D28: 28 | E28: 60 | F28: 37 | G28: 46 | H28: 269 | I28: 653 | J28: 264 | K28: 925 | L28: 670 | M28: 3146 | N28: 6102 | O28: 3327 | P28: 2775 | Q28: 597 | R28: 347 | S28: 250 | T28: 928 | U28: 508 | V28: 420 | W28: 1656 | X28: 886 | Y28: 770 | Z28: 2921 | AA28: 1586 | AB28: 1335 | AC28: 4.23 | AD28: 4.65 | AE28: 3.82 | AF28: 17 | AG28: 0 | AH28: 1 | AI28: 0 | AJ28: 2 | AK28: 0 | AL28: 0 | AM28: 2 | AN28: 0 | AO28: 5 | AP28: 2 | AQ28: 5 | AR28: 17 | AS28: 13 | AT28: 4 | AU28: 1 | AV28: 1 | AW28: 0 | AX28: 3 | AY28: 3 | AZ28: 0 | BA28: 1 | BB28: 0 | BC28: 1 | BD28: 12 | BE28: 9 | BF28: 3 | BG28: 1.3137558 | BH28: 2.0472441 | BI28: 0.60698027 | BK28: 1.025641 | BL28: 1.6034985 | BM28: 0.44182622
A29: 連江縣 | B29: 492 | C29: 0 | D29: 5 | E29: 14 | F29: 2 | G29: 3 | H29: 27 | I29: 50 | J29: 22 | K29: 79 | L29: 55 | M29: 235 | N29: 492 | O29: 306 | P29: 186 | Q29: 37 | R29: 23 | S29: 14 | T29: 82 | U29: 50 | V29: 32 | W29: 130 | X29: 77 | Y29: 53 | Z29: 243 | AA29: 156 | AB29: 87 | AC29: 3.5 | AD29: 3.79 | AE29: 3.12 | AF29: 4 | AG29: 0 | AH29: 0 | AI29: 0 | AJ29: 0 | AK29: 0 | AL29: 0 | AM29: 1 | AN29: 0 | AO29: 2 | AP29: 0 | AQ29: 1 | AR29: 4 | AS29: 2 | AT29: 2 | AU29: 0 | AV29: 0 | AW29: 0 | AX29: 1 | AY29: 0 | AZ29: 1 | BA29: 0 | BB29: 0 | BC29: 0 | BD29: 3 | BE29: 2 | BF29: 1 | BG29: 1.2944984 | BH29: 1.1560694 | BI29: 1.4705882
A31: 2.按障礙類別 | B31: 1214668 | C31: 1531 | D31: 8379 | E31: 22173 | F31: 9947 | G31: 12022 | H31: 69907 | I31: 135583 | J31: 66121 | K31: 180986 | L31: 131799 | M31: 576220 | N31: 1214668 | O31: 669360 | P31: 545308 | Q31: 139884 | R31: 75420 | S31: 64464 | T31: 203603 | U31: 109455 | V31: 94148 | W31: 389062 | X31: 214404 | Y31: 174658 | Z31: 482119 | AA31: 270081 | AB31: 212038 | AF31: 20190 | AG31: 65 | AH31: 382 | AI31: 1012 | AJ31: 411 | AK31: 400 | AL31: 1872 | AM31: 3100 | AN31: 1342 | AO31: 3363 | AP31: 1953 | AQ31: 6290 | AR31: 20190 | AS31: 11154 | AT31: 9036 | AU31: 2861 | AV31: 1495 | AW31: 1366 | AX31: 3172 | AY31: 1811 | AZ31: 1361 | BA31: 6114 | BB31: 3346 | BC31: 2768 | BD31: 8043 | BE31: 4502 | BF31: 3541
A32: 神經系統構造及精神、 心智功能 | B32: 370037 | C32: 160 | D32: 3257 | E32: 15891 | F32: 7136 | G32: 8680 | H32: 44952 | I32: 69451 | J32: 27648 | K32: 56191 | L32: 26870 | M32: 109801 | N32: 370037 | O32: 187655 | P32: 182382 | Q32: 14878 | R32: 7437 | S32: 7441 | T32: 55921 | U32: 26534 | V32: 29387 | W32: 153408 | X32: 75410 | Y32: 77998 | Z32: 145830 | AA32: 78274 | AB32: 67556 | AC32: 0 | AD32: 0 | AE32: 0 | AF32: 6620 | AG32: 5 | AH32: 143 | AI32: 758 | AJ32: 319 | AK32: 291 | AL32: 1113 | AM32: 1441 | AN32: 446 | AO32: 674 | AP32: 249 | AQ32: 1181 | AR32: 6620 | AS32: 3386 | AT32: 3234 | AU32: 185 | AV32: 89 | AW32: 96 | AX32: 688 | AY32: 340 | AZ32: 348 | BA32: 2568 | BB32: 1225 | BC32: 1343 | BD32: 3179 | BE32: 1732 | BF32: 1447 | BG32: 0 | BH32: 0 | BI32: 0
A33: 眼、耳及 相關構造與 感官功能及疼痛 | B33: 192565 | C33: 475 | D33: 636 | E33: 1347 | F33: 621 | G33: 770 | H33: 5247 | I33: 12421 | J33: 5740 | K33: 17271 | L33: 15775 | M33: 132262 | N33: 192565 | O33: 105327 | P33: 87238 | Q33: 187 | R33: 100 | S33: 87 | T33: 43668 | U33: 23588 | V33: 20080 | W33: 51419 | X33: 28398 | Y33: 23021 | Z33: 97291 | AA33: 53241 | AB33: 44050 | AC33: 0 | AD33: 0 | AE33: 0 | AF33: 2586 | AG33: 14 | AH33: 20 | AI33: 33 | AJ33: 19 | AK33: 24 | AL33: 122 | AM33: 238 | AN33: 118 | AO33: 374 | AP33: 289 | AQ33: 1335 | AR33: 2586 | AS33: 1383 | AT33: 1203 | AU33: 1 | AV33: 1 | AW33: 0 | AX33: 606 | AY33: 365 | AZ33: 241 | BA33: 595 | BB33: 310 | BC33: 285 | BD33: 1384 | BE33: 707 | BF33: 677 | BG33: 0 | BH33: 0 | BI33: 0
A34: 涉及聲音與言語構造 及其功能 | B34: 12387 | C34: 1 | D34: 3 | E34: 27 | F34: 18 | G34: 40 | H34: 374 | I34: 1267 | J34: 1032 | K34: 3208 | L34: 1986 | M34: 4431 | N34: 12387 | O34: 9502 | P34: 2885 | Q34: 33 | R34: 19 | S34: 14 | T34: 3461 | U34: 2906 | V34: 555 | W34: 2467 | X34: 1946 | Y34: 521 | Z34: 6426 | AA34: 4631 | AB34: 1795 | AC34: 0 | AD34: 0 | AE34: 0 | AF34: 180 | AG34: 0 | AH34: 0 | AI34: 1 | AJ34: 0 | AK34: 0 | AL34: 10 | AM34: 21 | AN34: 13 | AO34: 51 | AP34: 35 | AQ34: 49 | AR34: 180 | AS34: 126 | AT34: 54 | AU34: 0 | AV34: 0 | AW34: 0 | AX34: 50 | AY34: 37 | AZ34: 13 | BA34: 34 | BB34: 26 | BC34: 8 | BD34: 96 | BE34: 63 | BF34: 33 | BG34: 0 | BH34: 0 | BI34: 0
A35: 循環、造血、免疫與呼吸系統構造及其功能 | B35: 68852 | C35: 91 | D35: 174 | E35: 479 | F35: 269 | G35: 296 | H35: 1947 | I35: 4317 | J35: 2641 | K35: 9390 | L35: 7791 | M35: 41457 | N35: 68852 | O35: 38255 | P35: 30597 | Q35: 8649 | R35: 5605 | S35: 3044 | T35: 5403 | U35: 3458 | V35: 1945 | W35: 10732 | X35: 7203 | Y35: 3529 | Z35: 44068 | AA35: 21989 | AB35: 22079 | AC35: 0 | AD35: 0 | AE35: 0 | AF35: 1211 | AG35: 6 | AH35: 8 | AI35: 19 | AJ35: 8 | AK35: 9 | AL35: 47 | AM35: 112 | AN35: 54 | AO35: 249 | AP35: 150 | AQ35: 549 | AR35: 1211 | AS35: 652 | AT35: 559 | AU35: 227 | AV35: 144 | AW35: 83 | AX35: 128 | AY35: 77 | AZ35: 51 | BA35: 213 | BB35: 119 | BC35: 94 | BD35: 643 | BE35: 312 | BF35: 331 | BG35: 0 | BH35: 0 | BI35: 0
A36: 消化、新陳代謝與內分泌系統相關構造及其功能 | B36: 12124 | C36: 50 | D36: 144 | E36: 540 | F36: 95 | G36: 85 | H36: 379 | I36: 571 | J36: 614 | K36: 2276 | L36: 1751 | M36: 5619 | N36: 12124 | O36: 8003 | P36: 4121 | Q36: 2059 | R36: 1483 | S36: 576 | T36: 1259 | U36: 877 | V36: 382 | W36: 1167 | X36: 827 | Y36: 340 | Z36: 7639 | AA36: 4816 | AB36: 2823 | AC36: 0 | AD36: 0 | AE36: 0 | AF36: 247 | AG36: 4 | AH36: 4 | AI36: 18 | AJ36: 2 | AK36: 2 | AL36: 12 | AM36: 27 | AN36: 18 | AO36: 69 | AP36: 42 | AQ36: 49 | AR36: 247 | AS36: 140 | AT36: 107 | AU36: 28 | AV36: 12 | AW36: 16 | AX36: 54 | AY36: 35 | AZ36: 19 | BA36: 27 | BB36: 19 | BC36: 8 | BD36: 138 | BE36: 74 | BF36: 64 | BG36: 0 | BH36: 0 | BI36: 0
A37: 泌尿與生殖系統相關構造及其功能 | B37: 80850 | C37: 3 | D37: 14 | E37: 55 | F37: 35 | G37: 61 | H37: 1136 | I37: 5859 | J37: 4439 | K37: 14239 | L37: 11226 | M37: 43783 | N37: 80850 | O37: 43101 | P37: 37749 | Q37: 67327 | R37: 35938 | S37: 31389 | T37: 2993 | U37: 1433 | V37: 1560 | W37: 6383 | X37: 3343 | Y37: 3040 | Z37: 4147 | AA37: 2387 | AB37: 1760 | AC37: 0 | AD37: 0 | AE37: 0 | AF37: 1681 | AG37: 0 | AH37: 0 | AI37: 1 | AJ37: 0 | AK37: 1 | AL37: 57 | AM37: 194 | AN37: 119 | AO37: 426 | AP37: 301 | AQ37: 582 | AR37: 1681 | AS37: 830 | AT37: 851 | AU37: 1535 | AV37: 762 | AW37: 773 | AX37: 35 | AY37: 15 | AZ37: 20 | BA37: 76 | BB37: 34 | BC37: 42 | BD37: 35 | BE37: 19 | BF37: 16 | BG37: 0 | BH37: 0 | BI37: 0
A38: 神經、肌肉 、骨骼之移動相關構造及其功能 | B38: 335642 | C38: 161 | D38: 442 | E38: 1234 | F38: 652 | G38: 766 | H38: 7094 | I38: 26636 | J38: 16966 | K38: 59960 | L38: 53381 | M38: 168350 | N38: 335642 | O38: 198087 | P38: 137555 | Q38: 3117 | R38: 1894 | S38: 1223 | T38: 42686 | U38: 24090 | V38: 18596 | W38: 121736 | X38: 72989 | Y38: 48747 | Z38: 168103 | AA38: 99114 | AB38: 68989 | AC38: 0 | AD38: 0 | AE38: 0 | AF38: 5107 | AG38: 7 | AH38: 30 | AI38: 52 | AJ38: 23 | AK38: 30 | AL38: 258 | AM38: 740 | AN38: 443 | AO38: 1147 | AP38: 654 | AQ38: 1723 | AR38: 5110 | AS38: 3173 | AT38: 1937 | AU38: 87 | AV38: 52 | AW38: 35 | AX38: 771 | AY38: 463 | AZ38: 308 | BA38: 1887 | BB38: 1205 | BC38: 682 | BD38: 2365 | BE38: 1453 | BF38: 912 | BG38: 0 | BH38: 0 | BI38: 0
A39: 皮膚與相關構造及其功能 | B39: 4541 | C39: 6 | D39: 18 | E39: 45 | F39: 28 | G39: 23 | H39: 387 | I39: 903 | J39: 370 | K39: 955 | L39: 618 | M39: 1188 | N39: 4541 | O39: 2993 | P39: 1548 | Q39: 0 | R39: 0 | S39: 0 | T39: 352 | U39: 204 | V39: 148 | W39: 821 | X39: 502 | Y39: 319 | Z39: 3368 | AA39: 2287 | AB39: 1081 | AC39: 0 | AD39: 0 | AE39: 0 | AF39: 61 | AG39: 0 | AH39: 0 | AI39: 2 | AJ39: 1 | AK39: 0 | AL39: 10 | AM39: 22 | AN39: 7 | AO39: 9 | AP39: 5 | AQ39: 5 | AR39: 61 | AS39: 38 | AT39: 23 | AU39: 0 | AV39: 0 | AW39: 0 | AX39: 2 | AY39: 1 | AZ39: 1 | BA39: 15 | BB39: 9 | BC39: 6 | BD39: 44 | BE39: 28 | BF39: 16 | BG39: 0 | BH39: 0 | BI39: 0
A40: 兩類別以上者 | B40: 127397 | C40: 501 | D40: 3057 | E40: 2437 | F40: 990 | G40: 1087 | H40: 6835 | I40: 11818 | J40: 5841 | K40: 15996 | L40: 11617 | M40: 67218 | N40: 127397 | O40: 70833 | P40: 56564 | Q40: 40143 | R40: 21156 | S40: 18987 | T40: 45161 | U40: 24811 | V40: 20350 | W40: 39254 | X40: 22905 | Y40: 16349 | Z40: 2839 | AA40: 1961 | AB40: 878 | AC40: 0 | AD40: 0 | AE40: 0 | AF40: 2319 | AG40: 23 | AH40: 135 | AI40: 122 | AJ40: 34 | AK40: 34 | AL40: 205 | AM40: 261 | AN40: 116 | AO40: 348 | AP40: 225 | AQ40: 816 | AR40: 2319 | AS40: 1321 | AT40: 998 | AU40: 764 | AV40: 415 | AW40: 349 | AX40: 789 | AY40: 450 | AZ40: 339 | BA40: 672 | BB40: 389 | BC40: 283 | BD40: 94 | BE40: 67 | BF40: 27 | BG40: 0 | BH40: 0 | BI40: 0
A41: 舊制轉換新制 暫無法歸類者 | B41: 10273 | C41: 83 | D41: 634 | E41: 118 | F41: 103 | G41: 214 | H41: 1556 | I41: 2340 | J41: 830 | K41: 1500 | L41: 784 | M41: 2111 | N41: 10273 | O41: 5604 | P41: 4669 | Q41: 3491 | R41: 1788 | S41: 1703 | T41: 2699 | U41: 1554 | V41: 1145 | W41: 1675 | X41: 881 | Y41: 794 | Z41: 2408 | AA41: 1381 | AB41: 1027 | AC41: 0 | AD41: 0 | AE41: 0 | AF41: 178 | AG41: 6 | AH41: 42 | AI41: 6 | AJ41: 5 | AK41: 9 | AL41: 38 | AM41: 44 | AN41: 8 | AO41: 16 | AP41: 3 | AQ41: 1 | AR41: 175 | AS41: 105 | AT41: 70 | AU41: 34 | AV41: 20 | AW41: 14 | AX41: 49 | AY41: 28 | AZ41: 21 | BA41: 27 | BB41: 10 | BC41: 17 | BD41: 65 | BE41: 47 | BF41: 18 | BG41: 0 | BH41: 0 | BI41: 0
A42: 說明:110年起身心障礙者按障礙類別以新制類別呈現。
A43: 資料來源：直轄市、縣(市)政府。

Sheet 111
A1: 1.3-01 身心障礙者按年齡與等級
A2: 民國111年底
A3: 單位：人 | B3: 一、全體 | N3: 一、全體 | AF3: 二、原住民 | AR3: 二、原住民
A4: 區域及障礙類別 | B4: 總計 | C4: 0-2歲 | D4: 3-5歲 | E4: 6-11歲 | F4: 12-14歲 | G4: 15-17歲 | H4: 18-29歲 | I4: 30-44歲 | J4: 45-49歲 | K4: 50-59歲 | L4: 60-64歲 | M4: 65歲以上 | N4: 總計 | Q4: 極重度 | T4: 重度 | W4: 中度 | Z4: 輕度 | AC4: 占總人口比率（％） | AF4: 總計 | AG4: 0-2歲 | AH4: 3-5歲 | AI4: 6-11歲 | AJ4: 12-14歲 | AK4: 15-17歲 | AL4: 18-29歲 | AM4: 30-44歲 | AN4: 45-49 | AO4: 50-59歲 | AP4: 60-64歲 | AQ4: 65歲以上 | AR4: 總計 | AU4: 極重度 | AX4: 重度 | BA4: 中度 | BD4: 輕度 | BG4: 占總原住民人口比率（％）
