Workbook

Sheet 1150724更新
A1: 身心障礙者友善口腔癌篩檢服務措施資訊
A2: 時間戳記 | B2: 醫事機構代碼 | C2: 醫事機構名稱 | D2: 縣市別 （醫事機構所在地） | E2: 諮詢窗口電話 | F2: 無障礙坡道 | G2: 無障礙廁所 | H2: 無障礙診療椅 | I2: 友善醫療單張(如口腔癌篩檢同意書、流程說明等) | J2: 115年檳榔防制暨口腔癌防治推動工作計畫醫院
A3: 45912.709 | B3: 0101090014 | C3: 臺北市立聯合醫院中興院區 | D3: 臺北市 | E3: 02-25523234分機3689 | F3: v | G3: v | H3: v | I3: 圖文版 | J3: =IF(B3=IFERROR(VLOOKUP(B3,[1]檳榔計畫填答情形!$A$2:$A$122,1,FALSE),""),"v","")
A4: 45908.478 | B4: 0101090517 | C4: 臺北市立聯合醫院 | D4: 臺北市 | E4: 02-27861288分機8201 | F4: v | G4: v | H4: v | I4: 圖文版 | J4: v
A5: 2025/9/116 02:09:28 PM | B5: 0101180036 | C5: 臺北市立聯合醫院和平院區 | D5: 臺北市 | E5: 02-23889595 | F5: v | G5: v | H5: - | I5: -
A6: 45905.561 | B6: 0401020013 | C6: 國立臺灣大學醫學院附設醫院癌醫中心分院 | D6: 臺北市 | E6: 02-23220322分機238224、分機238225 | F6: v | G6: v | H6: - | I6: 圖文版
A7: 45915.43 | B7: 0401180014 | C7: 國立臺灣大學醫學院附設醫院 | D7: 臺北市 | E7: 02-23123456分機266455 | F7: v | G7: v | H7: v | I7: 圖文版, 語音版 | J7: v
A8: 45905.601 | B8: 0401190010 | C8: 國立臺灣大學醫學院附設醫院北護分院 | D8: 臺北市 | E8: 02-23717101分機218335 | F8: v | G8: v | H8: v | I8: 圖文版
A9: 45909.682 | B9: 0501010019 | C9: 三軍總醫院松山分院附設民眾診療服務處 | D9: 臺北市 | E9: 02-27642151 | F9: v | G9: v | H9: - | I9: 圖文版
A10: 45889.696 | B10: 0501110514 | C10: 三軍總醫院附設民眾診療服務處 | D10: 臺北市 | E10: 02- 87923311分機10719 | F10: v | G10: v | H10: v | I10: 圖文版 | J10: v
A11: 45908.385 | B11: 0501160014 | C11: 三軍總醫院北投分院附設民眾診療服務處 | D11: 臺北市 | E11: 02-28959808 | F11: v | G11: v | H11: v | I11: -
A12: 45890.408 | B12: 0601160016 | C12: 臺北榮民總醫院 | D12: 臺北市 | E12: 02-55759923 | F12: v | G12: v | H12: v | I12: -
A13: 45909.559 | B13: 0701160518 | C13: 臺北市立關渡醫院-委託臺北榮民總醫院經營 | D13: 臺北市 | E13: 02-28587000 | F13: v | G13: v | H13: - | I13: 圖文版
A14: 45904.58 | B14: 0901020013 | C14: 中山醫療社團法人中山醫院 | D14: 臺北市 | E14: 02-27081166 | F14: v | G14: v | H14: v | I14: 圖文版
A15: 45912.491 | B15: 0901190010 | C15: 西園醫療社團法人西園醫院 | D15: 臺北市 | E15: 02-23076968 | F15: v | G15: v | H15: - | I15: -
A16: 45908.763 | B16: 1101010012 | C16: 長庚醫療財團法人台北長庚紀念醫院 | D16: 臺北市 | E16: 02-27135211 | F16: v | G16: v | H16: v | I16: -
A17: 45904.477 | B17: 1101010021 | C17: 基督復臨安息日會醫療財團法人臺安醫院 | D17: 臺北市 | E17: 02-27718151分機2336、分機2333、分機2339 | F17: v | G17: v | H17: v | I17: 圖文版
A18: 45889.645 | B18: 1101020018 | C18: 國泰醫療財團法人國泰綜合醫院 | D18: 臺北市 | E18: 02-27082121分機5178、分機1046、分機1047 | F18: v | G18: v | H18: v | I18: 圖文版 | J18: v
A19: 45903.471 | B19: 1101100011 | C19: 台灣基督長老教會馬偕醫療財團法人馬偕紀念醫院 | D19: 臺北市 | E19: 02-25433535分機3489、分機3490 | F19: v | G19: v | H19: v | I19: 圖文版 | J19: v
A20: 45905.863 | B20: 1101110026 | C20: 康寧醫療財團法人康寧醫院 | D20: 臺北市 | E20: 02-26345500分機2066 | F20: v | G20: v | H20: - | I20: -
A21: 45891.683 | B21: 1101150011 | C21: 新光醫療財團法人新光吳火獅紀念醫院 | D21: 臺北市 | E21: 02-28332211分機2577 | F21: v | G21: v | H21: v | I21: 圖文版 | J21: v
A22: 45905.438 | B22: 1101160017 | C22: 振興醫療財團法人振興醫院 | D22: 臺北市 | E22: 02-28264400分機2556 | F22: v | G22: v | H22: v | I22: 圖文版, 語音版
A23: 45891.751 | B23: 1101160026 | C23: 醫療財團法人辜公亮基金會和信治癌中心醫院 | D23: 臺北市 | E23: 02-28970011分機3240 | F23: v | G23: v | H23: v | I23: 圖文版 | J23: v
A24: 45909.511 | B24: 1301110511 | C24: 中國醫藥大學附設醫院臺北分院 | D24: 臺北市 | E24: 02-27910008分機3613 | F24: v | G24: v | H24: - | I24: 圖文版
A25: 45890.488 | B25: 1301170017 | C25: 臺北醫學大學附設醫院 | D25: 臺北市 | E25: 02-27372181分機8223 | F25: v | G25: v | H25: v | I25: 圖文版 | J25: v
A26: 45889.477 | B26: 1301200010 | C26: 臺北市立萬芳醫院－委託臺北醫學大學辦理 | D26: 臺北市 | E26: 02-2930-7930分機1667、分機1668 | F26: v | G26: v | H26: - | I26: - | J26: v
A27: 45905.434 | B27: 1401190011 | C27: 財團法人台灣省私立台北仁濟院附設仁濟醫院 | D27: 臺北市 | E27: 02-23021133 | F27: v | G27: v | H27: - | I27: -
A28: 45918.701 | B28: 1701110019 | C28: 德威國際牙醫口腔醫院 | D28: 臺北市 | E28: 02-27990123 | F28: v | G28: v | H28: v | I28: -
A29: 45919.431 | B29: 1101020036 | C29: 宏恩醫療財團法人宏恩綜合醫院 | D29: 臺北市 | E29: 02-27713161分機129 | F29: v | G29: v | H29: v | I29: -
A30: 45931.612 | B30: 1101020027 | C30: 中心診所醫療財團法人中心綜合醫院 | D30: 臺北市 | E30: 02-27510221分機5013 | F30: v | G30: v | H30: v | I30: 圖文版
A31: 45910.924 | B31: 1531051163 | C31: 豐榮醫院 | D31: 新北市 | E31: 02-22120379分機888 | F31: v | G31: v | H31: - | I31: -
A32: 45905.698 | B32: 2331020012 | C32: 新北市三重區衛生所 | D32: 新北市 | E32: 02-29825233 | F32: v | G32: v | H32: - | I32: 圖文版
A33: 45894.604 | B33: 0131020016 | C33: 新北市立聯合醫院 | D33: 新北市 | E33: 02-29829111分機3582 | F33: v | G33: v | H33: v | I33: 圖文版 | J33: v
A34: 45902.709 | B34: 0131060010 | C34: 衛生福利部樂生療養院 | D34: 新北市 | E34: 02-82006600分機2129、分機2130 | F34: v | G34: v | H34: - | I34: 圖文版
A35: 45902.702 | B35: 0131060029 | C35: 衛生福利部臺北醫院 | D35: 新北市 | E35: 02-22765566分機1249 | F35: v | G35: v | H35: - | I35: 圖文版
A36: 45896.424 | B36: 0431270012 | C36: 國立臺灣大學醫學院附設醫院金山分院 | D36: 新北市 | E36: 02-24989898分機2502 | F36: v | G36: v | H36: - | I36: 圖文版 | J36: v
A37: 45895.68 | B37: 1131010011 | C37: 醫療財團法人徐元智先生醫藥基金會亞東紀念醫院 | D37: 新北市 | E37: 02-89667000分機4271 | F37: v | G37: v | H37: v | I37: 圖文版 | J37: v
A38: 45890.404 | B38: 1131090019 | C38: 行天宮醫療志業醫療財團法人恩主公醫院 | D38: 新北市 | E38: 02-26723456分機8708 | F38: v | G38: v | H38: - | I38: - | J38: v
A39: 45889.483 | B39: 1131110516 | C39: 國泰醫療財團法人汐止國泰綜合醫院 | D39: 新北市 | E39: 02-2648-2121分機8656 | F39: v | G39: v | H39: - | I39: - | J39: v
A40: 45889.475 | B40: 1231050017 | C40: 天主教耕莘醫療財團法人耕莘醫院 | D40: 新北市 | E40: 02-22193391分機66362 | F40: v | G40: v | H40: - | I40: 圖文版 | J40: v
...

Sheet 縣市家數統計
A1: 縣市別 | B1: 數量
A2: 臺北市 | B2: =COUNTIF('1150724更新'!D:D,縣市家數統計!A2) -> 28
A3: 新北市 | B3: =COUNTIF('1150724更新'!D:D,縣市家數統計!A3) -> 46
A4: 桃園市 | B4: =COUNTIF('1150724更新'!D:D,縣市家數統計!A4) -> 60
A5: 臺中市 | B5: =COUNTIF('1150724更新'!D:D,縣市家數統計!A5) -> 28
A6: 臺南市 | B6: =COUNTIF('1150724更新'!D:D,縣市家數統計!A6) -> 16
A7: 高雄市 | B7: =COUNTIF('1150724更新'!D:D,縣市家數統計!A7) -> 29
A8: 新竹縣 | B8: =COUNTIF('1150724更新'!D:D,縣市家數統計!A8) -> 12
A9: 彰化縣 | B9: =COUNTIF('1150724更新'!D:D,縣市家數統計!A9) -> 41
A10: 雲林縣 | B10: =COUNTIF('1150724更新'!D:D,縣市家數統計!A10) -> 16
A11: 屏東縣 | B11: =COUNTIF('1150724更新'!D:D,縣市家數統計!A11) -> 6
A12: 基隆市 | B12: =COUNTIF('1150724更新'!D:D,縣市家數統計!A12) -> 12
A13: 宜蘭縣 | B13: =COUNTIF('1150724更新'!D:D,縣市家數統計!A13) -> 20
... A23: 連江縣 | B23: =COUNTIF('1150724更新'!D:D,縣市家數統計!A23) -> 0
A24: 合計 | B24: =SUM(B2:B23) -> 392

Sheet 表單回應0916
A1: 時間戳記 | B1: 機構代碼 | C1: 機構名稱 | D1: 縣市別（醫院所在地） | E1: 諮詢窗口電話 | F1: 無障礙坡道 | G1: 無障礙廁所 | H1: 無障礙診療椅 | I1: 友善醫療單張(如口腔癌篩檢同意書、流程說明) | J1: 友善醫療單張(如口腔癌篩檢同意書、流程說明) | K1: 114年檳榔計畫院所
A2: 45889.449 | B2: 0439010518 | C2: 台大雲林分院 | D2: 雲林縣 | E2: 05-5323911轉564601 | F2: 有 | G2: 有 | H2: 沒有 | I2: 有 | J2: 圖文版 | K2: =IF(B2=IFERROR(VLOOKUP(B2,[1]檳榔計畫填答情形!$A$2:$A$122,1,FALSE),""),"v","") -> v
A3: 45889.451 | B3: 1142010518 | C3: 高雄市立鳳山醫院(委託長庚醫療財團法人經營) | D3: 高雄市 | E3: 07-7418151 #2300 | F3: 有 | G3: 有 | H3: 有 | I3: 有 | J3: 圖文版 | K3: =IF(B3=IFERROR(VLOOKUP(B3,[1]檳榔計畫填答情形!$A$2:$A$122,1,FALSE),""),"v","") -> v
A4: 45889.454 | B4: 0936030018 | C4: 李綜合醫療社團法人大甲李綜合醫院 | D4: 臺中市 | E4: 0426862288分機2110 | F4: 有 | G4: 有 | H4: 沒有 | I4: 無 | K4: =IF(B4=IFERROR(VLOOKUP(B4,[1]檳榔計畫填答情形!$A$2:$A$122,1,FALSE),""),"v","") -> v
A5: 45889.458 | B5: 1502040021 | C5: 健仁醫院 | D5: 高雄市 | E5: 07-3517166轉3602 | F5: 有 | G5: 有 | H5: 沒有 | I5: 無 | K5: =IF(B5=IFERROR(VLOOKUP(B5,[1]檳榔計畫填答情形!$A$2:$A$122,1,FALSE),""),"v","") -> v
A6: 45889.46 | B6: 1101100011 | C6: 台灣基督長老教會馬偕醫療財團法人馬偕紀念醫院 | D6: 台北市 | E6: 02-25433535分機3489或3490 | F6: 有 | G6: 有 | H6: 有 | I6: 有 | J6: 圖文版 | K6: =IF(B6=IFERROR(VLOOKUP(B6,[1]檳榔計畫填答情形!$A$2:$A$122,1,FALSE),""),"v","") -> v
A7: 45889.462 | B7: 1542050056 | C7: 建佑醫院 | D7: 高雄市 | E7: 07-6437901分機967、分機962 | F7: 有 | G7: 有 | H7: 沒有 | I7: 無 | K7: =IF(B7=IFERROR(VLOOKUP(B7,[1]檳榔計畫填答情形!$A$2:$A$122,1,FALSE),""),"v","") -> v
A8: 45889.462 | B8: 0937010019 | C8: 秀傳醫療社團法人秀傳紀念醫院 | D8: 彰化縣 | E8: 04-7256166-85052 | F8: 有 | G8: 有 | H8: 沒有 | I8: 有 | J8: 圖文版 | K8: =IF(B8=IFERROR(VLOOKUP(B8,[1]檳榔計畫填答情形!$A$2:$A$122,1,FALSE),""),"v","") -> v
A9: 45889.464 | B9: 0936050029 | C9: 光田綜合醫院 | D9: 台中市 | E9: 04-26885599分機5271 | F9: 有 | G9: 有 | H9: 有 | I9: 無 | K9: =IF(B9=IFERROR(VLOOKUP(B9,[1]檳榔計畫填答情形!$A$2:$A$122,1,FALSE),""),"v","") -> v
A10: 45889.465 | B10: 0138010027 | C10: 衛生福利部南投醫院 | D10: 南投縣 | E10: 049-2231150#2326 | F10: 有 | G10: 有 | H10: 有 | I10: 有 | J10: 圖文版 | K10: =IF(B10=IFERROR(VLOOKUP(B10,[1]檳榔計畫填答情形!$A$2:$A$122,1,FALSE),""),"v","") -> v
A11: 45889.465 | B11: 0903150014 | C11: 林新醫療社團法人烏日林新醫院 | D11: 台中市 | E11: 04-23388766#6391 | F11: 沒有 | G11: 有 | H11: 沒有 | I11: 有 | J11: 圖文版 | K11: =IF(B11=IFERROR(VLOOKUP(B11,[1]檳榔計畫填答情形!$A$2:$A$122,1,FALSE),""),"v","") -> v
A12: 45889.465 | B12: 1522011115 | C12: 陽明醫院 | D12: 嘉義市 | E12: 05-2252000分機3786、3787 | F12: 有 | G12: 有 | H12: 沒有 | I12: 無 | K12: =IF(B12=IFERROR(VLOOKUP(B12,[1]檳榔計畫填答情形!$A$2:$A$122,1,FALSE),""),"v","") -> v
A13: 45889.466 | B13: 0936060016 | C13: 童綜合醫院 | D13: 台中市 | E13: 04-26581919轉分機3519 | F13: 有 | G13: 有 | H13: 有 | I13: 有 | J13: 圖文版 | K13: =IF(B13=IFERROR(VLOOKUP(B13,[1]檳榔計畫填答情形!$A$2:$A$122,1,FALSE),""),"v","") -> v
A14: 45889.468 | B14: 1122010021 | C14: 天主教中華聖母修女會醫療財團法人天主教聖馬爾定醫院 | D14: 嘉義市 | E14: 05-2756322 | F14: 有 | G14: 有 | H14: 沒有 | I14: 有 | J14: 圖文版 | K14: =IF(B14=IFERROR(VLOOKUP(B14,[1]檳榔計畫填答情形!$A$2:$A$122,1,FALSE),""),"v","") -> v
A15: 45889.468 | B15: 1134020028 | C15: 聖母醫院 | D15: 宜蘭縣 | E15: 039544106#6238 | F15: 有 | G15: 有 | H15: 有 | I15: 有 | J15: 圖文版 | K15: =IF(B15=IFERROR(VLOOKUP(B15,[1]檳榔計畫填答情形!$A$2:$A$122,1,FALSE),""),"v","") -> v
A16: 45889.468 | B16: 0942020019 | C16: 高雄市立岡山醫院(委託秀傳醫療社團法人經營) | D16: 高雄市 | E16: (07)6222131#59175或59177 | F16: 有 | G16: 有 | H16: 沒有 | I16: 無 | K16: =IF(B16=IFERROR(VLOOKUP(B16,[1]檳榔計畫填答情形!$A$2:$A$122,1,FALSE),""),"v","") -> v
A17: 45889.47 | B17: 1139010013 | C17: 佛教慈濟醫療財團法人斗六慈濟醫院 | D17: 雲林縣 | E17: 055372000轉712 | F17: 有 | G17: 有 | H17: 沒有 | I17: 無 | K17: =IF(B17=IFERROR(VLOOKUP(B17,[1]檳榔計畫填答情形!$A$2:$A$122,1,FALSE),""),"v","") -> v
A18: 45889.474 | B18: 0117030010 | C18: 衛生福利部臺中醫院 | D18: 台中市 | E18: (04)22294411 分機2159 | F18: 有 | G18: 有 | H18: 有 | I18: 有 | J18: 圖文版 | K18: =IF(B18=IFERROR(VLOOKUP(B18,[1]檳榔計畫填答情形!$A$2:$A$122,1,FALSE),""),"v","") -> v
A19: 45889.474 | B19: 0936060016 | C19: 童綜合醫院 | D19: 台中市 | E19: 04-2658-1919轉分機3519 | F19: 有 | G19: 有 | H19: 沒有 | I19: 有 | J19: 圖文版 | K19: =IF(B19=IFERROR(VLOOKUP(B19,[1]檳榔計畫填答情形!$A$2:$A$122,1,FALSE),""),"v","") -> v
A20: 45889.475 | B20: 1139040011 | C20: 彰化基督教醫療財團法人雲林基督教醫院 | D20: 雲林縣 | E20: 05-5871111#2025 | F20: 有 | G20: 有 | H20: 沒有 | I20: 無 | K20: =IF(B20=IFERROR(VLOOKUP(B20,[1]檳榔計畫填答情形!$A$2:$A$122,1,FALSE),""),"v","") -> v
A21: 45889.475 | B21: 1231050017 | C21: 新店耕莘醫院 | D21: 新店區 | E21: 02-22193391 分機66362 | F21: 有 | G21: 有 | H21: 沒有 | I21: 有 | J21: 圖文版 | K21: =IF(B21=IFERROR(VLOOKUP(B21,[1]檳榔計畫填答情形!$A$2:$A$122,1,FALSE),""),"v","") -> v
A22: 45889.476 | B22: 1138010019 | C22: 彰化基督教醫療財團法人南投基督教醫院 | D22: 南投縣 | E22: 049-2225595分機2003 | F22: 有 | G22: 有 | H22: 沒有 | I22: 無 | K22: =IF(B22=IFERROR(VLOOKUP(B22,[1]檳榔計畫填答情形!$A$2:$A$122,1,FALSE),""),"v","") -> v
A23: 45889.477 | B23: 1301200010 | C23: 臺北市立萬芳醫院 | D23: 台北市 | E23: 2930-7930#1667.1668 | F23: 有 | G23: 有 | H23: 沒有 | I23: 無 | K23: =IF(B23=IFERROR(VLOOKUP(B23,[1]檳榔計畫填答情形!$A$2:$A$122,1,FALSE),""),"v","") -> v
A24: 45889.477 | B24: 0938040012 | C24: 竹山秀傳醫療社團法人竹山秀傳醫院 | D24: 南投縣 | E24: 32224 | F24: 有 | G24: 有 | H24: 沒有 | I24: 無 | K24: =IF(B24=IFERROR(VLOOKUP(B24,[1]檳榔計畫填答情形!$A$2:$A$122,1,FALSE),""),"v","") -> v
A25: 45889.481 | B25: 2334070014 | C25: 員山鄉衛生所 | D25: 宜蘭縣 | E25: 9221575 | F25: 有 | G25: 有 | H25: 有 | I25: 無 | K25: =IF(B25=IFERROR(VLOOKUP(B25,[1]檳榔計畫填答情形!$A$2:$A$122,1,FALSE),""),"v","")
A26: 45889.482 | B26: 2334090016 | C26: 宜蘭縣五結鄉衛生所 | D26: 宜蘭縣 | E26: 03-9501564(分機20) | F26: 有 | G26: 有 | H26: 沒有 | I26: 無 | K26: =IF(B26=IFERROR(VLOOKUP(B26,[1]檳榔計畫填答情形!$A$2:$A$122,1,FALSE),""),"v","")
A27: 45889.482 | B27: 0145010019 | C27: 衛生福利部花蓮醫院 | D27: 花蓮縣 | E27: 03-8358141#3180 | F27: 沒有 | G27: 沒有 | H27: 沒有 | I27: 有 | J27: 圖文版 | K27: =IF(B27=IFERROR(VLOOKUP(B27,[1]檳榔計畫填答情形!$A$2:$A$122,1,FALSE),""),"v","") -> v
A28: 45889.482 | B28: 2334010018 | C28: 宜蘭縣宜蘭市衛生所 | D28: 宜蘭縣 | E28: 03-9322362 | F28: 有 | G28: 有 | H28: 有 | I28: 有 | J28: 語音版 | K28: =IF(B28=IFERROR(VLOOKUP(B28,[1]檳榔計畫填答情形!$A$2:$A$122,1,FALSE),""),"v","")
A29: 45889.483 | B29: 1131110516 | C29: 汐止國泰綜合醫院 | D29: 新北市 | E29: (02)2648-2121#8656 | F29: 有 | G29: 有 | H29: 沒有 | I29: 無 | K29: =IF(B29=IFERROR(VLOOKUP(B29,[1]檳榔計畫填答情形!$A$2:$A$122,1,FALSE),""),"v","") -> v
A30: 45889.484 | B30: 0536190011 | C30: 國軍臺中總醫院附設民眾診療服務處 | D30: 臺中市 | E30: 04-23934191#525409 | F30: 有 | G30: 有 | H30: 沒有 | I30: 有 | J30: 圖文版 | K30: =IF(B30=IFERROR(VLOOKUP(B30,[1]檳榔計畫填答情形!$A$2:$A$122,1,FALSE),""),"v","") -> v
A31: 45889.485 | B31: 2334050012 | C31: 礁溪鄉衛生所 | D31: 宜蘭縣 | E31: 03-9882908 | F31: 有 | G31: 有 | H31: 沒有 | I31: 有 | J31: 圖文版 | K31: =IF(B31=IFERROR(VLOOKUP(B31,[1]檳榔計畫填答情形!$A$2:$A$122,1,FALSE),""),"v","")
A32: 45889.488 | B32: 2334030010 | C32: 宜蘭縣蘇澳鎮衛生所 | D32: 宜蘭縣 | E32: 039962185 | F32: 有 | G32: 有 | H32: 沒有 | I32: 有 | J32: 圖文版 | K32: =IF(B32=IFERROR(VLOOKUP(B32,[1]檳榔計畫填答情形!$A$2:$A$122,1,FALSE),""),"v","")
A33: 45889.491 | B33: 2334120019 | C33: 宜蘭縣南澳鄉衛生所 | D33: 宜蘭縣 | E33: 039981019 | F33: 有 | G33: 有 | H33: 有 | I33: 有 | J33: 圖文版 | K33: =IF(B33=IFERROR(VLOOKUP(B33,[1]檳榔計畫填答情形!$A$2:$A$122,1,FALSE),""),"v","")
A34: 45889.491 | B34: 0902080013 | C34: 阮綜合醫療社團法人阮綜合醫院 | D34: 高雄市 | E34: 3351121-1618 | F34: 有 | G34: 有 | H34: 沒有 | I34: 有 | J34: 圖文版 | K34: =IF(B34=IFERROR(VLOOKUP(B34,[1]檳榔計畫填答情形!$A$2:$A$122,1,FALSE),""),"v","") -> v
A35: 45889.492 | B35: 1102110011 | C35: 高雄市立小港醫院 | D35: 高雄市 | E35: 07-8036783轉3428 | F35: 有 | G35: 有 | H35: 沒有 | I35: 無 | K35: =IF(B35=IFERROR(VLOOKUP(B35,[1]檳榔計畫填答情形!$A$2:$A$122,1,FALSE),""),"v","") -> v
A36: 45889.494 | B36: 2337100019 | C36: 彰化縣伸港鄉衛生所 | D36: 彰化縣 | E36: 04-7060335 | F36: 有 | G36: 有 | H36: 有 | I36: 有 | J36: 圖文版 | K36: =IF(B36=IFERROR(VLOOKUP(B36,[1]檳榔計畫填答情形!$A$2:$A$122,1,FALSE),""),"v","")
A37: 45889.494 | B37: 3764203421 | C37: 宜蘭縣羅東鎮衛生所 | D37: 宜蘭縣 | E37: 039542321 | F37: 有 | G37: 有 | H37: 沒有 | I37: 有 | J37: 圖文版 | K37: =IF(B37=IFERROR(VLOOKUP(B37,[1]檳榔計畫填答情形!$A$2:$A$122,1,FALSE),""),"v","")
A38: 45889.494 | B38: 2334040016 | C38: 宜蘭縣頭城鎮衛生所 | D38: 宜蘭縣 | E38: 03-9771034 分機201 | F38: 有 | G38: 有 | H38: 沒有 | I38: 無 | K38: =IF(B38=IFERROR(VLOOKUP(B38,[1]檳榔計畫填答情形!$A$2:$A$122,1,FALSE),""),"v","")
A39: 45889.494 | B39: 2334100017 | C39: 宜蘭縣三星鄉衛生所 | D39: 宜蘭縣 | E39: 03-9892227 | F39: 有 | G39: 有 | H39: 沒有 | I39: 有 | J39: 圖文版 | K39: =IF(B39=IFERROR(VLOOKUP(B39,[1]檳榔計畫填答情形!$A$2:$A$122,1,FALSE),""),"v","")
A40: 45889.496 | B40: 2334081026 | C40: 宜蘭縣冬山鄉衛生所 | D40: 宜蘭縣 | E40: 9594772 | F40: 有 | G40: 有 | H40: 沒有 | I40: 無 | K40: =IF(B40=IFERROR(VLOOKUP(B40,[1]檳榔計畫填答情形!$A$2:$A$122,1,FALSE),""),"v","")
...
