Workbook

Sheet 1150724更新
A1: 身心障礙者友善口腔癌篩檢服務措施資訊
A2: 時間戳記 | B2: 醫事機構代碼 | C2: 醫事機構名稱 | D2: 縣市別 （醫事機構所在地） | E2: 諮詢窗口電話 | F2: 無障礙坡道 | G2: 無障礙廁所 | H2: 無障礙診療椅 | I2: 友善醫療單張(如口腔癌篩檢同意書、流程說明等) | J2: 115年檳榔防制暨口腔癌防治推動工作計畫醫院
A3: 45912.709 | B3: 0101090014 | C3: 臺北市立聯合醫院中興院區 | D3: 臺北市 | E3: 02-25523234分機3689 | F3: v | G3: v | H3: v | I3: 圖文版 | J3: =IF(B3=IFERROR(VLOOKUP(B3,[1]檳榔計畫填答情形!$A$2:$A$122,1,FALSE),""),"v","")
A4: 45908.478 | B4: 0101090517 | C4: 臺北市立聯合醫院 | D4: 臺北市 | E4: 02-27861288分機8201 | F4: v | G4: v | H4: v | I4: 圖文版 | J4: v
A5: 2025/9/116 02:09:28 PM | B5: 0101180036 | C5: 臺北市立聯合醫院和平院區 | D5: 臺北市 | E5: 02-23889595 | F5: v | G5: v | H5: - | I5: -
A6: 45905.561 | B6: 0401020013 | C6: 國立臺灣大學醫學院附設醫院癌醫中心分院 | D6: 臺北市 | E6: 02-23220322分機238224、分機238225 | F6: v | G6: v | H6: - | I6: 圖文版
A7: 45915.43 | B7: 0401180014 | C7: 國立臺灣大學醫學院附設醫院 | D7: 臺北市 | E7: 02-23123456分機266455 | F7: v | G7: v | H7: v | I7: 圖文版, 語音版 | J7: v
A8: 45905.601 | B8: 0401190010 | C8: 國立臺灣大學醫學院附設醫院北護分院 | D8: 臺北市 | E8: 02-23717101分機218335 | F8: v | G8: v | H8: v | I8: 圖文版
A9: 45909.682 | B9: 0501010019 | C9: 三軍總醫院松山分院附設民眾診療服務處 | D9: 臺北市 | E9: 02-27642151 | F9: v | G9: v | H9: - | I9: 圖文版
A10: 45889.696 | B10: 0501110514 | C10: 三軍總醫院附設民眾診療服務處 | D10: 臺北市 | E10: 02- 87923311分機10719 | F10: v | G10: v | H10: v | I10: 圖文版 | J10: v
A11: 45908.385 | B11: 0501160014 | C11: 三軍總醫院北投分院附設民眾診療服務處 | D11: 臺北市 | E11: 02-28959808 | F11: v | G11: v | H11: v | I11: -
A12: 45890.408 | B12: 0601160016 | C12: 臺北榮民總醫院 | D12: 臺北市 | E12: 02-55759923 | F12: v | G12: v | H12: v | I12: -
A13: 45909.559 | B13: 0701160518 | C13: 臺北市立關渡醫院-委託臺北榮民總醫院經營 | D13: 臺北市 | E13: 02-28587000 | F13: v | G13: v | H13: - | I13: 圖文版
A14: 45904.58 | B14: 0901020013 | C14: 中山醫療社團法人中山醫院 | D14: 臺北市 | E14: 02-27081166 | F14: v | G14: v | H14: v | I14: 圖文版
A15: 45912.491 | B15: 0901190010 | C15: 西園醫療社團法人西園醫院 | D15: 臺北市 | E15: 02-23076968 | F15: v | G15: v | H15: - | I15: -
A16: 45908.763 | B16: 1101010012 | C16: 長庚醫療財團法人台北長庚紀念醫院 | D16: 臺北市 | E16: 02-27135211 | F16: v | G16: v | H16: v | I16: -
A17: 45904.477 | B17: 1101010021 | C17: 基督復臨安息日會醫療財團法人臺安醫院 | D17: 臺北市 | E17: 02-27718151分機2336、分機2333、分機2339 | F17: v | G17: v | H17: v | I17: 圖文版
A18: 45889.645 | B18: 1101020018 | C18: 國泰醫療財團法人國泰綜合醫院 | D18: 臺北市 | E18: 02-27082121分機5178、分機1046、分機1047 | F18: v | G18: v | H18: v | I18: 圖文版 | J18: v
A19: 45903.471 | B19: 1101100011 | C19: 台灣基督長老教會馬偕醫療財團法人馬偕紀念醫院 | D19: 臺北市 | E19: 02-25433535分機3489、分機3490 | F19: v | G19: v | H19: v | I19: 圖文版 | J19: v
A20: 45905.863 | B20: 1101110026 | C20: 康寧醫療財團法人康寧醫院 | D20: 臺北市 | E20: 02-26345500分機2066 | F20: v | G20: v | H20: - | I20: -
A21: 45891.683 | B21: 1101150011 | C21: 新光醫療財團法人新光吳火獅紀念醫院 | D21: 臺北市 | E21: 02-28332211分機2577 | F21: v | G21: v | H21: v | I21: 圖文版 | J21: v
A22: 45905.438 | B22: 1101160017 | C22: 振興醫療財團法人振興醫院 | D22: 臺北市 | E22: 02-28264400分機2556 | F22: v | G22: v | H22: v | I22: 圖文版, 語音版
A23: 45891.751 | B23: 1101160026 | C23: 醫療財團法人辜公亮基金會和信治癌中心醫院 | D23: 臺北市 | E23: 02-28970011分機3240 | F23: v | G23: v | H23: v | I23: 圖文版 | J23: v
A24: 45909.511 | B24: 1301110511 | C24: 中國醫藥大學附設醫院臺北分院 | D24: 臺北市 | E24: 02-27910008分機3613 | F24: v | G24: v | H24: - | I24: 圖文版
A25: 45890.488 | B25: 1301170017 | C25: 臺北醫學大學附設醫院 | D25: 臺北市 | E25: 02-27372181分機8223 | F25: v | G25: v | H25: v | I25: 圖文版 | J25: v
A26: 45889.477 | B26: 1301200010 | C26: 臺北市立萬芳醫院－委託臺北醫學大學辦理 | D26: 臺北市 | E26: 02-2930-7930分機1667、分機1668 | F26: v | G26: v | H26: - | I26: - | J26: v
A27: 45905.434 | B27: 1401190011 | C27: 財團法人台灣省私立台北仁濟院附設仁濟醫院 | D27: 臺北市 | E27: 02-23021133 | F27: v | G27: v | H27: - | I27: -
A28: 45918.701 | B28: 1701110019 | C28: 德威國際牙醫口腔醫院 | D28: 臺北市 | E28: 02-27990123 | F28: v | G28: v | H28: v | I28: -
A29: 45919.431 | B29: 1101020036 | C29: 宏恩醫療財團法人宏恩綜合醫院 | D29: 臺北市 | E29: 02-27713161分機129 | F29: v | G29: v | H29: v | I29: -
A30: 45931.612 | B30: 1101020027 | C30: 中心診所醫療財團法人中心綜合醫院 | D30: 臺北市 | E30: 02-27510221分機5013 | F30: v | G30: v | H30: v | I30: 圖文版
A31: 45910.924 | B31: 1531051163 | C31: 豐榮醫院 | D31: 新北市 | E31: 02-22120379分機888 | F31: v | G31: v | H31: - | I31: -
A32: 45905.698 | B32: 2331020012 | C32: 新北市三重區衛生所 | D32: 新北市 | E32: 02-29825233 | F32: v | G32: v | H32: - | I32: 圖文版
A33: 45894.604 | B33: 0131020016 | C33: 新北市立聯合醫院 | D33: 新北市 | E33: 02-29829111分機3582 | F33: v | G33: v | H33: v | I33: 圖文版 | J33: v
A34: 45902.709 | B34: 0131060010 | C34: 衛生福利部樂生療養院 | D34: 新北市 | E34: 02-82006600分機2129、分機2130 | F34: v | G34: v | H34: - | I34: 圖文版
A35: 45902.702 | B35: 0131060029 | C35: 衛生福利部臺北醫院 | D35: 新北市 | E35: 02-22765566分機1249 | F35: v | G35: v | H35: - | I35: 圖文版
A36: 45896.424 | B36: 0431270012 | C36: 國立臺灣大學醫學院附設醫院金山分院 | D36: 新北市 | E36: 02-24989898分機2502 | F36: v | G36: v | H36: - | I36: 圖文版 | J36: v
A37: 45895.68 | B37: 1131010011 | C37: 醫療財團法人徐元智先生醫藥基金會亞東紀念醫院 | D37: 新北市 | E37: 02-89667000分機4271 | F37: v | G37: v | H37: v | I37: 圖文版 | J37: v
A38: 45890.404 | B38: 1131090019 | C38: 行天宮醫療志業醫療財團法人恩主公醫院 | D38: 新北市 | E38: 02-26723456分機8708 | F38: v | G38: v | H38: - | I38: - | J38: v
A39: 45889.483 | B39: 1131110516 | C39: 國泰醫療財團法人汐止國泰綜合醫院 | D39: 新北市 | E39: 02-2648-2121分機8656 | F39: v | G39: v | H39: - | I39: - | J39: v
A40: 45889.475 | B40: 1231050017 | C40: 天主教耕莘醫療財團法人耕莘醫院 | D40: 新北市 | E40: 02-22193391分機66362 | F40: v | G40: v | H40: - | I40: 圖文版 | J40: v
A41: 45895.727 | B41: 1331040513 | C41: 衛生福利部雙和醫院〈委託臺北醫學大學興建經營〉 | D41: 新北市 | E41: 02-22490088分機1262 | F41: v | G41: v | H41: - | I41: - | J41: v
A42: 45891.659 | B42: 1331160010 | C42: 輔仁大學學校財團法人輔仁大學附設醫院 | D42: 新北市 | E42: 02-85128888分機21763 | F42: v | G42: v | H42: - | I42: 圖文版 | J42: v
A43: 45904.622 | B43: 1431060017 | C43: 財團法人台灣省私立台北仁濟院附設新莊仁濟醫院 | D43: 新北市 | E43: 02-22015222 | F43: v | G43: v | H43: - | I43: -
A44: 45905.49 | B44: 1531010279 | C44: 板橋中興醫院 | D44: 新北市 | E44: 02-29590707分機280 | F44: - | G44: - | H44: - | I44: -
A45: 45910.492 | B45: 1531041390 | C45: 怡和醫院 | D45: 新北市 | E45: 02-22450009分機112 | F45: - | G45: v | H45: - | I45: -
A46: 45910.466 | B46: 1531050086 | C46: 宏慈療養院 | D46: 新北市 | E46: 02-22151100 | F46: v | G46: v | H46: - | I46: -
A47: 45904.717 | B47: 1531051172 | C47: 新北仁康醫院 | D47: 新北市 | E47: 02-22152345 | F47: v | G47: v | H47: - | I47: -
A48: 45923.684 | B48: 1231030015 | C48: 天主教耕莘醫療財團法人永和耕莘醫院 | D48: 新北市 | E48: 02-29286060 | F48: v | G48: v | H48: - | I48: -
A49: 46138.487 | B49: 3731132598 | C49: 星承牙醫診所 | D49: 新北市 | E49: 02-22602888 | F49: v | G49: v | H49: v | I49: 圖文版
A50: 45902.569 | B50: 2331010016 | C50: 新北市板橋區衛生所 | D50: 新北市 | E50: 02-22586606 | F50: v | G50: v | H50: - | I50: -
A51: 45903.607 | B51: 2331030018 | C51: 新北市永和區衛生所 | D51: 新北市 | E51: 02-32332780 | F51: v | G51: v | H51: v | I51: 圖文版
A52: 45903.575 | B52: 2331040014 | C52: 新北市中和區衛生所 | D52: 新北市 | E52: 02-2249-1936 | F52: v | G52: v | H52: v | I52: 圖文版
A53: 45904.353 | B53: 2331050010 | C53: 新北市新店區衛生所 | D53: 新北市 | E53: 02-29113984 | F53: v | G53: v | H53: - | I53: -
A54: 45910.674 | B54: 2331060016 | C54: 新北市新莊區衛生所 | D54: 新北市 | E54: 02-29967123分機315 | F54: v | G54: v | H54: - | I54: -
... A76: 45912.838 | B76: 3531133868 | C76: 同心學府診所 | D76: 新北市 | E76: 02-77179713 | F76: v | G76: - | H76: - | I76: -
A77: 45889.594 | B77: 0132010014 | C77: 衛生福利部桃園醫院 | D77: 桃園市 | E77: 03-3699721分機1092 | F77: v | G77: v | H77: - | I77: - | J77: v
A78: 45904.46 | B78: 0132110519 | C78: 衛生福利部桃園醫院新屋分院 | D78: 桃園市 | E78: 03-4971989分機5128 | F78: v | G78: v | H78: - | I78: -
A79: 45912.36 | B79: 0532090029 | C79: 國軍桃園總醫院附設民眾診療服務處 | D79: 桃園市 | E79: 03-4799595分機326202 | F79: v | G79: v | H79: - | I79: 圖文版, 語音版
A80: 45905.667 | B80: 0632010014 | C80: 臺北榮民總醫院桃園分院 | D80: 桃園市 | E80: 03-3384889分機2118 | F80: v | G80: v | H80: - | I80: -
A81: 45909.69 | B81: 0932020025 | C81: 天成醫療社團法人天晟醫院 | D81: 桃園市 | E81: 03-4629292分機21105 | F81: v | G81: v | H81: - | I81: 圖文版 | J81: v
A82: 45909.408 | B82: 1132010024 | C82: 沙爾德聖保祿修女會醫療財團法人聖保祿醫院 | D82: 桃園市 | E82: 03-3773350 | F82: v | G82: v | H82: - | I82: - | J82: v
A83: 45908.762 | B83: 1132070011 | C83: 長庚醫療財團法人林口長庚紀念醫院 | D83: 桃園市 | E83: 03-3281200 | F83: v | G83: v | H83: v | I83: - | J83: v
A84: 45908.444 | B84: 1132071036 | C84: 長庚醫療財團法人桃園長庚紀念醫院 | D84: 桃園市 | E84: 03-3196200分機3355 | F84: v | G84: v | H84: v | I84: 圖文版
A85: 45908.429 | B85: 1532010120 | C85: 聯新國際醫院桃新分院 | D85: 桃園市 | E85: 03-3325678分機1601、1602 | F85: v | G85: v | H85: - | I85: -
A86: 45904.395 | B86: 1532011154 | C86: 敏盛綜合醫院 | D86: 桃園市 | E86: 03-3179599分機7354 | F86: v | G86: v | H86: - | I86: - | J86: v
A87: 45910.438 | B87: 1532021338 | C87: 中壢長榮醫院 | D87: 桃園市 | E87: 03-4631230分機1917 | F87: v | G87: v | H87: v | I87: 圖文版 | J87: v
A88: 45909.614 | B88: 1532021365 | C88: 華揚醫院 | D88: 桃園市 | E88: 03-4577200分機0115 | F88: v | G88: v | H88: - | I88: -
A89: 45909.481 | B89: 1532021374 | C89: 長慎醫院 | D89: 桃園市 | E89: 03-4569779分機101 | F89: v | G89: v | H89: - | I89: 圖文版
A90: 45909.642 | B90: 1532021392 | C90: 中美醫院 | D90: 桃園市 | E90: 03-4266222分機567 | F90: v | G90: v | H90: - | I90: -
A91: 45911.581 | B91: 1532040039 | C91: 天成醫院 | D91: 桃園市 | E91: 03-4782350分機62027 | F91: v | G91: v | H91: v | I91: - | J91: v
A92: 45905.486 | B92: 1532040066 | C92: 怡仁綜合醫院 | D92: 桃園市 | E92: 03-4855566分機6128 | F92: v | G92: v | H92: - | I92: 圖文版 | J92: v
A93: 45908.505 | B93: 1532091081 | C93: 龍潭敏盛醫院 | D93: 桃園市 | E93: 03-4794151分機5505 | F93: v | G93: v | H93: - | I93: 圖文版 | J93: v
A94: 45904.521 | B94: 1532100049 | C94: 聯新國際醫院 | D94: 桃園市 | E94: 03-4941234分機4165 | F94: v | G94: v | H94: - | I94: - | J94: v
A95: 45911.73 | B95: 1532101091 | C95: 陽明醫院 | D95: 桃園市 | E95: 03-4929929分機102 | F95: v | G95: v | H95: v | I95: 圖文版
A96: 45908.648 | B96: 2332010010 | C96: 桃園市桃園區衛生所 | D96: 桃園市 | E96: 03-3791888分機31 | F96: v | G96: v | H96: - | I96: 圖文版
A97: 45908.554 | B97: 2332030012 | C97: 桃園市大溪區衛生所 | D97: 桃園市 | E97: 03-3882401 | F97: v | G97: v | H97: - | I97: 圖文版
A98: 45904.348 | B98: 2332060010 | C98: 桃園市大園區衛生所 | D98: 桃園市 | E98: 03-3862024 | F98: v | G98: v | H98: - | I98: 圖文版
A99: 45905.389 | B99: 2332070016 | C99: 桃園市龜山區衛生所 | D99: 桃園市 | E99: 03-3299645分機312 | F99: v | G99: v | H99: - | I99: -
A100: 45904.567 | B100: 2332090018 | C100: 桃園市龍潭區衛生所 | D100: 桃園市 | E100: 03-4792033 | F100: v | G100: v | H100: v | I100: 圖文版
A101: 45903.798 | B101: 2332100019 | C101: 桃園市平鎮區衛生所 | D101: 桃園市 | E101: 03-4576624 | F101: v | G101: v | H101: v | I101: 圖文版
A102: 45904.502 | B102: 2332120011 | C102: 桃園市觀音區衛生所 | D102: 桃園市 | E102: 03-4732031 | F102: v | G102: v | H102: v | I102: 圖文版
A103: 45908.604 | B103: 3532012804 | C103: 柯福順耳鼻喉科診所 | D103: 桃園市 | E103: 03-2201122 | F103: v | G103: v | H103: v | I103: 圖文版
A104: 45910.467 | B104: 3532017238 | C104: 同德診所 | D104: 桃園市 | E104: 03-3577766 | F104: v | G104: - | H104: - | I104: -
A105: 45910.43 | B105: 3532018548 | C105: 敏盛智慧健康管理診所 | D105: 桃園市 | E105: 03-3330567 | F105: v | G105: v | H105: - | I105: 圖文版
A106: 45912.758 | B106: 3532018968 | C106: 同心藝文診所 | D106: 桃園市 | E106: 03-2712002 | F106: - | G106: - | H106: - | I106: -
... A136: 45923.46 | B136: 3732022804 | C136: 宏悅牙醫診所 | D136: 桃園市 | E136: 03-4381226 | F136: - | G136: - | H136: v | I136: -
A137: 45889.474 | B137: 0117030010 | C137: 衛生福利部臺中醫院 | D137: 臺中市 | E137: 04-22294411分機2159 | F137: v | G137: v | H137: v | I137: 圖文版 | J137: v
A138: 45890.597 | B138: 0136010010 | C138: 衛生福利部豐原醫院 | D138: 臺中市 | E138: 04-25271180分機1122、分機2681、分機2191 | F138: v | G138: v | H138: v | I138: - | J138: v
A139: 45889.484 | B139: 0536190011 | C139: 國軍臺中總醫院附設民眾診療服務處 | D139: 臺中市 | E139: 04-23934191分機525409 | F139: v | G139: v | H139: - | I139: 圖文版 | J139: v
A140: 45890.487 | B140: 0617060018 | C140: 臺中榮民總醫院 | D140: 臺中市 | E140: 04-23592525分機3830 | F140: v | G140: v | H140: - | I140: - | J140: v
A141: 45889.465 | B141: 0903150014 | C141: 林新醫療社團法人烏日林新醫院 | D141: 臺中市 | E141: 04-23388766分機6391 | F141: - | G141: v | H141: - | I141: 圖文版 | J141: v
A142: 45894.42 | B142: 0936030018 | C142: 李綜合醫療社團法人大甲李綜合醫院 | D142: 臺中市 | E142: 04-26862288分機2110 | F142: v | G142: - | H142: v | I142: 語音版 | J142: v
A143: 45889.464 | B143: 0936050029 | C143: 光田醫療社團法人光田綜合醫院 | D143: 臺中市 | E143: 04-26885599分機5271 | F143: v | G143: v | H143: v | I143: - | J143: v
A144: 45889.474 | B144: 0936060016 | C144: 童綜合醫療社團法人童綜合醫院 | D144: 臺中市 | E144: 04-26581919分機3519 | F144: v | G144: v | H144: - | I144: 圖文版 | J144: v
A145: 45890.626 | B145: 1103280012 | C145: 醫療財團法人正德癌症醫療基金會佛教正德醫院 | D145: 臺中市 | E145: 04-37026588分機1214 | F145: v | G145: v | H145: v | I145: 圖文版 | J145: v
A146: 45891.449 | B146: 1136200015 | C146: 仁愛醫療財團法人大里仁愛醫院 | D146: 臺中市 | E146: 04-24819900分機11970 | F146: v | G146: v | H146: - | I146: 圖文版 | J146: v
A147: 45908.369 | B147: 1303180011 | C147: 亞洲大學附屬醫院 | D147: 臺中市 | E147: 04-23329888分機1171 | F147: v | G147: v | H147: v | I147: 圖文版 | J147: v
A148: 45890.728 | B148: 1317040011 | C148: 中山醫學大學附設醫院 | D148: 臺中市 | E148: 04-24739595分機21762 | F148: v | G148: v | H148: - | I148: - | J148: v
A149: 45894.579 | B149: 1317050017 | C149: 中國醫藥大學附設醫院 | D149: 臺中市 | E149: 04-22052121分機14823 | F149: v | G149: v | H149: - | I149: 圖文版 | J149: v
A150: 45894.544 | B150: 1436020013 | C150: 東勢區農會附設農民醫院 | D150: 臺中市 | E150: 04-25771919分機676 | F150: v | G150: v | H150: - | I150: 圖文版
...

Sheet 縣市家數統計
A1: 縣市別 | B1: 數量
A2: 臺北市 | B2: =COUNTIF('1150724更新'!D:D,縣市家數統計!A2) -> 28
A3: 新北市 | B3: =COUNTIF('1150724更新'!D:D,縣市家數統計!A3) -> 46
A4: 桃園市 | B4: =COUNTIF('1150724更新'!D:D,縣市家數統計!A4) -> 60
A5: 臺中市 | B5: =COUNTIF('1150724更新'!D:D,縣市家數統計!A5) -> 28
A6: 臺南市 | B6: =COUNTIF('1150724更新'!D:D,縣市家數統計!A6) -> 16
A7: 高雄市 | B7: =COUNTIF('1150724更新'!D:D,縣市家數統計!A7) -> 29
A8: 新竹縣 | B8: =COUNTIF('1150724更新'!D:D,縣市家數統計!A8) -> 12
A9: 彰化縣 | B9: =COUNTIF('1150724更新'!D:D,縣市家數統計!A9) -> 41
A10: 雲林縣 | B10: =COUNTIF('1150724更新'!D:D,縣市家數統計!A10) -> 16
A11: 屏東縣 | B11: =COUNTIF('1150724更新'!D:D,縣市家數統計!A11) -> 6
A12: 基隆市 | B12: =COUNTIF('1150724更新'!D:D,縣市家數統計!A12) -> 12
A13: 宜蘭縣 | B13: =COUNTIF('1150724更新'!D:D,縣市家數統計!A13) -> 20
... A23: 連江縣 | B23: =COUNTIF('1150724更新'!D:D,縣市家數統計!A23) -> 0
A24: 合計 | B24: =SUM(B2:B23) -> 392

Sheet 表單回應0916
A1: 時間戳記 | B1: 機構代碼 | C1: 機構名稱 | D1: 縣市別（醫院所在地） | E1: 諮詢窗口電話 | F1: 無障礙坡道 | G1: 無障礙廁所 | H1: 無障礙診療椅 | I1: 友善醫療單張(如口腔癌篩檢同意書、流程說明) | J1: 友善醫療單張(如口腔癌篩檢同意書、流程說明) | K1: 114年檳榔計畫院所
A2: 45889.449 | B2: 0439010518 | C2: 台大雲林分院 | D2: 雲林縣 | E2: 05-5323911轉564601 | F2: 有 | G2: 有 | H2: 沒有 | I2: 有 | J2: 圖文版 | K2: =IF(B2=IFERROR(VLOOKUP(B2,[1]檳榔計畫填答情形!$A$2:$A$122,1,FALSE),""),"v","") -> v
A3: 45889.451 | B3: 1142010518 | C3: 高雄市立鳳山醫院(委託長庚醫療財團法人經營) | D3: 高雄市 | E3: 07-7418151 #2300 | F3: 有 | G3: 有 | H3: 有 | I3: 有 | J3: 圖文版 | K3: =IF(B3=IFERROR(VLOOKUP(B3,[1]檳榔計畫填答情形!$A$2:$A$122,1,FALSE),""),"v","") -> v
A4: 45889.454 | B4: 0936030018 | C4: 李綜合醫療社團法人大甲李綜合醫院 | D4: 臺中市 | E4: 0426862288分機2110 | F4: 有 | G4: 有 | H4: 沒有 | I4: 無 | K4: =IF(B4=IFERROR(VLOOKUP(B4,[1]檳榔計畫填答情形!$A$2:$A$122,1,FALSE),""),"v","") -> v
A5: 45889.458 | B5: 1502040021 | C5: 健仁醫院 | D5: 高雄市 | E5: 07-3517166轉3602 | F5: 有 | G5: 有 | H5: 沒有 | I5: 無 | K5: =IF(B5=IFERROR(VLOOKUP(B5,[1]檳榔計畫填答情形!$A$2:$A$122,1,FALSE),""),"v","") -> v
A6: 45889.46 | B6: 1101100011 | C6: 台灣基督長老教會馬偕醫療財團法人馬偕紀念醫院 | D6: 台北市 | E6: 02-25433535分機3489或3490 | F6: 有 | G6: 有 | H6: 有 | I6: 有 | J6: 圖文版 | K6: =IF(B6=IFERROR(VLOOKUP(B6,[1]檳榔計畫填答情形!$A$2:$A$122,1,FALSE),""),"v","") -> v
A7: 45889.462 | B7: 1542050056 | C7: 建佑醫院 | D7: 高雄市 | E7: 07-6437901分機967、分機962 | F7: 有 | G7: 有 | H7: 沒有 | I7: 無 | K7: =IF(B7=IFERROR(VLOOKUP(B7,[1]檳榔計畫填答情形!$A$2:$A$122,1,FALSE),""),"v","") -> v
A8: 45889.462 | B8: 0937010019 | C8: 秀傳醫療社團法人秀傳紀念醫院 | D8: 彰化縣 | E8: 04-7256166-85052 | F8: 有 | G8: 有 | H8: 沒有 | I8: 有 | J8: 圖文版 | K8: =IF(B8=IFERROR(VLOOKUP(B8,[1]檳榔計畫填答情形!$A$2:$A$122,1,FALSE),""),"v","") -> v
A9: 45889.464 | B9: 0936050029 | C9: 光田綜合醫院 | D9: 台中市 | E9: 04-26885599分機5271 | F9: 有 | G9: 有 | H9: 有 | I9: 無 | K9: =IF(B9=IFERROR(VLOOKUP(B9,[1]檳榔計畫填答情形!$A$2:$A$122,1,FALSE),""),"v","") -> v
A10: 45889.465 | B10: 0138010027 | C10: 衛生福利部南投醫院 | D10: 南投縣 | E10: 049-2231150#2326 | F10: 有 | G10: 有 | H10: 有 | I10: 有 | J10: 圖文版 | K10: =IF(B10=IFERROR(VLOOKUP(B10,[1]檳榔計畫填答情形!$A$2:$A$122,1,FALSE),""),"v","") -> v
A11: 45889.465 | B11: 0903150014 | C11: 林新醫療社團法人烏日林新醫院 | D11: 台中市 | E11: 04-23388766#6391 | F11: 沒有 | G11: 有 | H11: 沒有 | I11: 有 | J11: 圖文版 | K11: =IF(B11=IFERROR(VLOOKUP(B11,[1]檳榔計畫填答情形!$A$2:$A$122,1,FALSE),""),"v","") -> v
A12: 45889.465 | B12: 1522011115 | C12: 陽明醫院 | D12: 嘉義市 | E12: 05-2252000分機3786、3787 | F12: 有 | G12: 有 | H12: 沒有 | I12: 無 | K12: =IF(B12=IFERROR(VLOOKUP(B12,[1]檳榔計畫填答情形!$A$2:$A$122,1,FALSE),""),"v","") -> v
A13: 45889.466 | B13: 0936060016 | C13: 童綜合醫院 | D13: 台中市 | E13: 04-26581919轉分機3519 | F13: 有 | G13: 有 | H13: 有 | I13: 有 | J13: 圖文版 | K13: =IF(B13=IFERROR(VLOOKUP(B13,[1]檳榔計畫填答情形!$A$2:$A$122,1,FALSE),""),"v","") -> v
A14: 45889.468 | B14: 1122010021 | C14: 天主教中華聖母修女會醫療財團法人天主教聖馬爾定醫院 | D14: 嘉義市 | E14: 05-2756322 | F14: 有 | G14: 有 | H14: 沒有 | I14: 有 | J14: 圖文版 | K14: =IF(B14=IFERROR(VLOOKUP(B14,[1]檳榔計畫填答情形!$A$2:$A$122,1,FALSE),""),"v","") -> v
A15: 45889.468 | B15: 1134020028 | C15: 聖母醫院 | D15: 宜蘭縣 | E15: 039544106#6238 | F15: 有 | G15: 有 | H15: 有 | I15: 有 | J15: 圖文版 | K15: =IF(B15=IFERROR(VLOOKUP(B15,[1]檳榔計畫填答情形!$A$2:$A$122,1,FALSE),""),"v","") -> v
A16: 45889.468 | B16: 0942020019 | C16: 高雄市立岡山醫院(委託秀傳醫療社團法人經營) | D16: 高雄市 | E16: (07)6222131#59175或59177 | F16: 有 | G16: 有 | H16: 沒有 | I16: 無 | K16: =IF(B16=IFERROR(VLOOKUP(B16,[1]檳榔計畫填答情形!$A$2:$A$122,1,FALSE),""),"v","") -> v
A17: 45889.47 | B17: 1139010013 | C17: 佛教慈濟醫療財團法人斗六慈濟醫院 | D17: 雲林縣 | E17: 055372000轉712 | F17: 有 | G17: 有 | H17: 沒有 | I17: 無 | K17: =IF(B17=IFERROR(VLOOKUP(B17,[1]檳榔計畫填答情形!$A$2:$A$122,1,FALSE),""),"v","") -> v
A18: 45889.474 | B18: 0117030010 | C18: 衛生福利部臺中醫院 | D18: 台中市 | E18: (04)22294411 分機2159 | F18: 有 | G18: 有 | H18: 有 | I18: 有 | J18: 圖文版 | K18: =IF(B18=IFERROR(VLOOKUP(B18,[1]檳榔計畫填答情形!$A$2:$A$122,1,FALSE),""),"v","") -> v
A19: 45889.474 | B19: 0936060016 | C19: 童綜合醫院 | D19: 台中市 | E19: 04-2658-1919轉分機3519 | F19: 有 | G19: 有 | H19: 沒有 | I19: 有 | J19: 圖文版 | K19: =IF(B19=IFERROR(VLOOKUP(B19,[1]檳榔計畫填答情形!$A$2:$A$122,1,FALSE),""),"v","") -> v
A20: 45889.475 | B20: 1139040011 | C20: 彰化基督教醫療財團法人雲林基督教醫院 | D20: 雲林縣 | E20: 05-5871111#2025 | F20: 有 | G20: 有 | H20: 沒有 | I20: 無 | K20: =IF(B20=IFERROR(VLOOKUP(B20,[1]檳榔計畫填答情形!$A$2:$A$122,1,FALSE),""),"v","") -> v
A21: 45889.475 | B21: 1231050017 | C21: 新店耕莘醫院 | D21: 新店區 | E21: 02-22193391 分機66362 | F21: 有 | G21: 有 | H21: 沒有 | I21: 有 | J21: 圖文版 | K21: =IF(B21=IFERROR(VLOOKUP(B21,[1]檳榔計畫填答情形!$A$2:$A$122,1,FALSE),""),"v","") -> v
A22: 45889.476 | B22: 1138010019 | C22: 彰化基督教醫療財團法人南投基督教醫院 | D22: 南投縣 | E22: 049-2225595分機2003 | F22: 有 | G22: 有 | H22: 沒有 | I22: 無 | K22: =IF(B22=IFERROR(VLOOKUP(B22,[1]檳榔計畫填答情形!$A$2:$A$122,1,FALSE),""),"v","") -> v
A23: 45889.477 | B23: 1301200010 | C23: 臺北市立萬芳醫院 | D23: 台北市 | E23: 2930-7930#1667.1668 | F23: 有 | G23: 有 | H23: 沒有 | I23: 無 | K23: =IF(B23=IFERROR(VLOOKUP(B23,[1]檳榔計畫填答情形!$A$2:$A$122,1,FALSE),""),"v","") -> v
A24: 45889.477 | B24: 0938040012 | C24: 竹山秀傳醫療社團法人竹山秀傳醫院 | D24: 南投縣 | E24: 32224 | F24: 有 | G24: 有 | H24: 沒有 | I24: 無 | K24: =IF(B24=IFERROR(VLOOKUP(B24,[1]檳榔計畫填答情形!$A$2:$A$122,1,FALSE),""),"v","") -> v
A25: 45889.481 | B25: 2334070014 | C25: 員山鄉衛生所 | D25: 宜蘭縣 | E25: 9221575 | F25: 有 | G25: 有 | H25: 有 | I25: 無 | K25: =IF(B25=IFERROR(VLOOKUP(B25,[1]檳榔計畫填答情形!$A$2:$A$122,1,FALSE),""),"v","")
A26: 45889.482 | B26: 2334090016 | C26: 宜蘭縣五結鄉衛生所 | D26: 宜蘭縣 | E26: 03-9501564(分機20) | F26: 有 | G26: 有 | H26: 沒有 | I26: 無 | K26: =IF(B26=IFERROR(VLOOKUP(B26,[1]檳榔計畫填答情形!$A$2:$A$122,1,FALSE),""),"v","")
A27: 45889.482 | B27: 0145010019 | C27: 衛生福利部花蓮醫院 | D27: 花蓮縣 | E27: 03-8358141#3180 | F27: 沒有 | G27: 沒有 | H27: 沒有 | I27: 有 | J27: 圖文版 | K27: =IF(B27=IFERROR(VLOOKUP(B27,[1]檳榔計畫填答情形!$A$2:$A$122,1,FALSE),""),"v","") -> v
A28: 45889.482 | B28: 2334010018 | C28: 宜蘭縣宜蘭市衛生所 | D28: 宜蘭縣 | E28: 03-9322362 | F28: 有 | G28: 有 | H28: 有 | I28: 有 | J28: 語音版 | K28: =IF(B28=IFERROR(VLOOKUP(B28,[1]檳榔計畫填答情形!$A$2:$A$122,1,FALSE),""),"v","")
A29: 45889.483 | B29: 1131110516 | C29: 汐止國泰綜合醫院 | D29: 新北市 | E29: (02)2648-2121#8656 | F29: 有 | G29: 有 | H29: 沒有 | I29: 無 | K29: =IF(B29=IFERROR(VLOOKUP(B29,[1]檳榔計畫填答情形!$A$2:$A$122,1,FALSE),""),"v","") -> v
A30: 45889.484 | B30: 0536190011 | C30: 國軍臺中總醫院附設民眾診療服務處 | D30: 臺中市 | E30: 04-23934191#525409 | F30: 有 | G30: 有 | H30: 沒有 | I30: 有 | J30: 圖文版 | K30: =IF(B30=IFERROR(VLOOKUP(B30,[1]檳榔計畫填答情形!$A$2:$A$122,1,FALSE),""),"v","") -> v
A31: 45889.485 | B31: 2334050012 | C31: 礁溪鄉衛生所 | D31: 宜蘭縣 | E31: 03-9882908 | F31: 有 | G31: 有 | H31: 沒有 | I31: 有 | J31: 圖文版 | K31: =IF(B31=IFERROR(VLOOKUP(B31,[1]檳榔計畫填答情形!$A$2:$A$122,1,FALSE),""),"v","")
A32: 45889.488 | B32: 2334030010 | C32: 宜蘭縣蘇澳鎮衛生所 | D32: 宜蘭縣 | E32: 039962185 | F32: 有 | G32: 有 | H32: 沒有 | I32: 有 | J32: 圖文版 | K32: =IF(B32=IFERROR(VLOOKUP(B32,[1]檳榔計畫填答情形!$A$2:$A$122,1,FALSE),""),"v","")
A33: 45889.491 | B33: 2334120019 | C33: 宜蘭縣南澳鄉衛生所 | D33: 宜蘭縣 | E33: 039981019 | F33: 有 | G33: 有 | H33: 有 | I33: 有 | J33: 圖文版 | K33: =IF(B33=IFERROR(VLOOKUP(B33,[1]檳榔計畫填答情形!$A$2:$A$122,1,FALSE),""),"v","")
A34: 45889.491 | B34: 0902080013 | C34: 阮綜合醫療社團法人阮綜合醫院 | D34: 高雄市 | E34: 3351121-1618 | F34: 有 | G34: 有 | H34: 沒有 | I34: 有 | J34: 圖文版 | K34: =IF(B34=IFERROR(VLOOKUP(B34,[1]檳榔計畫填答情形!$A$2:$A$122,1,FALSE),""),"v","") -> v
A35: 45889.492 | B35: 1102110011 | C35: 高雄市立小港醫院 | D35: 高雄市 | E35: 07-8036783轉3428 | F35: 有 | G35: 有 | H35: 沒有 | I35: 無 | K35: =IF(B35=IFERROR(VLOOKUP(B35,[1]檳榔計畫填答情形!$A$2:$A$122,1,FALSE),""),"v","") -> v
A36: 45889.494 | B36: 2337100019 | C36: 彰化縣伸港鄉衛生所 | D36: 彰化縣 | E36: 04-7060335 | F36: 有 | G36: 有 | H36: 有 | I36: 有 | J36: 圖文版 | K36: =IF(B36=IFERROR(VLOOKUP(B36,[1]檳榔計畫填答情形!$A$2:$A$122,1,FALSE),""),"v","")
A37: 45889.494 | B37: 3764203421 | C37: 宜蘭縣羅東鎮衛生所 | D37: 宜蘭縣 | E37: 039542321 | F37: 有 | G37: 有 | H37: 沒有 | I37: 有 | J37: 圖文版 | K37: =IF(B37=IFERROR(VLOOKUP(B37,[1]檳榔計畫填答情形!$A$2:$A$122,1,FALSE),""),"v","")
A38: 45889.494 | B38: 2334040016 | C38: 宜蘭縣頭城鎮衛生所 | D38: 宜蘭縣 | E38: 03-9771034 分機201 | F38: 有 | G38: 有 | H38: 沒有 | I38: 無 | K38: =IF(B38=IFERROR(VLOOKUP(B38,[1]檳榔計畫填答情形!$A$2:$A$122,1,FALSE),""),"v","")
A39: 45889.494 | B39: 2334100017 | C39: 宜蘭縣三星鄉衛生所 | D39: 宜蘭縣 | E39: 03-9892227 | F39: 有 | G39: 有 | H39: 沒有 | I39: 有 | J39: 圖文版 | K39: =IF(B39=IFERROR(VLOOKUP(B39,[1]檳榔計畫填答情形!$A$2:$A$122,1,FALSE),""),"v","")
A40: 45889.496 | B40: 2334081026 | C40: 宜蘭縣冬山鄉衛生所 | D40: 宜蘭縣 | E40: 9594772 | F40: 有 | G40: 有 | H40: 沒有 | I40: 無 | K40: =IF(B40=IFERROR(VLOOKUP(B40,[1]檳榔計畫填答情形!$A$2:$A$122,1,FALSE),""),"v","")
A41: 45889.497 | B41: 0137170515 | C41: 衛生福利部彰化醫院 | D41: 彰化縣 | E41: 04-8298686轉1221 | F41: 有 | G41: 有 | H41: 有 | I41: 無 | K41: =IF(B41=IFERROR(VLOOKUP(B41,[1]檳榔計畫填答情形!$A$2:$A$122,1,FALSE),""),"v","")
A42: 45889.498 | B42: 1138020015 | C42: 埔基醫療財團法人埔里基督教醫院 | D42: 南投縣 | E42: 049-2912151分機2171 | F42: 有 | G42: 有 | H42: 沒有 | I42: 無 | K42: =IF(B42=IFERROR(VLOOKUP(B42,[1]檳榔計畫填答情形!$A$2:$A$122,1,FALSE),""),"v","") -> v
A43: 45889.499 | B43: 2337010010 | C43: 彰化市南西北區衛生所 | D43: 彰化市 | E43: 04-7282141#314 | F43: 有 | G43: 有 | H43: 沒有 | I43: 無 | K43: =IF(B43=IFERROR(VLOOKUP(B43,[1]檳榔計畫填答情形!$A$2:$A$122,1,FALSE),""),"v","")
A44: 45889.5 | B44: 0937030012 | C44: 道周醫療社團法人道周醫院 | D44: 彰化縣 | E44: 04-7566995#125 | F44: 有 | G44: 有 | H44: 沒有 | I44: 無 | K44: =IF(B44=IFERROR(VLOOKUP(B44,[1]檳榔計畫填答情形!$A$2:$A$122,1,FALSE),""),"v","")
A45: 45889.5 | B45: 2337080012 | C45: 二林鎮衛生所 | D45: 彰化縣 | E45: 048960035 | F45: 有 | G45: 有 | H45: 沒有 | I45: 有 | J45: 語音版 | K45: =IF(B45=IFERROR(VLOOKUP(B45,[1]檳榔計畫填答情形!$A$2:$A$122,1,FALSE),""),"v","")
A46: 45889.501 | B46: 0638020014 | C46: 台中榮民總醫院埔里分院 | D46: 南投縣 | E46: 049-2990833#6121 | F46: 有 | G46: 有 | H46: 沒有 | I46: 無 | K46: =IF(B46=IFERROR(VLOOKUP(B46,[1]檳榔計畫填答情形!$A$2:$A$122,1,FALSE),""),"v","") -> v
A47: 45889.502 | B47: 2334110013 | C47: 宜蘭縣大同鄉衛生所 | D47: 宜蘭縣 | E47: 9801175 | F47: 有 | G47: 有 | H47: 有 | I47: 有 | J47: 圖文版 | K47: =IF(B47=IFERROR(VLOOKUP(B47,[1]檳榔計畫填答情形!$A$2:$A$122,1,FALSE),""),"v","")
A48: 45889.504 | B48: 1137010024 | C48: 彰化基督教醫院 | D48: 彰化縣 | E48: 04-7238595分機7143 | F48: 有 | G48: 有 | H48: 沒有 | I48: 無 | K48: =IF(B48=IFERROR(VLOOKUP(B48,[1]檳榔計畫填答情形!$A$2:$A$122,1,FALSE),""),"v","") -> v
A49: 45889.505 | B49: 2337030012 | C49: 和美鎮衛生所 | D49: 彰化縣 | E49: 047062455 | F49: 有 | G49: 有 | H49: 沒有 | I49: 有 | J49: 圖文版 | K49: =IF(B49=IFERROR(VLOOKUP(B49,[1]檳榔計畫填答情形!$A$2:$A$122,1,FALSE),""),"v","")
A50: 45889.506 | B50: 2337230012 | C50: 芳苑衛生所 | D50: 彰化縣 | E50: 04-8983134 | F50: 有 | G50: 有 | H50: 沒有 | I50: 有 | J50: 圖文版 | K50: =IF(B50=IFERROR(VLOOKUP(B50,[1]檳榔計畫填答情形!$A$2:$A$122,1,FALSE),""),"v","")
A51: 45889.51 | B51: 2337010029 | C51: 東區衛生所 | D51: 彰化 | E51: 047381647 | F51: 有 | G51: 有 | H51: 沒有 | I51: 無 | K51: =IF(B51=IFERROR(VLOOKUP(B51,[1]檳榔計畫填答情形!$A$2:$A$122,1,FALSE),""),"v","")
A52: 45889.514 | B52: 2337090018 | C52: 彰化縣線西鄉衛生所 | D52: 彰化縣 | E52: 04-7585201 | F52: 有 | G52: 有 | H52: 沒有 | I52: 有 | J52: 圖文版 | K52: =IF(B52=IFERROR(VLOOKUP(B52,[1]檳榔計畫填答情形!$A$2:$A$122,1,FALSE),""),"v","")
A53: 45889.519 | B53: 2337220016 | C53: 埤頭鄉衛生所 | D53: 彰化縣 | E53: 04-8922445 | F53: 沒有 | G53: 有 | H53: 沒有 | I53: 有 | J53: 圖文版 | K53: =IF(B53=IFERROR(VLOOKUP(B53,[1]檳榔計畫填答情形!$A$2:$A$122,1,FALSE),""),"v","")
A54: 45889.522 | B54: 1411030013 | C54: 醫療財團法人臺灣區煤礦業基金會臺灣礦工醫院 | D54: 基隆市 | E54: 02-24579101*204 | F54: 有 | G54: 有 | H54: 有 | I54: 有 | J54: 圖文版 | K54: =IF(B54=IFERROR(VLOOKUP(B54,[1]檳榔計畫填答情形!$A$2:$A$122,1,FALSE),""),"v","") -> v
A55: 45889.524 | B55: 0938030016 | C55: 佑民醫療社團法人佑民醫院 | D55: 南投縣 | E55: 0492358151-2110 | F55: 有 | G55: 有 | H55: 有 | I55: 有 | J55: 圖文版 | K55: =IF(B55=IFERROR(VLOOKUP(B55,[1]檳榔計畫填答情形!$A$2:$A$122,1,FALSE),""),"v","") -> v
A56: 45889.525 | B56: 2337190013 | C56: 彰化縣社頭鄉衛生所 | D56: 彰化縣 | E56: 04-7060380 | F56: 有 | G56: 有 | H56: 有 | I56: 有 | J56: 圖文版 | K56: =IF(B56=IFERROR(VLOOKUP(B56,[1]檳榔計畫填答情形!$A$2:$A$122,1,FALSE),""),"v","")
A57: 45889.529 | B57: 2022020022 | C57: 慶昇醫院 | D57: 嘉義市 | E57: 2229191#209 | F57: 沒有 | G57: 有 | H57: 沒有 | I57: 無 | K57: =IF(B57=IFERROR(VLOOKUP(B57,[1]檳榔計畫填答情形!$A$2:$A$122,1,FALSE),""),"v","")
A58: 45889.529 | B58: 1302050014 | C58: 高雄醫學大學附設中和紀念醫院 | D58: 高雄市 | E58: 07-3121101#6054 | F58: 有 | G58: 有 | H58: 有 | I58: 無 | K58: =IF(B58=IFERROR(VLOOKUP(B58,[1]檳榔計畫填答情形!$A$2:$A$122,1,FALSE),""),"v","") -> v
A59: 45889.532 | B59: 2334060018 | C59: 護理師 | D59: 宜蘭縣 | E59: 9385503 | F59: 有 | G59: 有 | H59: 有 | I59: 有 | J59: 圖文版 | K59: =IF(B59=IFERROR(VLOOKUP(B59,[1]檳榔計畫填答情形!$A$2:$A$122,1,FALSE),""),"v","")
A60: 45889.535 | B60: 1537050071 | C60: 員林何醫院 | D60: 彰化縣 | E60: 04-8343838*100 | F60: 有 | G60: 有 | H60: 沒有 | I60: 無 | K60: =IF(B60=IFERROR(VLOOKUP(B60,[1]檳榔計畫填答情形!$A$2:$A$122,1,FALSE),""),"v","") -> v
A61: 45889.542 | B61: 1137050019 | C61: 彰化基督教醫療財團法人員林基督教醫院 | D61: 彰化縣 | E61: 04-8381456#2066 | F61: 有 | G61: 有 | H61: 有 | I61: 有 | J61: 圖文版 | K61: =IF(B61=IFERROR(VLOOKUP(B61,[1]檳榔計畫填答情形!$A$2:$A$122,1,FALSE),""),"v","") -> v
A62: 45889.548 | B62: 1142100017 | C62: 長庚醫療財團法人高雄長庚紀念醫院 | D62: 高雄市 | E62: (07)7317123#3325 | F62: 有 | G62: 有 | H62: 沒有 | I62: 無 | K62: =IF(B62=IFERROR(VLOOKUP(B62,[1]檳榔計畫填答情形!$A$2:$A$122,1,FALSE),""),"v","") -> v
A63: 45889.549 | B63: 1145010038 | C63: 臺灣基督教門諾會醫療財團法人門諾醫院 | D63: 花蓮縣 | E63: 03-8241823/03-8241833 | F63: 有 | G63: 有 | H63: 沒有 | I63: 有 | J63: 圖文版 | K63: =IF(B63=IFERROR(VLOOKUP(B63,[1]檳榔計畫填答情形!$A$2:$A$122,1,FALSE),""),"v","") -> v
A64: 45889.549 | B64: 2337250014 | C64: 竹塘鄉衛生所 | D64: 竹塘鄉 | E64: 04-8972009 | F64: 有 | G64: 有 | H64: 沒有 | I64: 有 | J64: 圖文版 | K64: =IF(B64=IFERROR(VLOOKUP(B64,[1]檳榔計畫填答情形!$A$2:$A$122,1,FALSE),""),"v","")
A65: 45889.556 | B65: 0542020011 | C65: 國軍左營總醫院岡山分院 | D65: 高雄市 | E65: 07-6250919#1056 | F65: 有 | G65: 有 | H65: 沒有 | I65: 有 | J65: 語音版 | K65: =IF(B65=IFERROR(VLOOKUP(B65,[1]檳榔計畫填答情形!$A$2:$A$122,1,FALSE),""),"v","") -> v
A66: 45889.559 | B66: 1537051318 | C66: 常春醫院 | D66: 彰化縣 | E66: 04-8376689#3315 | F66: 有 | G66: 有 | H66: 沒有 | I66: 無 | K66: =IF(B66=IFERROR(VLOOKUP(B66,[1]檳榔計畫填答情形!$A$2:$A$122,1,FALSE),""),"v","")
A67: 45889.566 | B67: 0633030010 | C67: 臺北榮民總醫院新竹分院 | D67: 新竹縣 | E67: 03-5962134#301 | F67: 有 | G67: 有 | H67: 沒有 | I67: 無 | K67: =IF(B67=IFERROR(VLOOKUP(B67,[1]檳榔計畫填答情形!$A$2:$A$122,1,FALSE),""),"v","") -> v
A68: 45889.569 | B68: 1137020511 | C68: 秀傳醫療財團法人彰濱秀傳紀念醫院 | D68: 彰化縣 | E68: (04)7813888#71173 | F68: 有 | G68: 有 | H68: 有 | I68: 無 | K68: =IF(B68=IFERROR(VLOOKUP(B68,[1]檳榔計畫填答情形!$A$2:$A$122,1,FALSE),""),"v","")
A69: 45889.572 | B69: 0943010017 | C69: 寶建醫療社團法人寶建醫院 | D69: 屏東縣 | E69: 08-7665995分機1339 | F69: 有 | G69: 有 | H69: 沒有 | I69: 有 | J69: 手語版 | K69: =IF(B69=IFERROR(VLOOKUP(B69,[1]檳榔計畫填答情形!$A$2:$A$122,1,FALSE),""),"v","") -> v
A70: 45889.575 | B70: 0943030019 | C70: 安泰醫療社團法人安泰醫院 | D70: 屏東縣 | E70: 08-8104768 | F70: 有 | G70: 有 | H70: 沒有 | I70: 無 | K70: =IF(B70=IFERROR(VLOOKUP(B70,[1]檳榔計畫填答情形!$A$2:$A$122,1,FALSE),""),"v","") -> v
A71: 45889.575 | B71: 1134020019 | C71: 羅東博愛醫院 | D71: 宜蘭縣 | E71: 03-9543131轉3573 | F71: 有 | G71: 有 | H71: 有 | I71: 有 | J71: 圖文版 | K71: =IF(B71=IFERROR(VLOOKUP(B71,[1]檳榔計畫填答情形!$A$2:$A$122,1,FALSE),""),"v","") -> v
A72: 45889.575 | B72: 0102020011 | C72: 高雄市立聯合醫院 | D72: 高雄市 | E72: （07）5552565#51274 | F72: 有 | G72: 有 | H72: 沒有 | I72: 有 | J72: 圖文版 | K72: =IF(B72=IFERROR(VLOOKUP(B72,[1]檳榔計畫填答情形!$A$2:$A$122,1,FALSE),""),"v","") -> v
A73: 45889.594 | B73: 0132010014 | C73: 衛生福利部桃園醫院 | D73: 桃園市 | E73: (03)3699721#1092 | F73: 有 | G73: 有 | H73: 沒有 | I73: 無 | K73: =IF(B73=IFERROR(VLOOKUP(B73,[1]檳榔計畫填答情形!$A$2:$A$122,1,FALSE),""),"v","") -> v
A74: 45889.599 | B74: 0937050014 | C74: 員榮醫療社團法人員榮醫院 | D74: 彰化縣 | E74: 04-8383995#3021 | F74: 有 | G74: 有 | H74: 沒有 | I74: 無 | K74: =IF(B74=IFERROR(VLOOKUP(B74,[1]檳榔計畫填答情形!$A$2:$A$122,1,FALSE),""),"v","")
A75: 45889.6 | B75: 1132010024 | C75: 沙爾德聖保祿修女會醫療財團法人聖保祿醫院 | D75: 桃園區 | E75: 03-3613141#2135 | F75: 有 | G75: 有 | H75: 沒有 | I75: 無 | K75: =IF(B75=IFERROR(VLOOKUP(B75,[1]檳榔計畫填答情形!$A$2:$A$122,1,FALSE),""),"v","") -> v
A76: 45889.603 | B76: 2337240018 | C76: 大城鄉衛生所 | D76: 彰化縣 | E76: 048941323 | F76: 有 | G76: 有 | H76: 沒有 | I76: 無 | K76: =IF(B76=IFERROR(VLOOKUP(B76,[1]檳榔計畫填答情形!$A$2:$A$122,1,FALSE),""),"v","")
A77: 45889.619 | B77: 0121050011 | C77: 衛生福利部臺南醫院 | D77: 臺南市 | E77: (06)2200055#2612 | F77: 有 | G77: 有 | H77: 有 | I77: 有 | J77: 圖文版 | K77: =IF(B77=IFERROR(VLOOKUP(B77,[1]檳榔計畫填答情形!$A$2:$A$122,1,FALSE),""),"v","") -> v
A78: 45889.627 | B78: 2337040018 | C78: 北斗鎮衛生所 | D78: 彰化縣 | E78: 048882059 | F78: 有 | G78: 有 | H78: 有 | I78: 無 | K78: =IF(B78=IFERROR(VLOOKUP(B78,[1]檳榔計畫填答情形!$A$2:$A$122,1,FALSE),""),"v","")
A79: 45889.634 | B79: 0141060513 | C79: 衛生福利部臺南醫院新化分院 | D79: 台南市 | E79: 06-5911929轉3000 | F79: 有 | G79: 有 | H79: 有 | I79: 無 | K79: =IF(B79=IFERROR(VLOOKUP(B79,[1]檳榔計畫填答情形!$A$2:$A$122,1,FALSE),""),"v","") -> v
A80: 45889.636 | B80: 3537020333 | C80: 豐安診所 | D80: 彰化縣 | E80: 04-7763811 | F80: 有 | G80: 沒有 | H80: 沒有 | I80: 無 | K80: =IF(B80=IFERROR(VLOOKUP(B80,[1]檳榔計畫填答情形!$A$2:$A$122,1,FALSE),""),"v","")
A81: 45889.639 | B81: 0634070018 | C81: 臺北榮民總醫院員山分院 | D81: 宜蘭線 | E81: 03-9380447 | F81: 有 | G81: 有 | H81: 沒有 | I81: 有 | J81: 圖文版 | K81: =IF(B81=IFERROR(VLOOKUP(B81,[1]檳榔計畫填答情形!$A$2:$A$122,1,FALSE),""),"v","")
A82: 45889.641 | B82: 0934030014 | C82: 臺北榮總蘇澳分院 | D82: 宜蘭縣 | E82: 03-9380447 | F82: 有 | G82: 有 | H82: 沒有 | I82: 有 | J82: 圖文版 | K82: =IF(B82=IFERROR(VLOOKUP(B82,[1]檳榔計畫填答情形!$A$2:$A$122,1,FALSE),""),"v","")
A83: 45889.645 | B83: 1101020018 | C83: 國泰醫療財團法人國泰綜合醫院 | D83: 台北市 | E83: 02-27082121轉5178、1046、1047 | F83: 有 | G83: 有 | H83: 有 | I83: 有 | J83: 圖文版 | K83: =IF(B83=IFERROR(VLOOKUP(B83,[1]檳榔計畫填答情形!$A$2:$A$122,1,FALSE),""),"v","") -> v
A84: 45889.651 | B84: 1146010032 | C84: 東基醫療財團法人台東基督教醫院 | D84: 台東巿 | E84: 089323362-1210,1638 | F84: 有 | G84: 有 | H84: 沒有 | I84: 無 | K84: =IF(B84=IFERROR(VLOOKUP(B84,[1]檳榔計畫填答情形!$A$2:$A$122,1,FALSE),""),"v","") -> v
A85: 45889.666 | B85: 0933050018 | C85: 東元醫療社團法人東元綜合醫院 | D85: 新竹縣 | E85: 03-6207940 | F85: 有 | G85: 有 | H85: 沒有 | I85: 無 | K85: =IF(B85=IFERROR(VLOOKUP(B85,[1]檳榔計畫填答情形!$A$2:$A$122,1,FALSE),""),"v","") -> v
A86: 45889.667 | B86: 1339060017 | C86: 中國醫藥大學北港附設醫院 | D86: 雲林縣 | E86: 1102 | F86: 有 | G86: 有 | H86: 有 | I86: 無 | K86: =IF(B86=IFERROR(VLOOKUP(B86,[1]檳榔計畫填答情形!$A$2:$A$122,1,FALSE),""),"v","") -> v
A87: 45889.67 | B87: 0434010518 | C87: 國立陽明交通大學交通醫院 | D87: 宜蘭縣 | E87: 03-9325192 分機12260 | F87: 有 | G87: 有 | H87: 有 | I87: 有 | J87: 圖文版 | K87: =IF(B87=IFERROR(VLOOKUP(B87,[1]檳榔計畫填答情形!$A$2:$A$122,1,FALSE),""),"v","")
A88: 45889.69 | B88: 0107340027 | C88: 高雄市立大同醫院 | D88: 高雄市 | E88: 07-2911101#8138 | F88: 有 | G88: 有 | H88: 有 | I88: 無 | K88: =IF(B88=IFERROR(VLOOKUP(B88,[1]檳榔計畫填答情形!$A$2:$A$122,1,FALSE),""),"v","") -> v
A89: 45889.691 | B89: 2337180017 | C89: 彰化縣永靖鄉衛生所 | D89: 彰化縣 | E89: 柴碧謙 | F89: 沒有 | G89: 有 | H89: 沒有 | I89: 無 | K89: =IF(B89=IFERROR(VLOOKUP(B89,[1]檳榔計畫填答情形!$A$2:$A$122,1,FALSE),""),"v","")
A90: 45889.693 | B90: 0102080017 | C90: 民生醫院 | D90: 苓雅區 | E90: 7511131 | F90: 有 | G90: 有 | H90: 沒有 | I90: 有 | J90: 圖文版 | K90: =IF(B90=IFERROR(VLOOKUP(B90,[1]檳榔計畫填答情形!$A$2:$A$122,1,FALSE),""),"v","") -> v
A91: 45889.696 | B91: 0501110514 | C91: 三軍總醫院 | D91: 台北市 | E91: 10719 | F91: 有 | G91: 有 | H91: 有 | I91: 有 | J91: 圖文版 | K91: =IF(B91=IFERROR(VLOOKUP(B91,[1]檳榔計畫填答情形!$A$2:$A$122,1,FALSE),""),"v","") -> v
A92: 45889.71 | B92: 1517061032 | C92: 澄清綜合醫院中港分院 | D92: 台中市 | E92: 04-24632000分機52705 | F92: 有 | G92: 有 | H92: 有 | I92: 有 | J92: 圖文版 | K92: =IF(B92=IFERROR(VLOOKUP(B92,[1]檳榔計畫填答情形!$A$2:$A$122,1,FALSE),""),"v","") -> v
A93: 45889.711 | B93: 1122010012 | C93: 戴德森醫療財團法人嘉義基督教醫院 | D93: 嘉義市 | E93: 05-2765041轉6160 | F93: 有 | G93: 有 | H93: 有 | I93: 無 | K93: =IF(B93=IFERROR(VLOOKUP(B93,[1]檳榔計畫填答情形!$A$2:$A$122,1,FALSE),""),"v","") -> v
A94: 45889.718 | B94: 2337110015 | C94: 彰化縣福興鄉衛生所 | D94: 彰化縣 | E94: 777-2371 | F94: 有 | G94: 有 | H94: 沒有 | I94: 無 | K94: =IF(B94=IFERROR(VLOOKUP(B94,[1]檳榔計畫填答情形!$A$2:$A$122,1,FALSE),""),"v","")
A95: 45889.729 | B95: 2337140013 | C95: 芬園鄉衛生所 | D95: 彰化縣 | E95: 049-2522904 | F95: 有 | G95: 有 | H95: 有 | I95: 有 | J95: 圖文版 | K95: =IF(B95=IFERROR(VLOOKUP(B95,[1]檳榔計畫填答情形!$A$2:$A$122,1,FALSE),""),"v","")
A96: 45889.859 | B96: 1532040039 | C96: 天成醫院 | D96: 桃園市 | E96: 034782350#62027 | F96: 有 | G96: 有 | H96: 有 | I96: 有 | J96: 圖文版 | K96: =IF(B96=IFERROR(VLOOKUP(B96,[1]檳榔計畫填答情形!$A$2:$A$122,1,FALSE),""),"v","") -> v
A97: 45890.335 | B97: 1143010012 | C97: 屏基醫療財團法人屏東基督教醫院 | D97: 屏東縣 | E97: 08-7351214 | F97: 有 | G97: 有 | H97: 有 | I97: 有 | J97: 圖文版 | K97: =IF(B97=IFERROR(VLOOKUP(B97,[1]檳榔計畫填答情形!$A$2:$A$122,1,FALSE),""),"v","") -> v
A98: 45890.368 | B98: 1521050010 | C98: 永川醫院 | D98: 台南市 | E98: 062245771 | F98: 有 | G98: 有 | H98: 沒有 | I98: 無 | K98: =IF(B98=IFERROR(VLOOKUP(B98,[1]檳榔計畫填答情形!$A$2:$A$122,1,FALSE),""),"v","") -> v
A99: 45890.404 | B99: 1131090019 | C99: 行天宮醫療志業醫療財團法人恩主公醫院 | D99: 新北市 | E99: 02-2672-3456*8708 | F99: 有 | G99: 有 | H99: 沒有 | I99: 無 | K99: =IF(B99=IFERROR(VLOOKUP(B99,[1]檳榔計畫填答情形!$A$2:$A$122,1,FALSE),""),"v","") -> v
A100: 45890.405 | B100: 1532100049 | C100: 聯新國際醫院 | D100: 桃園市 | E100: (03)4941234#4168 | F100: 有 | G100: 有 | H100: 沒有 | I100: 有 | J100: 圖文版 | K100: =IF(B100=IFERROR(VLOOKUP(B100,[1]檳榔計畫填答情形!$A$2:$A$122,1,FALSE),""),"v","") -> v
...
