Workbook

Sheet 歷年
A1: 推行社區發展工作成果 Achievements of Community Development
A2: 104-114年
A3: 年別 Years | B3: 社區發展 協會數(個) No.of Community Development Associations (Units) | C3: 社區戶數 (戶) Households of Communities (Households) | D3: 社區人口數 (人) Communities Persons of (Persons) | E3: 理監事人數(人) Directors and Supervisors (Persons) | Q3: 社區發展協會會員數(人) Members Community Development Associations (Persons) | T3: 設置社區生產建設基金 (個) Community Economic Development Fund(Unit) | U3: 實際使用經費(元) Outlays | X3: 社區建設主要項目 Main Items of Community Construction
E4: 合計 Total | H4: 理事長 Director-general | K4: 理事(不含理事長)Directors | N4: 監事 Supervisors | U4: 合計 (元) Total (NT$) | V4: 政府補助款 (元) Government-Provided (NT$) | W4: 社區自籌款 (元) Self-Provided (NT$) | X4: 社區活動中心Community Activity Centers(Units) | AB4: 辦理社區幹部訓練 (人次)Topic Training (Times of Persons) | AC4: 辦理社區 觀摩(人次) Community Exposition (Times of Persons) | AD4: 社區守望 相助隊(隊) Community Mutual-help Program (Teams) | AE4: 社區志願服務團隊 Community Volunteer Service Teams (Groups) | AI4: 辦理社區照顧關懷據點 (處) Community Care Locations (Places) | AJ4: 長期照顧據點 (處) Community Long Term Care Locations (Places) | AK4: 發行社區報導或通訊 (期) Community Publications (Times) | AL4: 服務成果 Person-times Served
E5: 計 Subtotal | F5: 男 Male | G5: 女 Female | H5: 計 Subtotal | I5: 男 Male | J5: 女 Female | K5: 計 Subtotal | L5: 男 Male | M5: 女 Female | N5: 計 Subtotal | O5: 男 Male | P5: 女 Female | Q5: 計 Subtotal | R5: 男 Male | S5: 女 Female | X5: 合計 (幢) Total | Y5: 原建 (未作修擴建)(幢) Originally Built (Without Repair Extension) | Z5: 新建(幢) Newly Built | AA5: 修擴建(幢) Repair Extension | AE5: 團隊(隊) Teams | AF5: 志工數(人)Persons | AL5: 福利服務或活動(人次) Welfare Service or Activities (Times of Persons) | AM5: 其他服務(人次) Other Services (Times of Persons)
AF6: 合計 Total | AG6: 男 Male | AH6: 女 Female
A7: 104年 ,2015 | B7: ='2015'!B8 -> 6860 | C7: ='2015'!C8 -> 7726797 | D7: ='2015'!D8 -> 21404313 | E7: ='2015'!E8 -> 108909 | F7: ='2015'!F8 -> 83441 | G7: ='2015'!G8 -> 25468 | H7: ='2015'!H8 -> 6860 | I7: ='2015'!I8 -> 5601 | ... AC7: ='2015'!AC8 -> 306430 | AD7: ='2015'!AE8 -> 1591 | AE7: ='2015'!AF8 -> 3805 | AF7: ='2015'!AG8 -> 123798 | AG7: ='2015'!AH8 -> 48373 | AH7: ='2015'!AI8 -> 75425 | AI7: ='2015'!AJ8 -> 1521 | AJ7: … | AK7: ='2015'!AL8 -> 935 | AL7: ='2015'!AM8 -> 5661777 | AM7: ='2015'!AN8 -> 2206820
A8: 105年 ,2016 | B8: ='2016'!B8 -> 6881 | C8: ='2016'!C8 -> 7800490 | D8: ='2016'!D8 -> 21457496 | E8: ='2016'!E8 -> 108907 | F8: ='2016'!F8 -> 82830 | G8: ='2016'!G8 -> 26077 | H8: ='2016'!H8 -> 6881 | I8: ='2016'!I8 -> 5553 | ... AC8: ='2016'!AC8 -> 296879 | AD8: ='2016'!AE8 -> 1571 | AE8: ='2016'!AF8 -> 3875 | AF8: ='2016'!AG8 -> 125546 | AG8: ='2016'!AH8 -> 47991 | AH8: ='2016'!AI8 -> 77555 | AI8: ='2016'!AJ8 -> 1651 | AJ8: … | AK8: ='2016'!AL8 -> 1032 | AL8: ='2016'!AM8 -> 6576756 | AM8: ='2016'!AN8 -> 2550940
A9: 106年 ,2017 | B9: ='2017'!B8 -> 6839 | C9: ='2017'!C8 -> 7855123 | D9: ='2017'!D8 -> 21574353 | E9: ='2017'!E8 -> 108557 | F9: ='2017'!F8 -> 81998 | G9: ='2017'!G8 -> 26559 | H9: ='2017'!H8 -> 6839 | I9: ='2017'!I8 -> 5461 | ... AC9: ='2017'!AC8 -> 305990 | AD9: ='2017'!AE8 -> 1780 | AE9: ='2017'!AF8 -> 3693 | AF9: ='2017'!AG8 -> 131273 | AG9: ='2017'!AH8 -> 52747 | AH9: ='2017'!AI8 -> 78526 | AI9: ='2017'!AJ8 -> 1896 | AJ9: … | AK9: ='2017'!AL8 -> 1115 | AL9: ='2017'!AM8 -> 7705382 | AM9: ='2017'!AN8 -> 2749518
A10: 107年 ,2018 | B10: ='2018'!B8 -> 6823 | C10: ='2018'!C8 -> 8013859 | D10: ='2018'!D8 -> 21731033 | E10: ='2018'!E8 -> 108754 | F10: ='2018'!F8 -> 80882 | G10: ='2018'!G8 -> 27872 | H10: ='2018'!H8 -> 6823 | I10: ='2018'!I8 -> 5399 | ... AC10: ='2018'!AC8 -> 318150 | AD10: ='2018'!AE8 -> 1706 | AE10: ='2018'!AF8 -> 5715 | AF10: ='2018'!AG8 -> 132356 | AG10: ='2018'!AH8 -> 51107 | AH10: ='2018'!AI8 -> 81249 | AI10: ='2018'!AJ8 -> 2165 | AJ10: … | AK10: ='2018'!AL8 -> 829 | AL10: ='2018'!AM8 -> 9326046 | AM10: ='2018'!AN8 -> 3231842
A11: 108年 ,2019 | B11: ='2019'!B8 -> 6919 | C11: ='2019'!C8 -> 8226678 | D11: ='2019'!D8 -> 22054988 | E11: ='2019'!E8 -> 109265 | F11: ='2019'!F8 -> 80108 | G11: ='2019'!G8 -> 29157 | H11: ='2019'!H8 -> 6919 | I11: ='2019'!I8 -> 5407 | ... AC11: ='2019'!AC8 -> 291993 | AD11: ='2019'!AE8 -> 2035 | AE11: ='2019'!AF8 -> 4200 | AF11: ='2019'!AG8 -> 139834 | AG11: ='2019'!AH8 -> 53079 | AH11: ='2019'!AI8 -> 86755 | AI11: ='2019'!AJ8 -> 2439 | AJ11: … | AK11: ='2019'!AL8 -> 887 | AL11: ='2019'!AM8 -> 10792918 | AM11: ='2019'!AN8 -> 3421219
A12: 109年 ,2020 | B12: ='2020'!B8 -> 6918 | C12: ='2020'!C8 -> 8307886 | D12: ='2020'!D8 -> 22038102 | E12: ='2020'!E8 -> 108524 | F12: ='2020'!F8 -> 78523 | G12: ='2020'!G8 -> 30001 | H12: ='2020'!H8 -> 6918 | I12: ='2020'!I8 -> 5337 | ... AC12: ='2020'!AC8 -> 431271 | AD12: ='2020'!AE8 -> 2586 | AE12: ='2020'!AF8 -> 4565 | AF12: ='2020'!AG8 -> 145935 | AG12: ='2020'!AH8 -> 54620 | AH12: ='2020'!AI8 -> 91315 | AI12: ='2020'!AJ8 -> 3067 | AJ12: … | AK12: ='2020'!AL8 -> 1780 | AL12: ='2020'!AM8 -> 12612351 | AM12: ='2020'!AN8 -> 3511451
A13: 110年 ,2021 | B13: ='2021'!B8 -> 6943 | C13: ='2021'!C8 -> 8484099 | D13: ='2021'!D8 -> 22121179 | E13: ='2021'!E8 -> 109240 | F13: ='2021'!F8 -> 78103 | G13: ='2021'!G8 -> 31137 | H13: ='2021'!H8 -> 6943 | I13: ='2021'!I8 -> 5297 | ... AC13: ='2021'!AC8 -> 190818 | AD13: ='2021'!AE8 -> 2620 | AE13: ='2021'!AF8 -> 4513 | AF13: ='2021'!AG8 -> 149600 | AG13: ='2021'!AH8 -> 54617 | AH13: ='2021'!AI8 -> 94983 | AI13: ='2021'!AJ8 -> 3188 | AJ13: … | AK13: ='2021'!AL8 -> 722 | AL13: ='2021'!AM8 -> 11253616 | AM13: ='2021'!AN8 -> 3680243
A14: 111年 ,2022 | B14: ='2022'!B8 -> 6961 | C14: ='2022'!C8 -> 8554715 | D14: ='2022'!D8 -> 21992541 | E14: ='2022'!E8 -> 108465 | F14: ='2022'!F8 -> 76631 | G14: ='2022'!G8 -> 31834 | H14: ='2022'!H8 -> 6961 | I14: ='2022'!I8 -> 5236 | ... AC14: ='2022'!AC8 -> 215537 | AD14: ='2022'!AE8 -> 3022 | AE14: ='2022'!AF8 -> 4736 | AF14: ='2022'!AG8 -> 151913 | AG14: ='2022'!AH8 -> 55429 | AH14: ='2022'!AI8 -> 96484 | AI14: ='2022'!AJ8 -> 3316 | AJ14: … | AK14: ='2022'!AL8 -> 531 | AL14: ='2022'!AM8 -> 14047882 | AM14: ='2022'!AN8 -> 4700992
A15: 112年 ,2023 | B15: ='2023'!B8 -> 7025 | C15: ='2023'!C8 -> 8706116 | D15: ='2023'!D8 -> 22141383 | E15: ='2023'!E8 -> 108286 | F15: ='2023'!F8 -> 75034 | G15: ='2023'!G8 -> 33252 | H15: ='2023'!H8 -> 7025 | I15: ='2023'!I8 -> 5224 | ... AC15: ='2023'!AC8 -> 246771 | AD15: ='2023'!AE8 -> 3498 | AE15: ='2023'!AF8 -> 5012 | AF15: ='2023'!AG8 -> 154196 | AG15: ='2023'!AH8 -> 55355 | AH15: ='2023'!AI8 -> 98841 | AI15: ='2023'!AJ8 -> 3319 | AJ15: … | AK15: ='2023'!AL8 -> 576 | AL15: ='2023'!AM8 -> 16951480 | AM15: ='2023'!AN8 -> 4440921
A16: 113年 ,2024 | B16: ='2024'!B7 -> 7026 | C16: ='2024'!C7 -> 8972256 | D16: ='2024'!D7 -> 22241949 | E16: ='2024'!E7 -> 107558 | F16: ='2024'!F7 -> 73424 | G16: ='2024'!G7 -> 34134 | H16: ='2024'!H7 -> 7026 | I16: ='2024'!I7 -> 5121 | ... AC16: ='2024'!AC7 -> 277192 | AD16: ='2024'!AE7 -> 3351 | AE16: ='2024'!AF7 -> 4985 | AF16: ='2024'!AG7 -> 156735 | AG16: ='2024'!AH7 -> 58976 | AH16: ='2024'!AI7 -> 97759 | AI16: ='2024'!AJ7 -> 3481 | AJ16: … | AK16: ='2024'!AL7 -> 484 | AL16: ='2024'!AM7 -> 19845759 | AM16: ='2024'!AN7 -> 4181627
A17: 114年 ,2025 | B17: ='2025'!B7 -> 7031 | C17: ='2025'!C7 -> 9350370 | D17: ='2025'!D7 -> 22216020 | E17: ='2025'!E7 -> 107149 | F17: ='2025'!F7 -> 72161 | G17: ='2025'!G7 -> 34988 | H17: ='2025'!H7 -> 7031 | I17: ='2025'!I7 -> 5037 | ... AM17: ='2025'!AM7 -> 4830077
A18: 資料來源：直轄市及縣(市)政府。
A19: 說 明：1.本表資料不包括未成立社區發展協會者。
A20: 2.自108年起社區活動中心以公有為統計標的。
A21: Source: County and Government.
A23: 更新日期：2026/06/09

Sheet 2025
A1: 推行社區發展工作成果 Achievements of Community Development
A2: 114年, 2025 | B2: =IF(B7=SUM(B8:B29),"",SUM(B8:B29)) | C2: =IF(C7=SUM(C8:C29),"",SUM(C8:C29)) | D2: =IF(D7=SUM(D8:D29),"",SUM(D8:D29)) | E2: =IF(E7=SUM(E8:E29),"",SUM(E8:E29)) | F2: =IF(F7=SUM(F8:F29),"",SUM(F8:F29)) | G2: =IF(G7=SUM(G8:G29),"",SUM(G8:G29)) | H2: =IF(H7=SUM(H8:H29),"",SUM(H8:H29)) | I2: =IF(I7=SUM(I8:I29),"",SUM(I8:I29)) | ... AM2: =IF(AM7=SUM(AM8:AM29),"",SUM(AM8:AM29))
A3: 區域別 Locality | B3: 社區發展 協會數(個) No.of Community DevelopmentAssociations (Units) | C3: 社區戶數 (戶) Households of Communities (Households) | D3: 社區人口數 (人) Communities Persons of (Persons) | E3: 理監事人數(人) Directors and Supervisors (Persons) | Q3: 社區發展協會會員數(人) Members Community Development Associations (Persons) | T3: 設置社區生產建設基金 (個) Community Economic Development Fund(Unit) | U3: 實際使用經費(元) Outlays | X3: 社區建設主要項目 Main Items of Community Construction
E4: 合計 Total | H4: 理事長 Director-general | K4: 理事(不含理事長)Directors | N4: 監事 Supervisors | U4: 合計 (元) Total (NT$) | V4: 政府補助款 (元) Government-Provided (NT$) | W4: 社區自籌款 (元) Self-Provided (NT$) | X4: 社區活動中心Community Activity Centers(Units) | AB4: 辦理社區幹部訓練 (人次)Topic Training (Times of Persons) | AC4: 辦理社區 觀摩(人次) Community Exposition (Times of Persons) | AD4: 社區守望 相助隊(隊) Community Mutual-help Program (Teams) | AE4: 社區志願服務團隊 Community Volunteer Service Teams (Groups) | AI4: 辦理社區照顧關懷據點 (處) Community Care Locations (Places) | AJ4: 長期照顧據點 (處) Community Long Term Care Locations (Places) | AK4: 發行社區報導或通訊 (期) Community Publications (Times) | AL4: 服務成果 Person-times Served
E5: 計 Subtotal | F5: 男 Male | G5: 女 Female | H5: 計 Subtotal | I5: 男 Male | J5: 女 Female | K5: 計 Subtotal | L5: 男 Male | M5: 女 Female | N5: 計 Subtotal | O5: 男 Male | P5: 女 Female | Q5: 計 Subtotal | R5: 男 Male | S5: 女 Female | X5: 合計 (幢) Total | Y5: 原建 (未作修擴建)(幢) Originally Built (Without Repair Extension) | Z5: 新建(幢) Newly Built | AA5: 修擴建(幢) Repair Extension | AE5: 團隊(隊) Teams | AF5: 志工數(人)Persons | AL5: 福利服務或活動(人次) Welfare Service or Activities (Times of Persons) | AM5: 其他服務(人次) Other Services (Times of Persons)
AF6: 合計 Total | AG6: 男 Male | AH6: 女 Female
A7: 總計Total | B7: 7031 | C7: 9350370 | D7: 22216020 | E7: 107149 | F7: 72161 | G7: 34988 | H7: 7031 | I7: 5037 | J7: 1994 | K7: 74304 | L7: 50031 | M7: 24273 | N7: 25814 | O7: 17093 | P7: 8721 | Q7: 721543 | R7: 349636 | S7: 371907 | T7: 3947 | U7: 4557235389 | V7: 3416130487 | W7: 1141104902 | X7: 2994 | Y7: 2889 | Z7: 46 | AA7: 59 | AB7: 104807 | AC7: 280650 | AD7: 3374 | AE7: 5401 | AF7: 159678 | AG7: 55993 | AH7: 103685 | AI7: 2970 | AJ7: 1896 | AK7: 476 | AL7: 24124473 | AM7: 4830077
A8: 新 北 市New Taipei City | B8: 469 | C8: 1786834 | D8: 4044831 | E8: 7751 | F8: 4655 | G8: 3096 | H8: 469 | I8: 313 | J8: 156 | K8: 5383 | L8: 3241 | M8: 2142 | N8: 1899 | O8: 1101 | P8: 798 | Q8: 57844 | R8: 24383 | S8: 33461 | T8: 335 | U8: 193281975 | V8: 140802983 | W8: 52478992 | X8: 0 | Y8: 0 | Z8: 0 | AA8: 0 | AB8: 4750 | AC8: 12132 | AD8: 616 | AE8: 224 | AF8: 6284 | AG8: 2216 | AH8: 4068 | AI8: 116 | AJ8: 57 | AK8: 30 | AL8: 1511692 | AM8: 189753
A9: 臺 北 市Taipei City | B9: 378 | C9: 1080892 | D9: 2439507 | E9: 5442 | F9: 2755 | G9: 2687 | H9: 378 | I9: 225 | J9: 153 | K9: 3716 | L9: 1857 | M9: 1859 | N9: 1348 | O9: 673 | P9: 675 | Q9: 22558 | R9: 8975 | S9: 13583 | T9: 0 | U9: 50693229 | V9: 37688664 | W9: 13004565 | X9: 0 | Y9: 0 | Z9: 0 | AA9: 0 | AB9: 5058 | AC9: 4409 | AD9: 333 | AE9: 145 | AF9: 4465 | AG9: 1650 | AH9: 2815 | AI9: 96 | AJ9: 71 | AK9: 27 | AL9: 1140599 | AM9: 76210
A10: 桃 園 市Taoyuan City | B10: 357 | C10: 852094 | D10: 2038044 | E10: 5782 | F10: 3128 | G10: 2654 | H10: 357 | I10: 243 | J10: 114 | K10: 4025 | L10: 2127 | M10: 1898 | N10: 1400 | O10: 758 | P10: 642 | Q10: 56793 | R10: 22972 | S10: 33821 | T10: 268 | U10: 391980186 | V10: 289947298 | W10: 102032888 | X10: 204 | Y10: 185 | Z10: 6 | AA10: 13 | AB10: 6154 | AC10: 26004 | AD10: 535 | AE10: 319 | AF10: 13902 | AG10: 4487 | AH10: 9415 | AI10: 214 | AJ10: 208 | AK10: 60 | AL10: 1569239 | AM10: 748615
A11: 臺 中 市Taichung City | B11: 606 | C11: 1147580 | D11: 2827209 | E11: 9634 | F11: 6366 | G11: 3268 | H11: 606 | I11: 437 | J11: 169 | K11: 6705 | L11: 4393 | M11: 2312 | N11: 2323 | O11: 1536 | P11: 787 | Q11: 51965 | R11: 24390 | S11: 27575 | T11: 150 | U11: 233345383 | V11: 146194709 | W11: 87150674 | X11: 0 | Y11: 0 | Z11: 0 | AA11: 0 | AB11: 3346 | AC11: 29362 | AD11: 232 | AE11: 446 | AF11: 13316 | AG11: 3467 | AH11: 9849 | AI11: 299 | AJ11: 198 | AK11: 16 | AL11: 1368323 | AM11: 188527
A12: 臺 南 市Tainan City | B12: 673 | C12: 761180 | D12: 1824985 | E12: 9903 | F12: 6941 | G12: 2962 | H12: 673 | I12: 493 | J12: 180 | K12: 6908 | L12: 4828 | M12: 2080 | N12: 2322 | O12: 1620 | P12: 702 | Q12: 81408 | R12: 37348 | S12: 44060 | T12: 282 | U12: 261997832 | V12: 194431116 | W12: 67566716 | X12: 150 | Y12: 148 | Z12: 1 | AA12: 1 | AB12: 5651 | AC12: 20117 | AD12: 342 | AE12: 780 | AF12: 15099 | AG12: 5070 | AH12: 10029 | AI12: 262 | AJ12: 162 | AK12: 13 | AL12: 1620797 | AM12: 343167
A13: 高 雄 市Kaohsiung City | B13: 768 | C13: 949068 | D13: 2152655 | E13: 11396 | F13: 7052 | G13: 4344 | H13: 768 | I13: 523 | J13: 245 | K13: 7857 | L13: 4823 | M13: 3034 | N13: 2771 | O13: 1706 | P13: 1065 | Q13: 75979 | R13: 33774 | S13: 42205 | T13: 391 | U13: 476173475 | V13: 359288039 | W13: 116885436 | X13: 285 | Y13: 285 | Z13: 0 | AA13: 0 | AB13: 31332 | AC13: 33466 | AD13: 461 | AE13: 617 | AF13: 18984 | AG13: 6640 | AH13: 12344 | AI13: 297 | AJ13: 177 | AK13: 159 | AL13: 1550917 | AM13: 710448
A14: 宜蘭縣Yilan County | B14: 241 | C14: 191316 | D14: 449495 | E14: 3854 | F14: 2819 | G14: 1035 | H14: 241 | I14: 185 | J14: 56 | K14: 2714 | L14: 1990 | M14: 724 | N14: 899 | O14: 644 | P14: 255 | Q14: 24759 | R14: 12675 | S14: 12084 | T14: 129 | U14: 272289686 | V14: 220024041 | W14: 52265645 | X14: 205 | Y14: 202 | Z14: 2 | AA14: 1 | AB14: 2049 | AC14: 23855 | AD14: 101 | AE14: 284 | AF14: 7713 | AG14: 2929 | AH14: 4784 | AI14: 141 | AJ14: 97 | AK14: 20 | AL14: 1556373 | AM14: 251384
A15: 新竹縣Hsinchu County | B15: 188 | C15: 242535 | D15: 591814 | E15: 3261 | F15: 2141 | G15: 1120 | H15: 188 | I15: 136 | J15: 52 | K15: 2274 | L15: 1495 | M15: 779 | N15: 799 | O15: 510 | P15: 289 | Q15: 33475 | R15: 16051 | S15: 17424 | T15: 169 | U15: 213618463 | V15: 136689914 | W15: 76928549 | X15: 77 | Y15: 74 | Z15: 2 | AA15: 1 | AB15: 3689 | AC15: 19772 | AD15: 42 | AE15: 193 | AF15: 5041 | AG15: 2015 | AH15: 3026 | AI15: 63 | AJ15: 66 | AK15: 21 | AL15: 1502246 | AM15: 145192
A16: 苗栗縣Miaoli County | B16: 280 | C16: 209599 | D16: 525755 | E16: 4682 | F16: 3163 | G16: 1519 | H16: 280 | I16: 197 | J16: 83 | K16: 3322 | L16: 2254 | M16: 1068 | N16: 1080 | O16: 712 | P16: 368 | Q16: 44744 | R16: 22409 | S16: 22335 | T16: 220 | U16: 217919312 | V16: 176308854 | W16: 41610458 | X16: 229 | Y16: 219 | Z16: 7 | AA16: 3 | AB16: 2035 | AC16: 7747 | AD16: 115 | AE16: 270 | AF16: 7444 | AG16: 3044 | AH16: 4400 | AI16: 122 | AJ16: 37 | AK16: 23 | AL16: 923863 | AM16: 304110
A17: 彰化縣Changhua County | B17: 583 | C17: 426648 | D17: 1172309 | E17: 9396 | F17: 7435 | G17: 1961 | H17: 583 | I17: 447 | J17: 136 | K17: 6587 | L17: 5221 | M17: 1366 | N17: 2226 | O17: 1767 | P17: 459 | Q17: 58916 | R17: 33045 | S17: 25871 | T17: 388 | U17: 428760434 | V17: 306435100 | W17: 122325334 | X17: 431 | Y17: 418 | Z17: 5 | AA17: 8 | AB17: 6236 | AC17: 21451 | AD17: 89 | AE17: 665 | AF17: 24703 | AG17: 9302 | AH17: 15401 | AI17: 322 | AJ17: 214 | AK17: 8 | AL17: 1324918 | AM17: 348413
A18: 南投縣Nantou County | B18: 279 | C18: 177649 | D18: 447010 | E18: 3848 | F18: 2644 | G18: 1204 | H18: 279 | I18: 203 | J18: 76 | K18: 2642 | L18: 1816 | M18: 826 | N18: 927 | O18: 625 | P18: 302 | Q18: 25099 | R18: 14028 | S18: 11071 | T18: 221 | U18: 134712462 | V18: 73403087 | W18: 61309375 | X18: 219 | Y18: 216 | Z18: 1 | AA18: 2 | AB18: 5689 | AC18: 8797 | AD18: 70 | AE18: 279 | AF18: 7208 | AG18: 2558 | AH18: 4650 | AI18: 139 | AJ18: 72 | AK18: 23 | AL18: 1009519 | AM18: 160172
... A29: 連江縣Lienchiang County | B29: 20 | C29: 4081 | D29: 13681 | E29: 215 | F29: 171 | G29: 44 | H29: 20 | I29: 18 | J29: 2 | K29: 141 | L29: 111 | M29: 30 | N29: 54 | O29: 42 | P29: 12 | Q29: 1549 | R29: 820 | S29: 729 | T29: 0 | U29: 7643947 | V29: 7362669 | W29: 281278 | X29: 19 | Y29: 17 | Z29: 2 | AA29: 0 | AB29: 40 | AC29: 45 | AD29: 1 | AE29: 2 | AF29: 87 | AG29: 61 | AH29: 26 | AI29: 6 | AJ29: 4 | AK29: 0 | AL29: 2821 | AM29: 3901
A30: 資料來源：直轄市及縣(市)政府。
A31: 說 明：本表資料不包括未成立社區發展協會者。
A32: Source: County and Government.
A34: 更新日期：2026/06/09
A36: 總計Total | B36: 7031 | C36: 9350370 | D36: 22216020 | E36: 107149 | F36: 72161 | G36: 34988 | H36: 7031 | I36: 5037 | J36: 1994 | K36: 74304 | L36: 50031 | M36: 24273 | N36: 25814 | O36: 17093 | P36: 8721 | Q36: 721543 | R36: 349636 | S36: 371907 | T36: 3947 | U36: 4557235389 | V36: 3416130487 | W36: 1141104902 | X36: 2994 | Y36: 2889 | Z36: 46 | AA36: 59 | AB36: 104807 | AC36: 280650 | AD36: 3374 | AE36: 5401 | AF36: 159678 | AG36: 55993 | AH36: 103685 | AI36: 2970 | AJ36: 1896 | AK36: 476 | AL36: 23380446 | AM36: 4830077
A37: 新 北 市New Taipei City | B37: 469 | C37: 1786834 | D37: 4044831 | E37: 7751 | F37: 4655 | G37: 3096 | H37: 469 | I37: 313 | J37: 156 | K37: 5383 | L37: 3241 | M37: 2142 | N37: 1899 | O37: 1101 | P37: 798 | Q37: 57844 | R37: 24383 | S37: 33461 | T37: 335 | U37: 193281975 | V37: 140802983 | W37: 52478992 | X37: 0 | Y37: 0 | Z37: 0 | AA37: 0 | AB37: 4750 | AC37: 12132 | AD37: 616 | AE37: 224 | AF37: 6284 | AG37: 2216 | AH37: 4068 | AI37: 116 | AJ37: 57 | AK37: 30 | AL37: 1511692 | AM37: 189753
A38: 臺 北 市Taipei City | B38: 378 | C38: 1080892 | D38: 2439507 | E38: 5442 | F38: 2755 | G38: 2687 | H38: 378 | I38: 225 | J38: 153 | K38: 3716 | L38: 1857 | M38: 1859 | N38: 1348 | O38: 673 | P38: 675 | Q38: 22558 | R38: 8975 | S38: 13583 | T38: 0 | U38: 50693229 | V38: 37688664 | W38: 13004565 | X38: 0 | Y38: 0 | Z38: 0 | AA38: 0 | AB38: 5058 | AC38: 4409 | AD38: 333 | AE38: 145 | AF38: 4465 | AG38: 1650 | AH38: 2815 | AI38: 96 | AJ38: 71 | AK38: 27 | AL38: 396572 | AM38: 76210
A39: 桃 園 市Taoyuan City | B39: 357 | C39: 852094 | D39: 2038044 | E39: 5782 | F39: 3128 | G39: 2654 | H39: 357 | I39: 243 | J39: 114 | K39: 4025 | L39: 2127 | M39: 1898 | N39: 1400 | O39: 758 | P39: 642 | Q39: 56793 | R39: 22972 | S39: 33821 | T39: 268 | U39: 391980186 | V39: 289947298 | W39: 102032888 | X39: 204 | Y39: 185 | Z39: 6 | AA39: 13 | AB39: 6154 | AC39: 26004 | AD39: 535 | AE39: 319 | AF39: 13902 | AG39: 4487 | AH39: 9415 | AI39: 214 | AJ39: 208 | AK39: 60 | AL39: 1569239 | AM39: 748615
A40: 臺 中 市Taichung City | B40: 606 | C40: 1147580 | D40: 2827209 | E40: 9634 | F40: 6366 | G40: 3268 | H40: 606 | I40: 437 | J40: 169 | K40: 6705 | L40: 4393 | M40: 2312 | N40: 2323 | O40: 1536 | P40: 787 | Q40: 51965 | R40: 24390 | S40: 27575 | T40: 150 | U40: 233345383 | V40: 146194709 | W40: 87150674 | X40: 0 | Y40: 0 | Z40: 0 | AA40: 0 | AB40: 3346 | AC40: 29362 | AD40: 232 | AE40: 446 | AF40: 13316 | AG40: 3467 | AH40: 9849 | AI40: 299 | AJ40: 198 | AK40: 16 | AL40: 1368323 | AM40: 188527
A41: 臺 南 市Tainan City | B41: 673 | C41: 761180 | D41: 1824985 | E41: 9903 | F41: 6941 | G41: 2962 | H41: 673 | I41: 493 | J41: 180 | K41: 6908 | L41: 4828 | M41: 2080 | N41: 2322 | O41: 1620 | P41: 702 | Q41: 81408 | R41: 37348 | S41: 44060 | T41: 282 | U41: 261997832 | V41: 194431116 | W41: 67566716 | X41: 150 | Y41: 148 | Z41: 1 | AA41: 1 | AB41: 5651 | AC41: 20117 | AD41: 342 | AE41: 780 | AF41: 15099 | AG41: 5070 | AH41: 10029 | AI41: 262 | AJ41: 162 | AK41: 13 | AL41: 1620797 | AM41: 343167
A42: 高 雄 市Kaohsiung City | B42: 768 | C42: 949068 | D42: 2152655 | E42: 11396 | F42: 7052 | G42: 4344 | H42: 768 | I42: 523 | J42: 245 | K42: 7857 | L42: 4823 | M42: 3034 | N42: 2771 | O42: 1706 | P42: 1065 | Q42: 75979 | R42: 33774 | S42: 42205 | T42: 391 | U42: 476173475 | V42: 359288039 | W42: 116885436 | X42: 285 | Y42: 285 | Z42: 0 | AA42: 0 | AB42: 31332 | AC42: 33466 | AD42: 461 | AE42: 617 | AF42: 18984 | AG42: 6640 | AH42: 12344 | AI42: 297 | AJ42: 177 | AK42: 159 | AL42: 1550917 | AM42: 710448
A43: 宜蘭縣Yilan County | B43: 241 | C43: 191316 | D43: 449495 | E43: 3854 | F43: 2819 | G43: 1035 | H43: 241 | I43: 185 | J43: 56 | K43: 2714 | L43: 1990 | M43: 724 | N43: 899 | O43: 644 | P43: 255 | Q43: 24759 | R43: 12675 | S43: 12084 | T43: 129 | U43: 272289686 | V43: 220024041 | W43: 52265645 | X43: 205 | Y43: 202 | Z43: 2 | AA43: 1 | AB43: 2049 | AC43: 23855 | AD43: 101 | AE43: 284 | AF43: 7713 | AG43: 2929 | AH43: 4784 | AI43: 141 | AJ43: 97 | AK43: 20 | AL43: 1556373 | AM43: 251384
A44: 新竹縣Hsinchu County | B44: 188 | C44: 242535 | D44: 591814 | E44: 3261 | F44: 2141 | G44: 1120 | H44: 188 | I44: 136 | J44: 52 | K44: 2274 | L44: 1495 | M44: 779 | N44: 799 | O44: 510 | P44: 289 | Q44: 33475 | R44: 16051 | S44: 17424 | T44: 169 | U44: 213618463 | V44: 136689914 | W44: 76928549 | X44: 77 | Y44: 74 | Z44: 2 | AA44: 1 | AB44: 3689 | AC44: 19772 | AD44: 42 | AE44: 193 | AF44: 5041 | AG44: 2015 | AH44: 3026 | AI44: 63 | AJ44: 66 | AK44: 21 | AL44: 1502246 | AM44: 145192
A45: 苗栗縣Miaoli County | B45: 280 | C45: 209599 | D45: 525755 | E45: 4682 | F45: 3163 | G45: 1519 | H45: 280 | I45: 197 | J45: 83 | K45: 3322 | L45: 2254 | M45: 1068 | N45: 1080 | O45: 712 | P45: 368 | Q45: 44744 | R45: 22409 | S45: 22335 | T45: 220 | U45: 217919312 | V45: 176308854 | W45: 41610458 | X45: 229 | Y45: 219 | Z45: 7 | AA45: 3 | AB45: 2035 | AC45: 7747 | AD45: 115 | AE45: 270 | AF45: 7444 | AG45: 3044 | AH45: 4400 | AI45: 122 | AJ45: 37 | AK45: 23 | AL45: 923863 | AM45: 304110
A46: 彰化縣Changhua County | B46: 583 | C46: 426648 | D46: 1172309 | E46: 9396 | F46: 7435 | G46: 1961 | H46: 583 | I46: 447 | J46: 136 | K46: 6587 | L46: 5221 | M46: 1366 | N46: 2226 | O46: 1767 | P46: 459 | Q46: 58916 | R46: 33045 | S46: 25871 | T46: 388 | U46: 428760434 | V46: 306435100 | W46: 122325334 | X46: 431 | Y46: 418 | Z46: 5 | AA46: 8 | AB46: 6236 | AC46: 21451 | AD46: 89 | AE46: 665 | AF46: 24703 | AG46: 9302 | AH46: 15401 | AI46: 322 | AJ46: 214 | AK46: 8 | AL46: 1324918 | AM46: 348413
A47: 南投縣Nantou County | B47: 279 | C47: 177649 | D47: 447010 | E47: 3848 | F47: 2644 | G47: 1204 | H47: 279 | I47: 203 | J47: 76 | K47: 2642 | L47: 1816 | M47: 826 | N47: 927 | O47: 625 | P47: 302 | Q47: 25099 | R47: 14028 | S47: 11071 | T47: 221 | U47: 134712462 | V47: 73403087 | W47: 61309375 | X47: 219 | Y47: 216 | Z47: 1 | AA47: 2 | AB47: 5689 | AC47: 8797 | AD47: 70 | AE47: 279 | AF47: 7208 | AG47: 2558 | AH47: 4650 | AI47: 139 | AJ47: 72 | AK47: 23 | AL47: 1009519 | AM47: 160172
... A58: 連江縣Lienchiang County | B58: 20 | C58: 4081 | D58: 13681 | E58: 215 | F58: 171 | G58: 44 | H58: 20 | I58: 18 | J58: 2 | K58: 141 | L58: 111 | M58: 30 | N58: 54 | O58: 42 | P58: 12 | Q58: 1549 | R58: 820 | S58: 729 | T58: 0 | U58: 7643947 | V58: 7362669 | W58: 281278 | X58: 19 | Y58: 17 | Z58: 2 | AA58: 0 | AB58: 40 | AC58: 45 | AD58: 1 | AE58: 2 | AF58: 87 | AG58: 61 | AH58: 26 | AI58: 6 | AJ58: 4 | AK58: 0 | AL58: 2821 | AM58: 3901
A60: 總計Total | B60: =IF(B36=B7,"","*") | C60: =IF(C36=C7,"","*") | D60: =IF(D36=D7,"","*") | E60: =IF(E36=E7,"","*") | F60: =IF(F36=F7,"","*") | G60: =IF(G36=G7,"","*") | H60: =IF(H36=H7,"","*") | I60: =IF(I36=I7,"","*") | ... AM60: =IF(AM36=AM7,"","*")
A61: 新 北 市New Taipei City | B61: =IF(B37=B8,"","*") | C61: =IF(C37=C8,"","*") | D61: =IF(D37=D8,"","*") | E61: =IF(E37=E8,"","*") | F61: =IF(F37=F8,"","*") | G61: =IF(G37=G8,"","*") | H61: =IF(H37=H8,"","*") | I61: =IF(I37=I8,"","*") | ... AM61: =IF(AM37=AM8,"","*")
A62: 臺 北 市Taipei City | B62: =IF(B38=B9,"","*") | C62: =IF(C38=C9,"","*") | D62: =IF(D38=D9,"","*") | E62: =IF(E38=E9,"","*") | F62: =IF(F38=F9,"","*") | G62: =IF(G38=G9,"","*") | H62: =IF(H38=H9,"","*") | I62: =IF(I38=I9,"","*") | ... AM62: =IF(AM38=AM9,"","*")
A63: 桃 園 市Taoyuan City | B63: =IF(B39=B10,"","*") | C63: =IF(C39=C10,"","*") | D63: =IF(D39=D10,"","*") | E63: =IF(E39=E10,"","*") | F63: =IF(F39=F10,"","*") | G63: =IF(G39=G10,"","*") | H63: =IF(H39=H10,"","*") | I63: =IF(I39=I10,"","*") | ... AM63: =IF(AM39=AM10,"","*")
...

Sheet 2024
A1: 推行社區發展工作成果 Achievements of Community Development
A2: 113年, 2024 | B2: =IF(B7=SUM(B8:B29),"",SUM(B8:B29)) | C2: =IF(C7=SUM(C8:C29),"",SUM(C8:C29)) | D2: =IF(D7=SUM(D8:D29),"",SUM(D8:D29)) | E2: =IF(E7=SUM(E8:E29),"",SUM(E8:E29)) | F2: =IF(F7=SUM(F8:F29),"",SUM(F8:F29)) | G2: =IF(G7=SUM(G8:G29),"",SUM(G8:G29)) | H2: =IF(H7=SUM(H8:H29),"",SUM(H8:H29)) | I2: =IF(I7=SUM(I8:I29),"",SUM(I8:I29)) | ... AN2: =IF(AN7=SUM(AN8:AN29),"",SUM(AN8:AN29))
A3: 區域別 Locality | B3: 社區發展 協會數(個) No.of Community DevelopmentAssociations (Units) | C3: 社區戶數 (戶) Households of Communities (Households) | D3: 社區人口數 (人) Communities Persons of (Persons) | E3: 理監事人數(人) Directors and Supervisors (Persons) | Q3: 社區發展協會會員數(人) Members Community Development Associations (Persons) | T3: 設置社區生產建設基金 (個) Community Economic Development Fund(Unit) | U3: 實際使用經費(元) Outlays | X3: 社區建設主要項目 Main Items of Community Construction
E4: 合計 Total | H4: 理事長 Director-general | K4: 理事(不含理事長)Directors | N4: 監事 Supervisors | U4: 合計 (元) Total (NT$) | V4: 政府補助款 (元) Government-Provided (NT$) | W4: 社區自籌款 (元) Self-Provided (NT$) | X4: 社區活動中心Community Activity Centers(Units) | AB4: 辦理社區幹部訓練 (人次)Topic Training (Times of Persons) | AC4: 辦理社區 觀摩(人次) Community Exposition (Times of Persons) | AD4: 社區長壽俱樂部(處) Elderly Community Club (Places) | AE4: 社區守望 相助隊(隊) Community Mutual-help Program (Teams) | AF4: 社區志願服務團隊 Community Volunteer Service Teams (Groups) | AJ4: 辦理社區照顧關懷據點 (處) Community Care Locations (Places) | AK4: 社區圖書室 (處) Community Libraries (Places) | AL4: 發行社區報導或通訊 (期) Community Publications (Times) | AM4: 服務成果 Person-times Served
E5: 計 Subtotal | F5: 男 Male | G5: 女 Female | H5: 計 Subtotal | I5: 男 Male | J5: 女 Female | K5: 計 Subtotal | L5: 男 Male | M5: 女 Female | N5: 計 Subtotal | O5: 男 Male | P5: 女 Female | Q5: 計 Subtotal | R5: 男 Male | S5: 女 Female | X5: 合計 (幢) Total | Y5: 原建 (未作修擴建)(幢) Originally Built (Without Repair Extension) | Z5: 新建(幢) Newly Built | AA5: 修擴建(幢) Repair Extension | AF5: 團隊(隊) Teams | AG5: 志工數(人)Persons | AM5: 福利服務或活動(人次) Welfare Service or Activities (Times of Persons) | AN5: 其他服務(人次) Other Services (Times of Persons)
AG6: 合計 Total | AH6: 男 Male | AI6: 女 Female
A7: 總計Total | B7: 7026 | C7: 8972256 | D7: 22241949 | E7: 107558 | F7: 73424 | G7: 34134 | H7: 7026 | I7: 5121 | J7: 1905 | K7: 74530 | L7: 50908 | M7: 23622 | N7: 26002 | O7: 17395 | P7: 8607 | Q7: 725642 | R7: 355188 | S7: 370454 | T7: 3953 | U7: 4268697498 | V7: 3166157982 | W7: 1102539516 | X7: 3372 | Y7: 3132 | Z7: 143 | AA7: 97 | AB7: 89369 | AC7: 277192 | AD7: 3250 | AE7: 3351 | AF7: 4985 | AG7: 156735 | AH7: 58976 | AI7: 97759 | AJ7: 3481 | AK7: 635 | AL7: 484 | AM7: 19845759 | AN7: 4181627
A8: 新 北 市New Taipei City | B8: 467 | C8: 1715786 | D8: 4047001 | E8: 7916 | F8: 4807 | G8: 3109 | H8: 467 | I8: 312 | J8: 155 | K8: 5510 | L8: 3347 | M8: 2163 | N8: 1939 | O8: 1148 | P8: 791 | Q8: 59610 | R8: 25726 | S8: 33884 | T8: 337 | U8: 196271395 | V8: 134957964 | W8: 61313431 | X8: 0 | Y8: 0 | Z8: 0 | AA8: 0 | AB8: 7453 | AC8: 18051 | AD8: 311 | AE8: 611 | AF8: 222 | AG8: 6185 | AH8: 2219 | AI8: 3966 | AJ8: 116 | AK8: 84 | AL8: 34 | AM8: 1721175 | AN8: 172865
A9: 臺 北 市Taipei City | B9: 386 | C9: 1071493 | D9: 2490869 | E9: 5595 | F9: 2865 | G9: 2730 | H9: 386 | I9: 233 | J9: 153 | K9: 3827 | L9: 1936 | M9: 1891 | N9: 1382 | O9: 696 | P9: 686 | Q9: 23455 | R9: 9325 | S9: 14130 | T9: 0 | U9: 46511066 | V9: 33883594 | W9: 12627472 | X9: 0 | Y9: 0 | Z9: 0 | AA9: 0 | AB9: 6548 | AC9: 3919 | AD9: 0 | AE9: 343 | AF9: 136 | AG9: 4280 | AH9: 1558 | AI9: 2722 | AJ9: 505 | AK9: 28 | AL9: 28 | AM9: 404004 | AN9: 30318
A10: 桃 園 市Taoyuan City | B10: 350 | C10: 791988 | D10: 1996221 | E10: 5672 | F10: 3125 | G10: 2547 | H10: 350 | I10: 243 | J10: 107 | K10: 3941 | L10: 2128 | M10: 1813 | N10: 1381 | O10: 754 | P10: 627 | Q10: 56114 | R10: 23017 | S10: 33097 | T10: 267 | U10: 379722503 | V10: 284490360 | W10: 95232143 | X10: 205 | Y10: 171 | Z10: 6 | AA10: 28 | AB10: 5182 | AC10: 27159 | AD10: 33 | AE10: 532 | AF10: 278 | AG10: 11926 | AH10: 3744 | AI10: 8182 | AJ10: 203 | AK10: 25 | AL10: 56 | AM10: 1284849 | AN10: 739966
A11: 臺 中 市Taichung City | B11: 609 | C11: 1095893 | D11: 2833694 | E11: 9688 | F11: 6507 | G11: 3181 | H11: 609 | I11: 443 | J11: 166 | K11: 6740 | L11: 4496 | M11: 2244 | N11: 2339 | O11: 1568 | P11: 771 | Q11: 52486 | R11: 25022 | S11: 27464 | T11: 151 | U11: 233472479 | V11: 145022818 | W11: 88449661 | X11: 248 | Y11: 246 | Z11: 0 | AA11: 2 | AB11: 4609 | AC11: 32622 | AD11: 395 | AE11: 233 | AF11: 417 | AG11: 12986 | AH11: 3415 | AI11: 9571 | AJ11: 289 | AK11: 18 | AL11: 31 | AM11: 1146267 | AN11: 157768
A12: 臺 南 市Tainan City | B12: 675 | C12: 727340 | D12: 1813162 | E12: 9902 | F12: 6979 | G12: 2923 | H12: 675 | I12: 507 | J12: 168 | K12: 6919 | L12: 4856 | M12: 2063 | N12: 2308 | O12: 1616 | P12: 692 | Q12: 81842 | R12: 38687 | S12: 43155 | T12: 292 | U12: 243015974 | V12: 177140338 | W12: 65875636 | X12: 149 | Y12: 147 | Z12: 1 | AA12: 1 | AB12: 3974 | AC12: 20640 | AD12: 433 | AE12: 150 | AF12: 509 | AG12: 15982 | AH12: 5242 | AI12: 10740 | AJ12: 263 | AK12: 76 | AL12: 24 | AM12: 1647842 | AN12: 369517
A13: 高 雄 市Kaohsiung City | B13: 758 | C13: 897926 | D13: 2107870 | E13: 11349 | F13: 7124 | G13: 4225 | H13: 758 | I13: 527 | J13: 231 | K13: 7817 | L13: 4888 | M13: 2929 | N13: 2774 | O13: 1709 | P13: 1065 | Q13: 76361 | R13: 33831 | S13: 42530 | T13: 391 | U13: 415368549 | V13: 273581197 | W13: 141787352 | X13: 289 | Y13: 289 | Z13: 0 | AA13: 0 | AB13: 16589 | AC13: 32317 | AD13: 303 | AE13: 466 | AF13: 642 | AG13: 18665 | AH13: 6527 | AI13: 12138 | AJ13: 287 | AK13: 50 | AL13: 139 | AM13: 1524283 | AN13: 614474
A14: 宜蘭縣Yilan County | B14: 241 | C14: 184044 | D14: 450555 | E14: 3881 | F14: 2857 | G14: 1024 | H14: 241 | I14: 184 | J14: 57 | K14: 2715 | L14: 2006 | M14: 709 | N14: 925 | O14: 667 | P14: 258 | Q14: 24828 | R14: 12842 | S14: 11986 | T14: 132 | U14: 242332021 | V14: 185932041 | W14: 56399980 | X14: 207 | Y14: 195 | Z14: 8 | AA14: 4 | AB14: 2036 | AC14: 9886 | AD14: 115 | AE14: 103 | AF14: 283 | AG14: 7781 | AH14: 2885 | AI14: 4896 | AJ14: 133 | AK14: 19 | AL14: 21 | AM14: 1130500 | AN14: 203814
A15: 新竹縣Hsinchu County | B15: 188 | C15: 229534 | D15: 598417 | E15: 3176 | F15: 2089 | G15: 1087 | H15: 188 | I15: 145 | J15: 43 | K15: 2177 | L15: 1421 | M15: 756 | N15: 811 | O15: 523 | P15: 288 | Q15: 33657 | R15: 16517 | S15: 17140 | T15: 170 | U15: 195550819 | V15: 117950544 | W15: 77600275 | X15: 92 | Y15: 87 | Z15: 3 | AA15: 2 | AB15: 3320 | AC15: 23034 | AD15: 124 | AE15: 46 | AF15: 184 | AG15: 5248 | AH15: 2071 | AI15: 3177 | AJ15: 77 | AK15: 17 | AL15: 19 | AM15: 358485 | AN15: 87272
A16: 苗栗縣Miaoli County | B16: 280 | C16: 203566 | D16: 533144 | E16: 4616 | F16: 3164 | G16: 1452 | H16: 280 | I16: 203 | J16: 77 | K16: 3261 | L16: 2255 | M16: 1006 | N16: 1075 | O16: 706 | P16: 369 | Q16: 44071 | R16: 21575 | S16: 22496 | T16: 196 | U16: 163602334 | V16: 124376916 | W16: 39225418 | X16: 232 | Y16: 226 | Z16: 4 | AA16: 2 | AB16: 3800 | AC16: 9336 | AD16: 158 | AE16: 149 | AF16: 243 | AG16: 7326 | AH16: 3083 | AI16: 4243 | AJ16: 120 | AK16: 26 | AL16: 11 | AM16: 1050962 | AN16: 249462
A17: 彰化縣Changhua County | B17: 581 | C17: 405923 | D17: 1186776 | E17: 9456 | F17: 7558 | G17: 1898 | H17: 581 | I17: 450 | J17: 131 | K17: 6629 | L17: 5315 | M17: 1314 | N17: 2246 | O17: 1793 | P17: 453 | Q17: 59563 | R17: 33583 | S17: 25980 | T17: 396 | U17: 433521194 | V17: 315444253 | W17: 118076941 | X17: 424 | Y17: 413 | Z17: 5 | AA17: 6 | AB17: 5688 | AC17: 21789 | AD17: 296 | AE17: 88 | AF17: 605 | AG17: 23316 | AH17: 9215 | AI17: 14101 | AJ17: 312 | AK17: 51 | AL17: 6 | AM17: 1125107 | AN17: 385652
A18: 南投縣Nantou County | B18: 278 | C18: 176070 | D18: 457923 | E18: 3889 | F18: 2833 | G18: 1056 | H18: 278 | I18: 211 | J18: 67 | K18: 2686 | L18: 1972 | M18: 714 | N18: 925 | O18: 650 | P18: 275 | Q18: 25018 | R18: 14059 | S18: 10959 | T18: 222 | U18: 83009220 | V18: 71708659 | W18: 11300561 | X18: 216 | Y18: 216 | Z18: 0 | AA18: 0 | AB18: 4919 | AC18: 10504 | AD18: 80 | AE18: 75 | AF18: 314 | AG18: 7350 | AH18: 2907 | AI18: 4443 | AJ18: 138 | AK18: 37 | AL18: 34 | AM18: 878915 | AN18: 129838
... A29: 連江縣Lienchiang County | B29: 20 | C29: 3885 | D29: 13936 | E29: 219 | F29: 171 | G29: 48 | H29: 20 | I29: 19 | J29: 1 | K29: 142 | L29: 113 | M29: 29 | N29: 57 | O29: 39 | P29: 18 | Q29: 1464 | R29: 778 | S29: 686 | T29: 0 | U29: 1664225 | V29: 1608389 | W29: 55836 | X29: 18 | Y29: 18 | Z29: 0 | AA29: 0 | AB29: 24 | AC29: 15 | AD29: 0 | AE29: 1 | AF29: 2 | AG29: 51 | AH29: 28 | AI29: 23 | AJ29: 4 | AK29: 0 | AL29: 0 | AM29: 5612 | AN29: 425
A30: 資料來源：直轄市及縣(市)政府。
A31: 說 明：本表資料不包括未成立社區發展協會者。
A32: Source: County and Government.
A34: 更新日期：2026/03/31
A36: 總計Total | B36: 7026 | C36: 9040617 | D36: 22240630 | E36: 107532 | F36: 73414 | G36: 34118 | H36: 7026 | I36: 5121 | J36: 1905 | K36: 74516 | L36: 50903 | M36: 23613 | N36: 25990 | O36: 17390 | P36: 8600 | Q36: 725642 | R36: 355188 | S36: 370454 | T36: 3953 | U36: 4266540532 | V36: 3164001016 | W36: 1102539516 | X36: 3371 | Y36: 3132 | Z36: 143 | AA36: 96 | AB36: 89443 | AC36: 277118 | AD36: 3250 | AE36: 3633 | AF36: 4991 | AG36: 156710 | AH36: 58967 | AI36: 97743 | AJ36: 3481 | AK36: 659 | AL36: 500 | AM36: 19845759 | AN36: 4181627
A37: 新 北 市New Taipei City | B37: 467 | C37: 1715786 | D37: 4047001 | E37: 7916 | F37: 4807 | G37: 3109 | H37: 467 | I37: 312 | J37: 155 | K37: 5510 | L37: 3347 | M37: 2163 | N37: 1939 | O37: 1148 | P37: 791 | Q37: 59610 | R37: 25726 | S37: 33884 | T37: 337 | U37: 196271395 | V37: 134957964 | W37: 61313431 | X37: 0 | Y37: 0 | Z37: 0 | AA37: 0 | AB37: 7453 | AC37: 18051 | AD37: 311 | AE37: 611 | AF37: 222 | AG37: 6185 | AH37: 2219 | AI37: 3966 | AJ37: 116 | AK37: 84 | AL37: 34 | AM37: 1721175 | AN37: 172865
A38: 臺 北 市Taipei City | B38: 386 | C38: 1071493 | D38: 2490869 | E38: 5560 | F38: 2852 | G38: 2708 | H38: 386 | I38: 233 | J38: 153 | K38: 3806 | L38: 1930 | M38: 1876 | N38: 1368 | O38: 689 | P38: 679 | Q38: 23455 | R38: 9325 | S38: 14130 | T38: 0 | U38: 46511066 | V38: 33883594 | W38: 12627472 | X38: 0 | Y38: 0 | Z38: 0 | AA38: 0 | AB38: 6548 | AC38: 3919 | AD38: 0 | AE38: 343 | AF38: 134 | AG38: 4248 | AH38: 1547 | AI38: 2701 | AJ38: 505 | AK38: 28 | AL38: 28 | AM38: 404004 | AN38: 30318
A39: 桃 園 市Taoyuan City | B39: 350 | C39: 791571 | D39: 1994902 | E39: 5681 | F39: 3128 | G39: 2553 | H39: 350 | I39: 243 | J39: 107 | K39: 3948 | L39: 2129 | M39: 1819 | N39: 1383 | O39: 756 | P39: 627 | Q39: 56114 | R39: 23017 | S39: 33097 | T39: 267 | U39: 379822503 | V39: 284590360 | W39: 95232143 | X39: 204 | Y39: 171 | Z39: 6 | AA39: 27 | AB39: 5256 | AC39: 27085 | AD39: 33 | AE39: 708 | AF39: 278 | AG39: 11926 | AH39: 3744 | AI39: 8182 | AJ39: 203 | AK39: 49 | AL39: 72 | AM39: 1284849 | AN39: 739966
A40: 臺 中 市Taichung City | B40: 609 | C40: 1095893 | D40: 2833694 | E40: 9688 | F40: 6507 | G40: 3181 | H40: 609 | I40: 443 | J40: 166 | K40: 6740 | L40: 4496 | M40: 2244 | N40: 2339 | O40: 1568 | P40: 771 | Q40: 52486 | R40: 25022 | S40: 27464 | T40: 151 | U40: 233472479 | V40: 145022818 | W40: 88449661 | X40: 248 | Y40: 246 | Z40: 0 | AA40: 2 | AB40: 4609 | AC40: 32622 | AD40: 395 | AE40: 233 | AF40: 417 | AG40: 12986 | AH40: 3415 | AI40: 9571 | AJ40: 289 | AK40: 18 | AL40: 31 | AM40: 1146267 | AN40: 157768
A41: 臺 南 市Tainan City | B41: 675 | C41: 727340 | D41: 1813162 | E41: 9902 | F41: 6979 | G41: 2923 | H41: 675 | I41: 507 | J41: 168 | K41: 6919 | L41: 4856 | M41: 2063 | N41: 2308 | O41: 1616 | P41: 692 | Q41: 81842 | R41: 38687 | S41: 43155 | T41: 292 | U41: 243015974 | V41: 177140338 | W41: 65875636 | X41: 149 | Y41: 147 | Z41: 1 | AA41: 1 | AB41: 3974 | AC41: 20640 | AD41: 433 | AE41: 345 | AF41: 509 | AG41: 15982 | AH41: 5242 | AI41: 10740 | AJ41: 263 | AK41: 76 | AL41: 24 | AM41: 1647842 | AN41: 369517
A42: 高 雄 市Kaohsiung City | B42: 758 | C42: 897926 | D42: 2107870 | E42: 11349 | F42: 7124 | G42: 4225 | H42: 758 | I42: 527 | J42: 231 | K42: 7817 | L42: 4888 | M42: 2929 | N42: 2774 | O42: 1709 | P42: 1065 | Q42: 76361 | R42: 33831 | S42: 42530 | T42: 391 | U42: 415368549 | V42: 273581197 | W42: 141787352 | X42: 289 | Y42: 289 | Z42: 0 | AA42: 0 | AB42: 16589 | AC42: 32317 | AD42: 303 | AE42: 466 | AF42: 650 | AG42: 18672 | AH42: 6529 | AI42: 12143 | AJ42: 287 | AK42: 50 | AL42: 139 | AM42: 1524283 | AN42: 614474
A43: 宜蘭縣Yilan County | B43: 241 | C43: 184044 | D43: 450555 | E43: 3881 | F43: 2857 | G43: 1024 | H43: 241 | I43: 184 | J43: 57 | K43: 2715 | L43: 2006 | M43: 709 | N43: 925 | O43: 667 | P43: 258 | Q43: 24828 | R43: 12842 | S43: 11986 | T43: 132 | U43: 240075055 | V43: 183675075 | W43: 56399980 | X43: 207 | Y43: 195 | Z43: 8 | AA43: 4 | AB43: 2036 | AC43: 9886 | AD43: 115 | AE43: 103 | AF43: 283 | AG43: 7781 | AH43: 2885 | AI43: 4896 | AJ43: 133 | AK43: 19 | AL43: 21 | AM43: 1130500 | AN43: 203814
A44: 新竹縣Hsinchu County | B44: 188 | C44: 229534 | D44: 598417 | E44: 3176 | F44: 2089 | G44: 1087 | H44: 188 | I44: 145 | J44: 43 | K44: 2177 | L44: 1421 | M44: 756 | N44: 811 | O44: 523 | P44: 288 | Q44: 33657 | R44: 16517 | S44: 17140 | T44: 170 | U44: 195550819 | V44: 117950544 | W44: 77600275 | X44: 92 | Y44: 87 | Z44: 3 | AA44: 2 | AB44: 3320 | AC44: 23034 | AD44: 124 | AE44: 46 | AF44: 184 | AG44: 5248 | AH44: 2071 | AI44: 3177 | AJ44: 77 | AK44: 17 | AL44: 19 | AM44: 358485 | AN44: 87272
A45: 苗栗縣Miaoli County | B45: 280 | C45: 203566 | D45: 533144 | E45: 4616 | F45: 3164 | G45: 1452 | H45: 280 | I45: 203 | J45: 77 | K45: 3261 | L45: 2255 | M45: 1006 | N45: 1075 | O45: 706 | P45: 369 | Q45: 44071 | R45: 21575 | S45: 22496 | T45: 196 | U45: 163602334 | V45: 124376916 | W45: 39225418 | X45: 232 | Y45: 226 | Z45: 4 | AA45: 2 | AB45: 3800 | AC45: 9336 | AD45: 158 | AE45: 149 | AF45: 243 | AG45: 7326 | AH45: 3083 | AI45: 4243 | AJ45: 120 | AK45: 26 | AL45: 11 | AM45: 1050962 | AN45: 249462
A46: 彰化縣Changhua County | B46: 581 | C46: 405923 | D46: 1186776 | E46: 9456 | F46: 7558 | G46: 1898 | H46: 581 | I46: 450 | J46: 131 | K46: 6629 | L46: 5315 | M46: 1314 | N46: 2246 | O46: 1793 | P46: 453 | Q46: 59563 | R46: 33583 | S46: 25980 | T46: 396 | U46: 433521194 | V46: 315444253 | W46: 118076941 | X46: 424 | Y46: 413 | Z46: 5 | AA46: 6 | AB46: 5688 | AC46: 21789 | AD46: 296 | AE46: 88 | AF46: 605 | AG46: 23316 | AH46: 9215 | AI46: 14101 | AJ46: 312 | AK46: 51 | AL46: 6 | AM46: 1125107 | AN46: 385652
A47: 南投縣Nantou County | B47: 278 | C47: 244848 | D47: 457923 | E47: 3889 | F47: 2833 | G47: 1056 | H47: 278 | I47: 211 | J47: 67 | K47: 2686 | L47: 1972 | M47: 714 | N47: 925 | O47: 650 | P47: 275 | Q47: 25018 | R47: 14059 | S47: 10959 | T47: 222 | U47: 83009220 | V47: 71708659 | W47: 11300561 | X47: 216 | Y47: 216 | Z47: 0 | AA47: 0 | AB47: 4919 | AC47: 10504 | AD47: 80 | AE47: 75 | AF47: 314 | AG47: 7350 | AH47: 2907 | AI47: 4443 | AJ47: 138 | AK47: 37 | AL47: 34 | AM47: 878915 | AN47: 129838
... A58: 連江縣Lienchiang County | B58: 20 | C58: 3885 | D58: 13936 | E58: 219 | F58: 171 | G58: 48 | H58: 20 | I58: 19 | J58: 1 | K58: 142 | L58: 113 | M58: 29 | N58: 57 | O58: 39 | P58: 18 | Q58: 1464 | R58: 778 | S58: 686 | T58: 0 | U58: 1664225 | V58: 1608389 | W58: 55836 | X58: 18 | Y58: 18 | Z58: 0 | AA58: 0 | AB58: 24 | AC58: 15 | AD58: 0 | AE58: 1 | AF58: 2 | AG58: 51 | AH58: 28 | AI58: 23 | AJ58: 4 | AK58: 0 | AL58: 0 | AM58: 5612 | AN58: 425
A60: 總計Total | B60: =IF(B36=B7,"","*") | C60: =IF(C36=C7,"","*") -> * | D60: =IF(D36=D7,"","*") -> * | E60: =IF(E36=E7,"","*") -> * | F60: =IF(F36=F7,"","*") -> * | G60: =IF(G36=G7,"","*") -> * | H60: =IF(H36=H7,"","*") | I60: =IF(I36=I7,"","*") | ... AN60: =IF(AN36=AN7,"","*")
A61: 新 北 市New Taipei City | B61: =IF(B37=B8,"","*") | C61: =IF(C37=C8,"","*") | D61: =IF(D37=D8,"","*") | E61: =IF(E37=E8,"","*") | F61: =IF(F37=F8,"","*") | G61: =IF(G37=G8,"","*") | H61: =IF(H37=H8,"","*") | I61: =IF(I37=I8,"","*") | ... AN61: =IF(AN37=AN8,"","*")
A62: 臺 北 市Taipei City | B62: =IF(B38=B9,"","*") | C62: =IF(C38=C9,"","*") | D62: =IF(D38=D9,"","*") | E62: =IF(E38=E9,"","*") -> * | F62: =IF(F38=F9,"","*") -> * | G62: =IF(G38=G9,"","*") -> * | H62: =IF(H38=H9,"","*") | I62: =IF(I38=I9,"","*") | ... AN62: =IF(AN38=AN9,"","*")
A63: 桃 園 市Taoyuan City | B63: =IF(B39=B10,"","*") | C63: =IF(C39=C10,"","*") -> * | D63: =IF(D39=D10,"","*") -> * | E63: =IF(E39=E10,"","*") -> * | F63: =IF(F39=F10,"","*") -> * | G63: =IF(G39=G10,"","*") -> * | H63: =IF(H39=H10,"","*") | I63: =IF(I39=I10,"","*") | ... AN63: =IF(AN39=AN10,"","*")
...

Sheet 2023
A1: 推行社區發展工作成果 Achievements of Community Development
A3: 112年, 2023 | B3: =IF(B8=SUM(B9:B30),"",SUM(B9:B30)) | C3: =IF(C8=SUM(C9:C30),"",SUM(C9:C30)) | D3: =IF(D8=SUM(D9:D30),"",SUM(D9:D30)) | E3: =IF(E8=SUM(E9:E30),"",SUM(E9:E30)) | F3: =IF(F8=SUM(F9:F30),"",SUM(F9:F30)) | G3: =IF(G8=SUM(G9:G30),"",SUM(G9:G30)) | H3: =IF(H8=SUM(H9:H30),"",SUM(H9:H30)) | I3: =IF(I8=SUM(I9:I30),"",SUM(I9:I30)) | ... AN3: =IF(AN8=SUM(AN9:AN30),"",SUM(AN9:AN30))
A4: 區域別 Locality | B4: 社區發展 協會數(個) No.of Community DevelopmentAssociations (Units) | C4: 社區戶數 (戶) Households of Communities (Households) | D4: 社區人口數 (人) Communities Persons of (Persons) | E4: 理監事人數(人) Directors and Supervisors (Persons) | Q4: 社區發展協會會員數(人) Members Community Development Associations (Persons) | T4: 設置社區生產建設基金 (個) Community Economic Development Fund(Unit) | U4: 實際使用經費(元) Outlays | X4: 社區建設主要項目 Main Items of Community Construction
E5: 合計 Total | H5: 理事長 Director-general | K5: 理事(不含理事長)Directors | N5: 監事 Supervisors | U5: 合計 (元) Total (NT$) | V5: 政府補助款 (元) Government-Provided (NT$) | W5: 社區自籌款 (元) Self-Provided (NT$) | X5: 社區活動中心Community Activity Centers(Units) | AB5: 辦理社區幹部訓練 (人次)Topic Training (Times of Persons) | AC5: 辦理社區 觀摩(人次) Community Exposition (Times of Persons) | AD5: 社區長壽俱樂部(處) Elderly Community Club (Places) | AE5: 社區守望 相助隊(隊) Community Mutual-help Program (Teams) | AF5: 社區志願服務團隊 Community Volunteer Service Teams (Groups) | AJ5: 辦理社區照顧關懷據點 (處) Community Care Locations (Places) | AK5: 社區圖書室 (處) Community Libraries (Places) | AL5: 發行社區報導或通訊 (期) Community Publications (Times) | AM5: 服務成果 Person-times Served
E6: 計 Subtotal | F6: 男 Male | G6: 女 Female | H6: 計 Subtotal | I6: 男 Male | J6: 女 Female | K6: 計 Subtotal | L6: 男 Male | M6: 女 Female | N6: 計 Subtotal | O6: 男 Male | P6: 女 Female | Q6: 計 Subtotal | R6: 男 Male | S6: 女 Female | X6: 合計 (幢) Total | Y6: 原建 (未作修擴建)(幢) Originally Built (Without Repair Extension) | Z6: 新建(幢) Newly Built | AA6: 修擴建(幢) Repair Extension | AF6: 團隊(隊) Teams | AG6: 志工數(人)Persons | AM6: 福利服務或活動(人次) Welfare Service or Activities (Times of Persons) | AN6: 其他服務(人次) Other Services (Times of Persons)
AG7: 合計 Total | AH7: 男 Male | AI7: 女 Female
A8: 總計Total | B8: 7025 | C8: 8706116 | D8: 22141383 | E8: 108286 | F8: 75034 | G8: 33252 | H8: 7025 | I8: 5224 | J8: 1801 | K8: 74991 | L8: 51908 | M8: 23083 | N8: 26270 | O8: 17902 | P8: 8368 | Q8: 733250 | R8: 363271 | S8: 369979 | T8: 3939 | U8: 3760588895 | V8: 2772371765 | W8: 988217130 | X8: 3203 | Y8: 3075 | Z8: 37 | AA8: 91 | AB8: 85253 | AC8: 246771 | AD8: 3256 | AE8: 3498 | AF8: 5012 | AG8: 154196 | AH8: 55355 | AI8: 98841 | AJ8: 3319 | AK8: 699 | AL8: 576 | AM8: 16951480 | AN8: 4440921
A9: 新 北 市New Taipei City | B9: 465 | C9: 1671071 | D9: 4041120 | E9: 7910 | F9: 4856 | G9: 3054 | H9: 465 | I9: 329 | J9: 136 | K9: 5508 | L9: 3369 | M9: 2139 | N9: 1937 | O9: 1158 | P9: 779 | Q9: 60337 | R9: 26232 | S9: 34105 | T9: 336 | U9: 160056273 | V9: 118021385 | W9: 42034888 | X9: 0 | Y9: 0 | Z9: 0 | AA9: 0 | AB9: 6581 | AC9: 11541 | AD9: 290 | AE9: 584 | AF9: 224 | AG9: 6983 | AH9: 2524 | AI9: 4459 | AJ9: 116 | AK9: 44 | AL9: 38 | AM9: 1201455 | AN9: 99190
A10: 臺 北 市Taipei City | B10: 398 | C10: 1065032 | D10: 2511886 | E10: 5722 | F10: 2945 | G10: 2777 | H10: 398 | I10: 237 | J10: 161 | K10: 3899 | L10: 1989 | M10: 1910 | N10: 1425 | O10: 719 | P10: 706 | Q10: 24941 | R10: 10134 | S10: 14807 | T10: 0 | U10: 64321150 | V10: 49292043 | W10: 15029107 | X10: 0 | Y10: 0 | Z10: 0 | AA10: 0 | AB10: 3904 | AC10: 3667 | AD10: 0 | AE10: 316 | AF10: 109 | AG10: 3523 | AH10: 1333 | AI10: 2190 | AJ10: 507 | AK10: 22 | AL10: 19 | AM10: 314074 | AN10: 41579
A11: 桃 園 市Taoyuan City | B11: 339 | C11: 738694 | D11: 1904390 | E11: 5677 | F11: 3230 | G11: 2447 | H11: 339 | I11: 243 | J11: 96 | K11: 3852 | L11: 2137 | M11: 1715 | N11: 1486 | O11: 850 | P11: 636 | Q11: 55088 | R11: 22966 | S11: 32122 | T11: 264 | U11: 337385313 | V11: 244108720 | W11: 93276593 | X11: 203 | Y11: 178 | Z11: 2 | AA11: 23 | AB11: 4526 | AC11: 25699 | AD11: 30 | AE11: 665 | AF11: 291 | AG11: 11631 | AH11: 3681 | AI11: 7950 | AJ11: 195 | AK11: 27 | AL11: 61 | AM11: 1197293 | AN11: 628405
A12: 臺 中 市Taichung City | B12: 610 | C12: 1045126 | D12: 2810790 | E12: 9718 | F12: 6664 | G12: 3054 | H12: 610 | I12: 458 | J12: 152 | K12: 6757 | L12: 4596 | M12: 2161 | N12: 2351 | O12: 1610 | P12: 741 | Q12: 52459 | R12: 25491 | S12: 26968 | T12: 154 | U12: 197058940 | V12: 110291353 | W12: 86767587 | X12: 249 | Y12: 243 | Z12: 1 | AA12: 5 | AB12: 4584 | AC12: 33241 | AD12: 395 | AE12: 235 | AF12: 413 | AG12: 13276 | AH12: 3565 | AI12: 9711 | AJ12: 276 | AK12: 15 | AL12: 30 | AM12: 929133 | AN12: 180224
A13: 臺 南 市Tainan City | B13: 674 | C13: 706788 | D13: 1807881 | E13: 10215 | F13: 7329 | G13: 2886 | H13: 674 | I13: 515 | J13: 159 | K13: 7149 | L13: 5113 | M13: 2036 | N13: 2392 | O13: 1701 | P13: 691 | Q13: 84366 | R13: 39835 | S13: 44531 | T13: 297 | U13: 221627742 | V13: 162485411 | W13: 59142331 | X13: 147 | Y13: 146 | Z13: 0 | AA13: 1 | AB13: 4529 | AC13: 19906 | AD13: 444 | AE13: 344 | AF13: 536 | AG13: 16011 | AH13: 5250 | AI13: 10761 | AJ13: 252 | AK13: 77 | AL13: 26 | AM13: 1692568 | AN13: 376445
A14: 高 雄 市Kaohsiung City | B14: 771 | C14: 886013 | D14: 2136480 | E14: 11592 | F14: 7343 | G14: 4249 | H14: 771 | I14: 541 | J14: 230 | K14: 8000 | L14: 5056 | M14: 2944 | N14: 2821 | O14: 1746 | P14: 1075 | Q14: 77854 | R14: 34932 | S14: 42922 | T14: 394 | U14: 382962376 | V14: 271515640 | W14: 111446736 | X14: 288 | Y14: 287 | Z14: 1 | AA14: 0 | AB14: 17805 | AC14: 25754 | AD14: 305 | AE14: 464 | AF14: 653 | AG14: 19150 | AH14: 6775 | AI14: 12375 | AJ14: 283 | AK14: 54 | AL14: 137 | AM14: 1428478 | AN14: 579167
A15: 宜蘭縣Yilan County | B15: 241 | C15: 178596 | D15: 450004 | E15: 3911 | F15: 2923 | G15: 988 | H15: 241 | I15: 185 | J15: 56 | K15: 2730 | L15: 2057 | M15: 673 | N15: 940 | O15: 681 | P15: 259 | Q15: 24972 | R15: 13324 | S15: 11648 | T15: 128 | U15: 228240561 | V15: 161798266 | W15: 66442295 | X15: 204 | Y15: 199 | Z15: 2 | AA15: 3 | AB15: 2107 | AC15: 9743 | AD15: 115 | AE15: 104 | AF15: 261 | AG15: 7041 | AH15: 2624 | AI15: 4417 | AJ15: 127 | AK15: 19 | AL15: 24 | AM15: 1020758 | AN15: 207546
A16: 新竹縣Hsinchu County | B16: 187 | C16: 218764 | D16: 588571 | E16: 3322 | F16: 2230 | G16: 1092 | H16: 187 | I16: 148 | J16: 39 | K16: 2326 | L16: 1549 | M16: 777 | N16: 809 | O16: 533 | P16: 276 | Q16: 34125 | R16: 16356 | S16: 17769 | T16: 170 | U16: 148675528 | V16: 88103688 | W16: 60571840 | X16: 86 | Y16: 86 | Z16: 0 | AA16: 0 | AB16: 3361 | AC16: 16174 | AD16: 137 | AE16: 46 | AF16: 256 | AG16: 5708 | AH16: 2342 | AI16: 3366 | AJ16: 70 | AK16: 16 | AL16: 11 | AM16: 242853 | AN16: 114892
A17: 苗栗縣Miaoli County | B17: 280 | C17: 197555 | D17: 531105 | E17: 4595 | F17: 3229 | G17: 1366 | H17: 280 | I17: 206 | J17: 74 | K17: 3224 | L17: 2268 | M17: 956 | N17: 1091 | O17: 755 | P17: 336 | Q17: 44837 | R17: 22360 | S17: 22477 | T17: 174 | U17: 175636186 | V17: 118434140 | W17: 57202046 | X17: 233 | Y17: 227 | Z17: 5 | AA17: 1 | AB17: 2150 | AC17: 7414 | AD17: 157 | AE17: 119 | AF17: 184 | AG17: 6490 | AH17: 2718 | AI17: 3772 | AJ17: 123 | AK17: 32 | AL17: 50 | AM17: 676879 | AN17: 205849
A18: 彰化縣Changhua County | B18: 577 | C18: 392391 | D18: 1182521 | E18: 9432 | F18: 7634 | G18: 1798 | H18: 577 | I18: 446 | J18: 131 | K18: 6595 | L18: 5362 | M18: 1233 | N18: 2260 | O18: 1826 | P18: 434 | Q18: 59700 | R18: 34242 | S18: 25458 | T18: 397 | U18: 340919375 | V18: 238584984 | W18: 102334391 | X18: 422 | Y18: 405 | Z18: 4 | AA18: 13 | AB18: 5359 | AC18: 20990 | AD18: 313 | AE18: 91 | AF18: 593 | AG18: 23712 | AH18: 9431 | AI18: 14281 | AJ18: 296 | AK18: 47 | AL18: 9 | AM18: 1003486 | AN18: 400807
A19: 南投縣Nantou County | B19: 277 | C19: 175103 | D19: 467211 | E19: 3847 | F19: 2887 | G19: 960 | H19: 277 | I19: 212 | J19: 65 | K19: 2660 | L19: 2010 | M19: 650 | N19: 910 | O19: 665 | P19: 245 | Q19: 25211 | R19: 14913 | S19: 10298 | T19: 221 | U19: 75588846 | V19: 63875058 | W19: 11713788 | X19: 216 | Y19: 214 | Z19: 0 | AA19: 2 | AB19: 5616 | AC19: 7419 | AD19: 76 | AE19: 76 | AF19: 283 | AG19: 6992 | AH19: 2945 | AI19: 4047 | AJ19: 133 | AK19: 38 | AL19: 38 | AM19: 908703 | AN19: 134771
... A30: 連江縣Lienchiang County | B30: 20 | C30: 3694 | D30: 14044 | E30: 209 | F30: 162 | G30: 47 | H30: 20 | I30: 19 | J30: 1 | K30: 136 | L30: 105 | M30: 31 | N30: 53 | O30: 38 | P30: 15 | Q30: 1365 | R30: 749 | S30: 616 | T30: 0 | U30: 4263329 | V30: 3917904 | W30: 345425 | X30: 0 | Y30: 0 | Z30: 0 | AA30: 0 | AB30: 149 | AC30: 21 | AD30: 0 | AE30: 3 | AF30: 12 | AG30: 461 | AH30: 193 | AI30: 268 | AJ30: 8 | AK30: 0 | AL30: 0 | AM30: 39991 | AN30: 385
A31: 資料來源：直轄市及縣(市)政府。
A32: 說 明：本表資料不包括未成立社區發展協會者。
A33: Source: County and Government.
A35: 更新日期：2024/07/01
A37: 總計Total | B37: 7025 | C37: 8706116 | D37: 22141383 | E37: 108289 | F37: 75039 | G37: 33250 | H37: 7025 | I37: 5223 | J37: 1802 | K37: 74994 | L37: 51913 | M37: 23081 | N37: 26270 | O37: 17903 | P37: 8367 | Q37: 733219 | R37: 363258 | S37: 369961 | T37: 3966 | U37: 3760588895 | V37: 2772371765 | W37: 988217130 | X37: 3203 | Y37: 3075 | Z37: 37 | AA37: 91 | AB37: 85253 | AC37: 246771 | AD37: 3256 | AE37: 3498 | AF37: 5012 | AG37: 154196 | AH37: 55355 | AI37: 98841 | AJ37: 3319 | AK37: 699 | AL37: 576 | AM37: 16951480 | AN37: 4440921
A38: 新 北 市New Taipei City | B38: 465 | C38: 1671071 | D38: 4041120 | E38: 7910 | F38: 4856 | G38: 3054 | H38: 465 | I38: 329 | J38: 136 | K38: 5508 | L38: 3369 | M38: 2139 | N38: 1937 | O38: 1158 | P38: 779 | Q38: 60337 | R38: 26232 | S38: 34105 | T38: 336 | U38: 160056273 | V38: 118021385 | W38: 42034888 | X38: 0 | Y38: 0 | Z38: 0 | AA38: 0 | AB38: 6581 | AC38: 11541 | AD38: 290 | AE38: 584 | AF38: 224 | AG38: 6983 | AH38: 2524 | AI38: 4459 | AJ38: 116 | AK38: 44 | AL38: 38 | AM38: 1201455 | AN38: 99190
A39: 臺 北 市Taipei City | B39: 398 | C39: 1065032 | D39: 2511886 | E39: 5725 | F39: 2950 | G39: 2775 | H39: 398 | I39: 236 | J39: 162 | K39: 3902 | L39: 1994 | M39: 1908 | N39: 1425 | O39: 720 | P39: 705 | Q39: 24910 | R39: 10121 | S39: 14789 | T39: 0 | U39: 64321150 | V39: 49292043 | W39: 15029107 | X39: 0 | Y39: 0 | Z39: 0 | AA39: 0 | AB39: 3904 | AC39: 3667 | AD39: 0 | AE39: 316 | AF39: 109 | AG39: 3523 | AH39: 1333 | AI39: 2190 | AJ39: 507 | AK39: 22 | AL39: 19 | AM39: 314074 | AN39: 41579
A40: 桃 園 市Taoyuan City | B40: 339 | C40: 738694 | D40: 1904390 | E40: 5677 | F40: 3230 | G40: 2447 | H40: 339 | I40: 243 | J40: 96 | K40: 3852 | L40: 2137 | M40: 1715 | N40: 1486 | O40: 850 | P40: 636 | Q40: 55088 | R40: 22966 | S40: 32122 | T40: 264 | U40: 337385313 | V40: 244108720 | W40: 93276593 | X40: 203 | Y40: 178 | Z40: 2 | AA40: 23 | AB40: 4526 | AC40: 25699 | AD40: 30 | AE40: 665 | AF40: 291 | AG40: 11631 | AH40: 3681 | AI40: 7950 | AJ40: 195 | AK40: 27 | AL40: 61 | AM40: 1197293 | AN40: 628405
A41: 臺 中 市Taichung City | B41: 610 | C41: 1045126 | D41: 2810790 | E41: 9718 | F41: 6664 | G41: 3054 | H41: 610 | I41: 458 | J41: 152 | K41: 6757 | L41: 4596 | M41: 2161 | N41: 2351 | O41: 1610 | P41: 741 | Q41: 52459 | R41: 25491 | S41: 26968 | T41: 154 | U41: 197058940 | V41: 110291353 | W41: 86767587 | X41: 249 | Y41: 243 | Z41: 1 | AA41: 5 | AB41: 4584 | AC41: 33241 | AD41: 395 | AE41: 235 | AF41: 413 | AG41: 13276 | AH41: 3565 | AI41: 9711 | AJ41: 276 | AK41: 15 | AL41: 30 | AM41: 929133 | AN41: 180224
A42: 臺 南 市Tainan City | B42: 674 | C42: 706788 | D42: 1807881 | E42: 10215 | F42: 7329 | G42: 2886 | H42: 674 | I42: 515 | J42: 159 | K42: 7149 | L42: 5113 | M42: 2036 | N42: 2392 | O42: 1701 | P42: 691 | Q42: 84366 | R42: 39835 | S42: 44531 | T42: 297 | U42: 221627742 | V42: 162485411 | W42: 59142331 | X42: 147 | Y42: 146 | Z42: 0 | AA42: 1 | AB42: 4529 | AC42: 19906 | AD42: 444 | AE42: 344 | AF42: 536 | AG42: 16011 | AH42: 5250 | AI42: 10761 | AJ42: 252 | AK42: 77 | AL42: 26 | AM42: 1692568 | AN42: 376445
A43: 高 雄 市Kaohsiung City | B43: 771 | C43: 886013 | D43: 2136480 | E43: 11592 | F43: 7343 | G43: 4249 | H43: 771 | I43: 541 | J43: 230 | K43: 8000 | L43: 5056 | M43: 2944 | N43: 2821 | O43: 1746 | P43: 1075 | Q43: 77854 | R43: 34932 | S43: 42922 | T43: 394 | U43: 382962376 | V43: 271515640 | W43: 111446736 | X43: 288 | Y43: 287 | Z43: 1 | AA43: 0 | AB43: 17805 | AC43: 25754 | AD43: 305 | AE43: 464 | AF43: 653 | AG43: 19150 | AH43: 6775 | AI43: 12375 | AJ43: 283 | AK43: 54 | AL43: 137 | AM43: 1428478 | AN43: 579167
A44: 宜蘭縣Yilan County | B44: 241 | C44: 178596 | D44: 450004 | E44: 3911 | F44: 2923 | G44: 988 | H44: 241 | I44: 185 | J44: 56 | K44: 2730 | L44: 2057 | M44: 673 | N44: 940 | O44: 681 | P44: 259 | Q44: 24972 | R44: 13324 | S44: 11648 | T44: 130 | U44: 228240561 | V44: 161798266 | W44: 66442295 | X44: 204 | Y44: 199 | Z44: 2 | AA44: 3 | AB44: 2107 | AC44: 9743 | AD44: 115 | AE44: 104 | AF44: 261 | AG44: 7041 | AH44: 2624 | AI44: 4417 | AJ44: 127 | AK44: 19 | AL44: 24 | AM44: 1020758 | AN44: 207546
A45: 新竹縣Hsinchu County | B45: 187 | C45: 218764 | D45: 588571 | E45: 3322 | F45: 2230 | G45: 1092 | H45: 187 | I45: 148 | J45: 39 | K45: 2326 | L45: 1549 | M45: 777 | N45: 809 | O45: 533 | P45: 276 | Q45: 34125 | R45: 16356 | S45: 17769 | T45: 170 | U45: 148675528 | V45: 88103688 | W45: 60571840 | X45: 86 | Y45: 86 | Z45: 0 | AA45: 0 | AB45: 3361 | AC45: 16174 | AD45: 137 | AE45: 46 | AF45: 256 | AG45: 5708 | AH45: 2342 | AI45: 3366 | AJ45: 70 | AK45: 16 | AL45: 11 | AM45: 242853 | AN45: 114892
A46: 苗栗縣Miaoli County | B46: 280 | C46: 197555 | D46: 531105 | E46: 4595 | F46: 3229 | G46: 1366 | H46: 280 | I46: 206 | J46: 74 | K46: 3224 | L46: 2268 | M46: 956 | N46: 1091 | O46: 755 | P46: 336 | Q46: 44837 | R46: 22360 | S46: 22477 | T46: 174 | U46: 175636186 | V46: 118434140 | W46: 57202046 | X46: 233 | Y46: 227 | Z46: 5 | AA46: 1 | AB46: 2150 | AC46: 7414 | AD46: 157 | AE46: 119 | AF46: 184 | AG46: 6490 | AH46: 2718 | AI46: 3772 | AJ46: 123 | AK46: 32 | AL46: 50 | AM46: 676879 | AN46: 205849
A47: 彰化縣Changhua County | B47: 577 | C47: 392391 | D47: 1182521 | E47: 9432 | F47: 7634 | G47: 1798 | H47: 577 | I47: 446 | J47: 131 | K47: 6595 | L47: 5362 | M47: 1233 | N47: 2260 | O47: 1826 | P47: 434 | Q47: 59700 | R47: 34242 | S47: 25458 | T47: 397 | U47: 340919375 | V47: 238584984 | W47: 102334391 | X47: 422 | Y47: 405 | Z47: 4 | AA47: 13 | AB47: 5359 | AC47: 20990 | AD47: 313 | AE47: 91 | AF47: 593 | AG47: 23712 | AH47: 9431 | AI47: 14281 | AJ47: 296 | AK47: 47 | AL47: 9 | AM47: 1003486 | AN47: 400807
A48: 南投縣Nantou County | B48: 277 | C48: 175103 | D48: 467211 | E48: 3847 | F48: 2887 | G48: 960 | H48: 277 | I48: 212 | J48: 65 | K48: 2660 | L48: 2010 | M48: 650 | N48: 910 | O48: 665 | P48: 245 | Q48: 25211 | R48: 14913 | S48: 10298 | T48: 221 | U48: 75588846 | V48: 63875058 | W48: 11713788 | X48: 216 | Y48: 214 | Z48: 0 | AA48: 2 | AB48: 5616 | AC48: 7419 | AD48: 76 | AE48: 76 | AF48: 283 | AG48: 6992 | AH48: 2945 | AI48: 4047 | AJ48: 133 | AK48: 38 | AL48: 38 | AM48: 908703 | AN48: 134771
... A59: 連江縣Lienchiang County | B59: 20 | C59: 3694 | D59: 14044 | E59: 209 | F59: 162 | G59: 47 | H59: 20 | I59: 19 | J59: 1 | K59: 136 | L59: 105 | M59: 31 | N59: 53 | O59: 38 | P59: 15 | Q59: 1365 | R59: 749 | S59: 616 | T59: 0 | U59: 4263329 | V59: 3917904 | W59: 345425 | X59: 0 | Y59: 0 | Z59: 0 | AA59: 0 | AB59: 149 | AC59: 21 | AD59: 0 | AE59: 3 | AF59: 12 | AG59: 461 | AH59: 193 | AI59: 268 | AJ59: 8 | AK59: 0 | AL59: 0 | AM59: 39991 | AN59: 385
A61: 總計Total | B61: =IF(B37=B8,"","*") | C61: =IF(C37=C8,"","*") | D61: =IF(D37=D8,"","*") | E61: =IF(E37=E8,"","*") -> * | F61: =IF(F37=F8,"","*") -> * | G61: =IF(G37=G8,"","*") -> * | H61: =IF(H37=H8,"","*") | I61: =IF(I37=I8,"","*") -> * | ... AN61: =IF(AN37=AN8,"","*")
A62: 新 北 市New Taipei City | B62: =IF(B38=B9,"","*") | C62: =IF(C38=C9,"","*") | D62: =IF(D38=D9,"","*") | E62: =IF(E38=E9,"","*") | F62: =IF(F38=F9,"","*") | G62: =IF(G38=G9,"","*") | H62: =IF(H38=H9,"","*") | I62: =IF(I38=I9,"","*") | ... AN62: =IF(AN38=AN9,"","*")
A63: 臺 北 市Taipei City | B63: =IF(B39=B10,"","*") | C63: =IF(C39=C10,"","*") | D63: =IF(D39=D10,"","*") | E63: =IF(E39=E10,"","*") -> * | F63: =IF(F39=F10,"","*") -> * | G63: =IF(G39=G10,"","*") -> * | H63: =IF(H39=H10,"","*") | I63: =IF(I39=I10,"","*") -> * | ... AN63: =IF(AN39=AN10,"","*")
A64: 桃 園 市Taoyuan City | B64: =IF(B40=B11,"","*") | C64: =IF(C40=C11,"","*") | D64: =IF(D40=D11,"","*") | E64: =IF(E40=E11,"","*") | F64: =IF(F40=F11,"","*") | G64: =IF(G40=G11,"","*") | H64: =IF(H40=H11,"","*") | I64: =IF(I40=I11,"","*") | ... AN64: =IF(AN40=AN11,"","*")
...

Sheet 2022
A1: 推行社區發展工作成果 Achievements of Community Development
A3: 111年, 2022 | B3: =IF(B8=SUM(B9:B30),"",SUM(B9:B30)) | C3: =IF(C8=SUM(C9:C30),"",SUM(C9:C30)) | D3: =IF(D8=SUM(D9:D30),"",SUM(D9:D30)) | E3: =IF(E8=SUM(E9:E30),"",SUM(E9:E30)) | F3: =IF(F8=SUM(F9:F30),"",SUM(F9:F30)) | G3: =IF(G8=SUM(G9:G30),"",SUM(G9:G30)) | H3: =IF(H8=SUM(H9:H30),"",SUM(H9:H30)) | I3: =IF(I8=SUM(I9:I30),"",SUM(I9:I30)) | ... AN3: =IF(AN8=SUM(AN9:AN30),"",SUM(AN9:AN30))
A4: 區域別 Locality | B4: 社區發展 協會數(個) No.of Community DevelopmentAssociations (Units) | C4: 社區戶數 (戶) Households of Communities (Households) | D4: 社區人口數 (人) Communities Persons of (Persons) | E4: 理監事人數(人) Directors and Supervisors (Persons) | Q4: 社區發展協會會員數(人) Members Community Development Associations (Persons) | T4: 設置社區生產建設基金 (個) Community Economic Development Fund(Unit) | U4: 實際使用經費(元) Outlays | X4: 社區建設主要項目 Main Items of Community Construction
E5: 合計 Total | H5: 理事長 Director-general | K5: 理事(不含理事長)Directors | N5: 監事 Supervisors | U5: 合計 (元) Total (NT$) | V5: 政府補助款 (元) Government-Provided (NT$) | W5: 社區自籌款 (元) Self-Provided (NT$) | X5: 社區活動中心Community Activity Centers(Units) | AB5: 辦理社區幹部訓練 (人次)Topic Training (Times of Persons) | AC5: 辦理社區 觀摩(人次) Community Exposition (Times of Persons) | AD5: 社區長壽俱樂部(處) Elderly Community Club (Places) | AE5: 社區守望 相助隊(隊) Community Mutual-help Program (Teams) | AF5: 社區志願服務團隊 Community Volunteer Service Teams (Groups) | AJ5: 辦理社區照顧關懷據點 (處) Community Care Locations (Places) | AK5: 社區圖書室 (處) Community Libraries (Places) | AL5: 發行社區報導或通訊 (期) Community Publications (Times) | AM5: 服務成果 Person-times Served
E6: 計 Subtotal | F6: 男 Male | G6: 女 Female | H6: 計 Subtotal | I6: 男 Male | J6: 女 Female | K6: 計 Subtotal | L6: 男 Male | M6: 女 Female | N6: 計 Subtotal | O6: 男 Male | P6: 女 Female | Q6: 計 Subtotal | R6: 男 Male | S6: 女 Female | X6: 合計 (幢) Total | Y6: 原建 (未作修擴建)(幢) Originally Built (Without Repair Extension) | Z6: 新建(幢) Newly Built | AA6: 修擴建(幢) Repair Extension | AF6: 團隊(隊) Teams | AG6: 志工數(人)Persons | AM6: 福利服務或活動(人次) Welfare Service or Activities (Times of Persons) | AN6: 其他服務(人次) Other Services (Times of Persons)
AG7: 合計 Total | AH7: 男 Male | AI7: 女 Female
A8: 總計Total | B8: 6961 | C8: 8554715 | D8: 21992541 | E8: 108465 | F8: 76631 | G8: 31834 | H8: 6961 | I8: 5236 | J8: 1725 | K8: 75261 | L8: 53114 | M8: 22147 | N8: 26243 | O8: 18281 | P8: 7962 | Q8: 744809 | R8: 373451 | S8: 371358 | T8: 3938 | U8: 3215508530 | V8: 2500704508 | W8: 714804022 | X8: 3199 | Y8: 3050 | Z8: 51 | AA8: 98 | AB8: 86376 | AC8: 215537 | AD8: 3344 | AE8: 3022 | AF8: 4736 | AG8: 151913 | AH8: 55429 | AI8: 96484 | AJ8: 3316 | AK8: 615 | AL8: 531 | AM8: 14047882 | AN8: 4700992
A9: 新 北 市New Taipei City | B9: 462 | C9: 1635298 | D9: 3995551 | E9: 7990 | F9: 5056 | G9: 2934 | H9: 462 | I9: 333 | J9: 129 | K9: 5574 | L9: 3530 | M9: 2044 | N9: 1954 | O9: 1193 | P9: 761 | Q9: 61279 | R9: 27096 | S9: 34183 | T9: 351 | U9: 122902039 | V9: 82337095 | W9: 40564944 | X9: 0 | Y9: 0 | Z9: 0 | AA9: 0 | AB9: 4327 | AC9: 3892 | AD9: 276 | AE9: 573 | AF9: 201 | AG9: 6636 | AH9: 2407 | AI9: 4229 | AJ9: 116 | AK9: 43 | AL9: 36 | AM9: 984611 | AN9: 33791
