Workbook

Sheet 歷年
A1: 推行社區發展工作成果 Achievements of Community Development
A2: 104-114年
A3: 年別 Years | B3: 社區發展 協會數(個) No.of Community Development Associations (Units) | C3: 社區戶數 (戶) Households of Communities (Households) | D3: 社區人口數 (人) Communities Persons of (Persons) | E3: 理監事人數(人) Directors and Supervisors (Persons) | Q3: 社區發展協會會員數(人) Members Community Development Associations (Persons) | T3: 設置社區生產建設基金 (個) Community Economic Development Fund(Unit) | U3: 實際使用經費(元) Outlays | X3: 社區建設主要項目 Main Items of Community Construction
E4: 合計 Total | H4: 理事長 Director-general | K4: 理事(不含理事長)Directors | N4: 監事 Supervisors | U4: 合計 (元) Total (NT$) | V4: 政府補助款 (元) Government-Provided (NT$) | W4: 社區自籌款 (元) Self-Provided (NT$) | X4: 社區活動中心Community Activity Centers(Units) | AB4: 辦理社區幹部訓練 (人次)Topic Training (Times of Persons) | AC4: 辦理社區 觀摩(人次) Community Exposition (Times of Persons) | AD4: 社區守望 相助隊(隊) Community Mutual-help Program (Teams) | AE4: 社區志願服務團隊 Community Volunteer Service Teams (Groups) | AI4: 辦理社區照顧關懷據點 (處) Community Care Locations (Places) | AJ4: 長期照顧據點 (處) Community Long Term Care Locations (Places) | AK4: 發行社區報導或通訊 (期) Community Publications (Times) | AL4: 服務成果 Person-times Served
E5: 計 Subtotal | F5: 男 Male | G5: 女 Female | H5: 計 Subtotal | I5: 男 Male | J5: 女 Female | K5: 計 Subtotal | L5: 男 Male | M5: 女 Female | N5: 計 Subtotal | O5: 男 Male | P5: 女 Female | Q5: 計 Subtotal | R5: 男 Male | S5: 女 Female | X5: 合計 (幢) Total | Y5: 原建 (未作修擴建)(幢) Originally Built (Without Repair Extension) | Z5: 新建(幢) Newly Built | AA5: 修擴建(幢) Repair Extension | AE5: 團隊(隊) Teams | AF5: 志工數(人)Persons | AL5: 福利服務或活動(人次) Welfare Service or Activities (Times of Persons) | AM5: 其他服務(人次) Other Services (Times of Persons)
AF6: 合計 Total | AG6: 男 Male | AH6: 女 Female
A7: 104年 ,2015 | B7: ='2015'!B8 -> 6860 | C7: ='2015'!C8 -> 7726797 | D7: ='2015'!D8 -> 21404313 | E7: ='2015'!E8 -> 108909 | F7: ='2015'!F8 -> 83441 | G7: ='2015'!G8 -> 25468 | H7: ='2015'!H8 -> 6860 | I7: ='2015'!I8 -> 5601 | ... AC7: ='2015'!AC8 -> 306430 | AD7: ='2015'!AE8 -> 1591 | AE7: ='2015'!AF8 -> 3805 | AF7: ='2015'!AG8 -> 123798 | AG7: ='2015'!AH8 -> 48373 | AH7: ='2015'!AI8 -> 75425 | AI7: ='2015'!AJ8 -> 1521 | AJ7: … | AK7: ='2015'!AL8 -> 935 | AL7: ='2015'!AM8 -> 5661777 | AM7: ='2015'!AN8 -> 2206820
A8: 105年 ,2016 | B8: ='2016'!B8 -> 6881 | C8: ='2016'!C8 -> 7800490 | D8: ='2016'!D8 -> 21457496 | E8: ='2016'!E8 -> 108907 | F8: ='2016'!F8 -> 82830 | G8: ='2016'!G8 -> 26077 | H8: ='2016'!H8 -> 6881 | I8: ='2016'!I8 -> 5553 | ... AC8: ='2016'!AC8 -> 296879 | AD8: ='2016'!AE8 -> 1571 | AE8: ='2016'!AF8 -> 3875 | AF8: ='2016'!AG8 -> 125546 | AG8: ='2016'!AH8 -> 47991 | AH8: ='2016'!AI8 -> 77555 | AI8: ='2016'!AJ8 -> 1651 | AJ8: … | AK8: ='2016'!AL8 -> 1032 | AL8: ='2016'!AM8 -> 6576756 | AM8: ='2016'!AN8 -> 2550940
A9: 106年 ,2017 | B9: ='2017'!B8 -> 6839 | C9: ='2017'!C8 -> 7855123 | D9: ='2017'!D8 -> 21574353 | E9: ='2017'!E8 -> 108557 | F9: ='2017'!F8 -> 81998 | G9: ='2017'!G8 -> 26559 | H9: ='2017'!H8 -> 6839 | I9: ='2017'!I8 -> 5461 | ... AC9: ='2017'!AC8 -> 305990 | AD9: ='2017'!AE8 -> 1780 | AE9: ='2017'!AF8 -> 3693 | AF9: ='2017'!AG8 -> 131273 | AG9: ='2017'!AH8 -> 52747 | AH9: ='2017'!AI8 -> 78526 | AI9: ='2017'!AJ8 -> 1896 | AJ9: … | AK9: ='2017'!AL8 -> 1115 | AL9: ='2017'!AM8 -> 7705382 | AM9: ='2017'!AN8 -> 2749518
A10: 107年 ,2018 | B10: ='2018'!B8 -> 6823 | C10: ='2018'!C8 -> 8013859 | D10: ='2018'!D8 -> 21731033 | E10: ='2018'!E8 -> 108754 | F10: ='2018'!F8 -> 80882 | G10: ='2018'!G8 -> 27872 | H10: ='2018'!H8 -> 6823 | I10: ='2018'!I8 -> 5399 | ... AC10: ='2018'!AC8 -> 318150 | AD10: ='2018'!AE8 -> 1706 | AE10: ='2018'!AF8 -> 5715 | AF10: ='2018'!AG8 -> 132356 | AG10: ='2018'!AH8 -> 51107 | AH10: ='2018'!AI8 -> 81249 | AI10: ='2018'!AJ8 -> 2165 | AJ10: … | AK10: ='2018'!AL8 -> 829 | AL10: ='2018'!AM8 -> 9326046 | AM10: ='2018'!AN8 -> 3231842
A11: 108年 ,2019 | B11: ='2019'!B8 -> 6919 | C11: ='2019'!C8 -> 8226678 | D11: ='2019'!D8 -> 22054988 | E11: ='2019'!E8 -> 109265 | F11: ='2019'!F8 -> 80108 | G11: ='2019'!G8 -> 29157 | H11: ='2019'!H8 -> 6919 | I11: ='2019'!I8 -> 5407 | ... AC11: ='2019'!AC8 -> 291993 | AD11: ='2019'!AE8 -> 2035 | AE11: ='2019'!AF8 -> 4200 | AF11: ='2019'!AG8 -> 139834 | AG11: ='2019'!AH8 -> 53079 | AH11: ='2019'!AI8 -> 86755 | AI11: ='2019'!AJ8 -> 2439 | AJ11: … | AK11: ='2019'!AL8 -> 887 | AL11: ='2019'!AM8 -> 10792918 | AM11: ='2019'!AN8 -> 3421219
A12: 109年 ,2020 | B12: ='2020'!B8 -> 6918 | C12: ='2020'!C8 -> 8307886 | D12: ='2020'!D8 -> 22038102 | E12: ='2020'!E8 -> 108524 | F12: ='2020'!F8 -> 78523 | G12: ='2020'!G8 -> 30001 | H12: ='2020'!H8 -> 6918 | I12: ='2020'!I8 -> 5337 | ... AC12: ='2020'!AC8 -> 431271 | AD12: ='2020'!AE8 -> 2586 | AE12: ='2020'!AF8 -> 4565 | AF12: ='2020'!AG8 -> 145935 | AG12: ='2020'!AH8 -> 54620 | AH12: ='2020'!AI8 -> 91315 | AI12: ='2020'!AJ8 -> 3067 | AJ12: … | AK12: ='2020'!AL8 -> 1780 | AL12: ='2020'!AM8 -> 12612351 | AM12: ='2020'!AN8 -> 3511451
A13: 110年 ,2021 | B13: ='2021'!B8 -> 6943 | C13: ='2021'!C8 -> 8484099 | D13: ='2021'!D8 -> 22121179 | E13: ='2021'!E8 -> 109240 | F13: ='2021'!F8 -> 78103 | G13: ='2021'!G8 -> 31137 | H13: ='2021'!H8 -> 6943 | I13: ='2021'!I8 -> 5297 | ... AC13: ='2021'!AC8 -> 190818 | AD13: ='2021'!AE8 -> 2620 | AE13: ='2021'!AF8 -> 4513 | AF13: ='2021'!AG8 -> 149600 | AG13: ='2021'!AH8 -> 54617 | AH13: ='2021'!AI8 -> 94983 | AI13: ='2021'!AJ8 -> 3188 | AJ13: … | AK13: ='2021'!AL8 -> 722 | AL13: ='2021'!AM8 -> 11253616 | AM13: ='2021'!AN8 -> 3680243
A14: 111年 ,2022 | B14: ='2022'!B8 -> 6961 | C14: ='2022'!C8 -> 8554715 | D14: ='2022'!D8 -> 21992541 | E14: ='2022'!E8 -> 108465 | F14: ='2022'!F8 -> 76631 | G14: ='2022'!G8 -> 31834 | H14: ='2022'!H8 -> 6961 | I14: ='2022'!I8 -> 5236 | ... AC14: ='2022'!AC8 -> 215537 | AD14: ='2022'!AE8 -> 3022 | AE14: ='2022'!AF8 -> 4736 | AF14: ='2022'!AG8 -> 151913 | AG14: ='2022'!AH8 -> 55429 | AH14: ='2022'!AI8 -> 96484 | AI14: ='2022'!AJ8 -> 3316 | AJ14: … | AK14: ='2022'!AL8 -> 531 | AL14: ='2022'!AM8 -> 14047882 | AM14: ='2022'!AN8 -> 4700992
A15: 112年 ,2023 | B15: ='2023'!B8 -> 7025 | C15: ='2023'!C8 -> 8706116 | D15: ='2023'!D8 -> 22141383 | E15: ='2023'!E8 -> 108286 | F15: ='2023'!F8 -> 75034 | G15: ='2023'!G8 -> 33252 | H15: ='2023'!H8 -> 7025 | I15: ='2023'!I8 -> 5224 | ... AC15: ='2023'!AC8 -> 246771 | AD15: ='2023'!AE8 -> 3498 | AE15: ='2023'!AF8 -> 5012 | AF15: ='2023'!AG8 -> 154196 | AG15: ='2023'!AH8 -> 55355 | AH15: ='2023'!AI8 -> 98841 | AI15: ='2023'!AJ8 -> 3319 | AJ15: … | AK15: ='2023'!AL8 -> 576 | AL15: ='2023'!AM8 -> 16951480 | AM15: ='2023'!AN8 -> 4440921
A16: 113年 ,2024 | B16: ='2024'!B7 -> 7026 | C16: ='2024'!C7 -> 8972256 | D16: ='2024'!D7 -> 22241949 | E16: ='2024'!E7 -> 107558 | F16: ='2024'!F7 -> 73424 | G16: ='2024'!G7 -> 34134 | H16: ='2024'!H7 -> 7026 | I16: ='2024'!I7 -> 5121 | ... AC16: ='2024'!AC7 -> 277192 | AD16: ='2024'!AE7 -> 3351 | AE16: ='2024'!AF7 -> 4985 | AF16: ='2024'!AG7 -> 156735 | AG16: ='2024'!AH7 -> 58976 | AH16: ='2024'!AI7 -> 97759 | AI16: ='2024'!AJ7 -> 3481 | AJ16: … | AK16: ='2024'!AL7 -> 484 | AL16: ='2024'!AM7 -> 19845759 | AM16: ='2024'!AN7 -> 4181627
A17: 114年 ,2025 | B17: ='2025'!B7 -> 7031 | C17: ='2025'!C7 -> 9350370 | D17: ='2025'!D7 -> 22216020 | E17: ='2025'!E7 -> 107149 | F17: ='2025'!F7 -> 72161 | G17: ='2025'!G7 -> 34988 | H17: ='2025'!H7 -> 7031 | I17: ='2025'!I7 -> 5037 | ... AM17: ='2025'!AM7 -> 4830077
A18: 資料來源：直轄市及縣(市)政府。
A19: 說 明：1.本表資料不包括未成立社區發展協會者。
A20: 2.自108年起社區活動中心以公有為統計標的。
A21: Source: County and Government.
A23: 更新日期：2026/06/09

Sheet 2025
A1: 推行社區發展工作成果 Achievements of Community Development
A2: 114年, 2025 | B2: =IF(B7=SUM(B8:B29),"",SUM(B8:B29)) | C2: =IF(C7=SUM(C8:C29),"",SUM(C8:C29)) | D2: =IF(D7=SUM(D8:D29),"",SUM(D8:D29)) | E2: =IF(E7=SUM(E8:E29),"",SUM(E8:E29)) | F2: =IF(F7=SUM(F8:F29),"",SUM(F8:F29)) | G2: =IF(G7=SUM(G8:G29),"",SUM(G8:G29)) | H2: =IF(H7=SUM(H8:H29),"",SUM(H8:H29)) | I2: =IF(I7=SUM(I8:I29),"",SUM(I8:I29)) | ... AM2: =IF(AM7=SUM(AM8:AM29),"",SUM(AM8:AM29))
A3: 區域別 Locality | B3: 社區發展 協會數(個) No.of Community DevelopmentAssociations (Units) | C3: 社區戶數 (戶) Households of Communities (Households) | D3: 社區人口數 (人) Communities Persons of (Persons) | E3: 理監事人數(人) Directors and Supervisors (Persons) | Q3: 社區發展協會會員數(人) Members Community Development Associations (Persons) | T3: 設置社區生產建設基金 (個) Community Economic Development Fund(Unit) | U3: 實際使用經費(元) Outlays | X3: 社區建設主要項目 Main Items of Community Construction
E4: 合計 Total | H4: 理事長 Director-general | K4: 理事(不含理事長)Directors | N4: 監事 Supervisors | U4: 合計 (元) Total (NT$) | V4: 政府補助款 (元) Government-Provided (NT$) | W4: 社區自籌款 (元) Self-Provided (NT$) | X4: 社區活動中心Community Activity Centers(Units) | AB4: 辦理社區幹部訓練 (人次)Topic Training (Times of Persons) | AC4: 辦理社區 觀摩(人次) Community Exposition (Times of Persons) | AD4: 社區守望 相助隊(隊) Community Mutual-help Program (Teams) | AE4: 社區志願服務團隊 Community Volunteer Service Teams (Groups) | AI4: 辦理社區照顧關懷據點 (處) Community Care Locations (Places) | AJ4: 長期照顧據點 (處) Community Long Term Care Locations (Places) | AK4: 發行社區報導或通訊 (期) Community Publications (Times) | AL4: 服務成果 Person-times Served
E5: 計 Subtotal | F5: 男 Male | G5: 女 Female | H5: 計 Subtotal | I5: 男 Male | J5: 女 Female | K5: 計 Subtotal | L5: 男 Male | M5: 女 Female | N5: 計 Subtotal | O5: 男 Male | P5: 女 Female | Q5: 計 Subtotal | R5: 男 Male | S5: 女 Female | X5: 合計 (幢) Total | Y5: 原建 (未作修擴建)(幢) Originally Built (Without Repair Extension) | Z5: 新建(幢) Newly Built | AA5: 修擴建(幢) Repair Extension | AE5: 團隊(隊) Teams | AF5: 志工數(人)Persons | AL5: 福利服務或活動(人次) Welfare Service or Activities (Times of Persons) | AM5: 其他服務(人次) Other Services (Times of Persons)
AF6: 合計 Total | AG6: 男 Male | AH6: 女 Female
A7: 總計Total | B7: 7031 | C7: 9350370 | D7: 22216020 | E7: 107149 | F7: 72161 | G7: 34988 | H7: 7031 | I7: 5037 | J7: 1994 | K7: 74304 | L7: 50031 | M7: 24273 | N7: 25814 | O7: 17093 | P7: 8721 | Q7: 721543 | R7: 349636 | S7: 371907 | T7: 3947 | U7: 4557235389 | V7: 3416130487 | W7: 1141104902 | X7: 2994 | Y7: 2889 | Z7: 46 | AA7: 59 | AB7: 104807 | AC7: 280650 | AD7: 3374 | AE7: 5401 | AF7: 159678 | AG7: 55993 | AH7: 103685 | AI7: 2970 | AJ7: 1896 | AK7: 476 | AL7: 24124473 | AM7: 4830077
A8: 新 北 市New Taipei City | B8: 469 | C8: 1786834 | D8: 4044831 | E8: 7751 | F8: 4655 | G8: 3096 | H8: 469 | I8: 313 | J8: 156 | K8: 5383 | L8: 3241 | M8: 2142 | N8: 1899 | O8: 1101 | P8: 798 | Q8: 57844 | R8: 24383 | S8: 33461 | T8: 335 | U8: 193281975 | V8: 140802983 | W8: 52478992 | X8: 0 | Y8: 0 | Z8: 0 | AA8: 0 | AB8: 4750 | AC8: 12132 | AD8: 616 | AE8: 224 | AF8: 6284 | AG8: 2216 | AH8: 4068 | AI8: 116 | AJ8: 57 | AK8: 30 | AL8: 1511692 | AM8: 189753
A9: 臺 北 市Taipei City | B9: 378 | C9: 1080892 | D9: 2439507 | E9: 5442 | F9: 2755 | G9: 2687 | H9: 378 | I9: 225 | J9: 153 | K9: 3716 | L9: 1857 | M9: 1859 | N9: 1348 | O9: 673 | P9: 675 | Q9: 22558 | R9: 8975 | S9: 13583 | T9: 0 | U9: 50693229 | V9: 37688664 | W9: 13004565 | X9: 0 | Y9: 0 | Z9: 0 | AA9: 0 | AB9: 5058 | AC9: 4409 | AD9: 333 | AE9: 145 | AF9: 4465 | AG9: 1650 | AH9: 2815 | AI9: 96 | AJ9: 71 | AK9: 27 | AL9: 1140599 | AM9: 76210
A10: 桃 園 市Taoyuan City | B10: 357 | C10: 852094 | D10: 2038044 | E10: 5782 | F10: 3128 | G10: 2654 | H10: 357 | I10: 243 | J10: 114 | K10: 4025 | L10: 2127 | M10: 1898 | N10: 1400 | O10: 758 | P10: 642 | Q10: 56793 | R10: 22972 | S10: 33821 | T10: 268 | U10: 391980186 | V10: 289947298 | W10: 102032888 | X10: 204 | Y10: 185 | Z10: 6 | AA10: 13 | AB10: 6154 | AC10: 26004 | AD10: 535 | AE10: 319 | AF10: 13902 | AG10: 4487 | AH10: 9415 | AI10: 214 | AJ10: 208 | AK10: 60 | AL10: 1569239 | AM10: 748615
A11: 臺 中 市Taichung City | B11: 606 | C11: 1147580 | D11: 2827209 | E11: 9634 | F11: 6366 | G11: 3268 | H11: 606 | I11: 437 | J11: 169 | K11: 6705 | L11: 4393 | M11: 2312 | N11: 2323 | O11: 1536 | P11: 787 | Q11: 51965 | R11: 24390 | S11: 27575 | T11: 150 | U11: 233345383 | V11: 146194709 | W11: 87150674 | X11: 0 | Y11: 0 | Z11: 0 | AA11: 0 | AB11: 3346 | AC11: 29362 | AD11: 232 | AE11: 446 | AF11: 13316 | AG11: 3467 | AH11: 9849 | AI11: 299 | AJ11: 198 | AK11: 16 | AL11: 1368323 | AM11: 188527
A12: 臺 南 市Tainan City | B12: 673 | C12: 761180 | D12: 1824985 | E12: 9903 | F12: 6941 | G12: 2962 | H12: 673 | I12: 493 | J12: 180 | K12: 6908 | L12: 4828 | M12: 2080 | N12: 2322 | O12: 1620 | P12: 702 | Q12: 81408 | R12: 37348 | S12: 44060 | T12: 282 | U12: 261997832 | V12: 194431116 | W12: 67566716 | X12: 150 | Y12: 148 | Z12: 1 | AA12: 1 | AB12: 5651 | AC12: 20117 | AD12: 342 | AE12: 780 | AF12: 15099 | AG12: 5070 | AH12: 10029 | AI12: 262 | AJ12: 162 | AK12: 13 | AL12: 1620797 | AM12: 343167
A13: 高 雄 市Kaohsiung City | B13: 768 | C13: 949068 | D13: 2152655 | E13: 11396 | F13: 7052 | G13: 4344 | H13: 768 | I13: 523 | J13: 245 | K13: 7857 | L13: 4823 | M13: 3034 | N13: 2771 | O13: 1706 | P13: 1065 | Q13: 75979 | R13: 33774 | S13: 42205 | T13: 391 | U13: 476173475 | V13: 359288039 | W13: 116885436 | X13: 285 | Y13: 285 | Z13: 0 | AA13: 0 | AB13: 31332 | AC13: 33466 | AD13: 461 | AE13: 617 | AF13: 18984 | AG13: 6640 | AH13: 12344 | AI13: 297 | AJ13: 177 | AK13: 159 | AL13: 1550917 | AM13: 710448
A14: 宜蘭縣Yilan County | B14: 241 | C14: 191316 | D14: 449495 | E14: 3854 | F14: 2819 | G14: 1035 | H14: 241 | I14: 185 | J14: 56 | K14: 2714 | L14: 1990 | M14: 724 | N14: 899 | O14: 644 | P14: 255 | Q14: 24759 | R14: 12675 | S14: 12084 | T14: 129 | U14: 272289686 | V14: 220024041 | W14: 52265645 | X14: 205 | Y14: 202 | Z14: 2 | AA14: 1 | AB14: 2049 | AC14: 23855 | AD14: 101 | AE14: 284 | AF14: 7713 | AG14: 2929 | AH14: 4784 | AI14: 141 | AJ14: 97 | AK14: 20 | AL14: 1556373 | AM14: 251384
A15: 新竹縣Hsinchu County | B15: 188 | C15: 242535 | D15: 591814 | E15: 3261 | F15: 2141 | G15: 1120 | H15: 188 | I15: 136 | J15: 52 | K15: 2274 | L15: 1495 | M15: 779 | N15: 799 | O15: 510 | P15: 289 | Q15: 33475 | R15: 16051 | S15: 17424 | T15: 169 | U15: 213618463 | V15: 136689914 | W15: 76928549 | X15: 77 | Y15: 74 | Z15: 2 | AA15: 1 | AB15: 3689 | AC15: 19772 | AD15: 42 | AE15: 193 | AF15: 5041 | AG15: 2015 | AH15: 3026 | AI15: 63 | AJ15: 66 | AK15: 21 | AL15: 1502246 | AM15: 145192
A16: 苗栗縣Miaoli County | B16: 280 | C16: 209599 | D16: 525755 | E16: 4682 | F16: 3163 | G16: 1519 | H16: 280 | I16: 197 | J16: 83 | K16: 3322 | L16: 2254 | M16: 1068 | N16: 1080 | O16: 712 | P16: 368 | Q16: 44744 | R16: 22409 | S16: 22335 | T16: 220 | U16: 217919312 | V16: 176308854 | W16: 41610458 | X16: 229 | Y16: 219 | Z16: 7 | AA16: 3 | AB16: 2035 | AC16: 7747 | AD16: 115 | AE16: 270 | AF16: 7444 | AG16: 3044 | AH16: 4400 | AI16: 122 | AJ16: 37 | AK16: 23 | AL16: 923863 | AM16: 304110
A17: 彰化縣Changhua County | B17: 583 | C17: 426648 | D17: 1172309 | E17: 9396 | F17: 7435 | G17: 1961 | H17: 583 | I17: 447 | J17: 136 | K17: 6587 | L17: 5221 | M17: 1366 | N17: 2226 | O17: 1767 | P17: 459 | Q17: 58916 | R17: 33045 | S17: 25871 | T17: 388 | U17: 428760434 | V17: 306435100 | W17: 122325334 | X17: 431 | Y17: 418 | Z17: 5 | AA17: 8 | AB17: 6236 | AC17: 21451 | AD17: 89 | AE17: 665 | AF17: 24703 | AG17: 9302 | AH17: 15401 | AI17: 322 | AJ17: 214 | AK17: 8 | AL17: 1324918 | AM17: 348413
A18: 南投縣Nantou County | B18: 279 | C18: 177649 | D18: 447010 | E18: 3848 | F18: 2644 | G18: 1204 | H18: 279 | I18: 203 | J18: 76 | K18: 2642 | L18: 1816 | M18: 826 | N18: 927 | O18: 625 | P18: 302 | Q18: 25099 | R18: 14028 | S18: 11071 | T18: 221 | U18: 134712462 | V18: 73403087 | W18: 61309375 | X18: 219 | Y18: 216 | Z18: 1 | AA18: 2 | AB18: 5689 | AC18: 8797 | AD18: 70 | AE18: 279 | AF18: 7208 | AG18: 2558 | AH18: 4650 | AI18: 139 | AJ18: 72 | AK18: 23 | AL18: 1009519 | AM18: 160172
... A29: 連江縣Lienchiang County | B29: 20 | C29: 4081 | D29: 13681 | E29: 215 | F29: 171 | G29: 44 | H29: 20 | I29: 18 | J29: 2 | K29: 141 | L29: 111 | M29: 30 | N29: 54 | O29: 42 | P29: 12 | Q29: 1549 | R29: 820 | S29: 729 | T29: 0 | U29: 7643947 | V29: 7362669 | W29: 281278 | X29: 19 | Y29: 17 | Z29: 2 | AA29: 0 | AB29: 40 | AC29: 45 | AD29: 1 | AE29: 2 | AF29: 87 | AG29: 61 | AH29: 26 | AI29: 6 | AJ29: 4 | AK29: 0 | AL29: 2821 | AM29: 3901
A30: 資料來源：直轄市及縣(市)政府。
A31: 說 明：本表資料不包括未成立社區發展協會者。
A32: Source: County and Government.
A34: 更新日期：2026/06/09
A36: 總計Total | B36: 7031 | C36: 9350370 | D36: 22216020 | E36: 107149 | F36: 72161 | G36: 34988 | H36: 7031 | I36: 5037 | J36: 1994 | K36: 74304 | L36: 50031 | M36: 24273 | N36: 25814 | O36: 17093 | P36: 8721 | Q36: 721543 | R36: 349636 | S36: 371907 | T36: 3947 | U36: 4557235389 | V36: 3416130487 | W36: 1141104902 | X36: 2994 | Y36: 2889 | Z36: 46 | AA36: 59 | AB36: 104807 | AC36: 280650 | AD36: 3374 | AE36: 5401 | AF36: 159678 | AG36: 55993 | AH36: 103685 | AI36: 2970 | AJ36: 1896 | AK36: 476 | AL36: 23380446 | AM36: 4830077
A37: 新 北 市New Taipei City | B37: 469 | C37: 1786834 | D37: 4044831 | E37: 7751 | F37: 4655 | G37: 3096 | H37: 469 | I37: 313 | J37: 156 | K37: 5383 | L37: 3241 | M37: 2142 | N37: 1899 | O37: 1101 | P37: 798 | Q37: 57844 | R37: 24383 | S37: 33461 | T37: 335 | U37: 193281975 | V37: 140802983 | W37: 52478992 | X37: 0 | Y37: 0 | Z37: 0 | AA37: 0 | AB37: 4750 | AC37: 12132 | AD37: 616 | AE37: 224 | AF37: 6284 | AG37: 2216 | AH37: 4068 | AI37: 116 | AJ37: 57 | AK37: 30 | AL37: 1511692 | AM37: 189753
A38: 臺 北 市Taipei City | B38: 378 | C38: 1080892 | D38: 2439507 | E38: 5442 | F38: 2755 | G38: 2687 | H38: 378 | I38: 225 | J38: 153 | K38: 3716 | L38: 1857 | M38: 1859 | N38: 1348 | O38: 673 | P38: 675 | Q38: 22558 | R38: 8975 | S38: 13583 | T38: 0 | U38: 50693229 | V38: 37688664 | W38: 13004565 | X38: 0 | Y38: 0 | Z38: 0 | AA38: 0 | AB38: 5058 | AC38: 4409 | AD38: 333 | AE38: 145 | AF38: 4465 | AG38: 1650 | AH38: 2815 | AI38: 96 | AJ38: 71 | AK38: 27 | AL38: 396572 | AM38: 76210
A39: 桃 園 市Taoyuan City | B39: 357 | C39: 852094 | D39: 2038044 | E39: 5782 | F39: 3128 | G39: 2654 | H39: 357 | I39: 243 | J39: 114 | K39: 4025 | L39: 2127 | M39: 1898 | N39: 1400 | O39: 758 | P39: 642 | Q39: 56793 | R39: 22972 | S39: 33821 | T39: 268 | U39: 391980186 | V39: 289947298 | W39: 102032888 | X39: 204 | Y39: 185 | Z39: 6 | AA39: 13 | AB39: 6154 | AC39: 26004 | AD39: 535 | AE39: 319 | AF39: 13902 | AG39: 4487 | AH39: 9415 | AI39: 214 | AJ39: 208 | AK39: 60 | AL39: 1569239 | AM39: 748615
A40: 臺 中 市Taichung City | B40: 606 | C40: 1147580 | D40: 2827209 | E40: 9634 | F40: 6366 | G40: 3268 | H40: 606 | I40: 437 | J40: 169 | K40: 6705 | L40: 4393 | M40: 2312 | N40: 2323 | O40: 1536 | P40: 787 | Q40: 51965 | R40: 24390 | S40: 27575 | T40: 150 | U40: 233345383 | V40: 146194709 | W40: 87150674 | X40: 0 | Y40: 0 | Z40: 0 | AA40: 0 | AB40: 3346 | AC40: 29362 | AD40: 232 | AE40: 446 | AF40: 13316 | AG40: 3467 | AH40: 9849 | AI40: 299 | AJ40: 198 | AK40: 16 | AL40: 1368323 | AM40: 188527
A41: 臺 南 市Tainan City | B41: 673 | C41: 761180 | D41: 1824985 | E41: 9903 | F41: 6941 | G41: 2962 | H41: 673 | I41: 493 | J41: 180 | K41: 6908 | L41: 4828 | M41: 2080 | N41: 2322 | O41: 1620 | P41: 702 | Q41: 81408 | R41: 37348 | S41: 44060 | T41: 282 | U41: 261997832 | V41: 194431116 | W41: 67566716 | X41: 150 | Y41: 148 | Z41: 1 | AA41: 1 | AB41: 5651 | AC41: 20117 | AD41: 342 | AE41: 780 | AF41: 15099 | AG41: 5070 | AH41: 10029 | AI41: 262 | AJ41: 162 | AK41: 13 | AL41: 1620797 | AM41: 343167
A42: 高 雄 市Kaohsiung City | B42: 768 | C42: 949068 | D42: 2152655 | E42: 11396 | F42: 7052 | G42: 4344 | H42: 768 | I42: 523 | J42: 245 | K42: 7857 | L42: 4823 | M42: 3034 | N42: 2771 | O42: 1706 | P42: 1065 | Q42: 75979 | R42: 33774 | S42: 42205 | T42: 391 | U42: 476173475 | V42: 359288039 | W42: 116885436 | X42: 285 | Y42: 285 | Z42: 0 | AA42: 0 | AB42: 31332 | AC42: 33466 | AD42: 461 | AE42: 617 | AF42: 18984 | AG42: 6640 | AH42: 12344 | AI42: 297 | AJ42: 177 | AK42: 159 | AL42: 1550917 | AM42: 710448
A43: 宜蘭縣Yilan County | B43: 241 | C43: 191316 | D43: 449495 | E43: 3854 | F43: 2819 | G43: 1035 | H43: 241 | I43: 185 | J43: 56 | K43: 2714 | L43: 1990 | M43: 724 | N43: 899 | O43: 644 | P43: 255 | Q43: 24759 | R43: 12675 | S43: 12084 | T43: 129 | U43: 272289686 | V43: 220024041 | W43: 52265645 | X43: 205 | Y43: 202 | Z43: 2 | AA43: 1 | AB43: 2049 | AC43: 23855 | AD43: 101 | AE43: 284 | AF43: 7713 | AG43: 2929 | AH43: 4784 | AI43: 141 | AJ43: 97 | AK43: 20 | AL43: 1556373 | AM43: 251384
A44: 新竹縣Hsinchu County | B44: 188 | C44: 242535 | D44: 591814 | E44: 3261 | F44: 2141 | G44: 1120 | H44: 188 | I44: 136 | J44: 52 | K44: 2274 | L44: 1495 | M44: 779 | N44: 799 | O44: 510 | P44: 289 | Q44: 33475 | R44: 16051 | S44: 17424 | T44: 169 | U44: 213618463 | V44: 136689914 | W44: 76928549 | X44: 77 | Y44: 74 | Z44: 2 | AA44: 1 | AB44: 3689 | AC44: 19772 | AD44: 42 | AE44: 193 | AF44: 5041 | AG44: 2015 | AH44: 3026 | AI44: 63 | AJ44: 66 | AK44: 21 | AL44: 1502246 | AM44: 145192
A45: 苗栗縣Miaoli County | B45: 280 | C45: 209599 | D45: 525755 | E45: 4682 | F45: 3163 | G45: 1519 | H45: 280 | I45: 197 | J45: 83 | K45: 3322 | L45: 2254 | M45: 1068 | N45: 1080 | O45: 712 | P45: 368 | Q45: 44744 | R45: 22409 | S45: 22335 | T45: 220 | U45: 217919312 | V45: 176308854 | W45: 41610458 | X45: 229 | Y45: 219 | Z45: 7 | AA45: 3 | AB45: 2035 | AC45: 7747 | AD45: 115 | AE45: 270 | AF45: 7444 | AG45: 3044 | AH45: 4400 | AI45: 122 | AJ45: 37 | AK45: 23 | AL45: 923863 | AM45: 304110
A46: 彰化縣Changhua County | B46: 583 | C46: 426648 | D46: 1172309 | E46: 9396 | F46: 7435 | G46: 1961 | H46: 583 | I46: 447 | J46: 136 | K46: 6587 | L46: 5221 | M46: 1366 | N46: 2226 | O46: 1767 | P46: 459 | Q46: 58916 | R46: 33045 | S46: 25871 | T46: 388 | U46: 428760434 | V46: 306435100 | W46: 122325334 | X46: 431 | Y46: 418 | Z46: 5 | AA46: 8 | AB46: 6236 | AC46: 21451 | AD46: 89 | AE46: 665 | AF46: 24703 | AG46: 9302 | AH46: 15401 | AI46: 322 | AJ46: 214 | AK46: 8 | AL46: 1324918 | AM46: 348413
A47: 南投縣Nantou County | B47: 279 | C47: 177649 | D47: 447010 | E47: 3848 | F47: 2644 | G47: 1204 | H47: 279 | I47: 203 | J47: 76 | K47: 2642 | L47: 1816 | M47: 826 | N47: 927 | O47: 625 | P47: 302 | Q47: 25099 | R47: 14028 | S47: 11071 | T47: 221 | U47: 134712462 | V47: 73403087 | W47: 61309375 | X47: 219 | Y47: 216 | Z47: 1 | AA47: 2 | AB47: 5689 | AC47: 8797 | AD47: 70 | AE47: 279 | AF47: 7208 | AG47: 2558 | AH47: 4650 | AI47: 139 | AJ47: 72 | AK47: 23 | AL47: 1009519 | AM47: 160172
... A58: 連江縣Lienchiang County | B58: 20 | C58: 4081 | D58: 13681 | E58: 215 | F58: 171 | G58: 44 | H58: 20 | I58: 18 | J58: 2 | K58: 141 | L58: 111 | M58: 30 | N58: 54 | O58: 42 | P58: 12 | Q58: 1549 | R58: 820 | S58: 729 | T58: 0 | U58: 7643947 | V58: 7362669 | W58: 281278 | X58: 19 | Y58: 17 | Z58: 2 | AA58: 0 | AB58: 40 | AC58: 45 | AD58: 1 | AE58: 2 | AF58: 87 | AG58: 61 | AH58: 26 | AI58: 6 | AJ58: 4 | AK58: 0 | AL58: 2821 | AM58: 3901
A60: 總計Total | B60: =IF(B36=B7,"","*") | C60: =IF(C36=C7,"","*") | D60: =IF(D36=D7,"","*") | E60: =IF(E36=E7,"","*") | F60: =IF(F36=F7,"","*") | G60: =IF(G36=G7,"","*") | H60: =IF(H36=H7,"","*") | I60: =IF(I36=I7,"","*") | ... AM60: =IF(AM36=AM7,"","*")
A61: 新 北 市New Taipei City | B61: =IF(B37=B8,"","*") | C61: =IF(C37=C8,"","*") | D61: =IF(D37=D8,"","*") | E61: =IF(E37=E8,"","*") | F61: =IF(F37=F8,"","*") | G61: =IF(G37=G8,"","*") | H61: =IF(H37=H8,"","*") | I61: =IF(I37=I8,"","*") | ... AM61: =IF(AM37=AM8,"","*")
A62: 臺 北 市Taipei City | B62: =IF(B38=B9,"","*") | C62: =IF(C38=C9,"","*") | D62: =IF(D38=D9,"","*") | E62: =IF(E38=E9,"","*") | F62: =IF(F38=F9,"","*") | G62: =IF(G38=G9,"","*") | H62: =IF(H38=H9,"","*") | I62: =IF(I38=I9,"","*") | ... AM62: =IF(AM38=AM9,"","*")
A63: 桃 園 市Taoyuan City | B63: =IF(B39=B10,"","*") | C63: =IF(C39=C10,"","*") | D63: =IF(D39=D10,"","*") | E63: =IF(E39=E10,"","*") | F63: =IF(F39=F10,"","*") | G63: =IF(G39=G10,"","*") | H63: =IF(H39=H10,"","*") | I63: =IF(I39=I10,"","*") | ... AM63: =IF(AM39=AM10,"","*")
A64: 臺 中 市Taichung City | B64: =IF(B40=B11,"","*") | C64: =IF(C40=C11,"","*") | D64: =IF(D40=D11,"","*") | E64: =IF(E40=E11,"","*") | F64: =IF(F40=F11,"","*") | G64: =IF(G40=G11,"","*") | H64: =IF(H40=H11,"","*") | I64: =IF(I40=I11,"","*") | ... AM64: =IF(AM40=AM11,"","*")
A65: 臺 南 市Tainan City | B65: =IF(B41=B12,"","*") | C65: =IF(C41=C12,"","*") | D65: =IF(D41=D12,"","*") | E65: =IF(E41=E12,"","*") | F65: =IF(F41=F12,"","*") | G65: =IF(G41=G12,"","*") | H65: =IF(H41=H12,"","*") | I65: =IF(I41=I12,"","*") | ... AM65: =IF(AM41=AM12,"","*")
A66: 高 雄 市Kaohsiung City | B66: =IF(B42=B13,"","*") | C66: =IF(C42=C13,"","*") | D66: =IF(D42=D13,"","*") | E66: =IF(E42=E13,"","*") | F66: =IF(F42=F13,"","*") | G66: =IF(G42=G13,"","*") | H66: =IF(H42=H13,"","*") | I66: =IF(I42=I13,"","*") | ... AM66: =IF(AM42=AM13,"","*")
A67: 宜蘭縣Yilan County | B67: =IF(B43=B14,"","*") | C67: =IF(C43=C14,"","*") | D67: =IF(D43=D14,"","*") | E67: =IF(E43=E14,"","*") | F67: =IF(F43=F14,"","*") | G67: =IF(G43=G14,"","*") | H67: =IF(H43=H14,"","*") | I67: =IF(I43=I14,"","*") | ... AM67: =IF(AM43=AM14,"","*")
A68: 新竹縣Hsinchu County | B68: =IF(B44=B15,"","*") | C68: =IF(C44=C15,"","*") | D68: =IF(D44=D15,"","*") | E68: =IF(E44=E15,"","*") | F68: =IF(F44=F15,"","*") | G68: =IF(G44=G15,"","*") | H68: =IF(H44=H15,"","*") | I68: =IF(I44=I15,"","*") | ... AM68: =IF(AM44=AM15,"","*")
A69: 苗栗縣Miaoli County | B69: =IF(B45=B16,"","*") | C69: =IF(C45=C16,"","*") | D69: =IF(D45=D16,"","*") | E69: =IF(E45=E16,"","*") | F69: =IF(F45=F16,"","*") | G69: =IF(G45=G16,"","*") | H69: =IF(H45=H16,"","*") | I69: =IF(I45=I16,"","*") | ... AM69: =IF(AM45=AM16,"","*")
A70: 彰化縣Changhua County | B70: =IF(B46=B17,"","*") | C70: =IF(C46=C17,"","*") | D70: =IF(D46=D17,"","*") | E70: =IF(E46=E17,"","*") | F70: =IF(F46=F17,"","*") | G70: =IF(G46=G17,"","*") | H70: =IF(H46=H17,"","*") | I70: =IF(I46=I17,"","*") | ... AM70: =IF(AM46=AM17,"","*")
A71: 南投縣Nantou County | B71: =IF(B47=B18,"","*") | C71: =IF(C47=C18,"","*") | D71: =IF(D47=D18,"","*") | E71: =IF(E47=E18,"","*") | F71: =IF(F47=F18,"","*") | G71: =IF(G47=G18,"","*") | H71: =IF(H47=H18,"","*") | I71: =IF(I47=I18,"","*") | ... AM71: =IF(AM47=AM18,"","*")
... A82: 連江縣Lienchiang County | B82: =IF(B58=B29,"","*") | C82: =IF(C58=C29,"","*") | D82: =IF(D58=D29,"","*") | E82: =IF(E58=E29,"","*") | F82: =IF(F58=F29,"","*") | G82: =IF(G58=G29,"","*") | H82: =IF(H58=H29,"","*") | I82: =IF(I58=I29,"","*") | ... AM82: =IF(AM58=AM29,"","*")

Sheet 2024
A1: 推行社區發展工作成果 Achievements of Community Development
A2: 113年, 2024 | B2: =IF(B7=SUM(B8:B29),"",SUM(B8:B29)) | C2: =IF(C7=SUM(C8:C29),"",SUM(C8:C29)) | D2: =IF(D7=SUM(D8:D29),"",SUM(D8:D29)) | E2: =IF(E7=SUM(E8:E29),"",SUM(E8:E29)) | F2: =IF(F7=SUM(F8:F29),"",SUM(F8:F29)) | G2: =IF(G7=SUM(G8:G29),"",SUM(G8:G29)) | H2: =IF(H7=SUM(H8:H29),"",SUM(H8:H29)) | I2: =IF(I7=SUM(I8:I29),"",SUM(I8:I29)) | ... AN2: =IF(AN7=SUM(AN8:AN29),"",SUM(AN8:AN29))
A3: 區域別 Locality | B3: 社區發展 協會數(個) No.of Community DevelopmentAssociations (Units) | C3: 社區戶數 (戶) Households of Communities (Households) | D3: 社區人口數 (人) Communities Persons of (Persons) | E3: 理監事人數(人) Directors and Supervisors (Persons) | Q3: 社區發展協會會員數(人) Members Community Development Associations (Persons) | T3: 設置社區生產建設基金 (個) Community Economic Development Fund(Unit) | U3: 實際使用經費(元) Outlays | X3: 社區建設主要項目 Main Items of Community Construction
E4: 合計 Total | H4: 理事長 Director-general | K4: 理事(不含理事長)Directors | N4: 監事 Supervisors | U4: 合計 (元) Total (NT$) | V4: 政府補助款 (元) Government-Provided (NT$) | W4: 社區自籌款 (元) Self-Provided (NT$) | X4: 社區活動中心Community Activity Centers(Units) | AB4: 辦理社區幹部訓練 (人次)Topic Training (Times of Persons) | AC4: 辦理社區 觀摩(人次) Community Exposition (Times of Persons) | AD4: 社區長壽俱樂部(處) Elderly Community Club (Places) | AE4: 社區守望 相助隊(隊) Community Mutual-help Program (Teams) | AF4: 社區志願服務團隊 Community Volunteer Service Teams (Groups) | AJ4: 辦理社區照顧關懷據點 (處) Community Care Locations (Places) | AK4: 社區圖書室 (處) Community Libraries (Places) | AL4: 發行社區報導或通訊 (期) Community Publications (Times) | AM4: 服務成果 Person-times Served
E5: 計 Subtotal | F5: 男 Male | G5: 女 Female | H5: 計 Subtotal | I5: 男 Male | J5: 女 Female | K5: 計 Subtotal | L5: 男 Male | M5: 女 Female | N5: 計 Subtotal | O5: 男 Male | P5: 女 Female | Q5: 計 Subtotal | R5: 男 Male | S5: 女 Female | X5: 合計 (幢) Total | Y5: 原建 (未作修擴建)(幢) Originally Built (Without Repair Extension) | Z5: 新建(幢) Newly Built | AA5: 修擴建(幢) Repair Extension | AF5: 團隊(隊) Teams | AG5: 志工數(人)Persons | AM5: 福利服務或活動(人次) Welfare Service or Activities (Times of Persons) | AN5: 其他服務(人次) Other Services (Times of Persons)
AG6: 合計 Total | AH6: 男 Male | AI6: 女 Female
A7: 總計Total | B7: 7026 | C7: 8972256 | D7: 22241949 | E7: 107558 | F7: 73424 | G7: 34134 | H7: 7026 | I7: 5121 | J7: 1905 | K7: 74530 | L7: 50908 | M7: 23622 | N7: 26002 | O7: 17395 | P7: 8607 | Q7: 725642 | R7: 355188 | S7: 370454 | T7: 3953 | U7: 4268697498 | V7: 3166157982 | W7: 1102539516 | X7: 3372 | Y7: 3132 | Z7: 143 | AA7: 97 | AB7: 89369 | AC7: 277192 | AD7: 3250 | AE7: 3351 | AF7: 4985 | AG7: 156735 | AH7: 58976 | AI7: 97759 | AJ7: 3481 | AK7: 635 | AL7: 484 | AM7: 19845759 | AN7: 4181627
A8: 新 北 市New Taipei City | B8: 467 | C8: 1715786 | D8: 4047001 | E8: 7916 | F8: 4807 | G8: 3109 | H8: 467 | I8: 312 | J8: 155 | K8: 5510 | L8: 3347 | M8: 2163 | N8: 1939 | O8: 1148 | P8: 791 | Q8: 59610 | R8: 25726 | S8: 33884 | T8: 337 | U8: 196271395 | V8: 134957964 | W8: 61313431 | X8: 0 | Y8: 0 | Z8: 0 | AA8: 0 | AB8: 7453 | AC8: 18051 | AD8: 311 | AE8: 611 | AF8: 222 | AG8: 6185 | AH8: 2219 | AI8: 3966 | AJ8: 116 | AK8: 84 | AL8: 34 | AM8: 1721175 | AN8: 172865
A9: 臺 北 市Taipei City | B9: 386 | C9: 1071493 | D9: 2490869 | E9: 5595 | F9: 2865 | G9: 2730 | H9: 386 | I9: 233 | J9: 153 | K9: 3827 | L9: 1936 | M9: 1891 | N9: 1382 | O9: 696 | P9: 686 | Q9: 23455 | R9: 9325 | S9: 14130 | T9: 0 | U9: 46511066 | V9: 33883594 | W9: 12627472 | X9: 0 | Y9: 0 | Z9: 0 | AA9: 0 | AB9: 6548 | AC9: 3919 | AD9: 0 | AE9: 343 | AF9: 136 | AG9: 4280 | AH9: 1558 | AI9: 2722 | AJ9: 505 | AK9: 28 | AL9: 28 | AM9: 404004 | AN9: 30318
A10: 桃 園 市Taoyuan City | B10: 350 | C10: 791988 | D10: 1996221 | E10: 5672 | F10: 3125 | G10: 2547 | H10: 350 | I10: 243 | J10: 107 | K10: 3941 | L10: 2128 | M10: 1813 | N10: 1381 | O10: 754 | P10: 627 | Q10: 56114 | R10: 23017 | S10: 33097 | T10: 267 | U10: 379722503 | V10: 284490360 | W10: 95232143 | X10: 205 | Y10: 171 | Z10: 6 | AA10: 28 | AB10: 5182 | AC10: 27159 | AD10: 33 | AE10: 532 | AF10: 278 | AG10: 11926 | AH10: 3744 | AI10: 8182 | AJ10: 203 | AK10: 25 | AL10: 56 | AM10: 1284849 | AN10: 739966
A11: 臺 中 市Taichung City | B11: 609 | C11: 1095893 | D11: 2833694 | E11: 9688 | F11: 6507 | G11: 3181 | H11: 609 | I11: 443 | J11: 166 | K11: 6740 | L11: 4496 | M11: 2244 | N11: 2339 | O11: 1568 | P11: 771 | Q11: 52486 | R11: 25022 | S11: 27464 | T11: 151 | U11: 233472479 | V11: 145022818 | W11: 88449661 | X11: 248 | Y11: 246 | Z11: 0 | AA11: 2 | AB11: 4609 | AC11: 32622 | AD11: 395 | AE11: 233 | AF11: 417 | AG11: 12986 | AH11: 3415 | AI11: 9571 | AJ11: 289 | AK11: 18 | AL11: 31 | AM11: 1146267 | AN11: 157768
A12: 臺 南 市Tainan City | B12: 675 | C12: 727340 | D12: 1813162 | E12: 9902 | F12: 6979 | G12: 2923 | H12: 675 | I12: 507 | J12: 168 | K12: 6919 | L12: 4856 | M12: 2063 | N12: 2308 | O12: 1616 | P12: 692 | Q12: 81842 | R12: 38687 | S12: 43155 | T12: 292 | U12: 243015974 | V12: 177140338 | W12: 65875636 | X12: 149 | Y12: 147 | Z12: 1 | AA12: 1 | AB12: 3974 | AC12: 20640 | AD12: 433 | AE12: 150 | AF12: 509 | AG12: 15982 | AH12: 5242 | AI12: 10740 | AJ12: 263 | AK12: 76 | AL12: 24 | AM12: 1647842 | AN12: 369517
A13: 高 雄 市Kaohsiung City | B13: 758 | C13: 897926 | D13: 2107870 | E13: 11349 | F13: 7124 | G13: 4225 | H13: 758 | I13: 527 | J13: 231 | K13: 7817 | L13: 4888 | M13: 2929 | N13: 2774 | O13: 1709 | P13: 1065 | Q13: 76361 | R13: 33831 | S13: 42530 | T13: 391 | U13: 415368549 | V13: 273581197 | W13: 141787352 | X13: 289 | Y13: 289 | Z13: 0 | AA13: 0 | AB13: 16589 | AC13: 32317 | AD13: 303 | AE13: 466 | AF13: 642 | AG13: 18665 | AH13: 6527 | AI13: 12138 | AJ13: 287 | AK13: 50 | AL13: 139 | AM13: 1524283 | AN13: 614474
A14: 宜蘭縣Yilan County | B14: 241 | C14: 184044 | D14: 450555 | E14: 3881 | F14: 2857 | G14: 1024 | H14: 241 | I14: 184 | J14: 57 | K14: 2715 | L14: 2006 | M14: 709 | N14: 925 | O14: 667 | P14: 258 | Q14: 24828 | R14: 12842 | S14: 11986 | T14: 132 | U14: 242332021 | V14: 185932041 | W14: 56399980 | X14: 207 | Y14: 195 | Z14: 8 | AA14: 4 | AB14: 2036 | AC14: 9886 | AD14: 115 | AE14: 103 | AF14: 283 | AG14: 7781 | AH14: 2885 | AI14: 4896 | AJ14: 133 | AK14: 19 | AL14: 21 | AM14: 1130500 | AN14: 203814
A15: 新竹縣Hsinchu County | B15: 188 | C15: 229534 | D15: 598417 | E15: 3176 | F15: 2089 | G15: 1087 | H15: 188 | I15: 145 | J15: 43 | K15: 2177 | L15: 1421 | M15: 756 | N15: 811 | O15: 523 | P15: 288 | Q15: 33657 | R15: 16517 | S15: 17140 | T15: 170 | U15: 195550819 | V15: 117950544 | W15: 77600275 | X15: 92 | Y15: 87 | Z15: 3 | AA15: 2 | AB15: 3320 | AC15: 23034 | AD15: 124 | AE15: 46 | AF15: 184 | AG15: 5248 | AH15: 2071 | AI15: 3177 | AJ15: 77 | AK15: 17 | AL15: 19 | AM15: 358485 | AN15: 87272
A16: 苗栗縣Miaoli County | B16: 280 | C16: 203566 | D16: 533144 | E16: 4616 | F16: 3164 | G16: 1452 | H16: 280 | I16: 203 | J16: 77 | K16: 3261 | L16: 2255 | M16: 1006 | N16: 1075 | O16: 706 | P16: 369 | Q16: 44071 | R16: 21575 | S16: 22496 | T16: 196 | U16: 163602334 | V16: 124376916 | W16: 39225418 | X16: 232 | Y16: 226 | Z16: 4 | AA16: 2 | AB16: 3800 | AC16: 9336 | AD16: 158 | AE16: 149 | AF16: 243 | AG16: 7326 | AH16: 3083 | AI16: 4243 | AJ16: 120 | AK16: 26 | AL16: 11 | AM16: 1050962 | AN16: 249462
A17: 彰化縣Changhua County | B17: 581 | C17: 405923 | D17: 1186776 | E17: 9456 | F17: 7558 | G17: 1898 | H17: 581 | I17: 450 | J17: 131 | K17: 6629 | L17: 5315 | M17: 1314 | N17: 2246 | O17: 1793 | P17: 453 | Q17: 59563 | R17: 33583 | S17: 25980 | T17: 396 | U17: 433521194 | V17: 315444253 | W17: 118076941 | X17: 424 | Y17: 413 | Z17: 5 | AA17: 6 | AB17: 5688 | AC17: 21789 | AD17: 296 | AE17: 88 | AF17: 605 | AG17: 23316 | AH17: 9215 | AI17: 14101 | AJ17: 312 | AK17: 51 | AL17: 6 | AM17: 1125107 | AN17: 385652
A18: 南投縣Nantou County | B18: 278 | C18: 176070 | D18: 457923 | E18: 3889 | F18: 2833 | G18: 1056 | H18: 278 | I18: 211 | J18: 67 | K18: 2686 | L18: 1972 | M18: 714 | N18: 925 | O18: 650 | P18: 275 | Q18: 25018 | R18: 14059 | S18: 10959 | T18: 222 | U18: 83009220 | V18: 71708659 | W18: 11300561 | X18: 216 | Y18: 216 | Z18: 0 | AA18: 0 | AB18: 4919 | AC18: 10504 | AD18: 80 | AE18: 75 | AF18: 314 | AG18: 7350 | AH18: 2907 | AI18: 4443 | AJ18: 138 | AK18: 37 | AL18: 34 | AM18: 878915 | AN18: 129838
... A29: 連江縣Lienchiang County | B29: 20 | C29: 3885 | D29: 13936 | E29: 219 | F29: 171 | G29: 48 | H29: 20 | I29: 19 | J29: 1 | K29: 142 | L29: 113 | M29: 29 | N29: 57 | O29: 39 | P29: 18 | Q29: 1464 | R29: 778 | S29: 686 | T29: 0 | U29: 1664225 | V29: 1608389 | W29: 55836 | X29: 18 | Y29: 18 | Z29: 0 | AA29: 0 | AB29: 24 | AC29: 15 | AD29: 0 | AE29: 1 | AF29: 2 | AG29: 51 | AH29: 28 | AI29: 23 | AJ29: 4 | AK29: 0 | AL29: 0 | AM29: 5612 | AN29: 425
A30: 資料來源：直轄市及縣(市)政府。
A31: 說 明：本表資料不包括未成立社區發展協會者。
A32: Source: County and Government.
A34: 更新日期：2026/03/31
A36: 總計Total | B36: 7026 | C36: 9040617 | D36: 22240630 | E36: 107532 | F36: 73414 | G36: 34118 | H36: 7026 | I36: 5121 | J36: 1905 | K36: 74516 | L36: 50903 | M36: 23613 | N36: 25990 | O36: 17390 | P36: 8600 | Q36: 725642 | R36: 355188 | S36: 370454 | T36: 3953 | U36: 4266540532 | V36: 3164001016 | W36: 1102539516 | X36: 3371 | Y36: 3132 | Z36: 143 | AA36: 96 | AB36: 89443 | AC36: 277118 | AD36: 3250 | AE36: 3633 | AF36: 4991 | AG36: 156710 | AH36: 58967 | AI36: 97743 | AJ36: 3481 | AK36: 659 | AL36: 500 | AM36: 19845759 | AN36: 4181627
A37: 新 北 市New Taipei City | B37: 467 | C37: 1715786 | D37: 4047001 | E37: 7916 | F37: 4807 | G37: 3109 | H37: 467 | I37: 312 | J37: 155 | K37: 5510 | L37: 3347 | M37: 2163 | N37: 1939 | O37: 1148 | P37: 791 | Q37: 59610 | R37: 25726 | S37: 33884 | T37: 337 | U37: 196271395 | V37: 134957964 | W37: 61313431 | X37: 0 | Y37: 0 | Z37: 0 | AA37: 0 | AB37: 7453 | AC37: 18051 | AD37: 311 | AE37: 611 | AF37: 222 | AG37: 6185 | AH37: 2219 | AI37: 3966 | AJ37: 116 | AK37: 84 | AL37: 34 | AM37: 1721175 | AN37: 172865
A38: 臺 北 市Taipei City | B38: 386 | C38: 1071493 | D38: 2490869 | E38: 5560 | F38: 2852 | G38: 2708 | H38: 386 | I38: 233 | J38: 153 | K38: 3806 | L38: 1930 | M38: 1876 | N38: 1368 | O38: 689 | P38: 679 | Q38: 23455 | R38: 9325 | S38: 14130 | T38: 0 | U38: 46511066 | V38: 33883594 | W38: 12627472 | X38: 0 | Y38: 0 | Z38: 0 | AA38: 0 | AB38: 6548 | AC38: 3919 | AD38: 0 | AE38: 343 | AF38: 134 | AG38: 4248 | AH38: 1547 | AI38: 2701 | AJ38: 505 | AK38: 28 | AL38: 28 | AM38: 404004 | AN38: 30318
A39: 桃 園 市Taoyuan City | B39: 350 | C39: 791571 | D39: 1994902 | E39: 5681 | F39: 3128 | G39: 2553 | H39: 350 | I39: 243 | J39: 107 | K39: 3948 | L39: 2129 | M39: 1819 | N39: 1383 | O39: 756 | P39: 627 | Q39: 56114 | R39: 23017 | S39: 33097 | T39: 267 | U39: 379822503 | V39: 284590360 | W39: 95232143 | X39: 204 | Y39: 171 | Z39: 6 | AA39: 27 | AB39: 5256 | AC39: 27085 | AD39: 33 | AE39: 708 | AF39: 278 | AG39: 11926 | AH39: 3744 | AI39: 8182 | AJ39: 203 | AK39: 49 | AL39: 72 | AM39: 1284849 | AN39: 739966
A40: 臺 中 市Taichung City | B40: 609 | C40: 1095893 | D40: 2833694 | E40: 9688 | F40: 6507 | G40: 3181 | H40: 609 | I40: 443 | J40: 166 | K40: 6740 | L40: 4496 | M40: 2244 | N40: 2339 | O40: 1568 | P40: 771 | Q40: 52486 | R40: 25022 | S40: 27464 | T40: 151 | U40: 233472479 | V40: 145022818 | W40: 88449661 | X40: 248 | Y40: 246 | Z40: 0 | AA40: 2 | AB40: 4609 | AC40: 32622 | AD40: 395 | AE40: 233 | AF40: 417 | AG40: 12986 | AH40: 3415 | AI40: 9571 | AJ40: 289 | AK40: 18 | AL40: 31 | AM40: 1146267 | AN40: 157768
A41: 臺 南 市Tainan City | B41: 675 | C41: 727340 | D41: 1813162 | E41: 9902 | F41: 6979 | G41: 2923 | H41: 675 | I41: 507 | J41: 168 | K41: 6919 | L41: 4856 | M41: 2063 | N41: 2308 | O41: 1616 | P41: 692 | Q41: 81842 | R41: 38687 | S41: 43155 | T41: 292 | U41: 243015974 | V41: 177140338 | W41: 65875636 | X41: 149 | Y41: 147 | Z41: 1 | AA41: 1 | AB41: 3974 | AC41: 20640 | AD41: 433 | AE41: 345 | AF41: 509 | AG41: 15982 | AH41: 5242 | AI41: 10740 | AJ41: 263 | AK41: 76 | AL41: 24 | AM41: 1647842 | AN41: 369517
A42: 高 雄 市Kaohsiung City | B42: 758 | C42: 897926 | D42: 2107870 | E42: 11349 | F42: 7124 | G42: 4225 | H42: 758 | I42: 527 | J42: 231 | K42: 7817 | L42: 4888 | M42: 2929 | N42: 2774 | O42: 1709 | P42: 1065 | Q42: 76361 | R42: 33831 | S42: 42530 | T42: 391 | U42: 415368549 | V42: 273581197 | W42: 141787352 | X42: 289 | Y42: 289 | Z42: 0 | AA42: 0 | AB42: 16589 | AC42: 32317 | AD42: 303 | AE42: 466 | AF42: 650 | AG42: 18672 | AH42: 6529 | AI42: 12143 | AJ42: 287 | AK42: 50 | AL42: 139 | AM42: 1524283 | AN42: 614474
A43: 宜蘭縣Yilan County | B43: 241 | C43: 184044 | D43: 450555 | E43: 3881 | F43: 2857 | G43: 1024 | H43: 241 | I43: 184 | J43: 57 | K43: 2715 | L43: 2006 | M43: 709 | N43: 925 | O43: 667 | P43: 258 | Q43: 24828 | R43: 12842 | S43: 11986 | T43: 132 | U43: 240075055 | V43: 183675075 | W43: 56399980 | X43: 207 | Y43: 195 | Z43: 8 | AA43: 4 | AB43: 2036 | AC43: 9886 | AD43: 115 | AE43: 103 | AF43: 283 | AG43: 7781 | AH43: 2885 | AI43: 4896 | AJ43: 133 | AK43: 19 | AL43: 21 | AM43: 1130500 | AN43: 203814
A44: 新竹縣Hsinchu County | B44: 188 | C44: 229534 | D44: 598417 | E44: 3176 | F44: 2089 | G44: 1087 | H44: 188 | I44: 145 | J44: 43 | K44: 2177 | L44: 1421 | M44: 756 | N44: 811 | O44: 523 | P44: 288 | Q44: 33657 | R44: 16517 | S44: 17140 | T44: 170 | U44: 195550819 | V44: 117950544 | W44: 77600275 | X44: 92 | Y44: 87 | Z44: 3 | AA44: 2 | AB44: 3320 | AC44: 23034 | AD44: 124 | AE44: 46 | AF44: 184 | AG44: 5248 | AH44: 2071 | AI44: 3177 | AJ44: 77 | AK44: 17 | AL44: 19 | AM44: 358485 | AN44: 87272
A45: 苗栗縣Miaoli County | B45: 280 | C45: 203566 | D45: 533144 | E45: 4616 | F45: 3164 | G45: 1452 | H45: 280 | I45: 203 | J45: 77 | K45: 3261 | L45: 2255 | M45: 1006 | N45: 1075 | O45: 706 | P45: 369 | Q45: 44071 | R45: 21575 | S45: 22496 | T45: 196 | U45: 163602334 | V45: 124376916 | W45: 39225418 | X45: 232 | Y45: 226 | Z45: 4 | AA45: 2 | AB45: 3800 | AC45: 9336 | AD45: 158 | AE45: 149 | AF45: 243 | AG45: 7326 | AH45: 3083 | AI45: 4243 | AJ45: 120 | AK45: 26 | AL45: 11 | AM45: 1050962 | AN45: 249462
A46: 彰化縣Changhua County | B46: 581 | C46: 405923 | D46: 1186776 | E46: 9456 | F46: 7558 | G46: 1898 | H46: 581 | I46: 450 | J46: 131 | K46: 6629 | L46: 5315 | M46: 1314 | N46: 2246 | O46: 1793 | P46: 453 | Q46: 59563 | R46: 33583 | S46: 25980 | T46: 396 | U46: 433521194 | V46: 315444253 | W46: 118076941 | X46: 424 | Y46: 413 | Z46: 5 | AA46: 6 | AB46: 5688 | AC46: 21789 | AD46: 296 | AE46: 88 | AF46: 605 | AG46: 23316 | AH46: 9215 | AI46: 14101 | AJ46: 312 | AK46: 51 | AL46: 6 | AM46: 1125107 | AN46: 385652
A47: 南投縣Nantou County | B47: 278 | C47: 244848 | D47: 457923 | E47: 3889 | F47: 2833 | G47: 1056 | H47: 278 | I47: 211 | J47: 67 | K47: 2686 | L47: 1972 | M47: 714 | N47: 925 | O47: 650 | P47: 275 | Q47: 25018 | R47: 14059 | S47: 10959 | T47: 222 | U47: 83009220 | V47: 71708659 | W47: 11300561 | X47: 216 | Y47: 216 | Z47: 0 | AA47: 0 | AB47: 4919 | AC47: 10504 | AD47: 80 | AE47: 75 | AF47: 314 | AG47: 7350 | AH47: 2907 | AI47: 4443 | AJ47: 138 | AK47: 37 | AL47: 34 | AM47: 878915 | AN47: 129838
... A58: 連江縣Lienchiang County | B58: 20 | C58: 3885 | D58: 13936 | E58: 219 | F58: 171 | G58: 48 | H58: 20 | I58: 19 | J58: 1 | K58: 142 | L58: 113 | M58: 29 | N58: 57 | O58: 39 | P58: 18 | Q58: 1464 | R58: 778 | S58: 686 | T58: 0 | U58: 1664225 | V58: 1608389 | W58: 55836 | X58: 18 | Y58: 18 | Z58: 0 | AA58: 0 | AB58: 24 | AC58: 15 | AD58: 0 | AE58: 1 | AF58: 2 | AG58: 51 | AH58: 28 | AI58: 23 | AJ58: 4 | AK58: 0 | AL58: 0 | AM58: 5612 | AN58: 425
A60: 總計Total | B60: =IF(B36=B7,"","*") | C60: =IF(C36=C7,"","*") -> * | D60: =IF(D36=D7,"","*") -> * | E60: =IF(E36=E7,"","*") -> * | F60: =IF(F36=F7,"","*") -> * | G60: =IF(G36=G7,"","*") -> * | H60: =IF(H36=H7,"","*") | I60: =IF(I36=I7,"","*") | ... AN60: =IF(AN36=AN7,"","*")
A61: 新 北 市New Taipei City | B61: =IF(B37=B8,"","*") | C61: =IF(C37=C8,"","*") | D61: =IF(D37=D8,"","*") | E61: =IF(E37=E8,"","*") | F61: =IF(F37=F8,"","*") | G61: =IF(G37=G8,"","*") | H61: =IF(H37=H8,"","*") | I61: =IF(I37=I8,"","*") | ... AN61: =IF(AN37=AN8,"","*")
A62: 臺 北 市Taipei City | B62: =IF(B38=B9,"","*") | C62: =IF(C38=C9,"","*") | D62: =IF(D38=D9,"","*") | E62: =IF(E38=E9,"","*") -> * | F62: =IF(F38=F9,"","*") -> * | G62: =IF(G38=G9,"","*") -> * | H62: =IF(H38=H9,"","*") | I62: =IF(I38=I9,"","*") | ... AN62: =IF(AN38=AN9,"","*")
A63: 桃 園 市Taoyuan City | B63: =IF(B39=B10,"","*") | C63: =IF(C39=C10,"","*") -> * | D63: =IF(D39=D10,"","*") -> * | E63: =IF(E39=E10,"","*") -> * | F63: =IF(F39=F10,"","*") -> * | G63: =IF(G39=G10,"","*") -> * | H63: =IF(H39=H10,"","*") | I63: =IF(I39=I10,"","*") | ... AN63: =IF(AN39=AN10,"","*")
A64: 臺 中 市Taichung City | B64: =IF(B40=B11,"","*") | C64: =IF(C40=C11,"","*") | D64: =IF(D40=D11,"","*") | E64: =IF(E40=E11,"","*") | F64: =IF(F40=F11,"","*") | G64: =IF(G40=G11,"","*") | H64: =IF(H40=H11,"","*") | I64: =IF(I40=I11,"","*") | ... AN64: =IF(AN40=AN11,"","*")
A65: 臺 南 市Tainan City | B65: =IF(B41=B12,"","*") | C65: =IF(C41=C12,"","*") | D65: =IF(D41=D12,"","*") | E65: =IF(E41=E12,"","*") | F65: =IF(F41=F12,"","*") | G65: =IF(G41=G12,"","*") | H65: =IF(H41=H12,"","*") | I65: =IF(I41=I12,"","*") | ... AN65: =IF(AN41=AN12,"","*")
A66: 高 雄 市Kaohsiung City | B66: =IF(B42=B13,"","*") | C66: =IF(C42=C13,"","*") | D66: =IF(D42=D13,"","*") | E66: =IF(E42=E13,"","*") | F66: =IF(F42=F13,"","*") | G66: =IF(G42=G13,"","*") | H66: =IF(H42=H13,"","*") | I66: =IF(I42=I13,"","*") | ... AN66: =IF(AN42=AN13,"","*")
A67: 宜蘭縣Yilan County | B67: =IF(B43=B14,"","*") | C67: =IF(C43=C14,"","*") | D67: =IF(D43=D14,"","*") | E67: =IF(E43=E14,"","*") | F67: =IF(F43=F14,"","*") | G67: =IF(G43=G14,"","*") | H67: =IF(H43=H14,"","*") | I67: =IF(I43=I14,"","*") | ... AN67: =IF(AN43=AN14,"","*")
A68: 新竹縣Hsinchu County | B68: =IF(B44=B15,"","*") | C68: =IF(C44=C15,"","*") | D68: =IF(D44=D15,"","*") | E68: =IF(E44=E15,"","*") | F68: =IF(F44=F15,"","*") | G68: =IF(G44=G15,"","*") | H68: =IF(H44=H15,"","*") | I68: =IF(I44=I15,"","*") | ... AN68: =IF(AN44=AN15,"","*")
A69: 苗栗縣Miaoli County | B69: =IF(B45=B16,"","*") | C69: =IF(C45=C16,"","*") | D69: =IF(D45=D16,"","*") | E69: =IF(E45=E16,"","*") | F69: =IF(F45=F16,"","*") | G69: =IF(G45=G16,"","*") | H69: =IF(H45=H16,"","*") | I69: =IF(I45=I16,"","*") | ... AN69: =IF(AN45=AN16,"","*")
A70: 彰化縣Changhua County | B70: =IF(B46=B17,"","*") | C70: =IF(C46=C17,"","*") | D70: =IF(D46=D17,"","*") | E70: =IF(E46=E17,"","*") | F70: =IF(F46=F17,"","*") | G70: =IF(G46=G17,"","*") | H70: =IF(H46=H17,"","*") | I70: =IF(I46=I17,"","*") | ... AN70: =IF(AN46=AN17,"","*")
A71: 南投縣Nantou County | B71: =IF(B47=B18,"","*") | C71: =IF(C47=C18,"","*") -> * | D71: =IF(D47=D18,"","*") | E71: =IF(E47=E18,"","*") | F71: =IF(F47=F18,"","*") | G71: =IF(G47=G18,"","*") | H71: =IF(H47=H18,"","*") | I71: =IF(I47=I18,"","*") | ... AN71: =IF(AN47=AN18,"","*")
... A82: 連江縣Lienchiang County | B82: =IF(B58=B29,"","*") | C82: =IF(C58=C29,"","*") | D82: =IF(D58=D29,"","*") | E82: =IF(E58=E29,"","*") | F82: =IF(F58=F29,"","*") | G82: =IF(G58=G29,"","*") | H82: =IF(H58=H29,"","*") | I82: =IF(I58=I29,"","*") | ... AN82: =IF(AN58=AN29,"","*")

Sheet 2023
A1: 推行社區發展工作成果 Achievements of Community Development
A3: 112年, 2023 | B3: =IF(B8=SUM(B9:B30),"",SUM(B9:B30)) | C3: =IF(C8=SUM(C9:C30),"",SUM(C9:C30)) | D3: =IF(D8=SUM(D9:D30),"",SUM(D9:D30)) | E3: =IF(E8=SUM(E9:E30),"",SUM(E9:E30)) | F3: =IF(F8=SUM(F9:F30),"",SUM(F9:F30)) | G3: =IF(G8=SUM(G9:G30),"",SUM(G9:G30)) | H3: =IF(H8=SUM(H9:H30),"",SUM(H9:H30)) | I3: =IF(I8=SUM(I9:I30),"",SUM(I9:I30)) | ... AN3: =IF(AN8=SUM(AN9:AN30),"",SUM(AN9:AN30))
A4: 區域別 Locality | B4: 社區發展 協會數(個) No.of Community DevelopmentAssociations (Units) | C4: 社區戶數 (戶) Households of Communities (Households) | D4: 社區人口數 (人) Communities Persons of (Persons) | E4: 理監事人數(人) Directors and Supervisors (Persons) | Q4: 社區發展協會會員數(人) Members Community Development Associations (Persons) | T4: 設置社區生產建設基金 (個) Community Economic Development Fund(Unit) | U4: 實際使用經費(元) Outlays | X4: 社區建設主要項目 Main Items of Community Construction
E5: 合計 Total | H5: 理事長 Director-general | K5: 理事(不含理事長)Directors | N5: 監事 Supervisors | U5: 合計 (元) Total (NT$) | V5: 政府補助款 (元) Government-Provided (NT$) | W5: 社區自籌款 (元) Self-Provided (NT$) | X5: 社區活動中心Community Activity Centers(Units) | AB5: 辦理社區幹部訓練 (人次)Topic Training (Times of Persons) | AC5: 辦理社區 觀摩(人次) Community Exposition (Times of Persons) | AD5: 社區長壽俱樂部(處) Elderly Community Club (Places) | AE5: 社區守望 相助隊(隊) Community Mutual-help Program (Teams) | AF5: 社區志願服務團隊 Community Volunteer Service Teams (Groups) | AJ5: 辦理社區照顧關懷據點 (處) Community Care Locations (Places) | AK5: 社區圖書室 (處) Community Libraries (Places) | AL5: 發行社區報導或通訊 (期) Community Publications (Times) | AM5: 服務成果 Person-times Served
E6: 計 Subtotal | F6: 男 Male | G6: 女 Female | H6: 計 Subtotal | I6: 男 Male | J6: 女 Female | K6: 計 Subtotal | L6: 男 Male | M6: 女 Female | N6: 計 Subtotal | O6: 男 Male | P6: 女 Female | Q6: 計 Subtotal | R6: 男 Male | S6: 女 Female | X6: 合計 (幢) Total | Y6: 原建 (未作修擴建)(幢) Originally Built (Without Repair Extension) | Z6: 新建(幢) Newly Built | AA6: 修擴建(幢) Repair Extension | AF6: 團隊(隊) Teams | AG6: 志工數(人)Persons | AM6: 福利服務或活動(人次) Welfare Service or Activities (Times of Persons) | AN6: 其他服務(人次) Other Services (Times of Persons)
AG7: 合計 Total | AH7: 男 Male | AI7: 女 Female
A8: 總計Total | B8: 7025 | C8: 8706116 | D8: 22141383 | E8: 108286 | F8: 75034 | G8: 33252 | H8: 7025 | I8: 5224 | J8: 1801 | K8: 74991 | L8: 51908 | M8: 23083 | N8: 26270 | O8: 17902 | P8: 8368 | Q8: 733250 | R8: 363271 | S8: 369979 | T8: 3939 | U8: 3760588895 | V8: 2772371765 | W8: 988217130 | X8: 3203 | Y8: 3075 | Z8: 37 | AA8: 91 | AB8: 85253 | AC8: 246771 | AD8: 3256 | AE8: 3498 | AF8: 5012 | AG8: 154196 | AH8: 55355 | AI8: 98841 | AJ8: 3319 | AK8: 699 | AL8: 576 | AM8: 16951480 | AN8: 4440921
A9: 新 北 市New Taipei City | B9: 465 | C9: 1671071 | D9: 4041120 | E9: 7910 | F9: 4856 | G9: 3054 | H9: 465 | I9: 329 | J9: 136 | K9: 5508 | L9: 3369 | M9: 2139 | N9: 1937 | O9: 1158 | P9: 779 | Q9: 60337 | R9: 26232 | S9: 34105 | T9: 336 | U9: 160056273 | V9: 118021385 | W9: 42034888 | X9: 0 | Y9: 0 | Z9: 0 | AA9: 0 | AB9: 6581 | AC9: 11541 | AD9: 290 | AE9: 584 | AF9: 224 | AG9: 6983 | AH9: 2524 | AI9: 4459 | AJ9: 116 | AK9: 44 | AL9: 38 | AM9: 1201455 | AN9: 99190
A10: 臺 北 市Taipei City | B10: 398 | C10: 1065032 | D10: 2511886 | E10: 5722 | F10: 2945 | G10: 2777 | H10: 398 | I10: 237 | J10: 161 | K10: 3899 | L10: 1989 | M10: 1910 | N10: 1425 | O10: 719 | P10: 706 | Q10: 24941 | R10: 10134 | S10: 14807 | T10: 0 | U10: 64321150 | V10: 49292043 | W10: 15029107 | X10: 0 | Y10: 0 | Z10: 0 | AA10: 0 | AB10: 3904 | AC10: 3667 | AD10: 0 | AE10: 316 | AF10: 109 | AG10: 3523 | AH10: 1333 | AI10: 2190 | AJ10: 507 | AK10: 22 | AL10: 19 | AM10: 314074 | AN10: 41579
A11: 桃 園 市Taoyuan City | B11: 339 | C11: 738694 | D11: 1904390 | E11: 5677 | F11: 3230 | G11: 2447 | H11: 339 | I11: 243 | J11: 96 | K11: 3852 | L11: 2137 | M11: 1715 | N11: 1486 | O11: 850 | P11: 636 | Q11: 55088 | R11: 22966 | S11: 32122 | T11: 264 | U11: 337385313 | V11: 244108720 | W11: 93276593 | X11: 203 | Y11: 178 | Z11: 2 | AA11: 23 | AB11: 4526 | AC11: 25699 | AD11: 30 | AE11: 665 | AF11: 291 | AG11: 11631 | AH11: 3681 | AI11: 7950 | AJ11: 195 | AK11: 27 | AL11: 61 | AM11: 1197293 | AN11: 628405
A12: 臺 中 市Taichung City | B12: 610 | C12: 1045126 | D12: 2810790 | E12: 9718 | F12: 6664 | G12: 3054 | H12: 610 | I12: 458 | J12: 152 | K12: 6757 | L12: 4596 | M12: 2161 | N12: 2351 | O12: 1610 | P12: 741 | Q12: 52459 | R12: 25491 | S12: 26968 | T12: 154 | U12: 197058940 | V12: 110291353 | W12: 86767587 | X12: 249 | Y12: 243 | Z12: 1 | AA12: 5 | AB12: 4584 | AC12: 33241 | AD12: 395 | AE12: 235 | AF12: 413 | AG12: 13276 | AH12: 3565 | AI12: 9711 | AJ12: 276 | AK12: 15 | AL12: 30 | AM12: 929133 | AN12: 180224
A13: 臺 南 市Tainan City | B13: 674 | C13: 706788 | D13: 1807881 | E13: 10215 | F13: 7329 | G13: 2886 | H13: 674 | I13: 515 | J13: 159 | K13: 7149 | L13: 5113 | M13: 2036 | N13: 2392 | O13: 1701 | P13: 691 | Q13: 84366 | R13: 39835 | S13: 44531 | T13: 297 | U13: 221627742 | V13: 162485411 | W13: 59142331 | X13: 147 | Y13: 146 | Z13: 0 | AA13: 1 | AB13: 4529 | AC13: 19906 | AD13: 444 | AE13: 344 | AF13: 536 | AG13: 16011 | AH13: 5250 | AI13: 10761 | AJ13: 252 | AK13: 77 | AL13: 26 | AM13: 1692568 | AN13: 376445
A14: 高 雄 市Kaohsiung City | B14: 771 | C14: 886013 | D14: 2136480 | E14: 11592 | F14: 7343 | G14: 4249 | H14: 771 | I14: 541 | J14: 230 | K14: 8000 | L14: 5056 | M14: 2944 | N14: 2821 | O14: 1746 | P14: 1075 | Q14: 77854 | R14: 34932 | S14: 42922 | T14: 394 | U14: 382962376 | V14: 271515640 | W14: 111446736 | X14: 288 | Y14: 287 | Z14: 1 | AA14: 0 | AB14: 17805 | AC14: 25754 | AD14: 305 | AE14: 464 | AF14: 653 | AG14: 19150 | AH14: 6775 | AI14: 12375 | AJ14: 283 | AK14: 54 | AL14: 137 | AM14: 1428478 | AN14: 579167
A15: 宜蘭縣Yilan County | B15: 241 | C15: 178596 | D15: 450004 | E15: 3911 | F15: 2923 | G15: 988 | H15: 241 | I15: 185 | J15: 56 | K15: 2730 | L15: 2057 | M15: 673 | N15: 940 | O15: 681 | P15: 259 | Q15: 24972 | R15: 13324 | S15: 11648 | T15: 128 | U15: 228240561 | V15: 161798266 | W15: 66442295 | X15: 204 | Y15: 199 | Z15: 2 | AA15: 3 | AB15: 2107 | AC15: 9743 | AD15: 115 | AE15: 104 | AF15: 261 | AG15: 7041 | AH15: 2624 | AI15: 4417 | AJ15: 127 | AK15: 19 | AL15: 24 | AM15: 1020758 | AN15: 207546
A16: 新竹縣Hsinchu County | B16: 187 | C16: 218764 | D16: 588571 | E16: 3322 | F16: 2230 | G16: 1092 | H16: 187 | I16: 148 | J16: 39 | K16: 2326 | L16: 1549 | M16: 777 | N16: 809 | O16: 533 | P16: 276 | Q16: 34125 | R16: 16356 | S16: 17769 | T16: 170 | U16: 148675528 | V16: 88103688 | W16: 60571840 | X16: 86 | Y16: 86 | Z16: 0 | AA16: 0 | AB16: 3361 | AC16: 16174 | AD16: 137 | AE16: 46 | AF16: 256 | AG16: 5708 | AH16: 2342 | AI16: 3366 | AJ16: 70 | AK16: 16 | AL16: 11 | AM16: 242853 | AN16: 114892
A17: 苗栗縣Miaoli County | B17: 280 | C17: 197555 | D17: 531105 | E17: 4595 | F17: 3229 | G17: 1366 | H17: 280 | I17: 206 | J17: 74 | K17: 3224 | L17: 2268 | M17: 956 | N17: 1091 | O17: 755 | P17: 336 | Q17: 44837 | R17: 22360 | S17: 22477 | T17: 174 | U17: 175636186 | V17: 118434140 | W17: 57202046 | X17: 233 | Y17: 227 | Z17: 5 | AA17: 1 | AB17: 2150 | AC17: 7414 | AD17: 157 | AE17: 119 | AF17: 184 | AG17: 6490 | AH17: 2718 | AI17: 3772 | AJ17: 123 | AK17: 32 | AL17: 50 | AM17: 676879 | AN17: 205849
A18: 彰化縣Changhua County | B18: 577 | C18: 392391 | D18: 1182521 | E18: 9432 | F18: 7634 | G18: 1798 | H18: 577 | I18: 446 | J18: 131 | K18: 6595 | L18: 5362 | M18: 1233 | N18: 2260 | O18: 1826 | P18: 434 | Q18: 59700 | R18: 34242 | S18: 25458 | T18: 397 | U18: 340919375 | V18: 238584984 | W18: 102334391 | X18: 422 | Y18: 405 | Z18: 4 | AA18: 13 | AB18: 5359 | AC18: 20990 | AD18: 313 | AE18: 91 | AF18: 593 | AG18: 23712 | AH18: 9431 | AI18: 14281 | AJ18: 296 | AK18: 47 | AL18: 9 | AM18: 1003486 | AN18: 400807
A19: 南投縣Nantou County | B19: 277 | C19: 175103 | D19: 467211 | E19: 3847 | F19: 2887 | G19: 960 | H19: 277 | I19: 212 | J19: 65 | K19: 2660 | L19: 2010 | M19: 650 | N19: 910 | O19: 665 | P19: 245 | Q19: 25211 | R19: 14913 | S19: 10298 | T19: 221 | U19: 75588846 | V19: 63875058 | W19: 11713788 | X19: 216 | Y19: 214 | Z19: 0 | AA19: 2 | AB19: 5616 | AC19: 7419 | AD19: 76 | AE19: 76 | AF19: 283 | AG19: 6992 | AH19: 2945 | AI19: 4047 | AJ19: 133 | AK19: 38 | AL19: 38 | AM19: 908703 | AN19: 134771
... A30: 連江縣Lienchiang County | B30: 20 | C30: 3694 | D30: 14044 | E30: 209 | F30: 162 | G30: 47 | H30: 20 | I30: 19 | J30: 1 | K30: 136 | L30: 105 | M30: 31 | N30: 53 | O30: 38 | P30: 15 | Q30: 1365 | R30: 749 | S30: 616 | T30: 0 | U30: 4263329 | V30: 3917904 | W30: 345425 | X30: 0 | Y30: 0 | Z30: 0 | AA30: 0 | AB30: 149 | AC30: 21 | AD30: 0 | AE30: 3 | AF30: 12 | AG30: 461 | AH30: 193 | AI30: 268 | AJ30: 8 | AK30: 0 | AL30: 0 | AM30: 39991 | AN30: 385
A31: 資料來源：直轄市及縣(市)政府。
A32: 說 明：本表資料不包括未成立社區發展協會者。
A33: Source: County and Government.
A35: 更新日期：2024/07/01
A37: 總計Total | B37: 7025 | C37: 8706116 | D37: 22141383 | E37: 108289 | F37: 75039 | G37: 33250 | H37: 7025 | I37: 5223 | J37: 1802 | K37: 74994 | L37: 51913 | M37: 23081 | N37: 26270 | O37: 17903 | P37: 8367 | Q37: 733219 | R37: 363258 | S37: 369961 | T37: 3966 | U37: 3760588895 | V37: 2772371765 | W37: 988217130 | X37: 3203 | Y37: 3075 | Z37: 37 | AA37: 91 | AB37: 85253 | AC37: 246771 | AD37: 3256 | AE37: 3498 | AF37: 5012 | AG37: 154196 | AH37: 55355 | AI37: 98841 | AJ37: 3319 | AK37: 699 | AL37: 576 | AM37: 16951480 | AN37: 4440921
A38: 新 北 市New Taipei City | B38: 465 | C38: 1671071 | D38: 4041120 | E38: 7910 | F38: 4856 | G38: 3054 | H38: 465 | I38: 329 | J38: 136 | K38: 5508 | L38: 3369 | M38: 2139 | N38: 1937 | O38: 1158 | P38: 779 | Q38: 60337 | R38: 26232 | S38: 34105 | T38: 336 | U38: 160056273 | V38: 118021385 | W38: 42034888 | X38: 0 | Y38: 0 | Z38: 0 | AA38: 0 | AB38: 6581 | AC38: 11541 | AD38: 290 | AE38: 584 | AF38: 224 | AG38: 6983 | AH38: 2524 | AI38: 4459 | AJ38: 116 | AK38: 44 | AL38: 38 | AM38: 1201455 | AN38: 99190
A39: 臺 北 市Taipei City | B39: 398 | C39: 1065032 | D39: 2511886 | E39: 5725 | F39: 2950 | G39: 2775 | H39: 398 | I39: 236 | J39: 162 | K39: 3902 | L39: 1994 | M39: 1908 | N39: 1425 | O39: 720 | P39: 705 | Q39: 24910 | R39: 10121 | S39: 14789 | T39: 0 | U39: 64321150 | V39: 49292043 | W39: 15029107 | X39: 0 | Y39: 0 | Z39: 0 | AA39: 0 | AB39: 3904 | AC39: 3667 | AD39: 0 | AE39: 316 | AF39: 109 | AG39: 3523 | AH39: 1333 | AI39: 2190 | AJ39: 507 | AK39: 22 | AL39: 19 | AM39: 314074 | AN39: 41579
A40: 桃 園 市Taoyuan City | B40: 339 | C40: 738694 | D40: 1904390 | E40: 5677 | F40: 3230 | G40: 2447 | H40: 339 | I40: 243 | J40: 96 | K40: 3852 | L40: 2137 | M40: 1715 | N40: 1486 | O40: 850 | P40: 636 | Q40: 55088 | R40: 22966 | S40: 32122 | T40: 264 | U40: 337385313 | V40: 244108720 | W40: 93276593 | X40: 203 | Y40: 178 | Z40: 2 | AA40: 23 | AB40: 4526 | AC40: 25699 | AD40: 30 | AE40: 665 | AF40: 291 | AG40: 11631 | AH40: 3681 | AI40: 7950 | AJ40: 195 | AK40: 27 | AL40: 61 | AM40: 1197293 | AN40: 628405
A41: 臺 中 市Taichung City | B41: 610 | C41: 1045126 | D41: 2810790 | E41: 9718 | F41: 6664 | G41: 3054 | H41: 610 | I41: 458 | J41: 152 | K41: 6757 | L41: 4596 | M41: 2161 | N41: 2351 | O41: 1610 | P41: 741 | Q41: 52459 | R41: 25491 | S41: 26968 | T41: 154 | U41: 197058940 | V41: 110291353 | W41: 86767587 | X41: 249 | Y41: 243 | Z41: 1 | AA41: 5 | AB41: 4584 | AC41: 33241 | AD41: 395 | AE41: 235 | AF41: 413 | AG41: 13276 | AH41: 3565 | AI41: 9711 | AJ41: 276 | AK41: 15 | AL41: 30 | AM41: 929133 | AN41: 180224
A42: 臺 南 市Tainan City | B42: 674 | C42: 706788 | D42: 1807881 | E42: 10215 | F42: 7329 | G42: 2886 | H42: 674 | I42: 515 | J42: 159 | K42: 7149 | L42: 5113 | M42: 2036 | N42: 2392 | O42: 1701 | P42: 691 | Q42: 84366 | R42: 39835 | S42: 44531 | T42: 297 | U42: 221627742 | V42: 162485411 | W42: 59142331 | X42: 147 | Y42: 146 | Z42: 0 | AA42: 1 | AB42: 4529 | AC42: 19906 | AD42: 444 | AE42: 344 | AF42: 536 | AG42: 16011 | AH42: 5250 | AI42: 10761 | AJ42: 252 | AK42: 77 | AL42: 26 | AM42: 1692568 | AN42: 376445
A43: 高 雄 市Kaohsiung City | B43: 771 | C43: 886013 | D43: 2136480 | E43: 11592 | F43: 7343 | G43: 4249 | H43: 771 | I43: 541 | J43: 230 | K43: 8000 | L43: 5056 | M43: 2944 | N43: 2821 | O43: 1746 | P43: 1075 | Q43: 77854 | R43: 34932 | S43: 42922 | T43: 394 | U43: 382962376 | V43: 271515640 | W43: 111446736 | X43: 288 | Y43: 287 | Z43: 1 | AA43: 0 | AB43: 17805 | AC43: 25754 | AD43: 305 | AE43: 464 | AF43: 653 | AG43: 19150 | AH43: 6775 | AI43: 12375 | AJ43: 283 | AK43: 54 | AL43: 137 | AM43: 1428478 | AN43: 579167
A44: 宜蘭縣Yilan County | B44: 241 | C44: 178596 | D44: 450004 | E44: 3911 | F44: 2923 | G44: 988 | H44: 241 | I44: 185 | J44: 56 | K44: 2730 | L44: 2057 | M44: 673 | N44: 940 | O44: 681 | P44: 259 | Q44: 24972 | R44: 13324 | S44: 11648 | T44: 130 | U44: 228240561 | V44: 161798266 | W44: 66442295 | X44: 204 | Y44: 199 | Z44: 2 | AA44: 3 | AB44: 2107 | AC44: 9743 | AD44: 115 | AE44: 104 | AF44: 261 | AG44: 7041 | AH44: 2624 | AI44: 4417 | AJ44: 127 | AK44: 19 | AL44: 24 | AM44: 1020758 | AN44: 207546
A45: 新竹縣Hsinchu County | B45: 187 | C45: 218764 | D45: 588571 | E45: 3322 | F45: 2230 | G45: 1092 | H45: 187 | I45: 148 | J45: 39 | K45: 2326 | L45: 1549 | M45: 777 | N45: 809 | O45: 533 | P45: 276 | Q45: 34125 | R45: 16356 | S45: 17769 | T45: 170 | U45: 148675528 | V45: 88103688 | W45: 60571840 | X45: 86 | Y45: 86 | Z45: 0 | AA45: 0 | AB45: 3361 | AC45: 16174 | AD45: 137 | AE45: 46 | AF45: 256 | AG45: 5708 | AH45: 2342 | AI45: 3366 | AJ45: 70 | AK45: 16 | AL45: 11 | AM45: 242853 | AN45: 114892
A46: 苗栗縣Miaoli County | B46: 280 | C46: 197555 | D46: 531105 | E46: 4595 | F46: 3229 | G46: 1366 | H46: 280 | I46: 206 | J46: 74 | K46: 3224 | L46: 2268 | M46: 956 | N46: 1091 | O46: 755 | P46: 336 | Q46: 44837 | R46: 22360 | S46: 22477 | T46: 174 | U46: 175636186 | V46: 118434140 | W46: 57202046 | X46: 233 | Y46: 227 | Z46: 5 | AA46: 1 | AB46: 2150 | AC46: 7414 | AD46: 157 | AE46: 119 | AF46: 184 | AG46: 6490 | AH46: 2718 | AI46: 3772 | AJ46: 123 | AK46: 32 | AL46: 50 | AM46: 676879 | AN46: 205849
A47: 彰化縣Changhua County | B47: 577 | C47: 392391 | D47: 1182521 | E47: 9432 | F47: 7634 | G47: 1798 | H47: 577 | I47: 446 | J47: 131 | K47: 6595 | L47: 5362 | M47: 1233 | N47: 2260 | O47: 1826 | P47: 434 | Q47: 59700 | R47: 34242 | S47: 25458 | T47: 397 | U47: 340919375 | V47: 238584984 | W47: 102334391 | X47: 422 | Y47: 405 | Z47: 4 | AA47: 13 | AB47: 5359 | AC47: 20990 | AD47: 313 | AE47: 91 | AF47: 593 | AG47: 23712 | AH47: 9431 | AI47: 14281 | AJ47: 296 | AK47: 47 | AL47: 9 | AM47: 1003486 | AN47: 400807
A48: 南投縣Nantou County | B48: 277 | C48: 175103 | D48: 467211 | E48: 3847 | F48: 2887 | G48: 960 | H48: 277 | I48: 212 | J48: 65 | K48: 2660 | L48: 2010 | M48: 650 | N48: 910 | O48: 665 | P48: 245 | Q48: 25211 | R48: 14913 | S48: 10298 | T48: 221 | U48: 75588846 | V48: 63875058 | W48: 11713788 | X48: 216 | Y48: 214 | Z48: 0 | AA48: 2 | AB48: 5616 | AC48: 7419 | AD48: 76 | AE48: 76 | AF48: 283 | AG48: 6992 | AH48: 2945 | AI48: 4047 | AJ48: 133 | AK48: 38 | AL48: 38 | AM48: 908703 | AN48: 134771
... A59: 連江縣Lienchiang County | B59: 20 | C59: 3694 | D59: 14044 | E59: 209 | F59: 162 | G59: 47 | H59: 20 | I59: 19 | J59: 1 | K59: 136 | L59: 105 | M59: 31 | N59: 53 | O59: 38 | P59: 15 | Q59: 1365 | R59: 749 | S59: 616 | T59: 0 | U59: 4263329 | V59: 3917904 | W59: 345425 | X59: 0 | Y59: 0 | Z59: 0 | AA59: 0 | AB59: 149 | AC59: 21 | AD59: 0 | AE59: 3 | AF59: 12 | AG59: 461 | AH59: 193 | AI59: 268 | AJ59: 8 | AK59: 0 | AL59: 0 | AM59: 39991 | AN59: 385
A61: 總計Total | B61: =IF(B37=B8,"","*") | C61: =IF(C37=C8,"","*") | D61: =IF(D37=D8,"","*") | E61: =IF(E37=E8,"","*") -> * | F61: =IF(F37=F8,"","*") -> * | G61: =IF(G37=G8,"","*") -> * | H61: =IF(H37=H8,"","*") | I61: =IF(I37=I8,"","*") -> * | ... AN61: =IF(AN37=AN8,"","*")
A62: 新 北 市New Taipei City | B62: =IF(B38=B9,"","*") | C62: =IF(C38=C9,"","*") | D62: =IF(D38=D9,"","*") | E62: =IF(E38=E9,"","*") | F62: =IF(F38=F9,"","*") | G62: =IF(G38=G9,"","*") | H62: =IF(H38=H9,"","*") | I62: =IF(I38=I9,"","*") | ... AN62: =IF(AN38=AN9,"","*")
A63: 臺 北 市Taipei City | B63: =IF(B39=B10,"","*") | C63: =IF(C39=C10,"","*") | D63: =IF(D39=D10,"","*") | E63: =IF(E39=E10,"","*") -> * | F63: =IF(F39=F10,"","*") -> * | G63: =IF(G39=G10,"","*") -> * | H63: =IF(H39=H10,"","*") | I63: =IF(I39=I10,"","*") -> * | ... AN63: =IF(AN39=AN10,"","*")
A64: 桃 園 市Taoyuan City | B64: =IF(B40=B11,"","*") | C64: =IF(C40=C11,"","*") | D64: =IF(D40=D11,"","*") | E64: =IF(E40=E11,"","*") | F64: =IF(F40=F11,"","*") | G64: =IF(G40=G11,"","*") | H64: =IF(H40=H11,"","*") | I64: =IF(I40=I11,"","*") | ... AN64: =IF(AN40=AN11,"","*")
A65: 臺 中 市Taichung City | B65: =IF(B41=B12,"","*") | C65: =IF(C41=C12,"","*") | D65: =IF(D41=D12,"","*") | E65: =IF(E41=E12,"","*") | F65: =IF(F41=F12,"","*") | G65: =IF(G41=G12,"","*") | H65: =IF(H41=H12,"","*") | I65: =IF(I41=I12,"","*") | ... AN65: =IF(AN41=AN12,"","*")
A66: 臺 南 市Tainan City | B66: =IF(B42=B13,"","*") | C66: =IF(C42=C13,"","*") | D66: =IF(D42=D13,"","*") | E66: =IF(E42=E13,"","*") | F66: =IF(F42=F13,"","*") | G66: =IF(G42=G13,"","*") | H66: =IF(H42=H13,"","*") | I66: =IF(I42=I13,"","*") | ... AN66: =IF(AN42=AN13,"","*")
A67: 高 雄 市Kaohsiung City | B67: =IF(B43=B14,"","*") | C67: =IF(C43=C14,"","*") | D67: =IF(D43=D14,"","*") | E67: =IF(E43=E14,"","*") | F67: =IF(F43=F14,"","*") | G67: =IF(G43=G14,"","*") | H67: =IF(H43=H14,"","*") | I67: =IF(I43=I14,"","*") | ... AN67: =IF(AN43=AN14,"","*")
A68: 宜蘭縣Yilan County | B68: =IF(B44=B15,"","*") | C68: =IF(C44=C15,"","*") | D68: =IF(D44=D15,"","*") | E68: =IF(E44=E15,"","*") | F68: =IF(F44=F15,"","*") | G68: =IF(G44=G15,"","*") | H68: =IF(H44=H15,"","*") | I68: =IF(I44=I15,"","*") | ... AN68: =IF(AN44=AN15,"","*")
A69: 新竹縣Hsinchu County | B69: =IF(B45=B16,"","*") | C69: =IF(C45=C16,"","*") | D69: =IF(D45=D16,"","*") | E69: =IF(E45=E16,"","*") | F69: =IF(F45=F16,"","*") | G69: =IF(G45=G16,"","*") | H69: =IF(H45=H16,"","*") | I69: =IF(I45=I16,"","*") | ... AN69: =IF(AN45=AN16,"","*")
A70: 苗栗縣Miaoli County | B70: =IF(B46=B17,"","*") | C70: =IF(C46=C17,"","*") | D70: =IF(D46=D17,"","*") | E70: =IF(E46=E17,"","*") | F70: =IF(F46=F17,"","*") | G70: =IF(G46=G17,"","*") | H70: =IF(H46=H17,"","*") | I70: =IF(I46=I17,"","*") | ... AN70: =IF(AN46=AN17,"","*")
A71: 彰化縣Changhua County | B71: =IF(B47=B18,"","*") | C71: =IF(C47=C18,"","*") | D71: =IF(D47=D18,"","*") | E71: =IF(E47=E18,"","*") | F71: =IF(F47=F18,"","*") | G71: =IF(G47=G18,"","*") | H71: =IF(H47=H18,"","*") | I71: =IF(I47=I18,"","*") | ... AN71: =IF(AN47=AN18,"","*")
A72: 南投縣Nantou County | B72: =IF(B48=B19,"","*") | C72: =IF(C48=C19,"","*") | D72: =IF(D48=D19,"","*") | E72: =IF(E48=E19,"","*") | F72: =IF(F48=F19,"","*") | G72: =IF(G48=G19,"","*") | H72: =IF(H48=H19,"","*") | I72: =IF(I48=I19,"","*") | ... AN72: =IF(AN48=AN19,"","*")
... A83: 連江縣Lienchiang County | B83: =IF(B59=B30,"","*") | C83: =IF(C59=C30,"","*") | D83: =IF(D59=D30,"","*") | E83: =IF(E59=E30,"","*") | F83: =IF(F59=F30,"","*") | G83: =IF(G59=G30,"","*") | H83: =IF(H59=H30,"","*") | I83: =IF(I59=I30,"","*") | ... AN83: =IF(AN59=AN30,"","*")

Sheet 2022
A1: 推行社區發展工作成果 Achievements of Community Development
A3: 111年, 2022 | B3: =IF(B8=SUM(B9:B30),"",SUM(B9:B30)) | C3: =IF(C8=SUM(C9:C30),"",SUM(C9:C30)) | D3: =IF(D8=SUM(D9:D30),"",SUM(D9:D30)) | E3: =IF(E8=SUM(E9:E30),"",SUM(E9:E30)) | F3: =IF(F8=SUM(F9:F30),"",SUM(F9:F30)) | G3: =IF(G8=SUM(G9:G30),"",SUM(G9:G30)) | H3: =IF(H8=SUM(H9:H30),"",SUM(H9:H30)) | I3: =IF(I8=SUM(I9:I30),"",SUM(I9:I30)) | ... AN3: =IF(AN8=SUM(AN9:AN30),"",SUM(AN9:AN30))
A4: 區域別 Locality | B4: 社區發展 協會數(個) No.of Community DevelopmentAssociations (Units) | C4: 社區戶數 (戶) Households of Communities (Households) | D4: 社區人口數 (人) Communities Persons of (Persons) | E4: 理監事人數(人) Directors and Supervisors (Persons) | Q4: 社區發展協會會員數(人) Members Community Development Associations (Persons) | T4: 設置社區生產建設基金 (個) Community Economic Development Fund(Unit) | U4: 實際使用經費(元) Outlays | X4: 社區建設主要項目 Main Items of Community Construction
E5: 合計 Total | H5: 理事長 Director-general | K5: 理事(不含理事長)Directors | N5: 監事 Supervisors | U5: 合計 (元) Total (NT$) | V5: 政府補助款 (元) Government-Provided (NT$) | W5: 社區自籌款 (元) Self-Provided (NT$) | X5: 社區活動中心Community Activity Centers(Units) | AB5: 辦理社區幹部訓練 (人次)Topic Training (Times of Persons) | AC5: 辦理社區 觀摩(人次) Community Exposition (Times of Persons) | AD5: 社區長壽俱樂部(處) Elderly Community Club (Places) | AE5: 社區守望 相助隊(隊) Community Mutual-help Program (Teams) | AF5: 社區志願服務團隊 Community Volunteer Service Teams (Groups) | AJ5: 辦理社區照顧關懷據點 (處) Community Care Locations (Places) | AK5: 社區圖書室 (處) Community Libraries (Places) | AL5: 發行社區報導或通訊 (期) Community Publications (Times) | AM5: 服務成果 Person-times Served
E6: 計 Subtotal | F6: 男 Male | G6: 女 Female | H6: 計 Subtotal | I6: 男 Male | J6: 女 Female | K6: 計 Subtotal | L6: 男 Male | M6: 女 Female | N6: 計 Subtotal | O6: 男 Male | P6: 女 Female | Q6: 計 Subtotal | R6: 男 Male | S6: 女 Female | X6: 合計 (幢) Total | Y6: 原建 (未作修擴建)(幢) Originally Built (Without Repair Extension) | Z6: 新建(幢) Newly Built | AA6: 修擴建(幢) Repair Extension | AF6: 團隊(隊) Teams | AG6: 志工數(人)Persons | AM6: 福利服務或活動(人次) Welfare Service or Activities (Times of Persons) | AN6: 其他服務(人次) Other Services (Times of Persons)
AG7: 合計 Total | AH7: 男 Male | AI7: 女 Female
A8: 總計Total | B8: 6961 | C8: 8554715 | D8: 21992541 | E8: 108465 | F8: 76631 | G8: 31834 | H8: 6961 | I8: 5236 | J8: 1725 | K8: 75261 | L8: 53114 | M8: 22147 | N8: 26243 | O8: 18281 | P8: 7962 | Q8: 744809 | R8: 373451 | S8: 371358 | T8: 3938 | U8: 3215508530 | V8: 2500704508 | W8: 714804022 | X8: 3199 | Y8: 3050 | Z8: 51 | AA8: 98 | AB8: 86376 | AC8: 215537 | AD8: 3344 | AE8: 3022 | AF8: 4736 | AG8: 151913 | AH8: 55429 | AI8: 96484 | AJ8: 3316 | AK8: 615 | AL8: 531 | AM8: 14047882 | AN8: 4700992
A9: 新 北 市New Taipei City | B9: 462 | C9: 1635298 | D9: 3995551 | E9: 7990 | F9: 5056 | G9: 2934 | H9: 462 | I9: 333 | J9: 129 | K9: 5574 | L9: 3530 | M9: 2044 | N9: 1954 | O9: 1193 | P9: 761 | Q9: 61279 | R9: 27096 | S9: 34183 | T9: 351 | U9: 122902039 | V9: 82337095 | W9: 40564944 | X9: 0 | Y9: 0 | Z9: 0 | AA9: 0 | AB9: 4327 | AC9: 3892 | AD9: 276 | AE9: 573 | AF9: 201 | AG9: 6636 | AH9: 2407 | AI9: 4229 | AJ9: 116 | AK9: 43 | AL9: 36 | AM9: 984611 | AN9: 33791
A10: 臺 北 市Taipei City | B10: 395 | C10: 1050981 | D10: 2480681 | E10: 5833 | F10: 2994 | G10: 2839 | H10: 395 | I10: 237 | J10: 158 | K10: 3989 | L10: 2019 | M10: 1970 | N10: 1449 | O10: 738 | P10: 711 | Q10: 25980 | R10: 10601 | S10: 15379 | T10: 0 | U10: 65388215 | V10: 56045548 | W10: 9342667 | X10: 0 | Y10: 0 | Z10: 0 | AA10: 0 | AB10: 4664 | AC10: 3530 | AD10: 0 | AE10: 346 | AF10: 128 | AG10: 3500 | AH10: 1253 | AI10: 2247 | AJ10: 540 | AK10: 27 | AL10: 30 | AM10: 365432 | AN10: 74381
A11: 桃 園 市Taoyuan City | B11: 323 | C11: 713462 | D11: 1858066 | E11: 5296 | F11: 3076 | G11: 2220 | H11: 323 | I11: 234 | J11: 89 | K11: 3694 | L11: 2119 | M11: 1575 | N11: 1279 | O11: 723 | P11: 556 | Q11: 53173 | R11: 22492 | S11: 30681 | T11: 265 | U11: 285209783 | V11: 216534290 | W11: 68675493 | X11: 213 | Y11: 185 | Z11: 7 | AA11: 21 | AB11: 4866 | AC11: 20276 | AD11: 42 | AE11: 141 | AF11: 264 | AG11: 11192 | AH11: 3788 | AI11: 7404 | AJ11: 185 | AK11: 26 | AL11: 69 | AM11: 900220 | AN11: 462636
A12: 臺 中 市Taichung City | B12: 605 | C12: 1031971 | D12: 2809632 | E12: 9726 | F12: 6891 | G12: 2835 | H12: 605 | I12: 465 | J12: 140 | K12: 6781 | L12: 4790 | M12: 1991 | N12: 2340 | O12: 1636 | P12: 704 | Q12: 52807 | R12: 26178 | S12: 26629 | T12: 154 | U12: 159292919 | V12: 91165725 | W12: 68127194 | X12: 251 | Y12: 250 | Z12: 1 | AA12: 0 | AB12: 3759 | AC12: 26074 | AD12: 395 | AE12: 243 | AF12: 372 | AG12: 12689 | AH12: 3777 | AI12: 8912 | AJ12: 272 | AK12: 13 | AL12: 57 | AM12: 817261 | AN12: 141639
A13: 臺 南 市Tainan City | B13: 668 | C13: 687932 | D13: 1782512 | E13: 10156 | F13: 7332 | G13: 2824 | H13: 668 | I13: 531 | J13: 137 | K13: 7105 | L13: 5104 | M13: 2001 | N13: 2383 | O13: 1697 | P13: 686 | Q13: 86225 | R13: 40858 | S13: 45367 | T13: 275 | U13: 224486094 | V13: 175254132 | W13: 49231962 | X13: 149 | Y13: 149 | Z13: 0 | AA13: 0 | AB13: 5916 | AC13: 21109 | AD13: 462 | AE13: 342 | AF13: 567 | AG13: 18145 | AH13: 6150 | AI13: 11995 | AJ13: 258 | AK13: 75 | AL13: 31 | AM13: 1658053 | AN13: 498575
A14: 高 雄 市Kaohsiung City | B14: 759 | C14: 879260 | D14: 2139974 | E14: 11591 | F14: 7395 | G14: 4196 | H14: 759 | I14: 533 | J14: 226 | K14: 8012 | L14: 5105 | M14: 2907 | N14: 2820 | O14: 1757 | P14: 1063 | Q14: 79002 | R14: 35966 | S14: 43036 | T14: 398 | U14: 333241469 | V14: 239361498 | W14: 93879971 | X14: 290 | Y14: 289 | Z14: 1 | AA14: 0 | AB14: 20000 | AC14: 36743 | AD14: 319 | AE14: 448 | AF14: 665 | AG14: 19747 | AH14: 6773 | AI14: 12974 | AJ14: 266 | AK14: 70 | AL14: 141 | AM14: 1266140 | AN14: 642743
A15: 宜蘭縣Yilan County | B15: 240 | C15: 175924 | D15: 448807 | E15: 3934 | F15: 3037 | G15: 897 | H15: 240 | I15: 187 | J15: 53 | K15: 2757 | L15: 2127 | M15: 630 | N15: 937 | O15: 723 | P15: 214 | Q15: 24381 | R15: 13656 | S15: 10725 | T15: 130 | U15: 162710841 | V15: 132797926 | W15: 29912915 | X15: 203 | Y15: 198 | Z15: 2 | AA15: 3 | AB15: 2676 | AC15: 10285 | AD15: 128 | AE15: 104 | AF15: 253 | AG15: 6637 | AH15: 2504 | AI15: 4133 | AJ15: 116 | AK15: 14 | AL15: 4 | AM15: 709709 | AN15: 190596
A16: 新竹縣Hsinchu County | B16: 187 | C16: 213261 | D16: 581245 | E16: 3339 | F16: 2267 | G16: 1072 | H16: 187 | I16: 146 | J16: 41 | K16: 2335 | L16: 1577 | M16: 758 | N16: 817 | O16: 544 | P16: 273 | Q16: 34317 | R16: 16472 | S16: 17845 | T16: 170 | U16: 142594724 | V16: 88226540 | W16: 54368184 | X16: 83 | Y16: 82 | Z16: 1 | AA16: 0 | AB16: 3165 | AC16: 14132 | AD16: 138 | AE16: 59 | AF16: 144 | AG16: 5473 | AH16: 2227 | AI16: 3246 | AJ16: 72 | AK16: 14 | AL16: 15 | AM16: 216417 | AN16: 184658
A17: 苗栗縣Miaoli County | B17: 280 | C17: 196909 | D17: 534996 | E17: 4598 | F17: 3234 | G17: 1364 | H17: 280 | I17: 209 | J17: 71 | K17: 3221 | L17: 2275 | M17: 946 | N17: 1097 | O17: 750 | P17: 347 | Q17: 44467 | R17: 22110 | S17: 22357 | T17: 180 | U17: 115267421 | V17: 89763381 | W17: 25504040 | X17: 241 | Y17: 225 | Z17: 15 | AA17: 1 | AB17: 2161 | AC17: 6425 | AD17: 164 | AE17: 119 | AF17: 175 | AG17: 6244 | AH17: 2727 | AI17: 3517 | AJ17: 112 | AK17: 28 | AL17: 10 | AM17: 487525 | AN17: 238670
A18: 彰化縣Changhua County | B18: 572 | C18: 387099 | D18: 1201954 | E18: 9619 | F18: 7992 | G18: 1627 | H18: 572 | I18: 445 | J18: 127 | K18: 6742 | L18: 5626 | M18: 1116 | N18: 2305 | O18: 1921 | P18: 384 | Q18: 66828 | R18: 38798 | S18: 28030 | T18: 398 | U18: 267939506 | V18: 172333322 | W18: 95606184 | X18: 421 | Y18: 405 | Z18: 3 | AA18: 13 | AB18: 5416 | AC18: 16171 | AD18: 345 | AE18: 98 | AF18: 479 | AG18: 22943 | AH18: 9718 | AI18: 13225 | AJ18: 269 | AK18: 55 | AL18: 10 | AM18: 842170 | AN18: 356767
A19: 南投縣Nantou County | B19: 276 | C19: 178321 | D19: 468453 | E19: 3786 | F19: 2883 | G19: 903 | H19: 276 | I19: 212 | J19: 64 | K19: 2629 | L19: 1998 | M19: 631 | N19: 881 | O19: 673 | P19: 208 | Q19: 25343 | R19: 14560 | S19: 10783 | T19: 221 | U19: 58730472 | V19: 51244208 | W19: 7486264 | X19: 217 | Y19: 207 | Z19: 1 | AA19: 9 | AB19: 5380 | AC19: 6348 | AD19: 75 | AE19: 94 | AF19: 247 | AG19: 6195 | AH19: 2443 | AI19: 3752 | AJ19: 121 | AK19: 36 | AL19: 50 | AM19: 677869 | AN19: 116853
... A30: 連江縣Lienchiang County | B30: 20 | C30: 4630 | D30: 19983 | E30: 241 | F30: 194 | G30: 47 | H30: 20 | I30: 20 | J30: 0 | K30: 160 | L30: 124 | M30: 36 | N30: 61 | O30: 50 | P30: 11 | Q30: 1222 | R30: 615 | S30: 607 | T30: 0 | U30: 7426995 | V30: 6832707 | W30: 594288 | X30: 0 | Y30: 0 | Z30: 0 | AA30: 0 | AB30: 6 | AC30: 0 | AD30: 0 | AE30: 0 | AF30: 12 | AG30: 484 | AH30: 115 | AI30: 369 | AJ30: 8 | AK30: 0 | AL30: 0 | AM30: 20 | AN30: 0
A31: 資料來源：直轄市及縣(市)政府。
A32: 說 明：本表資料不包括未成立社區發展協會者。
A33: Source: County and Government.
A35: 更新日期：2024/04/01
A37: 總計Total | B37: 6961 | C37: 8560799 | D37: 22009760 | E37: 108465 | F37: 76630 | G37: 31835 | H37: 6961 | I37: 5236 | J37: 1725 | K37: 75261 | L37: 53113 | M37: 22148 | N37: 26243 | O37: 18281 | P37: 7962 | Q37: 744809 | R37: 373451 | S37: 371358 | T37: 3938 | U37: 3214321330 | V37: 2499517308 | W37: 714804022 | X37: 3245 | Y37: 3097 | Z37: 51 | AA37: 97 | AB37: 86376 | AC37: 215537 | AD37: 3344 | AE37: 3022 | AF37: 4736 | AG37: 151913 | AH37: 55429 | AI37: 96484 | AJ37: 3316 | AK37: 615 | AL37: 531 | AM37: 14047882 | AN37: 4700992
A38: 新 北 市New Taipei City | B38: 462 | C38: 1635298 | D38: 3995551 | E38: 7990 | F38: 5056 | G38: 2934 | H38: 462 | I38: 333 | J38: 129 | K38: 5574 | L38: 3530 | M38: 2044 | N38: 1954 | O38: 1193 | P38: 761 | Q38: 61279 | R38: 27096 | S38: 34183 | T38: 351 | U38: 122902039 | V38: 82337095 | W38: 40564944 | X38: 0 | Y38: 0 | Z38: 0 | AA38: 0 | AB38: 4327 | AC38: 3892 | AD38: 276 | AE38: 573 | AF38: 201 | AG38: 6636 | AH38: 2407 | AI38: 4229 | AJ38: 116 | AK38: 43 | AL38: 36 | AM38: 984611 | AN38: 33791
A39: 臺 北 市Taipei City | B39: 395 | C39: 1050981 | D39: 2480681 | E39: 5833 | F39: 2994 | G39: 2839 | H39: 395 | I39: 237 | J39: 158 | K39: 3989 | L39: 2019 | M39: 1970 | N39: 1449 | O39: 738 | P39: 711 | Q39: 25980 | R39: 10601 | S39: 15379 | T39: 0 | U39: 65388215 | V39: 56045548 | W39: 9342667 | X39: 0 | Y39: 0 | Z39: 0 | AA39: 0 | AB39: 4664 | AC39: 3530 | AD39: 0 | AE39: 346 | AF39: 128 | AG39: 3500 | AH39: 1253 | AI39: 2247 | AJ39: 540 | AK39: 27 | AL39: 30 | AM39: 365432 | AN39: 74381
A40: 桃 園 市Taoyuan City | B40: 323 | C40: 713462 | D40: 1858066 | E40: 5296 | F40: 3076 | G40: 2220 | H40: 323 | I40: 234 | J40: 89 | K40: 3694 | L40: 2119 | M40: 1575 | N40: 1279 | O40: 723 | P40: 556 | Q40: 53173 | R40: 22492 | S40: 30681 | T40: 265 | U40: 285209783 | V40: 216534290 | W40: 68675493 | X40: 213 | Y40: 185 | Z40: 7 | AA40: 21 | AB40: 4866 | AC40: 20276 | AD40: 42 | AE40: 141 | AF40: 264 | AG40: 11192 | AH40: 3788 | AI40: 7404 | AJ40: 185 | AK40: 26 | AL40: 69 | AM40: 900220 | AN40: 462636
A41: 臺 中 市Taichung City | B41: 605 | C41: 1031847 | D41: 2809431 | E41: 9726 | F41: 6890 | G41: 2836 | H41: 605 | I41: 465 | J41: 140 | K41: 6781 | L41: 4789 | M41: 1992 | N41: 2340 | O41: 1636 | P41: 704 | Q41: 52807 | R41: 26178 | S41: 26629 | T41: 154 | U41: 158105719 | V41: 89978525 | W41: 68127194 | X41: 251 | Y41: 250 | Z41: 1 | AA41: 0 | AB41: 3759 | AC41: 26074 | AD41: 395 | AE41: 243 | AF41: 372 | AG41: 12689 | AH41: 3777 | AI41: 8912 | AJ41: 272 | AK41: 13 | AL41: 57 | AM41: 817261 | AN41: 141639
A42: 臺 南 市Tainan City | B42: 668 | C42: 687932 | D42: 1782512 | E42: 10156 | F42: 7332 | G42: 2824 | H42: 668 | I42: 531 | J42: 137 | K42: 7105 | L42: 5104 | M42: 2001 | N42: 2383 | O42: 1697 | P42: 686 | Q42: 86225 | R42: 40858 | S42: 45367 | T42: 275 | U42: 224486094 | V42: 175254132 | W42: 49231962 | X42: 149 | Y42: 149 | Z42: 0 | AA42: 0 | AB42: 5916 | AC42: 21109 | AD42: 462 | AE42: 342 | AF42: 567 | AG42: 18145 | AH42: 6150 | AI42: 11995 | AJ42: 258 | AK42: 75 | AL42: 31 | AM42: 1658053 | AN42: 498575
A43: 高 雄 市Kaohsiung City | B43: 759 | C43: 879260 | D43: 2139974 | E43: 11591 | F43: 7395 | G43: 4196 | H43: 759 | I43: 533 | J43: 226 | K43: 8012 | L43: 5105 | M43: 2907 | N43: 2820 | O43: 1757 | P43: 1063 | Q43: 79002 | R43: 35966 | S43: 43036 | T43: 398 | U43: 333241469 | V43: 239361498 | W43: 93879971 | X43: 290 | Y43: 289 | Z43: 1 | AA43: 0 | AB43: 20000 | AC43: 36743 | AD43: 319 | AE43: 448 | AF43: 665 | AG43: 19747 | AH43: 6773 | AI43: 12974 | AJ43: 266 | AK43: 70 | AL43: 141 | AM43: 1266140 | AN43: 642743
A44: 宜蘭縣Yilan County | B44: 240 | C44: 175924 | D44: 448807 | E44: 3934 | F44: 3037 | G44: 897 | H44: 240 | I44: 187 | J44: 53 | K44: 2757 | L44: 2127 | M44: 630 | N44: 937 | O44: 723 | P44: 214 | Q44: 24381 | R44: 13656 | S44: 10725 | T44: 130 | U44: 162710841 | V44: 132797926 | W44: 29912915 | X44: 203 | Y44: 198 | Z44: 2 | AA44: 3 | AB44: 2676 | AC44: 10285 | AD44: 128 | AE44: 104 | AF44: 253 | AG44: 6637 | AH44: 2504 | AI44: 4133 | AJ44: 116 | AK44: 14 | AL44: 4 | AM44: 709709 | AN44: 190596
A45: 新竹縣Hsinchu County | B45: 187 | C45: 213261 | D45: 581245 | E45: 3339 | F45: 2267 | G45: 1072 | H45: 187 | I45: 146 | J45: 41 | K45: 2335 | L45: 1577 | M45: 758 | N45: 817 | O45: 544 | P45: 273 | Q45: 34317 | R45: 16472 | S45: 17845 | T45: 170 | U45: 142594724 | V45: 88226540 | W45: 54368184 | X45: 83 | Y45: 82 | Z45: 1 | AA45: 0 | AB45: 3165 | AC45: 14132 | AD45: 138 | AE45: 59 | AF45: 144 | AG45: 5473 | AH45: 2227 | AI45: 3246 | AJ45: 72 | AK45: 14 | AL45: 15 | AM45: 216417 | AN45: 184658
A46: 苗栗縣Miaoli County | B46: 280 | C46: 196909 | D46: 534996 | E46: 4598 | F46: 3234 | G46: 1364 | H46: 280 | I46: 209 | J46: 71 | K46: 3221 | L46: 2275 | M46: 946 | N46: 1097 | O46: 750 | P46: 347 | Q46: 44467 | R46: 22110 | S46: 22357 | T46: 180 | U46: 115267421 | V46: 89763381 | W46: 25504040 | X46: 241 | Y46: 225 | Z46: 15 | AA46: 1 | AB46: 2161 | AC46: 6425 | AD46: 164 | AE46: 119 | AF46: 175 | AG46: 6244 | AH46: 2727 | AI46: 3517 | AJ46: 112 | AK46: 28 | AL46: 10 | AM46: 487525 | AN46: 238670
A47: 彰化縣Changhua County | B47: 572 | C47: 387099 | D47: 1201954 | E47: 9619 | F47: 7992 | G47: 1627 | H47: 572 | I47: 445 | J47: 127 | K47: 6742 | L47: 5626 | M47: 1116 | N47: 2305 | O47: 1921 | P47: 384 | Q47: 66828 | R47: 38798 | S47: 28030 | T47: 398 | U47: 267939506 | V47: 172333322 | W47: 95606184 | X47: 433 | Y47: 418 | Z47: 3 | AA47: 12 | AB47: 5416 | AC47: 16171 | AD47: 345 | AE47: 98 | AF47: 479 | AG47: 22943 | AH47: 9718 | AI47: 13225 | AJ47: 269 | AK47: 55 | AL47: 10 | AM47: 842170 | AN47: 356767
A48: 南投縣Nantou County | B48: 276 | C48: 178321 | D48: 468453 | E48: 3786 | F48: 2883 | G48: 903 | H48: 276 | I48: 212 | J48: 64 | K48: 2629 | L48: 1998 | M48: 631 | N48: 881 | O48: 673 | P48: 208 | Q48: 25343 | R48: 14560 | S48: 10783 | T48: 221 | U48: 58730472 | V48: 51244208 | W48: 7486264 | X48: 217 | Y48: 207 | Z48: 1 | AA48: 9 | AB48: 5380 | AC48: 6348 | AD48: 75 | AE48: 94 | AF48: 247 | AG48: 6195 | AH48: 2443 | AI48: 3752 | AJ48: 121 | AK48: 36 | AL48: 50 | AM48: 677869 | AN48: 116853
... A59: 連江縣Lienchiang County | B59: 20 | C59: 4630 | D59: 19983 | E59: 241 | F59: 194 | G59: 47 | H59: 20 | I59: 20 | J59: 0 | K59: 160 | L59: 124 | M59: 36 | N59: 61 | O59: 50 | P59: 11 | Q59: 1222 | R59: 615 | S59: 607 | T59: 0 | U59: 7426995 | V59: 6832707 | W59: 594288 | X59: 0 | Y59: 0 | Z59: 0 | AA59: 0 | AB59: 6 | AC59: 0 | AD59: 0 | AE59: 0 | AF59: 12 | AG59: 484 | AH59: 115 | AI59: 369 | AJ59: 8 | AK59: 0 | AL59: 0 | AM59: 20 | AN59: 0
A61: 總計Total | B61: =IF(B37=B8,"","*") | C61: =IF(C37=C8,"","*") -> * | D61: =IF(D37=D8,"","*") -> * | E61: =IF(E37=E8,"","*") | F61: =IF(F37=F8,"","*") -> * | G61: =IF(G37=G8,"","*") -> * | H61: =IF(H37=H8,"","*") | I61: =IF(I37=I8,"","*") | ... AN61: =IF(AN37=AN8,"","*")
A62: 新 北 市New Taipei City | B62: =IF(B38=B9,"","*") | C62: =IF(C38=C9,"","*") | D62: =IF(D38=D9,"","*") | E62: =IF(E38=E9,"","*") | F62: =IF(F38=F9,"","*") | G62: =IF(G38=G9,"","*") | H62: =IF(H38=H9,"","*") | I62: =IF(I38=I9,"","*") | ... AN62: =IF(AN38=AN9,"","*")
A63: 臺 北 市Taipei City | B63: =IF(B39=B10,"","*") | C63: =IF(C39=C10,"","*") | D63: =IF(D39=D10,"","*") | E63: =IF(E39=E10,"","*") | F63: =IF(F39=F10,"","*") | G63: =IF(G39=G10,"","*") | H63: =IF(H39=H10,"","*") | I63: =IF(I39=I10,"","*") | ... AN63: =IF(AN39=AN10,"","*")
A64: 桃 園 市Taoyuan City | B64: =IF(B40=B11,"","*") | C64: =IF(C40=C11,"","*") | D64: =IF(D40=D11,"","*") | E64: =IF(E40=E11,"","*") | F64: =IF(F40=F11,"","*") | G64: =IF(G40=G11,"","*") | H64: =IF(H40=H11,"","*") | I64: =IF(I40=I11,"","*") | ... AN64: =IF(AN40=AN11,"","*")
A65: 臺 中 市Taichung City | B65: =IF(B41=B12,"","*") | C65: =IF(C41=C12,"","*") -> * | D65: =IF(D41=D12,"","*") -> * | E65: =IF(E41=E12,"","*") | F65: =IF(F41=F12,"","*") -> * | G65: =IF(G41=G12,"","*") -> * | H65: =IF(H41=H12,"","*") | I65: =IF(I41=I12,"","*") | ... AN65: =IF(AN41=AN12,"","*")
A66: 臺 南 市Tainan City | B66: =IF(B42=B13,"","*") | C66: =IF(C42=C13,"","*") | D66: =IF(D42=D13,"","*") | E66: =IF(E42=E13,"","*") | F66: =IF(F42=F13,"","*") | G66: =IF(G42=G13,"","*") | H66: =IF(H42=H13,"","*") | I66: =IF(I42=I13,"","*") | ... AN66: =IF(AN42=AN13,"","*")
A67: 高 雄 市Kaohsiung City | B67: =IF(B43=B14,"","*") | C67: =IF(C43=C14,"","*") | D67: =IF(D43=D14,"","*") | E67: =IF(E43=E14,"","*") | F67: =IF(F43=F14,"","*") | G67: =IF(G43=G14,"","*") | H67: =IF(H43=H14,"","*") | I67: =IF(I43=I14,"","*") | ... AN67: =IF(AN43=AN14,"","*")
A68: 宜蘭縣Yilan County | B68: =IF(B44=B15,"","*") | C68: =IF(C44=C15,"","*") | D68: =IF(D44=D15,"","*") | E68: =IF(E44=E15,"","*") | F68: =IF(F44=F15,"","*") | G68: =IF(G44=G15,"","*") | H68: =IF(H44=H15,"","*") | I68: =IF(I44=I15,"","*") | ... AN68: =IF(AN44=AN15,"","*")
A69: 新竹縣Hsinchu County | B69: =IF(B45=B16,"","*") | C69: =IF(C45=C16,"","*") | D69: =IF(D45=D16,"","*") | E69: =IF(E45=E16,"","*") | F69: =IF(F45=F16,"","*") | G69: =IF(G45=G16,"","*") | H69: =IF(H45=H16,"","*") | I69: =IF(I45=I16,"","*") | ... AN69: =IF(AN45=AN16,"","*")
A70: 苗栗縣Miaoli County | B70: =IF(B46=B17,"","*") | C70: =IF(C46=C17,"","*") | D70: =IF(D46=D17,"","*") | E70: =IF(E46=E17,"","*") | F70: =IF(F46=F17,"","*") | G70: =IF(G46=G17,"","*") | H70: =IF(H46=H17,"","*") | I70: =IF(I46=I17,"","*") | ... AN70: =IF(AN46=AN17,"","*")
A71: 彰化縣Changhua County | B71: =IF(B47=B18,"","*") | C71: =IF(C47=C18,"","*") | D71: =IF(D47=D18,"","*") | E71: =IF(E47=E18,"","*") | F71: =IF(F47=F18,"","*") | G71: =IF(G47=G18,"","*") | H71: =IF(H47=H18,"","*") | I71: =IF(I47=I18,"","*") | ... AN71: =IF(AN47=AN18,"","*")
A72: 南投縣Nantou County | B72: =IF(B48=B19,"","*") | C72: =IF(C48=C19,"","*") | D72: =IF(D48=D19,"","*") | E72: =IF(E48=E19,"","*") | F72: =IF(F48=F19,"","*") | G72: =IF(G48=G19,"","*") | H72: =IF(H48=H19,"","*") | I72: =IF(I48=I19,"","*") | ... AN72: =IF(AN48=AN19,"","*")
... A83: 連江縣Lienchiang County | B83: =IF(B59=B30,"","*") | C83: =IF(C59=C30,"","*") | D83: =IF(D59=D30,"","*") | E83: =IF(E59=E30,"","*") | F83: =IF(F59=F30,"","*") | G83: =IF(G59=G30,"","*") | H83: =IF(H59=H30,"","*") | I83: =IF(I59=I30,"","*") | ... AN83: =IF(AN59=AN30,"","*")

Sheet 2021
A1: 推行社區發展工作成果 Achievements of Community Development
A3: 110年, 2021 | B3: =IF(B8=SUM(B9:B30),"",SUM(B9:B30)) | C3: =IF(C8=SUM(C9:C30),"",SUM(C9:C30)) | D3: =IF(D8=SUM(D9:D30),"",SUM(D9:D30)) | E3: =IF(E8=SUM(E9:E30),"",SUM(E9:E30)) | F3: =IF(F8=SUM(F9:F30),"",SUM(F9:F30)) | G3: =IF(G8=SUM(G9:G30),"",SUM(G9:G30)) | H3: =IF(H8=SUM(H9:H30),"",SUM(H9:H30)) | I3: =IF(I8=SUM(I9:I30),"",SUM(I9:I30)) | ... AN3: =IF(AN8=SUM(AN9:AN30),"",SUM(AN9:AN30))
A4: 區域別 Locality | B4: 社區發展 協會數(個) No.of Community DevelopmentAssociations (Units) | C4: 社區戶數 (戶) Households of Communities (Households) | D4: 社區人口數 (人) Communities Persons of (Persons) | E4: 理監事人數(人) Directors and Supervisors (Persons) | Q4: 社區發展協會會員數(人) Members Community Development Associations (Persons) | T4: 設置社區生產建設基金 (個) Community Economic Development Fund(Unit) | U4: 實際使用經費(元) Outlays | X4: 社區建設主要項目 Main Items of Community Construction
E5: 合計 Total | H5: 理事長 Director-general | K5: 理事(不含理事長)Directors | N5: 監事 Supervisors | U5: 合計 (元) Total (NT$) | V5: 政府補助款 (元) Government-Provided (NT$) | W5: 社區自籌款 (元) Self-Provided (NT$) | X5: 社區活動中心Community Activity Centers(Units) | AB5: 辦理社區幹部訓練 (人次)Topic Training (Times of Persons) | AC5: 辦理社區 觀摩(人次) Community Exposition (Times of Persons) | AD5: 社區長壽俱樂部(處) Elderly Community Club (Places) | AE5: 社區守望 相助隊(隊) Community Mutual-help Program (Teams) | AF5: 社區志願服務團隊 Community Volunteer Service Teams (Groups) | AJ5: 辦理社區照顧關懷據點 (處) Community Care Locations (Places) | AK5: 社區圖書室 (處) Community Libraries (Places) | AL5: 發行社區報導或通訊 (期) Community Publications (Times) | AM5: 服務成果 Person-times Served
E6: 計 Subtotal | F6: 男 Male | G6: 女 Female | H6: 計 Subtotal | I6: 男 Male | J6: 女 Female | K6: 計 Subtotal | L6: 男 Male | M6: 女 Female | N6: 計 Subtotal | O6: 男 Male | P6: 女 Female | Q6: 計 Subtotal | R6: 男 Male | S6: 女 Female | X6: 合計 (幢) Total | Y6: 原建 (未作修擴建)(幢) Originally Built (Without Repair Extension) | Z6: 新建(幢) Newly Built | AA6: 修擴建(幢) Repair Extension | AF6: 團隊(隊) Teams | AG6: 志工數(人)Persons | AM6: 福利服務或活動(人次) Welfare Service or Activities (Times of Persons) | AN6: 其他服務(人次) Other Services (Times of Persons)
AG7: 合計 Total | AH7: 男 Male | AI7: 女 Female
A8: 總計Total | B8: 6943 | C8: 8484099 | D8: 22121179 | E8: 109240 | F8: 78103 | G8: 31137 | H8: 6943 | I8: 5297 | J8: 1646 | K8: 76023 | L8: 54338 | M8: 21685 | N8: 26274 | O8: 18468 | P8: 7806 | Q8: 757042 | R8: 381814 | S8: 375228 | T8: 3938 | U8: 2753405892 | V8: 2143947985 | W8: 609457907 | X8: 3347 | Y8: 3208 | Z8: 35 | AA8: 104 | AB8: 95999 | AC8: 190818 | AD8: 3478 | AE8: 2620 | AF8: 4513 | AG8: 149600 | AH8: 54617 | AI8: 94983 | AJ8: 3188 | AK8: 623 | AL8: 722 | AM8: 11253616 | AN8: 3680243
A9: 新 北 市New Taipei City | B9: 462 | C9: 1620906 | D9: 4008113 | E9: 7999 | F9: 5082 | G9: 2917 | H9: 462 | I9: 332 | J9: 130 | K9: 5586 | L9: 3530 | M9: 2056 | N9: 1951 | O9: 1220 | P9: 731 | Q9: 63479 | R9: 27644 | S9: 35835 | T9: 351 | U9: 87225085 | V9: 57029535 | W9: 30195550 | X9: 118 | Y9: 118 | Z9: 0 | AA9: 0 | AB9: 3359 | AC9: 3405 | AD9: 275 | AE9: 389 | AF9: 153 | AG9: 5395 | AH9: 1801 | AI9: 3594 | AJ9: 116 | AK9: 40 | AL9: 40 | AM9: 757214 | AN9: 87335
A10: 臺 北 市Taipei City | B10: 394 | C10: 1052596 | D10: 2524393 | E10: 5860 | F10: 3045 | G10: 2815 | H10: 394 | I10: 247 | J10: 147 | K10: 3991 | L10: 2047 | M10: 1944 | N10: 1475 | O10: 751 | P10: 724 | Q10: 26379 | R10: 10943 | S10: 15436 | T10: 0 | U10: 44065435 | V10: 36593751 | W10: 7471684 | X10: 0 | Y10: 0 | Z10: 0 | AA10: 0 | AB10: 3180 | AC10: 2026 | AD10: 0 | AE10: 408 | AF10: 99 | AG10: 3463 | AH10: 1365 | AI10: 2098 | AJ10: 552 | AK10: 16 | AL10: 70 | AM10: 256293 | AN10: 50649
A11: 桃 園 市Taoyuan City | B11: 313 | C11: 692920 | D11: 1835155 | E11: 5200 | F11: 3074 | G11: 2126 | H11: 313 | I11: 231 | J11: 82 | K11: 3623 | L11: 2109 | M11: 1514 | N11: 1264 | O11: 734 | P11: 530 | Q11: 53573 | R11: 23212 | S11: 30361 | T11: 268 | U11: 228980536 | V11: 169664507 | W11: 59316029 | X11: 210 | Y11: 189 | Z11: 4 | AA11: 17 | AB11: 4512 | AC11: 18040 | AD11: 43 | AE11: 49 | AF11: 254 | AG11: 11282 | AH11: 3813 | AI11: 7469 | AJ11: 175 | AK11: 27 | AL11: 71 | AM11: 681182 | AN11: 374974
A12: 臺 中 市Taichung City | B12: 605 | C12: 1017329 | D12: 2813490 | E12: 9777 | F12: 7070 | G12: 2707 | H12: 605 | I12: 465 | J12: 140 | K12: 6835 | L12: 4940 | M12: 1895 | N12: 2337 | O12: 1665 | P12: 672 | Q12: 53304 | R12: 26679 | S12: 26625 | T12: 151 | U12: 156379945 | V12: 84536872 | W12: 71843073 | X12: 251 | Y12: 250 | Z12: 1 | AA12: 0 | AB12: 3115 | AC12: 26216 | AD12: 388 | AE12: 241 | AF12: 361 | AG12: 11819 | AH12: 3319 | AI12: 8500 | AJ12: 264 | AK12: 13 | AL12: 78 | AM12: 601386 | AN12: 116868
A13: 臺 南 市Tainan City | B13: 673 | C13: 683863 | D13: 1796751 | E13: 10264 | F13: 7518 | G13: 2746 | H13: 673 | I13: 536 | J13: 137 | K13: 7180 | L13: 5226 | M13: 1954 | N13: 2411 | O13: 1756 | P13: 655 | Q13: 84642 | R13: 39576 | S13: 45066 | T13: 301 | U13: 215944702 | V13: 173998691 | W13: 41946011 | X13: 149 | Y13: 146 | Z13: 0 | AA13: 3 | AB13: 6054 | AC13: 18817 | AD13: 470 | AE13: 336 | AF13: 514 | AG13: 17858 | AH13: 6261 | AI13: 11597 | AJ13: 269 | AK13: 80 | AL13: 101 | AM13: 1539741 | AN13: 542893
A14: 高 雄 市Kaohsiung City | B14: 755 | C14: 876199 | D14: 2162072 | E14: 11559 | F14: 7470 | G14: 4089 | H14: 755 | I14: 542 | J14: 213 | K14: 7989 | L14: 5158 | M14: 2831 | N14: 2815 | O14: 1770 | P14: 1045 | Q14: 80033 | R14: 36438 | S14: 43595 | T14: 398 | U14: 299069150 | V14: 214902993 | W14: 84166157 | X14: 295 | Y14: 293 | Z14: 2 | AA14: 0 | AB14: 31744 | AC14: 24597 | AD14: 325 | AE14: 278 | AF14: 662 | AG14: 19769 | AH14: 6880 | AI14: 12889 | AJ14: 234 | AK14: 74 | AL14: 164 | AM14: 1329461 | AN14: 598424
A15: 宜蘭縣Yilan County | B15: 240 | C15: 173789 | D15: 449815 | E15: 3998 | F15: 3111 | G15: 887 | H15: 240 | I15: 198 | J15: 42 | K15: 2798 | L15: 2177 | M15: 621 | N15: 960 | O15: 736 | P15: 224 | Q15: 24022 | R15: 13578 | S15: 10444 | T15: 130 | U15: 140005925 | V15: 113365382 | W15: 26640543 | X15: 204 | Y15: 202 | Z15: 1 | AA15: 1 | AB15: 2302 | AC15: 8856 | AD15: 131 | AE15: 107 | AF15: 241 | AG15: 6391 | AH15: 2234 | AI15: 4157 | AJ15: 108 | AK15: 16 | AL15: 4 | AM15: 612296 | AN15: 165598
A16: 新竹縣Hsinchu County | B16: 187 | C16: 212003 | D16: 577276 | E16: 3302 | F16: 2246 | G16: 1056 | H16: 187 | I16: 144 | J16: 43 | K16: 2311 | L16: 1548 | M16: 763 | N16: 804 | O16: 554 | P16: 250 | Q16: 35862 | R16: 17402 | S16: 18460 | T16: 158 | U16: 131330379 | V16: 76418947 | W16: 54911432 | X16: 80 | Y16: 79 | Z16: 1 | AA16: 0 | AB16: 3741 | AC16: 14374 | AD16: 137 | AE16: 50 | AF16: 130 | AG16: 4960 | AH16: 2103 | AI16: 2857 | AJ16: 65 | AK16: 16 | AL16: 13 | AM16: 183487 | AN16: 105374
A17: 苗栗縣Miaoli County | B17: 280 | C17: 194744 | D17: 539094 | E17: 4756 | F17: 3410 | G17: 1346 | H17: 280 | I17: 216 | J17: 64 | K17: 3330 | L17: 2394 | M17: 936 | N17: 1146 | O17: 800 | P17: 346 | Q17: 45206 | R17: 22853 | S17: 22353 | T17: 173 | U17: 95563290 | V17: 79810235 | W17: 15753055 | X17: 231 | Y17: 225 | Z17: 5 | AA17: 1 | AB17: 1822 | AC17: 2528 | AD17: 166 | AE17: 121 | AF17: 179 | AG17: 6265 | AH17: 2767 | AI17: 3498 | AJ17: 116 | AK17: 26 | AL17: 6 | AM17: 220433 | AN17: 83209
A18: 彰化縣Changhua County | B18: 569 | C18: 384871 | D18: 1214477 | E18: 9517 | F18: 7926 | G18: 1591 | H18: 569 | I18: 448 | J18: 121 | K18: 6686 | L18: 5598 | M18: 1088 | N18: 2262 | O18: 1880 | P18: 382 | Q18: 68271 | R18: 39787 | S18: 28484 | T18: 398 | U18: 229629471 | V18: 158533752 | W18: 71095719 | X18: 400 | Y18: 389 | Z18: 3 | AA18: 8 | AB18: 5658 | AC18: 14179 | AD18: 352 | AE18: 98 | AF18: 454 | AG18: 22604 | AH18: 9507 | AI18: 13097 | AJ18: 230 | AK18: 50 | AL18: 35 | AM18: 629813 | AN18: 349205
A19: 南投縣Nantou County | B19: 275 | C19: 174268 | D19: 473877 | E19: 3878 | F19: 2947 | G19: 931 | H19: 275 | I19: 223 | J19: 52 | K19: 2693 | L19: 2045 | M19: 648 | N19: 910 | O19: 679 | P19: 231 | Q19: 25895 | R19: 14860 | S19: 11035 | T19: 221 | U19: 45426237 | V19: 39288328 | W19: 6137909 | X19: 214 | Y19: 193 | Z19: 1 | AA19: 20 | AB19: 4377 | AC19: 5290 | AD19: 79 | AE19: 102 | AF19: 236 | AG19: 6253 | AH19: 2474 | AI19: 3779 | AJ19: 115 | AK19: 36 | AL19: 45 | AM19: 488636 | AN19: 55670
... A30: 連江縣Lienchiang County | B30: 20 | C30: 3529 | D30: 11252 | E30: 257 | F30: 208 | G30: 49 | H30: 20 | I30: 19 | J30: 1 | K30: 183 | L30: 148 | M30: 35 | N30: 54 | O30: 41 | P30: 13 | Q30: 1201 | R30: 583 | S30: 618 | T30: 0 | U30: 6263911 | V30: 5794926 | W30: 468985 | X30: 0 | Y30: 0 | Z30: 0 | AA30: 0 | AB30: 1 | AC30: 0 | AD30: 0 | AE30: 0 | AF30: 5 | AG30: 147 | AH30: 32 | AI30: 115 | AJ30: 8 | AK30: 0 | AL30: 0 | AM30: 15 | AN30: 0
A31: 資料來源：直轄市及縣(市)政府。
A32: 說 明：本表資料不包括未成立社區發展協會者。
A33: Source: County and Government.
A35: 更新日期：2022/9/14
A37: 總計Total | B37: 6943 | C37: 8484099 | D37: 22121179 | E37: 109247 | F37: 78107 | G37: 31140 | H37: 6943 | I37: 5299 | J37: 1644 | K37: 76071 | L37: 54370 | M37: 21701 | N37: 26233 | O37: 18438 | P37: 7795 | Q37: 756996 | R37: 381815 | S37: 375181 | T37: 3938 | U37: 2752851919 | V37: 2143927985 | W37: 608923934 | X37: 3496 | Y37: 3211 | Z37: 181 | AA37: 104 | AB37: 95999 | AC37: 190863 | AD37: 3478 | AE37: 2620 | AF37: 4511 | AG37: 149573 | AH37: 54633 | AI37: 94940 | AJ37: 3187 | AK37: 623 | AL37: 723 | AM37: 11248510 | AN37: 3680876
A38: 新 北 市New Taipei City | B38: 462 | C38: 1620906 | D38: 4008113 | E38: 7999 | F38: 5082 | G38: 2917 | H38: 462 | I38: 332 | J38: 130 | K38: 5586 | L38: 3530 | M38: 2056 | N38: 1951 | O38: 1220 | P38: 731 | Q38: 63479 | R38: 27644 | S38: 35835 | T38: 351 | U38: 87225085 | V38: 57029535 | W38: 30195550 | X38: 118 | Y38: 118 | Z38: 0 | AA38: 0 | AB38: 3359 | AC38: 3405 | AD38: 275 | AE38: 389 | AF38: 153 | AG38: 5395 | AH38: 1801 | AI38: 3594 | AJ38: 116 | AK38: 40 | AL38: 40 | AM38: 757214 | AN38: 87335
A39: 臺 北 市Taipei City | B39: 394 | C39: 1052596 | D39: 2524393 | E39: 5868 | F39: 3050 | G39: 2818 | H39: 394 | I39: 249 | J39: 145 | K39: 4040 | L39: 2080 | M39: 1960 | N39: 1434 | O39: 721 | P39: 713 | Q39: 26333 | R39: 10944 | S39: 15389 | T39: 0 | U39: 43531462 | V39: 36593751 | W39: 6937711 | X39: 0 | Y39: 0 | Z39: 0 | AA39: 0 | AB39: 3180 | AC39: 2026 | AD39: 0 | AE39: 408 | AF39: 96 | AG39: 3458 | AH39: 1364 | AI39: 2094 | AJ39: 552 | AK39: 16 | AL39: 70 | AM39: 252302 | AN39: 50449
A40: 桃 園 市Taoyuan City | B40: 313 | C40: 692920 | D40: 1835155 | E40: 5200 | F40: 3074 | G40: 2126 | H40: 313 | I40: 231 | J40: 82 | K40: 3623 | L40: 2109 | M40: 1514 | N40: 1264 | O40: 734 | P40: 530 | Q40: 53573 | R40: 23212 | S40: 30361 | T40: 268 | U40: 228980536 | V40: 169664507 | W40: 59316029 | X40: 210 | Y40: 189 | Z40: 4 | AA40: 17 | AB40: 4512 | AC40: 18040 | AD40: 43 | AE40: 49 | AF40: 254 | AG40: 11282 | AH40: 3813 | AI40: 7469 | AJ40: 175 | AK40: 27 | AL40: 71 | AM40: 681182 | AN40: 374974
A41: 臺 中 市Taichung City | B41: 605 | C41: 1017329 | D41: 2813490 | E41: 9776 | F41: 7069 | G41: 2707 | H41: 605 | I41: 465 | J41: 140 | K41: 6834 | L41: 4939 | M41: 1895 | N41: 2337 | O41: 1665 | P41: 672 | Q41: 53304 | R41: 26679 | S41: 26625 | T41: 151 | U41: 156359945 | V41: 84516872 | W41: 71843073 | X41: 251 | Y41: 250 | Z41: 1 | AA41: 0 | AB41: 3115 | AC41: 26261 | AD41: 388 | AE41: 241 | AF41: 362 | AG41: 11797 | AH41: 3336 | AI41: 8461 | AJ41: 263 | AK41: 13 | AL41: 78 | AM41: 600271 | AN41: 117701
A42: 臺 南 市Tainan City | B42: 673 | C42: 683863 | D42: 1796751 | E42: 10264 | F42: 7518 | G42: 2746 | H42: 673 | I42: 536 | J42: 137 | K42: 7180 | L42: 5226 | M42: 1954 | N42: 2411 | O42: 1756 | P42: 655 | Q42: 84642 | R42: 39576 | S42: 45066 | T42: 301 | U42: 215944702 | V42: 173998691 | W42: 41946011 | X42: 298 | Y42: 149 | Z42: 146 | AA42: 3 | AB42: 6054 | AC42: 18817 | AD42: 470 | AE42: 336 | AF42: 514 | AG42: 17858 | AH42: 6261 | AI42: 11597 | AJ42: 269 | AK42: 80 | AL42: 102 | AM42: 1539741 | AN42: 542893
A43: 高 雄 市Kaohsiung City | B43: 755 | C43: 876199 | D43: 2162072 | E43: 11559 | F43: 7470 | G43: 4089 | H43: 755 | I43: 542 | J43: 213 | K43: 7989 | L43: 5158 | M43: 2831 | N43: 2815 | O43: 1770 | P43: 1045 | Q43: 80033 | R43: 36438 | S43: 43595 | T43: 398 | U43: 299069150 | V43: 214902993 | W43: 84166157 | X43: 295 | Y43: 293 | Z43: 2 | AA43: 0 | AB43: 31744 | AC43: 24597 | AD43: 325 | AE43: 278 | AF43: 662 | AG43: 19769 | AH43: 6880 | AI43: 12889 | AJ43: 234 | AK43: 74 | AL43: 164 | AM43: 1329461 | AN43: 598424
A44: 宜蘭縣Yilan County | B44: 240 | C44: 173789 | D44: 449815 | E44: 3998 | F44: 3111 | G44: 887 | H44: 240 | I44: 198 | J44: 42 | K44: 2798 | L44: 2177 | M44: 621 | N44: 960 | O44: 736 | P44: 224 | Q44: 24022 | R44: 13578 | S44: 10444 | T44: 130 | U44: 140005925 | V44: 113365382 | W44: 26640543 | X44: 204 | Y44: 202 | Z44: 1 | AA44: 1 | AB44: 2302 | AC44: 8856 | AD44: 131 | AE44: 107 | AF44: 241 | AG44: 6391 | AH44: 2234 | AI44: 4157 | AJ44: 108 | AK44: 16 | AL44: 4 | AM44: 612296 | AN44: 165598
A45: 新竹縣Hsinchu County | B45: 187 | C45: 212003 | D45: 577276 | E45: 3302 | F45: 2246 | G45: 1056 | H45: 187 | I45: 144 | J45: 43 | K45: 2311 | L45: 1548 | M45: 763 | N45: 804 | O45: 554 | P45: 250 | Q45: 35862 | R45: 17402 | S45: 18460 | T45: 158 | U45: 131330379 | V45: 76418947 | W45: 54911432 | X45: 80 | Y45: 79 | Z45: 1 | AA45: 0 | AB45: 3741 | AC45: 14374 | AD45: 137 | AE45: 50 | AF45: 130 | AG45: 4960 | AH45: 2103 | AI45: 2857 | AJ45: 65 | AK45: 16 | AL45: 13 | AM45: 183487 | AN45: 105374
A46: 苗栗縣Miaoli County | B46: 280 | C46: 194744 | D46: 539094 | E46: 4756 | F46: 3410 | G46: 1346 | H46: 280 | I46: 216 | J46: 64 | K46: 3330 | L46: 2394 | M46: 936 | N46: 1146 | O46: 800 | P46: 346 | Q46: 45206 | R46: 22853 | S46: 22353 | T46: 173 | U46: 95563290 | V46: 79810235 | W46: 15753055 | X46: 231 | Y46: 225 | Z46: 5 | AA46: 1 | AB46: 1822 | AC46: 2528 | AD46: 166 | AE46: 121 | AF46: 179 | AG46: 6265 | AH46: 2767 | AI46: 3498 | AJ46: 116 | AK46: 26 | AL46: 6 | AM46: 220433 | AN46: 83209
A47: 彰化縣Changhua County | B47: 569 | C47: 384871 | D47: 1214477 | E47: 9517 | F47: 7926 | G47: 1591 | H47: 569 | I47: 448 | J47: 121 | K47: 6686 | L47: 5598 | M47: 1088 | N47: 2262 | O47: 1880 | P47: 382 | Q47: 68271 | R47: 39787 | S47: 28484 | T47: 398 | U47: 229629471 | V47: 158533752 | W47: 71095719 | X47: 400 | Y47: 389 | Z47: 3 | AA47: 8 | AB47: 5658 | AC47: 14179 | AD47: 352 | AE47: 98 | AF47: 454 | AG47: 22604 | AH47: 9507 | AI47: 13097 | AJ47: 230 | AK47: 50 | AL47: 35 | AM47: 629813 | AN47: 349205
A48: 南投縣Nantou County | B48: 275 | C48: 174268 | D48: 473877 | E48: 3878 | F48: 2947 | G48: 931 | H48: 275 | I48: 223 | J48: 52 | K48: 2693 | L48: 2045 | M48: 648 | N48: 910 | O48: 679 | P48: 231 | Q48: 25895 | R48: 14860 | S48: 11035 | T48: 221 | U48: 45426237 | V48: 39288328 | W48: 6137909 | X48: 214 | Y48: 193 | Z48: 1 | AA48: 20 | AB48: 4377 | AC48: 5290 | AD48: 79 | AE48: 102 | AF48: 236 | AG48: 6253 | AH48: 2474 | AI48: 3779 | AJ48: 115 | AK48: 36 | AL48: 45 | AM48: 488636 | AN48: 55670
... A59: 連江縣Lienchiang County | B59: 20 | C59: 3529 | D59: 11252 | E59: 257 | F59: 208 | G59: 49 | H59: 20 | I59: 19 | J59: 1 | K59: 183 | L59: 148 | M59: 35 | N59: 54 | O59: 41 | P59: 13 | Q59: 1201 | R59: 583 | S59: 618 | T59: 0 | U59: 6263911 | V59: 5794926 | W59: 468985 | X59: 0 | Y59: 0 | Z59: 0 | AA59: 0 | AB59: 1 | AC59: 0 | AD59: 0 | AE59: 0 | AF59: 5 | AG59: 147 | AH59: 32 | AI59: 115 | AJ59: 8 | AK59: 0 | AL59: 0 | AM59: 15 | AN59: 0
A61: 總計Total | B61: =IF(B37=B8,"","*") | C61: =IF(C37=C8,"","*") | D61: =IF(D37=D8,"","*") | E61: =IF(E37=E8,"","*") -> * | F61: =IF(F37=F8,"","*") -> * | G61: =IF(G37=G8,"","*") -> * | H61: =IF(H37=H8,"","*") | I61: =IF(I37=I8,"","*") -> * | ... AN61: =IF(AN37=AN8,"","*") -> *
A62: 新 北 市New Taipei City | B62: =IF(B38=B9,"","*") | C62: =IF(C38=C9,"","*") | D62: =IF(D38=D9,"","*") | E62: =IF(E38=E9,"","*") | F62: =IF(F38=F9,"","*") | G62: =IF(G38=G9,"","*") | H62: =IF(H38=H9,"","*") | I62: =IF(I38=I9,"","*") | ... AN62: =IF(AN38=AN9,"","*")
A63: 臺 北 市Taipei City | B63: =IF(B39=B10,"","*") | C63: =IF(C39=C10,"","*") | D63: =IF(D39=D10,"","*") | E63: =IF(E39=E10,"","*") -> * | F63: =IF(F39=F10,"","*") -> * | G63: =IF(G39=G10,"","*") -> * | H63: =IF(H39=H10,"","*") | I63: =IF(I39=I10,"","*") -> * | ... AN63: =IF(AN39=AN10,"","*") -> *
A64: 桃 園 市Taoyuan City | B64: =IF(B40=B11,"","*") | C64: =IF(C40=C11,"","*") | D64: =IF(D40=D11,"","*") | E64: =IF(E40=E11,"","*") | F64: =IF(F40=F11,"","*") | G64: =IF(G40=G11,"","*") | H64: =IF(H40=H11,"","*") | I64: =IF(I40=I11,"","*") | ... AN64: =IF(AN40=AN11,"","*")
A65: 臺 中 市Taichung City | B65: =IF(B41=B12,"","*") | C65: =IF(C41=C12,"","*") | D65: =IF(D41=D12,"","*") | E65: =IF(E41=E12,"","*") -> * | F65: =IF(F41=F12,"","*") -> * | G65: =IF(G41=G12,"","*") | H65: =IF(H41=H12,"","*") | I65: =IF(I41=I12,"","*") | ... AN65: =IF(AN41=AN12,"","*") -> *
A66: 臺 南 市Tainan City | B66: =IF(B42=B13,"","*") | C66: =IF(C42=C13,"","*") | D66: =IF(D42=D13,"","*") | E66: =IF(E42=E13,"","*") | F66: =IF(F42=F13,"","*") | G66: =IF(G42=G13,"","*") | H66: =IF(H42=H13,"","*") | I66: =IF(I42=I13,"","*") | ... AN66: =IF(AN42=AN13,"","*")
A67: 高 雄 市Kaohsiung City | B67: =IF(B43=B14,"","*") | C67: =IF(C43=C14,"","*") | D67: =IF(D43=D14,"","*") | E67: =IF(E43=E14,"","*") | F67: =IF(F43=F14,"","*") | G67: =IF(G43=G14,"","*") | H67: =IF(H43=H14,"","*") | I67: =IF(I43=I14,"","*") | ... AN67: =IF(AN43=AN14,"","*")
A68: 宜蘭縣Yilan County | B68: =IF(B44=B15,"","*") | C68: =IF(C44=C15,"","*") | D68: =IF(D44=D15,"","*") | E68: =IF(E44=E15,"","*") | F68: =IF(F44=F15,"","*") | G68: =IF(G44=G15,"","*") | H68: =IF(H44=H15,"","*") | I68: =IF(I44=I15,"","*") | ... AN68: =IF(AN44=AN15,"","*")
A69: 新竹縣Hsinchu County | B69: =IF(B45=B16,"","*") | C69: =IF(C45=C16,"","*") | D69: =IF(D45=D16,"","*") | E69: =IF(E45=E16,"","*") | F69: =IF(F45=F16,"","*") | G69: =IF(G45=G16,"","*") | H69: =IF(H45=H16,"","*") | I69: =IF(I45=I16,"","*") | ... AN69: =IF(AN45=AN16,"","*")
A70: 苗栗縣Miaoli County | B70: =IF(B46=B17,"","*") | C70: =IF(C46=C17,"","*") | D70: =IF(D46=D17,"","*") | E70: =IF(E46=E17,"","*") | F70: =IF(F46=F17,"","*") | G70: =IF(G46=G17,"","*") | H70: =IF(H46=H17,"","*") | I70: =IF(I46=I17,"","*") | ... AN70: =IF(AN46=AN17,"","*")
A71: 彰化縣Changhua County | B71: =IF(B47=B18,"","*") | C71: =IF(C47=C18,"","*") | D71: =IF(D47=D18,"","*") | E71: =IF(E47=E18,"","*") | F71: =IF(F47=F18,"","*") | G71: =IF(G47=G18,"","*") | H71: =IF(H47=H18,"","*") | I71: =IF(I47=I18,"","*") | ... AN71: =IF(AN47=AN18,"","*")
A72: 南投縣Nantou County | B72: =IF(B48=B19,"","*") | C72: =IF(C48=C19,"","*") | D72: =IF(D48=D19,"","*") | E72: =IF(E48=E19,"","*") | F72: =IF(F48=F19,"","*") | G72: =IF(G48=G19,"","*") | H72: =IF(H48=H19,"","*") | I72: =IF(I48=I19,"","*") | ... AN72: =IF(AN48=AN19,"","*")
... A83: 連江縣Lienchiang County | B83: =IF(B59=B30,"","*") | C83: =IF(C59=C30,"","*") | D83: =IF(D59=D30,"","*") | E83: =IF(E59=E30,"","*") | F83: =IF(F59=F30,"","*") | G83: =IF(G59=G30,"","*") | H83: =IF(H59=H30,"","*") | I83: =IF(I59=I30,"","*") | ... AN83: =IF(AN59=AN30,"","*")

Sheet 2020
A1: 推行社區發展工作成果 Achievements of Community Development
A3: 109年, 2020 | B3: =IF(B8=SUM(B9:B30),"",SUM(B9:B30)) | C3: =IF(C8=SUM(C9:C30),"",SUM(C9:C30)) | D3: =IF(D8=SUM(D9:D30),"",SUM(D9:D30)) | E3: =IF(E8=SUM(E9:E30),"",SUM(E9:E30)) | F3: =IF(F8=SUM(F9:F30),"",SUM(F9:F30)) | G3: =IF(G8=SUM(G9:G30),"",SUM(G9:G30)) | H3: =IF(H8=SUM(H9:H30),"",SUM(H9:H30)) | I3: =IF(I8=SUM(I9:I30),"",SUM(I9:I30)) | ... AN3: =IF(AN8=SUM(AN9:AN30),"",SUM(AN9:AN30))
A4: 區域別 Locality | B4: 社區發展 協會數(個) No.of Community DevelopmentAssociations (Units) | C4: 社區戶數 (戶) Households of Communities (Households) | D4: 社區人口數 (人) Communities Persons of (Persons) | E4: 理監事人數(人) Directors and Supervisors (Persons) | Q4: 社區發展協會會員數(人) Members Community Development Associations (Persons) | T4: 設置社區生產建設基金 (個) Community Economic Development Fund(Unit) | U4: 實際使用經費(元) Outlays | X4: 社區建設主要項目 Main Items of Community Construction
E5: 合計 Total | H5: 理事長 Director-general | K5: 理事(不含理事長)Directors | N5: 監事 Supervisors | U5: 合計 (元) Total (NT$) | V5: 政府補助款 (元) Government-Provided (NT$) | W5: 社區自籌款 (元) Self-Provided (NT$) | X5: 社區活動中心Community Activity Centers(Units) | AB5: 辦理社區幹部訓練 (人次)Topic Training (Times of Persons) | AC5: 辦理社區 觀摩(人次) Community Exposition (Times of Persons) | AD5: 社區長壽俱樂部(處) Elderly Community Club (Places) | AE5: 社區守望 相助隊(隊) Community Mutual-help Program (Teams) | AF5: 社區志願服務團隊 Community Volunteer Service Teams (Groups) | AJ5: 辦理社區照顧關懷據點 (處) Community Care Locations (Places) | AK5: 社區圖書室 (處) Community Libraries (Places) | AL5: 發行社區報導或通訊 (期) Community Publications (Times) | AM5: 服務成果 Person-times Served
E6: 計 Subtotal | F6: 男 Male | G6: 女 Female | H6: 計 Subtotal | I6: 男 Male | J6: 女 Female | K6: 計 Subtotal | L6: 男 Male | M6: 女 Female | N6: 計 Subtotal | O6: 男 Male | P6: 女 Female | Q6: 計 Subtotal | R6: 男 Male | S6: 女 Female | X6: 合計 (幢) Total | Y6: 原建 (未作修擴建)(幢) Originally Built (Without Repair Extension) | Z6: 新建(幢) Newly Built | AA6: 修擴建(幢) Repair Extension | AF6: 團隊(隊) Teams | AG6: 志工數(人)Persons | AM6: 福利服務或活動(人次) Welfare Service or Activities (Times of Persons) | AN6: 其他服務(人次) Other Services (Times of Persons)
AG7: 合計 Total | AH7: 男 Male | AI7: 女 Female
A8: 總計Total | B8: 6918 | C8: 8307886 | D8: 22038102 | E8: 108524 | F8: 78523 | G8: 30001 | H8: 6918 | I8: 5337 | J8: 1581 | K8: 75440 | L8: 54542 | M8: 20898 | N8: 26166 | O8: 18644 | P8: 7522 | Q8: 761896 | R8: 389930 | S8: 371966 | T8: 3945 | U8: 2739100740 | V8: 2082289812 | W8: 656810928 | X8: 3438 | Y8: 3315 | Z8: 40 | AA8: 83 | AB8: 93227 | AC8: 431271 | AD8: 3238 | AE8: 2586 | AF8: 4565 | AG8: 145935 | AH8: 54620 | AI8: 91315 | AJ8: 3067 | AK8: 626 | AL8: 1780 | AM8: 12612351 | AN8: 3511451
A9: 新 北 市New Taipei City | B9: 460 | C9: 1478817 | D9: 3739131 | E9: 7970 | F9: 5120 | G9: 2850 | H9: 460 | I9: 344 | J9: 116 | K9: 5557 | L9: 3548 | M9: 2009 | N9: 1953 | O9: 1228 | P9: 725 | Q9: 64569 | R9: 27962 | S9: 36607 | T9: 338 | U9: 93152911 | V9: 65609487 | W9: 27543424 | X9: 118 | Y9: 118 | Z9: 0 | AA9: 0 | AB9: 3121 | AC9: 6221 | AD9: 269 | AE9: 389 | AF9: 280 | AG9: 6820 | AH9: 2772 | AI9: 4048 | AJ9: 129 | AK9: 36 | AL9: 44 | AM9: 930016 | AN9: 41388
A10: 臺 北 市Taipei City | B10: 391 | C10: 1061000 | D10: 2602418 | E10: 5687 | F10: 3026 | G10: 2661 | H10: 391 | I10: 255 | J10: 136 | K10: 3886 | L10: 2063 | M10: 1823 | N10: 1410 | O10: 708 | P10: 702 | Q10: 25829 | R10: 10703 | S10: 15126 | T10: 0 | U10: 26913147 | V10: 19890542 | W10: 7022605 | X10: 0 | Y10: 0 | Z10: 0 | AA10: 0 | AB10: 5600 | AC10: 5950 | AD10: 0 | AE10: 425 | AF10: 86 | AG10: 2548 | AH10: 993 | AI10: 1555 | AJ10: 528 | AK10: 15 | AL10: 44 | AM10: 147117 | AN10: 416
A11: 桃 園 市Taoyuan City | B11: 310 | C11: 685613 | D11: 1839832 | E11: 5142 | F11: 3123 | G11: 2019 | H11: 310 | I11: 234 | J11: 76 | K11: 3586 | L11: 2144 | M11: 1442 | N11: 1246 | O11: 745 | P11: 501 | Q11: 54169 | R11: 23727 | S11: 30442 | T11: 265 | U11: 269496915 | V11: 198259433 | W11: 71237482 | X11: 211 | Y11: 187 | Z11: 6 | AA11: 18 | AB11: 4304 | AC11: 26930 | AD11: 39 | AE11: 47 | AF11: 248 | AG11: 10945 | AH11: 3898 | AI11: 7047 | AJ11: 170 | AK11: 29 | AL11: 70 | AM11: 1240346 | AN11: 418631
A12: 臺 中 市Taichung City | B12: 604 | C12: 1002890 | D12: 2820787 | E12: 9791 | F12: 7075 | G12: 2716 | H12: 604 | I12: 467 | J12: 137 | K12: 6830 | L12: 4932 | M12: 1898 | N12: 2357 | O12: 1676 | P12: 681 | Q12: 53090 | R12: 26746 | S12: 26344 | T12: 152 | U12: 136384320 | V12: 77240404 | W12: 59143916 | X12: 253 | Y12: 251 | Z12: 0 | AA12: 2 | AB12: 6191 | AC12: 36773 | AD12: 389 | AE12: 245 | AF12: 347 | AG12: 10829 | AH12: 3256 | AI12: 7573 | AJ12: 253 | AK12: 12 | AL12: 49 | AM12: 542764 | AN12: 176383
A13: 臺 南 市Tainan City | B13: 672 | C13: 657537 | D13: 1765503 | E13: 10288 | F13: 7582 | G13: 2706 | H13: 672 | I13: 536 | J13: 136 | K13: 7187 | L13: 5228 | M13: 1959 | N13: 2429 | O13: 1818 | P13: 611 | Q13: 87272 | R13: 42805 | S13: 44467 | T13: 305 | U13: 230159434 | V13: 170669010 | W13: 59490424 | X13: 150 | Y13: 148 | Z13: 0 | AA13: 2 | AB13: 7979 | AC13: 46338 | AD13: 458 | AE13: 336 | AF13: 508 | AG13: 18466 | AH13: 6591 | AI13: 11875 | AJ13: 255 | AK13: 78 | AL13: 116 | AM13: 1613057 | AN13: 610409
A14: 高 雄 市Kaohsiung City | B14: 749 | C14: 869535 | D14: 2169536 | E14: 11577 | F14: 7649 | G14: 3928 | H14: 749 | I14: 542 | J14: 207 | K14: 8021 | L14: 5309 | M14: 2712 | N14: 2807 | O14: 1798 | P14: 1009 | Q14: 79661 | R14: 36603 | S14: 43058 | T14: 404 | U14: 285541998 | V14: 194676311 | W14: 90865687 | X14: 295 | Y14: 294 | Z14: 1 | AA14: 0 | AB14: 21862 | AC14: 38671 | AD14: 212 | AE14: 243 | AF14: 636 | AG14: 19273 | AH14: 6835 | AI14: 12438 | AJ14: 212 | AK14: 72 | AL14: 177 | AM14: 1178723 | AN14: 661092
A15: 宜蘭縣Yilan County | B15: 241 | C15: 172433 | D15: 453213 | E15: 3977 | F15: 3129 | G15: 848 | H15: 241 | I15: 197 | J15: 44 | K15: 2800 | L15: 2210 | M15: 590 | N15: 936 | O15: 722 | P15: 214 | Q15: 24035 | R15: 13704 | S15: 10331 | T15: 127 | U15: 173385070 | V15: 138366543 | W15: 35018527 | X15: 202 | Y15: 186 | Z15: 3 | AA15: 13 | AB15: 1991 | AC15: 12201 | AD15: 125 | AE15: 105 | AF15: 220 | AG15: 5815 | AH15: 1856 | AI15: 3959 | AJ15: 106 | AK15: 14 | AL15: 6 | AM15: 608600 | AN15: 346754
A16: 新竹縣Hsinchu County | B16: 187 | C16: 205854 | D16: 571492 | E16: 3281 | F16: 2282 | G16: 999 | H16: 187 | I16: 144 | J16: 43 | K16: 2299 | L16: 1588 | M16: 711 | N16: 795 | O16: 550 | P16: 245 | Q16: 35026 | R16: 17860 | S16: 17166 | T16: 167 | U16: 148410521 | V16: 84895105 | W16: 63515416 | X16: 82 | Y16: 80 | Z16: 1 | AA16: 1 | AB16: 3320 | AC16: 14714 | AD16: 146 | AE16: 48 | AF16: 222 | AG16: 5189 | AH16: 2130 | AI16: 3059 | AJ16: 64 | AK16: 17 | AL16: 15 | AM16: 155258 | AN16: 63897
A17: 苗栗縣Miaoli County | B17: 280 | C17: 193182 | D17: 543620 | E17: 4635 | F17: 3400 | G17: 1235 | H17: 280 | I17: 220 | J17: 60 | K17: 3261 | L17: 2403 | M17: 858 | N17: 1094 | O17: 777 | P17: 317 | Q17: 45105 | R17: 22880 | S17: 22225 | T17: 172 | U17: 139066762 | V17: 111702176 | W17: 27364586 | X17: 228 | Y17: 224 | Z17: 0 | AA17: 4 | AB17: 2437 | AC17: 5313 | AD17: 169 | AE17: 118 | AF17: 188 | AG17: 6259 | AH17: 2725 | AI17: 3534 | AJ17: 110 | AK17: 23 | AL17: 66 | AM17: 328118 | AN17: 169906
A18: 彰化縣Changhua County | B18: 569 | C18: 382209 | D18: 1222372 | E18: 9634 | F18: 8081 | G18: 1553 | H18: 569 | I18: 444 | J18: 125 | K18: 6763 | L18: 5681 | M18: 1082 | N18: 2302 | O18: 1956 | P18: 346 | Q18: 68523 | R18: 39322 | S18: 29201 | T18: 398 | U18: 253900679 | V18: 194791495 | W18: 59109184 | X18: 413 | Y18: 401 | Z18: 4 | AA18: 8 | AB18: 5893 | AC18: 21162 | AD18: 332 | AE18: 98 | AF18: 493 | AG18: 23830 | AH18: 10116 | AI18: 13714 | AJ18: 207 | AK18: 53 | AL18: 37 | AM18: 734837 | AN18: 314555
A19: 南投縣Nantou County | B19: 275 | C19: 174993 | D19: 481568 | E19: 3895 | F19: 3036 | G19: 859 | H19: 275 | I19: 226 | J19: 49 | K19: 2727 | L19: 2110 | M19: 617 | N19: 893 | O19: 700 | P19: 193 | Q19: 26474 | R19: 15613 | S19: 10861 | T19: 223 | U19: 65362119 | V19: 56453755 | W19: 8908364 | X19: 219 | Y19: 217 | Z19: 0 | AA19: 2 | AB19: 6151 | AC19: 8830 | AD19: 73 | AE19: 102 | AF19: 227 | AG19: 5843 | AH19: 2344 | AI19: 3499 | AJ19: 115 | AK19: 31 | AL19: 60 | AM19: 891340 | AN19: 95910
... A30: 連江縣Lienchiang County | B30: 20 | C30: 3388 | D30: 13279 | E30: 258 | F30: 208 | G30: 50 | H30: 20 | I30: 19 | J30: 1 | K30: 184 | L30: 148 | M30: 36 | N30: 54 | O30: 41 | P30: 13 | Q30: 1179 | R30: 575 | S30: 604 | T30: 0 | U30: 3439779 | V30: 3122416 | W30: 317363 | X30: 0 | Y30: 0 | Z30: 0 | AA30: 0 | AB30: 1 | AC30: 1 | AD30: 0 | AE30: 0 | AF30: 5 | AG30: 64 | AH30: 19 | AI30: 45 | AJ30: 7 | AK30: 0 | AL30: 0 | AM30: 28 | AN30: 0
A31: 資料來源：直轄市及縣(市)政府。
A32: 說 明：本表資料不包括未成立社區發展協會者。
A33: Source: County and Government.
A35: 更新日期：2022/3/31
A37: 總計Total | B37: 6918 | C37: 8292970 | D37: 22014889 | E37: 108524 | F37: 78523 | G37: 30001 | H37: 6918 | I37: 5337 | J37: 1581 | K37: 75440 | L37: 54542 | M37: 20898 | N37: 26166 | O37: 18644 | P37: 7522 | Q37: 761896 | R37: 389930 | S37: 371966 | T37: 3945 | U37: 2739100740 | V37: 2082289812 | W37: 656810928 | X37: 3438 | Y37: 3315 | Z37: 40 | AA37: 83 | AB37: 93227 | AC37: 431271 | AD37: 3238 | AE37: 2575 | AF37: 4565 | AG37: 145935 | AH37: 54620 | AI37: 91315 | AJ37: 3067 | AK37: 626 | AL37: 1780 | AM37: 12612351 | AN37: 3511451
A38: 新 北 市New Taipei City | B38: 460 | C38: 1478817 | D38: 3739131 | E38: 7970 | F38: 5120 | G38: 2850 | H38: 460 | I38: 344 | J38: 116 | K38: 5557 | L38: 3548 | M38: 2009 | N38: 1953 | O38: 1228 | P38: 725 | Q38: 64569 | R38: 27962 | S38: 36607 | T38: 338 | U38: 93152911 | V38: 65609487 | W38: 27543424 | X38: 118 | Y38: 118 | Z38: 0 | AA38: 0 | AB38: 3121 | AC38: 6221 | AD38: 269 | AE38: 389 | AF38: 280 | AG38: 6820 | AH38: 2772 | AI38: 4048 | AJ38: 129 | AK38: 36 | AL38: 44 | AM38: 930016 | AN38: 41388
A39: 臺 北 市Taipei City | B39: 391 | C39: 1061000 | D39: 2602418 | E39: 5687 | F39: 3026 | G39: 2661 | H39: 391 | I39: 255 | J39: 136 | K39: 3886 | L39: 2063 | M39: 1823 | N39: 1410 | O39: 708 | P39: 702 | Q39: 25829 | R39: 10703 | S39: 15126 | T39: 0 | U39: 26913147 | V39: 19890542 | W39: 7022605 | X39: 0 | Y39: 0 | Z39: 0 | AA39: 0 | AB39: 5600 | AC39: 5950 | AD39: 0 | AE39: 425 | AF39: 86 | AG39: 2548 | AH39: 993 | AI39: 1555 | AJ39: 528 | AK39: 15 | AL39: 44 | AM39: 147117 | AN39: 416
A40: 桃 園 市Taoyuan City | B40: 310 | C40: 684968 | D40: 1855223 | E40: 5142 | F40: 3123 | G40: 2019 | H40: 310 | I40: 234 | J40: 76 | K40: 3586 | L40: 2144 | M40: 1442 | N40: 1246 | O40: 745 | P40: 501 | Q40: 54169 | R40: 23727 | S40: 30442 | T40: 265 | U40: 269496915 | V40: 198259433 | W40: 71237482 | X40: 211 | Y40: 187 | Z40: 6 | AA40: 18 | AB40: 4304 | AC40: 26930 | AD40: 39 | AE40: 47 | AF40: 248 | AG40: 10945 | AH40: 3898 | AI40: 7047 | AJ40: 170 | AK40: 29 | AL40: 70 | AM40: 1240346 | AN40: 418631
A41: 臺 中 市Taichung City | B41: 604 | C41: 1002890 | D41: 2820787 | E41: 9791 | F41: 7075 | G41: 2716 | H41: 604 | I41: 467 | J41: 137 | K41: 6830 | L41: 4932 | M41: 1898 | N41: 2357 | O41: 1676 | P41: 681 | Q41: 53090 | R41: 26746 | S41: 26344 | T41: 152 | U41: 136384320 | V41: 77240404 | W41: 59143916 | X41: 253 | Y41: 251 | Z41: 0 | AA41: 2 | AB41: 6191 | AC41: 36773 | AD41: 389 | AE41: 245 | AF41: 347 | AG41: 10829 | AH41: 3256 | AI41: 7573 | AJ41: 253 | AK41: 12 | AL41: 49 | AM41: 542764 | AN41: 176383
A42: 臺 南 市Tainan City | B42: 672 | C42: 657537 | D42: 1765503 | E42: 10288 | F42: 7582 | G42: 2706 | H42: 672 | I42: 536 | J42: 136 | K42: 7187 | L42: 5228 | M42: 1959 | N42: 2429 | O42: 1818 | P42: 611 | Q42: 87272 | R42: 42805 | S42: 44467 | T42: 305 | U42: 230159434 | V42: 170669010 | W42: 59490424 | X42: 150 | Y42: 148 | Z42: 0 | AA42: 2 | AB42: 7979 | AC42: 46338 | AD42: 458 | AE42: 336 | AF42: 508 | AG42: 18466 | AH42: 6591 | AI42: 11875 | AJ42: 255 | AK42: 78 | AL42: 116 | AM42: 1613057 | AN42: 610409
A43: 高 雄 市Kaohsiung City | B43: 749 | C43: 869535 | D43: 2169536 | E43: 11577 | F43: 7649 | G43: 3928 | H43: 749 | I43: 542 | J43: 207 | K43: 8021 | L43: 5309 | M43: 2712 | N43: 2807 | O43: 1798 | P43: 1009 | Q43: 79661 | R43: 36603 | S43: 43058 | T43: 404 | U43: 285541998 | V43: 194676311 | W43: 90865687 | X43: 295 | Y43: 294 | Z43: 1 | AA43: 0 | AB43: 21862 | AC43: 38671 | AD43: 212 | AE43: 243 | AF43: 636 | AG43: 19273 | AH43: 6835 | AI43: 12438 | AJ43: 212 | AK43: 72 | AL43: 177 | AM43: 1178723 | AN43: 661092
A44: 宜蘭縣Yilan County | B44: 241 | C44: 172433 | D44: 453213 | E44: 3977 | F44: 3129 | G44: 848 | H44: 241 | I44: 197 | J44: 44 | K44: 2800 | L44: 2210 | M44: 590 | N44: 936 | O44: 722 | P44: 214 | Q44: 24035 | R44: 13704 | S44: 10331 | T44: 127 | U44: 173385070 | V44: 138366543 | W44: 35018527 | X44: 202 | Y44: 186 | Z44: 3 | AA44: 13 | AB44: 1991 | AC44: 12201 | AD44: 125 | AE44: 105 | AF44: 220 | AG44: 5815 | AH44: 1856 | AI44: 3959 | AJ44: 106 | AK44: 14 | AL44: 6 | AM44: 608600 | AN44: 346754
A45: 新竹縣Hsinchu County | B45: 187 | C45: 205854 | D45: 571492 | E45: 3281 | F45: 2282 | G45: 999 | H45: 187 | I45: 144 | J45: 43 | K45: 2299 | L45: 1588 | M45: 711 | N45: 795 | O45: 550 | P45: 245 | Q45: 35026 | R45: 17860 | S45: 17166 | T45: 167 | U45: 148410521 | V45: 84895105 | W45: 63515416 | X45: 82 | Y45: 80 | Z45: 1 | AA45: 1 | AB45: 3320 | AC45: 14714 | AD45: 146 | AE45: 48 | AF45: 222 | AG45: 5189 | AH45: 2130 | AI45: 3059 | AJ45: 64 | AK45: 17 | AL45: 15 | AM45: 155258 | AN45: 63897
A46: 苗栗縣Miaoli County | B46: 280 | C46: 193182 | D46: 543620 | E46: 4635 | F46: 3400 | G46: 1235 | H46: 280 | I46: 220 | J46: 60 | K46: 3261 | L46: 2403 | M46: 858 | N46: 1094 | O46: 777 | P46: 317 | Q46: 45105 | R46: 22880 | S46: 22225 | T46: 172 | U46: 139066762 | V46: 111702176 | W46: 27364586 | X46: 228 | Y46: 224 | Z46: 0 | AA46: 4 | AB46: 2437 | AC46: 5313 | AD46: 169 | AE46: 118 | AF46: 188 | AG46: 6259 | AH46: 2725 | AI46: 3534 | AJ46: 110 | AK46: 23 | AL46: 66 | AM46: 328118 | AN46: 169906
A47: 彰化縣Changhua County | B47: 569 | C47: 382209 | D47: 1222372 | E47: 9634 | F47: 8081 | G47: 1553 | H47: 569 | I47: 444 | J47: 125 | K47: 6763 | L47: 5681 | M47: 1082 | N47: 2302 | O47: 1956 | P47: 346 | Q47: 68523 | R47: 39322 | S47: 29201 | T47: 398 | U47: 253900679 | V47: 194791495 | W47: 59109184 | X47: 413 | Y47: 401 | Z47: 4 | AA47: 8 | AB47: 5893 | AC47: 21162 | AD47: 332 | AE47: 98 | AF47: 493 | AG47: 23830 | AH47: 10116 | AI47: 13714 | AJ47: 207 | AK47: 53 | AL47: 37 | AM47: 734837 | AN47: 314555
A48: 南投縣Nantou County | B48: 275 | C48: 174993 | D48: 481568 | E48: 3895 | F48: 3036 | G48: 859 | H48: 275 | I48: 226 | J48: 49 | K48: 2727 | L48: 2110 | M48: 617 | N48: 893 | O48: 700 | P48: 193 | Q48: 26474 | R48: 15613 | S48: 10861 | T48: 223 | U48: 65362119 | V48: 56453755 | W48: 8908364 | X48: 219 | Y48: 217 | Z48: 0 | AA48: 2 | AB48: 6151 | AC48: 8830 | AD48: 73 | AE48: 102 | AF48: 227 | AG48: 5843 | AH48: 2344 | AI48: 3499 | AJ48: 115 | AK48: 31 | AL48: 60 | AM48: 891340 | AN48: 95910
... A59: 連江縣Lienchiang County | B59: 20 | C59: 3388 | D59: 13279 | E59: 258 | F59: 208 | G59: 50 | H59: 20 | I59: 19 | J59: 1 | K59: 184 | L59: 148 | M59: 36 | N59: 54 | O59: 41 | P59: 13 | Q59: 1179 | R59: 575 | S59: 604 | T59: 0 | U59: 3439779 | V59: 3122416 | W59: 317363 | X59: 0 | Y59: 0 | Z59: 0 | AA59: 0 | AB59: 1 | AC59: 1 | AD59: 0 | AE59: 0 | AF59: 5 | AG59: 64 | AH59: 19 | AI59: 45 | AJ59: 7 | AK59: 0 | AL59: 0 | AM59: 28 | AN59: 0
A61: 總計Total | B61: =IF(B37=B8,"","*") | C61: =IF(C37=C8,"","*") -> * | D61: =IF(D37=D8,"","*") -> * | E61: =IF(E37=E8,"","*") | F61: =IF(F37=F8,"","*") | G61: =IF(G37=G8,"","*") | H61: =IF(H37=H8,"","*") | I61: =IF(I37=I8,"","*") | ... AN61: =IF(AN37=AN8,"","*")
A62: 新 北 市New Taipei City | B62: =IF(B38=B9,"","*") | C62: =IF(C38=C9,"","*") | D62: =IF(D38=D9,"","*") | E62: =IF(E38=E9,"","*") | F62: =IF(F38=F9,"","*") | G62: =IF(G38=G9,"","*") | H62: =IF(H38=H9,"","*") | I62: =IF(I38=I9,"","*") | ... AN62: =IF(AN38=AN9,"","*")
A63: 臺 北 市Taipei City | B63: =IF(B39=B10,"","*") | C63: =IF(C39=C10,"","*") | D63: =IF(D39=D10,"","*") | E63: =IF(E39=E10,"","*") | F63: =IF(F39=F10,"","*") | G63: =IF(G39=G10,"","*") | H63: =IF(H39=H10,"","*") | I63: =IF(I39=I10,"","*") | ... AN63: =IF(AN39=AN10,"","*")
A64: 桃 園 市Taoyuan City | B64: =IF(B40=B11,"","*") | C64: =IF(C40=C11,"","*") -> * | D64: =IF(D40=D11,"","*") -> * | E64: =IF(E40=E11,"","*") | F64: =IF(F40=F11,"","*") | G64: =IF(G40=G11,"","*") | H64: =IF(H40=H11,"","*") | I64: =IF(I40=I11,"","*") | ... AN64: =IF(AN40=AN11,"","*")
A65: 臺 中 市Taichung City | B65: =IF(B41=B12,"","*") | C65: =IF(C41=C12,"","*") | D65: =IF(D41=D12,"","*") | E65: =IF(E41=E12,"","*") | F65: =IF(F41=F12,"","*") | G65: =IF(G41=G12,"","*") | H65: =IF(H41=H12,"","*") | I65: =IF(I41=I12,"","*") | ... AN65: =IF(AN41=AN12,"","*")
A66: 臺 南 市Tainan City | B66: =IF(B42=B13,"","*") | C66: =IF(C42=C13,"","*") | D66: =IF(D42=D13,"","*") | E66: =IF(E42=E13,"","*") | F66: =IF(F42=F13,"","*") | G66: =IF(G42=G13,"","*") | H66: =IF(H42=H13,"","*") | I66: =IF(I42=I13,"","*") | ... AN66: =IF(AN42=AN13,"","*")
A67: 高 雄 市Kaohsiung City | B67: =IF(B43=B14,"","*") | C67: =IF(C43=C14,"","*") | D67: =IF(D43=D14,"","*") | E67: =IF(E43=E14,"","*") | F67: =IF(F43=F14,"","*") | G67: =IF(G43=G14,"","*") | H67: =IF(H43=H14,"","*") | I67: =IF(I43=I14,"","*") | ... AN67: =IF(AN43=AN14,"","*")
A68: 宜蘭縣Yilan County | B68: =IF(B44=B15,"","*") | C68: =IF(C44=C15,"","*") | D68: =IF(D44=D15,"","*") | E68: =IF(E44=E15,"","*") | F68: =IF(F44=F15,"","*") | G68: =IF(G44=G15,"","*") | H68: =IF(H44=H15,"","*") | I68: =IF(I44=I15,"","*") | ... AN68: =IF(AN44=AN15,"","*")
A69: 新竹縣Hsinchu County | B69: =IF(B45=B16,"","*") | C69: =IF(C45=C16,"","*") | D69: =IF(D45=D16,"","*") | E69: =IF(E45=E16,"","*") | F69: =IF(F45=F16,"","*") | G69: =IF(G45=G16,"","*") | H69: =IF(H45=H16,"","*") | I69: =IF(I45=I16,"","*") | ... AN69: =IF(AN45=AN16,"","*")
A70: 苗栗縣Miaoli County | B70: =IF(B46=B17,"","*") | C70: =IF(C46=C17,"","*") | D70: =IF(D46=D17,"","*") | E70: =IF(E46=E17,"","*") | F70: =IF(F46=F17,"","*") | G70: =IF(G46=G17,"","*") | H70: =IF(H46=H17,"","*") | I70: =IF(I46=I17,"","*") | ... AN70: =IF(AN46=AN17,"","*")
A71: 彰化縣Changhua County | B71: =IF(B47=B18,"","*") | C71: =IF(C47=C18,"","*") | D71: =IF(D47=D18,"","*") | E71: =IF(E47=E18,"","*") | F71: =IF(F47=F18,"","*") | G71: =IF(G47=G18,"","*") | H71: =IF(H47=H18,"","*") | I71: =IF(I47=I18,"","*") | ... AN71: =IF(AN47=AN18,"","*")
A72: 南投縣Nantou County | B72: =IF(B48=B19,"","*") | C72: =IF(C48=C19,"","*") | D72: =IF(D48=D19,"","*") | E72: =IF(E48=E19,"","*") | F72: =IF(F48=F19,"","*") | G72: =IF(G48=G19,"","*") | H72: =IF(H48=H19,"","*") | I72: =IF(I48=I19,"","*") | ... AN72: =IF(AN48=AN19,"","*")
... A83: 連江縣Lienchiang County | B83: =IF(B59=B30,"","*") | C83: =IF(C59=C30,"","*") | D83: =IF(D59=D30,"","*") | E83: =IF(E59=E30,"","*") | F83: =IF(F59=F30,"","*") | G83: =IF(G59=G30,"","*") | H83: =IF(H59=H30,"","*") | I83: =IF(I59=I30,"","*") | ... AN83: =IF(AN59=AN30,"","*")

Sheet 2019
A1: 推行社區發展工作成果 Achievements of Community Development
A3: 108年, 2019 | B3: =IF(B8=SUM(B9:B30),"",SUM(B9:B30)) | C3: =IF(C8=SUM(C9:C30),"",SUM(C9:C30)) | D3: =IF(D8=SUM(D9:D30),"",SUM(D9:D30)) | E3: =IF(E8=SUM(E9:E30),"",SUM(E9:E30)) | F3: =IF(F8=SUM(F9:F30),"",SUM(F9:F30)) | G3: =IF(G8=SUM(G9:G30),"",SUM(G9:G30)) | H3: =IF(H8=SUM(H9:H30),"",SUM(H9:H30)) | I3: =IF(I8=SUM(I9:I30),"",SUM(I9:I30)) | ... AN3: =IF(AN8=SUM(AN9:AN30),"",SUM(AN9:AN30))
A4: 區域別 Locality | B4: 社區發展 協會數(個) No.of Community DevelopmentAssociations (Units) | C4: 社區戶數 (戶) Households of Communities (Households) | D4: 社區人口數 (人) Communities Persons of (Persons) | E4: 理監事人數(人) Directors and Supervisors (Persons) | Q4: 社區發展協會會員數(人) Members Community Development Associations (Persons) | T4: 設置社區生產建設基金 (個) Community Economic Development Fund(Unit) | U4: 實際使用經費(元) Outlays | X4: 社區建設主要項目 Main Items of Community Construction
E5: 合計 Total | H5: 理事長 Director-general | K5: 理事(不含理事長)Directors | N5: 監事 Supervisors | U5: 合計 (元) Total (NT$) | V5: 政府補助款 (元) Government-Provided (NT$) | W5: 社區自籌款 (元) Self-Provided (NT$) | X5: 社區活動中心Community Activity Centers(Units) | AB5: 辦理社區幹部訓練 (人次)Topic Training (Times of Persons) | AC5: 辦理社區 觀摩(人次) Community Exposition (Times of Persons) | AD5: 社區長壽俱樂部(處) Elderly Community Club (Places) | AE5: 社區守望 相助隊(隊) Community Mutual-help Program (Teams) | AF5: 社區志願服務團隊 Community Volunteer Service Teams (Groups) | AJ5: 辦理社區照顧關懷據點 (處) Community Care Locations (Places) | AK5: 社區圖書室 (處) Community Libraries (Places) | AL5: 發行社區報導或通訊 (期) Community Publications (Times) | AM5: 服務成果 Person-times Served
E6: 計 Subtotal | F6: 男 Male | G6: 女 Female | H6: 計 Subtotal | I6: 男 Male | J6: 女 Female | K6: 計 Subtotal | L6: 男 Male | M6: 女 Female | N6: 計 Subtotal | O6: 男 Male | P6: 女 Female | Q6: 計 Subtotal | R6: 男 Male | S6: 女 Female | X6: 合計 (幢) Total | Y6: 原建 (未作修擴建)(幢) Originally Built (Without Repair Extension) | Z6: 新建(幢) Newly Built | AA6: 修擴建(幢) Repair Extension | AF6: 團隊(隊) Teams | AG6: 志工數(人)Persons | AM6: 福利服務或活動(人次) Welfare Service or Activities (Times of Persons) | AN6: 其他服務(人次) Other Services (Times of Persons)
AG7: 合計 Total | AH7: 男 Male | AI7: 女 Female
A8: 總計Total | B8: 6919 | C8: 8226678 | D8: 22054988 | E8: 109265 | F8: 80108 | G8: 29157 | H8: 6919 | I8: 5407 | J8: 1512 | K8: 75967 | L8: 55692 | M8: 20275 | N8: 26379 | O8: 19009 | P8: 7370 | Q8: 768170 | R8: 399130 | S8: 369040 | T8: 3955 | U8: 2426321649 | V8: 1740324643 | W8: 685997006 | X8: 3613 | Y8: 3472 | Z8: 37 | AA8: 104 | AB8: 139854 | AC8: 291993 | AD8: 3187 | AE8: 2035 | AF8: 4200 | AG8: 139834 | AH8: 53079 | AI8: 86755 | AJ8: 2439 | AK8: 618 | AL8: 887 | AM8: 10792918 | AN8: 3421219
A9: 新 北 市New Taipei City | B9: 459 | C9: 1464795 | D9: 3726822 | E9: 7991 | F9: 5222 | G9: 2769 | H9: 459 | I9: 341 | J9: 118 | K9: 5580 | L9: 3643 | M9: 1937 | N9: 1952 | O9: 1238 | P9: 714 | Q9: 66788 | R9: 29415 | S9: 37373 | T9: 354 | U9: 90613719 | V9: 64551582 | W9: 26062137 | X9: 114 | Y9: 114 | Z9: 0 | AA9: 0 | AB9: 3956 | AC9: 7112 | AD9: 226 | AE9: 245 | AF9: 183 | AG9: 5946 | AH9: 2029 | AI9: 3917 | AJ9: 108 | AK9: 28 | AL9: 48 | AM9: 757865 | AN9: 70824
A10: 臺 北 市Taipei City | B10: 375 | C10: 1060880 | D10: 2645041 | E10: 5639 | F10: 3155 | G10: 2484 | H10: 375 | I10: 244 | J10: 131 | K10: 3852 | L10: 2138 | M10: 1714 | N10: 1412 | O10: 773 | P10: 639 | Q10: 24468 | R10: 10498 | S10: 13970 | T10: 0 | U10: 25523893 | V10: 20018207 | W10: 5505686 | X10: 170 | Y10: 170 | Z10: 0 | AA10: 0 | AB10: 2645 | AC10: 5164 | AD10: 0 | AE10: 368 | AF10: 55 | AG10: 2092 | AH10: 842 | AI10: 1250 | AJ10: 92 | AK10: 20 | AL10: 65 | AM10: 96393 | AN10: 654
A11: 桃 園 市Taoyuan City | B11: 298 | C11: 659646 | D11: 1813208 | E11: 5008 | F11: 3149 | G11: 1859 | H11: 298 | I11: 232 | J11: 66 | K11: 3496 | L11: 2191 | M11: 1305 | N11: 1214 | O11: 726 | P11: 488 | Q11: 53872 | R11: 24249 | S11: 29623 | T11: 266 | U11: 296217704 | V11: 206346801 | W11: 89870903 | X11: 214 | Y11: 201 | Z11: 2 | AA11: 11 | AB11: 6696 | AC11: 29760 | AD11: 31 | AE11: 47 | AF11: 253 | AG11: 11575 | AH11: 3993 | AI11: 7582 | AJ11: 167 | AK11: 34 | AL11: 77 | AM11: 1217721 | AN11: 471268
A12: 臺 中 市Taichung City | B12: 613 | C12: 986646 | D12: 2815261 | E12: 9829 | F12: 7222 | G12: 2607 | H12: 613 | I12: 481 | J12: 132 | K12: 6877 | L12: 5058 | M12: 1819 | N12: 2339 | O12: 1683 | P12: 656 | Q12: 53982 | R12: 27607 | S12: 26375 | T12: 149 | U12: 145094436 | V12: 69921887 | W12: 75172549 | X12: 253 | Y12: 252 | Z12: 1 | AA12: 0 | AB12: 7312 | AC12: 47795 | AD12: 386 | AE12: 23 | AF12: 348 | AG12: 10994 | AH12: 3680 | AI12: 7314 | AJ12: 232 | AK12: 14 | AL12: 70 | AM12: 553548 | AN12: 205964
A13: 臺 南 市Tainan City | B13: 685 | C13: 670634 | D13: 1809114 | E13: 10588 | F13: 7926 | G13: 2662 | H13: 685 | I13: 543 | J13: 142 | K13: 7395 | L13: 5494 | M13: 1901 | N13: 2508 | O13: 1889 | P13: 619 | Q13: 89133 | R13: 43271 | S13: 45862 | T13: 310 | U13: 215699534 | V13: 162990370 | W13: 52709164 | X13: 153 | Y13: 150 | Z13: 0 | AA13: 3 | AB13: 7155 | AC13: 20162 | AD13: 456 | AE13: 124 | AF13: 470 | AG13: 17731 | AH13: 6334 | AI13: 11397 | AJ13: 258 | AK13: 76 | AL13: 61 | AM13: 1593324 | AN13: 520507
A14: 高 雄 市Kaohsiung City | B14: 770 | C14: 882305 | D14: 2206988 | E14: 11888 | F14: 7932 | G14: 3956 | H14: 770 | I14: 568 | J14: 202 | K14: 8229 | L14: 5455 | M14: 2774 | N14: 2889 | O14: 1909 | P14: 980 | Q14: 81585 | R14: 37567 | S14: 44018 | T14: 404 | U14: 262070636 | V14: 167348835 | W14: 94721801 | X14: 295 | Y14: 293 | Z14: 0 | AA14: 2 | AB14: 70052 | AC14: 43763 | AD14: 208 | AE14: 320 | AF14: 586 | AG14: 18631 | AH14: 6608 | AI14: 12023 | AJ14: 198 | AK14: 65 | AL14: 176 | AM14: 1240391 | AN14: 592627
A15: 宜蘭縣Yilan County | B15: 241 | C15: 170994 | D15: 454684 | E15: 4008 | F15: 3159 | G15: 849 | H15: 241 | I15: 198 | J15: 43 | K15: 2809 | L15: 2210 | M15: 599 | N15: 958 | O15: 751 | P15: 207 | Q15: 24385 | R15: 14279 | S15: 10106 | T15: 124 | U15: 103443884 | V15: 65992951 | W15: 37450933 | X15: 202 | Y15: 177 | Z15: 1 | AA15: 24 | AB15: 1934 | AC15: 8359 | AD15: 110 | AE15: 101 | AF15: 204 | AG15: 5756 | AH15: 2333 | AI15: 3423 | AJ15: 96 | AK15: 16 | AL15: 12 | AM15: 384693 | AN15: 122232
A16: 新竹縣Hsinchu County | B16: 186 | C16: 197043 | D16: 556161 | E16: 3417 | F16: 2446 | G16: 971 | H16: 186 | I16: 145 | J16: 41 | K16: 2383 | L16: 1710 | M16: 673 | N16: 848 | O16: 591 | P16: 257 | Q16: 39009 | R16: 20269 | S16: 18740 | T16: 158 | U16: 151677354 | V16: 85584632 | W16: 66092722 | X16: 82 | Y16: 80 | Z16: 1 | AA16: 1 | AB16: 2530 | AC16: 14618 | AD16: 148 | AE16: 47 | AF16: 210 | AG16: 5183 | AH16: 2190 | AI16: 2993 | AJ16: 53 | AK16: 15 | AL16: 47 | AM16: 122166 | AN16: 35622
A17: 苗栗縣Miaoli County | B17: 280 | C17: 190261 | D17: 541636 | E17: 4581 | F17: 3368 | G17: 1213 | H17: 280 | I17: 218 | J17: 62 | K17: 3220 | L17: 2375 | M17: 845 | N17: 1081 | O17: 775 | P17: 306 | Q17: 44139 | R17: 22843 | S17: 21296 | T17: 168 | U17: 103602488 | V17: 75129339 | W17: 28473149 | X17: 225 | Y17: 219 | Z17: 4 | AA17: 2 | AB17: 3982 | AC17: 8749 | AD17: 165 | AE17: 121 | AF17: 156 | AG17: 5233 | AH17: 2279 | AI17: 2954 | AJ17: 114 | AK17: 22 | AL17: 83 | AM17: 311139 | AN17: 136433
A18: 彰化縣Changhua County | B18: 566 | C18: 373166 | D18: 1215263 | E18: 9815 | F18: 8262 | G18: 1553 | H18: 566 | I18: 454 | J18: 112 | K18: 6935 | L18: 5844 | M18: 1091 | N18: 2314 | O18: 1964 | P18: 350 | Q18: 68366 | R18: 40183 | S18: 28183 | T18: 397 | U18: 197231233 | V18: 147323168 | W18: 49908065 | X18: 416 | Y18: 404 | Z18: 3 | AA18: 9 | AB18: 6548 | AC18: 27144 | AD18: 333 | AE18: 103 | AF18: 454 | AG18: 21437 | AH18: 9008 | AI18: 12429 | AJ18: 172 | AK18: 51 | AL18: 38 | AM18: 612052 | AN18: 259392
A19: 南投縣Nantou County | B19: 276 | C19: 173677 | D19: 483546 | E19: 3915 | F19: 3094 | G19: 821 | H19: 276 | I19: 228 | J19: 48 | K19: 2738 | L19: 2152 | M19: 586 | N19: 901 | O19: 714 | P19: 187 | Q19: 28090 | R19: 18036 | S19: 10054 | T19: 223 | U19: 72770213 | V19: 60511899 | W19: 12258314 | X19: 225 | Y19: 207 | Z19: 0 | AA19: 18 | AB19: 4400 | AC19: 7339 | AD19: 62 | AE19: 98 | AF19: 218 | AG19: 5772 | AH19: 2519 | AI19: 3253 | AJ19: 106 | AK19: 35 | AL19: 74 | AM19: 339100 | AN19: 57327
... A30: 連江縣Lienchiang County | B30: 20 | C30: 3245 | D30: 13089 | E30: 258 | F30: 208 | G30: 50 | H30: 20 | I30: 19 | J30: 1 | K30: 184 | L30: 148 | M30: 36 | N30: 54 | O30: 41 | P30: 13 | Q30: 1179 | R30: 575 | S30: 604 | T30: 0 | U30: 2136739 | V30: 2136739 | W30: 0 | X30: 0 | Y30: 0 | Z30: 0 | AA30: 0 | AB30: 0 | AC30: 2 | AD30: 0 | AE30: 0 | AF30: 7 | AG30: 40 | AH30: 0 | AI30: 40 | AJ30: 8 | AK30: 0 | AL30: 0 | AM30: 0 | AN30: 0
A31: 資料來源：直轄市及縣(市)政府。
A32: 說 明：本表資料不包括未成立社區發展協會者。
A33: Source: County and Government.
A35: 更新日期：2022/8/15
A37: 總計Total | B37: 6919 | C37: 8204086 | D37: 22083664 | E37: 110265 | F37: 81183 | G37: 29082 | H37: 6919 | I37: 5408 | J37: 1511 | K37: 75876 | L37: 55666 | M37: 20210 | N37: 27470 | O37: 20109 | P37: 7361 | Q37: 768373 | R37: 399252 | S37: 369121 | T37: 3952 | U37: 2426226698 | V37: 1740142653 | W37: 686084045 | X37: 3605 | Y37: 3463 | Z37: 38 | AA37: 104 | AB37: 139808 | AC37: 291394 | AD37: 3832 | AE37: 2033 | AF37: 4194 | AG37: 139965 | AH37: 53236 | AI37: 86729 | AJ37: 2582 | AK37: 618 | AL37: 887 | AM37: 10771767 | AN37: 3440864
A38: 新 北 市New Taipei City | B38: 459 | C38: 1446782 | D38: 3733711 | E38: 7991 | F38: 5222 | G38: 2769 | H38: 459 | I38: 341 | J38: 118 | K38: 5580 | L38: 3643 | M38: 1937 | N38: 1952 | O38: 1238 | P38: 714 | Q38: 66788 | R38: 29415 | S38: 37373 | T38: 354 | U38: 90613719 | V38: 64551582 | W38: 26062137 | X38: 114 | Y38: 114 | Z38: 0 | AA38: 0 | AB38: 3956 | AC38: 7112 | AD38: 226 | AE38: 245 | AF38: 183 | AG38: 5946 | AH38: 2029 | AI38: 3917 | AJ38: 108 | AK38: 28 | AL38: 48 | AM38: 757865 | AN38: 70824
A39: 臺 北 市Taipei City | B39: 375 | C39: 1056328 | D39: 2666908 | E39: 5639 | F39: 3155 | G39: 2484 | H39: 375 | I39: 244 | J39: 131 | K39: 3852 | L39: 2138 | M39: 1714 | N39: 1412 | O39: 773 | P39: 639 | Q39: 24468 | R39: 10498 | S39: 13970 | T39: 0 | U39: 25523893 | V39: 20018207 | W39: 5505686 | X39: 170 | Y39: 170 | Z39: 0 | AA39: 0 | AB39: 2645 | AC39: 5164 | AD39: 0 | AE39: 368 | AF39: 55 | AG39: 2092 | AH39: 842 | AI39: 1250 | AJ39: 92 | AK39: 20 | AL39: 65 | AM39: 96393 | AN39: 654
A40: 桃 園 市Taoyuan City | B40: 298 | C40: 659646 | D40: 1813208 | E40: 5008 | F40: 3149 | G40: 1859 | H40: 298 | I40: 232 | J40: 66 | K40: 3496 | L40: 2191 | M40: 1305 | N40: 1214 | O40: 726 | P40: 488 | Q40: 53872 | R40: 24249 | S40: 29623 | T40: 266 | U40: 296217704 | V40: 206346801 | W40: 89870903 | X40: 214 | Y40: 201 | Z40: 2 | AA40: 11 | AB40: 6696 | AC40: 29760 | AD40: 31 | AE40: 47 | AF40: 253 | AG40: 11575 | AH40: 3993 | AI40: 7582 | AJ40: 167 | AK40: 34 | AL40: 77 | AM40: 1217721 | AN40: 471268
A41: 臺 中 市Taichung City | B41: 613 | C41: 986646 | D41: 2815261 | E41: 9829 | F41: 7222 | G41: 2607 | H41: 613 | I41: 481 | J41: 132 | K41: 6877 | L41: 5058 | M41: 1819 | N41: 2339 | O41: 1683 | P41: 656 | Q41: 53982 | R41: 27607 | S41: 26375 | T41: 149 | U41: 145094436 | V41: 69921887 | W41: 75172549 | X41: 253 | Y41: 252 | Z41: 1 | AA41: 0 | AB41: 7312 | AC41: 47795 | AD41: 386 | AE41: 23 | AF41: 348 | AG41: 10994 | AH41: 3680 | AI41: 7314 | AJ41: 232 | AK41: 14 | AL41: 70 | AM41: 553548 | AN41: 205964
A42: 臺 南 市Tainan City | B42: 685 | C42: 670634 | D42: 1809114 | E42: 10588 | F42: 7926 | G42: 2662 | H42: 685 | I42: 543 | J42: 142 | K42: 7395 | L42: 5494 | M42: 1901 | N42: 2508 | O42: 1889 | P42: 619 | Q42: 89133 | R42: 43271 | S42: 45862 | T42: 310 | U42: 215699534 | V42: 162990370 | W42: 52709164 | X42: 153 | Y42: 150 | Z42: 0 | AA42: 3 | AB42: 7155 | AC42: 20162 | AD42: 456 | AE42: 124 | AF42: 470 | AG42: 17731 | AH42: 6334 | AI42: 11397 | AJ42: 258 | AK42: 76 | AL42: 61 | AM42: 1593324 | AN42: 520507
A43: 高 雄 市Kaohsiung City | B43: 770 | C43: 882305 | D43: 2206988 | E43: 11888 | F43: 7932 | G43: 3956 | H43: 770 | I43: 568 | J43: 202 | K43: 8229 | L43: 5455 | M43: 2774 | N43: 2889 | O43: 1909 | P43: 980 | Q43: 81585 | R43: 37567 | S43: 44018 | T43: 404 | U43: 262070636 | V43: 167348835 | W43: 94721801 | X43: 295 | Y43: 293 | Z43: 0 | AA43: 2 | AB43: 70052 | AC43: 43763 | AD43: 208 | AE43: 320 | AF43: 586 | AG43: 18631 | AH43: 6608 | AI43: 12023 | AJ43: 198 | AK43: 65 | AL43: 176 | AM43: 1240391 | AN43: 592627
A44: 宜蘭縣Yilan County | B44: 241 | C44: 170994 | D44: 454684 | E44: 3922 | F44: 3105 | G44: 817 | H44: 241 | I44: 198 | J44: 43 | K44: 2743 | L44: 2167 | M44: 576 | N44: 938 | O44: 740 | P44: 198 | Q44: 24018 | R44: 14036 | S44: 9982 | T44: 124 | U44: 103348933 | V44: 65810961 | W44: 37537972 | X44: 194 | Y44: 168 | Z44: 2 | AA44: 24 | AB44: 1934 | AC44: 8359 | AD44: 110 | AE44: 101 | AF44: 204 | AG44: 5756 | AH44: 2340 | AI44: 3416 | AJ44: 92 | AK44: 16 | AL44: 12 | AM44: 384693 | AN44: 122232
A45: 新竹縣Hsinchu County | B45: 186 | C45: 197043 | D45: 556161 | E45: 3417 | F45: 2446 | G45: 971 | H45: 186 | I45: 145 | J45: 41 | K45: 2383 | L45: 1710 | M45: 673 | N45: 848 | O45: 591 | P45: 257 | Q45: 39009 | R45: 20269 | S45: 18740 | T45: 158 | U45: 151677354 | V45: 85584632 | W45: 66092722 | X45: 82 | Y45: 80 | Z45: 1 | AA45: 1 | AB45: 2530 | AC45: 14618 | AD45: 148 | AE45: 47 | AF45: 210 | AG45: 5183 | AH45: 2190 | AI45: 2993 | AJ45: 53 | AK45: 15 | AL45: 47 | AM45: 122166 | AN45: 35622
A46: 苗栗縣Miaoli County | B46: 280 | C46: 190261 | D46: 541636 | E46: 4581 | F46: 3368 | G46: 1213 | H46: 280 | I46: 218 | J46: 62 | K46: 3220 | L46: 2375 | M46: 845 | N46: 1081 | O46: 775 | P46: 306 | Q46: 44139 | R46: 22843 | S46: 21296 | T46: 168 | U46: 103602488 | V46: 75129339 | W46: 28473149 | X46: 225 | Y46: 219 | Z46: 4 | AA46: 2 | AB46: 3982 | AC46: 8749 | AD46: 165 | AE46: 121 | AF46: 156 | AG46: 5233 | AH46: 2279 | AI46: 2954 | AJ46: 114 | AK46: 22 | AL46: 83 | AM46: 311139 | AN46: 136433
A47: 彰化縣Changhua County | B47: 566 | C47: 373166 | D47: 1215263 | E47: 9815 | F47: 8262 | G47: 1553 | H47: 566 | I47: 454 | J47: 112 | K47: 6935 | L47: 5844 | M47: 1091 | N47: 2314 | O47: 1964 | P47: 350 | Q47: 68366 | R47: 40183 | S47: 28183 | T47: 397 | U47: 197231233 | V47: 147323168 | W47: 49908065 | X47: 416 | Y47: 404 | Z47: 3 | AA47: 9 | AB47: 6502 | AC47: 26545 | AD47: 978 | AE47: 101 | AF47: 448 | AG47: 21568 | AH47: 9158 | AI47: 12410 | AJ47: 319 | AK47: 51 | AL47: 38 | AM47: 590901 | AN47: 279037
A48: 南投縣Nantou County | B48: 276 | C48: 173677 | D48: 483546 | E48: 3915 | F48: 3094 | G48: 821 | H48: 276 | I48: 228 | J48: 48 | K48: 2738 | L48: 2152 | M48: 586 | N48: 901 | O48: 714 | P48: 187 | Q48: 28090 | R48: 18036 | S48: 10054 | T48: 223 | U48: 72770213 | V48: 60511899 | W48: 12258314 | X48: 225 | Y48: 207 | Z48: 0 | AA48: 18 | AB48: 4400 | AC48: 7339 | AD48: 62 | AE48: 98 | AF48: 218 | AG48: 5772 | AH48: 2519 | AI48: 3253 | AJ48: 106 | AK48: 35 | AL48: 74 | AM48: 339100 | AN48: 57327
... A59: 連江縣Lienchiang County | B59: 20 | C59: 3245 | D59: 13089 | E59: 258 | F59: 208 | G59: 50 | H59: 20 | I59: 19 | J59: 1 | K59: 184 | L59: 148 | M59: 36 | N59: 54 | O59: 41 | P59: 13 | Q59: 1179 | R59: 575 | S59: 604 | T59: 0 | U59: 2136739 | V59: 2136739 | W59: 0 | X59: 0 | Y59: 0 | Z59: 0 | AA59: 0 | AB59: 0 | AC59: 2 | AD59: 0 | AE59: 0 | AF59: 7 | AG59: 40 | AH59: 0 | AI59: 40 | AJ59: 8 | AK59: 0 | AL59: 0 | AM59: 0 | AN59: 0
A61: 總計Total | B61: =IF(B37=B8,"","*") | C61: =IF(C37=C8,"","*") -> * | D61: =IF(D37=D8,"","*") -> * | E61: =IF(E37=E8,"","*") -> * | F61: =IF(F37=F8,"","*") -> * | G61: =IF(G37=G8,"","*") -> * | H61: =IF(H37=H8,"","*") | I61: =IF(I37=I8,"","*") -> * | ... AN61: =IF(AN37=AN8,"","*") -> *
A62: 新 北 市New Taipei City | B62: =IF(B38=B9,"","*") | C62: =IF(C38=C9,"","*") -> * | D62: =IF(D38=D9,"","*") -> * | E62: =IF(E38=E9,"","*") | F62: =IF(F38=F9,"","*") | G62: =IF(G38=G9,"","*") | H62: =IF(H38=H9,"","*") | I62: =IF(I38=I9,"","*") | ... AN62: =IF(AN38=AN9,"","*")
A63: 臺 北 市Taipei City | B63: =IF(B39=B10,"","*") | C63: =IF(C39=C10,"","*") -> * | D63: =IF(D39=D10,"","*") -> * | E63: =IF(E39=E10,"","*") | F63: =IF(F39=F10,"","*") | G63: =IF(G39=G10,"","*") | H63: =IF(H39=H10,"","*") | I63: =IF(I39=I10,"","*") | ... AN63: =IF(AN39=AN10,"","*")
A64: 桃 園 市Taoyuan City | B64: =IF(B40=B11,"","*") | C64: =IF(C40=C11,"","*") | D64: =IF(D40=D11,"","*") | E64: =IF(E40=E11,"","*") | F64: =IF(F40=F11,"","*") | G64: =IF(G40=G11,"","*") | H64: =IF(H40=H11,"","*") | I64: =IF(I40=I11,"","*") | ... AN64: =IF(AN40=AN11,"","*")
A65: 臺 中 市Taichung City | B65: =IF(B41=B12,"","*") | C65: =IF(C41=C12,"","*") | D65: =IF(D41=D12,"","*") | E65: =IF(E41=E12,"","*") | F65: =IF(F41=F12,"","*") | G65: =IF(G41=G12,"","*") | H65: =IF(H41=H12,"","*") | I65: =IF(I41=I12,"","*") | ... AN65: =IF(AN41=AN12,"","*")
A66: 臺 南 市Tainan City | B66: =IF(B42=B13,"","*") | C66: =IF(C42=C13,"","*") | D66: =IF(D42=D13,"","*") | E66: =IF(E42=E13,"","*") | F66: =IF(F42=F13,"","*") | G66: =IF(G42=G13,"","*") | H66: =IF(H42=H13,"","*") | I66: =IF(I42=I13,"","*") | ... AN66: =IF(AN42=AN13,"","*")
A67: 高 雄 市Kaohsiung City | B67: =IF(B43=B14,"","*") | C67: =IF(C43=C14,"","*") | D67: =IF(D43=D14,"","*") | E67: =IF(E43=E14,"","*") | F67: =IF(F43=F14,"","*") | G67: =IF(G43=G14,"","*") | H67: =IF(H43=H14,"","*") | I67: =IF(I43=I14,"","*") | ... AN67: =IF(AN43=AN14,"","*")
A68: 宜蘭縣Yilan County | B68: =IF(B44=B15,"","*") | C68: =IF(C44=C15,"","*") | D68: =IF(D44=D15,"","*") | E68: =IF(E44=E15,"","*") -> * | F68: =IF(F44=F15,"","*") -> * | G68: =IF(G44=G15,"","*") -> * | H68: =IF(H44=H15,"","*") | I68: =IF(I44=I15,"","*") | ... AN68: =IF(AN44=AN15,"","*")
A69: 新竹縣Hsinchu County | B69: =IF(B45=B16,"","*") | C69: =IF(C45=C16,"","*") | D69: =IF(D45=D16,"","*") | E69: =IF(E45=E16,"","*") | F69: =IF(F45=F16,"","*") | G69: =IF(G45=G16,"","*") | H69: =IF(H45=H16,"","*") | I69: =IF(I45=I16,"","*") | ... AN69: =IF(AN45=AN16,"","*")
A70: 苗栗縣Miaoli County | B70: =IF(B46=B17,"","*") | C70: =IF(C46=C17,"","*") | D70: =IF(D46=D17,"","*") | E70: =IF(E46=E17,"","*") | F70: =IF(F46=F17,"","*") | G70: =IF(G46=G17,"","*") | H70: =IF(H46=H17,"","*") | I70: =IF(I46=I17,"","*") | ... AN70: =IF(AN46=AN17,"","*")
A71: 彰化縣Changhua County | B71: =IF(B47=B18,"","*") | C71: =IF(C47=C18,"","*") | D71: =IF(D47=D18,"","*") | E71: =IF(E47=E18,"","*") | F71: =IF(F47=F18,"","*") | G71: =IF(G47=G18,"","*") | H71: =IF(H47=H18,"","*") | I71: =IF(I47=I18,"","*") | ... AN71: =IF(AN47=AN18,"","*") -> *
A72: 南投縣Nantou County | B72: =IF(B48=B19,"","*") | C72: =IF(C48=C19,"","*") | D72: =IF(D48=D19,"","*") | E72: =IF(E48=E19,"","*") | F72: =IF(F48=F19,"","*") | G72: =IF(G48=G19,"","*") | H72: =IF(H48=H19,"","*") | I72: =IF(I48=I19,"","*") | ... AN72: =IF(AN48=AN19,"","*")
... A83: 連江縣Lienchiang County | B83: =IF(B59=B30,"","*") | C83: =IF(C59=C30,"","*") | D83: =IF(D59=D30,"","*") | E83: =IF(E59=E30,"","*") | F83: =IF(F59=F30,"","*") | G83: =IF(G59=G30,"","*") | H83: =IF(H59=H30,"","*") | I83: =IF(I59=I30,"","*") | ... AN83: =IF(AN59=AN30,"","*")

Sheet 2018
A1: 推行社區發展工作成果 Achievements of Community Development
A3: 107年, 2018
A4: 區域別 Locality | B4: 社區發展 協會數(個) No.of Community DevelopmentAssociations (Units) | C4: 社區戶數 (戶) Households of Communities (Households) | D4: 社區人口數 (人) Communities Persons of (Persons) | E4: 理監事人數(人) Directors and Supervisors (Persons) | Q4: 社區發展協會會員數(人) Members Community Development Associations (Persons) | T4: 設置社區生產建設基金 (個) Community Economic Development Fund(Unit) | U4: 實際使用經費(元) Outlays | X4: 社區建設主要項目 Main Items of Community Construction
E5: 合計 Total | H5: 理事長 Director-general | K5: 理事(不含理事長)Directors | N5: 監事 Supervisors | U5: 合計 (元) Total (NT$) | V5: 政府補助款 (元) Government-Provided (NT$) | W5: 社區自籌款 (元) Self-Provided (NT$) | X5: 社區活動中心Community Activity Centers(Units) | AB5: 辦理社區幹部訓練 (人次)Topic Training (Times of Persons) | AC5: 辦理社區 觀摩(人次) Community Exposition (Times of Persons) | AD5: 社區長壽俱樂部(處) Elderly Community Club (Places) | AE5: 社區守望 相助隊(隊) Community Mutual-help Program (Teams) | AF5: 社區志願服務團隊 Community Volunteer Service Teams (Groups) | AJ5: 辦理社區照顧關懷據點 (處) Community Care Locations (Places) | AK5: 社區圖書室 (處) Community Libraries (Places) | AL5: 發行社區報導或通訊 (期) Community Publications (Times) | AM5: 服務成果 Person-times Served
E6: 計 Subtotal | F6: 男 Male | G6: 女 Female | H6: 計 Subtotal | I6: 男 Male | J6: 女 Female | K6: 計 Subtotal | L6: 男 Male | M6: 女 Female | N6: 計 Subtotal | O6: 男 Male | P6: 女 Female | Q6: 計 Subtotal | R6: 男 Male | S6: 女 Female | X6: 合計 (幢) Total | Y6: 原建 (未作修擴建)(幢) Originally Built (Without Repair Extension) | Z6: 新建(幢) Newly Built | AA6: 修擴建(幢) Repair Extension | AF6: 團隊(隊) Teams | AG6: 志工數(人)Persons | AM6: 福利服務或活動(人次) Welfare Service or Activities (Times of Persons) | AN6: 其他服務(人次) Other Services (Times of Persons)
AG7: 合計 Total | AH7: 男 Male | AI7: 女 Female
A8: 總計Total | B8: 6823 | C8: 8013859 | D8: 21731033 | E8: 108754 | F8: 80882 | G8: 27872 | H8: 6823 | I8: 5399 | J8: 1424 | K8: 75528 | L8: 56223 | M8: 19305 | N8: 26403 | O8: 19260 | P8: 7143 | Q8: 756152 | R8: 400020 | S8: 356132 | T8: 3970 | U8: 2295113820 | V8: 1663335016 | W8: 631778804 | X8: 3765 | Y8: 3646 | Z8: 31 | AA8: 88 | AB8: 98877 | AC8: 318150 | AD8: 3252 | AE8: 1706 | AF8: 5715 | AG8: 132356 | AH8: 51107 | AI8: 81249 | AJ8: 2165 | AK8: 675 | AL8: 829 | AM8: 9326046 | AN8: 3231842
A9: 新 北 市New Taipei City | B9: 453 | C9: 1422681 | D9: 3667480 | E9: 8002 | F9: 5292 | G9: 2710 | H9: 453 | I9: 340 | J9: 113 | K9: 5603 | L9: 3697 | M9: 1906 | N9: 1946 | O9: 1255 | P9: 691 | Q9: 68039 | R9: 30276 | S9: 37763 | T9: 354 | U9: 142182024 | V9: 93151677 | W9: 49030347 | X9: 125 | Y9: 122 | Z9: 2 | AA9: 1 | AB9: 3147 | AC9: 37451 | AD9: 187 | AE9: 47 | AF9: 174 | AG9: 5324 | AH9: 1876 | AI9: 3448 | AJ9: 107 | AK9: 27 | AL9: 47 | AM9: 576291 | AN9: 71836
A10: 臺 北 市Taipei City | B10: 360 | C10: 1056233 | D10: 2668572 | E10: 5849 | F10: 3070 | G10: 2779 | H10: 360 | I10: 239 | J10: 121 | K10: 3995 | L10: 2092 | M10: 1903 | N10: 1494 | O10: 739 | P10: 755 | Q10: 23451 | R10: 9862 | S10: 13589 | T10: 0 | U10: 26241929 | V10: 21486695 | W10: 4755234 | X10: 163 | Y10: 163 | Z10: 0 | AA10: 0 | AB10: 1457 | AC10: 5595 | AD10: 67 | AE10: 322 | AF10: 55 | AG10: 2010 | AH10: 972 | AI10: 1038 | AJ10: 87 | AK10: 24 | AL10: 66 | AM10: 77986 | AN10: 533
A11: 桃 園 市Taoyuan City | B11: 278 | C11: 624404 | D11: 1739537 | E11: 4769 | F11: 3101 | G11: 1668 | H11: 278 | I11: 224 | J11: 54 | K11: 3331 | L11: 2144 | M11: 1187 | N11: 1160 | O11: 733 | P11: 427 | Q11: 51110 | R11: 23710 | S11: 27400 | T11: 260 | U11: 255205080 | V11: 181394381 | W11: 73810699 | X11: 211 | Y11: 199 | Z11: 3 | AA11: 9 | AB11: 7363 | AC11: 29725 | AD11: 29 | AE11: 48 | AF11: 235 | AG11: 10403 | AH11: 3399 | AI11: 7004 | AJ11: 153 | AK11: 29 | AL11: 86 | AM11: 884561 | AN11: 433911
A12: 臺 中 市Taichung City | B12: 616 | C12: 959553 | D12: 2758828 | E12: 9989 | F12: 7541 | G12: 2448 | H12: 616 | I12: 489 | J12: 127 | K12: 7001 | L12: 5299 | M12: 1702 | N12: 2372 | O12: 1753 | P12: 619 | Q12: 55094 | R12: 29233 | S12: 25861 | T12: 148 | U12: 123509675 | V12: 59577897 | W12: 63931778 | X12: 288 | Y12: 287 | Z12: 0 | AA12: 1 | AB12: 8231 | AC12: 50930 | AD12: 394 | AE12: 44 | AF12: 355 | AG12: 10536 | AH12: 3753 | AI12: 6783 | AJ12: 206 | AK12: 12 | AL12: 47 | AM12: 531494 | AN12: 295854
A13: 臺 南 市Tainan City | B13: 674 | C13: 653928 | D13: 1742631 | E13: 10297 | F13: 7870 | G13: 2427 | H13: 674 | I13: 541 | J13: 133 | K13: 7135 | L13: 5436 | M13: 1699 | N13: 2488 | O13: 1893 | P13: 595 | Q13: 88503 | R13: 43412 | S13: 45091 | T13: 313 | U13: 181025189 | V13: 122628268 | W13: 58396921 | X13: 156 | Y13: 155 | Z13: 0 | AA13: 1 | AB13: 8468 | AC13: 23058 | AD13: 497 | AE13: 139 | AF13: 459 | AG13: 17091 | AH13: 5987 | AI13: 11104 | AJ13: 264 | AK13: 90 | AL13: 64 | AM13: 1598041 | AN13: 674704
A14: 高 雄 市Kaohsiung City | B14: 736 | C14: 854008 | D14: 2175505 | E14: 11471 | F14: 7770 | G14: 3701 | H14: 736 | I14: 546 | J14: 190 | K14: 7948 | L14: 5363 | M14: 2585 | N14: 2787 | O14: 1861 | P14: 926 | Q14: 79747 | R14: 37188 | S14: 42559 | T14: 404 | U14: 229763070 | V14: 142713000 | W14: 87050070 | X14: 304 | Y14: 303 | Z14: 0 | AA14: 1 | AB14: 27062 | AC14: 34386 | AD14: 191 | AE14: 223 | AF14: 554 | AG14: 18421 | AH14: 6598 | AI14: 11823 | AJ14: 174 | AK14: 72 | AL14: 174 | AM14: 1219802 | AN14: 604896
A15: 宜蘭縣Yilan County | B15: 240 | C15: 169905 | D15: 452293 | E15: 4005 | F15: 3277 | G15: 728 | H15: 240 | I15: 199 | J15: 41 | K15: 2807 | L15: 2290 | M15: 517 | N15: 958 | O15: 788 | P15: 170 | Q15: 23564 | R15: 14249 | S15: 9315 | T15: 106 | U15: 118320389 | V15: 84631966 | W15: 33688423 | X15: 210 | Y15: 176 | Z15: 2 | AA15: 32 | AB15: 1000 | AC15: 8580 | AD15: 96 | AE15: 81 | AF15: 200 | AG15: 5055 | AH15: 2129 | AI15: 2926 | AJ15: 77 | AK15: 15 | AL15: 14 | AM15: 320344 | AN15: 96777
A16: 新竹縣Hsinchu County | B16: 186 | C16: 188879 | D16: 543014 | E16: 3373 | F16: 2455 | G16: 918 | H16: 186 | I16: 147 | J16: 39 | K16: 2368 | L16: 1722 | M16: 646 | N16: 819 | O16: 586 | P16: 233 | Q16: 35354 | R16: 19112 | S16: 16242 | T16: 160 | U16: 120290917 | V16: 73263490 | W16: 47027427 | X16: 78 | Y16: 77 | Z16: 1 | AA16: 0 | AB16: 11534 | AC16: 16968 | AD16: 149 | AE16: 57 | AF16: 167 | AG16: 4700 | AH16: 2025 | AI16: 2675 | AJ16: 43 | AK16: 13 | AL16: 81 | AM16: 111765 | AN16: 48583
A17: 苗栗縣Miaoli County | B17: 280 | C17: 188727 | D17: 552252 | E17: 4737 | F17: 3519 | G17: 1218 | H17: 280 | I17: 222 | J17: 58 | K17: 3255 | L17: 2426 | M17: 829 | N17: 1202 | O17: 871 | P17: 331 | Q17: 44897 | R17: 24266 | S17: 20631 | T17: 215 | U17: 92244178 | V17: 63149882 | W17: 29094296 | X17: 226 | Y17: 221 | Z17: 2 | AA17: 3 | AB17: 2362 | AC17: 5583 | AD17: 170 | AE17: 122 | AF17: 127 | AG17: 5261 | AH17: 2585 | AI17: 2676 | AJ17: 112 | AK17: 28 | AL17: 24 | AM17: 213431 | AN17: 164285
A18: 彰化縣Changhua County | B18: 556 | C18: 363559 | D18: 1188473 | E18: 9571 | F18: 8108 | G18: 1463 | H18: 556 | I18: 457 | J18: 99 | K18: 6715 | L18: 5680 | M18: 1035 | N18: 2300 | O18: 1971 | P18: 329 | Q18: 66648 | R18: 39375 | S18: 27273 | T18: 390 | U18: 205004192 | V18: 157084993 | W18: 47919199 | X18: 411 | Y18: 406 | Z18: 2 | AA18: 3 | AB18: 5877 | AC18: 25748 | AD18: 326 | AE18: 106 | AF18: 414 | AG18: 20186 | AH18: 8388 | AI18: 11798 | AJ18: 118 | AK18: 70 | AL18: 27 | AM18: 628566 | AN18: 268522
A19: 南投縣Nantou County | B19: 284 | C19: 173900 | D19: 486941 | E19: 4005 | F19: 3199 | G19: 806 | H19: 284 | I19: 240 | J19: 44 | K19: 2787 | L19: 2231 | M19: 556 | N19: 934 | O19: 728 | P19: 206 | Q19: 28600 | R19: 17736 | S19: 10864 | T19: 225 | U19: 97471059 | V19: 86647989 | W19: 10823070 | X19: 221 | Y19: 212 | Z19: 1 | AA19: 8 | AB19: 5557 | AC19: 8164 | AD19: 62 | AE19: 104 | AF19: 194 | AG19: 5163 | AH19: 2324 | AI19: 2839 | AJ19: 91 | AK19: 32 | AL19: 44 | AM19: 261693 | AN19: 39912
... A30: 連江縣Lienchiang County | B30: 20 | C30: 3360 | D30: 13056 | E30: 224 | F30: 186 | G30: 38 | H30: 20 | I30: 19 | J30: 1 | K30: 154 | L30: 126 | M30: 28 | N30: 50 | O30: 41 | P30: 9 | Q30: 1179 | R30: 575 | S30: 604 | T30: 0 | U30: 1666977 | V30: 1666977 | W30: 0 | X30: 0 | Y30: 0 | Z30: 0 | AA30: 0 | AB30: 1 | AC30: 3 | AD30: 0 | AE30: 3 | AF30: 0 | AG30: 0 | AH30: 0 | AI30: 0 | AJ30: 7 | AK30: 0 | AL30: 0 | AM30: 0 | AN30: 0
A31: 資料來源：直轄市及縣(市)政府。
A32: 說 明：本表資料不包括未成立社區發展協會者。
A33: Source: County and Government.
A35: 更新日期：2019/3/11
A37: 總計Total | B37: 6823 | C37: 8013859 | D37: 21731033 | E37: 108754 | F37: 80882 | G37: 27872 | H37: 6823 | I37: 5399 | J37: 1424 | K37: 75528 | L37: 56223 | M37: 19305 | N37: 26403 | O37: 19260 | P37: 7143 | Q37: 756152 | R37: 400020 | S37: 356132 | T37: 3970 | U37: 2295113820 | V37: 1663335016 | W37: 631778804 | X37: 3765 | Y37: 3646 | Z37: 31 | AA37: 88 | AB37: 98877 | AC37: 318150 | AD37: 3252 | AE37: 1706 | AF37: 5715 | AG37: 132356 | AH37: 51107 | AI37: 81249 | AJ37: 2165 | AK37: 675 | AL37: 829 | AM37: 9326046 | AN37: 3231842
A38: 新 北 市New Taipei City | B38: 453 | C38: 1422681 | D38: 3667480 | E38: 8002 | F38: 5292 | G38: 2710 | H38: 453 | I38: 340 | J38: 113 | K38: 5603 | L38: 3697 | M38: 1906 | N38: 1946 | O38: 1255 | P38: 691 | Q38: 68039 | R38: 30276 | S38: 37763 | T38: 354 | U38: 142182024 | V38: 93151677 | W38: 49030347 | X38: 125 | Y38: 122 | Z38: 2 | AA38: 1 | AB38: 3147 | AC38: 37451 | AD38: 187 | AE38: 47 | AF38: 174 | AG38: 5324 | AH38: 1876 | AI38: 3448 | AJ38: 107 | AK38: 27 | AL38: 47 | AM38: 576291 | AN38: 71836
A39: 臺 北 市Taipei City | B39: 360 | C39: 1056233 | D39: 2668572 | E39: 5849 | F39: 3070 | G39: 2779 | H39: 360 | I39: 239 | J39: 121 | K39: 3995 | L39: 2092 | M39: 1903 | N39: 1494 | O39: 739 | P39: 755 | Q39: 23451 | R39: 9862 | S39: 13589 | T39: 0 | U39: 26241929 | V39: 21486695 | W39: 4755234 | X39: 163 | Y39: 163 | Z39: 0 | AA39: 0 | AB39: 1457 | AC39: 5595 | AD39: 67 | AE39: 322 | AF39: 55 | AG39: 2010 | AH39: 972 | AI39: 1038 | AJ39: 87 | AK39: 24 | AL39: 66 | AM39: 77986 | AN39: 533
A40: 桃 園 市Taoyuan City | B40: 278 | C40: 624404 | D40: 1739537 | E40: 4769 | F40: 3101 | G40: 1668 | H40: 278 | I40: 224 | J40: 54 | K40: 3331 | L40: 2144 | M40: 1187 | N40: 1160 | O40: 733 | P40: 427 | Q40: 51110 | R40: 23710 | S40: 27400 | T40: 260 | U40: 255205080 | V40: 181394381 | W40: 73810699 | X40: 211 | Y40: 199 | Z40: 3 | AA40: 9 | AB40: 7363 | AC40: 29725 | AD40: 29 | AE40: 48 | AF40: 235 | AG40: 10403 | AH40: 3399 | AI40: 7004 | AJ40: 153 | AK40: 29 | AL40: 86 | AM40: 884561 | AN40: 433911
A41: 臺 中 市Taichung City | B41: 616 | C41: 959553 | D41: 2758828 | E41: 9989 | F41: 7541 | G41: 2448 | H41: 616 | I41: 489 | J41: 127 | K41: 7001 | L41: 5299 | M41: 1702 | N41: 2372 | O41: 1753 | P41: 619 | Q41: 55094 | R41: 29233 | S41: 25861 | T41: 148 | U41: 123509675 | V41: 59577897 | W41: 63931778 | X41: 288 | Y41: 287 | Z41: 0 | AA41: 1 | AB41: 8231 | AC41: 50930 | AD41: 394 | AE41: 44 | AF41: 355 | AG41: 10536 | AH41: 3753 | AI41: 6783 | AJ41: 206 | AK41: 12 | AL41: 47 | AM41: 531494 | AN41: 295854
A42: 臺 南 市Tainan City | B42: 674 | C42: 653928 | D42: 1742631 | E42: 10297 | F42: 7870 | G42: 2427 | H42: 674 | I42: 541 | J42: 133 | K42: 7135 | L42: 5436 | M42: 1699 | N42: 2488 | O42: 1893 | P42: 595 | Q42: 88503 | R42: 43412 | S42: 45091 | T42: 313 | U42: 181025189 | V42: 122628268 | W42: 58396921 | X42: 156 | Y42: 155 | Z42: 0 | AA42: 1 | AB42: 8468 | AC42: 23058 | AD42: 497 | AE42: 139 | AF42: 459 | AG42: 17091 | AH42: 5987 | AI42: 11104 | AJ42: 264 | AK42: 90 | AL42: 64 | AM42: 1598041 | AN42: 674704
A43: 高 雄 市Kaohsiung City | B43: 736 | C43: 854008 | D43: 2175505 | E43: 11471 | F43: 7770 | G43: 3701 | H43: 736 | I43: 546 | J43: 190 | K43: 7948 | L43: 5363 | M43: 2585 | N43: 2787 | O43: 1861 | P43: 926 | Q43: 79747 | R43: 37188 | S43: 42559 | T43: 404 | U43: 229763070 | V43: 142713000 | W43: 87050070 | X43: 304 | Y43: 303 | Z43: 0 | AA43: 1 | AB43: 27062 | AC43: 34386 | AD43: 191 | AE43: 223 | AF43: 554 | AG43: 18421 | AH43: 6598 | AI43: 11823 | AJ43: 174 | AK43: 72 | AL43: 174 | AM43: 1219802 | AN43: 604896
A44: 宜蘭縣Yilan County | B44: 240 | C44: 169905 | D44: 452293 | E44: 4005 | F44: 3277 | G44: 728 | H44: 240 | I44: 199 | J44: 41 | K44: 2807 | L44: 2290 | M44: 517 | N44: 958 | O44: 788 | P44: 170 | Q44: 23564 | R44: 14249 | S44: 9315 | T44: 106 | U44: 118320389 | V44: 84631966 | W44: 33688423 | X44: 210 | Y44: 176 | Z44: 2 | AA44: 32 | AB44: 1000 | AC44: 8580 | AD44: 96 | AE44: 81 | AF44: 200 | AG44: 5055 | AH44: 2129 | AI44: 2926 | AJ44: 77 | AK44: 15 | AL44: 14 | AM44: 320344 | AN44: 96777
A45: 新竹縣Hsinchu County | B45: 186 | C45: 188879 | D45: 543014 | E45: 3373 | F45: 2455 | G45: 918 | H45: 186 | I45: 147 | J45: 39 | K45: 2368 | L45: 1722 | M45: 646 | N45: 819 | O45: 586 | P45: 233 | Q45: 35354 | R45: 19112 | S45: 16242 | T45: 160 | U45: 120290917 | V45: 73263490 | W45: 47027427 | X45: 78 | Y45: 77 | Z45: 1 | AA45: 0 | AB45: 11534 | AC45: 16968 | AD45: 149 | AE45: 57 | AF45: 167 | AG45: 4700 | AH45: 2025 | AI45: 2675 | AJ45: 43 | AK45: 13 | AL45: 81 | AM45: 111765 | AN45: 48583
A46: 苗栗縣Miaoli County | B46: 280 | C46: 188727 | D46: 552252 | E46: 4737 | F46: 3519 | G46: 1218 | H46: 280 | I46: 222 | J46: 58 | K46: 3255 | L46: 2426 | M46: 829 | N46: 1202 | O46: 871 | P46: 331 | Q46: 44897 | R46: 24266 | S46: 20631 | T46: 215 | U46: 92244178 | V46: 63149882 | W46: 29094296 | X46: 226 | Y46: 221 | Z46: 2 | AA46: 3 | AB46: 2362 | AC46: 5583 | AD46: 170 | AE46: 122 | AF46: 127 | AG46: 5261 | AH46: 2585 | AI46: 2676 | AJ46: 112 | AK46: 28 | AL46: 24 | AM46: 213431 | AN46: 164285
A47: 彰化縣Changhua County | B47: 556 | C47: 363559 | D47: 1188473 | E47: 9571 | F47: 8108 | G47: 1463 | H47: 556 | I47: 457 | J47: 99 | K47: 6715 | L47: 5680 | M47: 1035 | N47: 2300 | O47: 1971 | P47: 329 | Q47: 66648 | R47: 39375 | S47: 27273 | T47: 390 | U47: 205004192 | V47: 157084993 | W47: 47919199 | X47: 411 | Y47: 406 | Z47: 2 | AA47: 3 | AB47: 5877 | AC47: 25748 | AD47: 326 | AE47: 106 | AF47: 414 | AG47: 20186 | AH47: 8388 | AI47: 11798 | AJ47: 118 | AK47: 70 | AL47: 27 | AM47: 628566 | AN47: 268522
A48: 南投縣Nantou County | B48: 284 | C48: 173900 | D48: 486941 | E48: 4005 | F48: 3199 | G48: 806 | H48: 284 | I48: 240 | J48: 44 | K48: 2787 | L48: 2231 | M48: 556 | N48: 934 | O48: 728 | P48: 206 | Q48: 28600 | R48: 17736 | S48: 10864 | T48: 225 | U48: 97471059 | V48: 86647989 | W48: 10823070 | X48: 221 | Y48: 212 | Z48: 1 | AA48: 8 | AB48: 5557 | AC48: 8164 | AD48: 62 | AE48: 104 | AF48: 194 | AG48: 5163 | AH48: 2324 | AI48: 2839 | AJ48: 91 | AK48: 32 | AL48: 44 | AM48: 261693 | AN48: 39912
... A59: 連江縣Lienchiang County | B59: 20 | C59: 3360 | D59: 13056 | E59: 224 | F59: 186 | G59: 38 | H59: 20 | I59: 19 | J59: 1 | K59: 154 | L59: 126 | M59: 28 | N59: 50 | O59: 41 | P59: 9 | Q59: 1179 | R59: 575 | S59: 604 | T59: 0 | U59: 1666977 | V59: 1666977 | W59: 0 | X59: 0 | Y59: 0 | Z59: 0 | AA59: 0 | AB59: 1 | AC59: 3 | AD59: 0 | AE59: 3 | AF59: 0 | AG59: 0 | AH59: 0 | AI59: 0 | AJ59: 7 | AK59: 0 | AL59: 0 | AM59: 0 | AN59: 0
A61: 總計Total | B61: =IF(B37=B8,"","*") | C61: =IF(C37=C8,"","*") | D61: =IF(D37=D8,"","*") | E61: =IF(E37=E8,"","*") | F61: =IF(F37=F8,"","*") | G61: =IF(G37=G8,"","*") | H61: =IF(H37=H8,"","*") | I61: =IF(I37=I8,"","*") | ... AN61: =IF(AN37=AN8,"","*")
A62: 新 北 市New Taipei City | B62: =IF(B38=B9,"","*") | C62: =IF(C38=C9,"","*") | D62: =IF(D38=D9,"","*") | E62: =IF(E38=E9,"","*") | F62: =IF(F38=F9,"","*") | G62: =IF(G38=G9,"","*") | H62: =IF(H38=H9,"","*") | I62: =IF(I38=I9,"","*") | ... AN62: =IF(AN38=AN9,"","*")
A63: 臺 北 市Taipei City | B63: =IF(B39=B10,"","*") | C63: =IF(C39=C10,"","*") | D63: =IF(D39=D10,"","*") | E63: =IF(E39=E10,"","*") | F63: =IF(F39=F10,"","*") | G63: =IF(G39=G10,"","*") | H63: =IF(H39=H10,"","*") | I63: =IF(I39=I10,"","*") | ... AN63: =IF(AN39=AN10,"","*")
A64: 桃 園 市Taoyuan City | B64: =IF(B40=B11,"","*") | C64: =IF(C40=C11,"","*") | D64: =IF(D40=D11,"","*") | E64: =IF(E40=E11,"","*") | F64: =IF(F40=F11,"","*") | G64: =IF(G40=G11,"","*") | H64: =IF(H40=H11,"","*") | I64: =IF(I40=I11,"","*") | ... AN64: =IF(AN40=AN11,"","*")
A65: 臺 中 市Taichung City | B65: =IF(B41=B12,"","*") | C65: =IF(C41=C12,"","*") | D65: =IF(D41=D12,"","*") | E65: =IF(E41=E12,"","*") | F65: =IF(F41=F12,"","*") | G65: =IF(G41=G12,"","*") | H65: =IF(H41=H12,"","*") | I65: =IF(I41=I12,"","*") | ... AN65: =IF(AN41=AN12,"","*")
A66: 臺 南 市Tainan City | B66: =IF(B42=B13,"","*") | C66: =IF(C42=C13,"","*") | D66: =IF(D42=D13,"","*") | E66: =IF(E42=E13,"","*") | F66: =IF(F42=F13,"","*") | G66: =IF(G42=G13,"","*") | H66: =IF(H42=H13,"","*") | I66: =IF(I42=I13,"","*") | ... AN66: =IF(AN42=AN13,"","*")
A67: 高 雄 市Kaohsiung City | B67: =IF(B43=B14,"","*") | C67: =IF(C43=C14,"","*") | D67: =IF(D43=D14,"","*") | E67: =IF(E43=E14,"","*") | F67: =IF(F43=F14,"","*") | G67: =IF(G43=G14,"","*") | H67: =IF(H43=H14,"","*") | I67: =IF(I43=I14,"","*") | ... AN67: =IF(AN43=AN14,"","*")
A68: 宜蘭縣Yilan County | B68: =IF(B44=B15,"","*") | C68: =IF(C44=C15,"","*") | D68: =IF(D44=D15,"","*") | E68: =IF(E44=E15,"","*") | F68: =IF(F44=F15,"","*") | G68: =IF(G44=G15,"","*") | H68: =IF(H44=H15,"","*") | I68: =IF(I44=I15,"","*") | ... AN68: =IF(AN44=AN15,"","*")
A69: 新竹縣Hsinchu County | B69: =IF(B45=B16,"","*") | C69: =IF(C45=C16,"","*") | D69: =IF(D45=D16,"","*") | E69: =IF(E45=E16,"","*") | F69: =IF(F45=F16,"","*") | G69: =IF(G45=G16,"","*") | H69: =IF(H45=H16,"","*") | I69: =IF(I45=I16,"","*") | ... AN69: =IF(AN45=AN16,"","*")
A70: 苗栗縣Miaoli County | B70: =IF(B46=B17,"","*") | C70: =IF(C46=C17,"","*") | D70: =IF(D46=D17,"","*") | E70: =IF(E46=E17,"","*") | F70: =IF(F46=F17,"","*") | G70: =IF(G46=G17,"","*") | H70: =IF(H46=H17,"","*") | I70: =IF(I46=I17,"","*") | ... AN70: =IF(AN46=AN17,"","*")
A71: 彰化縣Changhua County | B71: =IF(B47=B18,"","*") | C71: =IF(C47=C18,"","*") | D71: =IF(D47=D18,"","*") | E71: =IF(E47=E18,"","*") | F71: =IF(F47=F18,"","*") | G71: =IF(G47=G18,"","*") | H71: =IF(H47=H18,"","*") | I71: =IF(I47=I18,"","*") | ... AN71: =IF(AN47=AN18,"","*")
A72: 南投縣Nantou County | B72: =IF(B48=B19,"","*") | C72: =IF(C48=C19,"","*") | D72: =IF(D48=D19,"","*") | E72: =IF(E48=E19,"","*") | F72: =IF(F48=F19,"","*") | G72: =IF(G48=G19,"","*") | H72: =IF(H48=H19,"","*") | I72: =IF(I48=I19,"","*") | ... AN72: =IF(AN48=AN19,"","*")
... A83: 連江縣Lienchiang County | B83: =IF(B59=B30,"","*") | C83: =IF(C59=C30,"","*") | D83: =IF(D59=D30,"","*") | E83: =IF(E59=E30,"","*") | F83: =IF(F59=F30,"","*") | G83: =IF(G59=G30,"","*") | H83: =IF(H59=H30,"","*") | I83: =IF(I59=I30,"","*") | ... AN83: =IF(AN59=AN30,"","*")

Sheet 2017
A1: 推行社區發展工作成果 Achievements of Community Development
A3: 106年, 2017
A4: 區域別 Locality | B4: 社區發展 協會數(個) No.of Community DevelopmentAssociations (Units) | C4: 社區戶數 (戶) Households of Communities (Households) | D4: 社區人口數 (人) Communities Persons of (Persons) | E4: 理監事人數(人) Directors and Supervisors (Persons) | Q4: 社區發展協會會員數(人) Members Community Development Associations (Persons) | T4: 設置社區生產建設基金 (個) Community Economic Development Fund(Unit) | U4: 實際使用經費(元) Outlays | X4: 社區建設主要項目 Main Items of Community Construction
E5: 合計 Total | H5: 理事長 Director-general | K5: 理事(不含理事長)Directors | N5: 監事 Supervisors | U5: 合計 (元) Total (NT$) | V5: 政府補助款 (元) Government-Provided (NT$) | W5: 社區自籌款 (元) Self-Provided (NT$) | X5: 社區活動中心Community Activity Centers(Units) | AB5: 辦理社區幹部訓練 (人次)Topic Training (Times of Persons) | AC5: 辦理社區 觀摩(人次) Community Exposition (Times of Persons) | AD5: 社區長壽俱樂部(處) Elderly Community Club (Places) | AE5: 社區守望 相助隊(隊) Community Mutual-help Program (Teams) | AF5: 社區志願服務團隊 Community Volunteer Service Teams (Groups) | AJ5: 辦理社區照顧關懷據點 (處) Community Care Locations (Places) | AK5: 社區圖書室 (處) Community Libraries (Places) | AL5: 發行社區報導或通訊 (期) Community Publications (Times) | AM5: 服務成果 Person-times Served
E6: 計 Subtotal | F6: 男 Male | G6: 女 Female | H6: 計 Subtotal | I6: 男 Male | J6: 女 Female | K6: 計 Subtotal | L6: 男 Male | M6: 女 Female | N6: 計 Subtotal | O6: 男 Male | P6: 女 Female | Q6: 計 Subtotal | R6: 男 Male | S6: 女 Female | X6: 合計 (幢) Total | Y6: 原建 (未作修擴建)(幢) Originally Built (Without Repair Extension) | Z6: 新建(幢) Newly Built | AA6: 修擴建(幢) Repair Extension | AF6: 團隊(隊) Teams | AG6: 志工數(人)Persons | AM6: 福利服務或活動(人次) Welfare Service or Activities (Times of Persons) | AN6: 其他服務(人次) Other Services (Times of Persons)
AG7: 合計 Total | AH7: 男 Male | AI7: 女 Female
A8: 總計Total | B8: 6839 | C8: 7855123 | D8: 21574353 | E8: 108557 | F8: 81998 | G8: 26559 | H8: 6839 | I8: 5461 | J8: 1378 | K8: 75422 | L8: 57063 | M8: 18359 | N8: 26296 | O8: 19474 | P8: 6822 | Q8: 764067 | R8: 405335 | S8: 358732 | T8: 3971 | U8: 2001907944 | V8: 1392694948 | W8: 609212996 | X8: 3833 | Y8: 3649 | Z8: 33 | AA8: 151 | AB8: 101597 | AC8: 305990 | AD8: 3272 | AE8: 1780 | AF8: 3693 | AG8: 131273 | AH8: 52747 | AI8: 78526 | AJ8: 1896 | AK8: 642 | AL8: 1115 | AM8: 7705382 | AN8: 2749518
A9: 新 北 市New Taipei City | B9: 450 | C9: 1305925 | D9: 3429750 | E9: 7983 | F9: 5302 | G9: 2681 | H9: 450 | I9: 332 | J9: 118 | K9: 5581 | L9: 3699 | M9: 1882 | N9: 1952 | O9: 1271 | P9: 681 | Q9: 68400 | R9: 31081 | S9: 37319 | T9: 354 | U9: 138945610 | V9: 87380572 | W9: 51565038 | X9: 123 | Y9: 123 | Z9: 0 | AA9: 0 | AB9: 7331 | AC9: 35082 | AD9: 163 | AE9: 48 | AF9: 166 | AG9: 5172 | AH9: 1861 | AI9: 3311 | AJ9: 103 | AK9: 28 | AL9: 40 | AM9: 555554 | AN9: 128097
A10: 臺 北 市Taipei City | B10: 362 | C10: 1050755 | D10: 2683257 | E10: 5631 | F10: 3134 | G10: 2497 | H10: 362 | I10: 247 | J10: 115 | K10: 3893 | L10: 2137 | M10: 1756 | N10: 1376 | O10: 750 | P10: 626 | Q10: 25042 | R10: 10982 | S10: 14060 | T10: 0 | U10: 27503082 | V10: 21783254 | W10: 5719828 | X10: 164 | Y10: 164 | Z10: 0 | AA10: 0 | AB10: 2697 | AC10: 5171 | AD10: 75 | AE10: 351 | AF10: 35 | AG10: 1431 | AH10: 563 | AI10: 868 | AJ10: 53 | AK10: 25 | AL10: 89 | AM10: 86673 | AN10: 0
A11: 桃 園 市Taoyuan City | B11: 264 | C11: 609262 | D11: 1707678 | E11: 4545 | F11: 3010 | G11: 1535 | H11: 264 | I11: 215 | J11: 49 | K11: 3178 | L11: 2091 | M11: 1087 | N11: 1103 | O11: 704 | P11: 399 | Q11: 49249 | R11: 22900 | S11: 26349 | T11: 248 | U11: 240448738 | V11: 156187120 | W11: 84261618 | X11: 214 | Y11: 204 | Z11: 2 | AA11: 8 | AB11: 6886 | AC11: 27770 | AD11: 33 | AE11: 47 | AF11: 212 | AG11: 9418 | AH11: 3329 | AI11: 6089 | AJ11: 132 | AK11: 30 | AL11: 92 | AM11: 706866 | AN11: 257263
A12: 臺 中 市Taichung City | B12: 611 | C12: 925726 | D12: 2696508 | E12: 9893 | F12: 7628 | G12: 2265 | H12: 611 | I12: 489 | J12: 122 | K12: 6920 | L12: 5345 | M12: 1575 | N12: 2362 | O12: 1794 | P12: 568 | Q12: 53855 | R12: 28886 | S12: 24969 | T12: 141 | U12: 87412782 | V12: 38129026 | W12: 49283756 | X12: 283 | Y12: 282 | Z12: 0 | AA12: 1 | AB12: 9676 | AC12: 33056 | AD12: 396 | AE12: 29 | AF12: 304 | AG12: 10330 | AH12: 3305 | AI12: 7025 | AJ12: 173 | AK12: 14 | AL12: 51 | AM12: 482277 | AN12: 297733
A13: 臺 南 市Tainan City | B13: 677 | C13: 642927 | D13: 1781146 | E13: 10413 | F13: 7924 | G13: 2489 | H13: 677 | I13: 547 | J13: 130 | K13: 7299 | L13: 5532 | M13: 1767 | N13: 2437 | O13: 1845 | P13: 592 | Q13: 90902 | R13: 44088 | S13: 46814 | T13: 314 | U13: 175399571 | V13: 113794286 | W13: 61605285 | X13: 156 | Y13: 155 | Z13: 0 | AA13: 1 | AB13: 7905 | AC13: 27255 | AD13: 494 | AE13: 141 | AF13: 489 | AG13: 16800 | AH13: 5987 | AI13: 10813 | AJ13: 252 | AK13: 62 | AL13: 94 | AM13: 1293337 | AN13: 764441
A14: 高 雄 市Kaohsiung City | B14: 775 | C14: 888250 | D14: 2277042 | E14: 12102 | F14: 8233 | G14: 3869 | H14: 775 | I14: 578 | J14: 197 | K14: 8389 | L14: 5657 | M14: 2732 | N14: 2938 | O14: 1998 | P14: 940 | Q14: 83293 | R14: 39120 | S14: 44173 | T14: 408 | U14: 197634063 | V14: 123427642 | W14: 74206421 | X14: 305 | Y14: 303 | Z14: 1 | AA14: 1 | AB14: 31634 | AC14: 32119 | AD14: 190 | AE14: 251 | AF14: 516 | AG14: 17205 | AH14: 6071 | AI14: 11134 | AJ14: 153 | AK14: 76 | AL14: 186 | AM14: 1076042 | AN14: 377147
A15: 宜蘭縣Yilan County | B15: 240 | C15: 168666 | D15: 457564 | E15: 3869 | F15: 3220 | G15: 649 | H15: 240 | I15: 204 | J15: 36 | K15: 2704 | L15: 2240 | M15: 464 | N15: 925 | O15: 776 | P15: 149 | Q15: 23253 | R15: 13947 | S15: 9306 | T15: 130 | U15: 88812381 | V15: 60538902 | W15: 28273479 | X15: 195 | Y15: 173 | Z15: 5 | AA15: 17 | AB15: 1367 | AC15: 18883 | AD15: 111 | AE15: 95 | AF15: 161 | AG15: 7329 | AH15: 4914 | AI15: 2415 | AJ15: 71 | AK15: 19 | AL15: 17 | AM15: 326127 | AN15: 103016
A16: 新竹縣Hsinchu County | B16: 186 | C16: 193168 | D16: 558507 | E16: 3410 | F16: 2588 | G16: 822 | H16: 186 | I16: 154 | J16: 32 | K16: 2371 | L16: 1824 | M16: 547 | N16: 853 | O16: 610 | P16: 243 | Q16: 35664 | R16: 19379 | S16: 16285 | T16: 162 | U16: 123517940 | V16: 66464961 | W16: 57052979 | X16: 77 | Y16: 73 | Z16: 1 | AA16: 3 | AB16: 2716 | AC16: 15021 | AD16: 147 | AE16: 56 | AF16: 134 | AG16: 4726 | AH16: 2117 | AI16: 2609 | AJ16: 41 | AK16: 17 | AL16: 49 | AM16: 143586 | AN16: 21229
A17: 苗栗縣Miaoli County | B17: 279 | C17: 187083 | D17: 560058 | E17: 4746 | F17: 3596 | G17: 1150 | H17: 279 | I17: 219 | J17: 60 | K17: 3257 | L17: 2476 | M17: 781 | N17: 1210 | O17: 901 | P17: 309 | Q17: 45865 | R17: 24570 | S17: 21295 | T17: 215 | U17: 78760645 | V17: 50324030 | W17: 28436615 | X17: 227 | Y17: 220 | Z17: 5 | AA17: 2 | AB17: 4104 | AC17: 8683 | AD17: 161 | AE17: 128 | AF17: 114 | AG17: 4406 | AH17: 2030 | AI17: 2376 | AJ17: 84 | AK17: 27 | AL17: 36 | AM17: 174682 | AN17: 138237
A18: 彰化縣Changhua County | B18: 555 | C18: 360865 | D18: 1177596 | E18: 9598 | F18: 8067 | G18: 1531 | H18: 555 | I18: 462 | J18: 93 | K18: 6779 | L18: 5676 | M18: 1103 | N18: 2264 | O18: 1929 | P18: 335 | Q18: 67781 | R18: 39119 | S18: 28662 | T18: 391 | U18: 147283052 | V18: 110772067 | W18: 36510985 | X18: 412 | Y18: 401 | Z18: 6 | AA18: 5 | AB18: 5362 | AC18: 24766 | AD18: 325 | AE18: 105 | AF18: 394 | AG18: 20054 | AH18: 8496 | AI18: 11558 | AJ18: 101 | AK18: 56 | AL18: 66 | AM18: 515981 | AN18: 185840
A19: 南投縣Nantou County | B19: 284 | C19: 173661 | D19: 490325 | E19: 4021 | F19: 3239 | G19: 782 | H19: 284 | I19: 240 | J19: 44 | K19: 2770 | L19: 2236 | M19: 534 | N19: 967 | O19: 763 | P19: 204 | Q19: 28246 | R19: 17704 | S19: 10542 | T19: 225 | U19: 58471433 | V19: 50104433 | W19: 8367000 | X19: 219 | Y19: 210 | Z19: 2 | AA19: 7 | AB19: 5885 | AC19: 12924 | AD19: 64 | AE19: 110 | AF19: 192 | AG19: 4848 | AH19: 2228 | AI19: 2620 | AJ19: 94 | AK19: 32 | AL19: 42 | AM19: 197500 | AN19: 32155
... A30: 連江縣Lienchiang County | B30: 20 | C30: 2423 | D30: 12997 | E30: 208 | F30: 172 | G30: 36 | H30: 20 | I30: 20 | J30: 0 | K30: 142 | L30: 115 | M30: 27 | N30: 46 | O30: 37 | P30: 9 | Q30: 1153 | R30: 545 | S30: 608 | T30: 0 | U30: 1146424 | V30: 1146424 | W30: 0 | X30: 0 | Y30: 0 | Z30: 0 | AA30: 0 | AB30: 1 | AC30: 2 | AD30: 0 | AE30: 4 | AF30: 0 | AG30: 0 | AH30: 0 | AI30: 0 | AJ30: 7 | AK30: 0 | AL30: 0 | AM30: 0 | AN30: 0
A31: 資料來源：直轄市及縣(市)政府。
A32: 說 明：本表資料不包括未成立社區發展協會者。
A33: Source: County and Government.
A35: 更新日期：2019/3/11
A37: 總計Total | B37: 6839 | C37: 7901928 | D37: 21574353 | E37: 108520 | F37: 81939 | G37: 26581 | H37: 6839 | I37: 5461 | J37: 1378 | K37: 75383 | L37: 57003 | M37: 18380 | N37: 26298 | O37: 19475 | P37: 6823 | Q37: 767973 | R37: 407420 | S37: 360553 | T37: 3971 | U37: 2002484170 | V37: 1392453530 | W37: 610030640 | X37: 3845 | Y37: 3659 | Z37: 35 | AA37: 151 | AB37: 101597 | AC37: 305990 | AD37: 3272 | AE37: 1780 | AF37: 3693 | AG37: 131273 | AH37: 52747 | AI37: 78526 | AJ37: 1896 | AK37: 642 | AL37: 1115 | AM37: 7749500 | AN37: 2815433
A38: 新 北 市New Taipei City | B38: 450 | C38: 1352730 | D38: 3429750 | E38: 7983 | F38: 5302 | G38: 2681 | H38: 450 | I38: 332 | J38: 118 | K38: 5581 | L38: 3699 | M38: 1882 | N38: 1952 | O38: 1271 | P38: 681 | Q38: 68400 | R38: 31081 | S38: 37319 | T38: 354 | U38: 138945610 | V38: 87380572 | W38: 51565038 | X38: 123 | Y38: 123 | Z38: 0 | AA38: 0 | AB38: 7331 | AC38: 35082 | AD38: 163 | AE38: 48 | AF38: 166 | AG38: 5172 | AH38: 1861 | AI38: 3311 | AJ38: 103 | AK38: 28 | AL38: 40 | AM38: 555554 | AN38: 128097
A39: 臺 北 市Taipei City | B39: 362 | C39: 1050755 | D39: 2683257 | E39: 5631 | F39: 3134 | G39: 2497 | H39: 362 | I39: 247 | J39: 115 | K39: 3893 | L39: 2137 | M39: 1756 | N39: 1376 | O39: 750 | P39: 626 | Q39: 25042 | R39: 10982 | S39: 14060 | T39: 0 | U39: 27503082 | V39: 21783254 | W39: 5719828 | X39: 164 | Y39: 164 | Z39: 0 | AA39: 0 | AB39: 2697 | AC39: 5171 | AD39: 75 | AE39: 351 | AF39: 35 | AG39: 1431 | AH39: 563 | AI39: 868 | AJ39: 53 | AK39: 25 | AL39: 89 | AM39: 86673 | AN39: 0
A40: 桃 園 市Taoyuan City | B40: 264 | C40: 609262 | D40: 1707678 | E40: 4545 | F40: 3010 | G40: 1535 | H40: 264 | I40: 215 | J40: 49 | K40: 3178 | L40: 2091 | M40: 1087 | N40: 1103 | O40: 704 | P40: 399 | Q40: 49249 | R40: 22900 | S40: 26349 | T40: 248 | U40: 240448738 | V40: 156187120 | W40: 84261618 | X40: 214 | Y40: 204 | Z40: 2 | AA40: 8 | AB40: 6886 | AC40: 27770 | AD40: 33 | AE40: 47 | AF40: 212 | AG40: 9418 | AH40: 3329 | AI40: 6089 | AJ40: 132 | AK40: 30 | AL40: 92 | AM40: 706866 | AN40: 257263
A41: 臺 中 市Taichung City | B41: 611 | C41: 925726 | D41: 2696508 | E41: 9856 | F41: 7569 | G41: 2287 | H41: 611 | I41: 489 | J41: 122 | K41: 6881 | L41: 5285 | M41: 1596 | N41: 2364 | O41: 1795 | P41: 569 | Q41: 53859 | R41: 28907 | S41: 24952 | T41: 141 | U41: 87989008 | V41: 37887608 | W41: 50101400 | X41: 283 | Y41: 282 | Z41: 0 | AA41: 1 | AB41: 9676 | AC41: 33056 | AD41: 396 | AE41: 29 | AF41: 304 | AG41: 10330 | AH41: 3305 | AI41: 7025 | AJ41: 173 | AK41: 14 | AL41: 51 | AM41: 526395 | AN41: 363648
A42: 臺 南 市Tainan City | B42: 677 | C42: 642927 | D42: 1781146 | E42: 10413 | F42: 7924 | G42: 2489 | H42: 677 | I42: 547 | J42: 130 | K42: 7299 | L42: 5532 | M42: 1767 | N42: 2437 | O42: 1845 | P42: 592 | Q42: 90902 | R42: 44088 | S42: 46814 | T42: 314 | U42: 175399571 | V42: 113794286 | W42: 61605285 | X42: 156 | Y42: 155 | Z42: 0 | AA42: 1 | AB42: 7905 | AC42: 27255 | AD42: 494 | AE42: 141 | AF42: 489 | AG42: 16800 | AH42: 5987 | AI42: 10813 | AJ42: 252 | AK42: 62 | AL42: 94 | AM42: 1293337 | AN42: 764441
A43: 高 雄 市Kaohsiung City | B43: 775 | C43: 888250 | D43: 2277042 | E43: 12102 | F43: 8233 | G43: 3869 | H43: 775 | I43: 578 | J43: 197 | K43: 8389 | L43: 5657 | M43: 2732 | N43: 2938 | O43: 1998 | P43: 940 | Q43: 83293 | R43: 39120 | S43: 44173 | T43: 408 | U43: 197634063 | V43: 123427642 | W43: 74206421 | X43: 305 | Y43: 303 | Z43: 1 | AA43: 1 | AB43: 31634 | AC43: 32119 | AD43: 190 | AE43: 251 | AF43: 516 | AG43: 17205 | AH43: 6071 | AI43: 11134 | AJ43: 153 | AK43: 76 | AL43: 186 | AM43: 1076042 | AN43: 377147
A44: 宜蘭縣Yilan County | B44: 240 | C44: 168666 | D44: 457564 | E44: 3869 | F44: 3220 | G44: 649 | H44: 240 | I44: 204 | J44: 36 | K44: 2704 | L44: 2240 | M44: 464 | N44: 925 | O44: 776 | P44: 149 | Q44: 23253 | R44: 13947 | S44: 9306 | T44: 130 | U44: 88812381 | V44: 60538902 | W44: 28273479 | X44: 195 | Y44: 173 | Z44: 5 | AA44: 17 | AB44: 1367 | AC44: 18883 | AD44: 111 | AE44: 95 | AF44: 161 | AG44: 7329 | AH44: 4914 | AI44: 2415 | AJ44: 71 | AK44: 19 | AL44: 17 | AM44: 326127 | AN44: 103016
A45: 新竹縣Hsinchu County | B45: 186 | C45: 193168 | D45: 558507 | E45: 3410 | F45: 2588 | G45: 822 | H45: 186 | I45: 154 | J45: 32 | K45: 2371 | L45: 1824 | M45: 547 | N45: 853 | O45: 610 | P45: 243 | Q45: 35664 | R45: 19379 | S45: 16285 | T45: 162 | U45: 123517940 | V45: 66464961 | W45: 57052979 | X45: 77 | Y45: 73 | Z45: 1 | AA45: 3 | AB45: 2716 | AC45: 15021 | AD45: 147 | AE45: 56 | AF45: 134 | AG45: 4726 | AH45: 2117 | AI45: 2609 | AJ45: 41 | AK45: 17 | AL45: 49 | AM45: 143586 | AN45: 21229
A46: 苗栗縣Miaoli County | B46: 279 | C46: 187083 | D46: 560058 | E46: 4746 | F46: 3596 | G46: 1150 | H46: 279 | I46: 219 | J46: 60 | K46: 3257 | L46: 2476 | M46: 781 | N46: 1210 | O46: 901 | P46: 309 | Q46: 45865 | R46: 24570 | S46: 21295 | T46: 215 | U46: 78760645 | V46: 50324030 | W46: 28436615 | X46: 227 | Y46: 220 | Z46: 5 | AA46: 2 | AB46: 4104 | AC46: 8683 | AD46: 161 | AE46: 128 | AF46: 114 | AG46: 4406 | AH46: 2030 | AI46: 2376 | AJ46: 84 | AK46: 27 | AL46: 36 | AM46: 174682 | AN46: 138237
A47: 彰化縣Changhua County | B47: 555 | C47: 360865 | D47: 1177596 | E47: 9598 | F47: 8067 | G47: 1531 | H47: 555 | I47: 462 | J47: 93 | K47: 6779 | L47: 5676 | M47: 1103 | N47: 2264 | O47: 1929 | P47: 335 | Q47: 67781 | R47: 39119 | S47: 28662 | T47: 391 | U47: 147283052 | V47: 110772067 | W47: 36510985 | X47: 412 | Y47: 401 | Z47: 6 | AA47: 5 | AB47: 5362 | AC47: 24766 | AD47: 325 | AE47: 105 | AF47: 394 | AG47: 20054 | AH47: 8496 | AI47: 11558 | AJ47: 101 | AK47: 56 | AL47: 66 | AM47: 515981 | AN47: 185840
A48: 南投縣Nantou County | B48: 284 | C48: 173661 | D48: 490325 | E48: 4021 | F48: 3239 | G48: 782 | H48: 284 | I48: 240 | J48: 44 | K48: 2770 | L48: 2236 | M48: 534 | N48: 967 | O48: 763 | P48: 204 | Q48: 28246 | R48: 17704 | S48: 10542 | T48: 225 | U48: 58471433 | V48: 50104433 | W48: 8367000 | X48: 219 | Y48: 210 | Z48: 2 | AA48: 7 | AB48: 5885 | AC48: 12924 | AD48: 64 | AE48: 110 | AF48: 192 | AG48: 4848 | AH48: 2228 | AI48: 2620 | AJ48: 94 | AK48: 32 | AL48: 42 | AM48: 197500 | AN48: 32155
... A59: 連江縣Lienchiang County | B59: 20 | C59: 2423 | D59: 12997 | E59: 208 | F59: 172 | G59: 36 | H59: 20 | I59: 20 | J59: 0 | K59: 142 | L59: 115 | M59: 27 | N59: 46 | O59: 37 | P59: 9 | Q59: 1153 | R59: 545 | S59: 608 | T59: 0 | U59: 1146424 | V59: 1146424 | W59: 0 | X59: 0 | Y59: 0 | Z59: 0 | AA59: 0 | AB59: 1 | AC59: 2 | AD59: 0 | AE59: 4 | AF59: 0 | AG59: 0 | AH59: 0 | AI59: 0 | AJ59: 7 | AK59: 0 | AL59: 0 | AM59: 0 | AN59: 0
A61: 總計Total | B61: =IF(B37=B8,"","*") | C61: =IF(C37=C8,"","*") -> * | D61: =IF(D37=D8,"","*") | E61: =IF(E37=E8,"","*") -> * | F61: =IF(F37=F8,"","*") -> * | G61: =IF(G37=G8,"","*") -> * | H61: =IF(H37=H8,"","*") | I61: =IF(I37=I8,"","*") | ... AN61: =IF(AN37=AN8,"","*") -> *
A62: 新 北 市New Taipei City | B62: =IF(B38=B9,"","*") | C62: =IF(C38=C9,"","*") -> * | D62: =IF(D38=D9,"","*") | E62: =IF(E38=E9,"","*") | F62: =IF(F38=F9,"","*") | G62: =IF(G38=G9,"","*") | H62: =IF(H38=H9,"","*") | I62: =IF(I38=I9,"","*") | ... AN62: =IF(AN38=AN9,"","*")
A63: 臺 北 市Taipei City | B63: =IF(B39=B10,"","*") | C63: =IF(C39=C10,"","*") | D63: =IF(D39=D10,"","*") | E63: =IF(E39=E10,"","*") | F63: =IF(F39=F10,"","*") | G63: =IF(G39=G10,"","*") | H63: =IF(H39=H10,"","*") | I63: =IF(I39=I10,"","*") | ... AN63: =IF(AN39=AN10,"","*")
A64: 桃 園 市Taoyuan City | B64: =IF(B40=B11,"","*") | C64: =IF(C40=C11,"","*") | D64: =IF(D40=D11,"","*") | E64: =IF(E40=E11,"","*") | F64: =IF(F40=F11,"","*") | G64: =IF(G40=G11,"","*") | H64: =IF(H40=H11,"","*") | I64: =IF(I40=I11,"","*") | ... AN64: =IF(AN40=AN11,"","*")
A65: 臺 中 市Taichung City | B65: =IF(B41=B12,"","*") | C65: =IF(C41=C12,"","*") | D65: =IF(D41=D12,"","*") | E65: =IF(E41=E12,"","*") -> * | F65: =IF(F41=F12,"","*") -> * | G65: =IF(G41=G12,"","*") -> * | H65: =IF(H41=H12,"","*") | I65: =IF(I41=I12,"","*") | ... AN65: =IF(AN41=AN12,"","*") -> *
A66: 臺 南 市Tainan City | B66: =IF(B42=B13,"","*") | C66: =IF(C42=C13,"","*") | D66: =IF(D42=D13,"","*") | E66: =IF(E42=E13,"","*") | F66: =IF(F42=F13,"","*") | G66: =IF(G42=G13,"","*") | H66: =IF(H42=H13,"","*") | I66: =IF(I42=I13,"","*") | ... AN66: =IF(AN42=AN13,"","*")
A67: 高 雄 市Kaohsiung City | B67: =IF(B43=B14,"","*") | C67: =IF(C43=C14,"","*") | D67: =IF(D43=D14,"","*") | E67: =IF(E43=E14,"","*") | F67: =IF(F43=F14,"","*") | G67: =IF(G43=G14,"","*") | H67: =IF(H43=H14,"","*") | I67: =IF(I43=I14,"","*") | ... AN67: =IF(AN43=AN14,"","*")
A68: 宜蘭縣Yilan County | B68: =IF(B44=B15,"","*") | C68: =IF(C44=C15,"","*") | D68: =IF(D44=D15,"","*") | E68: =IF(E44=E15,"","*") | F68: =IF(F44=F15,"","*") | G68: =IF(G44=G15,"","*") | H68: =IF(H44=H15,"","*") | I68: =IF(I44=I15,"","*") | ... AN68: =IF(AN44=AN15,"","*")
A69: 新竹縣Hsinchu County | B69: =IF(B45=B16,"","*") | C69: =IF(C45=C16,"","*") | D69: =IF(D45=D16,"","*") | E69: =IF(E45=E16,"","*") | F69: =IF(F45=F16,"","*") | G69: =IF(G45=G16,"","*") | H69: =IF(H45=H16,"","*") | I69: =IF(I45=I16,"","*") | ... AN69: =IF(AN45=AN16,"","*")
A70: 苗栗縣Miaoli County | B70: =IF(B46=B17,"","*") | C70: =IF(C46=C17,"","*") | D70: =IF(D46=D17,"","*") | E70: =IF(E46=E17,"","*") | F70: =IF(F46=F17,"","*") | G70: =IF(G46=G17,"","*") | H70: =IF(H46=H17,"","*") | I70: =IF(I46=I17,"","*") | ... AN70: =IF(AN46=AN17,"","*")
A71: 彰化縣Changhua County | B71: =IF(B47=B18,"","*") | C71: =IF(C47=C18,"","*") | D71: =IF(D47=D18,"","*") | E71: =IF(E47=E18,"","*") | F71: =IF(F47=F18,"","*") | G71: =IF(G47=G18,"","*") | H71: =IF(H47=H18,"","*") | I71: =IF(I47=I18,"","*") | ... AN71: =IF(AN47=AN18,"","*")
A72: 南投縣Nantou County | B72: =IF(B48=B19,"","*") | C72: =IF(C48=C19,"","*") | D72: =IF(D48=D19,"","*") | E72: =IF(E48=E19,"","*") | F72: =IF(F48=F19,"","*") | G72: =IF(G48=G19,"","*") | H72: =IF(H48=H19,"","*") | I72: =IF(I48=I19,"","*") | ... AN72: =IF(AN48=AN19,"","*")
... A82: 金門縣Kinmen County | B82: =IF(B58=B29,"","*") | C82: =IF(C58=C29,"","*") | D82: =IF(D58=D29,"","*") | E82: =IF(E58=E29,"","*") | F82: =IF(F58=F29,"","*") | G82: =IF(G58=G29,"","*") | H82: =IF(H58=H29,"","*") | I82: =IF(I58=I29,"","*") | ... AN82: =IF(AN58=AN29,"","*")

Sheet 2016
A1: 推行社區發展工作成果 Achievements of Community Development
A3: 105年, 2016
A4: 區域別 Locality | B4: 社區發展 協會數(個) No.of Community DevelopmentAssociations (Units) | C4: 社區戶數 (戶) Households of Communities (Households) | D4: 社區人口數 (人) Communities Persons of (Persons) | E4: 理監事人數(人) Directors and Supervisors (Persons) | Q4: 社區發展協會會員數(人) Members Community Development Associations (Persons) | T4: 設置社區生產建設基金 (個) Community Economic Development Fund(Unit) | U4: 實際使用經費(元) Outlays | X4: 社區建設主要項目 Main Items of Community Construction
E5: 合計 Total | H5: 理事長 Director-general | K5: 理事(不含理事長)Directors | N5: 監事 Supervisors | U5: 合計 (元) Total (NT$) | V5: 政府補助款 (元) Government-Provided (NT$) | W5: 社區自籌款 (元) Self-Provided (NT$) | X5: 社區活動中心Community Activity Centers(Units) | AB5: 辦理社區幹部訓練 (人次)Topic Training (Times of Persons) | AC5: 辦理社區 觀摩(人次) Community Exposition (Times of Persons) | AD5: 社區長壽俱樂部(處) Elderly Community Club (Places) | AE5: 社區守望 相助隊(隊) Community Mutual-help Program (Teams) | AF5: 社區志願服務團隊 Community Volunteer Service Teams (Groups) | AJ5: 辦理社區照顧關懷據點 (處) Community Care Locations (Places) | AK5: 社區圖書室 (處) Community Libraries (Places) | AL5: 發行社區報導或通訊 (期) Community Publications (Times) | AM5: 服務成果 Person-times Served
E6: 計 Subtotal | F6: 男 Male | G6: 女 Female | H6: 計 Subtotal | I6: 男 Male | J6: 女 Female | K6: 計 Subtotal | L6: 男 Male | M6: 女 Female | N6: 計 Subtotal | O6: 男 Male | P6: 女 Female | Q6: 計 Subtotal | R6: 男 Male | S6: 女 Female | X6: 合計 (幢) Total | Y6: 原建 (未作修擴建)(幢) Originally Built (Without Repair Extension) | Z6: 新建(幢) Newly Built | AA6: 修擴建(幢) Repair Extension | AF6: 團隊(隊) Teams | AG6: 志工數(人)Persons | AM6: 福利服務或活動(人次) Welfare Service or Activities (Times of Persons) | AN6: 其他服務(人次) Other Services (Times of Persons)
AG7: 合計 Total | AH7: 男 Male | AI7: 女 Female
A8: 總計Total | B8: 6881 | C8: 7800490 | D8: 21457496 | E8: 108907 | F8: 82830 | G8: 26077 | H8: 6881 | I8: 5553 | J8: 1328 | K8: 75658 | L8: 57448 | M8: 18210 | N8: 26368 | O8: 19829 | P8: 6539 | Q8: 777011 | R8: 417933 | S8: 359078 | T8: 3969 | U8: 1937247779 | V8: 1299433561 | W8: 637814218 | X8: 3794 | Y8: 3680 | Z8: 38 | AA8: 76 | AB8: 115082 | AC8: 296879 | AD8: 3274 | AE8: 1571 | AF8: 3875 | AG8: 125546 | AH8: 47991 | AI8: 77555 | AJ8: 1651 | AK8: 638 | AL8: 1032 | AM8: 6576756 | AN8: 2550940
A9: 新 北 市New Taipei City | B9: 448 | C9: 1345934 | D9: 3415367 | E9: 7985 | F9: 5339 | G9: 2646 | H9: 448 | I9: 333 | J9: 115 | K9: 5585 | L9: 3750 | M9: 1835 | N9: 1952 | O9: 1256 | P9: 696 | Q9: 68966 | R9: 31066 | S9: 37900 | T9: 357 | U9: 131804438 | V9: 85582007 | W9: 46222431 | X9: 122 | Y9: 120 | Z9: 1 | AA9: 1 | AB9: 6447 | AC9: 35690 | AD9: 144 | AE9: 47 | AF9: 179 | AG9: 5372 | AH9: 1978 | AI9: 3394 | AJ9: 106 | AK9: 20 | AL9: 42 | AM9: 440533 | AN9: 116065
A10: 臺 北 市Taipei City | B10: 354 | C10: 1047284 | D10: 2695704 | E10: 5494 | F10: 3054 | G10: 2440 | H10: 354 | I10: 241 | J10: 113 | K10: 3779 | L10: 2070 | M10: 1709 | N10: 1361 | O10: 743 | P10: 618 | Q10: 25095 | R10: 11461 | S10: 13634 | T10: 0 | U10: 21900413 | V10: 16331046 | W10: 5569367 | X10: 163 | Y10: 162 | Z10: 1 | AA10: 0 | AB10: 2642 | AC10: 7044 | AD10: 52 | AE10: 96 | AF10: 27 | AG10: 1141 | AH10: 427 | AI10: 714 | AJ10: 39 | AK10: 25 | AL10: 74 | AM10: 109839 | AN10: 12000
A11: 桃 園 市Taoyuan City | B11: 258 | C11: 537186 | D11: 1522504 | E11: 4453 | F11: 2998 | G11: 1455 | H11: 258 | I11: 207 | J11: 51 | K11: 3116 | L11: 2088 | M11: 1028 | N11: 1079 | O11: 703 | P11: 376 | Q11: 46996 | R11: 22540 | S11: 24456 | T11: 248 | U11: 194442233 | V11: 116694768 | W11: 77747465 | X11: 213 | Y11: 184 | Z11: 4 | AA11: 25 | AB11: 8478 | AC11: 28100 | AD11: 32 | AE11: 64 | AF11: 221 | AG11: 8507 | AH11: 3091 | AI11: 5416 | AJ11: 109 | AK11: 34 | AL11: 124 | AM11: 560795 | AN11: 188361
A12: 臺 中 市Taichung City | B12: 606 | C12: 910494 | D12: 2675099 | E12: 9805 | F12: 7642 | G12: 2163 | H12: 606 | I12: 490 | J12: 116 | K12: 6859 | L12: 5362 | M12: 1497 | N12: 2340 | O12: 1790 | P12: 550 | Q12: 52417 | R12: 29779 | S12: 22638 | T12: 143 | U12: 108419386 | V12: 44426260 | W12: 63993126 | X12: 284 | Y12: 283 | Z12: 0 | AA12: 1 | AB12: 9231 | AC12: 36193 | AD12: 400 | AE12: 33 | AF12: 260 | AG12: 10695 | AH12: 3701 | AI12: 6994 | AJ12: 148 | AK12: 27 | AL12: 67 | AM12: 378464 | AN12: 288495
A13: 臺 南 市Tainan City | B13: 678 | C13: 634569 | D13: 1769622 | E13: 10598 | F13: 8162 | G13: 2436 | H13: 678 | I13: 558 | J13: 120 | K13: 7451 | L13: 5703 | M13: 1748 | N13: 2469 | O13: 1901 | P13: 568 | Q13: 92457 | R13: 45565 | S13: 46892 | T13: 317 | U13: 151182276 | V13: 105738630 | W13: 45443646 | X13: 156 | Y13: 155 | Z13: 1 | AA13: 0 | AB13: 7317 | AC13: 24908 | AD13: 489 | AE13: 145 | AF13: 476 | AG13: 15895 | AH13: 5649 | AI13: 10246 | AJ13: 245 | AK13: 61 | AL13: 79 | AM13: 1008877 | AN13: 603259
A14: 高 雄 市Kaohsiung City | B14: 853 | C14: 921947 | D14: 2401839 | E14: 12462 | F14: 8652 | G14: 3810 | H14: 853 | I14: 639 | J14: 214 | K14: 8474 | L14: 5829 | M14: 2645 | N14: 3135 | O14: 2184 | P14: 951 | Q14: 82087 | R14: 39846 | S14: 42241 | T14: 407 | U14: 174581972 | V14: 94631357 | W14: 79950615 | X14: 307 | Y14: 307 | Z14: 0 | AA14: 0 | AB14: 48959 | AC14: 42043 | AD14: 185 | AE14: 241 | AF14: 537 | AG14: 17222 | AH14: 6229 | AI14: 10993 | AJ14: 137 | AK14: 66 | AL14: 145 | AM14: 798403 | AN14: 355191
A15: 宜蘭縣Yilan County | B15: 240 | C15: 167991 | D15: 461662 | E15: 3897 | F15: 3234 | G15: 663 | H15: 240 | I15: 206 | J15: 34 | K15: 2723 | L15: 2251 | M15: 472 | N15: 934 | O15: 777 | P15: 157 | Q15: 23523 | R15: 14480 | S15: 9043 | T15: 115 | U15: 104687503 | V15: 88086295 | W15: 16601208 | X15: 193 | Y15: 167 | Z15: 5 | AA15: 21 | AB15: 1689 | AC15: 7180 | AD15: 113 | AE15: 97 | AF15: 168 | AG15: 3879 | AH15: 1553 | AI15: 2326 | AJ15: 73 | AK15: 17 | AL15: 31 | AM15: 339830 | AN15: 100408
A16: 新竹縣Hsinchu County | B16: 186 | C16: 183737 | D16: 544129 | E16: 3378 | F16: 2563 | G16: 815 | H16: 186 | I16: 152 | J16: 34 | K16: 2370 | L16: 1805 | M16: 565 | N16: 822 | O16: 606 | P16: 216 | Q16: 34700 | R16: 18581 | S16: 16119 | T16: 162 | U16: 147045107 | V16: 68840086 | W16: 78205021 | X16: 76 | Y16: 70 | Z16: 2 | AA16: 4 | AB16: 2923 | AC16: 17101 | AD16: 186 | AE16: 56 | AF16: 286 | AG16: 4993 | AH16: 2187 | AI16: 2806 | AJ16: 43 | AK16: 20 | AL16: 32 | AM16: 125716 | AN16: 45397
A17: 苗栗縣Miaoli County | B17: 279 | C17: 184745 | D17: 563726 | E17: 4656 | F17: 3595 | G17: 1061 | H17: 279 | I17: 226 | J17: 53 | K17: 3203 | L17: 2462 | M17: 741 | N17: 1174 | O17: 907 | P17: 267 | Q17: 46048 | R17: 24857 | S17: 21191 | T17: 215 | U17: 64182515 | V17: 45272425 | W17: 18910090 | X17: 235 | Y17: 232 | Z17: 1 | AA17: 2 | AB17: 2201 | AC17: 4892 | AD17: 168 | AE17: 128 | AF17: 138 | AG17: 4027 | AH17: 1755 | AI17: 2272 | AJ17: 90 | AK17: 26 | AL17: 34 | AM17: 124432 | AN17: 127088
A18: 彰化縣Changhua County | B18: 547 | C18: 353311 | D18: 1157541 | E18: 9453 | F18: 8043 | G18: 1410 | H18: 547 | I18: 466 | J18: 81 | K18: 6688 | L18: 5644 | M18: 1044 | N18: 2218 | O18: 1933 | P18: 285 | Q18: 66991 | R18: 38811 | S18: 28180 | T18: 388 | U18: 142414885 | V18: 99221836 | W18: 43193049 | X18: 411 | Y18: 402 | Z18: 6 | AA18: 3 | AB18: 6510 | AC18: 23732 | AD18: 320 | AE18: 110 | AF18: 422 | AG18: 21347 | AH18: 8284 | AI18: 13063 | AJ18: 91 | AK18: 52 | AL18: 49 | AM18: 542366 | AN18: 313058
A19: 南投縣Nantou County | B19: 283 | C19: 172031 | D19: 493091 | E19: 4035 | F19: 3335 | G19: 700 | H19: 283 | I19: 252 | J19: 31 | K19: 2787 | L19: 2316 | M19: 471 | N19: 965 | O19: 767 | P19: 198 | Q19: 28813 | R19: 18766 | S19: 10047 | T19: 225 | U19: 45070537 | V19: 37317099 | W19: 7753438 | X19: 222 | Y19: 216 | Z19: 1 | AA19: 5 | AB19: 3568 | AC19: 6260 | AD19: 67 | AE19: 108 | AF19: 167 | AG19: 4328 | AH19: 2046 | AI19: 2282 | AJ19: 90 | AK19: 34 | AL19: 16 | AM19: 163872 | AN19: 35863
... A30: 連江縣Lienchiang County | B30: 20 | C30: 2423 | D30: 12997 | E30: 208 | F30: 172 | G30: 36 | H30: 20 | I30: 20 | J30: 0 | K30: 142 | L30: 115 | M30: 27 | N30: 46 | O30: 37 | P30: 9 | Q30: 1153 | R30: 545 | S30: 608 | T30: 0 | U30: 1146424 | V30: 1146424 | W30: 0 | X30: 0 | Y30: 0 | Z30: 0 | AA30: 0 | AB30: 1 | AC30: 2 | AD30: 0 | AE30: 4 | AF30: 0 | AG30: 0 | AH30: 0 | AI30: 0 | AJ30: 7 | AK30: 0 | AL30: 0 | AM30: 0 | AN30: 0
A31: 資料來源：直轄市及縣(市)政府。
A32: 說 明：本表資料不包括未成立社區發展協會者。
A33: Source: County and Government.
A35: 更新日期：2018/3/8
A37: 總計Total | B37: 6881 | C37: 7806374 | D37: 21483480 | E37: 108907 | F37: 82830 | G37: 26077 | H37: 6881 | I37: 5553 | J37: 1328 | K37: 75658 | L37: 57448 | M37: 18210 | N37: 26368 | O37: 19829 | P37: 6539 | Q37: 782241 | R37: 421457 | S37: 360784 | T37: 3970 | U37: 1937247779 | V37: 1299433561 | W37: 637814218 | X37: 3846 | Y37: 3734 | Z37: 36 | AA37: 76 | AB37: 115082 | AC37: 296879 | AD37: 3274 | AE37: 1571 | AF37: 3875 | AG37: 125546 | AH37: 47991 | AI37: 77555 | AJ37: 1651 | AK37: 638 | AL37: 1032 | AM37: 7023192 | AN37: 2759656
A38: 新 北 市New Taipei City | B38: 448 | C38: 1357505 | D38: 3462079 | E38: 7985 | F38: 5339 | G38: 2646 | H38: 448 | I38: 333 | J38: 115 | K38: 5585 | L38: 3750 | M38: 1835 | N38: 1952 | O38: 1256 | P38: 696 | Q38: 68966 | R38: 31066 | S38: 37900 | T38: 357 | U38: 131804438 | V38: 85582007 | W38: 46222431 | X38: 122 | Y38: 120 | Z38: 1 | AA38: 1 | AB38: 6447 | AC38: 35690 | AD38: 144 | AE38: 47 | AF38: 179 | AG38: 5372 | AH38: 1978 | AI38: 3394 | AJ38: 106 | AK38: 20 | AL38: 42 | AM38: 497953 | AN38: 116065
A39: 臺 北 市Taipei City | B39: 354 | C39: 1047284 | D39: 2695704 | E39: 5494 | F39: 3054 | G39: 2440 | H39: 354 | I39: 241 | J39: 113 | K39: 3779 | L39: 2070 | M39: 1709 | N39: 1361 | O39: 743 | P39: 618 | Q39: 25095 | R39: 11461 | S39: 13634 | T39: 0 | U39: 21900413 | V39: 16331046 | W39: 5569367 | X39: 163 | Y39: 162 | Z39: 1 | AA39: 0 | AB39: 2642 | AC39: 7044 | AD39: 52 | AE39: 96 | AF39: 27 | AG39: 1141 | AH39: 427 | AI39: 714 | AJ39: 39 | AK39: 25 | AL39: 74 | AM39: 109839 | AN39: 12000
A40: 桃 園 市Taoyuan City | B40: 258 | C40: 537186 | D40: 1522504 | E40: 4453 | F40: 2998 | G40: 1455 | H40: 258 | I40: 207 | J40: 51 | K40: 3116 | L40: 2088 | M40: 1028 | N40: 1079 | O40: 703 | P40: 376 | Q40: 46996 | R40: 22540 | S40: 24456 | T40: 248 | U40: 194442233 | V40: 116694768 | W40: 77747465 | X40: 213 | Y40: 184 | Z40: 4 | AA40: 25 | AB40: 8478 | AC40: 28100 | AD40: 32 | AE40: 64 | AF40: 221 | AG40: 8507 | AH40: 3091 | AI40: 5416 | AJ40: 109 | AK40: 34 | AL40: 124 | AM40: 949811 | AN40: 397077
A41: 臺 中 市Taichung City | B41: 606 | C41: 910494 | D41: 2675099 | E41: 9805 | F41: 7642 | G41: 2163 | H41: 606 | I41: 490 | J41: 116 | K41: 6859 | L41: 5362 | M41: 1497 | N41: 2340 | O41: 1790 | P41: 550 | Q41: 52417 | R41: 29779 | S41: 22638 | T41: 143 | U41: 108419386 | V41: 44426260 | W41: 63993126 | X41: 284 | Y41: 283 | Z41: 0 | AA41: 1 | AB41: 9231 | AC41: 36193 | AD41: 400 | AE41: 33 | AF41: 260 | AG41: 10695 | AH41: 3701 | AI41: 6994 | AJ41: 148 | AK41: 27 | AL41: 67 | AM41: 378464 | AN41: 288495
A42: 臺 南 市Tainan City | B42: 678 | C42: 634569 | D42: 1769622 | E42: 10598 | F42: 8162 | G42: 2436 | H42: 678 | I42: 558 | J42: 120 | K42: 7451 | L42: 5703 | M42: 1748 | N42: 2469 | O42: 1901 | P42: 568 | Q42: 92457 | R42: 45565 | S42: 46892 | T42: 317 | U42: 151182276 | V42: 105738630 | W42: 45443646 | X42: 156 | Y42: 155 | Z42: 1 | AA42: 0 | AB42: 7317 | AC42: 24908 | AD42: 489 | AE42: 145 | AF42: 476 | AG42: 15895 | AH42: 5649 | AI42: 10246 | AJ42: 245 | AK42: 61 | AL42: 79 | AM42: 1008877 | AN42: 603259
A43: 高 雄 市Kaohsiung City | B43: 853 | C43: 921947 | D43: 2401839 | E43: 12462 | F43: 8652 | G43: 3810 | H43: 853 | I43: 639 | J43: 214 | K43: 8474 | L43: 5829 | M43: 2645 | N43: 3135 | O43: 2184 | P43: 951 | Q43: 82087 | R43: 39846 | S43: 42241 | T43: 407 | U43: 174581972 | V43: 94631357 | W43: 79950615 | X43: 307 | Y43: 307 | Z43: 0 | AA43: 0 | AB43: 48959 | AC43: 42043 | AD43: 185 | AE43: 241 | AF43: 537 | AG43: 17222 | AH43: 6229 | AI43: 10993 | AJ43: 137 | AK43: 66 | AL43: 145 | AM43: 798403 | AN43: 355191
A44: 臺 灣 省Taiwan Prov. | B44: 3557 | C44: 2366283 | D44: 6839459 | E44: 56296 | F44: 45332 | G44: 10964 | H44: 3557 | I44: 2961 | J44: 596 | K44: 39144 | L44: 31504 | M44: 7640 | N44: 13595 | O44: 10867 | P44: 2728 | Q44: 388305 | R44: 226747 | S44: 161558 | T44: 2491 | U44: 1068152880 | V44: 802961836 | W44: 265191044 | X44: 2523 | Y44: 2450 | Z44: 25 | AA44: 48 | AB44: 31858 | AC44: 122867 | AD44: 1942 | AE44: 927 | AF44: 2139 | AG44: 65454 | AH44: 26613 | AI44: 38841 | AJ44: 841 | AK44: 391 | AL44: 499 | AM44: 3278390 | AN44: 986161
A45: 宜蘭縣Yilan County | B45: 240 | C45: 167991 | D45: 461662 | E45: 3897 | F45: 3234 | G45: 663 | H45: 240 | I45: 206 | J45: 34 | K45: 2723 | L45: 2251 | M45: 472 | N45: 934 | O45: 777 | P45: 157 | Q45: 23523 | R45: 14480 | S45: 9043 | T45: 115 | U45: 104687503 | V45: 88086295 | W45: 16601208 | X45: 193 | Y45: 167 | Z45: 5 | AA45: 21 | AB45: 1689 | AC45: 7180 | AD45: 113 | AE45: 97 | AF45: 168 | AG45: 3879 | AH45: 1553 | AI45: 2326 | AJ45: 73 | AK45: 17 | AL45: 31 | AM45: 339830 | AN45: 100408
A46: 新竹縣Hsinchu County | B46: 186 | C46: 183737 | D46: 544129 | E46: 3378 | F46: 2563 | G46: 815 | H46: 186 | I46: 152 | J46: 34 | K46: 2370 | L46: 1805 | M46: 565 | N46: 822 | O46: 606 | P46: 216 | Q46: 34700 | R46: 18581 | S46: 16119 | T46: 162 | U46: 147045107 | V46: 68840086 | W46: 78205021 | X46: 76 | Y46: 70 | Z46: 2 | AA46: 4 | AB46: 2923 | AC46: 17101 | AD46: 186 | AE46: 56 | AF46: 286 | AG46: 4993 | AH46: 2187 | AI46: 2806 | AJ46: 43 | AK46: 20 | AL46: 32 | AM46: 125716 | AN46: 45397
A47: 苗栗縣Miaoli County | B47: 279 | C47: 184745 | D47: 563726 | E47: 4656 | F47: 3595 | G47: 1061 | H47: 279 | I47: 226 | J47: 53 | K47: 3203 | L47: 2462 | M47: 741 | N47: 1174 | O47: 907 | P47: 267 | Q47: 46048 | R47: 24857 | S47: 21191 | T47: 215 | U47: 64182515 | V47: 45272425 | W47: 18910090 | X47: 235 | Y47: 232 | Z47: 1 | AA47: 2 | AB47: 2201 | AC47: 4892 | AD47: 168 | AE47: 128 | AF47: 138 | AG47: 4027 | AH47: 1755 | AI47: 2272 | AJ47: 90 | AK47: 26 | AL47: 34 | AM47: 124432 | AN47: 127088
A48: 彰化縣Changhua County | B48: 547 | C48: 353311 | D48: 1157541 | E48: 9453 | F48: 8043 | G48: 1410 | H48: 547 | I48: 466 | J48: 81 | K48: 6688 | L48: 5644 | M48: 1044 | N48: 2218 | O48: 1933 | P48: 285 | Q48: 66991 | R48: 38811 | S48: 28180 | T48: 388 | U48: 142414885 | V48: 99221836 | W48: 43193049 | X48: 411 | Y48: 402 | Z48: 6 | AA48: 3 | AB48: 6510 | AC48: 23732 | AD48: 320 | AE48: 110 | AF48: 422 | AG48: 21347 | AH48: 8284 | AI48: 13063 | AJ48: 91 | AK48: 52 | AL48: 49 | AM48: 542366 | AN48: 313058
... A61: 連江縣Lienchiang County | B61: 20 | C61: 2423 | D61: 12997 | E61: 208 | F61: 172 | G61: 36 | H61: 20 | I61: 20 | J61: 0 | K61: 142 | L61: 115 | M61: 27 | N61: 46 | O61: 37 | P61: 9 | Q61: 1153 | R61: 545 | S61: 608 | T61: 0 | U61: 1146424 | V61: 1146424 | W61: 0 | X61: 0 | Y61: 0 | Z61: 0 | AA61: 0 | AB61: 1 | AC61: 2 | AD61: 0 | AE61: 4 | AF61: 0 | AG61: 0 | AH61: 0 | AI61: 0 | AJ61: 7 | AK61: 0 | AL61: 0 | AM61: 0 | AN61: 0

Sheet 2015
A1: 推行社區發展工作成果 Achievements of Community Development
A3: 104年, 2015
A4: 區域別 Locality | B4: 社區發展 協會數(個) No.of Community DevelopmentAssociations (Units) | C4: 社區戶數 (戶) Households of Communities (Households) | D4: 社區人口數 (人) Communities Persons of (Persons) | E4: 理監事人數(人) Directors and Supervisors (Persons) | Q4: 社區發展協會會員數(人) Members Community Development Associations (Persons) | T4: 設置社區生產建設基金 (個) Community Economic Development Fund(Unit) | U4: 實際使用經費(元) Outlays | X4: 社區建設主要項目 Main Items of Community Construction
E5: 合計 Total | H5: 理事長 Director-general | K5: 理事(不含理事長)Directors | N5: 監事 Supervisors | U5: 合計 (元) Total (NT$) | V5: 政府補助款 (元) Government-Provided (NT$) | W5: 社區自籌款 (元) Self-Provided (NT$) | X5: 社區活動中心Community Activity Centers(Units) | AB5: 辦理社區幹部訓練 (人次)Topic Training (Times of Persons) | AC5: 辦理社區 觀摩(人次) Community Exposition (Times of Persons) | AD5: 社區長壽俱樂部(處) Elderly Community Club (Places) | AE5: 社區守望 相助隊(隊) Community Mutual-help Program (Teams) | AF5: 社區志願服務團隊 Community Volunteer Service Teams (Groups) | AJ5: 辦理社區照顧關懷據點 (處) Community Care Locations (Places) | AK5: 社區圖書室 (處) Community Libraries (Places) | AL5: 發行社區報導或通訊 (期) Community Publications (Times) | AM5: 服務成果 Person-times Served
E6: 計 Subtotal | F6: 男 Male | G6: 女 Female | H6: 計 Subtotal | I6: 男 Male | J6: 女 Female | K6: 計 Subtotal | L6: 男 Male | M6: 女 Female | N6: 計 Subtotal | O6: 男 Male | P6: 女 Female | Q6: 計 Subtotal | R6: 男 Male | S6: 女 Female | X6: 合計 (幢) Total | Y6: 原建 (未作修擴建)(幢) Originally Built (Without Repair Extension) | Z6: 新建(幢) Newly Built | AA6: 修擴建(幢) Repair Extension | AF6: 團隊(隊) Teams | AG6: 志工數(人)Persons | AM6: 福利服務或活動(人次) Welfare Service or Activities (Times of Persons) | AN6: 其他服務(人次) Other Services (Times of Persons)
AG7: 合計 Total | AH7: 男 Male | AI7: 女 Female
A8: 總計Total | B8: 6860 | C8: 7726797 | D8: 21404313 | E8: 108909 | F8: 83441 | G8: 25468 | H8: 6860 | I8: 5601 | J8: 1259 | K8: 75530 | L8: 57741 | M8: 17789 | N8: 26519 | O8: 20099 | P8: 6420 | Q8: 779303 | R8: 424574 | S8: 354729 | T8: 3974 | U8: 1782392177 | V8: 1224216150 | W8: 558176027 | X8: 3718 | Y8: 3605 | Z8: 42 | AA8: 71 | AB8: 96343 | AC8: 306430 | AD8: 3193 | AE8: 1591 | AF8: 3805 | AG8: 123798 | AH8: 48373 | AI8: 75425 | AJ8: 1521 | AK8: 669 | AL8: 935 | AM8: 5661777 | AN8: 2206820
A9: 新 北 市New Taipei City | B9: 446 | C9: 1327670 | D9: 3411488 | E9: 8041 | F9: 5401 | G9: 2640 | H9: 446 | I9: 340 | J9: 106 | K9: 5608 | L9: 3761 | M9: 1847 | N9: 1987 | O9: 1300 | P9: 687 | Q9: 69932 | R9: 31720 | S9: 38212 | T9: 357 | U9: 115924947 | V9: 73623265 | W9: 42301682 | X9: 65 | Y9: 64 | Z9: 0 | AA9: 1 | AB9: 5287 | AC9: 32782 | AD9: 136 | AE9: 47 | AF9: 179 | AG9: 5148 | AH9: 1820 | AI9: 3328 | AJ9: 107 | AK9: 28 | AL9: 46 | AM9: 346288 | AN9: 106076
A10: 臺 北 市Taipei City | B10: 361 | C10: 1043948 | D10: 2704810 | E10: 5662 | F10: 3213 | G10: 2449 | H10: 361 | I10: 245 | J10: 116 | K10: 3801 | L10: 2102 | M10: 1699 | N10: 1500 | O10: 866 | P10: 634 | Q10: 25292 | R10: 11191 | S10: 14101 | T10: 0 | U10: 17757875 | V10: 12277069 | W10: 5480806 | X10: 152 | Y10: 152 | Z10: 0 | AA10: 0 | AB10: 2351 | AC10: 5827 | AD10: 34 | AE10: 89 | AF10: 53 | AG10: 1142 | AH10: 428 | AI10: 714 | AJ10: 30 | AK10: 28 | AL10: 96 | AM10: 18656 | AN10: 0
A11: 桃 園 市Taoyuan City | B11: 248 | C11: 513584 | D11: 1469796 | E11: 4203 | F11: 2908 | G11: 1295 | H11: 248 | I11: 198 | J11: 50 | K11: 2922 | L11: 2019 | M11: 903 | N11: 1033 | O11: 691 | P11: 342 | Q11: 45848 | R11: 22349 | S11: 23499 | T11: 230 | U11: 178843834 | V11: 97434985 | W11: 81408849 | X11: 206 | Y11: 177 | Z11: 4 | AA11: 25 | AB11: 7934 | AC11: 30214 | AD11: 40 | AE11: 49 | AF11: 215 | AG11: 8844 | AH11: 3230 | AI11: 5614 | AJ11: 94 | AK11: 29 | AL11: 101 | AM11: 582677 | AN11: 259954
A12: 臺 中 市Taichung City | B12: 608 | C12: 899899 | D12: 2669606 | E12: 9941 | F12: 7792 | G12: 2149 | H12: 608 | I12: 485 | J12: 123 | K12: 6910 | L12: 5472 | M12: 1438 | N12: 2423 | O12: 1835 | P12: 588 | Q12: 50275 | R12: 29204 | S12: 21071 | T12: 158 | U12: 107651511 | V12: 45112847 | W12: 62538664 | X12: 287 | Y12: 284 | Z12: 0 | AA12: 3 | AB12: 11531 | AC12: 29101 | AD12: 396 | AE12: 37 | AF12: 250 | AG12: 10798 | AH12: 4090 | AI12: 6708 | AJ12: 126 | AK12: 32 | AL12: 78 | AM12: 363053 | AN12: 156724
A13: 臺 南 市Tainan City | B13: 678 | C13: 628175 | D13: 1764787 | E13: 10526 | F13: 8049 | G13: 2477 | H13: 678 | I13: 560 | J13: 118 | K13: 7413 | L13: 5621 | M13: 1792 | N13: 2435 | O13: 1868 | P13: 567 | Q13: 92858 | R13: 46652 | S13: 46206 | T13: 317 | U13: 152511469 | V13: 103918460 | W13: 48593009 | X13: 156 | Y13: 155 | Z13: 1 | AA13: 0 | AB13: 9025 | AC13: 26862 | AD13: 488 | AE13: 151 | AF13: 447 | AG13: 15939 | AH13: 5672 | AI13: 10267 | AJ13: 249 | AK13: 62 | AL13: 87 | AM13: 821448 | AN13: 381770
A14: 高 雄 市Kaohsiung City | B14: 841 | C14: 943925 | D14: 2442629 | E14: 12418 | F14: 8730 | G14: 3688 | H14: 841 | I14: 634 | J14: 207 | K14: 8421 | L14: 5836 | M14: 2585 | N14: 3156 | O14: 2260 | P14: 896 | Q14: 85243 | R14: 41609 | S14: 43634 | T14: 404 | U14: 173492762 | V14: 107310782 | W14: 66181980 | X14: 312 | Y14: 308 | Z14: 1 | AA14: 3 | AB14: 28496 | AC14: 28483 | AD14: 134 | AE14: 227 | AF14: 460 | AG14: 16436 | AH14: 5882 | AI14: 10554 | AJ14: 139 | AK14: 63 | AL14: 135 | AM14: 710874 | AN14: 398535
A15: 宜蘭縣Yilan County | B15: 242 | C15: 164197 | D15: 457414 | E15: 3949 | F15: 3338 | G15: 611 | H15: 242 | I15: 216 | J15: 26 | K15: 2763 | L15: 2330 | M15: 433 | N15: 944 | O15: 792 | P15: 152 | Q15: 23688 | R15: 15007 | S15: 8681 | T15: 121 | U15: 104323730 | V15: 86114475 | W15: 18209255 | X15: 196 | Y15: 185 | Z15: 1 | AA15: 10 | AB15: 2019 | AC15: 40936 | AD15: 115 | AE15: 104 | AF15: 176 | AG15: 4605 | AH15: 1957 | AI15: 2648 | AJ15: 64 | AK15: 11 | AL15: 21 | AM15: 159851 | AN15: 42903
A16: 新竹縣Hsinchu County | B16: 186 | C16: 180090 | D16: 532590 | E16: 3384 | F16: 2602 | G16: 782 | H16: 186 | I16: 155 | J16: 31 | K16: 2366 | L16: 1829 | M16: 537 | N16: 832 | O16: 618 | P16: 214 | Q16: 34476 | R16: 19405 | S16: 15071 | T16: 170 | U16: 153401888 | V16: 82222298 | W16: 71179590 | X16: 78 | Y16: 69 | Z16: 5 | AA16: 4 | AB16: 3100 | AC16: 17062 | AD16: 147 | AE16: 55 | AF16: 292 | AG16: 4886 | AH16: 2104 | AI16: 2782 | AJ16: 38 | AK16: 17 | AL16: 34 | AM16: 115128 | AN16: 43852
A17: 苗栗縣Miaoli County | B17: 279 | C17: 184363 | D17: 563912 | E17: 4667 | F17: 3613 | G17: 1054 | H17: 279 | I17: 222 | J17: 57 | K17: 3275 | L17: 2527 | M17: 748 | N17: 1113 | O17: 864 | P17: 249 | Q17: 46925 | R17: 25634 | S17: 21291 | T17: 216 | U17: 36748000 | V17: 34990000 | W17: 1758000 | X17: 247 | Y17: 243 | Z17: 2 | AA17: 2 | AB17: 2016 | AC17: 4018 | AD17: 175 | AE17: 145 | AF17: 123 | AG17: 5132 | AH17: 2357 | AI17: 2775 | AJ17: 69 | AK17: 39 | AL17: 31 | AM17: 164365 | AN17: 130986
A18: 彰化縣Changhua County | B18: 548 | C18: 346923 | D18: 1151592 | E18: 9418 | F18: 8100 | G18: 1318 | H18: 548 | I18: 474 | J18: 74 | K18: 6636 | L18: 5664 | M18: 972 | N18: 2234 | O18: 1962 | P18: 272 | Q18: 66442 | R18: 39957 | S18: 26485 | T18: 383 | U18: 143509063 | V18: 103416020 | W18: 40093043 | X18: 417 | Y18: 412 | Z18: 2 | AA18: 3 | AB18: 5835 | AC18: 23678 | AD18: 331 | AE18: 111 | AF18: 403 | AG18: 19036 | AH18: 8017 | AI18: 11019 | AJ18: 83 | AK18: 50 | AL18: 73 | AM18: 507526 | AN18: 216359
A19: 南投縣Nantou County | B19: 281 | C19: 170956 | D19: 493203 | E19: 4042 | F19: 3315 | G19: 727 | H19: 281 | I19: 249 | J19: 32 | K19: 2806 | L19: 2305 | M19: 501 | N19: 955 | O19: 761 | P19: 194 | Q19: 29275 | R19: 19153 | S19: 10122 | T19: 225 | U19: 41237749 | V19: 35136551 | W19: 6101198 | X19: 218 | Y19: 211 | Z19: 1 | AA19: 6 | AB19: 3236 | AC19: 4261 | AD19: 76 | AE19: 111 | AF19: 149 | AG19: 3975 | AH19: 1760 | AI19: 2215 | AJ19: 71 | AK19: 37 | AL19: 27 | AM19: 60119 | AN19: 23886
... A30: 連江縣Lienchiang County | B30: 20 | C30: 2423 | D30: 12165 | E30: 208 | F30: 172 | G30: 36 | H30: 20 | I30: 20 | J30: 0 | K30: 142 | L30: 115 | M30: 27 | N30: 46 | O30: 37 | P30: 9 | Q30: 1153 | R30: 545 | S30: 608 | T30: 0 | U30: 1146424 | V30: 1146424 | W30: 0 | X30: 0 | Y30: 0 | Z30: 0 | AA30: 0 | AB30: 1 | AC30: 2 | AD30: 0 | AE30: 4 | AF30: 0 | AG30: 0 | AH30: 0 | AI30: 0 | AJ30: 7 | AK30: 0 | AL30: 0 | AM30: 0 | AN30: 0
A31: 資料來源：直轄市及縣(市)政府。
A32: 說 明：本表資料不包括未成立社區發展協會者。
A33: Source: County and Government.
A35: 更新日期：2018/3/8
